{"text_format":"1","workbook":"xlsx","n_sheets":45,"sheets":["PINs (2)","Login","FragenErstellen (3)","B) LehrerHIER","B) LehrerHIER (2)","B) SchülerHIER","B) SchülerHIER (2)","LehrerHIER","LehrerHIER (2)","SchülerHIER","SchülerHIER (2)","FragenErstellen","sfb1","Export1","sfb2","Export2","A) Ergebnisse (6)","B) Ergebnisse (6)","B) Alle Ergebnisse","B) Eingabe (GruppenLehrer)","A) Eingabe (GruppenLehrer)","A) Eingabe (Lehrer)","B) Eingabe (Lehrer)","B) Eingabe (Gruppen)","A) Eingabe (Gruppen)","A) Eingabe (Schüler)","B) Eingabe (Schüler)","lfb1","lfb2","B) Daten (Gruppen)","A) Daten (Gruppen)","A) Daten","B) Daten","A) Temp","A) Alle Ergebnisse","B) Temp","AB) Daten","AB) Alle Ergebnisse","AB) Ergebnisse (Gruppen)","AB) Ergebnisse (6)","Übersicht","PINs","ÜbersichtAdmin","Adminbereich","Anleitung"],"not_rendered":{"charts":1413,"images":18,"macros":1,"external_links":0,"defined_names":1810,"comments":2,"pivot_tables":0},"unopened":[],"bounds":{"document_bytes":16777216,"sheet_cells":100000,"rows_first":2000,"rows_last":500,"rows_between":2000,"halvings":0,"cell_chars":16384,"cell_head_chars":4096},"cells_cut":0,"cells_raw":0,"read":"whole","date_system":"1900"}

{"sheet":"PINs (2)","index":0,"n_rows":69,"n_cols":13,"rows_kept":69,"cut":false,"hidden":true,"merged":[]}
[null,null,1,null,null,null,null,null,null,null,null,null,1]
["Loginvergleich",{"$f":"Login!D6","v":0},{"$f":"VLOOKUP(B2,$B5:$C69,2,FALSE)","v":{"$error":"#N/A"}},null,null,null,null,null,null,null,"Loginvergleich",{"$f":"Login!N6","v":"Admin"},{"$f":"VLOOKUP(L2,$L5:$M69,2,FALSE)","v":{"$error":"#N/A"}}]
[]
[null,"Namen","PIN",null,null,null,null,null,null,null,null,"Namen","PIN"]
[null,"Übersicht",1111,null,null,null,null,null,null,null,null,"Übersicht",{"$f":"C5","v":1111}]
[null,"Schüler01",1234,null,null,null,null,null,null,null,null,"BSchüler01",1234]
[null,"Schüler02",1234,null,"Erhebung 1",null,null,null,"Erhebung 2",null,null,"BSchüler02",1234]
[null,"Schüler03",1234,null,null,null,null,null,null,null,null,"BSchüler03",1234]
[null,"Schüler04",1234,null,null,null,null,null,null,null,null,"BSchüler04",1234]
[null,"Schüler05",1234,null,null,null,null,null,null,null,null,"BSchüler05",1234]
[null,"Schüler06",1234,null,null,null,null,null,null,null,null,"BSchüler06",1234]
[null,"Schüler07",1234,null,null,null,null,null,null,null,null,"BSchüler07",1234]
[null,"Schüler08",1234,null,null,null,null,null,null,null,null,"BSchüler08",1234]
[null,"Schüler09",1234,null,null,null,null,null,null,null,null,"BSchüler09",1234]
[null,"Schüler10",1234,null,null,null,null,null,null,null,null,"BSchüler10",1234]
[null,"Schüler11",1234,null,null,null,null,null,null,null,null,"BSchüler11",1234]
[null,"Schüler12",1234,null,null,null,null,null,null,null,null,"BSchüler12",1234]
[null,"Schüler13",1234,null,null,null,null,null,null,null,null,"BSchüler13",1234]
[null,"Schüler14",1234,null,null,null,null,null,null,null,null,"BSchüler14",1234]
[null,"Schüler15",1234,null,null,null,null,null,null,null,null,"BSchüler15",1234]
[null,"Schüler16",1234,null,null,null,null,null,null,null,null,"BSchüler16",1234]
[null,"Schüler17",1234,null,null,null,null,null,null,null,null,"BSchüler17",1234]
[null,"Schüler18",1234,null,null,null,null,null,null,null,null,"BSchüler18",1234]
[null,"Schüler19",1234,null,null,null,null,null,null,null,null,"BSchüler19",1234]
[null,"Schüler20",1234,null,null,null,null,null,null,null,null,"BSchüler20",1234]
[null,"Schüler21",1234,null,null,null,null,null,null,null,null,"BSchüler21",1234]
[null,"Schüler22",1234,null,null,null,null,null,null,null,null,"BSchüler22",1234]
[null,"Schüler23",1234,null,null,null,null,null,null,null,null,"BSchüler23",1234]
[null,"Schüler24",1234,null,null,null,null,null,null,null,null,"BSchüler24",1234]
[null,"Schüler25",1234,null,null,null,null,null,null,null,null,"BSchüler25",1234]
[null,"Schüler26",1234,null,null,null,null,null,null,null,null,"BSchüler26",1234]
[null,"Schüler27",1234,null,null,null,null,null,null,null,null,"BSchüler27",1234]
[null,"Schüler28",1234,null,null,null,null,null,null,null,null,"BSchüler28",1234]
[null,"Schüler29",1234,null,null,null,null,null,null,null,null,"BSchüler29",1234]
[null,"Schüler30",1234,null,null,null,null,null,null,null,null,"BSchüler30",1234]
[null,"Schüler31",1234,null,null,null,null,null,null,null,null,"BSchüler31",1234]
[null,"Schüler32",1234,null,null,null,null,null,null,null,null,"BSchüler32",1234]
[null,"LehrerMe",1234,null,null,null,null,null,null,null,null,"BLehrerMe",1234]
[null,"Lehrer01",1234,null,null,null,null,null,null,null,null,"BLehrer01",1234]
[null,"Lehrer02",1234,null,null,null,null,null,null,null,null,"BLehrer02",1234]
[null,"Lehrer03",1234,null,null,null,null,null,null,null,null,"BLehrer03",1234]
[null,"Lehrer04",1234,null,null,null,null,null,null,null,null,"BLehrer04",1234]
[null,"Lehrer05",1234,null,null,null,null,null,null,null,null,"BLehrer05",1234]
[null,"Lehrer06",1234,null,null,null,null,null,null,null,null,"BLehrer06",1234]
[null,"Lehrer07",1234,null,null,null,null,null,null,null,null,"BLehrer07",1234]
[null,"Lehrer08",1234,null,null,null,null,null,null,null,null,"BLehrer08",1234]
[null,"Lehrer09",1234,null,null,null,null,null,null,null,null,"BLehrer09",1234]
[null,"Lehrer10",1234,null,null,null,null,null,null,null,null,"BLehrer10",1234]
[null,"Lehrer11",1234,null,null,null,null,null,null,null,null,"BLehrer11",1234]
[null,"Lehrer12",1234,null,null,null,null,null,null,null,null,"BLehrer12",1234]
[null,"Lehrer13",1234,null,null,null,null,null,null,null,null,"BLehrer13",1234]
[null,"Lehrer14",1234,null,null,null,null,null,null,null,null,"BLehrer14",1234]
[null,"Lehrer15",1234,null,null,null,null,null,null,null,null,"BLehrer15",1234]
[null,"Lehrer16",1234,null,null,null,null,null,null,null,null,"BLehrer16",1234]
[null,"Lehrer17",1234,null,null,null,null,null,null,null,null,"BLehrer17",1234]
[null,"Lehrer18",1234,null,null,null,null,null,null,null,null,"BLehrer18",1234]
[null,"Lehrer19",1234,null,null,null,null,null,null,null,null,"BLehrer19",1234]
[null,"Lehrer20",1234,null,null,null,null,null,null,null,null,"BLehrer20",1234]
[null,"Lehrer21",1234,null,null,null,null,null,null,null,null,"BLehrer21",1234]
[null,"Lehrer22",1234,null,null,null,null,null,null,null,null,"BLehrer22",1234]
[null,"Lehrer23",1234,null,null,null,null,null,null,null,null,"BLehrer23",1234]
[null,"Lehrer24",1234,null,null,null,null,null,null,null,null,"BLehrer24",1234]
[null,"Lehrer25",1234,null,null,null,null,null,null,null,null,"BLehrer25",1234]
[null,"Lehrer26",1234,null,null,null,null,null,null,null,null,"BLehrer26",1234]
[null,"Lehrer27",1234,null,null,null,null,null,null,null,null,"BLehrer27",1234]
[null,"Lehrer28",1234,null,null,null,null,null,null,null,null,"BLehrer28",1234]
[null,"Lehrer29",1234,null,null,null,null,null,null,null,null,"BLehrer29",1234]
[null,"Lehrer30",1234,null,null,null,null,null,null,null,null,"BLehrer30",1234]
[null,"Lehrer31",1234,null,null,null,null,null,null,null,null,"BLehrer31",1234]

{"sheet":"Login","index":1,"n_rows":28,"n_cols":16,"rows_kept":28,"cut":false,"hidden":false,"merged":[[3,5,3,8],[3,15,3,18]]}
[]
[]
[]
[null,null,{"$f":"IF(D6=\"Übersicht\",\"Übersicht\",LEFT(D6,6)&\"HIER\")","v":"HIER"},{"$f":"IF(D6=\"Übersicht\",\"Übersicht\",LEFT(D6,7)&\"HIER\")","v":"HIER"},{"$f":"RIGHT(D6,2)","v":""},null,null,null,null,null,null,null,{"$f":"IF(M6=\"Übersicht\",\"Übersicht\",\"B) \" & RIGHT(M5,10))","v":"B) AdminHIER"},{"$f":"IF(N6=\"Übersicht\",\"Übersicht\",\"B) \" & RIGHT(N5,11))","v":"B) AdminHIER"},{"$f":"RIGHT(N6,2)","v":"in"}]
[null,null,null,null,null,null,null,null,null,null,null,null,{"$f":"IF(N6=\"Übersicht\",\"Übersicht\",LEFT(N6,7)&\"HIER\")","v":"AdminHIER"},{"$f":"IF(N6=\"Übersicht\",\"Übersicht\",LEFT(N6,8)&\"HIER\")","v":"AdminHIER"}]
[null,null,null,null,null,null,null,null,null,null,null,null,null,"Admin"]
[]
[null,null,null,null,null,null,null,null,null,null,null,null,null,1985]
[]
[]
[]
[null,null,null,"Erhebung 1",null,null,null,null,null,null,null,null,null,"Erhebung 2"]
[]
[null,null,"Erhebung",1,null,null,null,null,null,null,null,null,null,"Erhebung",2]
[]
[null,"Beispiel","Name","Schüler01",null,null,null,null,null,null,null,null,null,"Beispiel","Name","BSchüler"]
[]
[null,null,"Pin",1212,null,null,null,null,null,null,null,null,null,null,"Pin"]
[]
[]
[]
[]
[]
[]
[]
[]
[]
[null,null,null,null,null,"EMU - Unterrichtsdiagnostik - ",null,null,null,null,"Version zur digitalen Erfassung von Jochen Koch"]

{"sheet":"FragenErstellen (3)","index":2,"n_rows":66,"n_cols":27,"rows_kept":66,"cut":false,"hidden":true,"merged":[[99,1,99,2],[99,3,99,4],[99,5,99,6],[99,7,99,8],[99,9,99,10],[97,1,97,2],[97,3,97,4],[97,5,97,6],[97,7,97,8],[97,9,97,10],[98,1,98,2],[98,3,98,4],[98,5,98,6],[98,7,98,8],[98,9,98,10],[95,1,95,2],[95,3,95,4],[95,5,95,6],[95,7,95,8],[95,9,95,10],[96,1,96,2],[96,3,96,4],[96,5,96,6],[96,7,96,8],[96,9,96,10],[93,1,93,2],[93,3,93,4],[93,5,93,6],[93,7,93,8],[93,9,93,10],[94,1,94,2],[94,3,94,4],[94,5,94,6],[94,7,94,8],[94,9,94,10],[91,1,91,2],[91,3,91,4],[91,5,91,6],[91,7,91,8],[91,9,91,10],[92,1,92,2],[92,3,92,4],[92,5,92,6],[92,7,92,8],[92,9,92,10],[89,1,89,2],[89,3,89,4],[89,5,89,6],[89,7,89,8],[89,9,89,10],[90,1,90,2],[90,3,90,4],[90,5,90,6],[90,7,90,8],[90,9,90,10],[87,1,87,2],[87,3,87,4],[87,5,87,6],[87,7,87,8],[87,9,87,10],[88,1,88,2],[88,3,88,4],[88,5,88,6],[88,7,88,8],[88,9,88,10],[85,1,85,2],[85,3,85,4],[85,5,85,6],[85,7,85,8],[85,9,85,10],[86,1,86,2],[86,3,86,4],[86,5,86,6],[86,7,86,8],[86,9,86,10],[83,1,83,2],[83,3,83,4],[83,5,83,6],[83,7,83,8],[83,9,83,10],[84,1,84,2],[84,3,84,4],[84,5,84,6],[84,7,84,8],[84,9,84,10],[81,1,81,2],[81,3,81,4],[81,5,81,6],[81,7,81,8],[81,9,81,10],[82,1,82,2],[82,3,82,4],[82,5,82,6],[82,7,82,8],[82,9,82,10],[79,1,79,2],[79,3,79,4],[79,5,79,6],[79,7,79,8],[79,9,79,10],[80,1,80,2],[80,3,80,4],[80,5,80,6],[80,7,80,8],[80,9,80,10],[77,1,77,2],[77,3,77,4],[77,5,77,6],[77,7,77,8],[77,9,77,10],[78,1,78,2],[78,3,78,4],[78,5,78,6],[78,7,78,8],[78,9,78,10],[75,1,75,2],[75,3,75,4],[75,5,75,6],[75,7,75,8],[75,9,75,10],[76,1,76,2],[76,3,76,4],[76,5,76,6],[76,7,76,8],[76,9,76,10],[73,1,73,2],[73,3,73,4],[73,5,73,6],[73,7,73,8],[73,9,73,10],[74,1,74,2],[74,3,74,4],[74,5,74,6],[74,7,74,8],[74,9,74,10],[71,1,71,2],[71,3,71,4],[71,5,71,6],[71,7,71,8],[71,9,71,10],[72,1,72,2],[72,3,72,4],[72,5,72,6],[72,7,72,8],[72,9,72,10],[69,1,69,2],[69,3,69,4],[69,5,69,6],[69,7,69,8],[69,9,69,10],[70,1,70,2],[70,3,70,4],[70,5,70,6],[70,7,70,8],[70,9,70,10],[67,1,67,2],[67,3,67,4],[67,5,67,6],[67,7,67,8],[67,9,67,10],[68,1,68,2],[68,3,68,4],[68,5,68,6],[68,7,68,8],[68,9,68,10],[65,1,65,2],[65,3,65,4],[65,5,65,6],[65,7,65,8],[65,9,65,10],[66,1,66,2],[66,3,66,4],[66,5,66,6],[66,7,66,8],[66,9,66,10],[63,1,63,2],[63,3,63,4],[63,5,63,6],[63,7,63,8],[63,9,63,10],[64,1,64,2],[64,3,64,4],[64,5,64,6],[64,7,64,8],[64,9,64,10],[61,1,61,2],[61,3,61,4],[61,5,61,6],[61,7,61,8],[61,9,61,10],[62,1,62,2],[62,3,62,4],[62,5,62,6],[62,7,62,8],[62,9,62,10],[59,1,59,2],[59,3,59,4],[59,5,59,6],[59,7,59,8],[59,9,59,10],[60,1,60,2],[60,3,60,4],[60,5,60,6],[60,7,60,8],[60,9,60,10],[57,1,57,2],[57,3,57,4],[57,5,57,6],[57,7,57,8],[57,9,57,10],[58,1,58,2],[58,3,58,4],[58,5,58,6],[58,7,58,8],[58,9,58,10],[55,1,55,2],[55,3,55,4],[55,5,55,6],[55,7,55,8],[55,9,55,10],[56,1,56,2],[56,3,56,4],[56,5,56,6],[56,7,56,8],[56,9,56,10],[53,1,53,2],[53,3,53,4],[53,5,53,6],[53,7,53,8],[53,9,53,10],[54,1,54,2],[54,3,54,4],[54,5,54,6],[54,7,54,8],[54,9,54,10],[51,1,51,2],[51,3,51,4],[51,5,51,6],[51,7,51,8],[51,9,51,10],[52,1,52,2],[52,3,52,4],[52,5,52,6],[52,7,52,8],[52,9,52,10],[49,1,49,2],[49,3,49,4],[49,5,49,6],[49,7,49,8],[49,9,49,10],[50,1,50,2],[50,3,50,4],[50,5,50,6],[50,7,50,8],[50,9,50,10],[47,1,47,2],[47,3,47,4],[47,5,47,6],[47,7,47,8],[47,9,47,10],[48,1,48,2],[48,3,48,4],[48,5,48,6],[48,7,48,8],[48,9,48,10],[45,1,45,2],[45,3,45,4],[45,5,45,6],[45,7,45,8],[45,9,45,10],[46,1,46,2],[46,3,46,4],[46,5,46,6],[46,7,46,8],[46,9,46,10],[43,1,43,2],[43,3,43,4],[43,5,43,6],[43,7,43,8],[43,9,43,10],[44,1,44,2],[44,3,44,4],[44,5,44,6],[44,7,44,8],[44,9,44,10],[41,1,41,2],[41,3,41,4],[41,5,41,6],[41,7,41,8],[41,9,41,10],[42,1,42,2],[42,3,42,4],[42,5,42,6],[42,7,42,8],[42,9,42,10],[39,1,39,2],[39,3,39,4],[39,5,39,6],[39,7,39,8],[39,9,39,10],[40,1,40,2],[40,3,40,4],[40,5,40,6],[40,7,40,8],[40,9,40,10],[37,1,37,2],[37,3,37,4],[37,5,37,6],[37,7,37,8],[37,9,37,10],[38,1,38,2],[38,3,38,4],[38,5,38,6],[38,7,38,8],[38,9,38,10],[35,1,35,2],[35,3,35,4],[35,5,35,6],[35,7,35,8],[35,9,35,10],[36,1,36,2],[36,3,36,4],[36,5,36,6],[36,7,36,8],[36,9,36,10],[33,1,33,2],[33,3,33,4],[33,5,33,6],[33,7,33,8],[33,9,33,10],[34,1,34,2],[34,3,34,4],[34,5,34,6],[34,7,34,8],[34,9,34,10],[31,1,31,2],[31,3,31,4],[31,5,31,6],[31,7,31,8],[31,9,31,10],[32,1,32,2],[32,3,32,4],[32,5,32,6],[32,7,32,8],[32,9,32,10],[29,1,29,2],[29,3,29,4],[29,5,29,6],[29,7,29,8],[29,9,29,10],[30,1,30,2],[30,3,30,4],[30,5,30,8],[30,9,30,10],[27,1,27,2],[27,3,27,4],[27,5,27,6],[27,7,27,8],[27,9,27,10],[28,1,28,2],[28,3,28,4],[28,5,28,6],[28,7,28,8],[28,9,28,10],[25,1,25,2],[25,3,25,4],[25,5,25,6],[25,7,25,8],[25,9,25,10],[26,1,26,2],[26,3,26,4],[26,5,26,6],[26,7,26,8],[26,9,26,10],[23,1,23,2],[23,3,23,4],[23,5,23,6],[23,7,23,8],[23,9,23,10],[24,1,24,2],[24,3,24,4],[24,5,24,6],[24,7,24,8],[24,9,24,10],[21,1,21,2],[21,3,21,4],[21,5,21,6],[21,7,21,8],[21,9,21,10],[22,1,22,2],[22,3,22,4],[22,5,22,6],[22,7,22,8],[22,9,22,10],[19,1,19,2],[19,3,19,4],[19,5,19,6],[19,7,19,8],[19,9,19,10],[20,1,20,2],[20,3,20,4],[20,5,20,6],[20,7,20,8],[20,9,20,10],[17,1,17,2],[17,3,17,4],[17,5,17,6],[17,7,17,8],[17,9,17,10],[18,1,18,2],[18,3,18,4],[18,5,18,6],[18,7,18,8],[18,9,18,10],[15,1,15,2],[15,3,15,4],[15,5,15,6],[15,7,15,8],[15,9,15,10],[16,1,16,2],[16,3,16,4],[16,5,16,6],[16,7,16,8],[16,9,16,10],[13,1,13,2],[13,3,13,4],[13,5,13,6],[13,7,13,8],[13,9,13,10],[14,1,14,2],[14,3,14,4],[14,5,14,6],[14,7,14,8],[14,9,14,10],[11,1,11,2],[11,3,11,4],[11,5,11,6],[11,7,11,8],[11,9,11,10],[12,1,12,2],[12,3,12,4],[12,5,12,6],[12,7,12,8],[12,9,12,10],[9,1,9,2],[9,3,9,4],[9,5,9,6],[9,7,9,8],[9,9,9,10],[10,1,10,2],[10,3,10,4],[10,5,10,6],[10,7,10,8],[10,9,10,10],[7,1,7,2],[7,3,7,4],[7,5,7,6],[7,7,7,8],[7,9,7,10],[8,1,8,2],[8,3,8,4],[8,5,8,6],[8,7,8,8],[8,9,8,10],[5,3,5,4],[5,5,5,6],[5,7,5,8],[5,9,5,10],[6,1,6,2],[6,3,6,4],[6,5,6,6],[6,7,6,8],[6,9,6,10],[3,0,4,1],[3,3,3,4],[3,5,3,6],[3,7,3,8],[3,9,3,10],[4,3,4,4],[4,5,4,6],[4,7,4,8],[4,9,4,10]]}
["                                                                                                        Klasse/ Lerngruppe:","Schüler"]
["Rückmeldebogen"]
[]
["Bitte schätze meinen Unterricht ein!",null,null,"stimme",null,"stimme   eher",null,"stimme eher zu",null,"stimme"]
[null,null,null,"nicht zu",null,"nicht zu",null,null,null,"zu"]
[]
[1,"Klassenführung"]
[2,"Die Lehrkraft ist pünktlich. ",null,"\u0081",null,"\u0082",null,"\u0083",null,"x"]
[3,"Ich fühle mich gerecht behandelt. ",null,"\u0081",null,"\u0082",null,"\u0083",null,"x"]
[4,"Die Regeln werden eingehalten. ",null,"\u0081",null,"\u0082",null,"\u0083",null,"x"]
[5,"Lernförderliches Klima ",null,null,null,null,null,null,null,null,null,null,null,null,null,null,null,null,null,null,null,null,null,null,null,null,"Klassenführung"]
[6,"Die Lehrkraft sagt mir, wie ich mich verbessern kann. ",null,"\u0081",null,"\u0082",null,"\u0083",null,"x",null,null,null,null,null,null,null,null,null,null,null,null,null,null,null,null,"Die Lehrkraft ist pünktlich. "]
[7,"Ich habe keine Angst, etwas Falsches zu sagen. ",null,"\u0081",null,"\u0082",null,"\u0083",null,"x",null,null,null,null,null,null,null,null,null,null,null,null,null,null,null,null,"Ich fühle mich gerecht behandelt. "]
[8,"Die Lehrkraft gibt mir genug Zeit zur Bearbeitung meiner Aufgaben. ",null,"\u0081",null,"\u0082",null,"\u0083",null,"x",null,null,null,null,null,null,null,null,null,null,null,null,null,null,null,null,"Die Regeln werden eingehalten. "]
[9,"Die Lehrkraft ist freundlich zu mir. ",null,"\u0081",null,"\u0082",null,"\u0083",null,"x",null,null,null,null,null,null,null,null,null,null,null,null,null,null,null,null,"Lernförderliches Klima "]
[10,"Motivierung",null,null,null,null,null,null,null,null,null,null,null,null,null,null,null,null,null,null,null,null,null,null,null,null,"Die Lehrkraft sagt mir, wie ich mich verbessern kann. "]
[11,"Das Thema hat mich sofort neugierig gemacht. ",null,"\u0081",null,"\u0082",null,"\u0083",null,"x",null,null,null,null,null,null,null,null,null,null,null,null,null,null,null,null,"Ich habe keine Angst, etwas Falsches zu sagen. "]
[12,"Das Thema ist mir schon in meinem Alltag begegnet. ",null,"\u0081",null,"\u0082",null,"\u0083",null,"x",null,null,null,null,null,null,null,null,null,null,null,null,null,null,null,null,"Die Lehrkraft gibt mir genug Zeit zur Bearbeitung meiner Aufgaben. "]
[13,"Ich verstehe, warum wir das Thema behandeln. ",null,"\u0081",null,"\u0082",null,"\u0083",null,"x",null,null,null,null,null,null,null,null,null,null,null,null,null,null,null,null,"Die Lehrkraft ist freundlich zu mir. "]
[14,"Das Thema macht mir Spaß. ",null,"\u0081",null,"\u0082",null,"\u0083",null,"x",null,null,null,null,null,null,null,null,null,null,null,null,null,null,null,null,"Motivierung"]
[15,"Aktivierung",null,null,null,null,null,null,null,null,null,null,null,null,null,null,null,null,null,null,null,null,null,null,null,null,"Das Thema hat mich sofort neugierig gemacht. "]
[16,"Im Unterricht wurden unterschiedliche Materialien verwendet. ",null,"\u0081",null,"\u0082",null,"\u0083",null,"x",null,null,null,null,null,null,null,null,null,null,null,null,null,null,null,null,"Das Thema ist mir schon in meinem Alltag begegnet. "]
[17,"Ich hatte genügend Zeit, mich mit meinen Mitschülerinnen und Mitschülern auszutauschen. ",null,"\u0081",null,"\u0082",null,"\u0083",null,"x",null,null,null,null,null,null,null,null,null,null,null,null,null,null,null,null,"Ich verstehe, warum wir das Thema behandeln. "]
[18,"Klarheit und Strukturiertheit ",null,null,null,null,null,null,null,null,null,null,null,null,null,null,null,null,null,null,null,null,null,null,null,null,"Das Thema macht mir Spaß. "]
[19,"Ich konnte dem Unterrichtsstoff Schritt für Schritt folgen. ",null,"\u0081",null,"\u0082",null,"\u0083",null,"x",null,null,null,null,null,null,null,null,null,null,null,null,null,null,null,null,"Aktivierung"]
[20,"Ich wusste im Unterricht genau, was ich tun sollte. ",null,"\u0081",null,"\u0082",null,"\u0083",null,"x",null,null,null,null,null,null,null,null,null,null,null,null,null,null,null,null,"Im Unterricht wurden unterschiedliche Materialien verwendet. "]
[21,"Mir haben die Materialien beim Lösen der Aufgabenstellung geholfen. ",null,"\u0081",null,"\u0082",null,"\u0083",null,"x",null,null,null,null,null,null,null,null,null,null,null,null,null,null,null,null,"Ich hatte genügend Zeit, mich mit meinen Mitschülerinnen und Mitschülern auszutauschen. "]
[22,"Ertrag/ Bilanz ",null,null,null,null,null,null,null,null,null,null,null,null,null,null,null,null,null,null,null,null,null,null,null,null,"Klarheit und Strukturiertheit "]
[23,"Ich kann anderen Schülerinnen und Schülern den Unterrichtsstoff erklären. ",null,"\u0081",null,"\u0082",null,"\u0083",null,"x",null,null,null,null,null,null,null,null,null,null,null,null,null,null,null,null,"Ich konnte dem Unterrichtsstoff Schritt für Schritt folgen. "]
[24,"Ich kann das Erlernte für mein späteres Berufsleben gebrauchen. ",null,"\u0081",null,"\u0082",null,"\u0083",null,"x",null,null,null,null,null,null,null,null,null,null,null,null,null,null,null,null,"Ich wusste im Unterricht genau, was ich tun sollte. "]
[25,"Ich fand den Unterrichtsstoff: ",null,"  leicht                                ",null,"                   mittel  ",null,null,null,"schwer",null,null,null,null,null,null,null,null,null,null,null,null,null,null,null,null,"Mir haben die Materialien beim Lösen der Aufgabenstellung geholfen. "]
[26,null,null,null,null,null,null,null,null,null,null,null,null,null,null,null,null,null,null,null,null,null,null,null,null,null,"Ertrag/ Bilanz "]
[27,null,null,null,null,null,null,null,null,null,null,null,null,null,null,null,null,null,null,null,null,null,null,null,null,null,"Ich kann anderen Schülerinnen und Schülern den Unterrichtsstoff erklären. "]
[28,null,null,null,null,null,null,"         \u0081",null,null,null,null,null,null,null,null,null,null,null,null,null,null,null,null,null,null,"Ich kann das Erlernte für mein späteres Berufsleben gebrauchen. "]
[29,null,null,null,null,null,null,"         \u0081",null,null,null,null,null,null,null,null,null,null,null,null,null,null,null,null,null,null,"Ich fand den Unterrichtsstoff: "]
[30,null,null,null,null,null,null,"         \u0081"]
[31,null,null,null,null,null,null,"         \u0081"]
[32,null,null,null,null,null,null,"         \u0081"]
[33,null,null,null,null,null,null,"         \u0081"]
[34,null,null,null,null,null,null,"         \u0081"]
[35,null,null,null,null,null,null,"         \u0081"]
[36,null,null,null,null,null,null,"         \u0081"]
[37,null,null,null,null,null,null,"         \u0081"]
[38,null,null,null,null,null,null,"         \u0081"]
[39,null,null,null,null,null,null,"         \u0081"]
[40,null,null,null,null,null,null,"         \u0081"]
[41,null,null,null,null,null,null,"         \u0081"]
[42,null,null,null,null,null,null,"         \u0081"]
[43,null,null,null,null,null,null,"         \u0081"]
[44,null,null,null,null,null,null,"         \u0081"]
[45,null,null,null,null,null,null,"         \u0081"]
[46,null,null,null,null,null,null,"         \u0081"]
[47,null,null,null,null,null,null,"         \u0081"]
[48,null,null,null,null,null,null,"         \u0081"]
[49,null,null,null,null,null,null,"         \u0081"]
[50,null,null,null,null,null,null,"         \u0081"]
[51,null,null,null,null,null,null,"         \u0081"]
[52,null,null,null,null,null,null,"         \u0081"]
[53,null,null,null,null,null,null,"         \u0081"]
[54,null,null,null,null,null,null,"         \u0081"]
[55,null,null,null,null,null,null,"         \u0081"]
[56,null,null,null,null,null,null,"         \u0081"]
[57,null,null,null,null,null,null,"         \u0081"]
[58,null,null,null,null,null,null,"         \u0081"]
[59,null,null,null,null,null,null,"         \u0081"]
[60,null,null,null,null,null,null,"         \u0081"]

{"sheet":"B) LehrerHIER","index":3,"n_rows":66,"n_cols":27,"rows_kept":66,"cut":false,"hidden":true,"merged":[[3,0,4,1],[3,3,3,4],[3,5,3,6],[3,7,3,8],[3,9,3,10],[4,3,4,4],[4,5,4,6],[4,7,4,8],[4,9,4,10],[5,3,5,4],[5,5,5,6],[5,7,5,8],[5,9,5,10],[6,1,6,2],[6,3,6,4],[6,5,6,6],[6,7,6,8],[6,9,6,10],[7,1,7,2],[7,3,7,4],[7,5,7,6],[7,7,7,8],[7,9,7,10],[8,1,8,2],[8,3,8,4],[8,5,8,6],[8,7,8,8],[8,9,8,10],[9,1,9,2],[9,3,9,4],[9,5,9,6],[9,7,9,8],[9,9,9,10],[10,1,10,2],[10,3,10,4],[10,5,10,6],[10,7,10,8],[10,9,10,10],[11,1,11,2],[11,3,11,4],[11,5,11,6],[11,7,11,8],[11,9,11,10],[12,1,12,2],[12,3,12,4],[12,5,12,6],[12,7,12,8],[12,9,12,10],[13,1,13,2],[13,3,13,4],[13,5,13,6],[13,7,13,8],[13,9,13,10],[14,1,14,2],[14,3,14,4],[14,5,14,6],[14,7,14,8],[14,9,14,10],[15,1,15,2],[15,3,15,4],[15,5,15,6],[15,7,15,8],[15,9,15,10],[16,1,16,2],[16,3,16,4],[16,5,16,6],[16,7,16,8],[16,9,16,10],[17,1,17,2],[17,3,17,4],[17,5,17,6],[17,7,17,8],[17,9,17,10],[18,1,18,2],[18,3,18,4],[18,5,18,6],[18,7,18,8],[18,9,18,10],[19,1,19,2],[19,3,19,4],[19,5,19,6],[19,7,19,8],[19,9,19,10],[20,1,20,2],[20,3,20,4],[20,5,20,6],[20,7,20,8],[20,9,20,10],[21,1,21,2],[21,3,21,4],[21,5,21,6],[21,7,21,8],[21,9,21,10],[22,1,22,2],[22,3,22,4],[22,5,22,6],[22,7,22,8],[22,9,22,10],[23,1,23,2],[23,3,23,4],[23,5,23,6],[23,7,23,8],[23,9,23,10],[24,1,24,2],[24,3,24,4],[24,5,24,6],[24,7,24,8],[24,9,24,10],[25,1,25,2],[25,3,25,4],[25,5,25,6],[25,7,25,8],[25,9,25,10],[26,1,26,2],[26,3,26,4],[26,5,26,6],[26,7,26,8],[26,9,26,10],[27,1,27,2],[27,3,27,4],[27,5,27,6],[27,7,27,8],[27,9,27,10],[28,1,28,2],[28,3,28,4],[28,5,28,6],[28,7,28,8],[28,9,28,10],[29,1,29,2],[29,3,29,4],[29,5,29,6],[29,7,29,8],[29,9,29,10],[30,1,30,2],[30,3,30,4],[30,5,30,6],[30,7,30,8],[30,9,30,10],[31,1,31,2],[31,3,31,4],[31,5,31,6],[31,7,31,8],[31,9,31,10],[32,1,32,2],[32,3,32,4],[32,5,32,6],[32,7,32,8],[32,9,32,10],[33,1,33,2],[33,3,33,4],[33,5,33,6],[33,7,33,8],[33,9,33,10],[34,1,34,2],[34,3,34,4],[34,5,34,6],[34,7,34,8],[34,9,34,10],[35,1,35,2],[35,3,35,4],[35,5,35,6],[35,7,35,8],[35,9,35,10],[36,1,36,2],[36,3,36,4],[36,5,36,6],[36,7,36,8],[36,9,36,10],[37,1,37,2],[37,3,37,4],[37,5,37,6],[37,7,37,8],[37,9,37,10],[38,1,38,2],[38,3,38,4],[38,5,38,6],[38,7,38,8],[38,9,38,10],[39,1,39,2],[39,3,39,4],[39,5,39,6],[39,7,39,8],[39,9,39,10],[40,1,40,2],[40,3,40,4],[40,5,40,6],[40,7,40,8],[40,9,40,10],[41,1,41,2],[41,3,41,4],[41,5,41,6],[41,7,41,8],[41,9,41,10],[42,1,42,2],[42,3,42,4],[42,5,42,6],[42,7,42,8],[42,9,42,10],[43,1,43,2],[43,3,43,4],[43,5,43,6],[43,7,43,8],[43,9,43,10],[44,1,44,2],[44,3,44,4],[44,5,44,6],[44,7,44,8],[44,9,44,10],[45,1,45,2],[45,3,45,4],[45,5,45,6],[45,7,45,8],[45,9,45,10],[46,1,46,2],[46,3,46,4],[46,5,46,6],[46,7,46,8],[46,9,46,10],[47,1,47,2],[47,3,47,4],[47,5,47,6],[47,7,47,8],[47,9,47,10],[48,1,48,2],[48,3,48,4],[48,5,48,6],[48,7,48,8],[48,9,48,10],[49,1,49,2],[49,3,49,4],[49,5,49,6],[49,7,49,8],[49,9,49,10],[50,1,50,2],[50,3,50,4],[50,5,50,6],[50,7,50,8],[50,9,50,10],[51,1,51,2],[51,3,51,4],[51,5,51,6],[51,7,51,8],[51,9,51,10],[52,1,52,2],[52,3,52,4],[52,5,52,6],[52,7,52,8],[52,9,52,10],[53,1,53,2],[53,3,53,4],[53,5,53,6],[53,7,53,8],[53,9,53,10],[54,1,54,2],[54,3,54,4],[54,5,54,6],[54,7,54,8],[54,9,54,10],[55,1,55,2],[55,3,55,4],[55,5,55,6],[55,7,55,8],[55,9,55,10],[56,1,56,2],[56,3,56,4],[56,5,56,6],[56,7,56,8],[56,9,56,10],[57,1,57,2],[57,3,57,4],[57,5,57,6],[57,7,57,8],[57,9,57,10],[58,1,58,2],[58,3,58,4],[58,5,58,6],[58,7,58,8],[58,9,58,10],[59,1,59,2],[59,3,59,4],[59,5,59,6],[59,7,59,8],[59,9,59,10],[60,1,60,2],[60,3,60,4],[60,5,60,6],[60,7,60,8],[60,9,60,10],[61,1,61,2],[61,3,61,4],[61,5,61,6],[61,7,61,8],[61,9,61,10],[62,1,62,2],[62,3,62,4],[62,5,62,6],[62,7,62,8],[62,9,62,10],[63,1,63,2],[63,3,63,4],[63,5,63,6],[63,7,63,8],[63,9,63,10],[64,1,64,2],[64,3,64,4],[64,5,64,6],[64,7,64,8],[64,9,64,10],[65,1,65,2],[65,3,65,4],[65,5,65,6],[65,7,65,8],[65,9,65,10],[66,1,66,2],[66,3,66,4],[66,5,66,6],[66,7,66,8],[66,9,66,10],[67,1,67,2],[67,3,67,4],[67,5,67,6],[67,7,67,8],[67,9,67,10],[68,1,68,2],[68,3,68,4],[68,5,68,6],[68,7,68,8],[68,9,68,10],[69,1,69,2],[69,3,69,4],[69,5,69,6],[69,7,69,8],[69,9,69,10],[70,1,70,2],[70,3,70,4],[70,5,70,6],[70,7,70,8],[70,9,70,10],[71,1,71,2],[71,3,71,4],[71,5,71,6],[71,7,71,8],[71,9,71,10],[72,1,72,2],[72,3,72,4],[72,5,72,6],[72,7,72,8],[72,9,72,10],[73,1,73,2],[73,3,73,4],[73,5,73,6],[73,7,73,8],[73,9,73,10],[74,1,74,2],[74,3,74,4],[74,5,74,6],[74,7,74,8],[74,9,74,10],[75,1,75,2],[75,3,75,4],[75,5,75,6],[75,7,75,8],[75,9,75,10],[76,1,76,2],[76,3,76,4],[76,5,76,6],[76,7,76,8],[76,9,76,10],[77,1,77,2],[77,3,77,4],[77,5,77,6],[77,7,77,8],[77,9,77,10],[78,1,78,2],[78,3,78,4],[78,5,78,6],[78,7,78,8],[78,9,78,10],[79,1,79,2],[79,3,79,4],[79,5,79,6],[79,7,79,8],[79,9,79,10],[80,1,80,2],[80,3,80,4],[80,5,80,6],[80,7,80,8],[80,9,80,10],[81,1,81,2],[81,3,81,4],[81,5,81,6],[81,7,81,8],[81,9,81,10],[82,1,82,2],[82,3,82,4],[82,5,82,6],[82,7,82,8],[82,9,82,10],[83,1,83,2],[83,3,83,4],[83,5,83,6],[83,7,83,8],[83,9,83,10],[84,1,84,2],[84,3,84,4],[84,5,84,6],[84,7,84,8],[84,9,84,10],[85,1,85,2],[85,3,85,4],[85,5,85,6],[85,7,85,8],[85,9,85,10],[86,1,86,2],[86,3,86,4],[86,5,86,6],[86,7,86,8],[86,9,86,10],[87,1,87,2],[87,3,87,4],[87,5,87,6],[87,7,87,8],[87,9,87,10],[88,1,88,2],[88,3,88,4],[88,5,88,6],[88,7,88,8],[88,9,88,10],[89,1,89,2],[89,3,89,4],[89,5,89,6],[89,7,89,8],[89,9,89,10],[90,1,90,2],[90,3,90,4],[90,5,90,6],[90,7,90,8],[90,9,90,10],[91,1,91,2],[91,3,91,4],[91,5,91,6],[91,7,91,8],[91,9,91,10],[92,1,92,2],[92,3,92,4],[92,5,92,6],[92,7,92,8],[92,9,92,10],[93,1,93,2],[93,3,93,4],[93,5,93,6],[93,7,93,8],[93,9,93,10],[94,1,94,2],[94,3,94,4],[94,5,94,6],[94,7,94,8],[94,9,94,10],[95,1,95,2],[95,3,95,4],[95,5,95,6],[95,7,95,8],[95,9,95,10],[96,1,96,2],[96,3,96,4],[96,5,96,6],[96,7,96,8],[96,9,96,10],[99,1,99,2],[99,3,99,4],[99,5,99,6],[99,7,99,8],[99,9,99,10],[97,1,97,2],[97,3,97,4],[97,5,97,6],[97,7,97,8],[97,9,97,10],[98,1,98,2],[98,3,98,4],[98,5,98,6],[98,7,98,8],[98,9,98,10]]}
["                                                                                                        Klasse/ Lerngruppe:","BLehrer"]
["Rückmeldebogen"]
[]
["Bitte schätze meinen Unterricht ein!",null,null,"stimme",null,"stimme   eher",null,"stimme eher zu",null,"stimme"]
[null,null,null,"nicht zu",null,"nicht zu",null,null,null,"zu"]
[]
[1,"Klassenführung"]
[2,"Der Unterricht hat pünktlich begonnen.",null,"\u0081",null,"\u0082",null,"\u0083",null,"x"]
[3,"Die Klassenregeln waren den Schüler/innen klar."]
[4,"Die Schüler/innen konnten ungestört arbeiten."]
[5,"Den Schüler/innen war im Laufe der Unterrichtsstunde jederzeit klar, was sie tun sollten.",null,null,null,null,null,null,null,null,null,null,null,null,null,null,null,null,null,null,null,null,null,null,null,null,"Klassenführung"]
[6,"Die gesamte Unterrichtsstunde wurde für den Lernstoff verwendet.",null,null,null,null,null,null,null,null,null,null,null,null,null,null,null,null,null,null,null,null,null,null,null,null,"Die Lehrkraft ist pünktlich. "]
[7,"Lernförderliches Klima und Motivierung",null,null,null,null,null,null,null,null,null,null,null,null,null,null,null,null,null,null,null,null,null,null,null,null,"Ich fühle mich gerecht behandelt. "]
[8,"Mit Schülerbeiträgen ist die Lehrperson wertschätzend umgegangen.",null,null,null,null,null,null,null,null,null,null,null,null,null,null,null,null,null,null,null,null,null,null,null,null,"Die Regeln werden eingehalten. "]
[9,"Die Lehrperson war freundlich zu den Schüler/innen.",null,null,null,null,null,null,null,null,null,null,null,null,null,null,null,null,null,null,null,null,null,null,null,null,"Lernförderliches Klima "]
[10,"Die Lehrperson hat die Schüler/innen ausreden lassen, wenn sie dran waren.",null,null,null,null,null,null,null,null,null,null,null,null,null,null,null,null,null,null,null,null,null,null,null,null,"Die Lehrkraft sagt mir, wie ich mich verbessern kann. "]
[11,"Wenn die Lehrperson eine Frage gestellt hat, hatten die Schüler/innen ausreichend Zeit zum Nachdenken.",null,null,null,null,null,null,null,null,null,null,null,null,null,null,null,null,null,null,null,null,null,null,null,null,"Ich habe keine Angst, etwas Falsches zu sagen. "]
[12,"Die Lehrperson hat auflockernde Bemerkung gemacht.",null,null,null,null,null,null,null,null,null,null,null,null,null,null,null,null,null,null,null,null,null,null,null,null,"Die Lehrkraft gibt mir genug Zeit zur Bearbeitung meiner Aufgaben. "]
[13,"Die Lehrperson hat die Schüler/innen für Beiträge zum Unterricht angemessen gelobt.",null,null,null,null,null,null,null,null,null,null,null,null,null,null,null,null,null,null,null,null,null,null,null,null,"Die Lehrkraft ist freundlich zu mir. "]
[14,"Klarheit und Strukturiertheit ",null,null,null,null,null,null,null,null,null,null,null,null,null,null,null,null,null,null,null,null,null,null,null,null,"Motivierung"]
[15,"Die Lehrperson har klar auf früher unterrichteten Stoff hingewiesen.",null,null,null,null,null,null,null,null,null,null,null,null,null,null,null,null,null,null,null,null,null,null,null,null,"Das Thema hat mich sofort neugierig gemacht. "]
[16,"Es gab anschauliche Beispiele.",null,null,null,null,null,null,null,null,null,null,null,null,null,null,null,null,null,null,null,null,null,null,null,null,"Das Thema ist mir schon in meinem Alltag begegnet. "]
[17,"Die wichtigsten Punkte wurden zusammengefasst.",null,null,null,null,null,null,null,null,null,null,null,null,null,null,null,null,null,null,null,null,null,null,null,null,"Ich verstehe, warum wir das Thema behandeln. "]
[18,"Die Lehrperson hat darauf geachtet, dass die Schüler/innen sich klar ausdrücken.",null,null,null,null,null,null,null,null,null,null,null,null,null,null,null,null,null,null,null,null,null,null,null,null,"Das Thema macht mir Spaß. "]
[19,"Den Schüler/innen war klar, was sie in dieser Stunde lernen sollten.",null,null,null,null,null,null,null,null,null,null,null,null,null,null,null,null,null,null,null,null,null,null,null,null,"Aktivierung"]
[20,"Aktivierung",null,null,null,null,null,null,null,null,null,null,null,null,null,null,null,null,null,null,null,null,null,null,null,null,"Im Unterricht wurden unterschiedliche Materialien verwendet. "]
[21,"Die Schüler/innen haben sich mit eigenen Beiträgen am Unterrichtsgespräche beteiligt.",null,null,null,null,null,null,null,null,null,null,null,null,null,null,null,null,null,null,null,null,null,null,null,null,"Ich hatte genügend Zeit, mich mit meinen Mitschülerinnen und Mitschülern auszutauschen. "]
[22,"Die Schüler/innen haben Aufgaben alleine bearbeitet.",null,null,null,null,null,null,null,null,null,null,null,null,null,null,null,null,null,null,null,null,null,null,null,null,"Klarheit und Strukturiertheit "]
[23,"Die Schüler/innen haben etwas vor anderen präsentiert.",null,null,null,null,null,null,null,null,null,null,null,null,null,null,null,null,null,null,null,null,null,null,null,null,"Ich konnte dem Unterrichtsstoff Schritt für Schritt folgen. "]
[24,"Die Schüler/innen haben ihre eigenen Arbeitsergebnisse selbst kontrolliert.",null,null,null,null,null,null,null,null,null,null,null,null,null,null,null,null,null,null,null,null,null,null,null,null,"Ich wusste im Unterricht genau, was ich tun sollte. "]
[25,"Die Schüler/innen waren die ganze Stunde über aktiv bei der Sache.",null,null,null,null,null,null,null,null,null,null,null,null,null,null,null,null,null,null,null,null,null,null,null,null,"Mir haben die Materialien beim Lösen der Aufgabenstellung geholfen. "]
[26,"Bilanz/ Ertrag",null,null,null,null,null,null,null,null,null,null,null,null,null,null,null,null,null,null,null,null,null,null,null,null,"Ertrag/ Bilanz "]
[27,"Die Schüler/innen haben etwas dazu gelernt.",null,null,null,null,null,null,null,null,null,null,null,null,null,null,null,null,null,null,null,null,null,null,null,null,"Ich kann anderen Schülerinnen und Schülern den Unterrichtsstoff erklären. "]
[28,"Die Unterrichtsstunde war für die Schüler/innen interessant.",null,null,null,null,null,"         \u0081",null,null,null,null,null,null,null,null,null,null,null,null,null,null,null,null,null,null,"Ich kann das Erlernte für mein späteres Berufsleben gebrauchen. "]
[29,"Die Schüler/innen haben sich in dieser Stunde wohl gefühlt.",null,null,null,null,null,"         \u0081",null,null,null,null,null,null,null,null,null,null,null,null,null,null,null,null,null,null,"Ich fand den Unterrichtsstoff: "]
[30,"Die Lehrperson hat sich in dieser Stunde an den Bildungsstandards dieses Faches orientiert.",null,null,null,null,null,"         \u0081"]
[31,"Im Hinblick auf die unterschiedlichen Lernvoraussetzungen der Schüler/innen war das Unterrichtsangebot angemessen.",null,null,null,null,null,"         \u0081"]
[32,"Zusatzbereich:",null,null,null,null,null,"         \u0081"]
[33,null,null,null,null,null,null,"         \u0081"]
[34,null,null,null,null,null,null,"         \u0081"]
[35,null,null,null,null,null,null,"         \u0081"]
[36,null,null,null,null,null,null,"         \u0081"]
[37,null,null,null,null,null,null,"         \u0081"]
[38,null,null,null,null,null,null,"         \u0081"]
[39,null,null,null,null,null,null,"         \u0081"]
[40,null,null,null,null,null,null,"         \u0081"]
[41,null,null,null,null,null,null,"         \u0081"]
[42,null,null,null,null,null,null,"         \u0081"]
[43,null,null,null,null,null,null,"         \u0081"]
[44,null,null,null,null,null,null,"         \u0081"]
[45,null,null,null,null,null,null,"         \u0081"]
[46,null,null,null,null,null,null,"         \u0081"]
[47,null,null,null,null,null,null,"         \u0081"]
[48,null,null,null,null,null,null,"         \u0081"]
[49,null,null,null,null,null,null,"         \u0081"]
[50,null,null,null,null,null,null,"         \u0081"]
[51,null,null,null,null,null,null,"         \u0081"]
[52,null,null,null,null,null,null,"         \u0081"]
[53,null,null,null,null,null,null,"         \u0081"]
[54,null,null,null,null,null,null,"         \u0081"]
[55,null,null,null,null,null,null,"         \u0081"]
[56,null,null,null,null,null,null,"         \u0081"]
[57,null,null,null,null,null,null,"         \u0081"]
[58,null,null,null,null,null,null,"         \u0081"]
[59,null,null,null,null,null,null,"         \u0081"]
[60,null,null,null,null,null,null,"         \u0081"]

{"sheet":"B) LehrerHIER (2)","index":4,"n_rows":66,"n_cols":27,"rows_kept":66,"cut":false,"hidden":true,"merged":[[99,1,99,2],[99,3,99,4],[99,5,99,6],[99,7,99,8],[99,9,99,10],[97,1,97,2],[97,3,97,4],[97,5,97,6],[97,7,97,8],[97,9,97,10],[98,1,98,2],[98,3,98,4],[98,5,98,6],[98,7,98,8],[98,9,98,10],[95,1,95,2],[95,3,95,4],[95,5,95,6],[95,7,95,8],[95,9,95,10],[96,1,96,2],[96,3,96,4],[96,5,96,6],[96,7,96,8],[96,9,96,10],[93,1,93,2],[93,3,93,4],[93,5,93,6],[93,7,93,8],[93,9,93,10],[94,1,94,2],[94,3,94,4],[94,5,94,6],[94,7,94,8],[94,9,94,10],[91,1,91,2],[91,3,91,4],[91,5,91,6],[91,7,91,8],[91,9,91,10],[92,1,92,2],[92,3,92,4],[92,5,92,6],[92,7,92,8],[92,9,92,10],[89,1,89,2],[89,3,89,4],[89,5,89,6],[89,7,89,8],[89,9,89,10],[90,1,90,2],[90,3,90,4],[90,5,90,6],[90,7,90,8],[90,9,90,10],[87,1,87,2],[87,3,87,4],[87,5,87,6],[87,7,87,8],[87,9,87,10],[88,1,88,2],[88,3,88,4],[88,5,88,6],[88,7,88,8],[88,9,88,10],[85,1,85,2],[85,3,85,4],[85,5,85,6],[85,7,85,8],[85,9,85,10],[86,1,86,2],[86,3,86,4],[86,5,86,6],[86,7,86,8],[86,9,86,10],[83,1,83,2],[83,3,83,4],[83,5,83,6],[83,7,83,8],[83,9,83,10],[84,1,84,2],[84,3,84,4],[84,5,84,6],[84,7,84,8],[84,9,84,10],[81,1,81,2],[81,3,81,4],[81,5,81,6],[81,7,81,8],[81,9,81,10],[82,1,82,2],[82,3,82,4],[82,5,82,6],[82,7,82,8],[82,9,82,10],[79,1,79,2],[79,3,79,4],[79,5,79,6],[79,7,79,8],[79,9,79,10],[80,1,80,2],[80,3,80,4],[80,5,80,6],[80,7,80,8],[80,9,80,10],[77,1,77,2],[77,3,77,4],[77,5,77,6],[77,7,77,8],[77,9,77,10],[78,1,78,2],[78,3,78,4],[78,5,78,6],[78,7,78,8],[78,9,78,10],[75,1,75,2],[75,3,75,4],[75,5,75,6],[75,7,75,8],[75,9,75,10],[76,1,76,2],[76,3,76,4],[76,5,76,6],[76,7,76,8],[76,9,76,10],[73,1,73,2],[73,3,73,4],[73,5,73,6],[73,7,73,8],[73,9,73,10],[74,1,74,2],[74,3,74,4],[74,5,74,6],[74,7,74,8],[74,9,74,10],[71,1,71,2],[71,3,71,4],[71,5,71,6],[71,7,71,8],[71,9,71,10],[72,1,72,2],[72,3,72,4],[72,5,72,6],[72,7,72,8],[72,9,72,10],[69,1,69,2],[69,3,69,4],[69,5,69,6],[69,7,69,8],[69,9,69,10],[70,1,70,2],[70,3,70,4],[70,5,70,6],[70,7,70,8],[70,9,70,10],[67,1,67,2],[67,3,67,4],[67,5,67,6],[67,7,67,8],[67,9,67,10],[68,1,68,2],[68,3,68,4],[68,5,68,6],[68,7,68,8],[68,9,68,10],[65,1,65,2],[65,3,65,4],[65,5,65,6],[65,7,65,8],[65,9,65,10],[66,1,66,2],[66,3,66,4],[66,5,66,6],[66,7,66,8],[66,9,66,10],[63,1,63,2],[63,3,63,4],[63,5,63,6],[63,7,63,8],[63,9,63,10],[64,1,64,2],[64,3,64,4],[64,5,64,6],[64,7,64,8],[64,9,64,10],[61,1,61,2],[61,3,61,4],[61,5,61,6],[61,7,61,8],[61,9,61,10],[62,1,62,2],[62,3,62,4],[62,5,62,6],[62,7,62,8],[62,9,62,10],[59,1,59,2],[59,3,59,4],[59,5,59,6],[59,7,59,8],[59,9,59,10],[60,1,60,2],[60,3,60,4],[60,5,60,6],[60,7,60,8],[60,9,60,10],[57,1,57,2],[57,3,57,4],[57,5,57,6],[57,7,57,8],[57,9,57,10],[58,1,58,2],[58,3,58,4],[58,5,58,6],[58,7,58,8],[58,9,58,10],[55,1,55,2],[55,3,55,4],[55,5,55,6],[55,7,55,8],[55,9,55,10],[56,1,56,2],[56,3,56,4],[56,5,56,6],[56,7,56,8],[56,9,56,10],[53,1,53,2],[53,3,53,4],[53,5,53,6],[53,7,53,8],[53,9,53,10],[54,1,54,2],[54,3,54,4],[54,5,54,6],[54,7,54,8],[54,9,54,10],[51,1,51,2],[51,3,51,4],[51,5,51,6],[51,7,51,8],[51,9,51,10],[52,1,52,2],[52,3,52,4],[52,5,52,6],[52,7,52,8],[52,9,52,10],[49,1,49,2],[49,3,49,4],[49,5,49,6],[49,7,49,8],[49,9,49,10],[50,1,50,2],[50,3,50,4],[50,5,50,6],[50,7,50,8],[50,9,50,10],[47,1,47,2],[47,3,47,4],[47,5,47,6],[47,7,47,8],[47,9,47,10],[48,1,48,2],[48,3,48,4],[48,5,48,6],[48,7,48,8],[48,9,48,10],[45,1,45,2],[45,3,45,4],[45,5,45,6],[45,7,45,8],[45,9,45,10],[46,1,46,2],[46,3,46,4],[46,5,46,6],[46,7,46,8],[46,9,46,10],[43,1,43,2],[43,3,43,4],[43,5,43,6],[43,7,43,8],[43,9,43,10],[44,1,44,2],[44,3,44,4],[44,5,44,6],[44,7,44,8],[44,9,44,10],[41,1,41,2],[41,3,41,4],[41,5,41,6],[41,7,41,8],[41,9,41,10],[42,1,42,2],[42,3,42,4],[42,5,42,6],[42,7,42,8],[42,9,42,10],[39,1,39,2],[39,3,39,4],[39,5,39,6],[39,7,39,8],[39,9,39,10],[40,1,40,2],[40,3,40,4],[40,5,40,6],[40,7,40,8],[40,9,40,10],[37,1,37,2],[37,3,37,4],[37,5,37,6],[37,7,37,8],[37,9,37,10],[38,1,38,2],[38,3,38,4],[38,5,38,6],[38,7,38,8],[38,9,38,10],[35,1,35,2],[35,3,35,4],[35,5,35,6],[35,7,35,8],[35,9,35,10],[36,1,36,2],[36,3,36,4],[36,5,36,6],[36,7,36,8],[36,9,36,10],[33,1,33,2],[33,3,33,4],[33,5,33,6],[33,7,33,8],[33,9,33,10],[34,1,34,2],[34,3,34,4],[34,5,34,6],[34,7,34,8],[34,9,34,10],[31,1,31,2],[31,3,31,4],[31,5,31,6],[31,7,31,8],[31,9,31,10],[32,1,32,2],[32,3,32,4],[32,5,32,6],[32,7,32,8],[32,9,32,10],[29,1,29,2],[29,3,29,4],[29,5,29,6],[29,7,29,8],[29,9,29,10],[30,1,30,2],[30,3,30,4],[30,5,30,6],[30,7,30,8],[30,9,30,10],[27,1,27,2],[27,3,27,4],[27,5,27,6],[27,7,27,8],[27,9,27,10],[28,1,28,2],[28,3,28,4],[28,5,28,6],[28,7,28,8],[28,9,28,10],[25,1,25,2],[25,3,25,4],[25,5,25,6],[25,7,25,8],[25,9,25,10],[26,1,26,2],[26,3,26,4],[26,5,26,6],[26,7,26,8],[26,9,26,10],[23,1,23,2],[23,3,23,4],[23,5,23,6],[23,7,23,8],[23,9,23,10],[24,1,24,2],[24,3,24,4],[24,5,24,6],[24,7,24,8],[24,9,24,10],[21,1,21,2],[21,3,21,4],[21,5,21,6],[21,7,21,8],[21,9,21,10],[22,1,22,2],[22,3,22,4],[22,5,22,6],[22,7,22,8],[22,9,22,10],[19,1,19,2],[19,3,19,4],[19,5,19,6],[19,7,19,8],[19,9,19,10],[20,1,20,2],[20,3,20,4],[20,5,20,6],[20,7,20,8],[20,9,20,10],[17,1,17,2],[17,3,17,4],[17,5,17,6],[17,7,17,8],[17,9,17,10],[18,1,18,2],[18,3,18,4],[18,5,18,6],[18,7,18,8],[18,9,18,10],[15,1,15,2],[15,3,15,4],[15,5,15,6],[15,7,15,8],[15,9,15,10],[16,1,16,2],[16,3,16,4],[16,5,16,6],[16,7,16,8],[16,9,16,10],[13,1,13,2],[13,3,13,4],[13,5,13,6],[13,7,13,8],[13,9,13,10],[14,1,14,2],[14,3,14,4],[14,5,14,6],[14,7,14,8],[14,9,14,10],[11,1,11,2],[11,3,11,4],[11,5,11,6],[11,7,11,8],[11,9,11,10],[12,1,12,2],[12,3,12,4],[12,5,12,6],[12,7,12,8],[12,9,12,10],[9,1,9,2],[9,3,9,4],[9,5,9,6],[9,7,9,8],[9,9,9,10],[10,1,10,2],[10,3,10,4],[10,5,10,6],[10,7,10,8],[10,9,10,10],[7,1,7,2],[7,3,7,4],[7,5,7,6],[7,7,7,8],[7,9,7,10],[8,1,8,2],[8,3,8,4],[8,5,8,6],[8,7,8,8],[8,9,8,10],[5,3,5,4],[5,5,5,6],[5,7,5,8],[5,9,5,10],[6,1,6,2],[6,3,6,4],[6,5,6,6],[6,7,6,8],[6,9,6,10],[3,0,4,1],[3,3,3,4],[3,5,3,6],[3,7,3,8],[3,9,3,10],[4,3,4,4],[4,5,4,6],[4,7,4,8],[4,9,4,10]]}
["                                                                                                        Klasse/ Lerngruppe:","BLehrer"]
["Rückmeldebogen"]
[]
["Bitte schätze meinen Unterricht ein!",null,null,"stimme",null,"stimme   eher",null,"stimme eher zu",null,"stimme"]
[null,null,null,"nicht zu",null,"nicht zu",null,null,null,"zu"]
[]
[1,"Klassenführung"]
[2,"Der Unterricht hat pünktlich begonnen.",null,"\u0081",null,"\u0082",null,"\u0083",null,"x"]
[3,"Die Klassenregeln waren den Schüler/innen klar."]
[4,"Die Schüler/innen konnten ungestört arbeiten."]
[5,"Den Schüler/innen war im Laufe der Unterrichtsstunde jederzeit klar, was sie tun sollten.",null,null,null,null,null,null,null,null,null,null,null,null,null,null,null,null,null,null,null,null,null,null,null,null,"Klassenführung"]
[6,"Die gesamte Unterrichtsstunde wurde für den Lernstoff verwendet.",null,null,null,null,null,null,null,null,null,null,null,null,null,null,null,null,null,null,null,null,null,null,null,null,"Die Lehrkraft ist pünktlich. "]
[7,"Lernförderliches Klima und Motivierung",null,null,null,null,null,null,null,null,null,null,null,null,null,null,null,null,null,null,null,null,null,null,null,null,"Ich fühle mich gerecht behandelt. "]
[8,"Mit Schülerbeiträgen ist die Lehrperson wertschätzend umgegangen.",null,null,null,null,null,null,null,null,null,null,null,null,null,null,null,null,null,null,null,null,null,null,null,null,"Die Regeln werden eingehalten. "]
[9,"Die Lehrperson war freundlich zu den Schüler/innen.",null,null,null,null,null,null,null,null,null,null,null,null,null,null,null,null,null,null,null,null,null,null,null,null,"Lernförderliches Klima "]
[10,"Die Lehrperson hat die Schüler/innen ausreden lassen, wenn sie dran waren.",null,null,null,null,null,null,null,null,null,null,null,null,null,null,null,null,null,null,null,null,null,null,null,null,"Die Lehrkraft sagt mir, wie ich mich verbessern kann. "]
[11,"Wenn die Lehrperson eine Frage gestellt hat, hatten die Schüler/innen ausreichend Zeit zum Nachdenken.",null,null,null,null,null,null,null,null,null,null,null,null,null,null,null,null,null,null,null,null,null,null,null,null,"Ich habe keine Angst, etwas Falsches zu sagen. "]
[12,"Die Lehrperson hat auflockernde Bemerkung gemacht.",null,null,null,null,null,null,null,null,null,null,null,null,null,null,null,null,null,null,null,null,null,null,null,null,"Die Lehrkraft gibt mir genug Zeit zur Bearbeitung meiner Aufgaben. "]
[13,"Die Lehrperson hat die Schüler/innen für Beiträge zum Unterricht angemessen gelobt.",null,null,null,null,null,null,null,null,null,null,null,null,null,null,null,null,null,null,null,null,null,null,null,null,"Die Lehrkraft ist freundlich zu mir. "]
[14,"Klarheit und Strukturiertheit ",null,null,null,null,null,null,null,null,null,null,null,null,null,null,null,null,null,null,null,null,null,null,null,null,"Motivierung"]
[15,"Die Lehrperson har klar auf früher unterrichteten Stoff hingewiesen.",null,null,null,null,null,null,null,null,null,null,null,null,null,null,null,null,null,null,null,null,null,null,null,null,"Das Thema hat mich sofort neugierig gemacht. "]
[16,"Es gab anschauliche Beispiele.",null,null,null,null,null,null,null,null,null,null,null,null,null,null,null,null,null,null,null,null,null,null,null,null,"Das Thema ist mir schon in meinem Alltag begegnet. "]
[17,"Die wichtigsten Punkte wurden zusammengefasst.",null,null,null,null,null,null,null,null,null,null,null,null,null,null,null,null,null,null,null,null,null,null,null,null,"Ich verstehe, warum wir das Thema behandeln. "]
[18,"Die Lehrperson hat darauf geachtet, dass die Schüler/innen sich klar ausdrücken.",null,null,null,null,null,null,null,null,null,null,null,null,null,null,null,null,null,null,null,null,null,null,null,null,"Das Thema macht mir Spaß. "]
[19,"Den Schüler/innen war klar, was sie in dieser Stunde lernen sollten.",null,null,null,null,null,null,null,null,null,null,null,null,null,null,null,null,null,null,null,null,null,null,null,null,"Aktivierung"]
[20,"Aktivierung",null,null,null,null,null,null,null,null,null,null,null,null,null,null,null,null,null,null,null,null,null,null,null,null,"Im Unterricht wurden unterschiedliche Materialien verwendet. "]
[21,"Die Schüler/innen haben sich mit eigenen Beiträgen am Unterrichtsgespräche beteiligt.",null,null,null,null,null,null,null,null,null,null,null,null,null,null,null,null,null,null,null,null,null,null,null,null,"Ich hatte genügend Zeit, mich mit meinen Mitschülerinnen und Mitschülern auszutauschen. "]
[22,"Die Schüler/innen haben Aufgaben alleine bearbeitet.",null,null,null,null,null,null,null,null,null,null,null,null,null,null,null,null,null,null,null,null,null,null,null,null,"Klarheit und Strukturiertheit "]
[23,"Die Schüler/innen haben etwas vor anderen präsentiert.",null,null,null,null,null,null,null,null,null,null,null,null,null,null,null,null,null,null,null,null,null,null,null,null,"Ich konnte dem Unterrichtsstoff Schritt für Schritt folgen. "]
[24,"Die Schüler/innen haben ihre eigenen Arbeitsergebnisse selbst kontrolliert.",null,null,null,null,null,null,null,null,null,null,null,null,null,null,null,null,null,null,null,null,null,null,null,null,"Ich wusste im Unterricht genau, was ich tun sollte. "]
[25,"Die Schüler/innen waren die ganze Stunde über aktiv bei der Sache.",null,null,null,null,null,null,null,null,null,null,null,null,null,null,null,null,null,null,null,null,null,null,null,null,"Mir haben die Materialien beim Lösen der Aufgabenstellung geholfen. "]
[26,"Bilanz/ Ertrag",null,null,null,null,null,null,null,null,null,null,null,null,null,null,null,null,null,null,null,null,null,null,null,null,"Ertrag/ Bilanz "]
[27,"Die Schüler/innen haben etwas dazu gelernt.",null,null,null,null,null,null,null,null,null,null,null,null,null,null,null,null,null,null,null,null,null,null,null,null,"Ich kann anderen Schülerinnen und Schülern den Unterrichtsstoff erklären. "]
[28,"Die Unterrichtsstunde war für die Schüler/innen interessant.",null,null,null,null,null,"         \u0081",null,null,null,null,null,null,null,null,null,null,null,null,null,null,null,null,null,null,"Ich kann das Erlernte für mein späteres Berufsleben gebrauchen. "]
[29,"Die Schüler/innen haben sich in dieser Stunde wohl gefühlt.",null,null,null,null,null,"         \u0081",null,null,null,null,null,null,null,null,null,null,null,null,null,null,null,null,null,null,"Ich fand den Unterrichtsstoff: "]
[30,"Die Lehrperson hat sich in dieser Stunde an den Bildungsstandards dieses Faches orientiert.",null,null,null,null,null,"         \u0081"]
[31,"Im Hinblick auf die unterschiedlichen Lernvoraussetzungen der Schüler/innen war das Unterrichtsangebot angemessen.",null,null,null,null,null,"         \u0081"]
[32,"Zusatzbereich:",null,null,null,null,null,"         \u0081"]
[33,null,null,null,null,null,null,"         \u0081"]
[34,null,null,null,null,null,null,"         \u0081"]
[35,null,null,null,null,null,null,"         \u0081"]
[36,null,null,null,null,null,null,"         \u0081"]
[37,null,null,null,null,null,null,"         \u0081"]
[38,null,null,null,null,null,null,"         \u0081"]
[39,null,null,null,null,null,null,"         \u0081"]
[40,null,null,null,null,null,null,"         \u0081"]
[41,null,null,null,null,null,null,"         \u0081"]
[42,null,null,null,null,null,null,"         \u0081"]
[43,null,null,null,null,null,null,"         \u0081"]
[44,null,null,null,null,null,null,"         \u0081"]
[45,null,null,null,null,null,null,"         \u0081"]
[46,null,null,null,null,null,null,"         \u0081"]
[47,null,null,null,null,null,null,"         \u0081"]
[48,null,null,null,null,null,null,"         \u0081"]
[49,null,null,null,null,null,null,"         \u0081"]
[50,null,null,null,null,null,null,"         \u0081"]
[51,null,null,null,null,null,null,"         \u0081"]
[52,null,null,null,null,null,null,"         \u0081"]
[53,null,null,null,null,null,null,"         \u0081"]
[54,null,null,null,null,null,null,"         \u0081"]
[55,null,null,null,null,null,null,"         \u0081"]
[56,null,null,null,null,null,null,"         \u0081"]
[57,null,null,null,null,null,null,"         \u0081"]
[58,null,null,null,null,null,null,"         \u0081"]
[59,null,null,null,null,null,null,"         \u0081"]
[60,null,null,null,null,null,null,"         \u0081"]

{"sheet":"B) SchülerHIER","index":5,"n_rows":66,"n_cols":27,"rows_kept":66,"cut":false,"hidden":true,"merged":[[3,0,4,1],[3,3,3,4],[3,5,3,6],[3,7,3,8],[3,9,3,10],[4,3,4,4],[4,5,4,6],[4,7,4,8],[4,9,4,10],[5,3,5,4],[5,5,5,6],[5,7,5,8],[5,9,5,10],[6,1,6,2],[6,3,6,4],[6,5,6,6],[6,7,6,8],[6,9,6,10],[7,1,7,2],[7,3,7,4],[7,5,7,6],[7,7,7,8],[7,9,7,10],[8,1,8,2],[8,3,8,4],[8,5,8,6],[8,7,8,8],[8,9,8,10],[9,1,9,2],[9,3,9,4],[9,5,9,6],[9,7,9,8],[9,9,9,10],[10,1,10,2],[10,3,10,4],[10,5,10,6],[10,7,10,8],[10,9,10,10],[11,1,11,2],[11,3,11,4],[11,5,11,6],[11,7,11,8],[11,9,11,10],[12,1,12,2],[12,3,12,4],[12,5,12,6],[12,7,12,8],[12,9,12,10],[13,1,13,2],[13,3,13,4],[13,5,13,6],[13,7,13,8],[13,9,13,10],[14,1,14,2],[14,3,14,4],[14,5,14,6],[14,7,14,8],[14,9,14,10],[15,1,15,2],[15,3,15,4],[15,5,15,6],[15,7,15,8],[15,9,15,10],[16,1,16,2],[16,3,16,4],[16,5,16,6],[16,7,16,8],[16,9,16,10],[17,1,17,2],[17,3,17,4],[17,5,17,6],[17,7,17,8],[17,9,17,10],[18,1,18,2],[18,3,18,4],[18,5,18,6],[18,7,18,8],[18,9,18,10],[19,1,19,2],[19,3,19,4],[19,5,19,6],[19,7,19,8],[19,9,19,10],[20,1,20,2],[20,3,20,4],[20,5,20,6],[20,7,20,8],[20,9,20,10],[21,1,21,2],[21,3,21,4],[21,5,21,6],[21,7,21,8],[21,9,21,10],[22,1,22,2],[22,3,22,4],[22,5,22,6],[22,7,22,8],[22,9,22,10],[23,1,23,2],[23,3,23,4],[23,5,23,6],[23,7,23,8],[23,9,23,10],[24,1,24,2],[24,3,24,4],[24,5,24,6],[24,7,24,8],[24,9,24,10],[25,1,25,2],[25,3,25,4],[25,5,25,6],[25,7,25,8],[25,9,25,10],[26,1,26,2],[26,3,26,4],[26,5,26,6],[26,7,26,8],[26,9,26,10],[27,1,27,2],[27,3,27,4],[27,5,27,6],[27,7,27,8],[27,9,27,10],[28,1,28,2],[28,3,28,4],[28,5,28,6],[28,7,28,8],[28,9,28,10],[29,1,29,2],[29,3,29,4],[29,5,29,6],[29,7,29,8],[29,9,29,10],[30,1,30,2],[30,3,30,4],[30,5,30,6],[30,7,30,8],[30,9,30,10],[31,1,31,2],[31,3,31,4],[31,5,31,6],[31,7,31,8],[31,9,31,10],[32,1,32,2],[32,3,32,4],[32,5,32,6],[32,7,32,8],[32,9,32,10],[33,1,33,2],[33,3,33,4],[33,5,33,6],[33,7,33,8],[33,9,33,10],[34,1,34,2],[34,3,34,4],[34,5,34,6],[34,7,34,8],[34,9,34,10],[35,1,35,2],[35,3,35,4],[35,5,35,6],[35,7,35,8],[35,9,35,10],[36,1,36,2],[36,3,36,4],[36,5,36,6],[36,7,36,8],[36,9,36,10],[37,1,37,2],[37,3,37,4],[37,5,37,6],[37,7,37,8],[37,9,37,10],[38,1,38,2],[38,3,38,4],[38,5,38,6],[38,7,38,8],[38,9,38,10],[39,1,39,2],[39,3,39,4],[39,5,39,6],[39,7,39,8],[39,9,39,10],[40,1,40,2],[40,3,40,4],[40,5,40,6],[40,7,40,8],[40,9,40,10],[41,1,41,2],[41,3,41,4],[41,5,41,6],[41,7,41,8],[41,9,41,10],[42,1,42,2],[42,3,42,4],[42,5,42,6],[42,7,42,8],[42,9,42,10],[43,1,43,2],[43,3,43,4],[43,5,43,6],[43,7,43,8],[43,9,43,10],[44,1,44,2],[44,3,44,4],[44,5,44,6],[44,7,44,8],[44,9,44,10],[45,1,45,2],[45,3,45,4],[45,5,45,6],[45,7,45,8],[45,9,45,10],[46,1,46,2],[46,3,46,4],[46,5,46,6],[46,7,46,8],[46,9,46,10],[47,1,47,2],[47,3,47,4],[47,5,47,6],[47,7,47,8],[47,9,47,10],[48,1,48,2],[48,3,48,4],[48,5,48,6],[48,7,48,8],[48,9,48,10],[49,1,49,2],[49,3,49,4],[49,5,49,6],[49,7,49,8],[49,9,49,10],[50,1,50,2],[50,3,50,4],[50,5,50,6],[50,7,50,8],[50,9,50,10],[51,1,51,2],[51,3,51,4],[51,5,51,6],[51,7,51,8],[51,9,51,10],[52,1,52,2],[52,3,52,4],[52,5,52,6],[52,7,52,8],[52,9,52,10],[53,1,53,2],[53,3,53,4],[53,5,53,6],[53,7,53,8],[53,9,53,10],[54,1,54,2],[54,3,54,4],[54,5,54,6],[54,7,54,8],[54,9,54,10],[55,1,55,2],[55,3,55,4],[55,5,55,6],[55,7,55,8],[55,9,55,10],[56,1,56,2],[56,3,56,4],[56,5,56,6],[56,7,56,8],[56,9,56,10],[57,1,57,2],[57,3,57,4],[57,5,57,6],[57,7,57,8],[57,9,57,10],[58,1,58,2],[58,3,58,4],[58,5,58,6],[58,7,58,8],[58,9,58,10],[59,1,59,2],[59,3,59,4],[59,5,59,6],[59,7,59,8],[59,9,59,10],[60,1,60,2],[60,3,60,4],[60,5,60,6],[60,7,60,8],[60,9,60,10],[61,1,61,2],[61,3,61,4],[61,5,61,6],[61,7,61,8],[61,9,61,10],[62,1,62,2],[62,3,62,4],[62,5,62,6],[62,7,62,8],[62,9,62,10],[63,1,63,2],[63,3,63,4],[63,5,63,6],[63,7,63,8],[63,9,63,10],[64,1,64,2],[64,3,64,4],[64,5,64,6],[64,7,64,8],[64,9,64,10],[65,1,65,2],[65,3,65,4],[65,5,65,6],[65,7,65,8],[65,9,65,10],[66,1,66,2],[66,3,66,4],[66,5,66,6],[66,7,66,8],[66,9,66,10],[67,1,67,2],[67,3,67,4],[67,5,67,6],[67,7,67,8],[67,9,67,10],[68,1,68,2],[68,3,68,4],[68,5,68,6],[68,7,68,8],[68,9,68,10],[69,1,69,2],[69,3,69,4],[69,5,69,6],[69,7,69,8],[69,9,69,10],[70,1,70,2],[70,3,70,4],[70,5,70,6],[70,7,70,8],[70,9,70,10],[71,1,71,2],[71,3,71,4],[71,5,71,6],[71,7,71,8],[71,9,71,10],[72,1,72,2],[72,3,72,4],[72,5,72,6],[72,7,72,8],[72,9,72,10],[73,1,73,2],[73,3,73,4],[73,5,73,6],[73,7,73,8],[73,9,73,10],[74,1,74,2],[74,3,74,4],[74,5,74,6],[74,7,74,8],[74,9,74,10],[75,1,75,2],[75,3,75,4],[75,5,75,6],[75,7,75,8],[75,9,75,10],[76,1,76,2],[76,3,76,4],[76,5,76,6],[76,7,76,8],[76,9,76,10],[77,1,77,2],[77,3,77,4],[77,5,77,6],[77,7,77,8],[77,9,77,10],[78,1,78,2],[78,3,78,4],[78,5,78,6],[78,7,78,8],[78,9,78,10],[79,1,79,2],[79,3,79,4],[79,5,79,6],[79,7,79,8],[79,9,79,10],[80,1,80,2],[80,3,80,4],[80,5,80,6],[80,7,80,8],[80,9,80,10],[81,1,81,2],[81,3,81,4],[81,5,81,6],[81,7,81,8],[81,9,81,10],[82,1,82,2],[82,3,82,4],[82,5,82,6],[82,7,82,8],[82,9,82,10],[83,1,83,2],[83,3,83,4],[83,5,83,6],[83,7,83,8],[83,9,83,10],[84,1,84,2],[84,3,84,4],[84,5,84,6],[84,7,84,8],[84,9,84,10],[85,1,85,2],[85,3,85,4],[85,5,85,6],[85,7,85,8],[85,9,85,10],[86,1,86,2],[86,3,86,4],[86,5,86,6],[86,7,86,8],[86,9,86,10],[87,1,87,2],[87,3,87,4],[87,5,87,6],[87,7,87,8],[87,9,87,10],[88,1,88,2],[88,3,88,4],[88,5,88,6],[88,7,88,8],[88,9,88,10],[89,1,89,2],[89,3,89,4],[89,5,89,6],[89,7,89,8],[89,9,89,10],[90,1,90,2],[90,3,90,4],[90,5,90,6],[90,7,90,8],[90,9,90,10],[91,1,91,2],[91,3,91,4],[91,5,91,6],[91,7,91,8],[91,9,91,10],[92,1,92,2],[92,3,92,4],[92,5,92,6],[92,7,92,8],[92,9,92,10],[93,1,93,2],[93,3,93,4],[93,5,93,6],[93,7,93,8],[93,9,93,10],[94,1,94,2],[94,3,94,4],[94,5,94,6],[94,7,94,8],[94,9,94,10],[95,1,95,2],[95,3,95,4],[95,5,95,6],[95,7,95,8],[95,9,95,10],[96,1,96,2],[96,3,96,4],[96,5,96,6],[96,7,96,8],[96,9,96,10],[99,1,99,2],[99,3,99,4],[99,5,99,6],[99,7,99,8],[99,9,99,10],[97,1,97,2],[97,3,97,4],[97,5,97,6],[97,7,97,8],[97,9,97,10],[98,1,98,2],[98,3,98,4],[98,5,98,6],[98,7,98,8],[98,9,98,10]]}
["                                                                                                        Klasse/ Lerngruppe:","BSchüler"]
["Rückmeldebogen"]
[]
["Bitte schätze meinen Unterricht ein!",null,null,"stimme",null,"stimme   eher",null,"stimme eher zu",null,"stimme"]
[null,null,null,"nicht zu",null,"nicht zu",null,null,null,"zu"]
[]
[1,"Klassenführung"]
[2,"Der Unterricht hat pünktlich begonnen.",null,"\u0081",null,"\u0082",null,"\u0083",null,"x"]
[3,"Die Klassenregeln waren den Schüler/innen klar."]
[4,"Die Schüler/innen konnten ungestört arbeiten."]
[5,"Den Schüler/innen war im Laufe der Unterrichtsstunde jederzeit klar, was sie tun sollten.",null,null,null,null,null,null,null,null,null,null,null,null,null,null,null,null,null,null,null,null,null,null,null,null,"Klassenführung"]
[6,"Die gesamte Unterrichtsstunde wurde für den Lernstoff verwendet.",null,null,null,null,null,null,null,null,null,null,null,null,null,null,null,null,null,null,null,null,null,null,null,null,"Die Lehrkraft ist pünktlich. "]
[7,"Lernförderliches Klima und Motivierung",null,null,null,null,null,null,null,null,null,null,null,null,null,null,null,null,null,null,null,null,null,null,null,null,"Ich fühle mich gerecht behandelt. "]
[8,"Mit Schülerbeiträgen ist die Lehrperson wertschätzend umgegangen.",null,null,null,null,null,null,null,null,null,null,null,null,null,null,null,null,null,null,null,null,null,null,null,null,"Die Regeln werden eingehalten. "]
[9,"Die Lehrperson war freundlich zu den Schüler/innen.",null,null,null,null,null,null,null,null,null,null,null,null,null,null,null,null,null,null,null,null,null,null,null,null,"Lernförderliches Klima "]
[10,"Die Lehrperson hat die Schüler/innen ausreden lassen, wenn sie dran waren.",null,null,null,null,null,null,null,null,null,null,null,null,null,null,null,null,null,null,null,null,null,null,null,null,"Die Lehrkraft sagt mir, wie ich mich verbessern kann. "]
[11,"Wenn die Lehrperson eine Frage gestellt hat, hatten die Schüler/innen ausreichend Zeit zum Nachdenken.",null,null,null,null,null,null,null,null,null,null,null,null,null,null,null,null,null,null,null,null,null,null,null,null,"Ich habe keine Angst, etwas Falsches zu sagen. "]
[12,"Die Lehrperson hat auflockernde Bemerkung gemacht.",null,null,null,null,null,null,null,null,null,null,null,null,null,null,null,null,null,null,null,null,null,null,null,null,"Die Lehrkraft gibt mir genug Zeit zur Bearbeitung meiner Aufgaben. "]
[13,"Die Lehrperson hat die Schüler/innen für Beiträge zum Unterricht angemessen gelobt.",null,null,null,null,null,null,null,null,null,null,null,null,null,null,null,null,null,null,null,null,null,null,null,null,"Die Lehrkraft ist freundlich zu mir. "]
[14,"Klarheit und Strukturiertheit ",null,null,null,null,null,null,null,null,null,null,null,null,null,null,null,null,null,null,null,null,null,null,null,null,"Motivierung"]
[15,"Die Lehrperson har klar auf früher unterrichteten Stoff hingewiesen.",null,null,null,null,null,null,null,null,null,null,null,null,null,null,null,null,null,null,null,null,null,null,null,null,"Das Thema hat mich sofort neugierig gemacht. "]
[16,"Es gab anschauliche Beispiele.",null,null,null,null,null,null,null,null,null,null,null,null,null,null,null,null,null,null,null,null,null,null,null,null,"Das Thema ist mir schon in meinem Alltag begegnet. "]
[17,"Die wichtigsten Punkte wurden zusammengefasst.",null,null,null,null,null,null,null,null,null,null,null,null,null,null,null,null,null,null,null,null,null,null,null,null,"Ich verstehe, warum wir das Thema behandeln. "]
[18,"Die Lehrperson hat darauf geachtet, dass die Schüler/innen sich klar ausdrücken.",null,null,null,null,null,null,null,null,null,null,null,null,null,null,null,null,null,null,null,null,null,null,null,null,"Das Thema macht mir Spaß. "]
[19,"Den Schüler/innen war klar, was sie in dieser Stunde lernen sollten.",null,null,null,null,null,null,null,null,null,null,null,null,null,null,null,null,null,null,null,null,null,null,null,null,"Aktivierung"]
[20,"Aktivierung",null,null,null,null,null,null,null,null,null,null,null,null,null,null,null,null,null,null,null,null,null,null,null,null,"Im Unterricht wurden unterschiedliche Materialien verwendet. "]
[21,"Die Schüler/innen haben sich mit eigenen Beiträgen am Unterrichtsgespräche beteiligt.",null,null,null,null,null,null,null,null,null,null,null,null,null,null,null,null,null,null,null,null,null,null,null,null,"Ich hatte genügend Zeit, mich mit meinen Mitschülerinnen und Mitschülern auszutauschen. "]
[22,"Die Schüler/innen haben Aufgaben alleine bearbeitet.",null,null,null,null,null,null,null,null,null,null,null,null,null,null,null,null,null,null,null,null,null,null,null,null,"Klarheit und Strukturiertheit "]
[23,"Die Schüler/innen haben etwas vor anderen präsentiert.",null,null,null,null,null,null,null,null,null,null,null,null,null,null,null,null,null,null,null,null,null,null,null,null,"Ich konnte dem Unterrichtsstoff Schritt für Schritt folgen. "]
[24,"Die Schüler/innen haben ihre eigenen Arbeitsergebnisse selbst kontrolliert.",null,null,null,null,null,null,null,null,null,null,null,null,null,null,null,null,null,null,null,null,null,null,null,null,"Ich wusste im Unterricht genau, was ich tun sollte. "]
[25,"Die Schüler/innen waren die ganze Stunde über aktiv bei der Sache.",null,null,null,null,null,null,null,null,null,null,null,null,null,null,null,null,null,null,null,null,null,null,null,null,"Mir haben die Materialien beim Lösen der Aufgabenstellung geholfen. "]
[26,"Bilanz/ Ertrag",null,null,null,null,null,null,null,null,null,null,null,null,null,null,null,null,null,null,null,null,null,null,null,null,"Ertrag/ Bilanz "]
[27,"Die Schüler/innen haben etwas dazu gelernt.",null,null,null,null,null,null,null,null,null,null,null,null,null,null,null,null,null,null,null,null,null,null,null,null,"Ich kann anderen Schülerinnen und Schülern den Unterrichtsstoff erklären. "]
[28,"Die Unterrichtsstunde war für die Schüler/innen interessant.",null,null,null,null,null,"         \u0081",null,null,null,null,null,null,null,null,null,null,null,null,null,null,null,null,null,null,"Ich kann das Erlernte für mein späteres Berufsleben gebrauchen. "]
[29,"Die Schüler/innen haben sich in dieser Stunde wohl gefühlt.",null,null,null,null,null,"         \u0081",null,null,null,null,null,null,null,null,null,null,null,null,null,null,null,null,null,null,"Ich fand den Unterrichtsstoff: "]
[30,"Die Lehrperson hat sich in dieser Stunde an den Bildungsstandards dieses Faches orientiert.",null,null,null,null,null,"         \u0081"]
[31,"Im Hinblick auf die unterschiedlichen Lernvoraussetzungen der Schüler/innen war das Unterrichtsangebot angemessen.",null,null,null,null,null,"         \u0081"]
[32,"Zusatzbereich:",null,null,null,null,null,"         \u0081"]
[33,null,null,null,null,null,null,"         \u0081"]
[34,null,null,null,null,null,null,"         \u0081"]
[35,null,null,null,null,null,null,"         \u0081"]
[36,null,null,null,null,null,null,"         \u0081"]
[37,null,null,null,null,null,null,"         \u0081"]
[38,null,null,null,null,null,null,"         \u0081"]
[39,null,null,null,null,null,null,"         \u0081"]
[40,null,null,null,null,null,null,"         \u0081"]
[41,null,null,null,null,null,null,"         \u0081"]
[42,null,null,null,null,null,null,"         \u0081"]
[43,null,null,null,null,null,null,"         \u0081"]
[44,null,null,null,null,null,null,"         \u0081"]
[45,null,null,null,null,null,null,"         \u0081"]
[46,null,null,null,null,null,null,"         \u0081"]
[47,null,null,null,null,null,null,"         \u0081"]
[48,null,null,null,null,null,null,"         \u0081"]
[49,null,null,null,null,null,null,"         \u0081"]
[50,null,null,null,null,null,null,"         \u0081"]
[51,null,null,null,null,null,null,"         \u0081"]
[52,null,null,null,null,null,null,"         \u0081"]
[53,null,null,null,null,null,null,"         \u0081"]
[54,null,null,null,null,null,null,"         \u0081"]
[55,null,null,null,null,null,null,"         \u0081"]
[56,null,null,null,null,null,null,"         \u0081"]
[57,null,null,null,null,null,null,"         \u0081"]
[58,null,null,null,null,null,null,"         \u0081"]
[59,null,null,null,null,null,null,"         \u0081"]
[60,null,null,null,null,null,null,"         \u0081"]

{"sheet":"B) SchülerHIER (2)","index":6,"n_rows":66,"n_cols":27,"rows_kept":66,"cut":false,"hidden":true,"merged":[[99,1,99,2],[99,3,99,4],[99,5,99,6],[99,7,99,8],[99,9,99,10],[97,1,97,2],[97,3,97,4],[97,5,97,6],[97,7,97,8],[97,9,97,10],[98,1,98,2],[98,3,98,4],[98,5,98,6],[98,7,98,8],[98,9,98,10],[95,1,95,2],[95,3,95,4],[95,5,95,6],[95,7,95,8],[95,9,95,10],[96,1,96,2],[96,3,96,4],[96,5,96,6],[96,7,96,8],[96,9,96,10],[93,1,93,2],[93,3,93,4],[93,5,93,6],[93,7,93,8],[93,9,93,10],[94,1,94,2],[94,3,94,4],[94,5,94,6],[94,7,94,8],[94,9,94,10],[91,1,91,2],[91,3,91,4],[91,5,91,6],[91,7,91,8],[91,9,91,10],[92,1,92,2],[92,3,92,4],[92,5,92,6],[92,7,92,8],[92,9,92,10],[89,1,89,2],[89,3,89,4],[89,5,89,6],[89,7,89,8],[89,9,89,10],[90,1,90,2],[90,3,90,4],[90,5,90,6],[90,7,90,8],[90,9,90,10],[87,1,87,2],[87,3,87,4],[87,5,87,6],[87,7,87,8],[87,9,87,10],[88,1,88,2],[88,3,88,4],[88,5,88,6],[88,7,88,8],[88,9,88,10],[85,1,85,2],[85,3,85,4],[85,5,85,6],[85,7,85,8],[85,9,85,10],[86,1,86,2],[86,3,86,4],[86,5,86,6],[86,7,86,8],[86,9,86,10],[83,1,83,2],[83,3,83,4],[83,5,83,6],[83,7,83,8],[83,9,83,10],[84,1,84,2],[84,3,84,4],[84,5,84,6],[84,7,84,8],[84,9,84,10],[81,1,81,2],[81,3,81,4],[81,5,81,6],[81,7,81,8],[81,9,81,10],[82,1,82,2],[82,3,82,4],[82,5,82,6],[82,7,82,8],[82,9,82,10],[79,1,79,2],[79,3,79,4],[79,5,79,6],[79,7,79,8],[79,9,79,10],[80,1,80,2],[80,3,80,4],[80,5,80,6],[80,7,80,8],[80,9,80,10],[77,1,77,2],[77,3,77,4],[77,5,77,6],[77,7,77,8],[77,9,77,10],[78,1,78,2],[78,3,78,4],[78,5,78,6],[78,7,78,8],[78,9,78,10],[75,1,75,2],[75,3,75,4],[75,5,75,6],[75,7,75,8],[75,9,75,10],[76,1,76,2],[76,3,76,4],[76,5,76,6],[76,7,76,8],[76,9,76,10],[73,1,73,2],[73,3,73,4],[73,5,73,6],[73,7,73,8],[73,9,73,10],[74,1,74,2],[74,3,74,4],[74,5,74,6],[74,7,74,8],[74,9,74,10],[71,1,71,2],[71,3,71,4],[71,5,71,6],[71,7,71,8],[71,9,71,10],[72,1,72,2],[72,3,72,4],[72,5,72,6],[72,7,72,8],[72,9,72,10],[69,1,69,2],[69,3,69,4],[69,5,69,6],[69,7,69,8],[69,9,69,10],[70,1,70,2],[70,3,70,4],[70,5,70,6],[70,7,70,8],[70,9,70,10],[67,1,67,2],[67,3,67,4],[67,5,67,6],[67,7,67,8],[67,9,67,10],[68,1,68,2],[68,3,68,4],[68,5,68,6],[68,7,68,8],[68,9,68,10],[65,1,65,2],[65,3,65,4],[65,5,65,6],[65,7,65,8],[65,9,65,10],[66,1,66,2],[66,3,66,4],[66,5,66,6],[66,7,66,8],[66,9,66,10],[63,1,63,2],[63,3,63,4],[63,5,63,6],[63,7,63,8],[63,9,63,10],[64,1,64,2],[64,3,64,4],[64,5,64,6],[64,7,64,8],[64,9,64,10],[61,1,61,2],[61,3,61,4],[61,5,61,6],[61,7,61,8],[61,9,61,10],[62,1,62,2],[62,3,62,4],[62,5,62,6],[62,7,62,8],[62,9,62,10],[59,1,59,2],[59,3,59,4],[59,5,59,6],[59,7,59,8],[59,9,59,10],[60,1,60,2],[60,3,60,4],[60,5,60,6],[60,7,60,8],[60,9,60,10],[57,1,57,2],[57,3,57,4],[57,5,57,6],[57,7,57,8],[57,9,57,10],[58,1,58,2],[58,3,58,4],[58,5,58,6],[58,7,58,8],[58,9,58,10],[55,1,55,2],[55,3,55,4],[55,5,55,6],[55,7,55,8],[55,9,55,10],[56,1,56,2],[56,3,56,4],[56,5,56,6],[56,7,56,8],[56,9,56,10],[53,1,53,2],[53,3,53,4],[53,5,53,6],[53,7,53,8],[53,9,53,10],[54,1,54,2],[54,3,54,4],[54,5,54,6],[54,7,54,8],[54,9,54,10],[51,1,51,2],[51,3,51,4],[51,5,51,6],[51,7,51,8],[51,9,51,10],[52,1,52,2],[52,3,52,4],[52,5,52,6],[52,7,52,8],[52,9,52,10],[49,1,49,2],[49,3,49,4],[49,5,49,6],[49,7,49,8],[49,9,49,10],[50,1,50,2],[50,3,50,4],[50,5,50,6],[50,7,50,8],[50,9,50,10],[47,1,47,2],[47,3,47,4],[47,5,47,6],[47,7,47,8],[47,9,47,10],[48,1,48,2],[48,3,48,4],[48,5,48,6],[48,7,48,8],[48,9,48,10],[45,1,45,2],[45,3,45,4],[45,5,45,6],[45,7,45,8],[45,9,45,10],[46,1,46,2],[46,3,46,4],[46,5,46,6],[46,7,46,8],[46,9,46,10],[43,1,43,2],[43,3,43,4],[43,5,43,6],[43,7,43,8],[43,9,43,10],[44,1,44,2],[44,3,44,4],[44,5,44,6],[44,7,44,8],[44,9,44,10],[41,1,41,2],[41,3,41,4],[41,5,41,6],[41,7,41,8],[41,9,41,10],[42,1,42,2],[42,3,42,4],[42,5,42,6],[42,7,42,8],[42,9,42,10],[39,1,39,2],[39,3,39,4],[39,5,39,6],[39,7,39,8],[39,9,39,10],[40,1,40,2],[40,3,40,4],[40,5,40,6],[40,7,40,8],[40,9,40,10],[37,1,37,2],[37,3,37,4],[37,5,37,6],[37,7,37,8],[37,9,37,10],[38,1,38,2],[38,3,38,4],[38,5,38,6],[38,7,38,8],[38,9,38,10],[35,1,35,2],[35,3,35,4],[35,5,35,6],[35,7,35,8],[35,9,35,10],[36,1,36,2],[36,3,36,4],[36,5,36,6],[36,7,36,8],[36,9,36,10],[33,1,33,2],[33,3,33,4],[33,5,33,6],[33,7,33,8],[33,9,33,10],[34,1,34,2],[34,3,34,4],[34,5,34,6],[34,7,34,8],[34,9,34,10],[31,1,31,2],[31,3,31,4],[31,5,31,6],[31,7,31,8],[31,9,31,10],[32,1,32,2],[32,3,32,4],[32,5,32,6],[32,7,32,8],[32,9,32,10],[29,1,29,2],[29,3,29,4],[29,5,29,6],[29,7,29,8],[29,9,29,10],[30,1,30,2],[30,3,30,4],[30,5,30,6],[30,7,30,8],[30,9,30,10],[27,1,27,2],[27,3,27,4],[27,5,27,6],[27,7,27,8],[27,9,27,10],[28,1,28,2],[28,3,28,4],[28,5,28,6],[28,7,28,8],[28,9,28,10],[25,1,25,2],[25,3,25,4],[25,5,25,6],[25,7,25,8],[25,9,25,10],[26,1,26,2],[26,3,26,4],[26,5,26,6],[26,7,26,8],[26,9,26,10],[23,1,23,2],[23,3,23,4],[23,5,23,6],[23,7,23,8],[23,9,23,10],[24,1,24,2],[24,3,24,4],[24,5,24,6],[24,7,24,8],[24,9,24,10],[21,1,21,2],[21,3,21,4],[21,5,21,6],[21,7,21,8],[21,9,21,10],[22,1,22,2],[22,3,22,4],[22,5,22,6],[22,7,22,8],[22,9,22,10],[19,1,19,2],[19,3,19,4],[19,5,19,6],[19,7,19,8],[19,9,19,10],[20,1,20,2],[20,3,20,4],[20,5,20,6],[20,7,20,8],[20,9,20,10],[17,1,17,2],[17,3,17,4],[17,5,17,6],[17,7,17,8],[17,9,17,10],[18,1,18,2],[18,3,18,4],[18,5,18,6],[18,7,18,8],[18,9,18,10],[15,1,15,2],[15,3,15,4],[15,5,15,6],[15,7,15,8],[15,9,15,10],[16,1,16,2],[16,3,16,4],[16,5,16,6],[16,7,16,8],[16,9,16,10],[13,1,13,2],[13,3,13,4],[13,5,13,6],[13,7,13,8],[13,9,13,10],[14,1,14,2],[14,3,14,4],[14,5,14,6],[14,7,14,8],[14,9,14,10],[11,1,11,2],[11,3,11,4],[11,5,11,6],[11,7,11,8],[11,9,11,10],[12,1,12,2],[12,3,12,4],[12,5,12,6],[12,7,12,8],[12,9,12,10],[9,1,9,2],[9,3,9,4],[9,5,9,6],[9,7,9,8],[9,9,9,10],[10,1,10,2],[10,3,10,4],[10,5,10,6],[10,7,10,8],[10,9,10,10],[7,1,7,2],[7,3,7,4],[7,5,7,6],[7,7,7,8],[7,9,7,10],[8,1,8,2],[8,3,8,4],[8,5,8,6],[8,7,8,8],[8,9,8,10],[5,3,5,4],[5,5,5,6],[5,7,5,8],[5,9,5,10],[6,1,6,2],[6,3,6,4],[6,5,6,6],[6,7,6,8],[6,9,6,10],[3,0,4,1],[3,3,3,4],[3,5,3,6],[3,7,3,8],[3,9,3,10],[4,3,4,4],[4,5,4,6],[4,7,4,8],[4,9,4,10]]}
["                                                                                                        Klasse/ Lerngruppe:","BSchüler"]
["Rückmeldebogen"]
[]
["Bitte schätze meinen Unterricht ein!",null,null,"stimme",null,"stimme   eher",null,"stimme eher zu",null,"stimme"]
[null,null,null,"nicht zu",null,"nicht zu",null,null,null,"zu"]
[]
[1,"Klassenführung"]
[2,"Der Unterricht hat pünktlich begonnen.",null,"\u0081",null,"\u0082",null,"\u0083",null,"x"]
[3,"Die Klassenregeln waren den Schüler/innen klar."]
[4,"Die Schüler/innen konnten ungestört arbeiten."]
[5,"Den Schüler/innen war im Laufe der Unterrichtsstunde jederzeit klar, was sie tun sollten.",null,null,null,null,null,null,null,null,null,null,null,null,null,null,null,null,null,null,null,null,null,null,null,null,"Klassenführung"]
[6,"Die gesamte Unterrichtsstunde wurde für den Lernstoff verwendet.",null,null,null,null,null,null,null,null,null,null,null,null,null,null,null,null,null,null,null,null,null,null,null,null,"Die Lehrkraft ist pünktlich. "]
[7,"Lernförderliches Klima und Motivierung",null,null,null,null,null,null,null,null,null,null,null,null,null,null,null,null,null,null,null,null,null,null,null,null,"Ich fühle mich gerecht behandelt. "]
[8,"Mit Schülerbeiträgen ist die Lehrperson wertschätzend umgegangen.",null,null,null,null,null,null,null,null,null,null,null,null,null,null,null,null,null,null,null,null,null,null,null,null,"Die Regeln werden eingehalten. "]
[9,"Die Lehrperson war freundlich zu den Schüler/innen.",null,null,null,null,null,null,null,null,null,null,null,null,null,null,null,null,null,null,null,null,null,null,null,null,"Lernförderliches Klima "]
[10,"Die Lehrperson hat die Schüler/innen ausreden lassen, wenn sie dran waren.",null,null,null,null,null,null,null,null,null,null,null,null,null,null,null,null,null,null,null,null,null,null,null,null,"Die Lehrkraft sagt mir, wie ich mich verbessern kann. "]
[11,"Wenn die Lehrperson eine Frage gestellt hat, hatten die Schüler/innen ausreichend Zeit zum Nachdenken.",null,null,null,null,null,null,null,null,null,null,null,null,null,null,null,null,null,null,null,null,null,null,null,null,"Ich habe keine Angst, etwas Falsches zu sagen. "]
[12,"Die Lehrperson hat auflockernde Bemerkung gemacht.",null,null,null,null,null,null,null,null,null,null,null,null,null,null,null,null,null,null,null,null,null,null,null,null,"Die Lehrkraft gibt mir genug Zeit zur Bearbeitung meiner Aufgaben. "]
[13,"Die Lehrperson hat die Schüler/innen für Beiträge zum Unterricht angemessen gelobt.",null,null,null,null,null,null,null,null,null,null,null,null,null,null,null,null,null,null,null,null,null,null,null,null,"Die Lehrkraft ist freundlich zu mir. "]
[14,"Klarheit und Strukturiertheit ",null,null,null,null,null,null,null,null,null,null,null,null,null,null,null,null,null,null,null,null,null,null,null,null,"Motivierung"]
[15,"Die Lehrperson har klar auf früher unterrichteten Stoff hingewiesen.",null,null,null,null,null,null,null,null,null,null,null,null,null,null,null,null,null,null,null,null,null,null,null,null,"Das Thema hat mich sofort neugierig gemacht. "]
[16,"Es gab anschauliche Beispiele.",null,null,null,null,null,null,null,null,null,null,null,null,null,null,null,null,null,null,null,null,null,null,null,null,"Das Thema ist mir schon in meinem Alltag begegnet. "]
[17,"Die wichtigsten Punkte wurden zusammengefasst.",null,null,null,null,null,null,null,null,null,null,null,null,null,null,null,null,null,null,null,null,null,null,null,null,"Ich verstehe, warum wir das Thema behandeln. "]
[18,"Die Lehrperson hat darauf geachtet, dass die Schüler/innen sich klar ausdrücken.",null,null,null,null,null,null,null,null,null,null,null,null,null,null,null,null,null,null,null,null,null,null,null,null,"Das Thema macht mir Spaß. "]
[19,"Den Schüler/innen war klar, was sie in dieser Stunde lernen sollten.",null,null,null,null,null,null,null,null,null,null,null,null,null,null,null,null,null,null,null,null,null,null,null,null,"Aktivierung"]
[20,"Aktivierung",null,null,null,null,null,null,null,null,null,null,null,null,null,null,null,null,null,null,null,null,null,null,null,null,"Im Unterricht wurden unterschiedliche Materialien verwendet. "]
[21,"Die Schüler/innen haben sich mit eigenen Beiträgen am Unterrichtsgespräche beteiligt.",null,null,null,null,null,null,null,null,null,null,null,null,null,null,null,null,null,null,null,null,null,null,null,null,"Ich hatte genügend Zeit, mich mit meinen Mitschülerinnen und Mitschülern auszutauschen. "]
[22,"Die Schüler/innen haben Aufgaben alleine bearbeitet.",null,null,null,null,null,null,null,null,null,null,null,null,null,null,null,null,null,null,null,null,null,null,null,null,"Klarheit und Strukturiertheit "]
[23,"Die Schüler/innen haben etwas vor anderen präsentiert.",null,null,null,null,null,null,null,null,null,null,null,null,null,null,null,null,null,null,null,null,null,null,null,null,"Ich konnte dem Unterrichtsstoff Schritt für Schritt folgen. "]
[24,"Die Schüler/innen haben ihre eigenen Arbeitsergebnisse selbst kontrolliert.",null,null,null,null,null,null,null,null,null,null,null,null,null,null,null,null,null,null,null,null,null,null,null,null,"Ich wusste im Unterricht genau, was ich tun sollte. "]
[25,"Die Schüler/innen waren die ganze Stunde über aktiv bei der Sache.",null,null,null,null,null,null,null,null,null,null,null,null,null,null,null,null,null,null,null,null,null,null,null,null,"Mir haben die Materialien beim Lösen der Aufgabenstellung geholfen. "]
[26,"Bilanz/ Ertrag",null,null,null,null,null,null,null,null,null,null,null,null,null,null,null,null,null,null,null,null,null,null,null,null,"Ertrag/ Bilanz "]
[27,"Die Schüler/innen haben etwas dazu gelernt.",null,null,null,null,null,null,null,null,null,null,null,null,null,null,null,null,null,null,null,null,null,null,null,null,"Ich kann anderen Schülerinnen und Schülern den Unterrichtsstoff erklären. "]
[28,"Die Unterrichtsstunde war für die Schüler/innen interessant.",null,null,null,null,null,"         \u0081",null,null,null,null,null,null,null,null,null,null,null,null,null,null,null,null,null,null,"Ich kann das Erlernte für mein späteres Berufsleben gebrauchen. "]
[29,"Die Schüler/innen haben sich in dieser Stunde wohl gefühlt.",null,null,null,null,null,"         \u0081",null,null,null,null,null,null,null,null,null,null,null,null,null,null,null,null,null,null,"Ich fand den Unterrichtsstoff: "]
[30,"Die Lehrperson hat sich in dieser Stunde an den Bildungsstandards dieses Faches orientiert.",null,null,null,null,null,"         \u0081"]
[31,"Im Hinblick auf die unterschiedlichen Lernvoraussetzungen der Schüler/innen war das Unterrichtsangebot angemessen.",null,null,null,null,null,"         \u0081"]
[32,"Zusatzbereich:",null,null,null,null,null,"         \u0081"]
[33,null,null,null,null,null,null,"         \u0081"]
[34,null,null,null,null,null,null,"         \u0081"]
[35,null,null,null,null,null,null,"         \u0081"]
[36,null,null,null,null,null,null,"         \u0081"]
[37,null,null,null,null,null,null,"         \u0081"]
[38,null,null,null,null,null,null,"         \u0081"]
[39,null,null,null,null,null,null,"         \u0081"]
[40,null,null,null,null,null,null,"         \u0081"]
[41,null,null,null,null,null,null,"         \u0081"]
[42,null,null,null,null,null,null,"         \u0081"]
[43,null,null,null,null,null,null,"         \u0081"]
[44,null,null,null,null,null,null,"         \u0081"]
[45,null,null,null,null,null,null,"         \u0081"]
[46,null,null,null,null,null,null,"         \u0081"]
[47,null,null,null,null,null,null,"         \u0081"]
[48,null,null,null,null,null,null,"         \u0081"]
[49,null,null,null,null,null,null,"         \u0081"]
[50,null,null,null,null,null,null,"         \u0081"]
[51,null,null,null,null,null,null,"         \u0081"]
[52,null,null,null,null,null,null,"         \u0081"]
[53,null,null,null,null,null,null,"         \u0081"]
[54,null,null,null,null,null,null,"         \u0081"]
[55,null,null,null,null,null,null,"         \u0081"]
[56,null,null,null,null,null,null,"         \u0081"]
[57,null,null,null,null,null,null,"         \u0081"]
[58,null,null,null,null,null,null,"         \u0081"]
[59,null,null,null,null,null,null,"         \u0081"]
[60,null,null,null,null,null,null,"         \u0081"]

{"sheet":"LehrerHIER","index":7,"n_rows":66,"n_cols":27,"rows_kept":66,"cut":false,"hidden":true,"merged":[[3,0,4,1],[3,3,3,4],[3,5,3,6],[3,7,3,8],[3,9,3,10],[4,3,4,4],[4,5,4,6],[4,7,4,8],[4,9,4,10],[5,3,5,4],[5,5,5,6],[5,7,5,8],[5,9,5,10],[6,1,6,2],[6,3,6,4],[6,5,6,6],[6,7,6,8],[6,9,6,10],[7,1,7,2],[7,3,7,4],[7,5,7,6],[7,7,7,8],[7,9,7,10],[8,1,8,2],[8,3,8,4],[8,5,8,6],[8,7,8,8],[8,9,8,10],[9,1,9,2],[9,3,9,4],[9,5,9,6],[9,7,9,8],[9,9,9,10],[10,1,10,2],[10,3,10,4],[10,5,10,6],[10,7,10,8],[10,9,10,10],[11,1,11,2],[11,3,11,4],[11,5,11,6],[11,7,11,8],[11,9,11,10],[12,1,12,2],[12,3,12,4],[12,5,12,6],[12,7,12,8],[12,9,12,10],[13,1,13,2],[13,3,13,4],[13,5,13,6],[13,7,13,8],[13,9,13,10],[14,1,14,2],[14,3,14,4],[14,5,14,6],[14,7,14,8],[14,9,14,10],[15,1,15,2],[15,3,15,4],[15,5,15,6],[15,7,15,8],[15,9,15,10],[16,1,16,2],[16,3,16,4],[16,5,16,6],[16,7,16,8],[16,9,16,10],[17,1,17,2],[17,3,17,4],[17,5,17,6],[17,7,17,8],[17,9,17,10],[18,1,18,2],[18,3,18,4],[18,5,18,6],[18,7,18,8],[18,9,18,10],[19,1,19,2],[19,3,19,4],[19,5,19,6],[19,7,19,8],[19,9,19,10],[20,1,20,2],[20,3,20,4],[20,5,20,6],[20,7,20,8],[20,9,20,10],[21,1,21,2],[21,3,21,4],[21,5,21,6],[21,7,21,8],[21,9,21,10],[22,1,22,2],[22,3,22,4],[22,5,22,6],[22,7,22,8],[22,9,22,10],[23,1,23,2],[23,3,23,4],[23,5,23,6],[23,7,23,8],[23,9,23,10],[24,1,24,2],[24,3,24,4],[24,5,24,6],[24,7,24,8],[24,9,24,10],[25,1,25,2],[25,3,25,4],[25,5,25,6],[25,7,25,8],[25,9,25,10],[26,1,26,2],[26,3,26,4],[26,5,26,6],[26,7,26,8],[26,9,26,10],[27,1,27,2],[27,3,27,4],[27,5,27,6],[27,7,27,8],[27,9,27,10],[28,1,28,2],[28,3,28,4],[28,5,28,6],[28,7,28,8],[28,9,28,10],[29,1,29,2],[29,3,29,4],[29,5,29,6],[29,7,29,8],[29,9,29,10],[30,1,30,2],[30,3,30,4],[30,5,30,6],[30,7,30,8],[30,9,30,10],[31,1,31,2],[31,3,31,4],[31,5,31,6],[31,7,31,8],[31,9,31,10],[32,1,32,2],[32,3,32,4],[32,5,32,6],[32,7,32,8],[32,9,32,10],[33,1,33,2],[33,3,33,4],[33,5,33,6],[33,7,33,8],[33,9,33,10],[34,1,34,2],[34,3,34,4],[34,5,34,6],[34,7,34,8],[34,9,34,10],[35,1,35,2],[35,3,35,4],[35,5,35,6],[35,7,35,8],[35,9,35,10],[36,1,36,2],[36,3,36,4],[36,5,36,6],[36,7,36,8],[36,9,36,10],[37,1,37,2],[37,3,37,4],[37,5,37,6],[37,7,37,8],[37,9,37,10],[38,1,38,2],[38,3,38,4],[38,5,38,6],[38,7,38,8],[38,9,38,10],[39,1,39,2],[39,3,39,4],[39,5,39,6],[39,7,39,8],[39,9,39,10],[40,1,40,2],[40,3,40,4],[40,5,40,6],[40,7,40,8],[40,9,40,10],[41,1,41,2],[41,3,41,4],[41,5,41,6],[41,7,41,8],[41,9,41,10],[42,1,42,2],[42,3,42,4],[42,5,42,6],[42,7,42,8],[42,9,42,10],[43,1,43,2],[43,3,43,4],[43,5,43,6],[43,7,43,8],[43,9,43,10],[44,1,44,2],[44,3,44,4],[44,5,44,6],[44,7,44,8],[44,9,44,10],[45,1,45,2],[45,3,45,4],[45,5,45,6],[45,7,45,8],[45,9,45,10],[46,1,46,2],[46,3,46,4],[46,5,46,6],[46,7,46,8],[46,9,46,10],[47,1,47,2],[47,3,47,4],[47,5,47,6],[47,7,47,8],[47,9,47,10],[48,1,48,2],[48,3,48,4],[48,5,48,6],[48,7,48,8],[48,9,48,10],[49,1,49,2],[49,3,49,4],[49,5,49,6],[49,7,49,8],[49,9,49,10],[50,1,50,2],[50,3,50,4],[50,5,50,6],[50,7,50,8],[50,9,50,10],[51,1,51,2],[51,3,51,4],[51,5,51,6],[51,7,51,8],[51,9,51,10],[52,1,52,2],[52,3,52,4],[52,5,52,6],[52,7,52,8],[52,9,52,10],[53,1,53,2],[53,3,53,4],[53,5,53,6],[53,7,53,8],[53,9,53,10],[54,1,54,2],[54,3,54,4],[54,5,54,6],[54,7,54,8],[54,9,54,10],[55,1,55,2],[55,3,55,4],[55,5,55,6],[55,7,55,8],[55,9,55,10],[56,1,56,2],[56,3,56,4],[56,5,56,6],[56,7,56,8],[56,9,56,10],[57,1,57,2],[57,3,57,4],[57,5,57,6],[57,7,57,8],[57,9,57,10],[58,1,58,2],[58,3,58,4],[58,5,58,6],[58,7,58,8],[58,9,58,10],[59,1,59,2],[59,3,59,4],[59,5,59,6],[59,7,59,8],[59,9,59,10],[60,1,60,2],[60,3,60,4],[60,5,60,6],[60,7,60,8],[60,9,60,10],[61,1,61,2],[61,3,61,4],[61,5,61,6],[61,7,61,8],[61,9,61,10],[62,1,62,2],[62,3,62,4],[62,5,62,6],[62,7,62,8],[62,9,62,10],[63,1,63,2],[63,3,63,4],[63,5,63,6],[63,7,63,8],[63,9,63,10],[64,1,64,2],[64,3,64,4],[64,5,64,6],[64,7,64,8],[64,9,64,10],[65,1,65,2],[65,3,65,4],[65,5,65,6],[65,7,65,8],[65,9,65,10],[66,1,66,2],[66,3,66,4],[66,5,66,6],[66,7,66,8],[66,9,66,10],[67,1,67,2],[67,3,67,4],[67,5,67,6],[67,7,67,8],[67,9,67,10],[68,1,68,2],[68,3,68,4],[68,5,68,6],[68,7,68,8],[68,9,68,10],[69,1,69,2],[69,3,69,4],[69,5,69,6],[69,7,69,8],[69,9,69,10],[70,1,70,2],[70,3,70,4],[70,5,70,6],[70,7,70,8],[70,9,70,10],[71,1,71,2],[71,3,71,4],[71,5,71,6],[71,7,71,8],[71,9,71,10],[72,1,72,2],[72,3,72,4],[72,5,72,6],[72,7,72,8],[72,9,72,10],[73,1,73,2],[73,3,73,4],[73,5,73,6],[73,7,73,8],[73,9,73,10],[74,1,74,2],[74,3,74,4],[74,5,74,6],[74,7,74,8],[74,9,74,10],[75,1,75,2],[75,3,75,4],[75,5,75,6],[75,7,75,8],[75,9,75,10],[76,1,76,2],[76,3,76,4],[76,5,76,6],[76,7,76,8],[76,9,76,10],[77,1,77,2],[77,3,77,4],[77,5,77,6],[77,7,77,8],[77,9,77,10],[78,1,78,2],[78,3,78,4],[78,5,78,6],[78,7,78,8],[78,9,78,10],[79,1,79,2],[79,3,79,4],[79,5,79,6],[79,7,79,8],[79,9,79,10],[80,1,80,2],[80,3,80,4],[80,5,80,6],[80,7,80,8],[80,9,80,10],[81,1,81,2],[81,3,81,4],[81,5,81,6],[81,7,81,8],[81,9,81,10],[82,1,82,2],[82,3,82,4],[82,5,82,6],[82,7,82,8],[82,9,82,10],[83,1,83,2],[83,3,83,4],[83,5,83,6],[83,7,83,8],[83,9,83,10],[84,1,84,2],[84,3,84,4],[84,5,84,6],[84,7,84,8],[84,9,84,10],[85,1,85,2],[85,3,85,4],[85,5,85,6],[85,7,85,8],[85,9,85,10],[86,1,86,2],[86,3,86,4],[86,5,86,6],[86,7,86,8],[86,9,86,10],[87,1,87,2],[87,3,87,4],[87,5,87,6],[87,7,87,8],[87,9,87,10],[88,1,88,2],[88,3,88,4],[88,5,88,6],[88,7,88,8],[88,9,88,10],[89,1,89,2],[89,3,89,4],[89,5,89,6],[89,7,89,8],[89,9,89,10],[90,1,90,2],[90,3,90,4],[90,5,90,6],[90,7,90,8],[90,9,90,10],[91,1,91,2],[91,3,91,4],[91,5,91,6],[91,7,91,8],[91,9,91,10],[92,1,92,2],[92,3,92,4],[92,5,92,6],[92,7,92,8],[92,9,92,10],[93,1,93,2],[93,3,93,4],[93,5,93,6],[93,7,93,8],[93,9,93,10],[94,1,94,2],[94,3,94,4],[94,5,94,6],[94,7,94,8],[94,9,94,10],[95,1,95,2],[95,3,95,4],[95,5,95,6],[95,7,95,8],[95,9,95,10],[96,1,96,2],[96,3,96,4],[96,5,96,6],[96,7,96,8],[96,9,96,10],[99,1,99,2],[99,3,99,4],[99,5,99,6],[99,7,99,8],[99,9,99,10],[97,1,97,2],[97,3,97,4],[97,5,97,6],[97,7,97,8],[97,9,97,10],[98,1,98,2],[98,3,98,4],[98,5,98,6],[98,7,98,8],[98,9,98,10]]}
["                                                                                                        Klasse/ Lerngruppe:","Lehrer"]
["Rückmeldebogen"]
[]
["Bitte schätze meinen Unterricht ein!",null,null,"stimme",null,"stimme   eher",null,"stimme eher zu",null,"stimme"]
[null,null,null,"nicht zu",null,"nicht zu",null,null,null,"zu"]
[]
[1,"Klassenführung"]
[2,"Der Unterricht hat pünktlich begonnen.",null,"\u0081",null,"\u0082",null,"\u0083",null,"x"]
[3,"Die Klassenregeln waren den Schüler/innen klar."]
[4,"Die Schüler/innen konnten ungestört arbeiten."]
[5,"Den Schüler/innen war im Laufe der Unterrichtsstunde jederzeit klar, was sie tun sollten.",null,null,null,null,null,null,null,null,null,null,null,null,null,null,null,null,null,null,null,null,null,null,null,null,"Klassenführung"]
[6,"Die gesamte Unterrichtsstunde wurde für den Lernstoff verwendet.",null,null,null,null,null,null,null,null,null,null,null,null,null,null,null,null,null,null,null,null,null,null,null,null,"Die Lehrkraft ist pünktlich. "]
[7,"Lernförderliches Klima und Motivierung",null,null,null,null,null,null,null,null,null,null,null,null,null,null,null,null,null,null,null,null,null,null,null,null,"Ich fühle mich gerecht behandelt. "]
[8,"Mit Schülerbeiträgen ist die Lehrperson wertschätzend umgegangen.",null,null,null,null,null,null,null,null,null,null,null,null,null,null,null,null,null,null,null,null,null,null,null,null,"Die Regeln werden eingehalten. "]
[9,"Die Lehrperson war freundlich zu den Schüler/innen.",null,null,null,null,null,null,null,null,null,null,null,null,null,null,null,null,null,null,null,null,null,null,null,null,"Lernförderliches Klima "]
[10,"Die Lehrperson hat die Schüler/innen ausreden lassen, wenn sie dran waren.",null,null,null,null,null,null,null,null,null,null,null,null,null,null,null,null,null,null,null,null,null,null,null,null,"Die Lehrkraft sagt mir, wie ich mich verbessern kann. "]
[11,"Wenn die Lehrperson eine Frage gestellt hat, hatten die Schüler/innen ausreichend Zeit zum Nachdenken.",null,null,null,null,null,null,null,null,null,null,null,null,null,null,null,null,null,null,null,null,null,null,null,null,"Ich habe keine Angst, etwas Falsches zu sagen. "]
[12,"Die Lehrperson hat auflockernde Bemerkung gemacht.",null,null,null,null,null,null,null,null,null,null,null,null,null,null,null,null,null,null,null,null,null,null,null,null,"Die Lehrkraft gibt mir genug Zeit zur Bearbeitung meiner Aufgaben. "]
[13,"Die Lehrperson hat die Schüler/innen für Beiträge zum Unterricht angemessen gelobt.",null,null,null,null,null,null,null,null,null,null,null,null,null,null,null,null,null,null,null,null,null,null,null,null,"Die Lehrkraft ist freundlich zu mir. "]
[14,"Klarheit und Strukturiertheit ",null,null,null,null,null,null,null,null,null,null,null,null,null,null,null,null,null,null,null,null,null,null,null,null,"Motivierung"]
[15,"Die Lehrperson har klar auf früher unterrichteten Stoff hingewiesen.",null,null,null,null,null,null,null,null,null,null,null,null,null,null,null,null,null,null,null,null,null,null,null,null,"Das Thema hat mich sofort neugierig gemacht. "]
[16,"Es gab anschauliche Beispiele.",null,null,null,null,null,null,null,null,null,null,null,null,null,null,null,null,null,null,null,null,null,null,null,null,"Das Thema ist mir schon in meinem Alltag begegnet. "]
[17,"Die wichtigsten Punkte wurden zusammengefasst.",null,null,null,null,null,null,null,null,null,null,null,null,null,null,null,null,null,null,null,null,null,null,null,null,"Ich verstehe, warum wir das Thema behandeln. "]
[18,"Die Lehrperson hat darauf geachtet, dass die Schüler/innen sich klar ausdrücken.",null,null,null,null,null,null,null,null,null,null,null,null,null,null,null,null,null,null,null,null,null,null,null,null,"Das Thema macht mir Spaß. "]
[19,"Den Schüler/innen war klar, was sie in dieser Stunde lernen sollten.",null,null,null,null,null,null,null,null,null,null,null,null,null,null,null,null,null,null,null,null,null,null,null,null,"Aktivierung"]
[20,"Aktivierung",null,null,null,null,null,null,null,null,null,null,null,null,null,null,null,null,null,null,null,null,null,null,null,null,"Im Unterricht wurden unterschiedliche Materialien verwendet. "]
[21,"Die Schüler/innen haben sich mit eigenen Beiträgen am Unterrichtsgespräche beteiligt.",null,null,null,null,null,null,null,null,null,null,null,null,null,null,null,null,null,null,null,null,null,null,null,null,"Ich hatte genügend Zeit, mich mit meinen Mitschülerinnen und Mitschülern auszutauschen. "]
[22,"Die Schüler/innen haben Aufgaben alleine bearbeitet.",null,null,null,null,null,null,null,null,null,null,null,null,null,null,null,null,null,null,null,null,null,null,null,null,"Klarheit und Strukturiertheit "]
[23,"Die Schüler/innen haben etwas vor anderen präsentiert.",null,null,null,null,null,null,null,null,null,null,null,null,null,null,null,null,null,null,null,null,null,null,null,null,"Ich konnte dem Unterrichtsstoff Schritt für Schritt folgen. "]
[24,"Die Schüler/innen haben ihre eigenen Arbeitsergebnisse selbst kontrolliert.",null,null,null,null,null,null,null,null,null,null,null,null,null,null,null,null,null,null,null,null,null,null,null,null,"Ich wusste im Unterricht genau, was ich tun sollte. "]
[25,"Die Schüler/innen waren die ganze Stunde über aktiv bei der Sache.",null,null,null,null,null,null,null,null,null,null,null,null,null,null,null,null,null,null,null,null,null,null,null,null,"Mir haben die Materialien beim Lösen der Aufgabenstellung geholfen. "]
[26,"Bilanz/ Ertrag",null,null,null,null,null,null,null,null,null,null,null,null,null,null,null,null,null,null,null,null,null,null,null,null,"Ertrag/ Bilanz "]
[27,"Die Schüler/innen haben etwas dazu gelernt.",null,null,null,null,null,null,null,null,null,null,null,null,null,null,null,null,null,null,null,null,null,null,null,null,"Ich kann anderen Schülerinnen und Schülern den Unterrichtsstoff erklären. "]
[28,"Die Unterrichtsstunde war für die Schüler/innen interessant.",null,null,null,null,null,"         \u0081",null,null,null,null,null,null,null,null,null,null,null,null,null,null,null,null,null,null,"Ich kann das Erlernte für mein späteres Berufsleben gebrauchen. "]
[29,"Die Schüler/innen haben sich in dieser Stunde wohl gefühlt.",null,null,null,null,null,"         \u0081",null,null,null,null,null,null,null,null,null,null,null,null,null,null,null,null,null,null,"Ich fand den Unterrichtsstoff: "]
[30,"Die Lehrperson hat sich in dieser Stunde an den Bildungsstandards dieses Faches orientiert.",null,null,null,null,null,"         \u0081"]
[31,"Im Hinblick auf die unterschiedlichen Lernvoraussetzungen der Schüler/innen war das Unterrichtsangebot angemessen.",null,null,null,null,null,"         \u0081"]
[32,"Zusatzbereich:",null,null,null,null,null,"         \u0081"]
[33,null,null,null,null,null,null,"         \u0081"]
[34,null,null,null,null,null,null,"         \u0081"]
[35,null,null,null,null,null,null,"         \u0081"]
[36,null,null,null,null,null,null,"         \u0081"]
[37,null,null,null,null,null,null,"         \u0081"]
[38,null,null,null,null,null,null,"         \u0081"]
[39,null,null,null,null,null,null,"         \u0081"]
[40,null,null,null,null,null,null,"         \u0081"]
[41,null,null,null,null,null,null,"         \u0081"]
[42,null,null,null,null,null,null,"         \u0081"]
[43,null,null,null,null,null,null,"         \u0081"]
[44,null,null,null,null,null,null,"         \u0081"]
[45,null,null,null,null,null,null,"         \u0081"]
[46,null,null,null,null,null,null,"         \u0081"]
[47,null,null,null,null,null,null,"         \u0081"]
[48,null,null,null,null,null,null,"         \u0081"]
[49,null,null,null,null,null,null,"         \u0081"]
[50,null,null,null,null,null,null,"         \u0081"]
[51,null,null,null,null,null,null,"         \u0081"]
[52,null,null,null,null,null,null,"         \u0081"]
[53,null,null,null,null,null,null,"         \u0081"]
[54,null,null,null,null,null,null,"         \u0081"]
[55,null,null,null,null,null,null,"         \u0081"]
[56,null,null,null,null,null,null,"         \u0081"]
[57,null,null,null,null,null,null,"         \u0081"]
[58,null,null,null,null,null,null,"         \u0081"]
[59,null,null,null,null,null,null,"         \u0081"]
[60,null,null,null,null,null,null,"         \u0081"]

{"sheet":"LehrerHIER (2)","index":8,"n_rows":66,"n_cols":27,"rows_kept":66,"cut":false,"hidden":true,"merged":[[99,1,99,2],[99,3,99,4],[99,5,99,6],[99,7,99,8],[99,9,99,10],[97,1,97,2],[97,3,97,4],[97,5,97,6],[97,7,97,8],[97,9,97,10],[98,1,98,2],[98,3,98,4],[98,5,98,6],[98,7,98,8],[98,9,98,10],[95,1,95,2],[95,3,95,4],[95,5,95,6],[95,7,95,8],[95,9,95,10],[96,1,96,2],[96,3,96,4],[96,5,96,6],[96,7,96,8],[96,9,96,10],[93,1,93,2],[93,3,93,4],[93,5,93,6],[93,7,93,8],[93,9,93,10],[94,1,94,2],[94,3,94,4],[94,5,94,6],[94,7,94,8],[94,9,94,10],[91,1,91,2],[91,3,91,4],[91,5,91,6],[91,7,91,8],[91,9,91,10],[92,1,92,2],[92,3,92,4],[92,5,92,6],[92,7,92,8],[92,9,92,10],[89,1,89,2],[89,3,89,4],[89,5,89,6],[89,7,89,8],[89,9,89,10],[90,1,90,2],[90,3,90,4],[90,5,90,6],[90,7,90,8],[90,9,90,10],[87,1,87,2],[87,3,87,4],[87,5,87,6],[87,7,87,8],[87,9,87,10],[88,1,88,2],[88,3,88,4],[88,5,88,6],[88,7,88,8],[88,9,88,10],[85,1,85,2],[85,3,85,4],[85,5,85,6],[85,7,85,8],[85,9,85,10],[86,1,86,2],[86,3,86,4],[86,5,86,6],[86,7,86,8],[86,9,86,10],[83,1,83,2],[83,3,83,4],[83,5,83,6],[83,7,83,8],[83,9,83,10],[84,1,84,2],[84,3,84,4],[84,5,84,6],[84,7,84,8],[84,9,84,10],[81,1,81,2],[81,3,81,4],[81,5,81,6],[81,7,81,8],[81,9,81,10],[82,1,82,2],[82,3,82,4],[82,5,82,6],[82,7,82,8],[82,9,82,10],[79,1,79,2],[79,3,79,4],[79,5,79,6],[79,7,79,8],[79,9,79,10],[80,1,80,2],[80,3,80,4],[80,5,80,6],[80,7,80,8],[80,9,80,10],[77,1,77,2],[77,3,77,4],[77,5,77,6],[77,7,77,8],[77,9,77,10],[78,1,78,2],[78,3,78,4],[78,5,78,6],[78,7,78,8],[78,9,78,10],[75,1,75,2],[75,3,75,4],[75,5,75,6],[75,7,75,8],[75,9,75,10],[76,1,76,2],[76,3,76,4],[76,5,76,6],[76,7,76,8],[76,9,76,10],[73,1,73,2],[73,3,73,4],[73,5,73,6],[73,7,73,8],[73,9,73,10],[74,1,74,2],[74,3,74,4],[74,5,74,6],[74,7,74,8],[74,9,74,10],[71,1,71,2],[71,3,71,4],[71,5,71,6],[71,7,71,8],[71,9,71,10],[72,1,72,2],[72,3,72,4],[72,5,72,6],[72,7,72,8],[72,9,72,10],[69,1,69,2],[69,3,69,4],[69,5,69,6],[69,7,69,8],[69,9,69,10],[70,1,70,2],[70,3,70,4],[70,5,70,6],[70,7,70,8],[70,9,70,10],[67,1,67,2],[67,3,67,4],[67,5,67,6],[67,7,67,8],[67,9,67,10],[68,1,68,2],[68,3,68,4],[68,5,68,6],[68,7,68,8],[68,9,68,10],[65,1,65,2],[65,3,65,4],[65,5,65,6],[65,7,65,8],[65,9,65,10],[66,1,66,2],[66,3,66,4],[66,5,66,6],[66,7,66,8],[66,9,66,10],[63,1,63,2],[63,3,63,4],[63,5,63,6],[63,7,63,8],[63,9,63,10],[64,1,64,2],[64,3,64,4],[64,5,64,6],[64,7,64,8],[64,9,64,10],[61,1,61,2],[61,3,61,4],[61,5,61,6],[61,7,61,8],[61,9,61,10],[62,1,62,2],[62,3,62,4],[62,5,62,6],[62,7,62,8],[62,9,62,10],[59,1,59,2],[59,3,59,4],[59,5,59,6],[59,7,59,8],[59,9,59,10],[60,1,60,2],[60,3,60,4],[60,5,60,6],[60,7,60,8],[60,9,60,10],[57,1,57,2],[57,3,57,4],[57,5,57,6],[57,7,57,8],[57,9,57,10],[58,1,58,2],[58,3,58,4],[58,5,58,6],[58,7,58,8],[58,9,58,10],[55,1,55,2],[55,3,55,4],[55,5,55,6],[55,7,55,8],[55,9,55,10],[56,1,56,2],[56,3,56,4],[56,5,56,6],[56,7,56,8],[56,9,56,10],[53,1,53,2],[53,3,53,4],[53,5,53,6],[53,7,53,8],[53,9,53,10],[54,1,54,2],[54,3,54,4],[54,5,54,6],[54,7,54,8],[54,9,54,10],[51,1,51,2],[51,3,51,4],[51,5,51,6],[51,7,51,8],[51,9,51,10],[52,1,52,2],[52,3,52,4],[52,5,52,6],[52,7,52,8],[52,9,52,10],[49,1,49,2],[49,3,49,4],[49,5,49,6],[49,7,49,8],[49,9,49,10],[50,1,50,2],[50,3,50,4],[50,5,50,6],[50,7,50,8],[50,9,50,10],[47,1,47,2],[47,3,47,4],[47,5,47,6],[47,7,47,8],[47,9,47,10],[48,1,48,2],[48,3,48,4],[48,5,48,6],[48,7,48,8],[48,9,48,10],[45,1,45,2],[45,3,45,4],[45,5,45,6],[45,7,45,8],[45,9,45,10],[46,1,46,2],[46,3,46,4],[46,5,46,6],[46,7,46,8],[46,9,46,10],[43,1,43,2],[43,3,43,4],[43,5,43,6],[43,7,43,8],[43,9,43,10],[44,1,44,2],[44,3,44,4],[44,5,44,6],[44,7,44,8],[44,9,44,10],[41,1,41,2],[41,3,41,4],[41,5,41,6],[41,7,41,8],[41,9,41,10],[42,1,42,2],[42,3,42,4],[42,5,42,6],[42,7,42,8],[42,9,42,10],[39,1,39,2],[39,3,39,4],[39,5,39,6],[39,7,39,8],[39,9,39,10],[40,1,40,2],[40,3,40,4],[40,5,40,6],[40,7,40,8],[40,9,40,10],[37,1,37,2],[37,3,37,4],[37,5,37,6],[37,7,37,8],[37,9,37,10],[38,1,38,2],[38,3,38,4],[38,5,38,6],[38,7,38,8],[38,9,38,10],[35,1,35,2],[35,3,35,4],[35,5,35,6],[35,7,35,8],[35,9,35,10],[36,1,36,2],[36,3,36,4],[36,5,36,6],[36,7,36,8],[36,9,36,10],[33,1,33,2],[33,3,33,4],[33,5,33,6],[33,7,33,8],[33,9,33,10],[34,1,34,2],[34,3,34,4],[34,5,34,6],[34,7,34,8],[34,9,34,10],[31,1,31,2],[31,3,31,4],[31,5,31,6],[31,7,31,8],[31,9,31,10],[32,1,32,2],[32,3,32,4],[32,5,32,6],[32,7,32,8],[32,9,32,10],[29,1,29,2],[29,3,29,4],[29,5,29,6],[29,7,29,8],[29,9,29,10],[30,1,30,2],[30,3,30,4],[30,5,30,6],[30,7,30,8],[30,9,30,10],[27,1,27,2],[27,3,27,4],[27,5,27,6],[27,7,27,8],[27,9,27,10],[28,1,28,2],[28,3,28,4],[28,5,28,6],[28,7,28,8],[28,9,28,10],[25,1,25,2],[25,3,25,4],[25,5,25,6],[25,7,25,8],[25,9,25,10],[26,1,26,2],[26,3,26,4],[26,5,26,6],[26,7,26,8],[26,9,26,10],[23,1,23,2],[23,3,23,4],[23,5,23,6],[23,7,23,8],[23,9,23,10],[24,1,24,2],[24,3,24,4],[24,5,24,6],[24,7,24,8],[24,9,24,10],[21,1,21,2],[21,3,21,4],[21,5,21,6],[21,7,21,8],[21,9,21,10],[22,1,22,2],[22,3,22,4],[22,5,22,6],[22,7,22,8],[22,9,22,10],[19,1,19,2],[19,3,19,4],[19,5,19,6],[19,7,19,8],[19,9,19,10],[20,1,20,2],[20,3,20,4],[20,5,20,6],[20,7,20,8],[20,9,20,10],[17,1,17,2],[17,3,17,4],[17,5,17,6],[17,7,17,8],[17,9,17,10],[18,1,18,2],[18,3,18,4],[18,5,18,6],[18,7,18,8],[18,9,18,10],[15,1,15,2],[15,3,15,4],[15,5,15,6],[15,7,15,8],[15,9,15,10],[16,1,16,2],[16,3,16,4],[16,5,16,6],[16,7,16,8],[16,9,16,10],[13,1,13,2],[13,3,13,4],[13,5,13,6],[13,7,13,8],[13,9,13,10],[14,1,14,2],[14,3,14,4],[14,5,14,6],[14,7,14,8],[14,9,14,10],[11,1,11,2],[11,3,11,4],[11,5,11,6],[11,7,11,8],[11,9,11,10],[12,1,12,2],[12,3,12,4],[12,5,12,6],[12,7,12,8],[12,9,12,10],[9,1,9,2],[9,3,9,4],[9,5,9,6],[9,7,9,8],[9,9,9,10],[10,1,10,2],[10,3,10,4],[10,5,10,6],[10,7,10,8],[10,9,10,10],[7,1,7,2],[7,3,7,4],[7,5,7,6],[7,7,7,8],[7,9,7,10],[8,1,8,2],[8,3,8,4],[8,5,8,6],[8,7,8,8],[8,9,8,10],[5,3,5,4],[5,5,5,6],[5,7,5,8],[5,9,5,10],[6,1,6,2],[6,3,6,4],[6,5,6,6],[6,7,6,8],[6,9,6,10],[3,0,4,1],[3,3,3,4],[3,5,3,6],[3,7,3,8],[3,9,3,10],[4,3,4,4],[4,5,4,6],[4,7,4,8],[4,9,4,10]]}
["                                                                                                        Klasse/ Lerngruppe:","Lehrer"]
["Rückmeldebogen"]
[]
["Bitte schätze meinen Unterricht ein!",null,null,"stimme",null,"stimme   eher",null,"stimme eher zu",null,"stimme"]
[null,null,null,"nicht zu",null,"nicht zu",null,null,null,"zu"]
[]
[1,"Klassenführung"]
[2,"Der Unterricht hat pünktlich begonnen.",null,"\u0081",null,"\u0082",null,"\u0083",null,"x"]
[3,"Die Klassenregeln waren den Schüler/innen klar."]
[4,"Die Schüler/innen konnten ungestört arbeiten."]
[5,"Den Schüler/innen war im Laufe der Unterrichtsstunde jederzeit klar, was sie tun sollten.",null,null,null,null,null,null,null,null,null,null,null,null,null,null,null,null,null,null,null,null,null,null,null,null,"Klassenführung"]
[6,"Die gesamte Unterrichtsstunde wurde für den Lernstoff verwendet.",null,null,null,null,null,null,null,null,null,null,null,null,null,null,null,null,null,null,null,null,null,null,null,null,"Die Lehrkraft ist pünktlich. "]
[7,"Lernförderliches Klima und Motivierung",null,null,null,null,null,null,null,null,null,null,null,null,null,null,null,null,null,null,null,null,null,null,null,null,"Ich fühle mich gerecht behandelt. "]
[8,"Mit Schülerbeiträgen ist die Lehrperson wertschätzend umgegangen.",null,null,null,null,null,null,null,null,null,null,null,null,null,null,null,null,null,null,null,null,null,null,null,null,"Die Regeln werden eingehalten. "]
[9,"Die Lehrperson war freundlich zu den Schüler/innen.",null,null,null,null,null,null,null,null,null,null,null,null,null,null,null,null,null,null,null,null,null,null,null,null,"Lernförderliches Klima "]
[10,"Die Lehrperson hat die Schüler/innen ausreden lassen, wenn sie dran waren.",null,null,null,null,null,null,null,null,null,null,null,null,null,null,null,null,null,null,null,null,null,null,null,null,"Die Lehrkraft sagt mir, wie ich mich verbessern kann. "]
[11,"Wenn die Lehrperson eine Frage gestellt hat, hatten die Schüler/innen ausreichend Zeit zum Nachdenken.",null,null,null,null,null,null,null,null,null,null,null,null,null,null,null,null,null,null,null,null,null,null,null,null,"Ich habe keine Angst, etwas Falsches zu sagen. "]
[12,"Die Lehrperson hat auflockernde Bemerkung gemacht.",null,null,null,null,null,null,null,null,null,null,null,null,null,null,null,null,null,null,null,null,null,null,null,null,"Die Lehrkraft gibt mir genug Zeit zur Bearbeitung meiner Aufgaben. "]
[13,"Die Lehrperson hat die Schüler/innen für Beiträge zum Unterricht angemessen gelobt.",null,null,null,null,null,null,null,null,null,null,null,null,null,null,null,null,null,null,null,null,null,null,null,null,"Die Lehrkraft ist freundlich zu mir. "]
[14,"Klarheit und Strukturiertheit ",null,null,null,null,null,null,null,null,null,null,null,null,null,null,null,null,null,null,null,null,null,null,null,null,"Motivierung"]
[15,"Die Lehrperson har klar auf früher unterrichteten Stoff hingewiesen.",null,null,null,null,null,null,null,null,null,null,null,null,null,null,null,null,null,null,null,null,null,null,null,null,"Das Thema hat mich sofort neugierig gemacht. "]
[16,"Es gab anschauliche Beispiele.",null,null,null,null,null,null,null,null,null,null,null,null,null,null,null,null,null,null,null,null,null,null,null,null,"Das Thema ist mir schon in meinem Alltag begegnet. "]
[17,"Die wichtigsten Punkte wurden zusammengefasst.",null,null,null,null,null,null,null,null,null,null,null,null,null,null,null,null,null,null,null,null,null,null,null,null,"Ich verstehe, warum wir das Thema behandeln. "]
[18,"Die Lehrperson hat darauf geachtet, dass die Schüler/innen sich klar ausdrücken.",null,null,null,null,null,null,null,null,null,null,null,null,null,null,null,null,null,null,null,null,null,null,null,null,"Das Thema macht mir Spaß. "]
[19,"Den Schüler/innen war klar, was sie in dieser Stunde lernen sollten.",null,null,null,null,null,null,null,null,null,null,null,null,null,null,null,null,null,null,null,null,null,null,null,null,"Aktivierung"]
[20,"Aktivierung",null,null,null,null,null,null,null,null,null,null,null,null,null,null,null,null,null,null,null,null,null,null,null,null,"Im Unterricht wurden unterschiedliche Materialien verwendet. "]
[21,"Die Schüler/innen haben sich mit eigenen Beiträgen am Unterrichtsgespräche beteiligt.",null,null,null,null,null,null,null,null,null,null,null,null,null,null,null,null,null,null,null,null,null,null,null,null,"Ich hatte genügend Zeit, mich mit meinen Mitschülerinnen und Mitschülern auszutauschen. "]
[22,"Die Schüler/innen haben Aufgaben alleine bearbeitet.",null,null,null,null,null,null,null,null,null,null,null,null,null,null,null,null,null,null,null,null,null,null,null,null,"Klarheit und Strukturiertheit "]
[23,"Die Schüler/innen haben etwas vor anderen präsentiert.",null,null,null,null,null,null,null,null,null,null,null,null,null,null,null,null,null,null,null,null,null,null,null,null,"Ich konnte dem Unterrichtsstoff Schritt für Schritt folgen. "]
[24,"Die Schüler/innen haben ihre eigenen Arbeitsergebnisse selbst kontrolliert.",null,null,null,null,null,null,null,null,null,null,null,null,null,null,null,null,null,null,null,null,null,null,null,null,"Ich wusste im Unterricht genau, was ich tun sollte. "]
[25,"Die Schüler/innen waren die ganze Stunde über aktiv bei der Sache.",null,null,null,null,null,null,null,null,null,null,null,null,null,null,null,null,null,null,null,null,null,null,null,null,"Mir haben die Materialien beim Lösen der Aufgabenstellung geholfen. "]
[26,"Bilanz/ Ertrag",null,null,null,null,null,null,null,null,null,null,null,null,null,null,null,null,null,null,null,null,null,null,null,null,"Ertrag/ Bilanz "]
[27,"Die Schüler/innen haben etwas dazu gelernt.",null,null,null,null,null,null,null,null,null,null,null,null,null,null,null,null,null,null,null,null,null,null,null,null,"Ich kann anderen Schülerinnen und Schülern den Unterrichtsstoff erklären. "]
[28,"Die Unterrichtsstunde war für die Schüler/innen interessant.",null,null,null,null,null,"         \u0081",null,null,null,null,null,null,null,null,null,null,null,null,null,null,null,null,null,null,"Ich kann das Erlernte für mein späteres Berufsleben gebrauchen. "]
[29,"Die Schüler/innen haben sich in dieser Stunde wohl gefühlt.",null,null,null,null,null,"         \u0081",null,null,null,null,null,null,null,null,null,null,null,null,null,null,null,null,null,null,"Ich fand den Unterrichtsstoff: "]
[30,"Die Lehrperson hat sich in dieser Stunde an den Bildungsstandards dieses Faches orientiert.",null,null,null,null,null,"         \u0081"]
[31,"Im Hinblick auf die unterschiedlichen Lernvoraussetzungen der Schüler/innen war das Unterrichtsangebot angemessen.",null,null,null,null,null,"         \u0081"]
[32,"Zusatzbereich:",null,null,null,null,null,"         \u0081"]
[33,null,null,null,null,null,null,"         \u0081"]
[34,null,null,null,null,null,null,"         \u0081"]
[35,null,null,null,null,null,null,"         \u0081"]
[36,null,null,null,null,null,null,"         \u0081"]
[37,null,null,null,null,null,null,"         \u0081"]
[38,null,null,null,null,null,null,"         \u0081"]
[39,null,null,null,null,null,null,"         \u0081"]
[40,null,null,null,null,null,null,"         \u0081"]
[41,null,null,null,null,null,null,"         \u0081"]
[42,null,null,null,null,null,null,"         \u0081"]
[43,null,null,null,null,null,null,"         \u0081"]
[44,null,null,null,null,null,null,"         \u0081"]
[45,null,null,null,null,null,null,"         \u0081"]
[46,null,null,null,null,null,null,"         \u0081"]
[47,null,null,null,null,null,null,"         \u0081"]
[48,null,null,null,null,null,null,"         \u0081"]
[49,null,null,null,null,null,null,"         \u0081"]
[50,null,null,null,null,null,null,"         \u0081"]
[51,null,null,null,null,null,null,"         \u0081"]
[52,null,null,null,null,null,null,"         \u0081"]
[53,null,null,null,null,null,null,"         \u0081"]
[54,null,null,null,null,null,null,"         \u0081"]
[55,null,null,null,null,null,null,"         \u0081"]
[56,null,null,null,null,null,null,"         \u0081"]
[57,null,null,null,null,null,null,"         \u0081"]
[58,null,null,null,null,null,null,"         \u0081"]
[59,null,null,null,null,null,null,"         \u0081"]
[60,null,null,null,null,null,null,"         \u0081"]

{"sheet":"SchülerHIER","index":9,"n_rows":66,"n_cols":27,"rows_kept":66,"cut":false,"hidden":true,"merged":[[3,0,4,1],[3,3,3,4],[3,5,3,6],[3,7,3,8],[3,9,3,10],[4,3,4,4],[4,5,4,6],[4,7,4,8],[4,9,4,10],[5,3,5,4],[5,5,5,6],[5,7,5,8],[5,9,5,10],[6,1,6,2],[6,3,6,4],[6,5,6,6],[6,7,6,8],[6,9,6,10],[7,1,7,2],[7,3,7,4],[7,5,7,6],[7,7,7,8],[7,9,7,10],[8,1,8,2],[8,3,8,4],[8,5,8,6],[8,7,8,8],[8,9,8,10],[9,1,9,2],[9,3,9,4],[9,5,9,6],[9,7,9,8],[9,9,9,10],[10,1,10,2],[10,3,10,4],[10,5,10,6],[10,7,10,8],[10,9,10,10],[11,1,11,2],[11,3,11,4],[11,5,11,6],[11,7,11,8],[11,9,11,10],[12,1,12,2],[12,3,12,4],[12,5,12,6],[12,7,12,8],[12,9,12,10],[13,1,13,2],[13,3,13,4],[13,5,13,6],[13,7,13,8],[13,9,13,10],[14,1,14,2],[14,3,14,4],[14,5,14,6],[14,7,14,8],[14,9,14,10],[15,1,15,2],[15,3,15,4],[15,5,15,6],[15,7,15,8],[15,9,15,10],[16,1,16,2],[16,3,16,4],[16,5,16,6],[16,7,16,8],[16,9,16,10],[17,1,17,2],[17,3,17,4],[17,5,17,6],[17,7,17,8],[17,9,17,10],[18,1,18,2],[18,3,18,4],[18,5,18,6],[18,7,18,8],[18,9,18,10],[19,1,19,2],[19,3,19,4],[19,5,19,6],[19,7,19,8],[19,9,19,10],[20,1,20,2],[20,3,20,4],[20,5,20,6],[20,7,20,8],[20,9,20,10],[21,1,21,2],[21,3,21,4],[21,5,21,6],[21,7,21,8],[21,9,21,10],[22,1,22,2],[22,3,22,4],[22,5,22,6],[22,7,22,8],[22,9,22,10],[23,1,23,2],[23,3,23,4],[23,5,23,6],[23,7,23,8],[23,9,23,10],[24,1,24,2],[24,3,24,4],[24,5,24,6],[24,7,24,8],[24,9,24,10],[25,1,25,2],[25,3,25,4],[25,5,25,6],[25,7,25,8],[25,9,25,10],[26,1,26,2],[26,3,26,4],[26,5,26,6],[26,7,26,8],[26,9,26,10],[27,1,27,2],[27,3,27,4],[27,5,27,6],[27,7,27,8],[27,9,27,10],[28,1,28,2],[28,3,28,4],[28,5,28,6],[28,7,28,8],[28,9,28,10],[29,1,29,2],[29,3,29,4],[29,5,29,6],[29,7,29,8],[29,9,29,10],[30,1,30,2],[30,3,30,4],[30,5,30,6],[30,7,30,8],[30,9,30,10],[31,1,31,2],[31,3,31,4],[31,5,31,6],[31,7,31,8],[31,9,31,10],[32,1,32,2],[32,3,32,4],[32,5,32,6],[32,7,32,8],[32,9,32,10],[33,1,33,2],[33,3,33,4],[33,5,33,6],[33,7,33,8],[33,9,33,10],[34,1,34,2],[34,3,34,4],[34,5,34,6],[34,7,34,8],[34,9,34,10],[35,1,35,2],[35,3,35,4],[35,5,35,6],[35,7,35,8],[35,9,35,10],[36,1,36,2],[36,3,36,4],[36,5,36,6],[36,7,36,8],[36,9,36,10],[37,1,37,2],[37,3,37,4],[37,5,37,6],[37,7,37,8],[37,9,37,10],[38,1,38,2],[38,3,38,4],[38,5,38,6],[38,7,38,8],[38,9,38,10],[39,1,39,2],[39,3,39,4],[39,5,39,6],[39,7,39,8],[39,9,39,10],[40,1,40,2],[40,3,40,4],[40,5,40,6],[40,7,40,8],[40,9,40,10],[41,1,41,2],[41,3,41,4],[41,5,41,6],[41,7,41,8],[41,9,41,10],[42,1,42,2],[42,3,42,4],[42,5,42,6],[42,7,42,8],[42,9,42,10],[43,1,43,2],[43,3,43,4],[43,5,43,6],[43,7,43,8],[43,9,43,10],[44,1,44,2],[44,3,44,4],[44,5,44,6],[44,7,44,8],[44,9,44,10],[45,1,45,2],[45,3,45,4],[45,5,45,6],[45,7,45,8],[45,9,45,10],[46,1,46,2],[46,3,46,4],[46,5,46,6],[46,7,46,8],[46,9,46,10],[47,1,47,2],[47,3,47,4],[47,5,47,6],[47,7,47,8],[47,9,47,10],[48,1,48,2],[48,3,48,4],[48,5,48,6],[48,7,48,8],[48,9,48,10],[49,1,49,2],[49,3,49,4],[49,5,49,6],[49,7,49,8],[49,9,49,10],[50,1,50,2],[50,3,50,4],[50,5,50,6],[50,7,50,8],[50,9,50,10],[51,1,51,2],[51,3,51,4],[51,5,51,6],[51,7,51,8],[51,9,51,10],[52,1,52,2],[52,3,52,4],[52,5,52,6],[52,7,52,8],[52,9,52,10],[53,1,53,2],[53,3,53,4],[53,5,53,6],[53,7,53,8],[53,9,53,10],[54,1,54,2],[54,3,54,4],[54,5,54,6],[54,7,54,8],[54,9,54,10],[55,1,55,2],[55,3,55,4],[55,5,55,6],[55,7,55,8],[55,9,55,10],[56,1,56,2],[56,3,56,4],[56,5,56,6],[56,7,56,8],[56,9,56,10],[57,1,57,2],[57,3,57,4],[57,5,57,6],[57,7,57,8],[57,9,57,10],[58,1,58,2],[58,3,58,4],[58,5,58,6],[58,7,58,8],[58,9,58,10],[59,1,59,2],[59,3,59,4],[59,5,59,6],[59,7,59,8],[59,9,59,10],[60,1,60,2],[60,3,60,4],[60,5,60,6],[60,7,60,8],[60,9,60,10],[61,1,61,2],[61,3,61,4],[61,5,61,6],[61,7,61,8],[61,9,61,10],[62,1,62,2],[62,3,62,4],[62,5,62,6],[62,7,62,8],[62,9,62,10],[63,1,63,2],[63,3,63,4],[63,5,63,6],[63,7,63,8],[63,9,63,10],[64,1,64,2],[64,3,64,4],[64,5,64,6],[64,7,64,8],[64,9,64,10],[65,1,65,2],[65,3,65,4],[65,5,65,6],[65,7,65,8],[65,9,65,10],[66,1,66,2],[66,3,66,4],[66,5,66,6],[66,7,66,8],[66,9,66,10],[67,1,67,2],[67,3,67,4],[67,5,67,6],[67,7,67,8],[67,9,67,10],[68,1,68,2],[68,3,68,4],[68,5,68,6],[68,7,68,8],[68,9,68,10],[69,1,69,2],[69,3,69,4],[69,5,69,6],[69,7,69,8],[69,9,69,10],[70,1,70,2],[70,3,70,4],[70,5,70,6],[70,7,70,8],[70,9,70,10],[71,1,71,2],[71,3,71,4],[71,5,71,6],[71,7,71,8],[71,9,71,10],[72,1,72,2],[72,3,72,4],[72,5,72,6],[72,7,72,8],[72,9,72,10],[73,1,73,2],[73,3,73,4],[73,5,73,6],[73,7,73,8],[73,9,73,10],[74,1,74,2],[74,3,74,4],[74,5,74,6],[74,7,74,8],[74,9,74,10],[75,1,75,2],[75,3,75,4],[75,5,75,6],[75,7,75,8],[75,9,75,10],[76,1,76,2],[76,3,76,4],[76,5,76,6],[76,7,76,8],[76,9,76,10],[77,1,77,2],[77,3,77,4],[77,5,77,6],[77,7,77,8],[77,9,77,10],[78,1,78,2],[78,3,78,4],[78,5,78,6],[78,7,78,8],[78,9,78,10],[79,1,79,2],[79,3,79,4],[79,5,79,6],[79,7,79,8],[79,9,79,10],[80,1,80,2],[80,3,80,4],[80,5,80,6],[80,7,80,8],[80,9,80,10],[81,1,81,2],[81,3,81,4],[81,5,81,6],[81,7,81,8],[81,9,81,10],[82,1,82,2],[82,3,82,4],[82,5,82,6],[82,7,82,8],[82,9,82,10],[83,1,83,2],[83,3,83,4],[83,5,83,6],[83,7,83,8],[83,9,83,10],[84,1,84,2],[84,3,84,4],[84,5,84,6],[84,7,84,8],[84,9,84,10],[85,1,85,2],[85,3,85,4],[85,5,85,6],[85,7,85,8],[85,9,85,10],[86,1,86,2],[86,3,86,4],[86,5,86,6],[86,7,86,8],[86,9,86,10],[87,1,87,2],[87,3,87,4],[87,5,87,6],[87,7,87,8],[87,9,87,10],[88,1,88,2],[88,3,88,4],[88,5,88,6],[88,7,88,8],[88,9,88,10],[89,1,89,2],[89,3,89,4],[89,5,89,6],[89,7,89,8],[89,9,89,10],[90,1,90,2],[90,3,90,4],[90,5,90,6],[90,7,90,8],[90,9,90,10],[91,1,91,2],[91,3,91,4],[91,5,91,6],[91,7,91,8],[91,9,91,10],[92,1,92,2],[92,3,92,4],[92,5,92,6],[92,7,92,8],[92,9,92,10],[93,1,93,2],[93,3,93,4],[93,5,93,6],[93,7,93,8],[93,9,93,10],[94,1,94,2],[94,3,94,4],[94,5,94,6],[94,7,94,8],[94,9,94,10],[95,1,95,2],[95,3,95,4],[95,5,95,6],[95,7,95,8],[95,9,95,10],[96,1,96,2],[96,3,96,4],[96,5,96,6],[96,7,96,8],[96,9,96,10],[99,1,99,2],[99,3,99,4],[99,5,99,6],[99,7,99,8],[99,9,99,10],[97,1,97,2],[97,3,97,4],[97,5,97,6],[97,7,97,8],[97,9,97,10],[98,1,98,2],[98,3,98,4],[98,5,98,6],[98,7,98,8],[98,9,98,10]]}
["                                                                                                        Klasse/ Lerngruppe:","Schüler"]
["Rückmeldebogen"]
[]
["Bitte schätze meinen Unterricht ein!",null,null,"stimme",null,"stimme   eher",null,"stimme eher zu",null,"stimme"]
[null,null,null,"nicht zu",null,"nicht zu",null,null,null,"zu"]
[]
[1,"Klassenführung"]
[2,"Der Unterricht hat pünktlich begonnen.",null,"\u0081",null,"\u0082",null,"\u0083",null,"x"]
[3,"Die Klassenregeln waren den Schüler/innen klar."]
[4,"Die Schüler/innen konnten ungestört arbeiten."]
[5,"Den Schüler/innen war im Laufe der Unterrichtsstunde jederzeit klar, was sie tun sollten.",null,null,null,null,null,null,null,null,null,null,null,null,null,null,null,null,null,null,null,null,null,null,null,null,"Klassenführung"]
[6,"Die gesamte Unterrichtsstunde wurde für den Lernstoff verwendet.",null,null,null,null,null,null,null,null,null,null,null,null,null,null,null,null,null,null,null,null,null,null,null,null,"Die Lehrkraft ist pünktlich. "]
[7,"Lernförderliches Klima und Motivierung",null,null,null,null,null,null,null,null,null,null,null,null,null,null,null,null,null,null,null,null,null,null,null,null,"Ich fühle mich gerecht behandelt. "]
[8,"Mit Schülerbeiträgen ist die Lehrperson wertschätzend umgegangen.",null,null,null,null,null,null,null,null,null,null,null,null,null,null,null,null,null,null,null,null,null,null,null,null,"Die Regeln werden eingehalten. "]
[9,"Die Lehrperson war freundlich zu den Schüler/innen.",null,null,null,null,null,null,null,null,null,null,null,null,null,null,null,null,null,null,null,null,null,null,null,null,"Lernförderliches Klima "]
[10,"Die Lehrperson hat die Schüler/innen ausreden lassen, wenn sie dran waren.",null,null,null,null,null,null,null,null,null,null,null,null,null,null,null,null,null,null,null,null,null,null,null,null,"Die Lehrkraft sagt mir, wie ich mich verbessern kann. "]
[11,"Wenn die Lehrperson eine Frage gestellt hat, hatten die Schüler/innen ausreichend Zeit zum Nachdenken.",null,null,null,null,null,null,null,null,null,null,null,null,null,null,null,null,null,null,null,null,null,null,null,null,"Ich habe keine Angst, etwas Falsches zu sagen. "]
[12,"Die Lehrperson hat auflockernde Bemerkung gemacht.",null,null,null,null,null,null,null,null,null,null,null,null,null,null,null,null,null,null,null,null,null,null,null,null,"Die Lehrkraft gibt mir genug Zeit zur Bearbeitung meiner Aufgaben. "]
[13,"Die Lehrperson hat die Schüler/innen für Beiträge zum Unterricht angemessen gelobt.",null,null,null,null,null,null,null,null,null,null,null,null,null,null,null,null,null,null,null,null,null,null,null,null,"Die Lehrkraft ist freundlich zu mir. "]
[14,"Klarheit und Strukturiertheit ",null,null,null,null,null,null,null,null,null,null,null,null,null,null,null,null,null,null,null,null,null,null,null,null,"Motivierung"]
[15,"Die Lehrperson har klar auf früher unterrichteten Stoff hingewiesen.",null,null,null,null,null,null,null,null,null,null,null,null,null,null,null,null,null,null,null,null,null,null,null,null,"Das Thema hat mich sofort neugierig gemacht. "]
[16,"Es gab anschauliche Beispiele.",null,null,null,null,null,null,null,null,null,null,null,null,null,null,null,null,null,null,null,null,null,null,null,null,"Das Thema ist mir schon in meinem Alltag begegnet. "]
[17,"Die wichtigsten Punkte wurden zusammengefasst.",null,null,null,null,null,null,null,null,null,null,null,null,null,null,null,null,null,null,null,null,null,null,null,null,"Ich verstehe, warum wir das Thema behandeln. "]
[18,"Die Lehrperson hat darauf geachtet, dass die Schüler/innen sich klar ausdrücken.",null,null,null,null,null,null,null,null,null,null,null,null,null,null,null,null,null,null,null,null,null,null,null,null,"Das Thema macht mir Spaß. "]
[19,"Den Schüler/innen war klar, was sie in dieser Stunde lernen sollten.",null,null,null,null,null,null,null,null,null,null,null,null,null,null,null,null,null,null,null,null,null,null,null,null,"Aktivierung"]
[20,"Aktivierung",null,null,null,null,null,null,null,null,null,null,null,null,null,null,null,null,null,null,null,null,null,null,null,null,"Im Unterricht wurden unterschiedliche Materialien verwendet. "]
[21,"Die Schüler/innen haben sich mit eigenen Beiträgen am Unterrichtsgespräche beteiligt.",null,null,null,null,null,null,null,null,null,null,null,null,null,null,null,null,null,null,null,null,null,null,null,null,"Ich hatte genügend Zeit, mich mit meinen Mitschülerinnen und Mitschülern auszutauschen. "]
[22,"Die Schüler/innen haben Aufgaben alleine bearbeitet.",null,null,null,null,null,null,null,null,null,null,null,null,null,null,null,null,null,null,null,null,null,null,null,null,"Klarheit und Strukturiertheit "]
[23,"Die Schüler/innen haben etwas vor anderen präsentiert.",null,null,null,null,null,null,null,null,null,null,null,null,null,null,null,null,null,null,null,null,null,null,null,null,"Ich konnte dem Unterrichtsstoff Schritt für Schritt folgen. "]
[24,"Die Schüler/innen haben ihre eigenen Arbeitsergebnisse selbst kontrolliert.",null,null,null,null,null,null,null,null,null,null,null,null,null,null,null,null,null,null,null,null,null,null,null,null,"Ich wusste im Unterricht genau, was ich tun sollte. "]
[25,"Die Schüler/innen waren die ganze Stunde über aktiv bei der Sache.",null,null,null,null,null,null,null,null,null,null,null,null,null,null,null,null,null,null,null,null,null,null,null,null,"Mir haben die Materialien beim Lösen der Aufgabenstellung geholfen. "]
[26,"Bilanz/ Ertrag",null,null,null,null,null,null,null,null,null,null,null,null,null,null,null,null,null,null,null,null,null,null,null,null,"Ertrag/ Bilanz "]
[27,"Die Schüler/innen haben etwas dazu gelernt.",null,null,null,null,null,null,null,null,null,null,null,null,null,null,null,null,null,null,null,null,null,null,null,null,"Ich kann anderen Schülerinnen und Schülern den Unterrichtsstoff erklären. "]
[28,"Die Unterrichtsstunde war für die Schüler/innen interessant.",null,null,null,null,null,"         \u0081",null,null,null,null,null,null,null,null,null,null,null,null,null,null,null,null,null,null,"Ich kann das Erlernte für mein späteres Berufsleben gebrauchen. "]
[29,"Die Schüler/innen haben sich in dieser Stunde wohl gefühlt.",null,null,null,null,null,"         \u0081",null,null,null,null,null,null,null,null,null,null,null,null,null,null,null,null,null,null,"Ich fand den Unterrichtsstoff: "]
[30,"Die Lehrperson hat sich in dieser Stunde an den Bildungsstandards dieses Faches orientiert.",null,null,null,null,null,"         \u0081"]
[31,"Im Hinblick auf die unterschiedlichen Lernvoraussetzungen der Schüler/innen war das Unterrichtsangebot angemessen.",null,null,null,null,null,"         \u0081"]
[32,"Zusatzbereich:",null,null,null,null,null,"         \u0081"]
[33,null,null,null,null,null,null,"         \u0081"]
[34,null,null,null,null,null,null,"         \u0081"]
[35,null,null,null,null,null,null,"         \u0081"]
[36,null,null,null,null,null,null,"         \u0081"]
[37,null,null,null,null,null,null,"         \u0081"]
[38,null,null,null,null,null,null,"         \u0081"]
[39,null,null,null,null,null,null,"         \u0081"]
[40,null,null,null,null,null,null,"         \u0081"]
[41,null,null,null,null,null,null,"         \u0081"]
[42,null,null,null,null,null,null,"         \u0081"]
[43,null,null,null,null,null,null,"         \u0081"]
[44,null,null,null,null,null,null,"         \u0081"]
[45,null,null,null,null,null,null,"         \u0081"]
[46,null,null,null,null,null,null,"         \u0081"]
[47,null,null,null,null,null,null,"         \u0081"]
[48,null,null,null,null,null,null,"         \u0081"]
[49,null,null,null,null,null,null,"         \u0081"]
[50,null,null,null,null,null,null,"         \u0081"]
[51,null,null,null,null,null,null,"         \u0081"]
[52,null,null,null,null,null,null,"         \u0081"]
[53,null,null,null,null,null,null,"         \u0081"]
[54,null,null,null,null,null,null,"         \u0081"]
[55,null,null,null,null,null,null,"         \u0081"]
[56,null,null,null,null,null,null,"         \u0081"]
[57,null,null,null,null,null,null,"         \u0081"]
[58,null,null,null,null,null,null,"         \u0081"]
[59,null,null,null,null,null,null,"         \u0081"]
[60,null,null,null,null,null,null,"         \u0081"]

{"sheet":"SchülerHIER (2)","index":10,"n_rows":66,"n_cols":27,"rows_kept":66,"cut":false,"hidden":true,"merged":[[99,1,99,2],[99,3,99,4],[99,5,99,6],[99,7,99,8],[99,9,99,10],[97,1,97,2],[97,3,97,4],[97,5,97,6],[97,7,97,8],[97,9,97,10],[98,1,98,2],[98,3,98,4],[98,5,98,6],[98,7,98,8],[98,9,98,10],[95,1,95,2],[95,3,95,4],[95,5,95,6],[95,7,95,8],[95,9,95,10],[96,1,96,2],[96,3,96,4],[96,5,96,6],[96,7,96,8],[96,9,96,10],[93,1,93,2],[93,3,93,4],[93,5,93,6],[93,7,93,8],[93,9,93,10],[94,1,94,2],[94,3,94,4],[94,5,94,6],[94,7,94,8],[94,9,94,10],[91,1,91,2],[91,3,91,4],[91,5,91,6],[91,7,91,8],[91,9,91,10],[92,1,92,2],[92,3,92,4],[92,5,92,6],[92,7,92,8],[92,9,92,10],[89,1,89,2],[89,3,89,4],[89,5,89,6],[89,7,89,8],[89,9,89,10],[90,1,90,2],[90,3,90,4],[90,5,90,6],[90,7,90,8],[90,9,90,10],[87,1,87,2],[87,3,87,4],[87,5,87,6],[87,7,87,8],[87,9,87,10],[88,1,88,2],[88,3,88,4],[88,5,88,6],[88,7,88,8],[88,9,88,10],[85,1,85,2],[85,3,85,4],[85,5,85,6],[85,7,85,8],[85,9,85,10],[86,1,86,2],[86,3,86,4],[86,5,86,6],[86,7,86,8],[86,9,86,10],[83,1,83,2],[83,3,83,4],[83,5,83,6],[83,7,83,8],[83,9,83,10],[84,1,84,2],[84,3,84,4],[84,5,84,6],[84,7,84,8],[84,9,84,10],[81,1,81,2],[81,3,81,4],[81,5,81,6],[81,7,81,8],[81,9,81,10],[82,1,82,2],[82,3,82,4],[82,5,82,6],[82,7,82,8],[82,9,82,10],[79,1,79,2],[79,3,79,4],[79,5,79,6],[79,7,79,8],[79,9,79,10],[80,1,80,2],[80,3,80,4],[80,5,80,6],[80,7,80,8],[80,9,80,10],[77,1,77,2],[77,3,77,4],[77,5,77,6],[77,7,77,8],[77,9,77,10],[78,1,78,2],[78,3,78,4],[78,5,78,6],[78,7,78,8],[78,9,78,10],[75,1,75,2],[75,3,75,4],[75,5,75,6],[75,7,75,8],[75,9,75,10],[76,1,76,2],[76,3,76,4],[76,5,76,6],[76,7,76,8],[76,9,76,10],[73,1,73,2],[73,3,73,4],[73,5,73,6],[73,7,73,8],[73,9,73,10],[74,1,74,2],[74,3,74,4],[74,5,74,6],[74,7,74,8],[74,9,74,10],[71,1,71,2],[71,3,71,4],[71,5,71,6],[71,7,71,8],[71,9,71,10],[72,1,72,2],[72,3,72,4],[72,5,72,6],[72,7,72,8],[72,9,72,10],[69,1,69,2],[69,3,69,4],[69,5,69,6],[69,7,69,8],[69,9,69,10],[70,1,70,2],[70,3,70,4],[70,5,70,6],[70,7,70,8],[70,9,70,10],[67,1,67,2],[67,3,67,4],[67,5,67,6],[67,7,67,8],[67,9,67,10],[68,1,68,2],[68,3,68,4],[68,5,68,6],[68,7,68,8],[68,9,68,10],[65,1,65,2],[65,3,65,4],[65,5,65,6],[65,7,65,8],[65,9,65,10],[66,1,66,2],[66,3,66,4],[66,5,66,6],[66,7,66,8],[66,9,66,10],[63,1,63,2],[63,3,63,4],[63,5,63,6],[63,7,63,8],[63,9,63,10],[64,1,64,2],[64,3,64,4],[64,5,64,6],[64,7,64,8],[64,9,64,10],[61,1,61,2],[61,3,61,4],[61,5,61,6],[61,7,61,8],[61,9,61,10],[62,1,62,2],[62,3,62,4],[62,5,62,6],[62,7,62,8],[62,9,62,10],[59,1,59,2],[59,3,59,4],[59,5,59,6],[59,7,59,8],[59,9,59,10],[60,1,60,2],[60,3,60,4],[60,5,60,6],[60,7,60,8],[60,9,60,10],[57,1,57,2],[57,3,57,4],[57,5,57,6],[57,7,57,8],[57,9,57,10],[58,1,58,2],[58,3,58,4],[58,5,58,6],[58,7,58,8],[58,9,58,10],[55,1,55,2],[55,3,55,4],[55,5,55,6],[55,7,55,8],[55,9,55,10],[56,1,56,2],[56,3,56,4],[56,5,56,6],[56,7,56,8],[56,9,56,10],[53,1,53,2],[53,3,53,4],[53,5,53,6],[53,7,53,8],[53,9,53,10],[54,1,54,2],[54,3,54,4],[54,5,54,6],[54,7,54,8],[54,9,54,10],[51,1,51,2],[51,3,51,4],[51,5,51,6],[51,7,51,8],[51,9,51,10],[52,1,52,2],[52,3,52,4],[52,5,52,6],[52,7,52,8],[52,9,52,10],[49,1,49,2],[49,3,49,4],[49,5,49,6],[49,7,49,8],[49,9,49,10],[50,1,50,2],[50,3,50,4],[50,5,50,6],[50,7,50,8],[50,9,50,10],[47,1,47,2],[47,3,47,4],[47,5,47,6],[47,7,47,8],[47,9,47,10],[48,1,48,2],[48,3,48,4],[48,5,48,6],[48,7,48,8],[48,9,48,10],[45,1,45,2],[45,3,45,4],[45,5,45,6],[45,7,45,8],[45,9,45,10],[46,1,46,2],[46,3,46,4],[46,5,46,6],[46,7,46,8],[46,9,46,10],[43,1,43,2],[43,3,43,4],[43,5,43,6],[43,7,43,8],[43,9,43,10],[44,1,44,2],[44,3,44,4],[44,5,44,6],[44,7,44,8],[44,9,44,10],[41,1,41,2],[41,3,41,4],[41,5,41,6],[41,7,41,8],[41,9,41,10],[42,1,42,2],[42,3,42,4],[42,5,42,6],[42,7,42,8],[42,9,42,10],[39,1,39,2],[39,3,39,4],[39,5,39,6],[39,7,39,8],[39,9,39,10],[40,1,40,2],[40,3,40,4],[40,5,40,6],[40,7,40,8],[40,9,40,10],[37,1,37,2],[37,3,37,4],[37,5,37,6],[37,7,37,8],[37,9,37,10],[38,1,38,2],[38,3,38,4],[38,5,38,6],[38,7,38,8],[38,9,38,10],[35,1,35,2],[35,3,35,4],[35,5,35,6],[35,7,35,8],[35,9,35,10],[36,1,36,2],[36,3,36,4],[36,5,36,6],[36,7,36,8],[36,9,36,10],[33,1,33,2],[33,3,33,4],[33,5,33,6],[33,7,33,8],[33,9,33,10],[34,1,34,2],[34,3,34,4],[34,5,34,6],[34,7,34,8],[34,9,34,10],[31,1,31,2],[31,3,31,4],[31,5,31,6],[31,7,31,8],[31,9,31,10],[32,1,32,2],[32,3,32,4],[32,5,32,6],[32,7,32,8],[32,9,32,10],[29,1,29,2],[29,3,29,4],[29,5,29,6],[29,7,29,8],[29,9,29,10],[30,1,30,2],[30,3,30,4],[30,5,30,6],[30,7,30,8],[30,9,30,10],[27,1,27,2],[27,3,27,4],[27,5,27,6],[27,7,27,8],[27,9,27,10],[28,1,28,2],[28,3,28,4],[28,5,28,6],[28,7,28,8],[28,9,28,10],[25,1,25,2],[25,3,25,4],[25,5,25,6],[25,7,25,8],[25,9,25,10],[26,1,26,2],[26,3,26,4],[26,5,26,6],[26,7,26,8],[26,9,26,10],[23,1,23,2],[23,3,23,4],[23,5,23,6],[23,7,23,8],[23,9,23,10],[24,1,24,2],[24,3,24,4],[24,5,24,6],[24,7,24,8],[24,9,24,10],[21,1,21,2],[21,3,21,4],[21,5,21,6],[21,7,21,8],[21,9,21,10],[22,1,22,2],[22,3,22,4],[22,5,22,6],[22,7,22,8],[22,9,22,10],[19,1,19,2],[19,3,19,4],[19,5,19,6],[19,7,19,8],[19,9,19,10],[20,1,20,2],[20,3,20,4],[20,5,20,6],[20,7,20,8],[20,9,20,10],[17,1,17,2],[17,3,17,4],[17,5,17,6],[17,7,17,8],[17,9,17,10],[18,1,18,2],[18,3,18,4],[18,5,18,6],[18,7,18,8],[18,9,18,10],[15,1,15,2],[15,3,15,4],[15,5,15,6],[15,7,15,8],[15,9,15,10],[16,1,16,2],[16,3,16,4],[16,5,16,6],[16,7,16,8],[16,9,16,10],[13,1,13,2],[13,3,13,4],[13,5,13,6],[13,7,13,8],[13,9,13,10],[14,1,14,2],[14,3,14,4],[14,5,14,6],[14,7,14,8],[14,9,14,10],[11,1,11,2],[11,3,11,4],[11,5,11,6],[11,7,11,8],[11,9,11,10],[12,1,12,2],[12,3,12,4],[12,5,12,6],[12,7,12,8],[12,9,12,10],[9,1,9,2],[9,3,9,4],[9,5,9,6],[9,7,9,8],[9,9,9,10],[10,1,10,2],[10,3,10,4],[10,5,10,6],[10,7,10,8],[10,9,10,10],[7,1,7,2],[7,3,7,4],[7,5,7,6],[7,7,7,8],[7,9,7,10],[8,1,8,2],[8,3,8,4],[8,5,8,6],[8,7,8,8],[8,9,8,10],[5,3,5,4],[5,5,5,6],[5,7,5,8],[5,9,5,10],[6,1,6,2],[6,3,6,4],[6,5,6,6],[6,7,6,8],[6,9,6,10],[3,0,4,1],[3,3,3,4],[3,5,3,6],[3,7,3,8],[3,9,3,10],[4,3,4,4],[4,5,4,6],[4,7,4,8],[4,9,4,10]]}
["                                                                                                        Klasse/ Lerngruppe:","Schüler"]
["Rückmeldebogen"]
[]
["Bitte schätze meinen Unterricht ein!",null,null,"stimme",null,"stimme   eher",null,"stimme eher zu",null,"stimme"]
[null,null,null,"nicht zu",null,"nicht zu",null,null,null,"zu"]
[]
[1,"Klassenführung"]
[2,"Der Unterricht hat pünktlich begonnen.",null,"\u0081",null,"\u0082",null,"\u0083",null,"x"]
[3,"Die Klassenregeln waren den Schüler/innen klar."]
[4,"Die Schüler/innen konnten ungestört arbeiten."]
[5,"Den Schüler/innen war im Laufe der Unterrichtsstunde jederzeit klar, was sie tun sollten.",null,null,null,null,null,null,null,null,null,null,null,null,null,null,null,null,null,null,null,null,null,null,null,null,"Klassenführung"]
[6,"Die gesamte Unterrichtsstunde wurde für den Lernstoff verwendet.",null,null,null,null,null,null,null,null,null,null,null,null,null,null,null,null,null,null,null,null,null,null,null,null,"Die Lehrkraft ist pünktlich. "]
[7,"Lernförderliches Klima und Motivierung",null,null,null,null,null,null,null,null,null,null,null,null,null,null,null,null,null,null,null,null,null,null,null,null,"Ich fühle mich gerecht behandelt. "]
[8,"Mit Schülerbeiträgen ist die Lehrperson wertschätzend umgegangen.",null,null,null,null,null,null,null,null,null,null,null,null,null,null,null,null,null,null,null,null,null,null,null,null,"Die Regeln werden eingehalten. "]
[9,"Die Lehrperson war freundlich zu den Schüler/innen.",null,null,null,null,null,null,null,null,null,null,null,null,null,null,null,null,null,null,null,null,null,null,null,null,"Lernförderliches Klima "]
[10,"Die Lehrperson hat die Schüler/innen ausreden lassen, wenn sie dran waren.",null,null,null,null,null,null,null,null,null,null,null,null,null,null,null,null,null,null,null,null,null,null,null,null,"Die Lehrkraft sagt mir, wie ich mich verbessern kann. "]
[11,"Wenn die Lehrperson eine Frage gestellt hat, hatten die Schüler/innen ausreichend Zeit zum Nachdenken.",null,null,null,null,null,null,null,null,null,null,null,null,null,null,null,null,null,null,null,null,null,null,null,null,"Ich habe keine Angst, etwas Falsches zu sagen. "]
[12,"Die Lehrperson hat auflockernde Bemerkung gemacht.",null,null,null,null,null,null,null,null,null,null,null,null,null,null,null,null,null,null,null,null,null,null,null,null,"Die Lehrkraft gibt mir genug Zeit zur Bearbeitung meiner Aufgaben. "]
[13,"Die Lehrperson hat die Schüler/innen für Beiträge zum Unterricht angemessen gelobt.",null,null,null,null,null,null,null,null,null,null,null,null,null,null,null,null,null,null,null,null,null,null,null,null,"Die Lehrkraft ist freundlich zu mir. "]
[14,"Klarheit und Strukturiertheit ",null,null,null,null,null,null,null,null,null,null,null,null,null,null,null,null,null,null,null,null,null,null,null,null,"Motivierung"]
[15,"Die Lehrperson har klar auf früher unterrichteten Stoff hingewiesen.",null,null,null,null,null,null,null,null,null,null,null,null,null,null,null,null,null,null,null,null,null,null,null,null,"Das Thema hat mich sofort neugierig gemacht. "]
[16,"Es gab anschauliche Beispiele.",null,null,null,null,null,null,null,null,null,null,null,null,null,null,null,null,null,null,null,null,null,null,null,null,"Das Thema ist mir schon in meinem Alltag begegnet. "]
[17,"Die wichtigsten Punkte wurden zusammengefasst.",null,null,null,null,null,null,null,null,null,null,null,null,null,null,null,null,null,null,null,null,null,null,null,null,"Ich verstehe, warum wir das Thema behandeln. "]
[18,"Die Lehrperson hat darauf geachtet, dass die Schüler/innen sich klar ausdrücken.",null,null,null,null,null,null,null,null,null,null,null,null,null,null,null,null,null,null,null,null,null,null,null,null,"Das Thema macht mir Spaß. "]
[19,"Den Schüler/innen war klar, was sie in dieser Stunde lernen sollten.",null,null,null,null,null,null,null,null,null,null,null,null,null,null,null,null,null,null,null,null,null,null,null,null,"Aktivierung"]
[20,"Aktivierung",null,null,null,null,null,null,null,null,null,null,null,null,null,null,null,null,null,null,null,null,null,null,null,null,"Im Unterricht wurden unterschiedliche Materialien verwendet. "]
[21,"Die Schüler/innen haben sich mit eigenen Beiträgen am Unterrichtsgespräche beteiligt.",null,null,null,null,null,null,null,null,null,null,null,null,null,null,null,null,null,null,null,null,null,null,null,null,"Ich hatte genügend Zeit, mich mit meinen Mitschülerinnen und Mitschülern auszutauschen. "]
[22,"Die Schüler/innen haben Aufgaben alleine bearbeitet.",null,null,null,null,null,null,null,null,null,null,null,null,null,null,null,null,null,null,null,null,null,null,null,null,"Klarheit und Strukturiertheit "]
[23,"Die Schüler/innen haben etwas vor anderen präsentiert.",null,null,null,null,null,null,null,null,null,null,null,null,null,null,null,null,null,null,null,null,null,null,null,null,"Ich konnte dem Unterrichtsstoff Schritt für Schritt folgen. "]
[24,"Die Schüler/innen haben ihre eigenen Arbeitsergebnisse selbst kontrolliert.",null,null,null,null,null,null,null,null,null,null,null,null,null,null,null,null,null,null,null,null,null,null,null,null,"Ich wusste im Unterricht genau, was ich tun sollte. "]
[25,"Die Schüler/innen waren die ganze Stunde über aktiv bei der Sache.",null,null,null,null,null,null,null,null,null,null,null,null,null,null,null,null,null,null,null,null,null,null,null,null,"Mir haben die Materialien beim Lösen der Aufgabenstellung geholfen. "]
[26,"Bilanz/ Ertrag",null,null,null,null,null,null,null,null,null,null,null,null,null,null,null,null,null,null,null,null,null,null,null,null,"Ertrag/ Bilanz "]
[27,"Die Schüler/innen haben etwas dazu gelernt.",null,null,null,null,null,null,null,null,null,null,null,null,null,null,null,null,null,null,null,null,null,null,null,null,"Ich kann anderen Schülerinnen und Schülern den Unterrichtsstoff erklären. "]
[28,"Die Unterrichtsstunde war für die Schüler/innen interessant.",null,null,null,null,null,"         \u0081",null,null,null,null,null,null,null,null,null,null,null,null,null,null,null,null,null,null,"Ich kann das Erlernte für mein späteres Berufsleben gebrauchen. "]
[29,"Die Schüler/innen haben sich in dieser Stunde wohl gefühlt.",null,null,null,null,null,"         \u0081",null,null,null,null,null,null,null,null,null,null,null,null,null,null,null,null,null,null,"Ich fand den Unterrichtsstoff: "]
[30,"Die Lehrperson hat sich in dieser Stunde an den Bildungsstandards dieses Faches orientiert.",null,null,null,null,null,"         \u0081"]
[31,"Im Hinblick auf die unterschiedlichen Lernvoraussetzungen der Schüler/innen war das Unterrichtsangebot angemessen.",null,null,null,null,null,"         \u0081"]
[32,"Zusatzbereich:",null,null,null,null,null,"         \u0081"]
[33,null,null,null,null,null,null,"         \u0081"]
[34,null,null,null,null,null,null,"         \u0081"]
[35,null,null,null,null,null,null,"         \u0081"]
[36,null,null,null,null,null,null,"         \u0081"]
[37,null,null,null,null,null,null,"         \u0081"]
[38,null,null,null,null,null,null,"         \u0081"]
[39,null,null,null,null,null,null,"         \u0081"]
[40,null,null,null,null,null,null,"         \u0081"]
[41,null,null,null,null,null,null,"         \u0081"]
[42,null,null,null,null,null,null,"         \u0081"]
[43,null,null,null,null,null,null,"         \u0081"]
[44,null,null,null,null,null,null,"         \u0081"]
[45,null,null,null,null,null,null,"         \u0081"]
[46,null,null,null,null,null,null,"         \u0081"]
[47,null,null,null,null,null,null,"         \u0081"]
[48,null,null,null,null,null,null,"         \u0081"]
[49,null,null,null,null,null,null,"         \u0081"]
[50,null,null,null,null,null,null,"         \u0081"]
[51,null,null,null,null,null,null,"         \u0081"]
[52,null,null,null,null,null,null,"         \u0081"]
[53,null,null,null,null,null,null,"         \u0081"]
[54,null,null,null,null,null,null,"         \u0081"]
[55,null,null,null,null,null,null,"         \u0081"]
[56,null,null,null,null,null,null,"         \u0081"]
[57,null,null,null,null,null,null,"         \u0081"]
[58,null,null,null,null,null,null,"         \u0081"]
[59,null,null,null,null,null,null,"         \u0081"]
[60,null,null,null,null,null,null,"         \u0081"]

{"sheet":"FragenErstellen","index":11,"n_rows":66,"n_cols":27,"rows_kept":66,"cut":false,"hidden":true,"merged":[[98,3,98,4],[98,5,98,6],[98,7,98,8],[98,9,98,10],[99,3,99,4],[99,5,99,6],[99,7,99,8],[99,9,99,10],[96,3,96,4],[96,5,96,6],[96,7,96,8],[96,9,96,10],[97,3,97,4],[97,5,97,6],[97,7,97,8],[97,9,97,10],[94,3,94,4],[94,5,94,6],[94,7,94,8],[94,9,94,10],[95,3,95,4],[95,5,95,6],[95,7,95,8],[95,9,95,10],[92,3,92,4],[92,5,92,6],[92,7,92,8],[92,9,92,10],[93,3,93,4],[93,5,93,6],[93,7,93,8],[93,9,93,10],[90,3,90,4],[90,5,90,6],[90,7,90,8],[90,9,90,10],[91,3,91,4],[91,5,91,6],[91,7,91,8],[91,9,91,10],[88,3,88,4],[88,5,88,6],[88,7,88,8],[88,9,88,10],[89,3,89,4],[89,5,89,6],[89,7,89,8],[89,9,89,10],[86,3,86,4],[86,5,86,6],[86,7,86,8],[86,9,86,10],[87,3,87,4],[87,5,87,6],[87,7,87,8],[87,9,87,10],[84,3,84,4],[84,5,84,6],[84,7,84,8],[84,9,84,10],[85,3,85,4],[85,5,85,6],[85,7,85,8],[85,9,85,10],[82,3,82,4],[82,5,82,6],[82,7,82,8],[82,9,82,10],[83,3,83,4],[83,5,83,6],[83,7,83,8],[83,9,83,10],[80,3,80,4],[80,5,80,6],[80,7,80,8],[80,9,80,10],[81,3,81,4],[81,5,81,6],[81,7,81,8],[81,9,81,10],[78,3,78,4],[78,5,78,6],[78,7,78,8],[78,9,78,10],[79,3,79,4],[79,5,79,6],[79,7,79,8],[79,9,79,10],[76,3,76,4],[76,5,76,6],[76,7,76,8],[76,9,76,10],[77,3,77,4],[77,5,77,6],[77,7,77,8],[77,9,77,10],[74,3,74,4],[74,5,74,6],[74,7,74,8],[74,9,74,10],[75,3,75,4],[75,5,75,6],[75,7,75,8],[75,9,75,10],[72,3,72,4],[72,5,72,6],[72,7,72,8],[72,9,72,10],[73,3,73,4],[73,5,73,6],[73,7,73,8],[73,9,73,10],[70,3,70,4],[70,5,70,6],[70,7,70,8],[70,9,70,10],[71,3,71,4],[71,5,71,6],[71,7,71,8],[71,9,71,10],[68,3,68,4],[68,5,68,6],[68,7,68,8],[68,9,68,10],[69,3,69,4],[69,5,69,6],[69,7,69,8],[69,9,69,10],[66,3,66,4],[66,5,66,6],[66,7,66,8],[66,9,66,10],[67,3,67,4],[67,5,67,6],[67,7,67,8],[67,9,67,10],[64,3,64,4],[64,5,64,6],[64,7,64,8],[64,9,64,10],[65,3,65,4],[65,5,65,6],[65,7,65,8],[65,9,65,10],[62,3,62,4],[62,5,62,6],[62,7,62,8],[62,9,62,10],[63,3,63,4],[63,5,63,6],[63,7,63,8],[63,9,63,10],[60,3,60,4],[60,5,60,6],[60,7,60,8],[60,9,60,10],[61,3,61,4],[61,5,61,6],[61,7,61,8],[61,9,61,10],[58,3,58,4],[58,5,58,6],[58,7,58,8],[58,9,58,10],[59,3,59,4],[59,5,59,6],[59,7,59,8],[59,9,59,10],[56,3,56,4],[56,5,56,6],[56,7,56,8],[56,9,56,10],[57,3,57,4],[57,5,57,6],[57,7,57,8],[57,9,57,10],[54,3,54,4],[54,5,54,6],[54,7,54,8],[54,9,54,10],[55,3,55,4],[55,5,55,6],[55,7,55,8],[55,9,55,10],[52,3,52,4],[52,5,52,6],[52,7,52,8],[52,9,52,10],[53,3,53,4],[53,5,53,6],[53,7,53,8],[53,9,53,10],[50,3,50,4],[50,5,50,6],[50,7,50,8],[50,9,50,10],[51,3,51,4],[51,5,51,6],[51,7,51,8],[51,9,51,10],[48,3,48,4],[48,5,48,6],[48,7,48,8],[48,9,48,10],[49,3,49,4],[49,5,49,6],[49,7,49,8],[49,9,49,10],[46,3,46,4],[46,5,46,6],[46,7,46,8],[46,9,46,10],[47,3,47,4],[47,5,47,6],[47,7,47,8],[47,9,47,10],[44,3,44,4],[44,5,44,6],[44,7,44,8],[44,9,44,10],[45,3,45,4],[45,5,45,6],[45,7,45,8],[45,9,45,10],[42,3,42,4],[42,5,42,6],[42,7,42,8],[42,9,42,10],[43,3,43,4],[43,5,43,6],[43,7,43,8],[43,9,43,10],[40,3,40,4],[40,5,40,6],[40,7,40,8],[40,9,40,10],[41,3,41,4],[41,5,41,6],[41,7,41,8],[41,9,41,10],[38,3,38,4],[38,5,38,6],[38,7,38,8],[38,9,38,10],[39,3,39,4],[39,5,39,6],[39,7,39,8],[39,9,39,10],[36,3,36,4],[36,5,36,6],[36,7,36,8],[36,9,36,10],[37,3,37,4],[37,5,37,6],[37,7,37,8],[37,9,37,10],[98,1,98,2],[99,1,99,2],[34,3,34,4],[34,5,34,6],[34,7,34,8],[34,9,34,10],[35,3,35,4],[35,5,35,6],[35,7,35,8],[35,9,35,10],[92,1,92,2],[93,1,93,2],[94,1,94,2],[95,1,95,2],[96,1,96,2],[97,1,97,2],[86,1,86,2],[87,1,87,2],[88,1,88,2],[89,1,89,2],[90,1,90,2],[91,1,91,2],[80,1,80,2],[81,1,81,2],[82,1,82,2],[83,1,83,2],[84,1,84,2],[85,1,85,2],[74,1,74,2],[75,1,75,2],[76,1,76,2],[77,1,77,2],[78,1,78,2],[79,1,79,2],[68,1,68,2],[69,1,69,2],[70,1,70,2],[71,1,71,2],[72,1,72,2],[73,1,73,2],[62,1,62,2],[63,1,63,2],[64,1,64,2],[65,1,65,2],[66,1,66,2],[67,1,67,2],[56,1,56,2],[57,1,57,2],[58,1,58,2],[59,1,59,2],[60,1,60,2],[61,1,61,2],[50,1,50,2],[51,1,51,2],[52,1,52,2],[53,1,53,2],[54,1,54,2],[55,1,55,2],[44,1,44,2],[45,1,45,2],[46,1,46,2],[47,1,47,2],[48,1,48,2],[49,1,49,2],[38,1,38,2],[39,1,39,2],[40,1,40,2],[41,1,41,2],[42,1,42,2],[43,1,43,2],[33,1,33,2],[33,3,33,4],[33,5,33,6],[33,7,33,8],[33,9,33,10],[34,1,34,2],[35,1,35,2],[36,1,36,2],[37,1,37,2],[31,1,31,2],[31,3,31,4],[31,5,31,6],[31,7,31,8],[31,9,31,10],[32,1,32,2],[32,3,32,4],[32,5,32,6],[32,7,32,8],[32,9,32,10],[29,1,29,2],[29,3,29,4],[29,5,29,6],[29,7,29,8],[29,9,29,10],[30,1,30,2],[30,3,30,4],[30,9,30,10],[30,5,30,6],[30,7,30,8],[27,1,27,2],[27,3,27,4],[27,5,27,6],[27,7,27,8],[27,9,27,10],[28,1,28,2],[28,3,28,4],[28,5,28,6],[28,7,28,8],[28,9,28,10],[25,1,25,2],[25,3,25,4],[25,5,25,6],[25,7,25,8],[25,9,25,10],[26,1,26,2],[26,3,26,4],[26,5,26,6],[26,7,26,8],[26,9,26,10],[23,1,23,2],[23,3,23,4],[23,5,23,6],[23,7,23,8],[23,9,23,10],[24,1,24,2],[24,3,24,4],[24,5,24,6],[24,7,24,8],[24,9,24,10],[21,1,21,2],[21,3,21,4],[21,5,21,6],[21,7,21,8],[21,9,21,10],[22,1,22,2],[22,3,22,4],[22,5,22,6],[22,7,22,8],[22,9,22,10],[19,1,19,2],[19,3,19,4],[19,5,19,6],[19,7,19,8],[19,9,19,10],[20,1,20,2],[20,3,20,4],[20,5,20,6],[20,7,20,8],[20,9,20,10],[17,1,17,2],[17,3,17,4],[17,5,17,6],[17,7,17,8],[17,9,17,10],[18,1,18,2],[18,3,18,4],[18,5,18,6],[18,7,18,8],[18,9,18,10],[15,1,15,2],[15,3,15,4],[15,5,15,6],[15,7,15,8],[15,9,15,10],[16,1,16,2],[16,3,16,4],[16,5,16,6],[16,7,16,8],[16,9,16,10],[13,1,13,2],[13,3,13,4],[13,5,13,6],[13,7,13,8],[13,9,13,10],[14,1,14,2],[14,3,14,4],[14,5,14,6],[14,7,14,8],[14,9,14,10],[11,1,11,2],[11,3,11,4],[11,5,11,6],[11,7,11,8],[11,9,11,10],[12,1,12,2],[12,3,12,4],[12,5,12,6],[12,7,12,8],[12,9,12,10],[9,1,9,2],[9,3,9,4],[9,5,9,6],[9,7,9,8],[9,9,9,10],[10,1,10,2],[10,3,10,4],[10,5,10,6],[10,7,10,8],[10,9,10,10],[7,1,7,2],[7,3,7,4],[7,5,7,6],[7,7,7,8],[7,9,7,10],[8,1,8,2],[8,3,8,4],[8,5,8,6],[8,7,8,8],[8,9,8,10],[5,3,5,4],[5,5,5,6],[5,7,5,8],[5,9,5,10],[6,1,6,2],[6,3,6,4],[6,5,6,6],[6,7,6,8],[6,9,6,10],[3,0,4,1],[3,3,3,4],[3,5,3,6],[3,7,3,8],[3,9,3,10],[4,3,4,4],[4,5,4,6],[4,7,4,8],[4,9,4,10]]}
["                                                                                                        Klasse/ Lerngruppe:","BLehrer"]
["Rückmeldebogen"]
[]
["Bitte schätze meinen Unterricht ein!",null,null,"stimme",null,"stimme   eher",null,"stimme eher zu",null,"stimme"]
[null,null,null,"nicht zu",null,"nicht zu",null,null,null,"zu"]
[]
[1,"Klassenführung"]
[2,"Der Unterricht hat pünktlich begonnen.",null,"\u0081",null,"\u0082",null,"\u0083",null,"x"]
[3,"Die Klassenregeln waren den Schüler/innen klar."]
[4,"Die Schüler/innen konnten ungestört arbeiten."]
[5,"Den Schüler/innen war im Laufe der Unterrichtsstunde jederzeit klar, was sie tun sollten.",null,null,null,null,null,null,null,null,null,null,null,null,null,null,null,null,null,null,null,null,null,null,null,null,"Klassenführung"]
[6,"Die gesamte Unterrichtsstunde wurde für den Lernstoff verwendet.",null,null,null,null,null,null,null,null,null,null,null,null,null,null,null,null,null,null,null,null,null,null,null,null,"Die Lehrkraft ist pünktlich. "]
[7,"Lernförderliches Klima und Motivierung",null,null,null,null,null,null,null,null,null,null,null,null,null,null,null,null,null,null,null,null,null,null,null,null,"Ich fühle mich gerecht behandelt. "]
[8,"Mit Schülerbeiträgen ist die Lehrperson wertschätzend umgegangen.",null,null,null,null,null,null,null,null,null,null,null,null,null,null,null,null,null,null,null,null,null,null,null,null,"Die Regeln werden eingehalten. "]
[9,"Die Lehrperson war freundlich zu den Schüler/innen.",null,null,null,null,null,null,null,null,null,null,null,null,null,null,null,null,null,null,null,null,null,null,null,null,"Lernförderliches Klima "]
[10,"Die Lehrperson hat die Schüler/innen ausreden lassen, wenn sie dran waren.",null,null,null,null,null,null,null,null,null,null,null,null,null,null,null,null,null,null,null,null,null,null,null,null,"Die Lehrkraft sagt mir, wie ich mich verbessern kann. "]
[11,"Wenn die Lehrperson eine Frage gestellt hat, hatten die Schüler/innen ausreichend Zeit zum Nachdenken.",null,null,null,null,null,null,null,null,null,null,null,null,null,null,null,null,null,null,null,null,null,null,null,null,"Ich habe keine Angst, etwas Falsches zu sagen. "]
[12,"Die Lehrperson hat auflockernde Bemerkung gemacht.",null,null,null,null,null,null,null,null,null,null,null,null,null,null,null,null,null,null,null,null,null,null,null,null,"Die Lehrkraft gibt mir genug Zeit zur Bearbeitung meiner Aufgaben. "]
[13,"Die Lehrperson hat die Schüler/innen für Beiträge zum Unterricht angemessen gelobt.",null,null,null,null,null,null,null,null,null,null,null,null,null,null,null,null,null,null,null,null,null,null,null,null,"Die Lehrkraft ist freundlich zu mir. "]
[14,"Klarheit und Strukturiertheit ",null,null,null,null,null,null,null,null,null,null,null,null,null,null,null,null,null,null,null,null,null,null,null,null,"Motivierung"]
[15,"Die Lehrperson har klar auf früher unterrichteten Stoff hingewiesen.",null,null,null,null,null,null,null,null,null,null,null,null,null,null,null,null,null,null,null,null,null,null,null,null,"Das Thema hat mich sofort neugierig gemacht. "]
[16,"Es gab anschauliche Beispiele.",null,null,null,null,null,null,null,null,null,null,null,null,null,null,null,null,null,null,null,null,null,null,null,null,"Das Thema ist mir schon in meinem Alltag begegnet. "]
[17,"Die wichtigsten Punkte wurden zusammengefasst.",null,null,null,null,null,null,null,null,null,null,null,null,null,null,null,null,null,null,null,null,null,null,null,null,"Ich verstehe, warum wir das Thema behandeln. "]
[18,"Die Lehrperson hat darauf geachtet, dass die Schüler/innen sich klar ausdrücken.",null,null,null,null,null,null,null,null,null,null,null,null,null,null,null,null,null,null,null,null,null,null,null,null,"Das Thema macht mir Spaß. "]
[19,"Den Schüler/innen war klar, was sie in dieser Stunde lernen sollten.",null,null,null,null,null,null,null,null,null,null,null,null,null,null,null,null,null,null,null,null,null,null,null,null,"Aktivierung"]
[20,"Aktivierung",null,null,null,null,null,null,null,null,null,null,null,null,null,null,null,null,null,null,null,null,null,null,null,null,"Im Unterricht wurden unterschiedliche Materialien verwendet. "]
[21,"Die Schüler/innen haben sich mit eigenen Beiträgen am Unterrichtsgespräche beteiligt.",null,null,null,null,null,null,null,null,null,null,null,null,null,null,null,null,null,null,null,null,null,null,null,null,"Ich hatte genügend Zeit, mich mit meinen Mitschülerinnen und Mitschülern auszutauschen. "]
[22,"Die Schüler/innen haben Aufgaben alleine bearbeitet.",null,null,null,null,null,null,null,null,null,null,null,null,null,null,null,null,null,null,null,null,null,null,null,null,"Klarheit und Strukturiertheit "]
[23,"Die Schüler/innen haben etwas vor anderen präsentiert.",null,null,null,null,null,null,null,null,null,null,null,null,null,null,null,null,null,null,null,null,null,null,null,null,"Ich konnte dem Unterrichtsstoff Schritt für Schritt folgen. "]
[24,"Die Schüler/innen haben ihre eigenen Arbeitsergebnisse selbst kontrolliert.",null,null,null,null,null,null,null,null,null,null,null,null,null,null,null,null,null,null,null,null,null,null,null,null,"Ich wusste im Unterricht genau, was ich tun sollte. "]
[25,"Die Schüler/innen waren die ganze Stunde über aktiv bei der Sache.",null,null,null,null,null,null,null,null,null,null,null,null,null,null,null,null,null,null,null,null,null,null,null,null,"Mir haben die Materialien beim Lösen der Aufgabenstellung geholfen. "]
[26,"Bilanz/ Ertrag",null,null,null,null,null,null,null,null,null,null,null,null,null,null,null,null,null,null,null,null,null,null,null,null,"Ertrag/ Bilanz "]
[27,"Die Schüler/innen haben etwas dazu gelernt.",null,null,null,null,null,null,null,null,null,null,null,null,null,null,null,null,null,null,null,null,null,null,null,null,"Ich kann anderen Schülerinnen und Schülern den Unterrichtsstoff erklären. "]
[28,"Die Unterrichtsstunde war für die Schüler/innen interessant.",null,null,null,"         \u0081",null,null,null,null,null,null,null,null,null,null,null,null,null,null,null,null,null,null,null,null,"Ich kann das Erlernte für mein späteres Berufsleben gebrauchen. "]
[29,"Die Schüler/innen haben sich in dieser Stunde wohl gefühlt.",null,null,null,"         \u0081",null,null,null,null,null,null,null,null,null,null,null,null,null,null,null,null,null,null,null,null,"Ich fand den Unterrichtsstoff: "]
[30,"Die Lehrperson hat sich in dieser Stunde an den Bildungsstandards dieses Faches orientiert.",null,null,null,"         \u0081"]
[31,"Im Hinblick auf die unterschiedlichen Lernvoraussetzungen der Schüler/innen war das Unterrichtsangebot angemessen.",null,null,null,"         \u0081"]
[32,"Zusatzbereich:",null,null,null,null,null,"         \u0081"]
[33,null,null,null,null,"         \u0081"]
[34,null,null,null,null,"         \u0081"]
[35,null,null,null,null,"         \u0081"]
[36,null,null,null,null,"         \u0081"]
[37,null,null,null,null,"         \u0081"]
[38,null,null,null,null,"         \u0081"]
[39,null,null,null,null,"         \u0081"]
[40,null,null,null,null,"         \u0081"]
[41,null,null,null,null,null,null,"         \u0081"]
[42,null,null,null,null,null,null,"         \u0081"]
[43,null,null,null,null,null,null,"         \u0081"]
[44,null,null,null,null,null,null,"         \u0081"]
[45,null,null,null,null,null,null,"         \u0081"]
[46,null,null,null,null,null,null,"         \u0081"]
[47,null,null,null,null,null,null,"         \u0081"]
[48,null,null,null,null,null,null,"         \u0081"]
[49,null,null,null,null,null,null,"         \u0081"]
[50,null,null,null,null,null,null,"         \u0081"]
[51,null,null,null,null,null,null,"         \u0081"]
[52,null,null,null,null,null,null,"         \u0081"]
[53,null,null,null,null,null,null,"         \u0081"]
[54,null,null,null,null,null,null,"         \u0081"]
[55,null,null,null,null,null,null,"         \u0081"]
[56,null,null,null,null,null,null,"         \u0081"]
[57,null,null,null,null,null,null,"         \u0081"]
[58,null,null,null,null,null,null,"         \u0081"]
[59,null,null,null,null,null,null,"         \u0081"]
[60,null,null,null,null,null,null,"         \u0081"]

{"sheet":"sfb1","index":12,"n_rows":36,"n_cols":54,"rows_kept":36,"cut":false,"hidden":true,"merged":[]}
["asI1","asI2","asI3","asI4","asI5","asI6","asI7","asI8","asI9","asI10","asI11","asI12","asI13","asI14","asI15","asI16","asI17","asI18","asI19","asI20","asI21","asI22","asI23","asI24","asI25","asI26","asI27","Land","Schulart","Stufe","Fach","Lehrer_ID","Zusatzitemtexte","Zusatzitems","asI28","asI29","asI30","asI31","asI32","asI33","asI34","asI35","asI36","asI37","asI38","asI39","asI40","asI41","asI42","asI43","asI44","asI45","asI46","asI47"]
[1,null,null,null,null,null,null,null,null,null,null,null,null,null,null,null,null,null,null,null,null,null,null,null,null,null,null,{"$f":"IF(COUNT($A2:$AA2)>0,Export1!$C$3,)","v":0},{"$f":"IF(COUNT($A2:$AA2)>0,Export1!$C$5,)","v":0},{"$f":"IF(COUNT($A2:$AA2)>0,Export1!$C$7,)","v":0},{"$f":"IF(COUNT($A2:$AA2)>0,Export1!$C$9,)","v":0},{"$f":"IF(COUNT($A2:$AA2)>0,Export1!$C$11,)","v":0},"Zusatzfrage 1"]
[1,null,null,null,null,null,null,null,null,null,null,null,null,null,null,null,null,null,null,null,null,null,null,null,null,null,null,{"$f":"IF(COUNT($A3:$AA3)>0,Export1!$C$3,)","v":0},{"$f":"IF(COUNT($A3:$AA3)>0,Export1!$C$5,)","v":0},{"$f":"IF(COUNT($A3:$AA3)>0,Export1!$C$7,)","v":0},{"$f":"IF(COUNT($A3:$AA3)>0,Export1!$C$9,)","v":0},{"$f":"IF(COUNT($A3:$AA3)>0,Export1!$C$11,)","v":0},"Zusatzfrage 2"]
[null,null,null,null,null,null,null,null,null,null,null,null,null,null,null,null,null,null,null,null,null,null,null,null,null,null,null,{"$f":"IF(COUNT($A4:$AA4)>0,Export1!$C$3,)","v":0},{"$f":"IF(COUNT($A4:$AA4)>0,Export1!$C$5,)","v":0},{"$f":"IF(COUNT($A4:$AA4)>0,Export1!$C$7,)","v":0},{"$f":"IF(COUNT($A4:$AA4)>0,Export1!$C$9,)","v":0},{"$f":"IF(COUNT($A4:$AA4)>0,Export1!$C$11,)","v":0},"Zusatzfrage 3"]
[null,null,null,null,null,null,null,null,null,null,null,null,null,null,null,null,null,null,null,null,null,null,null,null,null,null,null,{"$f":"IF(COUNT($A5:$AA5)>0,Export1!$C$3,)","v":0},{"$f":"IF(COUNT($A5:$AA5)>0,Export1!$C$5,)","v":0},{"$f":"IF(COUNT($A5:$AA5)>0,Export1!$C$7,)","v":0},{"$f":"IF(COUNT($A5:$AA5)>0,Export1!$C$9,)","v":0},{"$f":"IF(COUNT($A5:$AA5)>0,Export1!$C$11,)","v":0},"Zusatzfrage 4"]
[null,null,null,null,null,null,null,null,null,null,null,null,null,null,null,null,null,null,null,null,null,null,null,null,null,null,null,{"$f":"IF(COUNT($A6:$AA6)>0,Export1!$C$3,)","v":0},{"$f":"IF(COUNT($A6:$AA6)>0,Export1!$C$5,)","v":0},{"$f":"IF(COUNT($A6:$AA6)>0,Export1!$C$7,)","v":0},{"$f":"IF(COUNT($A6:$AA6)>0,Export1!$C$9,)","v":0},{"$f":"IF(COUNT($A6:$AA6)>0,Export1!$C$11,)","v":0},"Zusatzfrage 5"]
[null,null,null,null,null,null,null,null,null,null,null,null,null,null,null,null,null,null,null,null,null,null,null,null,null,null,null,{"$f":"IF(COUNT($A7:$AA7)>0,Export1!$C$3,)","v":0},{"$f":"IF(COUNT($A7:$AA7)>0,Export1!$C$5,)","v":0},{"$f":"IF(COUNT($A7:$AA7)>0,Export1!$C$7,)","v":0},{"$f":"IF(COUNT($A7:$AA7)>0,Export1!$C$9,)","v":0},{"$f":"IF(COUNT($A7:$AA7)>0,Export1!$C$11,)","v":0},"Zusatzfrage 6"]
[null,null,null,null,null,null,null,null,null,null,null,null,null,null,null,null,null,null,null,null,null,null,null,null,null,null,null,{"$f":"IF(COUNT($A8:$AA8)>0,Export1!$C$3,)","v":0},{"$f":"IF(COUNT($A8:$AA8)>0,Export1!$C$5,)","v":0},{"$f":"IF(COUNT($A8:$AA8)>0,Export1!$C$7,)","v":0},{"$f":"IF(COUNT($A8:$AA8)>0,Export1!$C$9,)","v":0},{"$f":"IF(COUNT($A8:$AA8)>0,Export1!$C$11,)","v":0},"Zusatzfrage 7"]
[null,null,null,null,null,null,null,null,null,null,null,null,null,null,null,null,null,null,null,null,null,null,null,null,null,null,null,{"$f":"IF(COUNT($A9:$AA9)>0,Export1!$C$3,)","v":0},{"$f":"IF(COUNT($A9:$AA9)>0,Export1!$C$5,)","v":0},{"$f":"IF(COUNT($A9:$AA9)>0,Export1!$C$7,)","v":0},{"$f":"IF(COUNT($A9:$AA9)>0,Export1!$C$9,)","v":0},{"$f":"IF(COUNT($A9:$AA9)>0,Export1!$C$11,)","v":0},"Zusatzfrage 8"]
[null,null,null,null,null,null,null,null,null,null,null,null,null,null,null,null,null,null,null,null,null,null,null,null,null,null,null,{"$f":"IF(COUNT($A10:$AA10)>0,Export1!$C$3,)","v":0},{"$f":"IF(COUNT($A10:$AA10)>0,Export1!$C$5,)","v":0},{"$f":"IF(COUNT($A10:$AA10)>0,Export1!$C$7,)","v":0},{"$f":"IF(COUNT($A10:$AA10)>0,Export1!$C$9,)","v":0},{"$f":"IF(COUNT($A10:$AA10)>0,Export1!$C$11,)","v":0},"Zusatzfrage 9"]
[null,null,null,null,null,null,null,null,null,null,null,null,null,null,null,null,null,null,null,null,null,null,null,null,null,null,null,{"$f":"IF(COUNT($A11:$AA11)>0,Export1!$C$3,)","v":0},{"$f":"IF(COUNT($A11:$AA11)>0,Export1!$C$5,)","v":0},{"$f":"IF(COUNT($A11:$AA11)>0,Export1!$C$7,)","v":0},{"$f":"IF(COUNT($A11:$AA11)>0,Export1!$C$9,)","v":0},{"$f":"IF(COUNT($A11:$AA11)>0,Export1!$C$11,)","v":0},"Zusatzfrage 10"]
[null,null,null,null,null,null,null,null,null,null,null,null,null,null,null,null,null,null,null,null,null,null,null,null,null,null,null,{"$f":"IF(COUNT($A12:$AA12)>0,Export1!$C$3,)","v":0},{"$f":"IF(COUNT($A12:$AA12)>0,Export1!$C$5,)","v":0},{"$f":"IF(COUNT($A12:$AA12)>0,Export1!$C$7,)","v":0},{"$f":"IF(COUNT($A12:$AA12)>0,Export1!$C$9,)","v":0},{"$f":"IF(COUNT($A12:$AA12)>0,Export1!$C$11,)","v":0},"Zusatzfrage 11"]
[null,null,null,null,null,null,null,null,null,null,null,null,null,null,null,null,null,null,null,null,null,null,null,null,null,null,null,{"$f":"IF(COUNT($A13:$AA13)>0,Export1!$C$3,)","v":0},{"$f":"IF(COUNT($A13:$AA13)>0,Export1!$C$5,)","v":0},{"$f":"IF(COUNT($A13:$AA13)>0,Export1!$C$7,)","v":0},{"$f":"IF(COUNT($A13:$AA13)>0,Export1!$C$9,)","v":0},{"$f":"IF(COUNT($A13:$AA13)>0,Export1!$C$11,)","v":0},"Zusatzfrage 12"]
[null,null,null,null,null,null,null,null,null,null,null,null,null,null,null,null,null,null,null,null,null,null,null,null,null,null,null,{"$f":"IF(COUNT($A14:$AA14)>0,Export1!$C$3,)","v":0},{"$f":"IF(COUNT($A14:$AA14)>0,Export1!$C$5,)","v":0},{"$f":"IF(COUNT($A14:$AA14)>0,Export1!$C$7,)","v":0},{"$f":"IF(COUNT($A14:$AA14)>0,Export1!$C$9,)","v":0},{"$f":"IF(COUNT($A14:$AA14)>0,Export1!$C$11,)","v":0},"Zusatzfrage 13"]
[null,null,null,null,null,null,null,null,null,null,null,null,null,null,null,null,null,null,null,null,null,null,null,null,null,null,null,{"$f":"IF(COUNT($A15:$AA15)>0,Export1!$C$3,)","v":0},{"$f":"IF(COUNT($A15:$AA15)>0,Export1!$C$5,)","v":0},{"$f":"IF(COUNT($A15:$AA15)>0,Export1!$C$7,)","v":0},{"$f":"IF(COUNT($A15:$AA15)>0,Export1!$C$9,)","v":0},{"$f":"IF(COUNT($A15:$AA15)>0,Export1!$C$11,)","v":0},"Zusatzfrage 14"]
[null,null,null,null,null,null,null,null,null,null,null,null,null,null,null,null,null,null,null,null,null,null,null,null,null,null,null,{"$f":"IF(COUNT($A16:$AA16)>0,Export1!$C$3,)","v":0},{"$f":"IF(COUNT($A16:$AA16)>0,Export1!$C$5,)","v":0},{"$f":"IF(COUNT($A16:$AA16)>0,Export1!$C$7,)","v":0},{"$f":"IF(COUNT($A16:$AA16)>0,Export1!$C$9,)","v":0},{"$f":"IF(COUNT($A16:$AA16)>0,Export1!$C$11,)","v":0},"Zusatzfrage 15"]
[null,null,null,null,null,null,null,null,null,null,null,null,null,null,null,null,null,null,null,null,null,null,null,null,null,null,null,{"$f":"IF(COUNT($A17:$AA17)>0,Export1!$C$3,)","v":0},{"$f":"IF(COUNT($A17:$AA17)>0,Export1!$C$5,)","v":0},{"$f":"IF(COUNT($A17:$AA17)>0,Export1!$C$7,)","v":0},{"$f":"IF(COUNT($A17:$AA17)>0,Export1!$C$9,)","v":0},{"$f":"IF(COUNT($A17:$AA17)>0,Export1!$C$11,)","v":0},"Zusatzfrage 16"]
[null,null,null,null,null,null,null,null,null,null,null,null,null,null,null,null,null,null,null,null,null,null,null,null,null,null,null,{"$f":"IF(COUNT($A18:$AA18)>0,Export1!$C$3,)","v":0},{"$f":"IF(COUNT($A18:$AA18)>0,Export1!$C$5,)","v":0},{"$f":"IF(COUNT($A18:$AA18)>0,Export1!$C$7,)","v":0},{"$f":"IF(COUNT($A18:$AA18)>0,Export1!$C$9,)","v":0},{"$f":"IF(COUNT($A18:$AA18)>0,Export1!$C$11,)","v":0},"Zusatzfrage 17"]
[null,null,null,null,null,null,null,null,null,null,null,null,null,null,null,null,null,null,null,null,null,null,null,null,null,null,null,{"$f":"IF(COUNT($A19:$AA19)>0,Export1!$C$3,)","v":0},{"$f":"IF(COUNT($A19:$AA19)>0,Export1!$C$5,)","v":0},{"$f":"IF(COUNT($A19:$AA19)>0,Export1!$C$7,)","v":0},{"$f":"IF(COUNT($A19:$AA19)>0,Export1!$C$9,)","v":0},{"$f":"IF(COUNT($A19:$AA19)>0,Export1!$C$11,)","v":0},"Zusatzfrage 18"]
[null,null,null,null,null,null,null,null,null,null,null,null,null,null,null,null,null,null,null,null,null,null,null,null,null,null,null,{"$f":"IF(COUNT($A20:$AA20)>0,Export1!$C$3,)","v":0},{"$f":"IF(COUNT($A20:$AA20)>0,Export1!$C$5,)","v":0},{"$f":"IF(COUNT($A20:$AA20)>0,Export1!$C$7,)","v":0},{"$f":"IF(COUNT($A20:$AA20)>0,Export1!$C$9,)","v":0},{"$f":"IF(COUNT($A20:$AA20)>0,Export1!$C$11,)","v":0},"Zusatzfrage 19"]
[null,null,null,null,null,null,null,null,null,null,null,null,null,null,null,null,null,null,null,null,null,null,null,null,null,null,null,{"$f":"IF(COUNT($A21:$AA21)>0,Export1!$C$3,)","v":0},{"$f":"IF(COUNT($A21:$AA21)>0,Export1!$C$5,)","v":0},{"$f":"IF(COUNT($A21:$AA21)>0,Export1!$C$7,)","v":0},{"$f":"IF(COUNT($A21:$AA21)>0,Export1!$C$9,)","v":0},{"$f":"IF(COUNT($A21:$AA21)>0,Export1!$C$11,)","v":0},"Zusatzfrage 20"]
[null,null,null,null,null,null,null,null,null,null,null,null,null,null,null,null,null,null,null,null,null,null,null,null,null,null,null,{"$f":"IF(COUNT($A22:$AA22)>0,Export1!$C$3,)","v":0},{"$f":"IF(COUNT($A22:$AA22)>0,Export1!$C$5,)","v":0},{"$f":"IF(COUNT($A22:$AA22)>0,Export1!$C$7,)","v":0},{"$f":"IF(COUNT($A22:$AA22)>0,Export1!$C$9,)","v":0},{"$f":"IF(COUNT($A22:$AA22)>0,Export1!$C$11,)","v":0}]
[null,null,null,null,null,null,null,null,null,null,null,null,null,null,null,null,null,null,null,null,null,null,null,null,null,null,null,{"$f":"IF(COUNT($A23:$AA23)>0,Export1!$C$3,)","v":0},{"$f":"IF(COUNT($A23:$AA23)>0,Export1!$C$5,)","v":0},{"$f":"IF(COUNT($A23:$AA23)>0,Export1!$C$7,)","v":0},{"$f":"IF(COUNT($A23:$AA23)>0,Export1!$C$9,)","v":0},{"$f":"IF(COUNT($A23:$AA23)>0,Export1!$C$11,)","v":0}]
[null,null,null,null,null,null,null,null,null,null,null,null,null,null,null,null,null,null,null,null,null,null,null,null,null,null,null,{"$f":"IF(COUNT($A24:$AA24)>0,Export1!$C$3,)","v":0},{"$f":"IF(COUNT($A24:$AA24)>0,Export1!$C$5,)","v":0},{"$f":"IF(COUNT($A24:$AA24)>0,Export1!$C$7,)","v":0},{"$f":"IF(COUNT($A24:$AA24)>0,Export1!$C$9,)","v":0},{"$f":"IF(COUNT($A24:$AA24)>0,Export1!$C$11,)","v":0}]
[null,null,null,null,null,null,null,null,null,null,null,null,null,null,null,null,null,null,null,null,null,null,null,null,null,null,null,{"$f":"IF(COUNT($A25:$AA25)>0,Export1!$C$3,)","v":0},{"$f":"IF(COUNT($A25:$AA25)>0,Export1!$C$5,)","v":0},{"$f":"IF(COUNT($A25:$AA25)>0,Export1!$C$7,)","v":0},{"$f":"IF(COUNT($A25:$AA25)>0,Export1!$C$9,)","v":0},{"$f":"IF(COUNT($A25:$AA25)>0,Export1!$C$11,)","v":0}]
[null,null,null,null,null,null,null,null,null,null,null,null,null,null,null,null,null,null,null,null,null,null,null,null,null,null,null,{"$f":"IF(COUNT($A26:$AA26)>0,Export1!$C$3,)","v":0},{"$f":"IF(COUNT($A26:$AA26)>0,Export1!$C$5,)","v":0},{"$f":"IF(COUNT($A26:$AA26)>0,Export1!$C$7,)","v":0},{"$f":"IF(COUNT($A26:$AA26)>0,Export1!$C$9,)","v":0},{"$f":"IF(COUNT($A26:$AA26)>0,Export1!$C$11,)","v":0}]
[null,null,null,null,null,null,null,null,null,null,null,null,null,null,null,null,null,null,null,null,null,null,null,null,null,null,null,{"$f":"IF(COUNT($A27:$AA27)>0,Export1!$C$3,)","v":0},{"$f":"IF(COUNT($A27:$AA27)>0,Export1!$C$5,)","v":0},{"$f":"IF(COUNT($A27:$AA27)>0,Export1!$C$7,)","v":0},{"$f":"IF(COUNT($A27:$AA27)>0,Export1!$C$9,)","v":0},{"$f":"IF(COUNT($A27:$AA27)>0,Export1!$C$11,)","v":0}]
[null,null,null,null,null,null,null,null,null,null,null,null,null,null,null,null,null,null,null,null,null,null,null,null,null,null,null,{"$f":"IF(COUNT($A28:$AA28)>0,Export1!$C$3,)","v":0},{"$f":"IF(COUNT($A28:$AA28)>0,Export1!$C$5,)","v":0},{"$f":"IF(COUNT($A28:$AA28)>0,Export1!$C$7,)","v":0},{"$f":"IF(COUNT($A28:$AA28)>0,Export1!$C$9,)","v":0},{"$f":"IF(COUNT($A28:$AA28)>0,Export1!$C$11,)","v":0}]
[null,null,null,null,null,null,null,null,null,null,null,null,null,null,null,null,null,null,null,null,null,null,null,null,null,null,null,{"$f":"IF(COUNT($A29:$AA29)>0,Export1!$C$3,)","v":0},{"$f":"IF(COUNT($A29:$AA29)>0,Export1!$C$5,)","v":0},{"$f":"IF(COUNT($A29:$AA29)>0,Export1!$C$7,)","v":0},{"$f":"IF(COUNT($A29:$AA29)>0,Export1!$C$9,)","v":0},{"$f":"IF(COUNT($A29:$AA29)>0,Export1!$C$11,)","v":0}]
[null,null,null,null,null,null,null,null,null,null,null,null,null,null,null,null,null,null,null,null,null,null,null,null,null,null,null,{"$f":"IF(COUNT($A30:$AA30)>0,Export1!$C$3,)","v":0},{"$f":"IF(COUNT($A30:$AA30)>0,Export1!$C$5,)","v":0},{"$f":"IF(COUNT($A30:$AA30)>0,Export1!$C$7,)","v":0},{"$f":"IF(COUNT($A30:$AA30)>0,Export1!$C$9,)","v":0},{"$f":"IF(COUNT($A30:$AA30)>0,Export1!$C$11,)","v":0}]
[null,null,null,null,null,null,null,null,null,null,null,null,null,null,null,null,null,null,null,null,null,null,null,null,null,null,null,{"$f":"IF(COUNT($A31:$AA31)>0,Export1!$C$3,)","v":0},{"$f":"IF(COUNT($A31:$AA31)>0,Export1!$C$5,)","v":0},{"$f":"IF(COUNT($A31:$AA31)>0,Export1!$C$7,)","v":0},{"$f":"IF(COUNT($A31:$AA31)>0,Export1!$C$9,)","v":0},{"$f":"IF(COUNT($A31:$AA31)>0,Export1!$C$11,)","v":0}]
[null,null,null,null,null,null,null,null,null,null,null,null,null,null,null,null,null,null,null,null,null,null,null,null,null,null,null,{"$f":"IF(COUNT($A32:$AA32)>0,Export1!$C$3,)","v":0},{"$f":"IF(COUNT($A32:$AA32)>0,Export1!$C$5,)","v":0},{"$f":"IF(COUNT($A32:$AA32)>0,Export1!$C$7,)","v":0},{"$f":"IF(COUNT($A32:$AA32)>0,Export1!$C$9,)","v":0},{"$f":"IF(COUNT($A32:$AA32)>0,Export1!$C$11,)","v":0}]
[null,null,null,null,null,null,null,null,null,null,null,null,null,null,null,null,null,null,null,null,null,null,null,null,null,null,null,{"$f":"IF(COUNT($A33:$AA33)>0,Export1!$C$3,)","v":0},{"$f":"IF(COUNT($A33:$AA33)>0,Export1!$C$5,)","v":0},{"$f":"IF(COUNT($A33:$AA33)>0,Export1!$C$7,)","v":0},{"$f":"IF(COUNT($A33:$AA33)>0,Export1!$C$9,)","v":0},{"$f":"IF(COUNT($A33:$AA33)>0,Export1!$C$11,)","v":0}]
[null,null,null,null,null,null,null,null,null,null,null,null,null,null,null,null,null,null,null,null,null,null,null,null,null,null,null,{"$f":"IF(COUNT($A34:$AA34)>0,Export1!$C$3,)","v":0},{"$f":"IF(COUNT($A34:$AA34)>0,Export1!$C$5,)","v":0},{"$f":"IF(COUNT($A34:$AA34)>0,Export1!$C$7,)","v":0},{"$f":"IF(COUNT($A34:$AA34)>0,Export1!$C$9,)","v":0},{"$f":"IF(COUNT($A34:$AA34)>0,Export1!$C$11,)","v":0}]
[null,null,null,null,null,null,null,null,null,null,null,null,null,null,null,null,null,null,null,null,null,null,null,null,null,null,null,{"$f":"IF(COUNT($A35:$AA35)>0,Export1!$C$3,)","v":0},{"$f":"IF(COUNT($A35:$AA35)>0,Export1!$C$5,)","v":0},{"$f":"IF(COUNT($A35:$AA35)>0,Export1!$C$7,)","v":0},{"$f":"IF(COUNT($A35:$AA35)>0,Export1!$C$9,)","v":0},{"$f":"IF(COUNT($A35:$AA35)>0,Export1!$C$11,)","v":0}]
[null,null,null,null,null,null,null,null,null,null,null,null,null,null,null,null,null,null,null,null,null,null,null,null,null,null,null,{"$f":"IF(COUNT($A36:$AA36)>0,Export1!$C$3,)","v":0},{"$f":"IF(COUNT($A36:$AA36)>0,Export1!$C$5,)","v":0},{"$f":"IF(COUNT($A36:$AA36)>0,Export1!$C$7,)","v":0},{"$f":"IF(COUNT($A36:$AA36)>0,Export1!$C$9,)","v":0},{"$f":"IF(COUNT($A36:$AA36)>0,Export1!$C$11,)","v":0}]

{"sheet":"Export1","index":13,"n_rows":17,"n_cols":12,"rows_kept":17,"cut":false,"hidden":true,"merged":[[15,0,16,2],[0,0,0,2],[11,1,11,2],[14,0,14,2]]}
["Bitte geben Sie die folgenden Angabe, bevor Sie die eingegebenen Daten exportieren und an uns verschicken:",null,null,null,null,null,null,null,null,1,null,"Baden-Württemberg"]
[null,null,null,null,null,null,null,null,null,2,null,"Bayern"]
["1.","Bitte wählen Sie das Bundesland Ihrer Schule aus:",null,null,null,null,null,null,null,3,null,"Berlin"]
[null,null,null,null,null,null,null,null,null,4,null,"Brandenburg"]
["2.","Bitte wählen Sie Ihre Schulart aus der Liste aus:",null,null,null,null,null,null,null,5,"Grundschule","Bremen"]
[null,null,null,null,null,null,null,null,null,6,"Hauptschule","Hamburg"]
["3.","Bitte wählen Sie die Klassenstufe Ihrer Klasse aus:",null,null,null,null,null,null,null,7,"Realschule","Hessen"]
[null,null,null,null,null,null,null,null,null,8,"Realschuleplus","Mecklenburg-Vorpommern"]
["4.","Bitte geben Sie das Unterrichtsfach ein:",null,null,null,null,null,null,null,9,"Gesamtschule","Niedersachsen"]
[null,null,null,null,null,null,null,null,null,10,"Gymnasium","Nordrhein Westfalen"]
["5.","Bitte geben Sie Ihre 10-stellige ID-Nummer: ",null,null,null,null,null,null,null,11,"Berufsbildende Schule","Rheinland-Pfalz"]
[null,"(2 Anfangsbuchstaben des Vornamens der Mutter und ihr Geburtsdatum in Form TT.MM.JJJJ)",null,null,null,null,null,null,null,12,"Andere","Saarland"]
[null,"óWarum ist eine ID hier nötig?"]
[null,null,null,null,null,null,null,null,null,13,null,"Sachsen"]
["Jetzt bitte klicken Sie das Button an, um Daten zu exportieren:",null,null,null,null,null,null,null,null,null,null,"Sachsen-Anhalt"]
["Unter dem Ordner, wo Sie dieses Programm gespeichert haben, befinden sich jetzt ein neuer Ordner \"Export\". Öffnen Sie bitte diesen Ordner \"Export\" und senden Sie bitte beide Dateien darunter an kmk-unterrichtsdiagnostik@uni-landau.de",null,null,null,null,null,null,null,null,null,null,"Schleswig-Holstein"]
[null,null,null,null,null,null,null,null,null,null,null,"Thüringen"]

{"sheet":"sfb2","index":14,"n_rows":36,"n_cols":56,"rows_kept":36,"cut":false,"hidden":true,"merged":[]}
["bsI1","bsI2","bsI3","bsI4","bsI5","bsI6","bsI7","bsI8","bsI9","bsI10","bsI11","bsI12","bsI13","bsI14","bsI15","bsI16","bsI17","bsI18","bsI19","bsI20","bsI21","bsI22","bsI23","bsI24","bsI25","bsI26","bsI27","bsI28","bsI29","bsI30","Land","Schulart","Stufe","Fach","Lehrer_ID","Zusatzitemtexte","bsI31","bsI32","bsI33","bsI34","bsI35","bsI36","bsI37","bsI38","bsI39","bsI40","bsI41","bsI42","bsI43","bsI44","bsI45","bsI46","bsI47","bsI48","bsI49","bsI50"]
[2,null,null,null,null,null,null,null,null,null,null,null,null,null,null,null,null,null,null,null,null,null,null,null,null,null,null,null,null,null,{"$f":"IF(COUNT($A2:$AD2)>0,Export2!$C$3,)","v":0},{"$f":"IF(COUNT($A2:$AD2)>0,Export2!$C$5,)","v":0},{"$f":"IF(COUNT($A2:$AD2)>0,Export2!$C$7,)","v":0},{"$f":"IF(COUNT($A2:$AD2)>0,Export2!$C$9,)","v":0},{"$f":"IF(COUNT($A2:$AD2)>0,Export2!$C$11,)","v":0},"Zusatzfrage 1"]
[2,null,null,null,null,null,null,null,null,null,null,null,null,null,null,null,null,null,null,null,null,null,null,null,null,null,null,null,null,null,{"$f":"IF(COUNT($A3:$AD3)>0,Export2!$C$3,)","v":0},{"$f":"IF(COUNT($A3:$AD3)>0,Export2!$C$5,)","v":0},{"$f":"IF(COUNT($A3:$AD3)>0,Export2!$C$7,)","v":0},{"$f":"IF(COUNT($A3:$AD3)>0,Export2!$C$9,)","v":0},{"$f":"IF(COUNT($A3:$AD3)>0,Export2!$C$11,)","v":0},"Zusatzfrage 2"]
[null,null,null,null,null,null,null,null,null,null,null,null,null,null,null,null,null,null,null,null,null,null,null,null,null,null,null,null,null,null,{"$f":"IF(COUNT($A4:$AD4)>0,Export2!$C$3,)","v":0},{"$f":"IF(COUNT($A4:$AD4)>0,Export2!$C$5,)","v":0},{"$f":"IF(COUNT($A4:$AD4)>0,Export2!$C$7,)","v":0},{"$f":"IF(COUNT($A4:$AD4)>0,Export2!$C$9,)","v":0},{"$f":"IF(COUNT($A4:$AD4)>0,Export2!$C$11,)","v":0},"Zusatzfrage 3"]
[null,null,null,null,null,null,null,null,null,null,null,null,null,null,null,null,null,null,null,null,null,null,null,null,null,null,null,null,null,null,{"$f":"IF(COUNT($A5:$AD5)>0,Export2!$C$3,)","v":0},{"$f":"IF(COUNT($A5:$AD5)>0,Export2!$C$5,)","v":0},{"$f":"IF(COUNT($A5:$AD5)>0,Export2!$C$7,)","v":0},{"$f":"IF(COUNT($A5:$AD5)>0,Export2!$C$9,)","v":0},{"$f":"IF(COUNT($A5:$AD5)>0,Export2!$C$11,)","v":0},"Zusatzfrage 4"]
[null,null,null,null,null,null,null,null,null,null,null,null,null,null,null,null,null,null,null,null,null,null,null,null,null,null,null,null,null,null,{"$f":"IF(COUNT($A6:$AD6)>0,Export2!$C$3,)","v":0},{"$f":"IF(COUNT($A6:$AD6)>0,Export2!$C$5,)","v":0},{"$f":"IF(COUNT($A6:$AD6)>0,Export2!$C$7,)","v":0},{"$f":"IF(COUNT($A6:$AD6)>0,Export2!$C$9,)","v":0},{"$f":"IF(COUNT($A6:$AD6)>0,Export2!$C$11,)","v":0},"Zusatzfrage 5"]
[null,null,null,null,null,null,null,null,null,null,null,null,null,null,null,null,null,null,null,null,null,null,null,null,null,null,null,null,null,null,{"$f":"IF(COUNT($A7:$AD7)>0,Export2!$C$3,)","v":0},{"$f":"IF(COUNT($A7:$AD7)>0,Export2!$C$5,)","v":0},{"$f":"IF(COUNT($A7:$AD7)>0,Export2!$C$7,)","v":0},{"$f":"IF(COUNT($A7:$AD7)>0,Export2!$C$9,)","v":0},{"$f":"IF(COUNT($A7:$AD7)>0,Export2!$C$11,)","v":0},"Zusatzfrage 6"]
[null,null,null,null,null,null,null,null,null,null,null,null,null,null,null,null,null,null,null,null,null,null,null,null,null,null,null,null,null,null,{"$f":"IF(COUNT($A8:$AD8)>0,Export2!$C$3,)","v":0},{"$f":"IF(COUNT($A8:$AD8)>0,Export2!$C$5,)","v":0},{"$f":"IF(COUNT($A8:$AD8)>0,Export2!$C$7,)","v":0},{"$f":"IF(COUNT($A8:$AD8)>0,Export2!$C$9,)","v":0},{"$f":"IF(COUNT($A8:$AD8)>0,Export2!$C$11,)","v":0},"Zusatzfrage 7"]
[null,null,null,null,null,null,null,null,null,null,null,null,null,null,null,null,null,null,null,null,null,null,null,null,null,null,null,null,null,null,{"$f":"IF(COUNT($A9:$AD9)>0,Export2!$C$3,)","v":0},{"$f":"IF(COUNT($A9:$AD9)>0,Export2!$C$5,)","v":0},{"$f":"IF(COUNT($A9:$AD9)>0,Export2!$C$7,)","v":0},{"$f":"IF(COUNT($A9:$AD9)>0,Export2!$C$9,)","v":0},{"$f":"IF(COUNT($A9:$AD9)>0,Export2!$C$11,)","v":0},"Zusatzfrage 8"]
[null,null,null,null,null,null,null,null,null,null,null,null,null,null,null,null,null,null,null,null,null,null,null,null,null,null,null,null,null,null,{"$f":"IF(COUNT($A10:$AD10)>0,Export2!$C$3,)","v":0},{"$f":"IF(COUNT($A10:$AD10)>0,Export2!$C$5,)","v":0},{"$f":"IF(COUNT($A10:$AD10)>0,Export2!$C$7,)","v":0},{"$f":"IF(COUNT($A10:$AD10)>0,Export2!$C$9,)","v":0},{"$f":"IF(COUNT($A10:$AD10)>0,Export2!$C$11,)","v":0},"Zusatzfrage 9"]
[null,null,null,null,null,null,null,null,null,null,null,null,null,null,null,null,null,null,null,null,null,null,null,null,null,null,null,null,null,null,{"$f":"IF(COUNT($A11:$AD11)>0,Export2!$C$3,)","v":0},{"$f":"IF(COUNT($A11:$AD11)>0,Export2!$C$5,)","v":0},{"$f":"IF(COUNT($A11:$AD11)>0,Export2!$C$7,)","v":0},{"$f":"IF(COUNT($A11:$AD11)>0,Export2!$C$9,)","v":0},{"$f":"IF(COUNT($A11:$AD11)>0,Export2!$C$11,)","v":0},"Zusatzfrage 10"]
[null,null,null,null,null,null,null,null,null,null,null,null,null,null,null,null,null,null,null,null,null,null,null,null,null,null,null,null,null,null,{"$f":"IF(COUNT($A12:$AD12)>0,Export2!$C$3,)","v":0},{"$f":"IF(COUNT($A12:$AD12)>0,Export2!$C$5,)","v":0},{"$f":"IF(COUNT($A12:$AD12)>0,Export2!$C$7,)","v":0},{"$f":"IF(COUNT($A12:$AD12)>0,Export2!$C$9,)","v":0},{"$f":"IF(COUNT($A12:$AD12)>0,Export2!$C$11,)","v":0},"Zusatzfrage 11"]
[null,null,null,null,null,null,null,null,null,null,null,null,null,null,null,null,null,null,null,null,null,null,null,null,null,null,null,null,null,null,{"$f":"IF(COUNT($A13:$AD13)>0,Export2!$C$3,)","v":0},{"$f":"IF(COUNT($A13:$AD13)>0,Export2!$C$5,)","v":0},{"$f":"IF(COUNT($A13:$AD13)>0,Export2!$C$7,)","v":0},{"$f":"IF(COUNT($A13:$AD13)>0,Export2!$C$9,)","v":0},{"$f":"IF(COUNT($A13:$AD13)>0,Export2!$C$11,)","v":0},"Zusatzfrage 12"]
[null,null,null,null,null,null,null,null,null,null,null,null,null,null,null,null,null,null,null,null,null,null,null,null,null,null,null,null,null,null,{"$f":"IF(COUNT($A14:$AD14)>0,Export2!$C$3,)","v":0},{"$f":"IF(COUNT($A14:$AD14)>0,Export2!$C$5,)","v":0},{"$f":"IF(COUNT($A14:$AD14)>0,Export2!$C$7,)","v":0},{"$f":"IF(COUNT($A14:$AD14)>0,Export2!$C$9,)","v":0},{"$f":"IF(COUNT($A14:$AD14)>0,Export2!$C$11,)","v":0},"Zusatzfrage 13"]
[null,null,null,null,null,null,null,null,null,null,null,null,null,null,null,null,null,null,null,null,null,null,null,null,null,null,null,null,null,null,{"$f":"IF(COUNT($A15:$AD15)>0,Export2!$C$3,)","v":0},{"$f":"IF(COUNT($A15:$AD15)>0,Export2!$C$5,)","v":0},{"$f":"IF(COUNT($A15:$AD15)>0,Export2!$C$7,)","v":0},{"$f":"IF(COUNT($A15:$AD15)>0,Export2!$C$9,)","v":0},{"$f":"IF(COUNT($A15:$AD15)>0,Export2!$C$11,)","v":0},"Zusatzfrage 14"]
[null,null,null,null,null,null,null,null,null,null,null,null,null,null,null,null,null,null,null,null,null,null,null,null,null,null,null,null,null,null,{"$f":"IF(COUNT($A16:$AD16)>0,Export2!$C$3,)","v":0},{"$f":"IF(COUNT($A16:$AD16)>0,Export2!$C$5,)","v":0},{"$f":"IF(COUNT($A16:$AD16)>0,Export2!$C$7,)","v":0},{"$f":"IF(COUNT($A16:$AD16)>0,Export2!$C$9,)","v":0},{"$f":"IF(COUNT($A16:$AD16)>0,Export2!$C$11,)","v":0},"Zusatzfrage 15"]
[null,null,null,null,null,null,null,null,null,null,null,null,null,null,null,null,null,null,null,null,null,null,null,null,null,null,null,null,null,null,{"$f":"IF(COUNT($A17:$AD17)>0,Export2!$C$3,)","v":0},{"$f":"IF(COUNT($A17:$AD17)>0,Export2!$C$5,)","v":0},{"$f":"IF(COUNT($A17:$AD17)>0,Export2!$C$7,)","v":0},{"$f":"IF(COUNT($A17:$AD17)>0,Export2!$C$9,)","v":0},{"$f":"IF(COUNT($A17:$AD17)>0,Export2!$C$11,)","v":0},"Zusatzfrage 16"]
[null,null,null,null,null,null,null,null,null,null,null,null,null,null,null,null,null,null,null,null,null,null,null,null,null,null,null,null,null,null,{"$f":"IF(COUNT($A18:$AD18)>0,Export2!$C$3,)","v":0},{"$f":"IF(COUNT($A18:$AD18)>0,Export2!$C$5,)","v":0},{"$f":"IF(COUNT($A18:$AD18)>0,Export2!$C$7,)","v":0},{"$f":"IF(COUNT($A18:$AD18)>0,Export2!$C$9,)","v":0},{"$f":"IF(COUNT($A18:$AD18)>0,Export2!$C$11,)","v":0},"Zusatzfrage 17"]
[null,null,null,null,null,null,null,null,null,null,null,null,null,null,null,null,null,null,null,null,null,null,null,null,null,null,null,null,null,null,{"$f":"IF(COUNT($A19:$AD19)>0,Export2!$C$3,)","v":0},{"$f":"IF(COUNT($A19:$AD19)>0,Export2!$C$5,)","v":0},{"$f":"IF(COUNT($A19:$AD19)>0,Export2!$C$7,)","v":0},{"$f":"IF(COUNT($A19:$AD19)>0,Export2!$C$9,)","v":0},{"$f":"IF(COUNT($A19:$AD19)>0,Export2!$C$11,)","v":0},"Zusatzfrage 18"]
[null,null,null,null,null,null,null,null,null,null,null,null,null,null,null,null,null,null,null,null,null,null,null,null,null,null,null,null,null,null,{"$f":"IF(COUNT($A20:$AD20)>0,Export2!$C$3,)","v":0},{"$f":"IF(COUNT($A20:$AD20)>0,Export2!$C$5,)","v":0},{"$f":"IF(COUNT($A20:$AD20)>0,Export2!$C$7,)","v":0},{"$f":"IF(COUNT($A20:$AD20)>0,Export2!$C$9,)","v":0},{"$f":"IF(COUNT($A20:$AD20)>0,Export2!$C$11,)","v":0},"Zusatzfrage 19"]
[null,null,null,null,null,null,null,null,null,null,null,null,null,null,null,null,null,null,null,null,null,null,null,null,null,null,null,null,null,null,{"$f":"IF(COUNT($A21:$AD21)>0,Export2!$C$3,)","v":0},{"$f":"IF(COUNT($A21:$AD21)>0,Export2!$C$5,)","v":0},{"$f":"IF(COUNT($A21:$AD21)>0,Export2!$C$7,)","v":0},{"$f":"IF(COUNT($A21:$AD21)>0,Export2!$C$9,)","v":0},{"$f":"IF(COUNT($A21:$AD21)>0,Export2!$C$11,)","v":0},"Zusatzfrage 20"]
[null,null,null,null,null,null,null,null,null,null,null,null,null,null,null,null,null,null,null,null,null,null,null,null,null,null,null,null,null,null,{"$f":"IF(COUNT($A22:$AD22)>0,Export2!$C$3,)","v":0},{"$f":"IF(COUNT($A22:$AD22)>0,Export2!$C$5,)","v":0},{"$f":"IF(COUNT($A22:$AD22)>0,Export2!$C$7,)","v":0},{"$f":"IF(COUNT($A22:$AD22)>0,Export2!$C$9,)","v":0},{"$f":"IF(COUNT($A22:$AD22)>0,Export2!$C$11,)","v":0}]
[null,null,null,null,null,null,null,null,null,null,null,null,null,null,null,null,null,null,null,null,null,null,null,null,null,null,null,null,null,null,{"$f":"IF(COUNT($A23:$AD23)>0,Export2!$C$3,)","v":0},{"$f":"IF(COUNT($A23:$AD23)>0,Export2!$C$5,)","v":0},{"$f":"IF(COUNT($A23:$AD23)>0,Export2!$C$7,)","v":0},{"$f":"IF(COUNT($A23:$AD23)>0,Export2!$C$9,)","v":0},{"$f":"IF(COUNT($A23:$AD23)>0,Export2!$C$11,)","v":0}]
[null,null,null,null,null,null,null,null,null,null,null,null,null,null,null,null,null,null,null,null,null,null,null,null,null,null,null,null,null,null,{"$f":"IF(COUNT($A24:$AD24)>0,Export2!$C$3,)","v":0},{"$f":"IF(COUNT($A24:$AD24)>0,Export2!$C$5,)","v":0},{"$f":"IF(COUNT($A24:$AD24)>0,Export2!$C$7,)","v":0},{"$f":"IF(COUNT($A24:$AD24)>0,Export2!$C$9,)","v":0},{"$f":"IF(COUNT($A24:$AD24)>0,Export2!$C$11,)","v":0}]
[null,null,null,null,null,null,null,null,null,null,null,null,null,null,null,null,null,null,null,null,null,null,null,null,null,null,null,null,null,null,{"$f":"IF(COUNT($A25:$AD25)>0,Export2!$C$3,)","v":0},{"$f":"IF(COUNT($A25:$AD25)>0,Export2!$C$5,)","v":0},{"$f":"IF(COUNT($A25:$AD25)>0,Export2!$C$7,)","v":0},{"$f":"IF(COUNT($A25:$AD25)>0,Export2!$C$9,)","v":0},{"$f":"IF(COUNT($A25:$AD25)>0,Export2!$C$11,)","v":0}]
[null,null,null,null,null,null,null,null,null,null,null,null,null,null,null,null,null,null,null,null,null,null,null,null,null,null,null,null,null,null,{"$f":"IF(COUNT($A26:$AD26)>0,Export2!$C$3,)","v":0},{"$f":"IF(COUNT($A26:$AD26)>0,Export2!$C$5,)","v":0},{"$f":"IF(COUNT($A26:$AD26)>0,Export2!$C$7,)","v":0},{"$f":"IF(COUNT($A26:$AD26)>0,Export2!$C$9,)","v":0},{"$f":"IF(COUNT($A26:$AD26)>0,Export2!$C$11,)","v":0}]
[null,null,null,null,null,null,null,null,null,null,null,null,null,null,null,null,null,null,null,null,null,null,null,null,null,null,null,null,null,null,{"$f":"IF(COUNT($A27:$AD27)>0,Export2!$C$3,)","v":0},{"$f":"IF(COUNT($A27:$AD27)>0,Export2!$C$5,)","v":0},{"$f":"IF(COUNT($A27:$AD27)>0,Export2!$C$7,)","v":0},{"$f":"IF(COUNT($A27:$AD27)>0,Export2!$C$9,)","v":0},{"$f":"IF(COUNT($A27:$AD27)>0,Export2!$C$11,)","v":0}]
[null,null,null,null,null,null,null,null,null,null,null,null,null,null,null,null,null,null,null,null,null,null,null,null,null,null,null,null,null,null,{"$f":"IF(COUNT($A28:$AD28)>0,Export2!$C$3,)","v":0},{"$f":"IF(COUNT($A28:$AD28)>0,Export2!$C$5,)","v":0},{"$f":"IF(COUNT($A28:$AD28)>0,Export2!$C$7,)","v":0},{"$f":"IF(COUNT($A28:$AD28)>0,Export2!$C$9,)","v":0},{"$f":"IF(COUNT($A28:$AD28)>0,Export2!$C$11,)","v":0}]
[null,null,null,null,null,null,null,null,null,null,null,null,null,null,null,null,null,null,null,null,null,null,null,null,null,null,null,null,null,null,{"$f":"IF(COUNT($A29:$AD29)>0,Export2!$C$3,)","v":0},{"$f":"IF(COUNT($A29:$AD29)>0,Export2!$C$5,)","v":0},{"$f":"IF(COUNT($A29:$AD29)>0,Export2!$C$7,)","v":0},{"$f":"IF(COUNT($A29:$AD29)>0,Export2!$C$9,)","v":0},{"$f":"IF(COUNT($A29:$AD29)>0,Export2!$C$11,)","v":0}]
[null,null,null,null,null,null,null,null,null,null,null,null,null,null,null,null,null,null,null,null,null,null,null,null,null,null,null,null,null,null,{"$f":"IF(COUNT($A30:$AD30)>0,Export2!$C$3,)","v":0},{"$f":"IF(COUNT($A30:$AD30)>0,Export2!$C$5,)","v":0},{"$f":"IF(COUNT($A30:$AD30)>0,Export2!$C$7,)","v":0},{"$f":"IF(COUNT($A30:$AD30)>0,Export2!$C$9,)","v":0},{"$f":"IF(COUNT($A30:$AD30)>0,Export2!$C$11,)","v":0}]
[null,null,null,null,null,null,null,null,null,null,null,null,null,null,null,null,null,null,null,null,null,null,null,null,null,null,null,null,null,null,{"$f":"IF(COUNT($A31:$AD31)>0,Export2!$C$3,)","v":0},{"$f":"IF(COUNT($A31:$AD31)>0,Export2!$C$5,)","v":0},{"$f":"IF(COUNT($A31:$AD31)>0,Export2!$C$7,)","v":0},{"$f":"IF(COUNT($A31:$AD31)>0,Export2!$C$9,)","v":0},{"$f":"IF(COUNT($A31:$AD31)>0,Export2!$C$11,)","v":0}]
[null,null,null,null,null,null,null,null,null,null,null,null,null,null,null,null,null,null,null,null,null,null,null,null,null,null,null,null,null,null,{"$f":"IF(COUNT($A32:$AD32)>0,Export2!$C$3,)","v":0},{"$f":"IF(COUNT($A32:$AD32)>0,Export2!$C$5,)","v":0},{"$f":"IF(COUNT($A32:$AD32)>0,Export2!$C$7,)","v":0},{"$f":"IF(COUNT($A32:$AD32)>0,Export2!$C$9,)","v":0},{"$f":"IF(COUNT($A32:$AD32)>0,Export2!$C$11,)","v":0}]
[null,null,null,null,null,null,null,null,null,null,null,null,null,null,null,null,null,null,null,null,null,null,null,null,null,null,null,null,null,null,{"$f":"IF(COUNT($A33:$AD33)>0,Export2!$C$3,)","v":0},{"$f":"IF(COUNT($A33:$AD33)>0,Export2!$C$5,)","v":0},{"$f":"IF(COUNT($A33:$AD33)>0,Export2!$C$7,)","v":0},{"$f":"IF(COUNT($A33:$AD33)>0,Export2!$C$9,)","v":0},{"$f":"IF(COUNT($A33:$AD33)>0,Export2!$C$11,)","v":0}]
[null,null,null,null,null,null,null,null,null,null,null,null,null,null,null,null,null,null,null,null,null,null,null,null,null,null,null,null,null,null,{"$f":"IF(COUNT($A34:$AD34)>0,Export2!$C$3,)","v":0},{"$f":"IF(COUNT($A34:$AD34)>0,Export2!$C$5,)","v":0},{"$f":"IF(COUNT($A34:$AD34)>0,Export2!$C$7,)","v":0},{"$f":"IF(COUNT($A34:$AD34)>0,Export2!$C$9,)","v":0},{"$f":"IF(COUNT($A34:$AD34)>0,Export2!$C$11,)","v":0}]
[null,null,null,null,null,null,null,null,null,null,null,null,null,null,null,null,null,null,null,null,null,null,null,null,null,null,null,null,null,null,{"$f":"IF(COUNT($A35:$AD35)>0,Export2!$C$3,)","v":0},{"$f":"IF(COUNT($A35:$AD35)>0,Export2!$C$5,)","v":0},{"$f":"IF(COUNT($A35:$AD35)>0,Export2!$C$7,)","v":0},{"$f":"IF(COUNT($A35:$AD35)>0,Export2!$C$9,)","v":0},{"$f":"IF(COUNT($A35:$AD35)>0,Export2!$C$11,)","v":0}]
[null,null,null,null,null,null,null,null,null,null,null,null,null,null,null,null,null,null,null,null,null,null,null,null,null,null,null,null,null,null,{"$f":"IF(COUNT($A36:$AD36)>0,Export2!$C$3,)","v":0},{"$f":"IF(COUNT($A36:$AD36)>0,Export2!$C$5,)","v":0},{"$f":"IF(COUNT($A36:$AD36)>0,Export2!$C$7,)","v":0},{"$f":"IF(COUNT($A36:$AD36)>0,Export2!$C$9,)","v":0},{"$f":"IF(COUNT($A36:$AD36)>0,Export2!$C$11,)","v":0}]

{"sheet":"Export2","index":15,"n_rows":17,"n_cols":12,"rows_kept":17,"cut":false,"hidden":true,"merged":[[15,0,16,2],[0,0,0,2],[11,1,11,2],[14,0,14,2]]}
["Bitte geben Sie die folgenden Angabe, bevor Sie die eingegebenen Daten exportieren und an uns verschicken:",null,null,null,null,null,null,null,null,1,null,"Baden-Württemberg"]
[null,null,null,null,null,null,null,null,null,2,null,"Bayern"]
["1.","Bitte wählen Sie das Bundesland Ihrer Schule aus:",null,null,null,null,null,null,null,3,null,"Berlin"]
[null,null,null,null,null,null,null,null,null,4,null,"Brandenburg"]
["2.","Bitte wählen Sie Ihre Schulart aus der Liste aus:",null,null,null,null,null,null,null,5,"Grundschule","Bremen"]
[null,null,null,null,null,null,null,null,null,6,"Hauptschule","Hamburg"]
["3.","Bitte wählen Sie die Klassenstufe Ihrer Klasse aus:",null,null,null,null,null,null,null,7,"Realschule","Hessen"]
[null,null,null,null,null,null,null,null,null,8,"Realschuleplus","Mecklenburg-Vorpommern"]
["4.","Bitte geben Sie das Unterrichtsfach ein:",null,null,null,null,null,null,null,9,"Gesamtschule","Niedersachsen"]
[null,null,null,null,null,null,null,null,null,10,"Gymnasium","Nordrhein Westfalen"]
["5.","Bitte geben Sie Ihre 10-stellige ID-Nummer: ",null,null,null,null,null,null,null,11,"Berufsbildende Schule","Rheinland-Pfalz"]
[null,"(2 Anfangsbuchstaben des Vornamens der Mutter und ihr Geburtsdatum in Form TT.MM.JJJJ)",null,null,null,null,null,null,null,12,"Andere","Saarland"]
[null,"óWarum ist eine ID hier nötig?"]
[null,null,null,null,null,null,null,null,null,13,null,"Sachsen"]
["Jetzt bitte klicken Sie das Button an, um Daten zu exportieren:",null,null,null,null,null,null,null,null,null,null,"Sachsen-Anhalt"]
["Unter dem Ordner, wo Sie dieses Programm gespeichert haben, befinden sich jetzt ein neuer Ordner \"Export\". Öffnen Sie bitte diesen Ordner \"Export\" und senden Sie bitte alle Dateien darunter an kmk-unterrichtsdiagnostik@uni-landau.de",null,null,null,null,null,null,null,null,null,null,"Schleswig-Holstein"]
[null,null,null,null,null,null,null,null,null,null,null,"Thüringen"]

{"sheet":"A) Ergebnisse (6)","index":16,"n_rows":65,"n_cols":9,"rows_kept":65,"cut":false,"hidden":true,"merged":[[3,6,4,6],[2,0,2,5],[3,2,3,3],[3,4,3,5]]}
[]
[null,"Ergebnisse der Erhebung 1"]
[null,null,null,null,null,null,"Mittelwertsprofil"]
[null,null,"Schüler"]
[".","Erhebung 1","Verteilung der Antworten\n(1,     2,     3,     4)","N"]
[1,{"$f":"IF(FragenErstellen!B7=\"\",\"\",FragenErstellen!B7)","v":"Klassenführung"},null,{"$f":"'A) Daten'!E3","v":0},null,null,null,null,1.5]
[2,{"$f":"IF(FragenErstellen!B8=\"\",\"\",FragenErstellen!B8)","v":"Der Unterricht hat pünktlich begonnen."},null,{"$f":"'A) Daten'!E4","v":0},null,null,null,null,2.5]
[3,{"$f":"IF(FragenErstellen!B9=\"\",\"\",FragenErstellen!B9)","v":"Die Klassenregeln waren den Schüler/innen klar."},null,{"$f":"'A) Daten'!E5","v":0},null,null,null,null,3.5]
[4,{"$f":"IF(FragenErstellen!B10=\"\",\"\",FragenErstellen!B10)","v":"Die Schüler/innen konnten ungestört arbeiten."},null,{"$f":"'A) Daten'!E6","v":0},null,null,null,null,4.5]
[5,{"$f":"IF(FragenErstellen!B11=\"\",\"\",FragenErstellen!B11)","v":"Den Schüler/innen war im Laufe der Unterrichtsstunde jederzeit klar, was sie tun sollten."},null,{"$f":"'A) Daten'!E7","v":0},null,null,null,null,5.5]
[6,{"$f":"IF(FragenErstellen!B12=\"\",\"\",FragenErstellen!B12)","v":"Die gesamte Unterrichtsstunde wurde für den Lernstoff verwendet."},null,{"$f":"'A) Daten'!E8","v":0},null,null,null,null,6.5]
[7,{"$f":"IF(FragenErstellen!B13=\"\",\"\",FragenErstellen!B13)","v":"Lernförderliches Klima und Motivierung"},null,{"$f":"'A) Daten'!E9","v":0},null,null,null,null,7.5]
[8,{"$f":"IF(FragenErstellen!B14=\"\",\"\",FragenErstellen!B14)","v":"Mit Schülerbeiträgen ist die Lehrperson wertschätzend umgegangen."},null,{"$f":"'A) Daten'!E10","v":0},null,null,null,null,8.5]
[9,{"$f":"IF(FragenErstellen!B15=\"\",\"\",FragenErstellen!B15)","v":"Die Lehrperson war freundlich zu den Schüler/innen."},null,{"$f":"'A) Daten'!E11","v":0},null,null,null,null,9.5]
[10,{"$f":"IF(FragenErstellen!B16=\"\",\"\",FragenErstellen!B16)","v":"Die Lehrperson hat die Schüler/innen ausreden lassen, wenn sie dran waren."},null,{"$f":"'A) Daten'!E12","v":0},null,null,null,null,10.5]
[11,{"$f":"IF(FragenErstellen!B17=\"\",\"\",FragenErstellen!B17)","v":"Wenn die Lehrperson eine Frage gestellt hat, hatten die Schüler/innen ausreichend Zeit zum Nachdenken."},null,{"$f":"'A) Daten'!E13","v":0},null,null,null,null,11.5]
[12,{"$f":"IF(FragenErstellen!B18=\"\",\"\",FragenErstellen!B18)","v":"Die Lehrperson hat auflockernde Bemerkung gemacht."},null,{"$f":"'A) Daten'!E14","v":0},null,null,null,null,12.5]
[13,{"$f":"IF(FragenErstellen!B19=\"\",\"\",FragenErstellen!B19)","v":"Die Lehrperson hat die Schüler/innen für Beiträge zum Unterricht angemessen gelobt."},null,{"$f":"'A) Daten'!E15","v":0},null,null,null,null,13.5]
[14,{"$f":"IF(FragenErstellen!B20=\"\",\"\",FragenErstellen!B20)","v":"Klarheit und Strukturiertheit "},null,{"$f":"'A) Daten'!E16","v":0},null,null,null,null,14.5]
[15,{"$f":"IF(FragenErstellen!B21=\"\",\"\",FragenErstellen!B21)","v":"Die Lehrperson har klar auf früher unterrichteten Stoff hingewiesen."},null,{"$f":"'A) Daten'!E17","v":0},null,null,null,null,15.5]
[16,{"$f":"IF(FragenErstellen!B22=\"\",\"\",FragenErstellen!B22)","v":"Es gab anschauliche Beispiele."},null,{"$f":"'A) Daten'!E18","v":0},null,null,null,null,16.5]
[17,{"$f":"IF(FragenErstellen!B23=\"\",\"\",FragenErstellen!B23)","v":"Die wichtigsten Punkte wurden zusammengefasst."},null,{"$f":"'A) Daten'!E19","v":0},null,null,null,null,17.5]
[18,{"$f":"IF(FragenErstellen!B24=\"\",\"\",FragenErstellen!B24)","v":"Die Lehrperson hat darauf geachtet, dass die Schüler/innen sich klar ausdrücken."},null,{"$f":"'A) Daten'!E20","v":0},null,null,null,null,18.5]
[19,{"$f":"IF(FragenErstellen!B25=\"\",\"\",FragenErstellen!B25)","v":"Den Schüler/innen war klar, was sie in dieser Stunde lernen sollten."},null,{"$f":"'A) Daten'!E21","v":0},null,null,null,null,19.5]
[20,{"$f":"IF(FragenErstellen!B26=\"\",\"\",FragenErstellen!B26)","v":"Aktivierung"},null,{"$f":"'A) Daten'!E22","v":0},null,null,null,null,20.5]
[21,{"$f":"IF(FragenErstellen!B27=\"\",\"\",FragenErstellen!B27)","v":"Die Schüler/innen haben sich mit eigenen Beiträgen am Unterrichtsgespräche beteiligt."},null,{"$f":"'A) Daten'!E23","v":0},null,null,null,null,21.5]
[22,{"$f":"IF(FragenErstellen!B28=\"\",\"\",FragenErstellen!B28)","v":"Die Schüler/innen haben Aufgaben alleine bearbeitet."},null,{"$f":"'A) Daten'!E24","v":0},null,null,null,null,22.5]
[23,{"$f":"IF(FragenErstellen!B29=\"\",\"\",FragenErstellen!B29)","v":"Die Schüler/innen haben etwas vor anderen präsentiert."},null,{"$f":"'A) Daten'!E25","v":0},null,null,null,null,23.5]
[24,{"$f":"IF(FragenErstellen!B30=\"\",\"\",FragenErstellen!B30)","v":"Die Schüler/innen haben ihre eigenen Arbeitsergebnisse selbst kontrolliert."},null,{"$f":"'A) Daten'!E26","v":0},null,null,null,null,24.5]
[25,{"$f":"IF(FragenErstellen!B31=\"\",\"\",FragenErstellen!B31)","v":"Die Schüler/innen waren die ganze Stunde über aktiv bei der Sache."},null,{"$f":"'A) Daten'!E27","v":0},null,null,null,null,25.5]
[26,{"$f":"IF(FragenErstellen!B32=\"\",\"\",FragenErstellen!B32)","v":"Bilanz/ Ertrag"},null,{"$f":"'A) Daten'!E28","v":0},null,null,null,null,26.5]
[27,{"$f":"IF(FragenErstellen!B33=\"\",\"\",FragenErstellen!B33)","v":"Die Schüler/innen haben etwas dazu gelernt."},null,{"$f":"'A) Daten'!E29","v":0},null,null,null,null,27.5]
[28,{"$f":"IF(FragenErstellen!B34=\"\",\"\",FragenErstellen!B34)","v":"Die Unterrichtsstunde war für die Schüler/innen interessant."},null,{"$f":"'A) Daten'!E30","v":0},null,null,null,null,28.5]
[29,{"$f":"IF(FragenErstellen!B35=\"\",\"\",FragenErstellen!B35)","v":"Die Schüler/innen haben sich in dieser Stunde wohl gefühlt."},null,{"$f":"'A) Daten'!E31","v":0},null,null,null,null,29.5]
[30,{"$f":"IF(FragenErstellen!B36=\"\",\"\",FragenErstellen!B36)","v":"Die Lehrperson hat sich in dieser Stunde an den Bildungsstandards dieses Faches orientiert."},null,{"$f":"'A) Daten'!E32","v":0},null,null,null,null,30.5]
[31,{"$f":"IF(FragenErstellen!B37=\"\",\"\",FragenErstellen!B37)","v":"Im Hinblick auf die unterschiedlichen Lernvoraussetzungen der Schüler/innen war das Unterrichtsangebot angemessen."},null,{"$f":"'A) Daten'!E33","v":0},null,null,null,null,31.5]
[32,{"$f":"IF(FragenErstellen!B38=\"\",\"\",FragenErstellen!B38)","v":"Zusatzbereich:"},null,{"$f":"'A) Daten'!E34","v":0},null,null,null,null,32.5]
[33,{"$f":"IF(FragenErstellen!B39=\"\",\"\",FragenErstellen!B39)","v":""},null,{"$f":"'A) Daten'!E35","v":0},null,null,null,null,33.5]
[34,{"$f":"IF(FragenErstellen!B40=\"\",\"\",FragenErstellen!B40)","v":""},null,{"$f":"'A) Daten'!E36","v":0},null,null,null,null,34.5]
[35,{"$f":"IF(FragenErstellen!B41=\"\",\"\",FragenErstellen!B41)","v":""},null,{"$f":"'A) Daten'!E37","v":0},null,null,null,null,35.5]
[36,{"$f":"IF(FragenErstellen!B42=\"\",\"\",FragenErstellen!B42)","v":""},null,{"$f":"'A) Daten'!E38","v":0},null,null,null,null,36.5]
[37,{"$f":"IF(FragenErstellen!B43=\"\",\"\",FragenErstellen!B43)","v":""},null,{"$f":"'A) Daten'!E39","v":0},null,null,null,null,37.5]
[38,{"$f":"IF(FragenErstellen!B44=\"\",\"\",FragenErstellen!B44)","v":""},null,{"$f":"'A) Daten'!E40","v":0},null,null,null,null,38.5]
[39,{"$f":"IF(FragenErstellen!B45=\"\",\"\",FragenErstellen!B45)","v":""},null,{"$f":"'A) Daten'!E41","v":0},null,null,null,null,39.5]
[40,{"$f":"IF(FragenErstellen!B46=\"\",\"\",FragenErstellen!B46)","v":""},null,{"$f":"'A) Daten'!E42","v":0},null,null,null,null,40.5]
[41,{"$f":"IF(FragenErstellen!B47=\"\",\"\",FragenErstellen!B47)","v":""},null,{"$f":"'A) Daten'!E43","v":0},null,null,null,null,41.5]
[42,{"$f":"IF(FragenErstellen!B48=\"\",\"\",FragenErstellen!B48)","v":""},null,{"$f":"'A) Daten'!E44","v":0},null,null,null,null,42.5]
[43,{"$f":"IF(FragenErstellen!B49=\"\",\"\",FragenErstellen!B49)","v":""},null,{"$f":"'A) Daten'!E45","v":0},null,null,null,null,43.5]
[44,{"$f":"IF(FragenErstellen!B50=\"\",\"\",FragenErstellen!B50)","v":""},null,{"$f":"'A) Daten'!E46","v":0},null,null,null,null,44.5]
[45,{"$f":"IF(FragenErstellen!B51=\"\",\"\",FragenErstellen!B51)","v":""},null,{"$f":"'A) Daten'!E47","v":0},null,null,null,null,45.5]
[46,{"$f":"IF(FragenErstellen!B52=\"\",\"\",FragenErstellen!B52)","v":""},null,{"$f":"'A) Daten'!E48","v":0},null,null,null,null,46.5]
[47,{"$f":"IF(FragenErstellen!B53=\"\",\"\",FragenErstellen!B53)","v":""},null,{"$f":"'A) Daten'!E49","v":0},null,null,null,null,47.5]
[48,{"$f":"IF(FragenErstellen!B54=\"\",\"\",FragenErstellen!B54)","v":""},null,{"$f":"'A) Daten'!E50","v":0},null,null,null,null,48.5]
[49,{"$f":"IF(FragenErstellen!B55=\"\",\"\",FragenErstellen!B55)","v":""},null,{"$f":"'A) Daten'!E51","v":0},null,null,null,null,49.5]
[50,{"$f":"IF(FragenErstellen!B56=\"\",\"\",FragenErstellen!B56)","v":""},null,{"$f":"'A) Daten'!E52","v":0},null,null,null,null,50.5]
[51,{"$f":"IF(FragenErstellen!B57=\"\",\"\",FragenErstellen!B57)","v":""},null,{"$f":"'A) Daten'!E53","v":0},null,null,null,null,51.5]
[52,{"$f":"IF(FragenErstellen!B58=\"\",\"\",FragenErstellen!B58)","v":""},null,{"$f":"'A) Daten'!E54","v":0},null,null,null,null,52.5]
[53,{"$f":"IF(FragenErstellen!B59=\"\",\"\",FragenErstellen!B59)","v":""},null,{"$f":"'A) Daten'!E55","v":0},null,null,null,null,53.5]
[54,{"$f":"IF(FragenErstellen!B60=\"\",\"\",FragenErstellen!B60)","v":""},null,{"$f":"'A) Daten'!E56","v":0},null,null,null,null,54.5]
[55,{"$f":"IF(FragenErstellen!B61=\"\",\"\",FragenErstellen!B61)","v":""},null,{"$f":"'A) Daten'!E57","v":0},null,null,null,null,55.5]
[56,{"$f":"IF(FragenErstellen!B62=\"\",\"\",FragenErstellen!B62)","v":""},null,{"$f":"'A) Daten'!E58","v":0},null,null,null,null,56.5]
[57,{"$f":"IF(FragenErstellen!B63=\"\",\"\",FragenErstellen!B63)","v":""},null,{"$f":"'A) Daten'!E59","v":0},null,null,null,null,57.5]
[58,{"$f":"IF(FragenErstellen!B64=\"\",\"\",FragenErstellen!B64)","v":""},null,{"$f":"'A) Daten'!E60","v":0},null,null,null,null,58.5]
[59,{"$f":"IF(FragenErstellen!B65=\"\",\"\",FragenErstellen!B65)","v":""},null,{"$f":"'A) Daten'!E61","v":0},null,null,null,null,59.5]
[60,{"$f":"IF(FragenErstellen!B66=\"\",\"\",FragenErstellen!B66)","v":""},null,{"$f":"'A) Daten'!E62","v":0},null,null,null,null,60.5]

{"sheet":"B) Ergebnisse (6)","index":17,"n_rows":65,"n_cols":9,"rows_kept":65,"cut":false,"hidden":true,"merged":[[3,6,4,6],[2,0,2,5],[3,2,3,3],[3,4,3,5]]}
[]
[null,"Ergebnisse der Erhebung 2"]
[null,null,null,null,null,null,"Mittelwertsprofil"]
[".",null,"Schüler"]
[".","Erhebung 1","Verteilung der Antworten\n(1,     2,     3,     4)","N"]
[1,{"$f":"IF(FragenErstellen!B7=\"\",\"\",FragenErstellen!B7)","v":"Klassenführung"},null,{"$f":"'B) Daten'!E3","v":0},null,null,null,null,1.5]
[2,{"$f":"IF(FragenErstellen!B8=\"\",\"\",FragenErstellen!B8)","v":"Der Unterricht hat pünktlich begonnen."},null,{"$f":"'B) Daten'!E4","v":0},null,null,null,null,2.5]
[3,{"$f":"IF(FragenErstellen!B9=\"\",\"\",FragenErstellen!B9)","v":"Die Klassenregeln waren den Schüler/innen klar."},null,{"$f":"'B) Daten'!E5","v":0},null,null,null,null,3.5]
[4,{"$f":"IF(FragenErstellen!B10=\"\",\"\",FragenErstellen!B10)","v":"Die Schüler/innen konnten ungestört arbeiten."},null,{"$f":"'B) Daten'!E6","v":0},null,null,null,null,4.5]
[5,{"$f":"IF(FragenErstellen!B11=\"\",\"\",FragenErstellen!B11)","v":"Den Schüler/innen war im Laufe der Unterrichtsstunde jederzeit klar, was sie tun sollten."},null,{"$f":"'B) Daten'!E7","v":0},null,null,null,null,5.5]
[6,{"$f":"IF(FragenErstellen!B12=\"\",\"\",FragenErstellen!B12)","v":"Die gesamte Unterrichtsstunde wurde für den Lernstoff verwendet."},null,{"$f":"'B) Daten'!E8","v":0},null,null,null,null,6.5]
[7,{"$f":"IF(FragenErstellen!B13=\"\",\"\",FragenErstellen!B13)","v":"Lernförderliches Klima und Motivierung"},null,{"$f":"'B) Daten'!E9","v":0},null,null,null,null,7.5]
[8,{"$f":"IF(FragenErstellen!B14=\"\",\"\",FragenErstellen!B14)","v":"Mit Schülerbeiträgen ist die Lehrperson wertschätzend umgegangen."},null,{"$f":"'B) Daten'!E10","v":0},null,null,null,null,8.5]
[9,{"$f":"IF(FragenErstellen!B15=\"\",\"\",FragenErstellen!B15)","v":"Die Lehrperson war freundlich zu den Schüler/innen."},null,{"$f":"'B) Daten'!E11","v":0},null,null,null,null,9.5]
[10,{"$f":"IF(FragenErstellen!B16=\"\",\"\",FragenErstellen!B16)","v":"Die Lehrperson hat die Schüler/innen ausreden lassen, wenn sie dran waren."},null,{"$f":"'B) Daten'!E12","v":0},null,null,null,null,10.5]
[11,{"$f":"IF(FragenErstellen!B17=\"\",\"\",FragenErstellen!B17)","v":"Wenn die Lehrperson eine Frage gestellt hat, hatten die Schüler/innen ausreichend Zeit zum Nachdenken."},null,{"$f":"'B) Daten'!E13","v":0},null,null,null,null,11.5]
[12,{"$f":"IF(FragenErstellen!B18=\"\",\"\",FragenErstellen!B18)","v":"Die Lehrperson hat auflockernde Bemerkung gemacht."},null,{"$f":"'B) Daten'!E14","v":0},null,null,null,null,12.5]
[13,{"$f":"IF(FragenErstellen!B19=\"\",\"\",FragenErstellen!B19)","v":"Die Lehrperson hat die Schüler/innen für Beiträge zum Unterricht angemessen gelobt."},null,{"$f":"'B) Daten'!E15","v":0},null,null,null,null,13.5]
[14,{"$f":"IF(FragenErstellen!B20=\"\",\"\",FragenErstellen!B20)","v":"Klarheit und Strukturiertheit "},null,{"$f":"'B) Daten'!E16","v":0},null,null,null,null,14.5]
[15,{"$f":"IF(FragenErstellen!B21=\"\",\"\",FragenErstellen!B21)","v":"Die Lehrperson har klar auf früher unterrichteten Stoff hingewiesen."},null,{"$f":"'B) Daten'!E17","v":0},null,null,null,null,15.5]
[16,{"$f":"IF(FragenErstellen!B22=\"\",\"\",FragenErstellen!B22)","v":"Es gab anschauliche Beispiele."},null,{"$f":"'B) Daten'!E18","v":0},null,null,null,null,16.5]
[17,{"$f":"IF(FragenErstellen!B23=\"\",\"\",FragenErstellen!B23)","v":"Die wichtigsten Punkte wurden zusammengefasst."},null,{"$f":"'B) Daten'!E19","v":0},null,null,null,null,17.5]
[18,{"$f":"IF(FragenErstellen!B24=\"\",\"\",FragenErstellen!B24)","v":"Die Lehrperson hat darauf geachtet, dass die Schüler/innen sich klar ausdrücken."},null,{"$f":"'B) Daten'!E20","v":0},null,null,null,null,18.5]
[19,{"$f":"IF(FragenErstellen!B25=\"\",\"\",FragenErstellen!B25)","v":"Den Schüler/innen war klar, was sie in dieser Stunde lernen sollten."},null,{"$f":"'B) Daten'!E21","v":0},null,null,null,null,19.5]
[20,{"$f":"IF(FragenErstellen!B26=\"\",\"\",FragenErstellen!B26)","v":"Aktivierung"},null,{"$f":"'B) Daten'!E22","v":0},null,null,null,null,20.5]
[21,{"$f":"IF(FragenErstellen!B27=\"\",\"\",FragenErstellen!B27)","v":"Die Schüler/innen haben sich mit eigenen Beiträgen am Unterrichtsgespräche beteiligt."},null,{"$f":"'B) Daten'!E23","v":0},null,null,null,null,21.5]
[22,{"$f":"IF(FragenErstellen!B28=\"\",\"\",FragenErstellen!B28)","v":"Die Schüler/innen haben Aufgaben alleine bearbeitet."},null,{"$f":"'B) Daten'!E24","v":0},null,null,null,null,22.5]
[23,{"$f":"IF(FragenErstellen!B29=\"\",\"\",FragenErstellen!B29)","v":"Die Schüler/innen haben etwas vor anderen präsentiert."},null,{"$f":"'B) Daten'!E25","v":0},null,null,null,null,23.5]
[24,{"$f":"IF(FragenErstellen!B30=\"\",\"\",FragenErstellen!B30)","v":"Die Schüler/innen haben ihre eigenen Arbeitsergebnisse selbst kontrolliert."},null,{"$f":"'B) Daten'!E26","v":0},null,null,null,null,24.5]
[25,{"$f":"IF(FragenErstellen!B31=\"\",\"\",FragenErstellen!B31)","v":"Die Schüler/innen waren die ganze Stunde über aktiv bei der Sache."},null,{"$f":"'B) Daten'!E27","v":0},null,null,null,null,25.5]
[26,{"$f":"IF(FragenErstellen!B32=\"\",\"\",FragenErstellen!B32)","v":"Bilanz/ Ertrag"},null,{"$f":"'B) Daten'!E28","v":0},null,null,null,null,26.5]
[27,{"$f":"IF(FragenErstellen!B33=\"\",\"\",FragenErstellen!B33)","v":"Die Schüler/innen haben etwas dazu gelernt."},null,{"$f":"'B) Daten'!E29","v":0},null,null,null,null,27.5]
[28,{"$f":"IF(FragenErstellen!B34=\"\",\"\",FragenErstellen!B34)","v":"Die Unterrichtsstunde war für die Schüler/innen interessant."},null,{"$f":"'B) Daten'!E30","v":0},null,null,null,null,28.5]
[29,{"$f":"IF(FragenErstellen!B35=\"\",\"\",FragenErstellen!B35)","v":"Die Schüler/innen haben sich in dieser Stunde wohl gefühlt."},null,{"$f":"'B) Daten'!E31","v":0},null,null,null,null,29.5]
[30,{"$f":"IF(FragenErstellen!B36=\"\",\"\",FragenErstellen!B36)","v":"Die Lehrperson hat sich in dieser Stunde an den Bildungsstandards dieses Faches orientiert."},null,{"$f":"'B) Daten'!E32","v":0},null,null,null,null,30.5]
[31,{"$f":"IF(FragenErstellen!B37=\"\",\"\",FragenErstellen!B37)","v":"Im Hinblick auf die unterschiedlichen Lernvoraussetzungen der Schüler/innen war das Unterrichtsangebot angemessen."},null,{"$f":"'B) Daten'!E33","v":0},null,null,null,null,31.5]
[32,{"$f":"IF(FragenErstellen!B38=\"\",\"\",FragenErstellen!B38)","v":"Zusatzbereich:"},null,{"$f":"'B) Daten'!E34","v":0},null,null,null,null,32.5]
[33,{"$f":"IF(FragenErstellen!B39=\"\",\"\",FragenErstellen!B39)","v":""},null,{"$f":"'B) Daten'!E35","v":0},null,null,null,null,33.5]
[34,{"$f":"IF(FragenErstellen!B40=\"\",\"\",FragenErstellen!B40)","v":""},null,{"$f":"'B) Daten'!E36","v":0},null,null,null,null,34.5]
[35,{"$f":"IF(FragenErstellen!B41=\"\",\"\",FragenErstellen!B41)","v":""},null,{"$f":"'B) Daten'!E37","v":0},null,null,null,null,35.5]
[36,{"$f":"IF(FragenErstellen!B42=\"\",\"\",FragenErstellen!B42)","v":""},null,{"$f":"'B) Daten'!E38","v":0},null,null,null,null,36.5]
[37,{"$f":"IF(FragenErstellen!B43=\"\",\"\",FragenErstellen!B43)","v":""},null,{"$f":"'B) Daten'!E39","v":0},null,null,null,null,37.5]
[38,{"$f":"IF(FragenErstellen!B44=\"\",\"\",FragenErstellen!B44)","v":""},null,{"$f":"'B) Daten'!E40","v":0},null,null,null,null,38.5]
[39,{"$f":"IF(FragenErstellen!B45=\"\",\"\",FragenErstellen!B45)","v":""},null,{"$f":"'B) Daten'!E41","v":0},null,null,null,null,39.5]
[40,{"$f":"IF(FragenErstellen!B46=\"\",\"\",FragenErstellen!B46)","v":""},null,{"$f":"'B) Daten'!E42","v":0},null,null,null,null,40.5]
[41,{"$f":"IF(FragenErstellen!B47=\"\",\"\",FragenErstellen!B47)","v":""},null,{"$f":"'B) Daten'!E43","v":0},null,null,null,null,41.5]
[42,{"$f":"IF(FragenErstellen!B48=\"\",\"\",FragenErstellen!B48)","v":""},null,{"$f":"'B) Daten'!E44","v":0},null,null,null,null,42.5]
[43,{"$f":"IF(FragenErstellen!B49=\"\",\"\",FragenErstellen!B49)","v":""},null,{"$f":"'B) Daten'!E45","v":0},null,null,null,null,43.5]
[44,{"$f":"IF(FragenErstellen!B50=\"\",\"\",FragenErstellen!B50)","v":""},null,{"$f":"'B) Daten'!E46","v":0},null,null,null,null,44.5]
[45,{"$f":"IF(FragenErstellen!B51=\"\",\"\",FragenErstellen!B51)","v":""},null,{"$f":"'B) Daten'!E47","v":0},null,null,null,null,45.5]
[46,{"$f":"IF(FragenErstellen!B52=\"\",\"\",FragenErstellen!B52)","v":""},null,{"$f":"'B) Daten'!E48","v":0},null,null,null,null,46.5]
[47,{"$f":"IF(FragenErstellen!B53=\"\",\"\",FragenErstellen!B53)","v":""},null,{"$f":"'B) Daten'!E49","v":0},null,null,null,null,47.5]
[48,{"$f":"IF(FragenErstellen!B54=\"\",\"\",FragenErstellen!B54)","v":""},null,{"$f":"'B) Daten'!E50","v":0},null,null,null,null,48.5]
[49,{"$f":"IF(FragenErstellen!B55=\"\",\"\",FragenErstellen!B55)","v":""},null,{"$f":"'B) Daten'!E51","v":0},null,null,null,null,49.5]
[50,{"$f":"IF(FragenErstellen!B56=\"\",\"\",FragenErstellen!B56)","v":""},null,{"$f":"'B) Daten'!E52","v":0},null,null,null,null,50.5]
[51,{"$f":"IF(FragenErstellen!B57=\"\",\"\",FragenErstellen!B57)","v":""},null,{"$f":"'B) Daten'!E53","v":0},null,null,null,null,51.5]
[52,{"$f":"IF(FragenErstellen!B58=\"\",\"\",FragenErstellen!B58)","v":""},null,{"$f":"'B) Daten'!E54","v":0},null,null,null,null,52.5]
[53,{"$f":"IF(FragenErstellen!B59=\"\",\"\",FragenErstellen!B59)","v":""},null,{"$f":"'B) Daten'!E55","v":0},null,null,null,null,53.5]
[54,{"$f":"IF(FragenErstellen!B60=\"\",\"\",FragenErstellen!B60)","v":""},null,{"$f":"'B) Daten'!E56","v":0},null,null,null,null,54.5]
[55,{"$f":"IF(FragenErstellen!B61=\"\",\"\",FragenErstellen!B61)","v":""},null,{"$f":"'B) Daten'!E57","v":0},null,null,null,null,55.5]
[56,{"$f":"IF(FragenErstellen!B62=\"\",\"\",FragenErstellen!B62)","v":""},null,{"$f":"'B) Daten'!E58","v":0},null,null,null,null,56.5]
[57,{"$f":"IF(FragenErstellen!B63=\"\",\"\",FragenErstellen!B63)","v":""},null,{"$f":"'B) Daten'!E59","v":0},null,null,null,null,57.5]
[58,{"$f":"IF(FragenErstellen!B64=\"\",\"\",FragenErstellen!B64)","v":""},null,{"$f":"'B) Daten'!E60","v":0},null,null,null,null,58.5]
[59,{"$f":"IF(FragenErstellen!B65=\"\",\"\",FragenErstellen!B65)","v":""},null,{"$f":"'B) Daten'!E61","v":0},null,null,null,null,59.5]
[60,{"$f":"IF(FragenErstellen!B66=\"\",\"\",FragenErstellen!B66)","v":""},null,{"$f":"'B) Daten'!E62","v":0},null,null,null,null,60.5]

{"sheet":"B) Alle Ergebnisse","index":18,"n_rows":65,"n_cols":9,"rows_kept":65,"cut":false,"hidden":true,"merged":[[3,6,4,6],[2,0,2,5],[3,2,3,3],[3,4,3,5]]}
[]
[null,"Ergebnisse der Erhebung 2"]
[null,null,null,null,null,null,"Mittelwertsprofil"]
[null,null,"Schüler",null,"Lehrer"]
[".","Erhebung 2","Verteilung der Antworten\n(1,     2,     3,     4)","N","Verteilung der Antworten\n(1,     2,     3,     4)","N"]
[1,{"$f":"IF(FragenErstellen!B7=\"\",\"\",FragenErstellen!B7)","v":"Klassenführung"},null,{"$f":"'A) Daten'!E3","v":0},null,{"$f":"'A) Daten'!N3","v":0},null,null,1.5]
[2,{"$f":"IF(FragenErstellen!B8=\"\",\"\",FragenErstellen!B8)","v":"Der Unterricht hat pünktlich begonnen."},null,{"$f":"'A) Daten'!E4","v":0},null,{"$f":"'A) Daten'!N4","v":0},null,null,2.5]
[3,{"$f":"IF(FragenErstellen!B9=\"\",\"\",FragenErstellen!B9)","v":"Die Klassenregeln waren den Schüler/innen klar."},null,{"$f":"'A) Daten'!E5","v":0},null,{"$f":"'A) Daten'!N5","v":0},null,null,3.5]
[4,{"$f":"IF(FragenErstellen!B10=\"\",\"\",FragenErstellen!B10)","v":"Die Schüler/innen konnten ungestört arbeiten."},null,{"$f":"'A) Daten'!E6","v":0},null,{"$f":"'A) Daten'!N6","v":0},null,null,4.5]
[5,{"$f":"IF(FragenErstellen!B11=\"\",\"\",FragenErstellen!B11)","v":"Den Schüler/innen war im Laufe der Unterrichtsstunde jederzeit klar, was sie tun sollten."},null,{"$f":"'A) Daten'!E7","v":0},null,{"$f":"'A) Daten'!N7","v":0},null,null,5.5]
[6,{"$f":"IF(FragenErstellen!B12=\"\",\"\",FragenErstellen!B12)","v":"Die gesamte Unterrichtsstunde wurde für den Lernstoff verwendet."},null,{"$f":"'A) Daten'!E8","v":0},null,{"$f":"'A) Daten'!N8","v":0},null,null,6.5]
[7,{"$f":"IF(FragenErstellen!B13=\"\",\"\",FragenErstellen!B13)","v":"Lernförderliches Klima und Motivierung"},null,{"$f":"'A) Daten'!E9","v":0},null,{"$f":"'A) Daten'!N9","v":0},null,null,7.5]
[8,{"$f":"IF(FragenErstellen!B14=\"\",\"\",FragenErstellen!B14)","v":"Mit Schülerbeiträgen ist die Lehrperson wertschätzend umgegangen."},null,{"$f":"'A) Daten'!E10","v":0},null,{"$f":"'A) Daten'!N10","v":0},null,null,8.5]
[9,{"$f":"IF(FragenErstellen!B15=\"\",\"\",FragenErstellen!B15)","v":"Die Lehrperson war freundlich zu den Schüler/innen."},null,{"$f":"'A) Daten'!E11","v":0},null,{"$f":"'A) Daten'!N11","v":0},null,null,9.5]
[10,{"$f":"IF(FragenErstellen!B16=\"\",\"\",FragenErstellen!B16)","v":"Die Lehrperson hat die Schüler/innen ausreden lassen, wenn sie dran waren."},null,{"$f":"'A) Daten'!E12","v":0},null,{"$f":"'A) Daten'!N12","v":0},null,null,10.5]
[11,{"$f":"IF(FragenErstellen!B17=\"\",\"\",FragenErstellen!B17)","v":"Wenn die Lehrperson eine Frage gestellt hat, hatten die Schüler/innen ausreichend Zeit zum Nachdenken."},null,{"$f":"'A) Daten'!E13","v":0},null,{"$f":"'A) Daten'!N13","v":0},null,null,11.5]
[12,{"$f":"IF(FragenErstellen!B18=\"\",\"\",FragenErstellen!B18)","v":"Die Lehrperson hat auflockernde Bemerkung gemacht."},null,{"$f":"'A) Daten'!E14","v":0},null,{"$f":"'A) Daten'!N14","v":0},null,null,12.5]
[13,{"$f":"IF(FragenErstellen!B19=\"\",\"\",FragenErstellen!B19)","v":"Die Lehrperson hat die Schüler/innen für Beiträge zum Unterricht angemessen gelobt."},null,{"$f":"'A) Daten'!E15","v":0},null,{"$f":"'A) Daten'!N15","v":0},null,null,13.5]
[14,{"$f":"IF(FragenErstellen!B20=\"\",\"\",FragenErstellen!B20)","v":"Klarheit und Strukturiertheit "},null,{"$f":"'A) Daten'!E16","v":0},null,{"$f":"'A) Daten'!N16","v":0},null,null,14.5]
[15,{"$f":"IF(FragenErstellen!B21=\"\",\"\",FragenErstellen!B21)","v":"Die Lehrperson har klar auf früher unterrichteten Stoff hingewiesen."},null,{"$f":"'A) Daten'!E17","v":0},null,{"$f":"'A) Daten'!N17","v":0},null,null,15.5]
[16,{"$f":"IF(FragenErstellen!B22=\"\",\"\",FragenErstellen!B22)","v":"Es gab anschauliche Beispiele."},null,{"$f":"'A) Daten'!E18","v":0},null,{"$f":"'A) Daten'!N18","v":0},null,null,16.5]
[17,{"$f":"IF(FragenErstellen!B23=\"\",\"\",FragenErstellen!B23)","v":"Die wichtigsten Punkte wurden zusammengefasst."},null,{"$f":"'A) Daten'!E19","v":0},null,{"$f":"'A) Daten'!N19","v":0},null,null,17.5]
[18,{"$f":"IF(FragenErstellen!B24=\"\",\"\",FragenErstellen!B24)","v":"Die Lehrperson hat darauf geachtet, dass die Schüler/innen sich klar ausdrücken."},null,{"$f":"'A) Daten'!E20","v":0},null,{"$f":"'A) Daten'!N20","v":0},null,null,18.5]
[19,{"$f":"IF(FragenErstellen!B25=\"\",\"\",FragenErstellen!B25)","v":"Den Schüler/innen war klar, was sie in dieser Stunde lernen sollten."},null,{"$f":"'A) Daten'!E21","v":0},null,{"$f":"'A) Daten'!N21","v":0},null,null,19.5]
[20,{"$f":"IF(FragenErstellen!B26=\"\",\"\",FragenErstellen!B26)","v":"Aktivierung"},null,{"$f":"'A) Daten'!E22","v":0},null,{"$f":"'A) Daten'!N22","v":0},null,null,20.5]
[21,{"$f":"IF(FragenErstellen!B27=\"\",\"\",FragenErstellen!B27)","v":"Die Schüler/innen haben sich mit eigenen Beiträgen am Unterrichtsgespräche beteiligt."},null,{"$f":"'A) Daten'!E23","v":0},null,{"$f":"'A) Daten'!N23","v":0},null,null,21.5]
[22,{"$f":"IF(FragenErstellen!B28=\"\",\"\",FragenErstellen!B28)","v":"Die Schüler/innen haben Aufgaben alleine bearbeitet."},null,{"$f":"'A) Daten'!E24","v":0},null,{"$f":"'A) Daten'!N24","v":0},null,null,22.5]
[23,{"$f":"IF(FragenErstellen!B29=\"\",\"\",FragenErstellen!B29)","v":"Die Schüler/innen haben etwas vor anderen präsentiert."},null,{"$f":"'A) Daten'!E25","v":0},null,{"$f":"'A) Daten'!N25","v":0},null,null,23.5]
[24,{"$f":"IF(FragenErstellen!B30=\"\",\"\",FragenErstellen!B30)","v":"Die Schüler/innen haben ihre eigenen Arbeitsergebnisse selbst kontrolliert."},null,{"$f":"'A) Daten'!E26","v":0},null,{"$f":"'A) Daten'!N26","v":0},null,null,24.5]
[25,{"$f":"IF(FragenErstellen!B31=\"\",\"\",FragenErstellen!B31)","v":"Die Schüler/innen waren die ganze Stunde über aktiv bei der Sache."},null,{"$f":"'A) Daten'!E27","v":0},null,{"$f":"'A) Daten'!N27","v":0},null,null,25.5]
[26,{"$f":"IF(FragenErstellen!B32=\"\",\"\",FragenErstellen!B32)","v":"Bilanz/ Ertrag"},null,{"$f":"'A) Daten'!E28","v":0},null,{"$f":"'A) Daten'!N28","v":0},null,null,26.5]
[27,{"$f":"IF(FragenErstellen!B33=\"\",\"\",FragenErstellen!B33)","v":"Die Schüler/innen haben etwas dazu gelernt."},null,{"$f":"'A) Daten'!E29","v":0},null,{"$f":"'A) Daten'!N29","v":0},null,null,27.5]
[28,{"$f":"IF(FragenErstellen!B34=\"\",\"\",FragenErstellen!B34)","v":"Die Unterrichtsstunde war für die Schüler/innen interessant."},null,{"$f":"'A) Daten'!E30","v":0},null,{"$f":"'A) Daten'!N30","v":0},null,null,28.5]
[29,{"$f":"IF(FragenErstellen!B35=\"\",\"\",FragenErstellen!B35)","v":"Die Schüler/innen haben sich in dieser Stunde wohl gefühlt."},null,{"$f":"'A) Daten'!E31","v":0},null,{"$f":"'A) Daten'!N31","v":0},null,null,29.5]
[30,{"$f":"IF(FragenErstellen!B36=\"\",\"\",FragenErstellen!B36)","v":"Die Lehrperson hat sich in dieser Stunde an den Bildungsstandards dieses Faches orientiert."},null,{"$f":"'A) Daten'!E32","v":0},null,{"$f":"'A) Daten'!N32","v":0},null,null,30.5]
[31,{"$f":"IF(FragenErstellen!B37=\"\",\"\",FragenErstellen!B37)","v":"Im Hinblick auf die unterschiedlichen Lernvoraussetzungen der Schüler/innen war das Unterrichtsangebot angemessen."},null,{"$f":"'A) Daten'!E33","v":0},null,{"$f":"'A) Daten'!N33","v":0},null,null,31.5]
[32,{"$f":"IF(FragenErstellen!B38=\"\",\"\",FragenErstellen!B38)","v":"Zusatzbereich:"},null,{"$f":"'A) Daten'!E34","v":0},null,{"$f":"'A) Daten'!N34","v":0},null,null,32.5]
[33,{"$f":"IF(FragenErstellen!B39=\"\",\"\",FragenErstellen!B39)","v":""},null,{"$f":"'A) Daten'!E35","v":0},null,{"$f":"'A) Daten'!N35","v":0},null,null,33.5]
[34,{"$f":"IF(FragenErstellen!B40=\"\",\"\",FragenErstellen!B40)","v":""},null,{"$f":"'A) Daten'!E36","v":0},null,{"$f":"'A) Daten'!N36","v":0},null,null,34.5]
[35,{"$f":"IF(FragenErstellen!B41=\"\",\"\",FragenErstellen!B41)","v":""},null,{"$f":"'A) Daten'!E37","v":0},null,{"$f":"'A) Daten'!N37","v":0},null,null,35.5]
[36,{"$f":"IF(FragenErstellen!B42=\"\",\"\",FragenErstellen!B42)","v":""},null,{"$f":"'A) Daten'!E38","v":0},null,{"$f":"'A) Daten'!N38","v":0},null,null,36.5]
[37,{"$f":"IF(FragenErstellen!B43=\"\",\"\",FragenErstellen!B43)","v":""},null,{"$f":"'A) Daten'!E39","v":0},null,{"$f":"'A) Daten'!N39","v":0},null,null,37.5]
[38,{"$f":"IF(FragenErstellen!B44=\"\",\"\",FragenErstellen!B44)","v":""},null,{"$f":"'A) Daten'!E40","v":0},null,{"$f":"'A) Daten'!N40","v":0},null,null,38.5]
[39,{"$f":"IF(FragenErstellen!B45=\"\",\"\",FragenErstellen!B45)","v":""},null,{"$f":"'A) Daten'!E41","v":0},null,{"$f":"'A) Daten'!N41","v":0},null,null,39.5]
[40,{"$f":"IF(FragenErstellen!B46=\"\",\"\",FragenErstellen!B46)","v":""},null,{"$f":"'A) Daten'!E42","v":0},null,{"$f":"'A) Daten'!N42","v":0},null,null,40.5]
[41,{"$f":"IF(FragenErstellen!B47=\"\",\"\",FragenErstellen!B47)","v":""},null,{"$f":"'A) Daten'!E43","v":0},null,{"$f":"'A) Daten'!N43","v":0},null,null,41.5]
[42,{"$f":"IF(FragenErstellen!B48=\"\",\"\",FragenErstellen!B48)","v":""},null,{"$f":"'A) Daten'!E44","v":0},null,{"$f":"'A) Daten'!N44","v":0},null,null,42.5]
[43,{"$f":"IF(FragenErstellen!B49=\"\",\"\",FragenErstellen!B49)","v":""},null,{"$f":"'A) Daten'!E45","v":0},null,{"$f":"'A) Daten'!N45","v":0},null,null,43.5]
[44,{"$f":"IF(FragenErstellen!B50=\"\",\"\",FragenErstellen!B50)","v":""},null,{"$f":"'A) Daten'!E46","v":0},null,{"$f":"'A) Daten'!N46","v":0},null,null,44.5]
[45,{"$f":"IF(FragenErstellen!B51=\"\",\"\",FragenErstellen!B51)","v":""},null,{"$f":"'A) Daten'!E47","v":0},null,{"$f":"'A) Daten'!N47","v":0},null,null,45.5]
[46,{"$f":"IF(FragenErstellen!B52=\"\",\"\",FragenErstellen!B52)","v":""},null,{"$f":"'A) Daten'!E48","v":0},null,{"$f":"'A) Daten'!N48","v":0},null,null,46.5]
[47,{"$f":"IF(FragenErstellen!B53=\"\",\"\",FragenErstellen!B53)","v":""},null,{"$f":"'A) Daten'!E49","v":0},null,{"$f":"'A) Daten'!N49","v":0},null,null,47.5]
[48,{"$f":"IF(FragenErstellen!B54=\"\",\"\",FragenErstellen!B54)","v":""},null,{"$f":"'A) Daten'!E50","v":0},null,{"$f":"'A) Daten'!N50","v":0},null,null,48.5]
[49,{"$f":"IF(FragenErstellen!B55=\"\",\"\",FragenErstellen!B55)","v":""},null,{"$f":"'A) Daten'!E51","v":0},null,{"$f":"'A) Daten'!N51","v":0},null,null,49.5]
[50,{"$f":"IF(FragenErstellen!B56=\"\",\"\",FragenErstellen!B56)","v":""},null,{"$f":"'A) Daten'!E52","v":0},null,{"$f":"'A) Daten'!N52","v":0},null,null,50.5]
[51,{"$f":"IF(FragenErstellen!B57=\"\",\"\",FragenErstellen!B57)","v":""},null,{"$f":"'A) Daten'!E53","v":0},null,{"$f":"'A) Daten'!N53","v":0},null,null,51.5]
[52,{"$f":"IF(FragenErstellen!B58=\"\",\"\",FragenErstellen!B58)","v":""},null,{"$f":"'A) Daten'!E54","v":0},null,{"$f":"'A) Daten'!N54","v":0},null,null,52.5]
[53,{"$f":"IF(FragenErstellen!B59=\"\",\"\",FragenErstellen!B59)","v":""},null,{"$f":"'A) Daten'!E55","v":0},null,{"$f":"'A) Daten'!N55","v":0},null,null,53.5]
[54,{"$f":"IF(FragenErstellen!B60=\"\",\"\",FragenErstellen!B60)","v":""},null,{"$f":"'A) Daten'!E56","v":0},null,{"$f":"'A) Daten'!N56","v":0},null,null,54.5]
[55,{"$f":"IF(FragenErstellen!B61=\"\",\"\",FragenErstellen!B61)","v":""},null,{"$f":"'A) Daten'!E57","v":0},null,{"$f":"'A) Daten'!N57","v":0},null,null,55.5]
[56,{"$f":"IF(FragenErstellen!B62=\"\",\"\",FragenErstellen!B62)","v":""},null,{"$f":"'A) Daten'!E58","v":0},null,{"$f":"'A) Daten'!N58","v":0},null,null,56.5]
[57,{"$f":"IF(FragenErstellen!B63=\"\",\"\",FragenErstellen!B63)","v":""},null,{"$f":"'A) Daten'!E59","v":0},null,{"$f":"'A) Daten'!N59","v":0},null,null,57.5]
[58,{"$f":"IF(FragenErstellen!B64=\"\",\"\",FragenErstellen!B64)","v":""},null,{"$f":"'A) Daten'!E60","v":0},null,{"$f":"'A) Daten'!N60","v":0},null,null,58.5]
[59,{"$f":"IF(FragenErstellen!B65=\"\",\"\",FragenErstellen!B65)","v":""},null,{"$f":"'A) Daten'!E61","v":0},null,{"$f":"'A) Daten'!N61","v":0},null,null,59.5]
[60,{"$f":"IF(FragenErstellen!B66=\"\",\"\",FragenErstellen!B66)","v":""},null,{"$f":"'A) Daten'!E62","v":0},null,{"$f":"'A) Daten'!N62","v":0},null,null,60.5]

{"sheet":"B) Eingabe (GruppenLehrer)","index":19,"n_rows":70,"n_cols":52,"rows_kept":70,"cut":false,"hidden":true,"merged":[[0,2,0,21],[6,3,6,8]]}
[null,"Kodierung","Zweite Erhebung"]
[null,"Item 1- Item 24"]
["1 =","stimme nicht zu                             "]
["2 =","stimme eher nicht zu                 "]
["3 =","stimme eher zu                            "]
["4 =","stimme zu                                    "]
[null,"                                                    "]
[]
[]
[null,"Feedbackgruppe",1,2,3,4,5,6,7,8,9,10,11,12,13,14,15,16,17,18,19,20,21,22,23,24,25,26,27,28,29,30,31,32]
[1,{"$f":"IF(FragenErstellen!B7=\"\",\"\",FragenErstellen!B7)","v":"Klassenführung"}]
[2,{"$f":"IF(FragenErstellen!B8=\"\",\"\",FragenErstellen!B8)","v":"Der Unterricht hat pünktlich begonnen."}]
[3,{"$f":"IF(FragenErstellen!B9=\"\",\"\",FragenErstellen!B9)","v":"Die Klassenregeln waren den Schüler/innen klar."}]
[4,{"$f":"IF(FragenErstellen!B10=\"\",\"\",FragenErstellen!B10)","v":"Die Schüler/innen konnten ungestört arbeiten."}]
[5,{"$f":"IF(FragenErstellen!B11=\"\",\"\",FragenErstellen!B11)","v":"Den Schüler/innen war im Laufe der Unterrichtsstunde jederzeit klar, was sie tun sollten."}]
[6,{"$f":"IF(FragenErstellen!B12=\"\",\"\",FragenErstellen!B12)","v":"Die gesamte Unterrichtsstunde wurde für den Lernstoff verwendet."}]
[7,{"$f":"IF(FragenErstellen!B13=\"\",\"\",FragenErstellen!B13)","v":"Lernförderliches Klima und Motivierung"}]
[8,{"$f":"IF(FragenErstellen!B14=\"\",\"\",FragenErstellen!B14)","v":"Mit Schülerbeiträgen ist die Lehrperson wertschätzend umgegangen."}]
[9,{"$f":"IF(FragenErstellen!B15=\"\",\"\",FragenErstellen!B15)","v":"Die Lehrperson war freundlich zu den Schüler/innen."}]
[10,{"$f":"IF(FragenErstellen!B16=\"\",\"\",FragenErstellen!B16)","v":"Die Lehrperson hat die Schüler/innen ausreden lassen, wenn sie dran waren."}]
[11,{"$f":"IF(FragenErstellen!B17=\"\",\"\",FragenErstellen!B17)","v":"Wenn die Lehrperson eine Frage gestellt hat, hatten die Schüler/innen ausreichend Zeit zum Nachdenken."},null,null,null,null,null,null,null,null,null,null,null,null,null,null,null,null,null,null,null,null,null,null,null,null,null,null,null,null,null,null,null,null,null,null,null," "]
[12,{"$f":"IF(FragenErstellen!B18=\"\",\"\",FragenErstellen!B18)","v":"Die Lehrperson hat auflockernde Bemerkung gemacht."},null,null,null,null,null,null,null,null,null,null,null,null,null,null,null,null,null,null,null,null,null,null,null,null,null,null,null,null,null,null,null,null,null,null,null,null," "]
[13,{"$f":"IF(FragenErstellen!B19=\"\",\"\",FragenErstellen!B19)","v":"Die Lehrperson hat die Schüler/innen für Beiträge zum Unterricht angemessen gelobt."},null,null,null,null,null,null,null,null,null,null,null,null,null,null,null,null,null,null,null,null,null,null,null,null,null,null,null,null,null,null,null,null,null,null,null,null,null," "]
[14,{"$f":"IF(FragenErstellen!B20=\"\",\"\",FragenErstellen!B20)","v":"Klarheit und Strukturiertheit "},null,null,null,null,null,null,null,null,null,null,null,null,null,null,null,null,null,null,null,null,null,null,null,null,null,null,null,null,null,null,null,null,null,null,null,null,null,null," "]
[15,{"$f":"IF(FragenErstellen!B21=\"\",\"\",FragenErstellen!B21)","v":"Die Lehrperson har klar auf früher unterrichteten Stoff hingewiesen."},null,null,null,null,null,null,null,null,null,null,null,null,null,null,null,null,null,null,null,null,null,null,null,null,null,null,null,null,null,null,null,null,null,null,null,null,null,null,null," "]
[16,{"$f":"IF(FragenErstellen!B22=\"\",\"\",FragenErstellen!B22)","v":"Es gab anschauliche Beispiele."},null,null,null,null,null,null,null,null,null,null,null,null,null,null,null,null,null,null,null,null,null,null,null,null,null,null,null,null,null,null,null,null,null,null,null,null,null,null,null,null," "]
[17,{"$f":"IF(FragenErstellen!B23=\"\",\"\",FragenErstellen!B23)","v":"Die wichtigsten Punkte wurden zusammengefasst."},null,null,null,null,null,null,null,null,null,null,null,null,null,null,null,null,null,null,null,null,null,null,null,null,null,null,null,null,null,null,null,null,null,null,null,null,null,null,null,null,null," "]
[18,{"$f":"IF(FragenErstellen!B24=\"\",\"\",FragenErstellen!B24)","v":"Die Lehrperson hat darauf geachtet, dass die Schüler/innen sich klar ausdrücken."},null,null,null,null,null,null,null,null,null,null,null,null,null,null,null,null,null,null,null,null,null,null,null,null,null,null,null,null,null,null,null,null,null,null,null,null,null,null,null,null,null,null," "]
[19,{"$f":"IF(FragenErstellen!B25=\"\",\"\",FragenErstellen!B25)","v":"Den Schüler/innen war klar, was sie in dieser Stunde lernen sollten."},null,null,null,null,null,null,null,null,null,null,null,null,null,null,null,null,null,null,null,null,null,null,null,null,null,null,null,null,null,null,null,null,null,null,null,null,null,null,null,null,null,null,null," "]
[20,{"$f":"IF(FragenErstellen!B26=\"\",\"\",FragenErstellen!B26)","v":"Aktivierung"},null,null,null,null,null,null,null,null,null,null,null,null,null,null,null,null,null,null,null,null,null,null,null,null,null,null,null,null,null,null,null,null,null,null,null,null,null,null,null,null,null,null,null,null," "]
[21,{"$f":"IF(FragenErstellen!B27=\"\",\"\",FragenErstellen!B27)","v":"Die Schüler/innen haben sich mit eigenen Beiträgen am Unterrichtsgespräche beteiligt."},null,null,null,null,null,null,null,null,null,null,null,null,null,null,null,null,null,null,null,null,null,null,null,null,null,null,null,null,null,null,null,null,null,null,null,null,null,null,null,null,null,null,null,null,null," "]
[22,{"$f":"IF(FragenErstellen!B28=\"\",\"\",FragenErstellen!B28)","v":"Die Schüler/innen haben Aufgaben alleine bearbeitet."},null,null,null,null,null,null,null,null,null,null,null,null,null,null,null,null,null,null,null,null,null,null,null,null,null,null,null,null,null,null,null,null,null,null,null,null,null,null,null,null,null,null,null,null,null,null," "]
[23,{"$f":"IF(FragenErstellen!B29=\"\",\"\",FragenErstellen!B29)","v":"Die Schüler/innen haben etwas vor anderen präsentiert."},null,null,null,null,null,null,null,null,null,null,null,null,null,null,null,null,null,null,null,null,null,null,null,null,null,null,null,null,null,null,null,null,null,null,null,null,null,null,null,null,null,null,null,null,null,null,null," "]
[24,{"$f":"IF(FragenErstellen!B30=\"\",\"\",FragenErstellen!B30)","v":"Die Schüler/innen haben ihre eigenen Arbeitsergebnisse selbst kontrolliert."},null,null,null,null,null,null,null,null,null,null,null,null,null,null,null,null,null,null,null,null,null,null,null,null,null,null,null,null,null,null,null,null,null,null,null,null,null,null,null,null,null,null,null,null,null,null,null,null," "]
[25,{"$f":"IF(FragenErstellen!B31=\"\",\"\",FragenErstellen!B31)","v":"Die Schüler/innen waren die ganze Stunde über aktiv bei der Sache."},null,null,null,null,null,null,null,null,null,null,null,null,null,null,null,null,null,null,null,null,null,null,null,null,null,null,null,null,null,null,null,null,null,null,null,null,null,null,null,null,null,null,null,null,null,null,null,null,null," "]
[26,{"$f":"IF(FragenErstellen!B32=\"\",\"\",FragenErstellen!B32)","v":"Bilanz/ Ertrag"}]
[27,{"$f":"IF(FragenErstellen!B33=\"\",\"\",FragenErstellen!B33)","v":"Die Schüler/innen haben etwas dazu gelernt."}]
[28,{"$f":"IF(FragenErstellen!B34=\"\",\"\",FragenErstellen!B34)","v":"Die Unterrichtsstunde war für die Schüler/innen interessant."}]
[29,{"$f":"IF(FragenErstellen!B35=\"\",\"\",FragenErstellen!B35)","v":"Die Schüler/innen haben sich in dieser Stunde wohl gefühlt."}]
[30,{"$f":"IF(FragenErstellen!B36=\"\",\"\",FragenErstellen!B36)","v":"Die Lehrperson hat sich in dieser Stunde an den Bildungsstandards dieses Faches orientiert."}]
[31,{"$f":"IF(FragenErstellen!B37=\"\",\"\",FragenErstellen!B37)","v":"Im Hinblick auf die unterschiedlichen Lernvoraussetzungen der Schüler/innen war das Unterrichtsangebot angemessen."}]
[32,{"$f":"IF(FragenErstellen!B38=\"\",\"\",FragenErstellen!B38)","v":"Zusatzbereich:"}]
[33,{"$f":"IF(FragenErstellen!B39=\"\",\"\",FragenErstellen!B39)","v":""}]
[34,{"$f":"IF(FragenErstellen!B40=\"\",\"\",FragenErstellen!B40)","v":""}]
[35,{"$f":"IF(FragenErstellen!B41=\"\",\"\",FragenErstellen!B41)","v":""}]
[36,{"$f":"IF(FragenErstellen!B42=\"\",\"\",FragenErstellen!B42)","v":""}]
[37,{"$f":"IF(FragenErstellen!B43=\"\",\"\",FragenErstellen!B43)","v":""}]
[38,{"$f":"IF(FragenErstellen!B44=\"\",\"\",FragenErstellen!B44)","v":""}]
[39,{"$f":"IF(FragenErstellen!B45=\"\",\"\",FragenErstellen!B45)","v":""}]
[40,{"$f":"IF(FragenErstellen!B46=\"\",\"\",FragenErstellen!B46)","v":""}]
[41,{"$f":"IF(FragenErstellen!B47=\"\",\"\",FragenErstellen!B47)","v":""}]
[42,{"$f":"IF(FragenErstellen!B48=\"\",\"\",FragenErstellen!B48)","v":""}]
[43,{"$f":"IF(FragenErstellen!B49=\"\",\"\",FragenErstellen!B49)","v":""}]
[44,{"$f":"IF(FragenErstellen!B50=\"\",\"\",FragenErstellen!B50)","v":""}]
[45,{"$f":"IF(FragenErstellen!B51=\"\",\"\",FragenErstellen!B51)","v":""}]
[46,{"$f":"IF(FragenErstellen!B52=\"\",\"\",FragenErstellen!B52)","v":""}]
[47,{"$f":"IF(FragenErstellen!B53=\"\",\"\",FragenErstellen!B53)","v":""}]
[48,{"$f":"IF(FragenErstellen!B54=\"\",\"\",FragenErstellen!B54)","v":""}]
[49,{"$f":"IF(FragenErstellen!B55=\"\",\"\",FragenErstellen!B55)","v":""}]
[50,{"$f":"IF(FragenErstellen!B56=\"\",\"\",FragenErstellen!B56)","v":""}]
[51,{"$f":"IF(FragenErstellen!B57=\"\",\"\",FragenErstellen!B57)","v":""}]
[52,{"$f":"IF(FragenErstellen!B58=\"\",\"\",FragenErstellen!B58)","v":""}]
[53,{"$f":"IF(FragenErstellen!B59=\"\",\"\",FragenErstellen!B59)","v":""}]
[54,{"$f":"IF(FragenErstellen!B60=\"\",\"\",FragenErstellen!B60)","v":""}]
[55,{"$f":"IF(FragenErstellen!B61=\"\",\"\",FragenErstellen!B61)","v":""}]
[56,{"$f":"IF(FragenErstellen!B62=\"\",\"\",FragenErstellen!B62)","v":""}]
[57,{"$f":"IF(FragenErstellen!B63=\"\",\"\",FragenErstellen!B63)","v":""}]
[58,{"$f":"IF(FragenErstellen!B64=\"\",\"\",FragenErstellen!B64)","v":""}]
[59,{"$f":"IF(FragenErstellen!B65=\"\",\"\",FragenErstellen!B65)","v":""}]
[60,{"$f":"IF(FragenErstellen!B66=\"\",\"\",FragenErstellen!B66)","v":""}]

{"sheet":"A) Eingabe (GruppenLehrer)","index":20,"n_rows":70,"n_cols":52,"rows_kept":70,"cut":false,"hidden":true,"merged":[[0,2,0,21],[6,3,6,8]]}
[null,"Kodierung","Erste Erhebung"]
[null,"Item 1- Item 24"]
["1 =","stimme nicht zu                             "]
["2 =","stimme eher nicht zu                 "]
["3 =","stimme eher zu                            "]
["4 =","stimme zu                                    "]
[null,"                                                    "]
[]
[]
[null,"Feedbackgruppe",1,2,3,4,5,6,7,8,9,10,11,12,13,14,15,16,17,18,19,20,21,22,23,24,25,26,27,28,29,30,31,32]
[1,{"$f":"IF(FragenErstellen!B7=\"\",\"\",FragenErstellen!B7)","v":"Klassenführung"}]
[2,{"$f":"IF(FragenErstellen!B8=\"\",\"\",FragenErstellen!B8)","v":"Der Unterricht hat pünktlich begonnen."}]
[3,{"$f":"IF(FragenErstellen!B9=\"\",\"\",FragenErstellen!B9)","v":"Die Klassenregeln waren den Schüler/innen klar."}]
[4,{"$f":"IF(FragenErstellen!B10=\"\",\"\",FragenErstellen!B10)","v":"Die Schüler/innen konnten ungestört arbeiten."}]
[5,{"$f":"IF(FragenErstellen!B11=\"\",\"\",FragenErstellen!B11)","v":"Den Schüler/innen war im Laufe der Unterrichtsstunde jederzeit klar, was sie tun sollten."}]
[6,{"$f":"IF(FragenErstellen!B12=\"\",\"\",FragenErstellen!B12)","v":"Die gesamte Unterrichtsstunde wurde für den Lernstoff verwendet."}]
[7,{"$f":"IF(FragenErstellen!B13=\"\",\"\",FragenErstellen!B13)","v":"Lernförderliches Klima und Motivierung"}]
[8,{"$f":"IF(FragenErstellen!B14=\"\",\"\",FragenErstellen!B14)","v":"Mit Schülerbeiträgen ist die Lehrperson wertschätzend umgegangen."}]
[9,{"$f":"IF(FragenErstellen!B15=\"\",\"\",FragenErstellen!B15)","v":"Die Lehrperson war freundlich zu den Schüler/innen."}]
[10,{"$f":"IF(FragenErstellen!B16=\"\",\"\",FragenErstellen!B16)","v":"Die Lehrperson hat die Schüler/innen ausreden lassen, wenn sie dran waren."}]
[11,{"$f":"IF(FragenErstellen!B17=\"\",\"\",FragenErstellen!B17)","v":"Wenn die Lehrperson eine Frage gestellt hat, hatten die Schüler/innen ausreichend Zeit zum Nachdenken."},null,null,null,null,null,null,null,null,null,null,null,null,null,null,null,null,null,null,null,null,null,null,null,null,null,null,null,null,null,null,null,null,null,null,null," "]
[12,{"$f":"IF(FragenErstellen!B18=\"\",\"\",FragenErstellen!B18)","v":"Die Lehrperson hat auflockernde Bemerkung gemacht."},null,null,null,null,null,null,null,null,null,null,null,null,null,null,null,null,null,null,null,null,null,null,null,null,null,null,null,null,null,null,null,null,null,null,null,null," "]
[13,{"$f":"IF(FragenErstellen!B19=\"\",\"\",FragenErstellen!B19)","v":"Die Lehrperson hat die Schüler/innen für Beiträge zum Unterricht angemessen gelobt."},null,null,null,null,null,null,null,null,null,null,null,null,null,null,null,null,null,null,null,null,null,null,null,null,null,null,null,null,null,null,null,null,null,null,null,null,null," "]
[14,{"$f":"IF(FragenErstellen!B20=\"\",\"\",FragenErstellen!B20)","v":"Klarheit und Strukturiertheit "},null,null,null,null,null,null,null,null,null,null,null,null,null,null,null,null,null,null,null,null,null,null,null,null,null,null,null,null,null,null,null,null,null,null,null,null,null,null," "]
[15,{"$f":"IF(FragenErstellen!B21=\"\",\"\",FragenErstellen!B21)","v":"Die Lehrperson har klar auf früher unterrichteten Stoff hingewiesen."},null,null,null,null,null,null,null,null,null,null,null,null,null,null,null,null,null,null,null,null,null,null,null,null,null,null,null,null,null,null,null,null,null,null,null,null,null,null,null," "]
[16,{"$f":"IF(FragenErstellen!B22=\"\",\"\",FragenErstellen!B22)","v":"Es gab anschauliche Beispiele."},null,null,null,null,null,null,null,null,null,null,null,null,null,null,null,null,null,null,null,null,null,null,null,null,null,null,null,null,null,null,null,null,null,null,null,null,null,null,null,null," "]
[17,{"$f":"IF(FragenErstellen!B23=\"\",\"\",FragenErstellen!B23)","v":"Die wichtigsten Punkte wurden zusammengefasst."},null,null,null,null,null,null,null,null,null,null,null,null,null,null,null,null,null,null,null,null,null,null,null,null,null,null,null,null,null,null,null,null,null,null,null,null,null,null,null,null,null," "]
[18,{"$f":"IF(FragenErstellen!B24=\"\",\"\",FragenErstellen!B24)","v":"Die Lehrperson hat darauf geachtet, dass die Schüler/innen sich klar ausdrücken."},null,null,null,null,null,null,null,null,null,null,null,null,null,null,null,null,null,null,null,null,null,null,null,null,null,null,null,null,null,null,null,null,null,null,null,null,null,null,null,null,null,null," "]
[19,{"$f":"IF(FragenErstellen!B25=\"\",\"\",FragenErstellen!B25)","v":"Den Schüler/innen war klar, was sie in dieser Stunde lernen sollten."},null,null,null,null,null,null,null,null,null,null,null,null,null,null,null,null,null,null,null,null,null,null,null,null,null,null,null,null,null,null,null,null,null,null,null,null,null,null,null,null,null,null,null," "]
[20,{"$f":"IF(FragenErstellen!B26=\"\",\"\",FragenErstellen!B26)","v":"Aktivierung"},null,null,null,null,null,null,null,null,null,null,null,null,null,null,null,null,null,null,null,null,null,null,null,null,null,null,null,null,null,null,null,null,null,null,null,null,null,null,null,null,null,null,null,null," "]
[21,{"$f":"IF(FragenErstellen!B27=\"\",\"\",FragenErstellen!B27)","v":"Die Schüler/innen haben sich mit eigenen Beiträgen am Unterrichtsgespräche beteiligt."},null,null,null,null,null,null,null,null,null,null,null,null,null,null,null,null,null,null,null,null,null,null,null,null,null,null,null,null,null,null,null,null,null,null,null,null,null,null,null,null,null,null,null,null,null," "]
[22,{"$f":"IF(FragenErstellen!B28=\"\",\"\",FragenErstellen!B28)","v":"Die Schüler/innen haben Aufgaben alleine bearbeitet."},null,null,null,null,null,null,null,null,null,null,null,null,null,null,null,null,null,null,null,null,null,null,null,null,null,null,null,null,null,null,null,null,null,null,null,null,null,null,null,null,null,null,null,null,null,null," "]
[23,{"$f":"IF(FragenErstellen!B29=\"\",\"\",FragenErstellen!B29)","v":"Die Schüler/innen haben etwas vor anderen präsentiert."},null,null,null,null,null,null,null,null,null,null,null,null,null,null,null,null,null,null,null,null,null,null,null,null,null,null,null,null,null,null,null,null,null,null,null,null,null,null,null,null,null,null,null,null,null,null,null," "]
[24,{"$f":"IF(FragenErstellen!B30=\"\",\"\",FragenErstellen!B30)","v":"Die Schüler/innen haben ihre eigenen Arbeitsergebnisse selbst kontrolliert."},null,null,null,null,null,null,null,null,null,null,null,null,null,null,null,null,null,null,null,null,null,null,null,null,null,null,null,null,null,null,null,null,null,null,null,null,null,null,null,null,null,null,null,null,null,null,null,null," "]
[25,{"$f":"IF(FragenErstellen!B31=\"\",\"\",FragenErstellen!B31)","v":"Die Schüler/innen waren die ganze Stunde über aktiv bei der Sache."},null,null,null,null,null,null,null,null,null,null,null,null,null,null,null,null,null,null,null,null,null,null,null,null,null,null,null,null,null,null,null,null,null,null,null,null,null,null,null,null,null,null,null,null,null,null,null,null,null," "]
[26,{"$f":"IF(FragenErstellen!B32=\"\",\"\",FragenErstellen!B32)","v":"Bilanz/ Ertrag"}]
[27,{"$f":"IF(FragenErstellen!B33=\"\",\"\",FragenErstellen!B33)","v":"Die Schüler/innen haben etwas dazu gelernt."}]
[28,{"$f":"IF(FragenErstellen!B34=\"\",\"\",FragenErstellen!B34)","v":"Die Unterrichtsstunde war für die Schüler/innen interessant."}]
[29,{"$f":"IF(FragenErstellen!B35=\"\",\"\",FragenErstellen!B35)","v":"Die Schüler/innen haben sich in dieser Stunde wohl gefühlt."}]
[30,{"$f":"IF(FragenErstellen!B36=\"\",\"\",FragenErstellen!B36)","v":"Die Lehrperson hat sich in dieser Stunde an den Bildungsstandards dieses Faches orientiert."}]
[31,{"$f":"IF(FragenErstellen!B37=\"\",\"\",FragenErstellen!B37)","v":"Im Hinblick auf die unterschiedlichen Lernvoraussetzungen der Schüler/innen war das Unterrichtsangebot angemessen."}]
[32,{"$f":"IF(FragenErstellen!B38=\"\",\"\",FragenErstellen!B38)","v":"Zusatzbereich:"}]
[33,{"$f":"IF(FragenErstellen!B39=\"\",\"\",FragenErstellen!B39)","v":""}]
[34,{"$f":"IF(FragenErstellen!B40=\"\",\"\",FragenErstellen!B40)","v":""}]
[35,{"$f":"IF(FragenErstellen!B41=\"\",\"\",FragenErstellen!B41)","v":""}]
[36,{"$f":"IF(FragenErstellen!B42=\"\",\"\",FragenErstellen!B42)","v":""}]
[37,{"$f":"IF(FragenErstellen!B43=\"\",\"\",FragenErstellen!B43)","v":""}]
[38,{"$f":"IF(FragenErstellen!B44=\"\",\"\",FragenErstellen!B44)","v":""}]
[39,{"$f":"IF(FragenErstellen!B45=\"\",\"\",FragenErstellen!B45)","v":""}]
[40,{"$f":"IF(FragenErstellen!B46=\"\",\"\",FragenErstellen!B46)","v":""}]
[41,{"$f":"IF(FragenErstellen!B47=\"\",\"\",FragenErstellen!B47)","v":""}]
[42,{"$f":"IF(FragenErstellen!B48=\"\",\"\",FragenErstellen!B48)","v":""}]
[43,{"$f":"IF(FragenErstellen!B49=\"\",\"\",FragenErstellen!B49)","v":""}]
[44,{"$f":"IF(FragenErstellen!B50=\"\",\"\",FragenErstellen!B50)","v":""}]
[45,{"$f":"IF(FragenErstellen!B51=\"\",\"\",FragenErstellen!B51)","v":""}]
[46,{"$f":"IF(FragenErstellen!B52=\"\",\"\",FragenErstellen!B52)","v":""}]
[47,{"$f":"IF(FragenErstellen!B53=\"\",\"\",FragenErstellen!B53)","v":""}]
[48,{"$f":"IF(FragenErstellen!B54=\"\",\"\",FragenErstellen!B54)","v":""}]
[49,{"$f":"IF(FragenErstellen!B55=\"\",\"\",FragenErstellen!B55)","v":""}]
[50,{"$f":"IF(FragenErstellen!B56=\"\",\"\",FragenErstellen!B56)","v":""}]
[51,{"$f":"IF(FragenErstellen!B57=\"\",\"\",FragenErstellen!B57)","v":""}]
[52,{"$f":"IF(FragenErstellen!B58=\"\",\"\",FragenErstellen!B58)","v":""}]
[53,{"$f":"IF(FragenErstellen!B59=\"\",\"\",FragenErstellen!B59)","v":""}]
[54,{"$f":"IF(FragenErstellen!B60=\"\",\"\",FragenErstellen!B60)","v":""}]
[55,{"$f":"IF(FragenErstellen!B61=\"\",\"\",FragenErstellen!B61)","v":""}]
[56,{"$f":"IF(FragenErstellen!B62=\"\",\"\",FragenErstellen!B62)","v":""}]
[57,{"$f":"IF(FragenErstellen!B63=\"\",\"\",FragenErstellen!B63)","v":""}]
[58,{"$f":"IF(FragenErstellen!B64=\"\",\"\",FragenErstellen!B64)","v":""}]
[59,{"$f":"IF(FragenErstellen!B65=\"\",\"\",FragenErstellen!B65)","v":""}]
[60,{"$f":"IF(FragenErstellen!B66=\"\",\"\",FragenErstellen!B66)","v":""}]

{"sheet":"A) Eingabe (Lehrer)","index":21,"n_rows":70,"n_cols":52,"rows_kept":70,"cut":false,"hidden":true,"merged":[[0,2,0,21],[6,3,6,8]]}
[null,"Kodierung","Erste Erhebung"]
[null,"Item 1- Item 24"]
["1 =","stimme nicht zu                             "]
["2 =","stimme eher nicht zu                 "]
["3 =","stimme eher zu                            "]
["4 =","stimme zu                                    "]
[null,"                                                    "]
[]
[]
[null,"Kollegen","Ich",1,2,3,4,5,6,7,8,9,10,11,12,13,14,15,16,17,18,19,20,21,22,23,24,25,26,27,28,29,30,31]
[1,{"$f":"IF(FragenErstellen!B7=\"\",\"\",FragenErstellen!B7)","v":"Klassenführung"}]
[2,{"$f":"IF(FragenErstellen!B8=\"\",\"\",FragenErstellen!B8)","v":"Der Unterricht hat pünktlich begonnen."}]
[3,{"$f":"IF(FragenErstellen!B9=\"\",\"\",FragenErstellen!B9)","v":"Die Klassenregeln waren den Schüler/innen klar."}]
[4,{"$f":"IF(FragenErstellen!B10=\"\",\"\",FragenErstellen!B10)","v":"Die Schüler/innen konnten ungestört arbeiten."}]
[5,{"$f":"IF(FragenErstellen!B11=\"\",\"\",FragenErstellen!B11)","v":"Den Schüler/innen war im Laufe der Unterrichtsstunde jederzeit klar, was sie tun sollten."}]
[6,{"$f":"IF(FragenErstellen!B12=\"\",\"\",FragenErstellen!B12)","v":"Die gesamte Unterrichtsstunde wurde für den Lernstoff verwendet."}]
[7,{"$f":"IF(FragenErstellen!B13=\"\",\"\",FragenErstellen!B13)","v":"Lernförderliches Klima und Motivierung"}]
[8,{"$f":"IF(FragenErstellen!B14=\"\",\"\",FragenErstellen!B14)","v":"Mit Schülerbeiträgen ist die Lehrperson wertschätzend umgegangen."}]
[9,{"$f":"IF(FragenErstellen!B15=\"\",\"\",FragenErstellen!B15)","v":"Die Lehrperson war freundlich zu den Schüler/innen."}]
[10,{"$f":"IF(FragenErstellen!B16=\"\",\"\",FragenErstellen!B16)","v":"Die Lehrperson hat die Schüler/innen ausreden lassen, wenn sie dran waren."}]
[11,{"$f":"IF(FragenErstellen!B17=\"\",\"\",FragenErstellen!B17)","v":"Wenn die Lehrperson eine Frage gestellt hat, hatten die Schüler/innen ausreichend Zeit zum Nachdenken."},null,null,null,null,null,null,null,null,null,null,null,null,null,null,null,null,null,null,null,null,null,null,null,null,null,null,null,null,null,null,null,null,null,null,null," "]
[12,{"$f":"IF(FragenErstellen!B18=\"\",\"\",FragenErstellen!B18)","v":"Die Lehrperson hat auflockernde Bemerkung gemacht."},null,null,null,null,null,null,null,null,null,null,null,null,null,null,null,null,null,null,null,null,null,null,null,null,null,null,null,null,null,null,null,null,null,null,null,null," "]
[13,{"$f":"IF(FragenErstellen!B19=\"\",\"\",FragenErstellen!B19)","v":"Die Lehrperson hat die Schüler/innen für Beiträge zum Unterricht angemessen gelobt."},null,null,null,null,null,null,null,null,null,null,null,null,null,null,null,null,null,null,null,null,null,null,null,null,null,null,null,null,null,null,null,null,null,null,null,null,null," "]
[14,{"$f":"IF(FragenErstellen!B20=\"\",\"\",FragenErstellen!B20)","v":"Klarheit und Strukturiertheit "},null,null,null,null,null,null,null,null,null,null,null,null,null,null,null,null,null,null,null,null,null,null,null,null,null,null,null,null,null,null,null,null,null,null,null,null,null,null," "]
[15,{"$f":"IF(FragenErstellen!B21=\"\",\"\",FragenErstellen!B21)","v":"Die Lehrperson har klar auf früher unterrichteten Stoff hingewiesen."},null,null,null,null,null,null,null,null,null,null,null,null,null,null,null,null,null,null,null,null,null,null,null,null,null,null,null,null,null,null,null,null,null,null,null,null,null,null,null," "]
[16,{"$f":"IF(FragenErstellen!B22=\"\",\"\",FragenErstellen!B22)","v":"Es gab anschauliche Beispiele."},null,null,null,null,null,null,null,null,null,null,null,null,null,null,null,null,null,null,null,null,null,null,null,null,null,null,null,null,null,null,null,null,null,null,null,null,null,null,null,null," "]
[17,{"$f":"IF(FragenErstellen!B23=\"\",\"\",FragenErstellen!B23)","v":"Die wichtigsten Punkte wurden zusammengefasst."},null,null,null,null,null,null,null,null,null,null,null,null,null,null,null,null,null,null,null,null,null,null,null,null,null,null,null,null,null,null,null,null,null,null,null,null,null,null,null,null,null," "]
[18,{"$f":"IF(FragenErstellen!B24=\"\",\"\",FragenErstellen!B24)","v":"Die Lehrperson hat darauf geachtet, dass die Schüler/innen sich klar ausdrücken."},null,null,null,null,null,null,null,null,null,null,null,null,null,null,null,null,null,null,null,null,null,null,null,null,null,null,null,null,null,null,null,null,null,null,null,null,null,null,null,null,null,null," "]
[19,{"$f":"IF(FragenErstellen!B25=\"\",\"\",FragenErstellen!B25)","v":"Den Schüler/innen war klar, was sie in dieser Stunde lernen sollten."},null,null,null,null,null,null,null,null,null,null,null,null,null,null,null,null,null,null,null,null,null,null,null,null,null,null,null,null,null,null,null,null,null,null,null,null,null,null,null,null,null,null,null," "]
[20,{"$f":"IF(FragenErstellen!B26=\"\",\"\",FragenErstellen!B26)","v":"Aktivierung"},null,null,null,null,null,null,null,null,null,null,null,null,null,null,null,null,null,null,null,null,null,null,null,null,null,null,null,null,null,null,null,null,null,null,null,null,null,null,null,null,null,null,null,null," "]
[21,{"$f":"IF(FragenErstellen!B27=\"\",\"\",FragenErstellen!B27)","v":"Die Schüler/innen haben sich mit eigenen Beiträgen am Unterrichtsgespräche beteiligt."},null,null,null,null,null,null,null,null,null,null,null,null,null,null,null,null,null,null,null,null,null,null,null,null,null,null,null,null,null,null,null,null,null,null,null,null,null,null,null,null,null,null,null,null,null," "]
[22,{"$f":"IF(FragenErstellen!B28=\"\",\"\",FragenErstellen!B28)","v":"Die Schüler/innen haben Aufgaben alleine bearbeitet."},null,null,null,null,null,null,null,null,null,null,null,null,null,null,null,null,null,null,null,null,null,null,null,null,null,null,null,null,null,null,null,null,null,null,null,null,null,null,null,null,null,null,null,null,null,null," "]
[23,{"$f":"IF(FragenErstellen!B29=\"\",\"\",FragenErstellen!B29)","v":"Die Schüler/innen haben etwas vor anderen präsentiert."},null,null,null,null,null,null,null,null,null,null,null,null,null,null,null,null,null,null,null,null,null,null,null,null,null,null,null,null,null,null,null,null,null,null,null,null,null,null,null,null,null,null,null,null,null,null,null," "]
[24,{"$f":"IF(FragenErstellen!B30=\"\",\"\",FragenErstellen!B30)","v":"Die Schüler/innen haben ihre eigenen Arbeitsergebnisse selbst kontrolliert."},null,null,null,null,null,null,null,null,null,null,null,null,null,null,null,null,null,null,null,null,null,null,null,null,null,null,null,null,null,null,null,null,null,null,null,null,null,null,null,null,null,null,null,null,null,null,null,null," "]
[25,{"$f":"IF(FragenErstellen!B31=\"\",\"\",FragenErstellen!B31)","v":"Die Schüler/innen waren die ganze Stunde über aktiv bei der Sache."},null,null,null,null,null,null,null,null,null,null,null,null,null,null,null,null,null,null,null,null,null,null,null,null,null,null,null,null,null,null,null,null,null,null,null,null,null,null,null,null,null,null,null,null,null,null,null,null,null," "]
[26,{"$f":"IF(FragenErstellen!B32=\"\",\"\",FragenErstellen!B32)","v":"Bilanz/ Ertrag"}]
[27,{"$f":"IF(FragenErstellen!B33=\"\",\"\",FragenErstellen!B33)","v":"Die Schüler/innen haben etwas dazu gelernt."}]
[28,{"$f":"IF(FragenErstellen!B34=\"\",\"\",FragenErstellen!B34)","v":"Die Unterrichtsstunde war für die Schüler/innen interessant."}]
[29,{"$f":"IF(FragenErstellen!B35=\"\",\"\",FragenErstellen!B35)","v":"Die Schüler/innen haben sich in dieser Stunde wohl gefühlt."}]
[30]
[31]
[32]
[33]
[34]
[35]
[36]
[37]
[38]
[39]
[40]
[41]
[42]
[43]
[44]
[45]
[46]
[47]
[48]
[49]
[50]
[51]
[52]
[53]
[54]
[55]
[56]
[57]
[58]
[59]
[60]

{"sheet":"B) Eingabe (Lehrer)","index":22,"n_rows":70,"n_cols":52,"rows_kept":70,"cut":false,"hidden":true,"merged":[[0,2,0,21],[6,3,6,8]]}
[null,"Kodierung","Zweite Erhebung"]
[null,"Item 1- Item 24"]
["1 =","stimme nicht zu                             "]
["2 =","stimme eher nicht zu                 "]
["3 =","stimme eher zu                            "]
["4 =","stimme zu                                    "]
[null,"                                                    "]
[]
[]
[null,"Kollegen","Ich",1,2,3,4,5,6,7,8,9,10,11,12,13,14,15,16,17,18,19,20,21,22,23,24,25,26,27,28,29,30,31]
[1,{"$f":"IF(FragenErstellen!B7=\"\",\"\",FragenErstellen!B7)","v":"Klassenführung"}]
[2,{"$f":"IF(FragenErstellen!B8=\"\",\"\",FragenErstellen!B8)","v":"Der Unterricht hat pünktlich begonnen."}]
[3,{"$f":"IF(FragenErstellen!B9=\"\",\"\",FragenErstellen!B9)","v":"Die Klassenregeln waren den Schüler/innen klar."}]
[4,{"$f":"IF(FragenErstellen!B10=\"\",\"\",FragenErstellen!B10)","v":"Die Schüler/innen konnten ungestört arbeiten."}]
[5,{"$f":"IF(FragenErstellen!B11=\"\",\"\",FragenErstellen!B11)","v":"Den Schüler/innen war im Laufe der Unterrichtsstunde jederzeit klar, was sie tun sollten."}]
[6,{"$f":"IF(FragenErstellen!B12=\"\",\"\",FragenErstellen!B12)","v":"Die gesamte Unterrichtsstunde wurde für den Lernstoff verwendet."}]
[7,{"$f":"IF(FragenErstellen!B13=\"\",\"\",FragenErstellen!B13)","v":"Lernförderliches Klima und Motivierung"}]
[8,{"$f":"IF(FragenErstellen!B14=\"\",\"\",FragenErstellen!B14)","v":"Mit Schülerbeiträgen ist die Lehrperson wertschätzend umgegangen."}]
[9,{"$f":"IF(FragenErstellen!B15=\"\",\"\",FragenErstellen!B15)","v":"Die Lehrperson war freundlich zu den Schüler/innen."}]
[10,{"$f":"IF(FragenErstellen!B16=\"\",\"\",FragenErstellen!B16)","v":"Die Lehrperson hat die Schüler/innen ausreden lassen, wenn sie dran waren."}]
[11,{"$f":"IF(FragenErstellen!B17=\"\",\"\",FragenErstellen!B17)","v":"Wenn die Lehrperson eine Frage gestellt hat, hatten die Schüler/innen ausreichend Zeit zum Nachdenken."},null,null,null,null,null,null,null,null,null,null,null,null,null,null,null,null,null,null,null,null,null,null,null,null,null,null,null,null,null,null,null,null,null,null,null," "]
[12,{"$f":"IF(FragenErstellen!B18=\"\",\"\",FragenErstellen!B18)","v":"Die Lehrperson hat auflockernde Bemerkung gemacht."},null,null,null,null,null,null,null,null,null,null,null,null,null,null,null,null,null,null,null,null,null,null,null,null,null,null,null,null,null,null,null,null,null,null,null,null," "]
[13,{"$f":"IF(FragenErstellen!B19=\"\",\"\",FragenErstellen!B19)","v":"Die Lehrperson hat die Schüler/innen für Beiträge zum Unterricht angemessen gelobt."},null,null,null,null,null,null,null,null,null,null,null,null,null,null,null,null,null,null,null,null,null,null,null,null,null,null,null,null,null,null,null,null,null,null,null,null,null," "]
[14,{"$f":"IF(FragenErstellen!B20=\"\",\"\",FragenErstellen!B20)","v":"Klarheit und Strukturiertheit "},null,null,null,null,null,null,null,null,null,null,null,null,null,null,null,null,null,null,null,null,null,null,null,null,null,null,null,null,null,null,null,null,null,null,null,null,null,null," "]
[15,{"$f":"IF(FragenErstellen!B21=\"\",\"\",FragenErstellen!B21)","v":"Die Lehrperson har klar auf früher unterrichteten Stoff hingewiesen."},null,null,null,null,null,null,null,null,null,null,null,null,null,null,null,null,null,null,null,null,null,null,null,null,null,null,null,null,null,null,null,null,null,null,null,null,null,null,null," "]
[16,{"$f":"IF(FragenErstellen!B22=\"\",\"\",FragenErstellen!B22)","v":"Es gab anschauliche Beispiele."},null,null,null,null,null,null,null,null,null,null,null,null,null,null,null,null,null,null,null,null,null,null,null,null,null,null,null,null,null,null,null,null,null,null,null,null,null,null,null,null," "]
[17,{"$f":"IF(FragenErstellen!B23=\"\",\"\",FragenErstellen!B23)","v":"Die wichtigsten Punkte wurden zusammengefasst."},null,null,null,null,null,null,null,null,null,null,null,null,null,null,null,null,null,null,null,null,null,null,null,null,null,null,null,null,null,null,null,null,null,null,null,null,null,null,null,null,null," "]
[18,{"$f":"IF(FragenErstellen!B24=\"\",\"\",FragenErstellen!B24)","v":"Die Lehrperson hat darauf geachtet, dass die Schüler/innen sich klar ausdrücken."},null,null,null,null,null,null,null,null,null,null,null,null,null,null,null,null,null,null,null,null,null,null,null,null,null,null,null,null,null,null,null,null,null,null,null,null,null,null,null,null,null,null," "]
[19,{"$f":"IF(FragenErstellen!B25=\"\",\"\",FragenErstellen!B25)","v":"Den Schüler/innen war klar, was sie in dieser Stunde lernen sollten."},null,null,null,null,null,null,null,null,null,null,null,null,null,null,null,null,null,null,null,null,null,null,null,null,null,null,null,null,null,null,null,null,null,null,null,null,null,null,null,null,null,null,null," "]
[20,{"$f":"IF(FragenErstellen!B26=\"\",\"\",FragenErstellen!B26)","v":"Aktivierung"},null,null,null,null,null,null,null,null,null,null,null,null,null,null,null,null,null,null,null,null,null,null,null,null,null,null,null,null,null,null,null,null,null,null,null,null,null,null,null,null,null,null,null,null," "]
[21,{"$f":"IF(FragenErstellen!B27=\"\",\"\",FragenErstellen!B27)","v":"Die Schüler/innen haben sich mit eigenen Beiträgen am Unterrichtsgespräche beteiligt."},null,null,null,null,null,null,null,null,null,null,null,null,null,null,null,null,null,null,null,null,null,null,null,null,null,null,null,null,null,null,null,null,null,null,null,null,null,null,null,null,null,null,null,null,null," "]
[22,{"$f":"IF(FragenErstellen!B28=\"\",\"\",FragenErstellen!B28)","v":"Die Schüler/innen haben Aufgaben alleine bearbeitet."},null,null,null,null,null,null,null,null,null,null,null,null,null,null,null,null,null,null,null,null,null,null,null,null,null,null,null,null,null,null,null,null,null,null,null,null,null,null,null,null,null,null,null,null,null,null," "]
[23,{"$f":"IF(FragenErstellen!B29=\"\",\"\",FragenErstellen!B29)","v":"Die Schüler/innen haben etwas vor anderen präsentiert."},null,null,null,null,null,null,null,null,null,null,null,null,null,null,null,null,null,null,null,null,null,null,null,null,null,null,null,null,null,null,null,null,null,null,null,null,null,null,null,null,null,null,null,null,null,null,null," "]
[24,{"$f":"IF(FragenErstellen!B30=\"\",\"\",FragenErstellen!B30)","v":"Die Schüler/innen haben ihre eigenen Arbeitsergebnisse selbst kontrolliert."},null,null,null,null,null,null,null,null,null,null,null,null,null,null,null,null,null,null,null,null,null,null,null,null,null,null,null,null,null,null,null,null,null,null,null,null,null,null,null,null,null,null,null,null,null,null,null,null," "]
[25,{"$f":"IF(FragenErstellen!B31=\"\",\"\",FragenErstellen!B31)","v":"Die Schüler/innen waren die ganze Stunde über aktiv bei der Sache."},null,null,null,null,null,null,null,null,null,null,null,null,null,null,null,null,null,null,null,null,null,null,null,null,null,null,null,null,null,null,null,null,null,null,null,null,null,null,null,null,null,null,null,null,null,null,null,null,null," "]
[26,{"$f":"IF(FragenErstellen!B32=\"\",\"\",FragenErstellen!B32)","v":"Bilanz/ Ertrag"}]
[27,{"$f":"IF(FragenErstellen!B33=\"\",\"\",FragenErstellen!B33)","v":"Die Schüler/innen haben etwas dazu gelernt."}]
[28,{"$f":"IF(FragenErstellen!B34=\"\",\"\",FragenErstellen!B34)","v":"Die Unterrichtsstunde war für die Schüler/innen interessant."}]
[29,{"$f":"IF(FragenErstellen!B35=\"\",\"\",FragenErstellen!B35)","v":"Die Schüler/innen haben sich in dieser Stunde wohl gefühlt."}]
[30]
[31]
[32]
[33]
[34]
[35]
[36]
[37]
[38]
[39]
[40]
[41]
[42]
[43]
[44]
[45]
[46]
[47]
[48]
[49]
[50]
[51]
[52]
[53]
[54]
[55]
[56]
[57]
[58]
[59]
[60]

{"sheet":"B) Eingabe (Gruppen)","index":23,"n_rows":70,"n_cols":52,"rows_kept":70,"cut":false,"hidden":true,"merged":[[0,2,0,21],[6,3,6,8]]}
[null,"Kodierung","Zweite Erhebung"]
[null,"Item 1- Item 24"]
["1 =","stimme nicht zu                             "]
["2 =","stimme eher nicht zu                 "]
["3 =","stimme eher zu                            "]
["4 =","stimme zu                                    "]
[null,"                                                    ",null,"Umgang mit Schülerdaten"]
[]
[]
[null,"SCHÜLERNUMMMER",1,2,3,4,5,6,7,8,9,10,11,12,13,14,15,16,17,18,19,20,21,22,23,24,25,26,27,28,29,30,31,32,33,34,35]
[1,{"$f":"IF(FragenErstellen!B7=\"\",\"\",FragenErstellen!B7)","v":"Klassenführung"}]
[2,{"$f":"IF(FragenErstellen!B8=\"\",\"\",FragenErstellen!B8)","v":"Der Unterricht hat pünktlich begonnen."}]
[3,{"$f":"IF(FragenErstellen!B9=\"\",\"\",FragenErstellen!B9)","v":"Die Klassenregeln waren den Schüler/innen klar."}]
[4,{"$f":"IF(FragenErstellen!B10=\"\",\"\",FragenErstellen!B10)","v":"Die Schüler/innen konnten ungestört arbeiten."}]
[5,{"$f":"IF(FragenErstellen!B11=\"\",\"\",FragenErstellen!B11)","v":"Den Schüler/innen war im Laufe der Unterrichtsstunde jederzeit klar, was sie tun sollten."}]
[6,{"$f":"IF(FragenErstellen!B12=\"\",\"\",FragenErstellen!B12)","v":"Die gesamte Unterrichtsstunde wurde für den Lernstoff verwendet."}]
[7,{"$f":"IF(FragenErstellen!B13=\"\",\"\",FragenErstellen!B13)","v":"Lernförderliches Klima und Motivierung"}]
[8,{"$f":"IF(FragenErstellen!B14=\"\",\"\",FragenErstellen!B14)","v":"Mit Schülerbeiträgen ist die Lehrperson wertschätzend umgegangen."}]
[9,{"$f":"IF(FragenErstellen!B15=\"\",\"\",FragenErstellen!B15)","v":"Die Lehrperson war freundlich zu den Schüler/innen."}]
[10,{"$f":"IF(FragenErstellen!B16=\"\",\"\",FragenErstellen!B16)","v":"Die Lehrperson hat die Schüler/innen ausreden lassen, wenn sie dran waren."}]
[11,{"$f":"IF(FragenErstellen!B17=\"\",\"\",FragenErstellen!B17)","v":"Wenn die Lehrperson eine Frage gestellt hat, hatten die Schüler/innen ausreichend Zeit zum Nachdenken."},null,null,null,null,null,null,null,null,null,null,null,null,null,null,null,null,null,null,null,null,null,null,null,null,null,null,null,null,null,null,null,null,null,null,null," "]
[12,{"$f":"IF(FragenErstellen!B18=\"\",\"\",FragenErstellen!B18)","v":"Die Lehrperson hat auflockernde Bemerkung gemacht."},null,null,null,null,null,null,null,null,null,null,null,null,null,null,null,null,null,null,null,null,null,null,null,null,null,null,null,null,null,null,null,null,null,null,null,null," "]
[13,{"$f":"IF(FragenErstellen!B19=\"\",\"\",FragenErstellen!B19)","v":"Die Lehrperson hat die Schüler/innen für Beiträge zum Unterricht angemessen gelobt."},null,null,null,null,null,null,null,null,null,null,null,null,null,null,null,null,null,null,null,null,null,null,null,null,null,null,null,null,null,null,null,null,null,null,null,null,null," "]
[14,{"$f":"IF(FragenErstellen!B20=\"\",\"\",FragenErstellen!B20)","v":"Klarheit und Strukturiertheit "},null,null,null,null,null,null,null,null,null,null,null,null,null,null,null,null,null,null,null,null,null,null,null,null,null,null,null,null,null,null,null,null,null,null,null,null,null,null," "]
[15,{"$f":"IF(FragenErstellen!B21=\"\",\"\",FragenErstellen!B21)","v":"Die Lehrperson har klar auf früher unterrichteten Stoff hingewiesen."},null,null,null,null,null,null,null,null,null,null,null,null,null,null,null,null,null,null,null,null,null,null,null,null,null,null,null,null,null,null,null,null,null,null,null,null,null,null,null," "]
[16,{"$f":"IF(FragenErstellen!B22=\"\",\"\",FragenErstellen!B22)","v":"Es gab anschauliche Beispiele."},null,null,null,null,null,null,null,null,null,null,null,null,null,null,null,null,null,null,null,null,null,null,null,null,null,null,null,null,null,null,null,null,null,null,null,null,null,null,null,null," "]
[17,{"$f":"IF(FragenErstellen!B23=\"\",\"\",FragenErstellen!B23)","v":"Die wichtigsten Punkte wurden zusammengefasst."},null,null,null,null,null,null,null,null,null,null,null,null,null,null,null,null,null,null,null,null,null,null,null,null,null,null,null,null,null,null,null,null,null,null,null,null,null,null,null,null,null," "]
[18,{"$f":"IF(FragenErstellen!B24=\"\",\"\",FragenErstellen!B24)","v":"Die Lehrperson hat darauf geachtet, dass die Schüler/innen sich klar ausdrücken."},null,null,null,null,null,null,null,null,null,null,null,null,null,null,null,null,null,null,null,null,null,null,null,null,null,null,null,null,null,null,null,null,null,null,null,null,null,null,null,null,null,null," "]
[19,{"$f":"IF(FragenErstellen!B25=\"\",\"\",FragenErstellen!B25)","v":"Den Schüler/innen war klar, was sie in dieser Stunde lernen sollten."},null,null,null,null,null,null,null,null,null,null,null,null,null,null,null,null,null,null,null,null,null,null,null,null,null,null,null,null,null,null,null,null,null,null,null,null,null,null,null,null,null,null,null," "]
[20,{"$f":"IF(FragenErstellen!B26=\"\",\"\",FragenErstellen!B26)","v":"Aktivierung"},null,null,null,null,null,null,null,null,null,null,null,null,null,null,null,null,null,null,null,null,null,null,null,null,null,null,null,null,null,null,null,null,null,null,null,null,null,null,null,null,null,null,null,null," "]
[21,{"$f":"IF(FragenErstellen!B27=\"\",\"\",FragenErstellen!B27)","v":"Die Schüler/innen haben sich mit eigenen Beiträgen am Unterrichtsgespräche beteiligt."},null,null,null,null,null,null,null,null,null,null,null,null,null,null,null,null,null,null,null,null,null,null,null,null,null,null,null,null,null,null,null,null,null,null,null,null,null,null,null,null,null,null,null,null,null," "]
[22,{"$f":"IF(FragenErstellen!B28=\"\",\"\",FragenErstellen!B28)","v":"Die Schüler/innen haben Aufgaben alleine bearbeitet."},null,null,null,null,null,null,null,null,null,null,null,null,null,null,null,null,null,null,null,null,null,null,null,null,null,null,null,null,null,null,null,null,null,null,null,null,null,null,null,null,null,null,null,null,null,null," "]
[23,{"$f":"IF(FragenErstellen!B29=\"\",\"\",FragenErstellen!B29)","v":"Die Schüler/innen haben etwas vor anderen präsentiert."},null,null,null,null,null,null,null,null,null,null,null,null,null,null,null,null,null,null,null,null,null,null,null,null,null,null,null,null,null,null,null,null,null,null,null,null,null,null,null,null,null,null,null,null,null,null,null," "]
[24,{"$f":"IF(FragenErstellen!B30=\"\",\"\",FragenErstellen!B30)","v":"Die Schüler/innen haben ihre eigenen Arbeitsergebnisse selbst kontrolliert."},null,null,null,null,null,null,null,null,null,null,null,null,null,null,null,null,null,null,null,null,null,null,null,null,null,null,null,null,null,null,null,null,null,null,null,null,null,null,null,null,null,null,null,null,null,null,null,null," "]
[25,{"$f":"IF(FragenErstellen!B31=\"\",\"\",FragenErstellen!B31)","v":"Die Schüler/innen waren die ganze Stunde über aktiv bei der Sache."},null,null,null,null,null,null,null,null,null,null,null,null,null,null,null,null,null,null,null,null,null,null,null,null,null,null,null,null,null,null,null,null,null,null,null,null,null,null,null,null,null,null,null,null,null,null,null,null,null," "]
[26,{"$f":"IF(FragenErstellen!B32=\"\",\"\",FragenErstellen!B32)","v":"Bilanz/ Ertrag"}]
[27,{"$f":"IF(FragenErstellen!B33=\"\",\"\",FragenErstellen!B33)","v":"Die Schüler/innen haben etwas dazu gelernt."}]
[28,{"$f":"IF(FragenErstellen!B34=\"\",\"\",FragenErstellen!B34)","v":"Die Unterrichtsstunde war für die Schüler/innen interessant."}]
[29,{"$f":"IF(FragenErstellen!B35=\"\",\"\",FragenErstellen!B35)","v":"Die Schüler/innen haben sich in dieser Stunde wohl gefühlt."}]
[30,{"$f":"IF(FragenErstellen!B36=\"\",\"\",FragenErstellen!B36)","v":"Die Lehrperson hat sich in dieser Stunde an den Bildungsstandards dieses Faches orientiert."}]
[31,{"$f":"IF(FragenErstellen!B37=\"\",\"\",FragenErstellen!B37)","v":"Im Hinblick auf die unterschiedlichen Lernvoraussetzungen der Schüler/innen war das Unterrichtsangebot angemessen."}]
[32,{"$f":"IF(FragenErstellen!B38=\"\",\"\",FragenErstellen!B38)","v":"Zusatzbereich:"}]
[33,{"$f":"IF(FragenErstellen!B39=\"\",\"\",FragenErstellen!B39)","v":""}]
[34,{"$f":"IF(FragenErstellen!B40=\"\",\"\",FragenErstellen!B40)","v":""}]
[35,{"$f":"IF(FragenErstellen!B41=\"\",\"\",FragenErstellen!B41)","v":""}]
[36,{"$f":"IF(FragenErstellen!B42=\"\",\"\",FragenErstellen!B42)","v":""}]
[37,{"$f":"IF(FragenErstellen!B43=\"\",\"\",FragenErstellen!B43)","v":""}]
[38,{"$f":"IF(FragenErstellen!B44=\"\",\"\",FragenErstellen!B44)","v":""}]
[39,{"$f":"IF(FragenErstellen!B45=\"\",\"\",FragenErstellen!B45)","v":""}]
[40,{"$f":"IF(FragenErstellen!B46=\"\",\"\",FragenErstellen!B46)","v":""}]
[41,{"$f":"IF(FragenErstellen!B47=\"\",\"\",FragenErstellen!B47)","v":""}]
[42,{"$f":"IF(FragenErstellen!B48=\"\",\"\",FragenErstellen!B48)","v":""}]
[43,{"$f":"IF(FragenErstellen!B49=\"\",\"\",FragenErstellen!B49)","v":""}]
[44,{"$f":"IF(FragenErstellen!B50=\"\",\"\",FragenErstellen!B50)","v":""}]
[45,{"$f":"IF(FragenErstellen!B51=\"\",\"\",FragenErstellen!B51)","v":""}]
[46,{"$f":"IF(FragenErstellen!B52=\"\",\"\",FragenErstellen!B52)","v":""}]
[47,{"$f":"IF(FragenErstellen!B53=\"\",\"\",FragenErstellen!B53)","v":""}]
[48,{"$f":"IF(FragenErstellen!B54=\"\",\"\",FragenErstellen!B54)","v":""}]
[49,{"$f":"IF(FragenErstellen!B55=\"\",\"\",FragenErstellen!B55)","v":""}]
[50,{"$f":"IF(FragenErstellen!B56=\"\",\"\",FragenErstellen!B56)","v":""}]
[51,{"$f":"IF(FragenErstellen!B57=\"\",\"\",FragenErstellen!B57)","v":""}]
[52,{"$f":"IF(FragenErstellen!B58=\"\",\"\",FragenErstellen!B58)","v":""}]
[53,{"$f":"IF(FragenErstellen!B59=\"\",\"\",FragenErstellen!B59)","v":""}]
[54,{"$f":"IF(FragenErstellen!B60=\"\",\"\",FragenErstellen!B60)","v":""}]
[55,{"$f":"IF(FragenErstellen!B61=\"\",\"\",FragenErstellen!B61)","v":""}]
[56,{"$f":"IF(FragenErstellen!B62=\"\",\"\",FragenErstellen!B62)","v":""}]
[57,{"$f":"IF(FragenErstellen!B63=\"\",\"\",FragenErstellen!B63)","v":""}]
[58,{"$f":"IF(FragenErstellen!B64=\"\",\"\",FragenErstellen!B64)","v":""}]
[59,{"$f":"IF(FragenErstellen!B65=\"\",\"\",FragenErstellen!B65)","v":""}]
[60,{"$f":"IF(FragenErstellen!B66=\"\",\"\",FragenErstellen!B66)","v":""}]

{"sheet":"A) Eingabe (Gruppen)","index":24,"n_rows":70,"n_cols":52,"rows_kept":70,"cut":false,"hidden":true,"merged":[[0,2,0,21],[6,3,6,8]]}
[null,"Kodierung","Erste Erhebung"]
[null,"Item 1- Item 24"]
["1 =","stimme nicht zu                             "]
["2 =","stimme eher nicht zu                 "]
["3 =","stimme eher zu                            "]
["4 =","stimme zu                                    "]
[null,"                                                    ",null,"Umgang mit Schülerdaten"]
[]
[]
[null,"Feedbackgruppe",1,2,3,4,5,6,7,8,9,10,11,12,13,14,15,16,17,18,19,20,21,22,23,24,25,26,27,28,29,30,31,32,33,34,35]
[1,{"$f":"IF(FragenErstellen!B7=\"\",\"\",FragenErstellen!B7)","v":"Klassenführung"}]
[2,{"$f":"IF(FragenErstellen!B8=\"\",\"\",FragenErstellen!B8)","v":"Der Unterricht hat pünktlich begonnen."}]
[3,{"$f":"IF(FragenErstellen!B9=\"\",\"\",FragenErstellen!B9)","v":"Die Klassenregeln waren den Schüler/innen klar."}]
[4,{"$f":"IF(FragenErstellen!B10=\"\",\"\",FragenErstellen!B10)","v":"Die Schüler/innen konnten ungestört arbeiten."}]
[5,{"$f":"IF(FragenErstellen!B11=\"\",\"\",FragenErstellen!B11)","v":"Den Schüler/innen war im Laufe der Unterrichtsstunde jederzeit klar, was sie tun sollten."}]
[6,{"$f":"IF(FragenErstellen!B12=\"\",\"\",FragenErstellen!B12)","v":"Die gesamte Unterrichtsstunde wurde für den Lernstoff verwendet."}]
[7,{"$f":"IF(FragenErstellen!B13=\"\",\"\",FragenErstellen!B13)","v":"Lernförderliches Klima und Motivierung"}]
[8,{"$f":"IF(FragenErstellen!B14=\"\",\"\",FragenErstellen!B14)","v":"Mit Schülerbeiträgen ist die Lehrperson wertschätzend umgegangen."}]
[9,{"$f":"IF(FragenErstellen!B15=\"\",\"\",FragenErstellen!B15)","v":"Die Lehrperson war freundlich zu den Schüler/innen."}]
[10,{"$f":"IF(FragenErstellen!B16=\"\",\"\",FragenErstellen!B16)","v":"Die Lehrperson hat die Schüler/innen ausreden lassen, wenn sie dran waren."}]
[11,{"$f":"IF(FragenErstellen!B17=\"\",\"\",FragenErstellen!B17)","v":"Wenn die Lehrperson eine Frage gestellt hat, hatten die Schüler/innen ausreichend Zeit zum Nachdenken."},null,null,null,null,null,null,null,null,null,null,null,null,null,null,null,null,null,null,null,null,null,null,null,null,null,null,null,null,null,null,null,null,null,null,null," "]
[12,{"$f":"IF(FragenErstellen!B18=\"\",\"\",FragenErstellen!B18)","v":"Die Lehrperson hat auflockernde Bemerkung gemacht."},null,null,null,null,null,null,null,null,null,null,null,null,null,null,null,null,null,null,null,null,null,null,null,null,null,null,null,null,null,null,null,null,null,null,null,null," "]
[13,{"$f":"IF(FragenErstellen!B19=\"\",\"\",FragenErstellen!B19)","v":"Die Lehrperson hat die Schüler/innen für Beiträge zum Unterricht angemessen gelobt."},null,null,null,null,null,null,null,null,null,null,null,null,null,null,null,null,null,null,null,null,null,null,null,null,null,null,null,null,null,null,null,null,null,null,null,null,null," "]
[14,{"$f":"IF(FragenErstellen!B20=\"\",\"\",FragenErstellen!B20)","v":"Klarheit und Strukturiertheit "},null,null,null,null,null,null,null,null,null,null,null,null,null,null,null,null,null,null,null,null,null,null,null,null,null,null,null,null,null,null,null,null,null,null,null,null,null,null," "]
[15,{"$f":"IF(FragenErstellen!B21=\"\",\"\",FragenErstellen!B21)","v":"Die Lehrperson har klar auf früher unterrichteten Stoff hingewiesen."},null,null,null,null,null,null,null,null,null,null,null,null,null,null,null,null,null,null,null,null,null,null,null,null,null,null,null,null,null,null,null,null,null,null,null,null,null,null,null," "]
[16,{"$f":"IF(FragenErstellen!B22=\"\",\"\",FragenErstellen!B22)","v":"Es gab anschauliche Beispiele."},null,null,null,null,null,null,null,null,null,null,null,null,null,null,null,null,null,null,null,null,null,null,null,null,null,null,null,null,null,null,null,null,null,null,null,null,null,null,null,null," "]
[17,{"$f":"IF(FragenErstellen!B23=\"\",\"\",FragenErstellen!B23)","v":"Die wichtigsten Punkte wurden zusammengefasst."},null,null,null,null,null,null,null,null,null,null,null,null,null,null,null,null,null,null,null,null,null,null,null,null,null,null,null,null,null,null,null,null,null,null,null,null,null,null,null,null,null," "]
[18,{"$f":"IF(FragenErstellen!B24=\"\",\"\",FragenErstellen!B24)","v":"Die Lehrperson hat darauf geachtet, dass die Schüler/innen sich klar ausdrücken."},null,null,null,null,null,null,null,null,null,null,null,null,null,null,null,null,null,null,null,null,null,null,null,null,null,null,null,null,null,null,null,null,null,null,null,null,null,null,null,null,null,null," "]
[19,{"$f":"IF(FragenErstellen!B25=\"\",\"\",FragenErstellen!B25)","v":"Den Schüler/innen war klar, was sie in dieser Stunde lernen sollten."},null,null,null,null,null,null,null,null,null,null,null,null,null,null,null,null,null,null,null,null,null,null,null,null,null,null,null,null,null,null,null,null,null,null,null,null,null,null,null,null,null,null,null," "]
[20,{"$f":"IF(FragenErstellen!B26=\"\",\"\",FragenErstellen!B26)","v":"Aktivierung"},null,null,null,null,null,null,null,null,null,null,null,null,null,null,null,null,null,null,null,null,null,null,null,null,null,null,null,null,null,null,null,null,null,null,null,null,null,null,null,null,null,null,null,null," "]
[21,{"$f":"IF(FragenErstellen!B27=\"\",\"\",FragenErstellen!B27)","v":"Die Schüler/innen haben sich mit eigenen Beiträgen am Unterrichtsgespräche beteiligt."},null,null,null,null,null,null,null,null,null,null,null,null,null,null,null,null,null,null,null,null,null,null,null,null,null,null,null,null,null,null,null,null,null,null,null,null,null,null,null,null,null,null,null,null,null," "]
[22,{"$f":"IF(FragenErstellen!B28=\"\",\"\",FragenErstellen!B28)","v":"Die Schüler/innen haben Aufgaben alleine bearbeitet."},null,null,null,null,null,null,null,null,null,null,null,null,null,null,null,null,null,null,null,null,null,null,null,null,null,null,null,null,null,null,null,null,null,null,null,null,null,null,null,null,null,null,null,null,null,null," "]
[23,{"$f":"IF(FragenErstellen!B29=\"\",\"\",FragenErstellen!B29)","v":"Die Schüler/innen haben etwas vor anderen präsentiert."},null,null,null,null,null,null,null,null,null,null,null,null,null,null,null,null,null,null,null,null,null,null,null,null,null,null,null,null,null,null,null,null,null,null,null,null,null,null,null,null,null,null,null,null,null,null,null," "]
[24,{"$f":"IF(FragenErstellen!B30=\"\",\"\",FragenErstellen!B30)","v":"Die Schüler/innen haben ihre eigenen Arbeitsergebnisse selbst kontrolliert."},null,null,null,null,null,null,null,null,null,null,null,null,null,null,null,null,null,null,null,null,null,null,null,null,null,null,null,null,null,null,null,null,null,null,null,null,null,null,null,null,null,null,null,null,null,null,null,null," "]
[25,{"$f":"IF(FragenErstellen!B31=\"\",\"\",FragenErstellen!B31)","v":"Die Schüler/innen waren die ganze Stunde über aktiv bei der Sache."},null,null,null,null,null,null,null,null,null,null,null,null,null,null,null,null,null,null,null,null,null,null,null,null,null,null,null,null,null,null,null,null,null,null,null,null,null,null,null,null,null,null,null,null,null,null,null,null,null," "]
[26,{"$f":"IF(FragenErstellen!B32=\"\",\"\",FragenErstellen!B32)","v":"Bilanz/ Ertrag"}]
[27,{"$f":"IF(FragenErstellen!B33=\"\",\"\",FragenErstellen!B33)","v":"Die Schüler/innen haben etwas dazu gelernt."}]
[28,{"$f":"IF(FragenErstellen!B34=\"\",\"\",FragenErstellen!B34)","v":"Die Unterrichtsstunde war für die Schüler/innen interessant."}]
[29,{"$f":"IF(FragenErstellen!B35=\"\",\"\",FragenErstellen!B35)","v":"Die Schüler/innen haben sich in dieser Stunde wohl gefühlt."}]
[30,{"$f":"IF(FragenErstellen!B36=\"\",\"\",FragenErstellen!B36)","v":"Die Lehrperson hat sich in dieser Stunde an den Bildungsstandards dieses Faches orientiert."}]
[31,{"$f":"IF(FragenErstellen!B37=\"\",\"\",FragenErstellen!B37)","v":"Im Hinblick auf die unterschiedlichen Lernvoraussetzungen der Schüler/innen war das Unterrichtsangebot angemessen."}]
[32,{"$f":"IF(FragenErstellen!B38=\"\",\"\",FragenErstellen!B38)","v":"Zusatzbereich:"}]
[33,{"$f":"IF(FragenErstellen!B39=\"\",\"\",FragenErstellen!B39)","v":""}]
[34,{"$f":"IF(FragenErstellen!B40=\"\",\"\",FragenErstellen!B40)","v":""}]
[35,{"$f":"IF(FragenErstellen!B41=\"\",\"\",FragenErstellen!B41)","v":""}]
[36,{"$f":"IF(FragenErstellen!B42=\"\",\"\",FragenErstellen!B42)","v":""}]
[37,{"$f":"IF(FragenErstellen!B43=\"\",\"\",FragenErstellen!B43)","v":""}]
[38,{"$f":"IF(FragenErstellen!B44=\"\",\"\",FragenErstellen!B44)","v":""}]
[39,{"$f":"IF(FragenErstellen!B45=\"\",\"\",FragenErstellen!B45)","v":""}]
[40,{"$f":"IF(FragenErstellen!B46=\"\",\"\",FragenErstellen!B46)","v":""}]
[41,{"$f":"IF(FragenErstellen!B47=\"\",\"\",FragenErstellen!B47)","v":""}]
[42,{"$f":"IF(FragenErstellen!B48=\"\",\"\",FragenErstellen!B48)","v":""}]
[43,{"$f":"IF(FragenErstellen!B49=\"\",\"\",FragenErstellen!B49)","v":""}]
[44,{"$f":"IF(FragenErstellen!B50=\"\",\"\",FragenErstellen!B50)","v":""}]
[45,{"$f":"IF(FragenErstellen!B51=\"\",\"\",FragenErstellen!B51)","v":""}]
[46,{"$f":"IF(FragenErstellen!B52=\"\",\"\",FragenErstellen!B52)","v":""}]
[47,{"$f":"IF(FragenErstellen!B53=\"\",\"\",FragenErstellen!B53)","v":""}]
[48,{"$f":"IF(FragenErstellen!B54=\"\",\"\",FragenErstellen!B54)","v":""}]
[49,{"$f":"IF(FragenErstellen!B55=\"\",\"\",FragenErstellen!B55)","v":""}]
[50,{"$f":"IF(FragenErstellen!B56=\"\",\"\",FragenErstellen!B56)","v":""}]
[51,{"$f":"IF(FragenErstellen!B57=\"\",\"\",FragenErstellen!B57)","v":""}]
[52,{"$f":"IF(FragenErstellen!B58=\"\",\"\",FragenErstellen!B58)","v":""}]
[53,{"$f":"IF(FragenErstellen!B59=\"\",\"\",FragenErstellen!B59)","v":""}]
[54,{"$f":"IF(FragenErstellen!B60=\"\",\"\",FragenErstellen!B60)","v":""}]
[55,{"$f":"IF(FragenErstellen!B61=\"\",\"\",FragenErstellen!B61)","v":""}]
[56,{"$f":"IF(FragenErstellen!B62=\"\",\"\",FragenErstellen!B62)","v":""}]
[57,{"$f":"IF(FragenErstellen!B63=\"\",\"\",FragenErstellen!B63)","v":""}]
[58,{"$f":"IF(FragenErstellen!B64=\"\",\"\",FragenErstellen!B64)","v":""}]
[59,{"$f":"IF(FragenErstellen!B65=\"\",\"\",FragenErstellen!B65)","v":""}]
[60,{"$f":"IF(FragenErstellen!B66=\"\",\"\",FragenErstellen!B66)","v":""}]

{"sheet":"A) Eingabe (Schüler)","index":25,"n_rows":70,"n_cols":52,"rows_kept":70,"cut":false,"hidden":true,"merged":[[0,2,0,21],[6,3,6,8]]}
[null,"Kodierung","Erste Erhebung"]
[null,"Item 1- Item 24"]
["1 =","stimme nicht zu                             "]
["2 =","stimme eher nicht zu                 "]
["3 =","stimme eher zu                            "]
["4 =","stimme zu                                    "]
[null,"                                                    ",null,"Umgang mit Schülerdaten"]
[]
[]
[null,"SCHÜLERNUMMMER",1,2,3,4,5,6,7,8,9,10,11,12,13,14,15,16,17,18,19,20,21,22,23,24,25,26,27,28,29,30,31,32,33,34,35]
[1,{"$f":"IF(FragenErstellen!B7=\"\",\"\",FragenErstellen!B7)","v":"Klassenführung"}]
[2,{"$f":"IF(FragenErstellen!B8=\"\",\"\",FragenErstellen!B8)","v":"Der Unterricht hat pünktlich begonnen."}]
[3,{"$f":"IF(FragenErstellen!B9=\"\",\"\",FragenErstellen!B9)","v":"Die Klassenregeln waren den Schüler/innen klar."}]
[4,{"$f":"IF(FragenErstellen!B10=\"\",\"\",FragenErstellen!B10)","v":"Die Schüler/innen konnten ungestört arbeiten."}]
[5,{"$f":"IF(FragenErstellen!B11=\"\",\"\",FragenErstellen!B11)","v":"Den Schüler/innen war im Laufe der Unterrichtsstunde jederzeit klar, was sie tun sollten."}]
[6,{"$f":"IF(FragenErstellen!B12=\"\",\"\",FragenErstellen!B12)","v":"Die gesamte Unterrichtsstunde wurde für den Lernstoff verwendet."}]
[7,{"$f":"IF(FragenErstellen!B13=\"\",\"\",FragenErstellen!B13)","v":"Lernförderliches Klima und Motivierung"}]
[8,{"$f":"IF(FragenErstellen!B14=\"\",\"\",FragenErstellen!B14)","v":"Mit Schülerbeiträgen ist die Lehrperson wertschätzend umgegangen."}]
[9,{"$f":"IF(FragenErstellen!B15=\"\",\"\",FragenErstellen!B15)","v":"Die Lehrperson war freundlich zu den Schüler/innen."}]
[10,{"$f":"IF(FragenErstellen!B16=\"\",\"\",FragenErstellen!B16)","v":"Die Lehrperson hat die Schüler/innen ausreden lassen, wenn sie dran waren."}]
[11,{"$f":"IF(FragenErstellen!B17=\"\",\"\",FragenErstellen!B17)","v":"Wenn die Lehrperson eine Frage gestellt hat, hatten die Schüler/innen ausreichend Zeit zum Nachdenken."},null,null,null,null,null,null,null,null,null,null,null,null,null,null,null,null,null,null,null,null,null,null,null,null,null,null,null,null,null,null,null,null,null,null,null," "]
[12,{"$f":"IF(FragenErstellen!B18=\"\",\"\",FragenErstellen!B18)","v":"Die Lehrperson hat auflockernde Bemerkung gemacht."},null,null,null,null,null,null,null,null,null,null,null,null,null,null,null,null,null,null,null,null,null,null,null,null,null,null,null,null,null,null,null,null,null,null,null,null," "]
[13,{"$f":"IF(FragenErstellen!B19=\"\",\"\",FragenErstellen!B19)","v":"Die Lehrperson hat die Schüler/innen für Beiträge zum Unterricht angemessen gelobt."},null,null,null,null,null,null,null,null,null,null,null,null,null,null,null,null,null,null,null,null,null,null,null,null,null,null,null,null,null,null,null,null,null,null,null,null,null," "]
[14,{"$f":"IF(FragenErstellen!B20=\"\",\"\",FragenErstellen!B20)","v":"Klarheit und Strukturiertheit "},null,null,null,null,null,null,null,null,null,null,null,null,null,null,null,null,null,null,null,null,null,null,null,null,null,null,null,null,null,null,null,null,null,null,null,null,null,null," "]
[15,{"$f":"IF(FragenErstellen!B21=\"\",\"\",FragenErstellen!B21)","v":"Die Lehrperson har klar auf früher unterrichteten Stoff hingewiesen."},null,null,null,null,null,null,null,null,null,null,null,null,null,null,null,null,null,null,null,null,null,null,null,null,null,null,null,null,null,null,null,null,null,null,null,null,null,null,null," "]
[16,{"$f":"IF(FragenErstellen!B22=\"\",\"\",FragenErstellen!B22)","v":"Es gab anschauliche Beispiele."},null,null,null,null,null,null,null,null,null,null,null,null,null,null,null,null,null,null,null,null,null,null,null,null,null,null,null,null,null,null,null,null,null,null,null,null,null,null,null,null," "]
[17,{"$f":"IF(FragenErstellen!B23=\"\",\"\",FragenErstellen!B23)","v":"Die wichtigsten Punkte wurden zusammengefasst."},null,null,null,null,null,null,null,null,null,null,null,null,null,null,null,null,null,null,null,null,null,null,null,null,null,null,null,null,null,null,null,null,null,null,null,null,null,null,null,null,null," "]
[18,{"$f":"IF(FragenErstellen!B24=\"\",\"\",FragenErstellen!B24)","v":"Die Lehrperson hat darauf geachtet, dass die Schüler/innen sich klar ausdrücken."},null,null,null,null,null,null,null,null,null,null,null,null,null,null,null,null,null,null,null,null,null,null,null,null,null,null,null,null,null,null,null,null,null,null,null,null,null,null,null,null,null,null," "]
[19,{"$f":"IF(FragenErstellen!B25=\"\",\"\",FragenErstellen!B25)","v":"Den Schüler/innen war klar, was sie in dieser Stunde lernen sollten."},null,null,null,null,null,null,null,null,null,null,null,null,null,null,null,null,null,null,null,null,null,null,null,null,null,null,null,null,null,null,null,null,null,null,null,null,null,null,null,null,null,null,null," "]
[20,{"$f":"IF(FragenErstellen!B26=\"\",\"\",FragenErstellen!B26)","v":"Aktivierung"},null,null,null,null,null,null,null,null,null,null,null,null,null,null,null,null,null,null,null,null,null,null,null,null,null,null,null,null,null,null,null,null,null,null,null,null,null,null,null,null,null,null,null,null," "]
[21,{"$f":"IF(FragenErstellen!B27=\"\",\"\",FragenErstellen!B27)","v":"Die Schüler/innen haben sich mit eigenen Beiträgen am Unterrichtsgespräche beteiligt."},null,null,null,null,null,null,null,null,null,null,null,null,null,null,null,null,null,null,null,null,null,null,null,null,null,null,null,null,null,null,null,null,null,null,null,null,null,null,null,null,null,null,null,null,null," "]
[22,{"$f":"IF(FragenErstellen!B28=\"\",\"\",FragenErstellen!B28)","v":"Die Schüler/innen haben Aufgaben alleine bearbeitet."},null,null,null,null,null,null,null,null,null,null,null,null,null,null,null,null,null,null,null,null,null,null,null,null,null,null,null,null,null,null,null,null,null,null,null,null,null,null,null,null,null,null,null,null,null,null," "]
[23,{"$f":"IF(FragenErstellen!B29=\"\",\"\",FragenErstellen!B29)","v":"Die Schüler/innen haben etwas vor anderen präsentiert."},null,null,null,null,null,null,null,null,null,null,null,null,null,null,null,null,null,null,null,null,null,null,null,null,null,null,null,null,null,null,null,null,null,null,null,null,null,null,null,null,null,null,null,null,null,null,null," "]
[24,{"$f":"IF(FragenErstellen!B30=\"\",\"\",FragenErstellen!B30)","v":"Die Schüler/innen haben ihre eigenen Arbeitsergebnisse selbst kontrolliert."},null,null,null,null,null,null,null,null,null,null,null,null,null,null,null,null,null,null,null,null,null,null,null,null,null,null,null,null,null,null,null,null,null,null,null,null,null,null,null,null,null,null,null,null,null,null,null,null," "]
[25,{"$f":"IF(FragenErstellen!B31=\"\",\"\",FragenErstellen!B31)","v":"Die Schüler/innen waren die ganze Stunde über aktiv bei der Sache."},null,null,null,null,null,null,null,null,null,null,null,null,null,null,null,null,null,null,null,null,null,null,null,null,null,null,null,null,null,null,null,null,null,null,null,null,null,null,null,null,null,null,null,null,null,null,null,null,null," "]
[26,{"$f":"IF(FragenErstellen!B32=\"\",\"\",FragenErstellen!B32)","v":"Bilanz/ Ertrag"}]
[27,{"$f":"IF(FragenErstellen!B33=\"\",\"\",FragenErstellen!B33)","v":"Die Schüler/innen haben etwas dazu gelernt."}]
[28,{"$f":"IF(FragenErstellen!B34=\"\",\"\",FragenErstellen!B34)","v":"Die Unterrichtsstunde war für die Schüler/innen interessant."}]
[29,{"$f":"IF(FragenErstellen!B35=\"\",\"\",FragenErstellen!B35)","v":"Die Schüler/innen haben sich in dieser Stunde wohl gefühlt."}]
[30]
[31]
[32]
[33]
[34]
[35]
[36]
[37]
[38]
[39]
[40]
[41]
[42]
[43]
[44]
[45]
[46]
[47]
[48]
[49]
[50]
[51]
[52]
[53]
[54]
[55]
[56]
[57]
[58]
[59]
[60]

{"sheet":"B) Eingabe (Schüler)","index":26,"n_rows":70,"n_cols":52,"rows_kept":70,"cut":false,"hidden":true,"merged":[[0,2,0,21],[6,3,6,8]]}
[null,"Kodierung","Zweite Erhebung"]
[null,"Item 1- Item 24"]
["1 =","stimme nicht zu                             "]
["2 =","stimme eher nicht zu                 "]
["3 =","stimme eher zu                            "]
["4 =","stimme zu                                    "]
[null,"                                                    ",null,"Umgang mit Schülerdaten"]
[]
[]
["Schüler4.xls","SCHÜLERNUMMMER",1,2,3,4,5,6,7,8,9,10,11,12,13,14,15,16,17,18,19,20,21,22,23,24,25,26,27,28,29,30,31,32,33,34,35]
[1,{"$f":"IF(FragenErstellen!B7=\"\",\"\",FragenErstellen!B7)","v":"Klassenführung"}]
[2,{"$f":"IF(FragenErstellen!B8=\"\",\"\",FragenErstellen!B8)","v":"Der Unterricht hat pünktlich begonnen."}]
[3,{"$f":"IF(FragenErstellen!B9=\"\",\"\",FragenErstellen!B9)","v":"Die Klassenregeln waren den Schüler/innen klar."}]
[4,{"$f":"IF(FragenErstellen!B10=\"\",\"\",FragenErstellen!B10)","v":"Die Schüler/innen konnten ungestört arbeiten."}]
[5,{"$f":"IF(FragenErstellen!B11=\"\",\"\",FragenErstellen!B11)","v":"Den Schüler/innen war im Laufe der Unterrichtsstunde jederzeit klar, was sie tun sollten."}]
[6,{"$f":"IF(FragenErstellen!B12=\"\",\"\",FragenErstellen!B12)","v":"Die gesamte Unterrichtsstunde wurde für den Lernstoff verwendet."}]
[7,{"$f":"IF(FragenErstellen!B13=\"\",\"\",FragenErstellen!B13)","v":"Lernförderliches Klima und Motivierung"}]
[8,{"$f":"IF(FragenErstellen!B14=\"\",\"\",FragenErstellen!B14)","v":"Mit Schülerbeiträgen ist die Lehrperson wertschätzend umgegangen."}]
[9,{"$f":"IF(FragenErstellen!B15=\"\",\"\",FragenErstellen!B15)","v":"Die Lehrperson war freundlich zu den Schüler/innen."}]
[10,{"$f":"IF(FragenErstellen!B16=\"\",\"\",FragenErstellen!B16)","v":"Die Lehrperson hat die Schüler/innen ausreden lassen, wenn sie dran waren."}]
[11,{"$f":"IF(FragenErstellen!B17=\"\",\"\",FragenErstellen!B17)","v":"Wenn die Lehrperson eine Frage gestellt hat, hatten die Schüler/innen ausreichend Zeit zum Nachdenken."},null,null,null,null,null,null,null,null,null,null,null,null,null,null,null,null,null,null,null,null,null,null,null,null,null,null,null,null,null,null,null,null,null,null,null," "]
[12,{"$f":"IF(FragenErstellen!B18=\"\",\"\",FragenErstellen!B18)","v":"Die Lehrperson hat auflockernde Bemerkung gemacht."},null,null,null,null,null,null,null,null,null,null,null,null,null,null,null,null,null,null,null,null,null,null,null,null,null,null,null,null,null,null,null,null,null,null,null,null," "]
[13,{"$f":"IF(FragenErstellen!B19=\"\",\"\",FragenErstellen!B19)","v":"Die Lehrperson hat die Schüler/innen für Beiträge zum Unterricht angemessen gelobt."},null,null,null,null,null,null,null,null,null,null,null,null,null,null,null,null,null,null,null,null,null,null,null,null,null,null,null,null,null,null,null,null,null,null,null,null,null," "]
[14,{"$f":"IF(FragenErstellen!B20=\"\",\"\",FragenErstellen!B20)","v":"Klarheit und Strukturiertheit "},null,null,null,null,null,null,null,null,null,null,null,null,null,null,null,null,null,null,null,null,null,null,null,null,null,null,null,null,null,null,null,null,null,null,null,null,null,null," "]
[15,{"$f":"IF(FragenErstellen!B21=\"\",\"\",FragenErstellen!B21)","v":"Die Lehrperson har klar auf früher unterrichteten Stoff hingewiesen."},null,null,null,null,null,null,null,null,null,null,null,null,null,null,null,null,null,null,null,null,null,null,null,null,null,null,null,null,null,null,null,null,null,null,null,null,null,null,null," "]
[16,{"$f":"IF(FragenErstellen!B22=\"\",\"\",FragenErstellen!B22)","v":"Es gab anschauliche Beispiele."},null,null,null,null,null,null,null,null,null,null,null,null,null,null,null,null,null,null,null,null,null,null,null,null,null,null,null,null,null,null,null,null,null,null,null,null,null,null,null,null," "]
[17,{"$f":"IF(FragenErstellen!B23=\"\",\"\",FragenErstellen!B23)","v":"Die wichtigsten Punkte wurden zusammengefasst."},null,null,null,null,null,null,null,null,null,null,null,null,null,null,null,null,null,null,null,null,null,null,null,null,null,null,null,null,null,null,null,null,null,null,null,null,null,null,null,null,null," "]
[18,{"$f":"IF(FragenErstellen!B24=\"\",\"\",FragenErstellen!B24)","v":"Die Lehrperson hat darauf geachtet, dass die Schüler/innen sich klar ausdrücken."},null,null,null,null,null,null,null,null,null,null,null,null,null,null,null,null,null,null,null,null,null,null,null,null,null,null,null,null,null,null,null,null,null,null,null,null,null,null,null,null,null,null," "]
[19,{"$f":"IF(FragenErstellen!B25=\"\",\"\",FragenErstellen!B25)","v":"Den Schüler/innen war klar, was sie in dieser Stunde lernen sollten."},null,null,null,null,null,null,null,null,null,null,null,null,null,null,null,null,null,null,null,null,null,null,null,null,null,null,null,null,null,null,null,null,null,null,null,null,null,null,null,null,null,null,null," "]
[20,{"$f":"IF(FragenErstellen!B26=\"\",\"\",FragenErstellen!B26)","v":"Aktivierung"},null,null,null,null,null,null,null,null,null,null,null,null,null,null,null,null,null,null,null,null,null,null,null,null,null,null,null,null,null,null,null,null,null,null,null,null,null,null,null,null,null,null,null,null," "]
[21,{"$f":"IF(FragenErstellen!B27=\"\",\"\",FragenErstellen!B27)","v":"Die Schüler/innen haben sich mit eigenen Beiträgen am Unterrichtsgespräche beteiligt."},null,null,null,null,null,null,null,null,null,null,null,null,null,null,null,null,null,null,null,null,null,null,null,null,null,null,null,null,null,null,null,null,null,null,null,null,null,null,null,null,null,null,null,null,null," "]
[22,{"$f":"IF(FragenErstellen!B28=\"\",\"\",FragenErstellen!B28)","v":"Die Schüler/innen haben Aufgaben alleine bearbeitet."},null,null,null,null,null,null,null,null,null,null,null,null,null,null,null,null,null,null,null,null,null,null,null,null,null,null,null,null,null,null,null,null,null,null,null,null,null,null,null,null,null,null,null,null,null,null," "]
[23,{"$f":"IF(FragenErstellen!B29=\"\",\"\",FragenErstellen!B29)","v":"Die Schüler/innen haben etwas vor anderen präsentiert."},null,null,null,null,null,null,null,null,null,null,null,null,null,null,null,null,null,null,null,null,null,null,null,null,null,null,null,null,null,null,null,null,null,null,null,null,null,null,null,null,null,null,null,null,null,null,null," "]
[24,{"$f":"IF(FragenErstellen!B30=\"\",\"\",FragenErstellen!B30)","v":"Die Schüler/innen haben ihre eigenen Arbeitsergebnisse selbst kontrolliert."},null,null,null,null,null,null,null,null,null,null,null,null,null,null,null,null,null,null,null,null,null,null,null,null,null,null,null,null,null,null,null,null,null,null,null,null,null,null,null,null,null,null,null,null,null,null,null,null," "]
[25,{"$f":"IF(FragenErstellen!B31=\"\",\"\",FragenErstellen!B31)","v":"Die Schüler/innen waren die ganze Stunde über aktiv bei der Sache."},null,null,null,null,null,null,null,null,null,null,null,null,null,null,null,null,null,null,null,null,null,null,null,null,null,null,null,null,null,null,null,null,null,null,null,null,null,null,null,null,null,null,null,null,null,null,null,null,null," "]
[26,{"$f":"IF(FragenErstellen!B32=\"\",\"\",FragenErstellen!B32)","v":"Bilanz/ Ertrag"}]
[27,{"$f":"IF(FragenErstellen!B33=\"\",\"\",FragenErstellen!B33)","v":"Die Schüler/innen haben etwas dazu gelernt."}]
[28,{"$f":"IF(FragenErstellen!B34=\"\",\"\",FragenErstellen!B34)","v":"Die Unterrichtsstunde war für die Schüler/innen interessant."}]
[29,{"$f":"IF(FragenErstellen!B35=\"\",\"\",FragenErstellen!B35)","v":"Die Schüler/innen haben sich in dieser Stunde wohl gefühlt."}]
[30]
[31]
[32]
[33]
[34]
[35]
[36]
[37]
[38]
[39]
[40]
[41]
[42]
[43]
[44]
[45]
[46]
[47]
[48]
[49]
[50]
[51]
[52]
[53]
[54]
[55]
[56]
[57]
[58]
[59]
[60]

{"sheet":"lfb1","index":27,"n_rows":62,"n_cols":61,"rows_kept":62,"cut":false,"hidden":true,"merged":[]}
["aleI1","aleI2","aleI3","aleI4","aleI5","aleI6","aleI7","aleI8","aleI9","aleI10","aleI11","aleI12","aleI13","aleI14","aleI15","aleI16","aleI17","aleI18","aleI19","aleI20","aleI21","aleI22","aleI23","aleI24","aleI25","aleI26","aleI27","aleI28","aleI29","aleI30a","aleI30b","aleI30c","aleI30d","aleI30e","ale_ID","Land","Schulart","Stufe","Fach","Lehrer_ID","Zusatzitemtexte","aleI31","aleI32","aleI33","aleI34","aleI35","aleI36","aleI37","aleI38","aleI39","aleI40","aleI41","aleI42","aleI43","aleI44","aleI45","aleI46","aleI47","aleI48","aleI49","aleI50"]
[1,null,null,null,null,null,null,null,null,null,null,null,null,null,null,null,null,null,null,null,null,null,null,null,null,null,null,null,null,null,null,null,null,null,"a",{"$f":"IF(COUNT($A2:$AH2)>0,Export1!$C$3,\"\")","v":0},{"$f":"IF(COUNT($A2:$AH2)>0,Export1!$C$5,\"\")","v":0},{"$f":"IF(COUNT($A2:$AH2)>0,Export1!$C$7,\"\")","v":0},{"$f":"IF(COUNT($A2:$AH2)>0,Export1!$C$9,\"\")","v":0},{"$f":"IF(COUNT($A2:$AH2)>0,Export1!$C$11,\"\")","v":0},"Zusatzfrage 1"]
[2,null,null,null,null,null,null,null,null,null,null,null,null,null,null,null,null,null,null,null,null,null,null,null,null,null,null,null,null,null,null,null,null,null,"b",{"$f":"IF(COUNT($A3:$AH3)>0,Export1!$C$3,\"\")","v":0},{"$f":"IF(COUNT($A3:$AH3)>0,Export1!$C$5,\"\")","v":0},{"$f":"IF(COUNT($A3:$AH3)>0,Export1!$C$7,\"\")","v":0},{"$f":"IF(COUNT($A3:$AH3)>0,Export1!$C$9,\"\")","v":0},{"$f":"IF(COUNT($A3:$AH3)>0,Export1!$C$11,\"\")","v":0},"Zusatzfrage 2"]
[null,null,null,null,null,null,null,null,null,null,null,null,null,null,null,null,null,null,null,null,null,null,null,null,null,null,null,null,null,null,null,null,null,null,null,{"$f":"IF(COUNT($A4:$AH4)>0,Export1!$C$3,\"\")","v":""},{"$f":"IF(COUNT($A4:$AH4)>0,Export1!$C$5,\"\")","v":""},{"$f":"IF(COUNT($A4:$AH4)>0,Export1!$C$7,\"\")","v":""},{"$f":"IF(COUNT($A4:$AH4)>0,Export1!$C$9,\"\")","v":""},{"$f":"IF(COUNT($A4:$AH4)>0,Export1!$C$11,\"\")","v":""},"Zusatzfrage 3"]
[null,null,null,null,null,null,null,null,null,null,null,null,null,null,null,null,null,null,null,null,null,null,null,null,null,null,null,null,null,null,null,null,null,null,null,{"$f":"IF(COUNT($A5:$AH5)>0,Export1!$C$3,\"\")","v":""},{"$f":"IF(COUNT($A5:$AH5)>0,Export1!$C$5,\"\")","v":""},{"$f":"IF(COUNT($A5:$AH5)>0,Export1!$C$7,\"\")","v":""},{"$f":"IF(COUNT($A5:$AH5)>0,Export1!$C$9,\"\")","v":""},{"$f":"IF(COUNT($A5:$AH5)>0,Export1!$C$11,\"\")","v":""},"Zusatzfrage 4"]
[null,null,null,null,null,null,null,null,null,null,null,null,null,null,null,null,null,null,null,null,null,null,null,null,null,null,null,null,null,null,null,null,null,null,null,{"$f":"IF(COUNT($A6:$AH6)>0,Export1!$C$3,\"\")","v":""},{"$f":"IF(COUNT($A6:$AH6)>0,Export1!$C$5,\"\")","v":""},{"$f":"IF(COUNT($A6:$AH6)>0,Export1!$C$7,\"\")","v":""},{"$f":"IF(COUNT($A6:$AH6)>0,Export1!$C$9,\"\")","v":""},{"$f":"IF(COUNT($A6:$AH6)>0,Export1!$C$11,\"\")","v":""},"Zusatzfrage 5"]
[null,null,null,null,null,null,null,null,null,null,null,null,null,null,null,null,null,null,null,null,null,null,null,null,null,null,null,null,null,null,null,null,null,null,null,{"$f":"IF(COUNT($A7:$AH7)>0,Export1!$C$3,\"\")","v":""},{"$f":"IF(COUNT($A7:$AH7)>0,Export1!$C$5,\"\")","v":""},{"$f":"IF(COUNT($A7:$AH7)>0,Export1!$C$7,\"\")","v":""},{"$f":"IF(COUNT($A7:$AH7)>0,Export1!$C$9,\"\")","v":""},{"$f":"IF(COUNT($A7:$AH7)>0,Export1!$C$11,\"\")","v":""},"Zusatzfrage 6"]
[null,null,null,null,null,null,null,null,null,null,null,null,null,null,null,null,null,null,null,null,null,null,null,null,null,null,null,null,null,null,null,null,null,null,null,{"$f":"IF(COUNT($A8:$AH8)>0,Export1!$C$3,\"\")","v":""},{"$f":"IF(COUNT($A8:$AH8)>0,Export1!$C$5,\"\")","v":""},{"$f":"IF(COUNT($A8:$AH8)>0,Export1!$C$7,\"\")","v":""},{"$f":"IF(COUNT($A8:$AH8)>0,Export1!$C$9,\"\")","v":""},{"$f":"IF(COUNT($A8:$AH8)>0,Export1!$C$11,\"\")","v":""},"Zusatzfrage 7"]
[null,null,null,null,null,null,null,null,null,null,null,null,null,null,null,null,null,null,null,null,null,null,null,null,null,null,null,null,null,null,null,null,null,null,null,{"$f":"IF(COUNT($A9:$AH9)>0,Export1!$C$3,\"\")","v":""},{"$f":"IF(COUNT($A9:$AH9)>0,Export1!$C$5,\"\")","v":""},{"$f":"IF(COUNT($A9:$AH9)>0,Export1!$C$7,\"\")","v":""},{"$f":"IF(COUNT($A9:$AH9)>0,Export1!$C$9,\"\")","v":""},{"$f":"IF(COUNT($A9:$AH9)>0,Export1!$C$11,\"\")","v":""},"Zusatzfrage 8"]
[null,null,null,null,null,null,null,null,null,null,null,null,null,null,null,null,null,null,null,null,null,null,null,null,null,null,null,null,null,null,null,null,null,null,null,{"$f":"IF(COUNT($A10:$AH10)>0,Export1!$C$3,\"\")","v":""},{"$f":"IF(COUNT($A10:$AH10)>0,Export1!$C$5,\"\")","v":""},{"$f":"IF(COUNT($A10:$AH10)>0,Export1!$C$7,\"\")","v":""},{"$f":"IF(COUNT($A10:$AH10)>0,Export1!$C$9,\"\")","v":""},{"$f":"IF(COUNT($A10:$AH10)>0,Export1!$C$11,\"\")","v":""},"Zusatzfrage 9"]
[null,null,null,null,null,null,null,null,null,null,null,null,null,null,null,null,null,null,null,null,null,null,null,null,null,null,null,null,null,null,null,null,null,null,null,{"$f":"IF(COUNT($A11:$AH11)>0,Export1!$C$3,\"\")","v":""},{"$f":"IF(COUNT($A11:$AH11)>0,Export1!$C$5,\"\")","v":""},{"$f":"IF(COUNT($A11:$AH11)>0,Export1!$C$7,\"\")","v":""},{"$f":"IF(COUNT($A11:$AH11)>0,Export1!$C$9,\"\")","v":""},{"$f":"IF(COUNT($A11:$AH11)>0,Export1!$C$11,\"\")","v":""},"Zusatzfrage 10"]
[null,null,null,null,null,null,null,null,null,null,null,null,null,null,null,null,null,null,null,null,null,null,null,null,null,null,null,null,null,null,null,null,null,null,null,{"$f":"IF(COUNT($A12:$AH12)>0,Export1!$C$3,\"\")","v":""},{"$f":"IF(COUNT($A12:$AH12)>0,Export1!$C$5,\"\")","v":""},{"$f":"IF(COUNT($A12:$AH12)>0,Export1!$C$7,\"\")","v":""},{"$f":"IF(COUNT($A12:$AH12)>0,Export1!$C$9,\"\")","v":""},{"$f":"IF(COUNT($A12:$AH12)>0,Export1!$C$11,\"\")","v":""},"Zusatzfrage 11"]
[null,null,null,null,null,null,null,null,null,null,null,null,null,null,null,null,null,null,null,null,null,null,null,null,null,null,null,null,null,null,null,null,null,null,null,{"$f":"IF(COUNT($A13:$AH13)>0,Export1!$C$3,\"\")","v":""},{"$f":"IF(COUNT($A13:$AH13)>0,Export1!$C$5,\"\")","v":""},{"$f":"IF(COUNT($A13:$AH13)>0,Export1!$C$7,\"\")","v":""},{"$f":"IF(COUNT($A13:$AH13)>0,Export1!$C$9,\"\")","v":""},{"$f":"IF(COUNT($A13:$AH13)>0,Export1!$C$11,\"\")","v":""},"Zusatzfrage 12"]
[null,null,null,null,null,null,null,null,null,null,null,null,null,null,null,null,null,null,null,null,null,null,null,null,null,null,null,null,null,null,null,null,null,null,null,{"$f":"IF(COUNT($A14:$AH14)>0,Export1!$C$3,\"\")","v":""},{"$f":"IF(COUNT($A14:$AH14)>0,Export1!$C$5,\"\")","v":""},{"$f":"IF(COUNT($A14:$AH14)>0,Export1!$C$7,\"\")","v":""},{"$f":"IF(COUNT($A14:$AH14)>0,Export1!$C$9,\"\")","v":""},{"$f":"IF(COUNT($A14:$AH14)>0,Export1!$C$11,\"\")","v":""},"Zusatzfrage 13"]
[null,null,null,null,null,null,null,null,null,null,null,null,null,null,null,null,null,null,null,null,null,null,null,null,null,null,null,null,null,null,null,null,null,null,null,{"$f":"IF(COUNT($A15:$AH15)>0,Export1!$C$3,\"\")","v":""},{"$f":"IF(COUNT($A15:$AH15)>0,Export1!$C$5,\"\")","v":""},{"$f":"IF(COUNT($A15:$AH15)>0,Export1!$C$7,\"\")","v":""},{"$f":"IF(COUNT($A15:$AH15)>0,Export1!$C$9,\"\")","v":""},{"$f":"IF(COUNT($A15:$AH15)>0,Export1!$C$11,\"\")","v":""},"Zusatzfrage 14"]
[null,null,null,null,null,null,null,null,null,null,null,null,null,null,null,null,null,null,null,null,null,null,null,null,null,null,null,null,null,null,null,null,null,null,null,{"$f":"IF(COUNT($A16:$AH16)>0,Export1!$C$3,\"\")","v":""},{"$f":"IF(COUNT($A16:$AH16)>0,Export1!$C$5,\"\")","v":""},{"$f":"IF(COUNT($A16:$AH16)>0,Export1!$C$7,\"\")","v":""},{"$f":"IF(COUNT($A16:$AH16)>0,Export1!$C$9,\"\")","v":""},{"$f":"IF(COUNT($A16:$AH16)>0,Export1!$C$11,\"\")","v":""},"Zusatzfrage 15"]
[null,null,null,null,null,null,null,null,null,null,null,null,null,null,null,null,null,null,null,null,null,null,null,null,null,null,null,null,null,null,null,null,null,null,null,{"$f":"IF(COUNT($A17:$AH17)>0,Export1!$C$3,\"\")","v":""},{"$f":"IF(COUNT($A17:$AH17)>0,Export1!$C$5,\"\")","v":""},{"$f":"IF(COUNT($A17:$AH17)>0,Export1!$C$7,\"\")","v":""},{"$f":"IF(COUNT($A17:$AH17)>0,Export1!$C$9,\"\")","v":""},{"$f":"IF(COUNT($A17:$AH17)>0,Export1!$C$11,\"\")","v":""},"Zusatzfrage 16"]
[null,null,null,null,null,null,null,null,null,null,null,null,null,null,null,null,null,null,null,null,null,null,null,null,null,null,null,null,null,null,null,null,null,null,null,{"$f":"IF(COUNT($A18:$AH18)>0,Export1!$C$3,\"\")","v":""},{"$f":"IF(COUNT($A18:$AH18)>0,Export1!$C$5,\"\")","v":""},{"$f":"IF(COUNT($A18:$AH18)>0,Export1!$C$7,\"\")","v":""},{"$f":"IF(COUNT($A18:$AH18)>0,Export1!$C$9,\"\")","v":""},{"$f":"IF(COUNT($A18:$AH18)>0,Export1!$C$11,\"\")","v":""},"Zusatzfrage 17"]
[null,null,null,null,null,null,null,null,null,null,null,null,null,null,null,null,null,null,null,null,null,null,null,null,null,null,null,null,null,null,null,null,null,null,null,{"$f":"IF(COUNT($A19:$AH19)>0,Export1!$C$3,\"\")","v":""},{"$f":"IF(COUNT($A19:$AH19)>0,Export1!$C$5,\"\")","v":""},{"$f":"IF(COUNT($A19:$AH19)>0,Export1!$C$7,\"\")","v":""},{"$f":"IF(COUNT($A19:$AH19)>0,Export1!$C$9,\"\")","v":""},{"$f":"IF(COUNT($A19:$AH19)>0,Export1!$C$11,\"\")","v":""},"Zusatzfrage 18"]
[null,null,null,null,null,null,null,null,null,null,null,null,null,null,null,null,null,null,null,null,null,null,null,null,null,null,null,null,null,null,null,null,null,null,null,{"$f":"IF(COUNT($A20:$AH20)>0,Export1!$C$3,\"\")","v":""},{"$f":"IF(COUNT($A20:$AH20)>0,Export1!$C$5,\"\")","v":""},{"$f":"IF(COUNT($A20:$AH20)>0,Export1!$C$7,\"\")","v":""},{"$f":"IF(COUNT($A20:$AH20)>0,Export1!$C$9,\"\")","v":""},{"$f":"IF(COUNT($A20:$AH20)>0,Export1!$C$11,\"\")","v":""},"Zusatzfrage 19"]
[null,null,null,null,null,null,null,null,null,null,null,null,null,null,null,null,null,null,null,null,null,null,null,null,null,null,null,null,null,null,null,null,null,null,null,{"$f":"IF(COUNT($A21:$AH21)>0,Export1!$C$3,\"\")","v":""},{"$f":"IF(COUNT($A21:$AH21)>0,Export1!$C$5,\"\")","v":""},{"$f":"IF(COUNT($A21:$AH21)>0,Export1!$C$7,\"\")","v":""},{"$f":"IF(COUNT($A21:$AH21)>0,Export1!$C$9,\"\")","v":""},{"$f":"IF(COUNT($A21:$AH21)>0,Export1!$C$11,\"\")","v":""},"Zusatzfrage 20"]
[null,null,null,null,null,null,null,null,null,null,null,null,null,null,null,null,null,null,null,null,null,null,null,null,null,null,null,null,null,null,null,null,null,null,null,{"$f":"IF(COUNT($A22:$AH22)>0,Export1!$C$3,\"\")","v":""},{"$f":"IF(COUNT($A22:$AH22)>0,Export1!$C$5,\"\")","v":""},{"$f":"IF(COUNT($A22:$AH22)>0,Export1!$C$7,\"\")","v":""},{"$f":"IF(COUNT($A22:$AH22)>0,Export1!$C$9,\"\")","v":""},{"$f":"IF(COUNT($A22:$AH22)>0,Export1!$C$11,\"\")","v":""}]
[null,null,null,null,null,null,null,null,null,null,null,null,null,null,null,null,null,null,null,null,null,null,null,null,null,null,null,null,null,null,null,null,null,null,null,{"$f":"IF(COUNT($A23:$AH23)>0,Export1!$C$3,\"\")","v":""},{"$f":"IF(COUNT($A23:$AH23)>0,Export1!$C$5,\"\")","v":""},{"$f":"IF(COUNT($A23:$AH23)>0,Export1!$C$7,\"\")","v":""},{"$f":"IF(COUNT($A23:$AH23)>0,Export1!$C$9,\"\")","v":""},{"$f":"IF(COUNT($A23:$AH23)>0,Export1!$C$11,\"\")","v":""}]
[null,null,null,null,null,null,null,null,null,null,null,null,null,null,null,null,null,null,null,null,null,null,null,null,null,null,null,null,null,null,null,null,null,null,null,{"$f":"IF(COUNT($A24:$AH24)>0,Export1!$C$3,\"\")","v":""},{"$f":"IF(COUNT($A24:$AH24)>0,Export1!$C$5,\"\")","v":""},{"$f":"IF(COUNT($A24:$AH24)>0,Export1!$C$7,\"\")","v":""},{"$f":"IF(COUNT($A24:$AH24)>0,Export1!$C$9,\"\")","v":""},{"$f":"IF(COUNT($A24:$AH24)>0,Export1!$C$11,\"\")","v":""}]
[null,null,null,null,null,null,null,null,null,null,null,null,null,null,null,null,null,null,null,null,null,null,null,null,null,null,null,null,null,null,null,null,null,null,null,{"$f":"IF(COUNT($A25:$AH25)>0,Export1!$C$3,\"\")","v":""},{"$f":"IF(COUNT($A25:$AH25)>0,Export1!$C$5,\"\")","v":""},{"$f":"IF(COUNT($A25:$AH25)>0,Export1!$C$7,\"\")","v":""},{"$f":"IF(COUNT($A25:$AH25)>0,Export1!$C$9,\"\")","v":""},{"$f":"IF(COUNT($A25:$AH25)>0,Export1!$C$11,\"\")","v":""}]
[null,null,null,null,null,null,null,null,null,null,null,null,null,null,null,null,null,null,null,null,null,null,null,null,null,null,null,null,null,null,null,null,null,null,null,{"$f":"IF(COUNT($A26:$AH26)>0,Export1!$C$3,\"\")","v":""},{"$f":"IF(COUNT($A26:$AH26)>0,Export1!$C$5,\"\")","v":""},{"$f":"IF(COUNT($A26:$AH26)>0,Export1!$C$7,\"\")","v":""},{"$f":"IF(COUNT($A26:$AH26)>0,Export1!$C$9,\"\")","v":""},{"$f":"IF(COUNT($A26:$AH26)>0,Export1!$C$11,\"\")","v":""}]
[null,null,null,null,null,null,null,null,null,null,null,null,null,null,null,null,null,null,null,null,null,null,null,null,null,null,null,null,null,null,null,null,null,null,null,{"$f":"IF(COUNT($A27:$AH27)>0,Export1!$C$3,\"\")","v":""},{"$f":"IF(COUNT($A27:$AH27)>0,Export1!$C$5,\"\")","v":""},{"$f":"IF(COUNT($A27:$AH27)>0,Export1!$C$7,\"\")","v":""},{"$f":"IF(COUNT($A27:$AH27)>0,Export1!$C$9,\"\")","v":""},{"$f":"IF(COUNT($A27:$AH27)>0,Export1!$C$11,\"\")","v":""}]
[null,null,null,null,null,null,null,null,null,null,null,null,null,null,null,null,null,null,null,null,null,null,null,null,null,null,null,null,null,null,null,null,null,null,null,{"$f":"IF(COUNT($A28:$AH28)>0,Export1!$C$3,\"\")","v":""},{"$f":"IF(COUNT($A28:$AH28)>0,Export1!$C$5,\"\")","v":""},{"$f":"IF(COUNT($A28:$AH28)>0,Export1!$C$7,\"\")","v":""},{"$f":"IF(COUNT($A28:$AH28)>0,Export1!$C$9,\"\")","v":""},{"$f":"IF(COUNT($A28:$AH28)>0,Export1!$C$11,\"\")","v":""}]
[null,null,null,null,null,null,null,null,null,null,null,null,null,null,null,null,null,null,null,null,null,null,null,null,null,null,null,null,null,null,null,null,null,null,null,{"$f":"IF(COUNT($A29:$AH29)>0,Export1!$C$3,\"\")","v":""},{"$f":"IF(COUNT($A29:$AH29)>0,Export1!$C$5,\"\")","v":""},{"$f":"IF(COUNT($A29:$AH29)>0,Export1!$C$7,\"\")","v":""},{"$f":"IF(COUNT($A29:$AH29)>0,Export1!$C$9,\"\")","v":""},{"$f":"IF(COUNT($A29:$AH29)>0,Export1!$C$11,\"\")","v":""}]
[null,null,null,null,null,null,null,null,null,null,null,null,null,null,null,null,null,null,null,null,null,null,null,null,null,null,null,null,null,null,null,null,null,null,null,{"$f":"IF(COUNT($A30:$AH30)>0,Export1!$C$3,\"\")","v":""},{"$f":"IF(COUNT($A30:$AH30)>0,Export1!$C$5,\"\")","v":""},{"$f":"IF(COUNT($A30:$AH30)>0,Export1!$C$7,\"\")","v":""},{"$f":"IF(COUNT($A30:$AH30)>0,Export1!$C$9,\"\")","v":""},{"$f":"IF(COUNT($A30:$AH30)>0,Export1!$C$11,\"\")","v":""}]
[null,null,null,null,null,null,null,null,null,null,null,null,null,null,null,null,null,null,null,null,null,null,null,null,null,null,null,null,null,null,null,null,null,null,null,{"$f":"IF(COUNT($A31:$AH31)>0,Export1!$C$3,\"\")","v":""},{"$f":"IF(COUNT($A31:$AH31)>0,Export1!$C$5,\"\")","v":""},{"$f":"IF(COUNT($A31:$AH31)>0,Export1!$C$7,\"\")","v":""},{"$f":"IF(COUNT($A31:$AH31)>0,Export1!$C$9,\"\")","v":""},{"$f":"IF(COUNT($A31:$AH31)>0,Export1!$C$11,\"\")","v":""}]
[null,null,null,null,null,null,null,null,null,null,null,null,null,null,null,null,null,null,null,null,null,null,null,null,null,null,null,null,null,null,null,null,null,null,null,{"$f":"IF(COUNT($A32:$AH32)>0,Export1!$C$3,\"\")","v":""},{"$f":"IF(COUNT($A32:$AH32)>0,Export1!$C$5,\"\")","v":""},{"$f":"IF(COUNT($A32:$AH32)>0,Export1!$C$7,\"\")","v":""},{"$f":"IF(COUNT($A32:$AH32)>0,Export1!$C$9,\"\")","v":""},{"$f":"IF(COUNT($A32:$AH32)>0,Export1!$C$11,\"\")","v":""}]
[null,null,null,null,null,null,null,null,null,null,null,null,null,null,null,null,null,null,null,null,null,null,null,null,null,null,null,null,null,null,null,null,null,null,null,{"$f":"IF(COUNT($A33:$AH33)>0,Export1!$C$3,\"\")","v":""},{"$f":"IF(COUNT($A33:$AH33)>0,Export1!$C$5,\"\")","v":""},{"$f":"IF(COUNT($A33:$AH33)>0,Export1!$C$7,\"\")","v":""},{"$f":"IF(COUNT($A33:$AH33)>0,Export1!$C$9,\"\")","v":""},{"$f":"IF(COUNT($A33:$AH33)>0,Export1!$C$11,\"\")","v":""}]
[null,null,null,null,null,null,null,null,null,null,null,null,null,null,null,null,null,null,null,null,null,null,null,null,null,null,null,null,null,null,null,null,null,null,null,{"$f":"IF(COUNT($A34:$AH34)>0,Export1!$C$3,\"\")","v":""},{"$f":"IF(COUNT($A34:$AH34)>0,Export1!$C$5,\"\")","v":""},{"$f":"IF(COUNT($A34:$AH34)>0,Export1!$C$7,\"\")","v":""},{"$f":"IF(COUNT($A34:$AH34)>0,Export1!$C$9,\"\")","v":""},{"$f":"IF(COUNT($A34:$AH34)>0,Export1!$C$11,\"\")","v":""}]
[null,null,null,null,null,null,null,null,null,null,null,null,null,null,null,null,null,null,null,null,null,null,null,null,null,null,null,null,null,null,null,null,null,null,null,{"$f":"IF(COUNT($A35:$AH35)>0,Export1!$C$3,\"\")","v":""},{"$f":"IF(COUNT($A35:$AH35)>0,Export1!$C$5,\"\")","v":""},{"$f":"IF(COUNT($A35:$AH35)>0,Export1!$C$7,\"\")","v":""},{"$f":"IF(COUNT($A35:$AH35)>0,Export1!$C$9,\"\")","v":""},{"$f":"IF(COUNT($A35:$AH35)>0,Export1!$C$11,\"\")","v":""}]
[null,null,null,null,null,null,null,null,null,null,null,null,null,null,null,null,null,null,null,null,null,null,null,null,null,null,null,null,null,null,null,null,null,null,null,{"$f":"IF(COUNT($A36:$AH36)>0,Export1!$C$3,\"\")","v":""},{"$f":"IF(COUNT($A36:$AH36)>0,Export1!$C$5,\"\")","v":""},{"$f":"IF(COUNT($A36:$AH36)>0,Export1!$C$7,\"\")","v":""},{"$f":"IF(COUNT($A36:$AH36)>0,Export1!$C$9,\"\")","v":""},{"$f":"IF(COUNT($A36:$AH36)>0,Export1!$C$11,\"\")","v":""}]
[null,null,null,null,null,null,null,null,null,null,null,null,null,null,null,null,null,null,null,null,null,null,null,null,null,null,null,null,null,null,null,null,null,null,null,{"$f":"IF(COUNT($A37:$AH37)>0,Export1!$C$3,\"\")","v":""},{"$f":"IF(COUNT($A37:$AH37)>0,Export1!$C$5,\"\")","v":""},{"$f":"IF(COUNT($A37:$AH37)>0,Export1!$C$7,\"\")","v":""},{"$f":"IF(COUNT($A37:$AH37)>0,Export1!$C$9,\"\")","v":""},{"$f":"IF(COUNT($A37:$AH37)>0,Export1!$C$11,\"\")","v":""}]
[null,null,null,null,null,null,null,null,null,null,null,null,null,null,null,null,null,null,null,null,null,null,null,null,null,null,null,null,null,null,null,null,null,null,null,{"$f":"IF(COUNT($A38:$AH38)>0,Export1!$C$3,\"\")","v":""},{"$f":"IF(COUNT($A38:$AH38)>0,Export1!$C$5,\"\")","v":""},{"$f":"IF(COUNT($A38:$AH38)>0,Export1!$C$7,\"\")","v":""},{"$f":"IF(COUNT($A38:$AH38)>0,Export1!$C$9,\"\")","v":""},{"$f":"IF(COUNT($A38:$AH38)>0,Export1!$C$11,\"\")","v":""}]
[null,null,null,null,null,null,null,null,null,null,null,null,null,null,null,null,null,null,null,null,null,null,null,null,null,null,null,null,null,null,null,null,null,null,null,{"$f":"IF(COUNT($A39:$AH39)>0,Export1!$C$3,\"\")","v":""},{"$f":"IF(COUNT($A39:$AH39)>0,Export1!$C$5,\"\")","v":""},{"$f":"IF(COUNT($A39:$AH39)>0,Export1!$C$7,\"\")","v":""},{"$f":"IF(COUNT($A39:$AH39)>0,Export1!$C$9,\"\")","v":""},{"$f":"IF(COUNT($A39:$AH39)>0,Export1!$C$11,\"\")","v":""}]
[null,null,null,null,null,null,null,null,null,null,null,null,null,null,null,null,null,null,null,null,null,null,null,null,null,null,null,null,null,null,null,null,null,null,null,{"$f":"IF(COUNT($A40:$AH40)>0,Export1!$C$3,\"\")","v":""},{"$f":"IF(COUNT($A40:$AH40)>0,Export1!$C$5,\"\")","v":""},{"$f":"IF(COUNT($A40:$AH40)>0,Export1!$C$7,\"\")","v":""},{"$f":"IF(COUNT($A40:$AH40)>0,Export1!$C$9,\"\")","v":""},{"$f":"IF(COUNT($A40:$AH40)>0,Export1!$C$11,\"\")","v":""}]
[null,null,null,null,null,null,null,null,null,null,null,null,null,null,null,null,null,null,null,null,null,null,null,null,null,null,null,null,null,null,null,null,null,null,null,{"$f":"IF(COUNT($A41:$AH41)>0,Export1!$C$3,\"\")","v":""},{"$f":"IF(COUNT($A41:$AH41)>0,Export1!$C$5,\"\")","v":""},{"$f":"IF(COUNT($A41:$AH41)>0,Export1!$C$7,\"\")","v":""},{"$f":"IF(COUNT($A41:$AH41)>0,Export1!$C$9,\"\")","v":""},{"$f":"IF(COUNT($A41:$AH41)>0,Export1!$C$11,\"\")","v":""}]
[null,null,null,null,null,null,null,null,null,null,null,null,null,null,null,null,null,null,null,null,null,null,null,null,null,null,null,null,null,null,null,null,null,null,null,{"$f":"IF(COUNT($A42:$AH42)>0,Export1!$C$3,\"\")","v":""},{"$f":"IF(COUNT($A42:$AH42)>0,Export1!$C$5,\"\")","v":""},{"$f":"IF(COUNT($A42:$AH42)>0,Export1!$C$7,\"\")","v":""},{"$f":"IF(COUNT($A42:$AH42)>0,Export1!$C$9,\"\")","v":""},{"$f":"IF(COUNT($A42:$AH42)>0,Export1!$C$11,\"\")","v":""}]
[null,null,null,null,null,null,null,null,null,null,null,null,null,null,null,null,null,null,null,null,null,null,null,null,null,null,null,null,null,null,null,null,null,null,null,{"$f":"IF(COUNT($A43:$AH43)>0,Export1!$C$3,\"\")","v":""},{"$f":"IF(COUNT($A43:$AH43)>0,Export1!$C$5,\"\")","v":""},{"$f":"IF(COUNT($A43:$AH43)>0,Export1!$C$7,\"\")","v":""},{"$f":"IF(COUNT($A43:$AH43)>0,Export1!$C$9,\"\")","v":""},{"$f":"IF(COUNT($A43:$AH43)>0,Export1!$C$11,\"\")","v":""}]
[null,null,null,null,null,null,null,null,null,null,null,null,null,null,null,null,null,null,null,null,null,null,null,null,null,null,null,null,null,null,null,null,null,null,null,{"$f":"IF(COUNT($A44:$AH44)>0,Export1!$C$3,\"\")","v":""},{"$f":"IF(COUNT($A44:$AH44)>0,Export1!$C$5,\"\")","v":""},{"$f":"IF(COUNT($A44:$AH44)>0,Export1!$C$7,\"\")","v":""},{"$f":"IF(COUNT($A44:$AH44)>0,Export1!$C$9,\"\")","v":""},{"$f":"IF(COUNT($A44:$AH44)>0,Export1!$C$11,\"\")","v":""}]
[null,null,null,null,null,null,null,null,null,null,null,null,null,null,null,null,null,null,null,null,null,null,null,null,null,null,null,null,null,null,null,null,null,null,null,{"$f":"IF(COUNT($A45:$AH45)>0,Export1!$C$3,\"\")","v":""},{"$f":"IF(COUNT($A45:$AH45)>0,Export1!$C$5,\"\")","v":""},{"$f":"IF(COUNT($A45:$AH45)>0,Export1!$C$7,\"\")","v":""},{"$f":"IF(COUNT($A45:$AH45)>0,Export1!$C$9,\"\")","v":""},{"$f":"IF(COUNT($A45:$AH45)>0,Export1!$C$11,\"\")","v":""}]
[null,null,null,null,null,null,null,null,null,null,null,null,null,null,null,null,null,null,null,null,null,null,null,null,null,null,null,null,null,null,null,null,null,null,null,{"$f":"IF(COUNT($A46:$AH46)>0,Export1!$C$3,\"\")","v":""},{"$f":"IF(COUNT($A46:$AH46)>0,Export1!$C$5,\"\")","v":""},{"$f":"IF(COUNT($A46:$AH46)>0,Export1!$C$7,\"\")","v":""},{"$f":"IF(COUNT($A46:$AH46)>0,Export1!$C$9,\"\")","v":""},{"$f":"IF(COUNT($A46:$AH46)>0,Export1!$C$11,\"\")","v":""}]
[null,null,null,null,null,null,null,null,null,null,null,null,null,null,null,null,null,null,null,null,null,null,null,null,null,null,null,null,null,null,null,null,null,null,null,{"$f":"IF(COUNT($A47:$AH47)>0,Export1!$C$3,\"\")","v":""},{"$f":"IF(COUNT($A47:$AH47)>0,Export1!$C$5,\"\")","v":""},{"$f":"IF(COUNT($A47:$AH47)>0,Export1!$C$7,\"\")","v":""},{"$f":"IF(COUNT($A47:$AH47)>0,Export1!$C$9,\"\")","v":""},{"$f":"IF(COUNT($A47:$AH47)>0,Export1!$C$11,\"\")","v":""}]
[null,null,null,null,null,null,null,null,null,null,null,null,null,null,null,null,null,null,null,null,null,null,null,null,null,null,null,null,null,null,null,null,null,null,null,{"$f":"IF(COUNT($A48:$AH48)>0,Export1!$C$3,\"\")","v":""},{"$f":"IF(COUNT($A48:$AH48)>0,Export1!$C$5,\"\")","v":""},{"$f":"IF(COUNT($A48:$AH48)>0,Export1!$C$7,\"\")","v":""},{"$f":"IF(COUNT($A48:$AH48)>0,Export1!$C$9,\"\")","v":""},{"$f":"IF(COUNT($A48:$AH48)>0,Export1!$C$11,\"\")","v":""}]
[null,null,null,null,null,null,null,null,null,null,null,null,null,null,null,null,null,null,null,null,null,null,null,null,null,null,null,null,null,null,null,null,null,null,null,{"$f":"IF(COUNT($A49:$AH49)>0,Export1!$C$3,\"\")","v":""},{"$f":"IF(COUNT($A49:$AH49)>0,Export1!$C$5,\"\")","v":""},{"$f":"IF(COUNT($A49:$AH49)>0,Export1!$C$7,\"\")","v":""},{"$f":"IF(COUNT($A49:$AH49)>0,Export1!$C$9,\"\")","v":""},{"$f":"IF(COUNT($A49:$AH49)>0,Export1!$C$11,\"\")","v":""}]
[null,null,null,null,null,null,null,null,null,null,null,null,null,null,null,null,null,null,null,null,null,null,null,null,null,null,null,null,null,null,null,null,null,null,null,{"$f":"IF(COUNT($A50:$AH50)>0,Export1!$C$3,\"\")","v":""},{"$f":"IF(COUNT($A50:$AH50)>0,Export1!$C$5,\"\")","v":""},{"$f":"IF(COUNT($A50:$AH50)>0,Export1!$C$7,\"\")","v":""},{"$f":"IF(COUNT($A50:$AH50)>0,Export1!$C$9,\"\")","v":""},{"$f":"IF(COUNT($A50:$AH50)>0,Export1!$C$11,\"\")","v":""}]
[null,null,null,null,null,null,null,null,null,null,null,null,null,null,null,null,null,null,null,null,null,null,null,null,null,null,null,null,null,null,null,null,null,null,null,{"$f":"IF(COUNT($A51:$AH51)>0,Export1!$C$3,\"\")","v":""},{"$f":"IF(COUNT($A51:$AH51)>0,Export1!$C$5,\"\")","v":""},{"$f":"IF(COUNT($A51:$AH51)>0,Export1!$C$7,\"\")","v":""},{"$f":"IF(COUNT($A51:$AH51)>0,Export1!$C$9,\"\")","v":""},{"$f":"IF(COUNT($A51:$AH51)>0,Export1!$C$11,\"\")","v":""}]
[null,null,null,null,null,null,null,null,null,null,null,null,null,null,null,null,null,null,null,null,null,null,null,null,null,null,null,null,null,null,null,null,null,null,null,{"$f":"IF(COUNT($A52:$AH52)>0,Export1!$C$3,\"\")","v":""},{"$f":"IF(COUNT($A52:$AH52)>0,Export1!$C$5,\"\")","v":""},{"$f":"IF(COUNT($A52:$AH52)>0,Export1!$C$7,\"\")","v":""},{"$f":"IF(COUNT($A52:$AH52)>0,Export1!$C$9,\"\")","v":""},{"$f":"IF(COUNT($A52:$AH52)>0,Export1!$C$11,\"\")","v":""}]
[null,null,null,null,null,null,null,null,null,null,null,null,null,null,null,null,null,null,null,null,null,null,null,null,null,null,null,null,null,null,null,null,null,null,null,{"$f":"IF(COUNT($A53:$AH53)>0,Export1!$C$3,\"\")","v":""},{"$f":"IF(COUNT($A53:$AH53)>0,Export1!$C$5,\"\")","v":""},{"$f":"IF(COUNT($A53:$AH53)>0,Export1!$C$7,\"\")","v":""},{"$f":"IF(COUNT($A53:$AH53)>0,Export1!$C$9,\"\")","v":""},{"$f":"IF(COUNT($A53:$AH53)>0,Export1!$C$11,\"\")","v":""}]
[null,null,null,null,null,null,null,null,null,null,null,null,null,null,null,null,null,null,null,null,null,null,null,null,null,null,null,null,null,null,null,null,null,null,null,{"$f":"IF(COUNT($A54:$AH54)>0,Export1!$C$3,\"\")","v":""},{"$f":"IF(COUNT($A54:$AH54)>0,Export1!$C$5,\"\")","v":""},{"$f":"IF(COUNT($A54:$AH54)>0,Export1!$C$7,\"\")","v":""},{"$f":"IF(COUNT($A54:$AH54)>0,Export1!$C$9,\"\")","v":""},{"$f":"IF(COUNT($A54:$AH54)>0,Export1!$C$11,\"\")","v":""}]
[null,null,null,null,null,null,null,null,null,null,null,null,null,null,null,null,null,null,null,null,null,null,null,null,null,null,null,null,null,null,null,null,null,null,null,{"$f":"IF(COUNT($A55:$AH55)>0,Export1!$C$3,\"\")","v":""},{"$f":"IF(COUNT($A55:$AH55)>0,Export1!$C$5,\"\")","v":""},{"$f":"IF(COUNT($A55:$AH55)>0,Export1!$C$7,\"\")","v":""},{"$f":"IF(COUNT($A55:$AH55)>0,Export1!$C$9,\"\")","v":""},{"$f":"IF(COUNT($A55:$AH55)>0,Export1!$C$11,\"\")","v":""}]
[null,null,null,null,null,null,null,null,null,null,null,null,null,null,null,null,null,null,null,null,null,null,null,null,null,null,null,null,null,null,null,null,null,null,null,{"$f":"IF(COUNT($A56:$AH56)>0,Export1!$C$3,\"\")","v":""},{"$f":"IF(COUNT($A56:$AH56)>0,Export1!$C$5,\"\")","v":""},{"$f":"IF(COUNT($A56:$AH56)>0,Export1!$C$7,\"\")","v":""},{"$f":"IF(COUNT($A56:$AH56)>0,Export1!$C$9,\"\")","v":""},{"$f":"IF(COUNT($A56:$AH56)>0,Export1!$C$11,\"\")","v":""}]
[null,null,null,null,null,null,null,null,null,null,null,null,null,null,null,null,null,null,null,null,null,null,null,null,null,null,null,null,null,null,null,null,null,null,null,{"$f":"IF(COUNT($A57:$AH57)>0,Export1!$C$3,\"\")","v":""},{"$f":"IF(COUNT($A57:$AH57)>0,Export1!$C$5,\"\")","v":""},{"$f":"IF(COUNT($A57:$AH57)>0,Export1!$C$7,\"\")","v":""},{"$f":"IF(COUNT($A57:$AH57)>0,Export1!$C$9,\"\")","v":""},{"$f":"IF(COUNT($A57:$AH57)>0,Export1!$C$11,\"\")","v":""}]
[null,null,null,null,null,null,null,null,null,null,null,null,null,null,null,null,null,null,null,null,null,null,null,null,null,null,null,null,null,null,null,null,null,null,null,{"$f":"IF(COUNT($A58:$AH58)>0,Export1!$C$3,\"\")","v":""},{"$f":"IF(COUNT($A58:$AH58)>0,Export1!$C$5,\"\")","v":""},{"$f":"IF(COUNT($A58:$AH58)>0,Export1!$C$7,\"\")","v":""},{"$f":"IF(COUNT($A58:$AH58)>0,Export1!$C$9,\"\")","v":""},{"$f":"IF(COUNT($A58:$AH58)>0,Export1!$C$11,\"\")","v":""}]
[null,null,null,null,null,null,null,null,null,null,null,null,null,null,null,null,null,null,null,null,null,null,null,null,null,null,null,null,null,null,null,null,null,null,null,{"$f":"IF(COUNT($A59:$AH59)>0,Export1!$C$3,\"\")","v":""},{"$f":"IF(COUNT($A59:$AH59)>0,Export1!$C$5,\"\")","v":""},{"$f":"IF(COUNT($A59:$AH59)>0,Export1!$C$7,\"\")","v":""},{"$f":"IF(COUNT($A59:$AH59)>0,Export1!$C$9,\"\")","v":""},{"$f":"IF(COUNT($A59:$AH59)>0,Export1!$C$11,\"\")","v":""}]
[null,null,null,null,null,null,null,null,null,null,null,null,null,null,null,null,null,null,null,null,null,null,null,null,null,null,null,null,null,null,null,null,null,null,null,{"$f":"IF(COUNT($A60:$AH60)>0,Export1!$C$3,\"\")","v":""},{"$f":"IF(COUNT($A60:$AH60)>0,Export1!$C$5,\"\")","v":""},{"$f":"IF(COUNT($A60:$AH60)>0,Export1!$C$7,\"\")","v":""},{"$f":"IF(COUNT($A60:$AH60)>0,Export1!$C$9,\"\")","v":""},{"$f":"IF(COUNT($A60:$AH60)>0,Export1!$C$11,\"\")","v":""}]
[null,null,null,null,null,null,null,null,null,null,null,null,null,null,null,null,null,null,null,null,null,null,null,null,null,null,null,null,null,null,null,null,null,null,null,{"$f":"IF(COUNT($A61:$AH61)>0,Export1!$C$3,\"\")","v":""},{"$f":"IF(COUNT($A61:$AH61)>0,Export1!$C$5,\"\")","v":""},{"$f":"IF(COUNT($A61:$AH61)>0,Export1!$C$7,\"\")","v":""},{"$f":"IF(COUNT($A61:$AH61)>0,Export1!$C$9,\"\")","v":""},{"$f":"IF(COUNT($A61:$AH61)>0,Export1!$C$11,\"\")","v":""}]
[null,null,null,null,null,null,null,null,null,null,null,null,null,null,null,null,null,null,null,null,null,null,null,null,null,null,null,null,null,null,null,null,null,null,null,{"$f":"IF(COUNT($A62:$AH62)>0,Export1!$C$3,\"\")","v":""},{"$f":"IF(COUNT($A62:$AH62)>0,Export1!$C$5,\"\")","v":""},{"$f":"IF(COUNT($A62:$AH62)>0,Export1!$C$7,\"\")","v":""},{"$f":"IF(COUNT($A62:$AH62)>0,Export1!$C$9,\"\")","v":""},{"$f":"IF(COUNT($A62:$AH62)>0,Export1!$C$11,\"\")","v":""}]

{"sheet":"lfb2","index":28,"n_rows":62,"n_cols":61,"rows_kept":62,"cut":false,"hidden":true,"merged":[]}
["bleI1","bleI2","bleI3","bleI4","bleI5","bleI6","bleI7","bleI8","bleI9","bleI10","bleI11","bleI12","bleI13","bleI14","bleI15","bleI16","bleI17","bleI18","bleI19","bleI20","bleI21","bleI22","bleI23","bleI24","bleI25","bleI26","bleI27","bleI28","bleI29","bleI30b","bleI30b","bleI30c","bleI30d","bleI30e","ble_ID","Land","Schulart","Stufe","Fach","Lehrer_ID","Zusatzitemtexte","bleI31","bleI32","bleI33","bleI34","bleI35","bleI36","bleI37","bleI38","bleI39","bleI40","bleI41","bleI42","bleI43","bleI44","bleI45","bleI46","bleI47","bleI48","bleI49","bleI50"]
[3,null,null,null,null,null,null,null,null,null,null,null,null,null,null,null,null,null,null,null,null,null,null,null,null,null,null,null,null,null,null,null,null,null,"c",{"$f":"IF(COUNT($A2:$AH2)>0,Export2!$C$3,\"\")","v":0},{"$f":"IF(COUNT($A2:$AH2)>0,Export2!$C$5,\"\")","v":0},{"$f":"IF(COUNT($A2:$AH2)>0,Export2!$C$7,\"\")","v":0},{"$f":"IF(COUNT($A2:$AH2)>0,Export2!$C$9,\"\")","v":0},{"$f":"IF(COUNT($A2:$AH2)>0,Export2!$C$11,\"\")","v":0},"Zusatzfrage 1"]
[4,null,null,null,null,null,null,null,null,null,null,null,null,null,null,null,null,null,null,null,null,null,null,null,null,null,null,null,null,null,null,null,null,null,"d",{"$f":"IF(COUNT($A3:$AH3)>0,Export2!$C$3,\"\")","v":0},{"$f":"IF(COUNT($A3:$AH3)>0,Export2!$C$5,\"\")","v":0},{"$f":"IF(COUNT($A3:$AH3)>0,Export2!$C$7,\"\")","v":0},{"$f":"IF(COUNT($A3:$AH3)>0,Export2!$C$9,\"\")","v":0},{"$f":"IF(COUNT($A3:$AH3)>0,Export2!$C$11,\"\")","v":0},"Zusatzfrage 2"]
[null,null,null,null,null,null,null,null,null,null,null,null,null,null,null,null,null,null,null,null,null,null,null,null,null,null,null,null,null,null,null,null,null,null,null,{"$f":"IF(COUNT($A4:$AH4)>0,Export2!$C$3,\"\")","v":""},{"$f":"IF(COUNT($A4:$AH4)>0,Export2!$C$5,\"\")","v":""},{"$f":"IF(COUNT($A4:$AH4)>0,Export2!$C$7,\"\")","v":""},{"$f":"IF(COUNT($A4:$AH4)>0,Export2!$C$9,\"\")","v":""},{"$f":"IF(COUNT($A4:$AH4)>0,Export2!$C$11,\"\")","v":""},"Zusatzfrage 3"]
[null,null,null,null,null,null,null,null,null,null,null,null,null,null,null,null,null,null,null,null,null,null,null,null,null,null,null,null,null,null,null,null,null,null,null,{"$f":"IF(COUNT($A5:$AH5)>0,Export2!$C$3,\"\")","v":""},{"$f":"IF(COUNT($A5:$AH5)>0,Export2!$C$5,\"\")","v":""},{"$f":"IF(COUNT($A5:$AH5)>0,Export2!$C$7,\"\")","v":""},{"$f":"IF(COUNT($A5:$AH5)>0,Export2!$C$9,\"\")","v":""},{"$f":"IF(COUNT($A5:$AH5)>0,Export2!$C$11,\"\")","v":""},"Zusatzfrage 4"]
[null,null,null,null,null,null,null,null,null,null,null,null,null,null,null,null,null,null,null,null,null,null,null,null,null,null,null,null,null,null,null,null,null,null,null,{"$f":"IF(COUNT($A6:$AH6)>0,Export2!$C$3,\"\")","v":""},{"$f":"IF(COUNT($A6:$AH6)>0,Export2!$C$5,\"\")","v":""},{"$f":"IF(COUNT($A6:$AH6)>0,Export2!$C$7,\"\")","v":""},{"$f":"IF(COUNT($A6:$AH6)>0,Export2!$C$9,\"\")","v":""},{"$f":"IF(COUNT($A6:$AH6)>0,Export2!$C$11,\"\")","v":""},"Zusatzfrage 5"]
[null,null,null,null,null,null,null,null,null,null,null,null,null,null,null,null,null,null,null,null,null,null,null,null,null,null,null,null,null,null,null,null,null,null,null,{"$f":"IF(COUNT($A7:$AH7)>0,Export2!$C$3,\"\")","v":""},{"$f":"IF(COUNT($A7:$AH7)>0,Export2!$C$5,\"\")","v":""},{"$f":"IF(COUNT($A7:$AH7)>0,Export2!$C$7,\"\")","v":""},{"$f":"IF(COUNT($A7:$AH7)>0,Export2!$C$9,\"\")","v":""},{"$f":"IF(COUNT($A7:$AH7)>0,Export2!$C$11,\"\")","v":""},"Zusatzfrage 6"]
[null,null,null,null,null,null,null,null,null,null,null,null,null,null,null,null,null,null,null,null,null,null,null,null,null,null,null,null,null,null,null,null,null,null,null,{"$f":"IF(COUNT($A8:$AH8)>0,Export2!$C$3,\"\")","v":""},{"$f":"IF(COUNT($A8:$AH8)>0,Export2!$C$5,\"\")","v":""},{"$f":"IF(COUNT($A8:$AH8)>0,Export2!$C$7,\"\")","v":""},{"$f":"IF(COUNT($A8:$AH8)>0,Export2!$C$9,\"\")","v":""},{"$f":"IF(COUNT($A8:$AH8)>0,Export2!$C$11,\"\")","v":""},"Zusatzfrage 7"]
[null,null,null,null,null,null,null,null,null,null,null,null,null,null,null,null,null,null,null,null,null,null,null,null,null,null,null,null,null,null,null,null,null,null,null,{"$f":"IF(COUNT($A9:$AH9)>0,Export2!$C$3,\"\")","v":""},{"$f":"IF(COUNT($A9:$AH9)>0,Export2!$C$5,\"\")","v":""},{"$f":"IF(COUNT($A9:$AH9)>0,Export2!$C$7,\"\")","v":""},{"$f":"IF(COUNT($A9:$AH9)>0,Export2!$C$9,\"\")","v":""},{"$f":"IF(COUNT($A9:$AH9)>0,Export2!$C$11,\"\")","v":""},"Zusatzfrage 8"]
[null,null,null,null,null,null,null,null,null,null,null,null,null,null,null,null,null,null,null,null,null,null,null,null,null,null,null,null,null,null,null,null,null,null,null,{"$f":"IF(COUNT($A10:$AH10)>0,Export2!$C$3,\"\")","v":""},{"$f":"IF(COUNT($A10:$AH10)>0,Export2!$C$5,\"\")","v":""},{"$f":"IF(COUNT($A10:$AH10)>0,Export2!$C$7,\"\")","v":""},{"$f":"IF(COUNT($A10:$AH10)>0,Export2!$C$9,\"\")","v":""},{"$f":"IF(COUNT($A10:$AH10)>0,Export2!$C$11,\"\")","v":""},"Zusatzfrage 9"]
[null,null,null,null,null,null,null,null,null,null,null,null,null,null,null,null,null,null,null,null,null,null,null,null,null,null,null,null,null,null,null,null,null,null,null,{"$f":"IF(COUNT($A11:$AH11)>0,Export2!$C$3,\"\")","v":""},{"$f":"IF(COUNT($A11:$AH11)>0,Export2!$C$5,\"\")","v":""},{"$f":"IF(COUNT($A11:$AH11)>0,Export2!$C$7,\"\")","v":""},{"$f":"IF(COUNT($A11:$AH11)>0,Export2!$C$9,\"\")","v":""},{"$f":"IF(COUNT($A11:$AH11)>0,Export2!$C$11,\"\")","v":""},"Zusatzfrage 10"]
[null,null,null,null,null,null,null,null,null,null,null,null,null,null,null,null,null,null,null,null,null,null,null,null,null,null,null,null,null,null,null,null,null,null,null,{"$f":"IF(COUNT($A12:$AH12)>0,Export2!$C$3,\"\")","v":""},{"$f":"IF(COUNT($A12:$AH12)>0,Export2!$C$5,\"\")","v":""},{"$f":"IF(COUNT($A12:$AH12)>0,Export2!$C$7,\"\")","v":""},{"$f":"IF(COUNT($A12:$AH12)>0,Export2!$C$9,\"\")","v":""},{"$f":"IF(COUNT($A12:$AH12)>0,Export2!$C$11,\"\")","v":""},"Zusatzfrage 11"]
[null,null,null,null,null,null,null,null,null,null,null,null,null,null,null,null,null,null,null,null,null,null,null,null,null,null,null,null,null,null,null,null,null,null,null,{"$f":"IF(COUNT($A13:$AH13)>0,Export2!$C$3,\"\")","v":""},{"$f":"IF(COUNT($A13:$AH13)>0,Export2!$C$5,\"\")","v":""},{"$f":"IF(COUNT($A13:$AH13)>0,Export2!$C$7,\"\")","v":""},{"$f":"IF(COUNT($A13:$AH13)>0,Export2!$C$9,\"\")","v":""},{"$f":"IF(COUNT($A13:$AH13)>0,Export2!$C$11,\"\")","v":""},"Zusatzfrage 12"]
[null,null,null,null,null,null,null,null,null,null,null,null,null,null,null,null,null,null,null,null,null,null,null,null,null,null,null,null,null,null,null,null,null,null,null,{"$f":"IF(COUNT($A14:$AH14)>0,Export2!$C$3,\"\")","v":""},{"$f":"IF(COUNT($A14:$AH14)>0,Export2!$C$5,\"\")","v":""},{"$f":"IF(COUNT($A14:$AH14)>0,Export2!$C$7,\"\")","v":""},{"$f":"IF(COUNT($A14:$AH14)>0,Export2!$C$9,\"\")","v":""},{"$f":"IF(COUNT($A14:$AH14)>0,Export2!$C$11,\"\")","v":""},"Zusatzfrage 13"]
[null,null,null,null,null,null,null,null,null,null,null,null,null,null,null,null,null,null,null,null,null,null,null,null,null,null,null,null,null,null,null,null,null,null,null,{"$f":"IF(COUNT($A15:$AH15)>0,Export2!$C$3,\"\")","v":""},{"$f":"IF(COUNT($A15:$AH15)>0,Export2!$C$5,\"\")","v":""},{"$f":"IF(COUNT($A15:$AH15)>0,Export2!$C$7,\"\")","v":""},{"$f":"IF(COUNT($A15:$AH15)>0,Export2!$C$9,\"\")","v":""},{"$f":"IF(COUNT($A15:$AH15)>0,Export2!$C$11,\"\")","v":""},"Zusatzfrage 14"]
[null,null,null,null,null,null,null,null,null,null,null,null,null,null,null,null,null,null,null,null,null,null,null,null,null,null,null,null,null,null,null,null,null,null,null,{"$f":"IF(COUNT($A16:$AH16)>0,Export2!$C$3,\"\")","v":""},{"$f":"IF(COUNT($A16:$AH16)>0,Export2!$C$5,\"\")","v":""},{"$f":"IF(COUNT($A16:$AH16)>0,Export2!$C$7,\"\")","v":""},{"$f":"IF(COUNT($A16:$AH16)>0,Export2!$C$9,\"\")","v":""},{"$f":"IF(COUNT($A16:$AH16)>0,Export2!$C$11,\"\")","v":""},"Zusatzfrage 15"]
[null,null,null,null,null,null,null,null,null,null,null,null,null,null,null,null,null,null,null,null,null,null,null,null,null,null,null,null,null,null,null,null,null,null,null,{"$f":"IF(COUNT($A17:$AH17)>0,Export2!$C$3,\"\")","v":""},{"$f":"IF(COUNT($A17:$AH17)>0,Export2!$C$5,\"\")","v":""},{"$f":"IF(COUNT($A17:$AH17)>0,Export2!$C$7,\"\")","v":""},{"$f":"IF(COUNT($A17:$AH17)>0,Export2!$C$9,\"\")","v":""},{"$f":"IF(COUNT($A17:$AH17)>0,Export2!$C$11,\"\")","v":""},"Zusatzfrage 16"]
[null,null,null,null,null,null,null,null,null,null,null,null,null,null,null,null,null,null,null,null,null,null,null,null,null,null,null,null,null,null,null,null,null,null,null,{"$f":"IF(COUNT($A18:$AH18)>0,Export2!$C$3,\"\")","v":""},{"$f":"IF(COUNT($A18:$AH18)>0,Export2!$C$5,\"\")","v":""},{"$f":"IF(COUNT($A18:$AH18)>0,Export2!$C$7,\"\")","v":""},{"$f":"IF(COUNT($A18:$AH18)>0,Export2!$C$9,\"\")","v":""},{"$f":"IF(COUNT($A18:$AH18)>0,Export2!$C$11,\"\")","v":""},"Zusatzfrage 17"]
[null,null,null,null,null,null,null,null,null,null,null,null,null,null,null,null,null,null,null,null,null,null,null,null,null,null,null,null,null,null,null,null,null,null,null,{"$f":"IF(COUNT($A19:$AH19)>0,Export2!$C$3,\"\")","v":""},{"$f":"IF(COUNT($A19:$AH19)>0,Export2!$C$5,\"\")","v":""},{"$f":"IF(COUNT($A19:$AH19)>0,Export2!$C$7,\"\")","v":""},{"$f":"IF(COUNT($A19:$AH19)>0,Export2!$C$9,\"\")","v":""},{"$f":"IF(COUNT($A19:$AH19)>0,Export2!$C$11,\"\")","v":""},"Zusatzfrage 18"]
[null,null,null,null,null,null,null,null,null,null,null,null,null,null,null,null,null,null,null,null,null,null,null,null,null,null,null,null,null,null,null,null,null,null,null,{"$f":"IF(COUNT($A20:$AH20)>0,Export2!$C$3,\"\")","v":""},{"$f":"IF(COUNT($A20:$AH20)>0,Export2!$C$5,\"\")","v":""},{"$f":"IF(COUNT($A20:$AH20)>0,Export2!$C$7,\"\")","v":""},{"$f":"IF(COUNT($A20:$AH20)>0,Export2!$C$9,\"\")","v":""},{"$f":"IF(COUNT($A20:$AH20)>0,Export2!$C$11,\"\")","v":""},"Zusatzfrage 19"]
[null,null,null,null,null,null,null,null,null,null,null,null,null,null,null,null,null,null,null,null,null,null,null,null,null,null,null,null,null,null,null,null,null,null,null,{"$f":"IF(COUNT($A21:$AH21)>0,Export2!$C$3,\"\")","v":""},{"$f":"IF(COUNT($A21:$AH21)>0,Export2!$C$5,\"\")","v":""},{"$f":"IF(COUNT($A21:$AH21)>0,Export2!$C$7,\"\")","v":""},{"$f":"IF(COUNT($A21:$AH21)>0,Export2!$C$9,\"\")","v":""},{"$f":"IF(COUNT($A21:$AH21)>0,Export2!$C$11,\"\")","v":""},"Zusatzfrage 20"]
[null,null,null,null,null,null,null,null,null,null,null,null,null,null,null,null,null,null,null,null,null,null,null,null,null,null,null,null,null,null,null,null,null,null,null,{"$f":"IF(COUNT($A22:$AH22)>0,Export2!$C$3,\"\")","v":""},{"$f":"IF(COUNT($A22:$AH22)>0,Export2!$C$5,\"\")","v":""},{"$f":"IF(COUNT($A22:$AH22)>0,Export2!$C$7,\"\")","v":""},{"$f":"IF(COUNT($A22:$AH22)>0,Export2!$C$9,\"\")","v":""},{"$f":"IF(COUNT($A22:$AH22)>0,Export2!$C$11,\"\")","v":""}]
[null,null,null,null,null,null,null,null,null,null,null,null,null,null,null,null,null,null,null,null,null,null,null,null,null,null,null,null,null,null,null,null,null,null,null,{"$f":"IF(COUNT($A23:$AH23)>0,Export2!$C$3,\"\")","v":""},{"$f":"IF(COUNT($A23:$AH23)>0,Export2!$C$5,\"\")","v":""},{"$f":"IF(COUNT($A23:$AH23)>0,Export2!$C$7,\"\")","v":""},{"$f":"IF(COUNT($A23:$AH23)>0,Export2!$C$9,\"\")","v":""},{"$f":"IF(COUNT($A23:$AH23)>0,Export2!$C$11,\"\")","v":""}]
[null,null,null,null,null,null,null,null,null,null,null,null,null,null,null,null,null,null,null,null,null,null,null,null,null,null,null,null,null,null,null,null,null,null,null,{"$f":"IF(COUNT($A24:$AH24)>0,Export2!$C$3,\"\")","v":""},{"$f":"IF(COUNT($A24:$AH24)>0,Export2!$C$5,\"\")","v":""},{"$f":"IF(COUNT($A24:$AH24)>0,Export2!$C$7,\"\")","v":""},{"$f":"IF(COUNT($A24:$AH24)>0,Export2!$C$9,\"\")","v":""},{"$f":"IF(COUNT($A24:$AH24)>0,Export2!$C$11,\"\")","v":""}]
[null,null,null,null,null,null,null,null,null,null,null,null,null,null,null,null,null,null,null,null,null,null,null,null,null,null,null,null,null,null,null,null,null,null,null,{"$f":"IF(COUNT($A25:$AH25)>0,Export2!$C$3,\"\")","v":""},{"$f":"IF(COUNT($A25:$AH25)>0,Export2!$C$5,\"\")","v":""},{"$f":"IF(COUNT($A25:$AH25)>0,Export2!$C$7,\"\")","v":""},{"$f":"IF(COUNT($A25:$AH25)>0,Export2!$C$9,\"\")","v":""},{"$f":"IF(COUNT($A25:$AH25)>0,Export2!$C$11,\"\")","v":""}]
[null,null,null,null,null,null,null,null,null,null,null,null,null,null,null,null,null,null,null,null,null,null,null,null,null,null,null,null,null,null,null,null,null,null,null,{"$f":"IF(COUNT($A26:$AH26)>0,Export2!$C$3,\"\")","v":""},{"$f":"IF(COUNT($A26:$AH26)>0,Export2!$C$5,\"\")","v":""},{"$f":"IF(COUNT($A26:$AH26)>0,Export2!$C$7,\"\")","v":""},{"$f":"IF(COUNT($A26:$AH26)>0,Export2!$C$9,\"\")","v":""},{"$f":"IF(COUNT($A26:$AH26)>0,Export2!$C$11,\"\")","v":""}]
[null,null,null,null,null,null,null,null,null,null,null,null,null,null,null,null,null,null,null,null,null,null,null,null,null,null,null,null,null,null,null,null,null,null,null,{"$f":"IF(COUNT($A27:$AH27)>0,Export2!$C$3,\"\")","v":""},{"$f":"IF(COUNT($A27:$AH27)>0,Export2!$C$5,\"\")","v":""},{"$f":"IF(COUNT($A27:$AH27)>0,Export2!$C$7,\"\")","v":""},{"$f":"IF(COUNT($A27:$AH27)>0,Export2!$C$9,\"\")","v":""},{"$f":"IF(COUNT($A27:$AH27)>0,Export2!$C$11,\"\")","v":""}]
[null,null,null,null,null,null,null,null,null,null,null,null,null,null,null,null,null,null,null,null,null,null,null,null,null,null,null,null,null,null,null,null,null,null,null,{"$f":"IF(COUNT($A28:$AH28)>0,Export2!$C$3,\"\")","v":""},{"$f":"IF(COUNT($A28:$AH28)>0,Export2!$C$5,\"\")","v":""},{"$f":"IF(COUNT($A28:$AH28)>0,Export2!$C$7,\"\")","v":""},{"$f":"IF(COUNT($A28:$AH28)>0,Export2!$C$9,\"\")","v":""},{"$f":"IF(COUNT($A28:$AH28)>0,Export2!$C$11,\"\")","v":""}]
[null,null,null,null,null,null,null,null,null,null,null,null,null,null,null,null,null,null,null,null,null,null,null,null,null,null,null,null,null,null,null,null,null,null,null,{"$f":"IF(COUNT($A29:$AH29)>0,Export2!$C$3,\"\")","v":""},{"$f":"IF(COUNT($A29:$AH29)>0,Export2!$C$5,\"\")","v":""},{"$f":"IF(COUNT($A29:$AH29)>0,Export2!$C$7,\"\")","v":""},{"$f":"IF(COUNT($A29:$AH29)>0,Export2!$C$9,\"\")","v":""},{"$f":"IF(COUNT($A29:$AH29)>0,Export2!$C$11,\"\")","v":""}]
[null,null,null,null,null,null,null,null,null,null,null,null,null,null,null,null,null,null,null,null,null,null,null,null,null,null,null,null,null,null,null,null,null,null,null,{"$f":"IF(COUNT($A30:$AH30)>0,Export2!$C$3,\"\")","v":""},{"$f":"IF(COUNT($A30:$AH30)>0,Export2!$C$5,\"\")","v":""},{"$f":"IF(COUNT($A30:$AH30)>0,Export2!$C$7,\"\")","v":""},{"$f":"IF(COUNT($A30:$AH30)>0,Export2!$C$9,\"\")","v":""},{"$f":"IF(COUNT($A30:$AH30)>0,Export2!$C$11,\"\")","v":""}]
[null,null,null,null,null,null,null,null,null,null,null,null,null,null,null,null,null,null,null,null,null,null,null,null,null,null,null,null,null,null,null,null,null,null,null,{"$f":"IF(COUNT($A31:$AH31)>0,Export2!$C$3,\"\")","v":""},{"$f":"IF(COUNT($A31:$AH31)>0,Export2!$C$5,\"\")","v":""},{"$f":"IF(COUNT($A31:$AH31)>0,Export2!$C$7,\"\")","v":""},{"$f":"IF(COUNT($A31:$AH31)>0,Export2!$C$9,\"\")","v":""},{"$f":"IF(COUNT($A31:$AH31)>0,Export2!$C$11,\"\")","v":""}]
[null,null,null,null,null,null,null,null,null,null,null,null,null,null,null,null,null,null,null,null,null,null,null,null,null,null,null,null,null,null,null,null,null,null,null,{"$f":"IF(COUNT($A32:$AH32)>0,Export2!$C$3,\"\")","v":""},{"$f":"IF(COUNT($A32:$AH32)>0,Export2!$C$5,\"\")","v":""},{"$f":"IF(COUNT($A32:$AH32)>0,Export2!$C$7,\"\")","v":""},{"$f":"IF(COUNT($A32:$AH32)>0,Export2!$C$9,\"\")","v":""},{"$f":"IF(COUNT($A32:$AH32)>0,Export2!$C$11,\"\")","v":""}]
[null,null,null,null,null,null,null,null,null,null,null,null,null,null,null,null,null,null,null,null,null,null,null,null,null,null,null,null,null,null,null,null,null,null,null,{"$f":"IF(COUNT($A33:$AH33)>0,Export2!$C$3,\"\")","v":""},{"$f":"IF(COUNT($A33:$AH33)>0,Export2!$C$5,\"\")","v":""},{"$f":"IF(COUNT($A33:$AH33)>0,Export2!$C$7,\"\")","v":""},{"$f":"IF(COUNT($A33:$AH33)>0,Export2!$C$9,\"\")","v":""},{"$f":"IF(COUNT($A33:$AH33)>0,Export2!$C$11,\"\")","v":""}]
[null,null,null,null,null,null,null,null,null,null,null,null,null,null,null,null,null,null,null,null,null,null,null,null,null,null,null,null,null,null,null,null,null,null,null,{"$f":"IF(COUNT($A34:$AH34)>0,Export2!$C$3,\"\")","v":""},{"$f":"IF(COUNT($A34:$AH34)>0,Export2!$C$5,\"\")","v":""},{"$f":"IF(COUNT($A34:$AH34)>0,Export2!$C$7,\"\")","v":""},{"$f":"IF(COUNT($A34:$AH34)>0,Export2!$C$9,\"\")","v":""},{"$f":"IF(COUNT($A34:$AH34)>0,Export2!$C$11,\"\")","v":""}]
[null,null,null,null,null,null,null,null,null,null,null,null,null,null,null,null,null,null,null,null,null,null,null,null,null,null,null,null,null,null,null,null,null,null,null,{"$f":"IF(COUNT($A35:$AH35)>0,Export2!$C$3,\"\")","v":""},{"$f":"IF(COUNT($A35:$AH35)>0,Export2!$C$5,\"\")","v":""},{"$f":"IF(COUNT($A35:$AH35)>0,Export2!$C$7,\"\")","v":""},{"$f":"IF(COUNT($A35:$AH35)>0,Export2!$C$9,\"\")","v":""},{"$f":"IF(COUNT($A35:$AH35)>0,Export2!$C$11,\"\")","v":""}]
[null,null,null,null,null,null,null,null,null,null,null,null,null,null,null,null,null,null,null,null,null,null,null,null,null,null,null,null,null,null,null,null,null,null,null,{"$f":"IF(COUNT($A36:$AH36)>0,Export2!$C$3,\"\")","v":""},{"$f":"IF(COUNT($A36:$AH36)>0,Export2!$C$5,\"\")","v":""},{"$f":"IF(COUNT($A36:$AH36)>0,Export2!$C$7,\"\")","v":""},{"$f":"IF(COUNT($A36:$AH36)>0,Export2!$C$9,\"\")","v":""},{"$f":"IF(COUNT($A36:$AH36)>0,Export2!$C$11,\"\")","v":""}]
[null,null,null,null,null,null,null,null,null,null,null,null,null,null,null,null,null,null,null,null,null,null,null,null,null,null,null,null,null,null,null,null,null,null,null,{"$f":"IF(COUNT($A37:$AH37)>0,Export2!$C$3,\"\")","v":""},{"$f":"IF(COUNT($A37:$AH37)>0,Export2!$C$5,\"\")","v":""},{"$f":"IF(COUNT($A37:$AH37)>0,Export2!$C$7,\"\")","v":""},{"$f":"IF(COUNT($A37:$AH37)>0,Export2!$C$9,\"\")","v":""},{"$f":"IF(COUNT($A37:$AH37)>0,Export2!$C$11,\"\")","v":""}]
[null,null,null,null,null,null,null,null,null,null,null,null,null,null,null,null,null,null,null,null,null,null,null,null,null,null,null,null,null,null,null,null,null,null,null,{"$f":"IF(COUNT($A38:$AH38)>0,Export2!$C$3,\"\")","v":""},{"$f":"IF(COUNT($A38:$AH38)>0,Export2!$C$5,\"\")","v":""},{"$f":"IF(COUNT($A38:$AH38)>0,Export2!$C$7,\"\")","v":""},{"$f":"IF(COUNT($A38:$AH38)>0,Export2!$C$9,\"\")","v":""},{"$f":"IF(COUNT($A38:$AH38)>0,Export2!$C$11,\"\")","v":""}]
[null,null,null,null,null,null,null,null,null,null,null,null,null,null,null,null,null,null,null,null,null,null,null,null,null,null,null,null,null,null,null,null,null,null,null,{"$f":"IF(COUNT($A39:$AH39)>0,Export2!$C$3,\"\")","v":""},{"$f":"IF(COUNT($A39:$AH39)>0,Export2!$C$5,\"\")","v":""},{"$f":"IF(COUNT($A39:$AH39)>0,Export2!$C$7,\"\")","v":""},{"$f":"IF(COUNT($A39:$AH39)>0,Export2!$C$9,\"\")","v":""},{"$f":"IF(COUNT($A39:$AH39)>0,Export2!$C$11,\"\")","v":""}]
[null,null,null,null,null,null,null,null,null,null,null,null,null,null,null,null,null,null,null,null,null,null,null,null,null,null,null,null,null,null,null,null,null,null,null,{"$f":"IF(COUNT($A40:$AH40)>0,Export2!$C$3,\"\")","v":""},{"$f":"IF(COUNT($A40:$AH40)>0,Export2!$C$5,\"\")","v":""},{"$f":"IF(COUNT($A40:$AH40)>0,Export2!$C$7,\"\")","v":""},{"$f":"IF(COUNT($A40:$AH40)>0,Export2!$C$9,\"\")","v":""},{"$f":"IF(COUNT($A40:$AH40)>0,Export2!$C$11,\"\")","v":""}]
[null,null,null,null,null,null,null,null,null,null,null,null,null,null,null,null,null,null,null,null,null,null,null,null,null,null,null,null,null,null,null,null,null,null,null,{"$f":"IF(COUNT($A41:$AH41)>0,Export2!$C$3,\"\")","v":""},{"$f":"IF(COUNT($A41:$AH41)>0,Export2!$C$5,\"\")","v":""},{"$f":"IF(COUNT($A41:$AH41)>0,Export2!$C$7,\"\")","v":""},{"$f":"IF(COUNT($A41:$AH41)>0,Export2!$C$9,\"\")","v":""},{"$f":"IF(COUNT($A41:$AH41)>0,Export2!$C$11,\"\")","v":""}]
[null,null,null,null,null,null,null,null,null,null,null,null,null,null,null,null,null,null,null,null,null,null,null,null,null,null,null,null,null,null,null,null,null,null,null,{"$f":"IF(COUNT($A42:$AH42)>0,Export2!$C$3,\"\")","v":""},{"$f":"IF(COUNT($A42:$AH42)>0,Export2!$C$5,\"\")","v":""},{"$f":"IF(COUNT($A42:$AH42)>0,Export2!$C$7,\"\")","v":""},{"$f":"IF(COUNT($A42:$AH42)>0,Export2!$C$9,\"\")","v":""},{"$f":"IF(COUNT($A42:$AH42)>0,Export2!$C$11,\"\")","v":""}]
[null,null,null,null,null,null,null,null,null,null,null,null,null,null,null,null,null,null,null,null,null,null,null,null,null,null,null,null,null,null,null,null,null,null,null,{"$f":"IF(COUNT($A43:$AH43)>0,Export2!$C$3,\"\")","v":""},{"$f":"IF(COUNT($A43:$AH43)>0,Export2!$C$5,\"\")","v":""},{"$f":"IF(COUNT($A43:$AH43)>0,Export2!$C$7,\"\")","v":""},{"$f":"IF(COUNT($A43:$AH43)>0,Export2!$C$9,\"\")","v":""},{"$f":"IF(COUNT($A43:$AH43)>0,Export2!$C$11,\"\")","v":""}]
[null,null,null,null,null,null,null,null,null,null,null,null,null,null,null,null,null,null,null,null,null,null,null,null,null,null,null,null,null,null,null,null,null,null,null,{"$f":"IF(COUNT($A44:$AH44)>0,Export2!$C$3,\"\")","v":""},{"$f":"IF(COUNT($A44:$AH44)>0,Export2!$C$5,\"\")","v":""},{"$f":"IF(COUNT($A44:$AH44)>0,Export2!$C$7,\"\")","v":""},{"$f":"IF(COUNT($A44:$AH44)>0,Export2!$C$9,\"\")","v":""},{"$f":"IF(COUNT($A44:$AH44)>0,Export2!$C$11,\"\")","v":""}]
[null,null,null,null,null,null,null,null,null,null,null,null,null,null,null,null,null,null,null,null,null,null,null,null,null,null,null,null,null,null,null,null,null,null,null,{"$f":"IF(COUNT($A45:$AH45)>0,Export2!$C$3,\"\")","v":""},{"$f":"IF(COUNT($A45:$AH45)>0,Export2!$C$5,\"\")","v":""},{"$f":"IF(COUNT($A45:$AH45)>0,Export2!$C$7,\"\")","v":""},{"$f":"IF(COUNT($A45:$AH45)>0,Export2!$C$9,\"\")","v":""},{"$f":"IF(COUNT($A45:$AH45)>0,Export2!$C$11,\"\")","v":""}]
[null,null,null,null,null,null,null,null,null,null,null,null,null,null,null,null,null,null,null,null,null,null,null,null,null,null,null,null,null,null,null,null,null,null,null,{"$f":"IF(COUNT($A46:$AH46)>0,Export2!$C$3,\"\")","v":""},{"$f":"IF(COUNT($A46:$AH46)>0,Export2!$C$5,\"\")","v":""},{"$f":"IF(COUNT($A46:$AH46)>0,Export2!$C$7,\"\")","v":""},{"$f":"IF(COUNT($A46:$AH46)>0,Export2!$C$9,\"\")","v":""},{"$f":"IF(COUNT($A46:$AH46)>0,Export2!$C$11,\"\")","v":""}]
[null,null,null,null,null,null,null,null,null,null,null,null,null,null,null,null,null,null,null,null,null,null,null,null,null,null,null,null,null,null,null,null,null,null,null,{"$f":"IF(COUNT($A47:$AH47)>0,Export2!$C$3,\"\")","v":""},{"$f":"IF(COUNT($A47:$AH47)>0,Export2!$C$5,\"\")","v":""},{"$f":"IF(COUNT($A47:$AH47)>0,Export2!$C$7,\"\")","v":""},{"$f":"IF(COUNT($A47:$AH47)>0,Export2!$C$9,\"\")","v":""},{"$f":"IF(COUNT($A47:$AH47)>0,Export2!$C$11,\"\")","v":""}]
[null,null,null,null,null,null,null,null,null,null,null,null,null,null,null,null,null,null,null,null,null,null,null,null,null,null,null,null,null,null,null,null,null,null,null,{"$f":"IF(COUNT($A48:$AH48)>0,Export2!$C$3,\"\")","v":""},{"$f":"IF(COUNT($A48:$AH48)>0,Export2!$C$5,\"\")","v":""},{"$f":"IF(COUNT($A48:$AH48)>0,Export2!$C$7,\"\")","v":""},{"$f":"IF(COUNT($A48:$AH48)>0,Export2!$C$9,\"\")","v":""},{"$f":"IF(COUNT($A48:$AH48)>0,Export2!$C$11,\"\")","v":""}]
[null,null,null,null,null,null,null,null,null,null,null,null,null,null,null,null,null,null,null,null,null,null,null,null,null,null,null,null,null,null,null,null,null,null,null,{"$f":"IF(COUNT($A49:$AH49)>0,Export2!$C$3,\"\")","v":""},{"$f":"IF(COUNT($A49:$AH49)>0,Export2!$C$5,\"\")","v":""},{"$f":"IF(COUNT($A49:$AH49)>0,Export2!$C$7,\"\")","v":""},{"$f":"IF(COUNT($A49:$AH49)>0,Export2!$C$9,\"\")","v":""},{"$f":"IF(COUNT($A49:$AH49)>0,Export2!$C$11,\"\")","v":""}]
[null,null,null,null,null,null,null,null,null,null,null,null,null,null,null,null,null,null,null,null,null,null,null,null,null,null,null,null,null,null,null,null,null,null,null,{"$f":"IF(COUNT($A50:$AH50)>0,Export2!$C$3,\"\")","v":""},{"$f":"IF(COUNT($A50:$AH50)>0,Export2!$C$5,\"\")","v":""},{"$f":"IF(COUNT($A50:$AH50)>0,Export2!$C$7,\"\")","v":""},{"$f":"IF(COUNT($A50:$AH50)>0,Export2!$C$9,\"\")","v":""},{"$f":"IF(COUNT($A50:$AH50)>0,Export2!$C$11,\"\")","v":""}]
[null,null,null,null,null,null,null,null,null,null,null,null,null,null,null,null,null,null,null,null,null,null,null,null,null,null,null,null,null,null,null,null,null,null,null,{"$f":"IF(COUNT($A51:$AH51)>0,Export2!$C$3,\"\")","v":""},{"$f":"IF(COUNT($A51:$AH51)>0,Export2!$C$5,\"\")","v":""},{"$f":"IF(COUNT($A51:$AH51)>0,Export2!$C$7,\"\")","v":""},{"$f":"IF(COUNT($A51:$AH51)>0,Export2!$C$9,\"\")","v":""},{"$f":"IF(COUNT($A51:$AH51)>0,Export2!$C$11,\"\")","v":""}]
[null,null,null,null,null,null,null,null,null,null,null,null,null,null,null,null,null,null,null,null,null,null,null,null,null,null,null,null,null,null,null,null,null,null,null,{"$f":"IF(COUNT($A52:$AH52)>0,Export2!$C$3,\"\")","v":""},{"$f":"IF(COUNT($A52:$AH52)>0,Export2!$C$5,\"\")","v":""},{"$f":"IF(COUNT($A52:$AH52)>0,Export2!$C$7,\"\")","v":""},{"$f":"IF(COUNT($A52:$AH52)>0,Export2!$C$9,\"\")","v":""},{"$f":"IF(COUNT($A52:$AH52)>0,Export2!$C$11,\"\")","v":""}]
[null,null,null,null,null,null,null,null,null,null,null,null,null,null,null,null,null,null,null,null,null,null,null,null,null,null,null,null,null,null,null,null,null,null,null,{"$f":"IF(COUNT($A53:$AH53)>0,Export2!$C$3,\"\")","v":""},{"$f":"IF(COUNT($A53:$AH53)>0,Export2!$C$5,\"\")","v":""},{"$f":"IF(COUNT($A53:$AH53)>0,Export2!$C$7,\"\")","v":""},{"$f":"IF(COUNT($A53:$AH53)>0,Export2!$C$9,\"\")","v":""},{"$f":"IF(COUNT($A53:$AH53)>0,Export2!$C$11,\"\")","v":""}]
[null,null,null,null,null,null,null,null,null,null,null,null,null,null,null,null,null,null,null,null,null,null,null,null,null,null,null,null,null,null,null,null,null,null,null,{"$f":"IF(COUNT($A54:$AH54)>0,Export2!$C$3,\"\")","v":""},{"$f":"IF(COUNT($A54:$AH54)>0,Export2!$C$5,\"\")","v":""},{"$f":"IF(COUNT($A54:$AH54)>0,Export2!$C$7,\"\")","v":""},{"$f":"IF(COUNT($A54:$AH54)>0,Export2!$C$9,\"\")","v":""},{"$f":"IF(COUNT($A54:$AH54)>0,Export2!$C$11,\"\")","v":""}]
[null,null,null,null,null,null,null,null,null,null,null,null,null,null,null,null,null,null,null,null,null,null,null,null,null,null,null,null,null,null,null,null,null,null,null,{"$f":"IF(COUNT($A55:$AH55)>0,Export2!$C$3,\"\")","v":""},{"$f":"IF(COUNT($A55:$AH55)>0,Export2!$C$5,\"\")","v":""},{"$f":"IF(COUNT($A55:$AH55)>0,Export2!$C$7,\"\")","v":""},{"$f":"IF(COUNT($A55:$AH55)>0,Export2!$C$9,\"\")","v":""},{"$f":"IF(COUNT($A55:$AH55)>0,Export2!$C$11,\"\")","v":""}]
[null,null,null,null,null,null,null,null,null,null,null,null,null,null,null,null,null,null,null,null,null,null,null,null,null,null,null,null,null,null,null,null,null,null,null,{"$f":"IF(COUNT($A56:$AH56)>0,Export2!$C$3,\"\")","v":""},{"$f":"IF(COUNT($A56:$AH56)>0,Export2!$C$5,\"\")","v":""},{"$f":"IF(COUNT($A56:$AH56)>0,Export2!$C$7,\"\")","v":""},{"$f":"IF(COUNT($A56:$AH56)>0,Export2!$C$9,\"\")","v":""},{"$f":"IF(COUNT($A56:$AH56)>0,Export2!$C$11,\"\")","v":""}]
[null,null,null,null,null,null,null,null,null,null,null,null,null,null,null,null,null,null,null,null,null,null,null,null,null,null,null,null,null,null,null,null,null,null,null,{"$f":"IF(COUNT($A57:$AH57)>0,Export2!$C$3,\"\")","v":""},{"$f":"IF(COUNT($A57:$AH57)>0,Export2!$C$5,\"\")","v":""},{"$f":"IF(COUNT($A57:$AH57)>0,Export2!$C$7,\"\")","v":""},{"$f":"IF(COUNT($A57:$AH57)>0,Export2!$C$9,\"\")","v":""},{"$f":"IF(COUNT($A57:$AH57)>0,Export2!$C$11,\"\")","v":""}]
[null,null,null,null,null,null,null,null,null,null,null,null,null,null,null,null,null,null,null,null,null,null,null,null,null,null,null,null,null,null,null,null,null,null,null,{"$f":"IF(COUNT($A58:$AH58)>0,Export2!$C$3,\"\")","v":""},{"$f":"IF(COUNT($A58:$AH58)>0,Export2!$C$5,\"\")","v":""},{"$f":"IF(COUNT($A58:$AH58)>0,Export2!$C$7,\"\")","v":""},{"$f":"IF(COUNT($A58:$AH58)>0,Export2!$C$9,\"\")","v":""},{"$f":"IF(COUNT($A58:$AH58)>0,Export2!$C$11,\"\")","v":""}]
[null,null,null,null,null,null,null,null,null,null,null,null,null,null,null,null,null,null,null,null,null,null,null,null,null,null,null,null,null,null,null,null,null,null,null,{"$f":"IF(COUNT($A59:$AH59)>0,Export2!$C$3,\"\")","v":""},{"$f":"IF(COUNT($A59:$AH59)>0,Export2!$C$5,\"\")","v":""},{"$f":"IF(COUNT($A59:$AH59)>0,Export2!$C$7,\"\")","v":""},{"$f":"IF(COUNT($A59:$AH59)>0,Export2!$C$9,\"\")","v":""},{"$f":"IF(COUNT($A59:$AH59)>0,Export2!$C$11,\"\")","v":""}]
[null,null,null,null,null,null,null,null,null,null,null,null,null,null,null,null,null,null,null,null,null,null,null,null,null,null,null,null,null,null,null,null,null,null,null,{"$f":"IF(COUNT($A60:$AH60)>0,Export2!$C$3,\"\")","v":""},{"$f":"IF(COUNT($A60:$AH60)>0,Export2!$C$5,\"\")","v":""},{"$f":"IF(COUNT($A60:$AH60)>0,Export2!$C$7,\"\")","v":""},{"$f":"IF(COUNT($A60:$AH60)>0,Export2!$C$9,\"\")","v":""},{"$f":"IF(COUNT($A60:$AH60)>0,Export2!$C$11,\"\")","v":""}]
[null,null,null,null,null,null,null,null,null,null,null,null,null,null,null,null,null,null,null,null,null,null,null,null,null,null,null,null,null,null,null,null,null,null,null,{"$f":"IF(COUNT($A61:$AH61)>0,Export2!$C$3,\"\")","v":""},{"$f":"IF(COUNT($A61:$AH61)>0,Export2!$C$5,\"\")","v":""},{"$f":"IF(COUNT($A61:$AH61)>0,Export2!$C$7,\"\")","v":""},{"$f":"IF(COUNT($A61:$AH61)>0,Export2!$C$9,\"\")","v":""},{"$f":"IF(COUNT($A61:$AH61)>0,Export2!$C$11,\"\")","v":""}]
[null,null,null,null,null,null,null,null,null,null,null,null,null,null,null,null,null,null,null,null,null,null,null,null,null,null,null,null,null,null,null,null,null,null,null,{"$f":"IF(COUNT($A62:$AH62)>0,Export2!$C$3,\"\")","v":""},{"$f":"IF(COUNT($A62:$AH62)>0,Export2!$C$5,\"\")","v":""},{"$f":"IF(COUNT($A62:$AH62)>0,Export2!$C$7,\"\")","v":""},{"$f":"IF(COUNT($A62:$AH62)>0,Export2!$C$9,\"\")","v":""},{"$f":"IF(COUNT($A62:$AH62)>0,Export2!$C$11,\"\")","v":""}]

{"sheet":"B) Daten (Gruppen)","index":29,"n_rows":228,"n_cols":67,"rows_kept":228,"cut":false,"hidden":true,"merged":[[0,1,0,9],[0,10,0,18],[94,1,94,3]]}
[null,"Schüler-Urteil",null,null,null,null,null,null,null,null,"Lehrer-, Kollegen-Urteil"]
["Itemnr.","M","SD","Proz3_4","N","cat1","cat2","cat3","cat4",null,"M-Kolleg","SD-Kolleg","Proz34_kog","N_kog","cat1-kog","cat2-kog","cat3-kog","cat4-kog"]
[{"$f":"FragenErstellen!A7","v":1},{"$f":"IF(E3=0, #N/A,AVERAGE('B) Eingabe (Gruppen)'!C11:AH11))","v":{"$error":"#N/A"}},{"$f":"IF(E3<2, #N/A, STDEVP('B) Eingabe (Gruppen)'!C11:AH11))","v":{"$error":"#N/A"}},{"$f":"IF(E3<2, #N/A, 100*(H3+I3)/E3)","v":{"$error":"#N/A"}},{"$f":"COUNT('B) Eingabe (Gruppen)'!C11:AH11)","v":0},{"$f":"IF(E3<2,#N/A,COUNTIF('B) Eingabe (Gruppen)'!C11:AH11,1))","v":{"$error":"#N/A"}},{"$f":"IF(E3<2,#N/A,COUNTIF('B) Eingabe (Gruppen)'!C11:AH11,2))","v":{"$error":"#N/A"}},{"$f":"IF(E3<2,#N/A,COUNTIF('B) Eingabe (Gruppen)'!C11:AH11,3))","v":{"$error":"#N/A"}},{"$f":"IF(E3<2,#N/A,COUNTIF('B) Eingabe (Gruppen)'!C11:AH11,4))","v":{"$error":"#N/A"}},null,{"$f":"IF(N3=0, #N/A,AVERAGE('B) Eingabe (GruppenLehrer)'!C11:AH11))","v":{"$error":"#N/A"}},{"$f":"IF(N3<1, #N/A, STDEVP('B) Eingabe (GruppenLehrer)'!C11:AH11))","v":{"$error":"#N/A"}},{"$f":"IF(N3<1, #N/A, 100*(Q3+R3)/N3)","v":{"$error":"#N/A"}},{"$f":"COUNT('B) Eingabe (GruppenLehrer)'!C11:AH11)","v":0},{"$f":"IF(N3<1,#N/A,COUNTIF('B) Eingabe (GruppenLehrer)'!C11:AH11,1))","v":{"$error":"#N/A"}},{"$f":"IF(N3<1,#N/A,COUNTIF('B) Eingabe (GruppenLehrer)'!C11:AH11,2))","v":{"$error":"#N/A"}},{"$f":"IF(N3<1,#N/A,COUNTIF('B) Eingabe (GruppenLehrer)'!C11:AH11,3))","v":{"$error":"#N/A"}},{"$f":"IF(N3<1,#N/A,COUNTIF('B) Eingabe (GruppenLehrer)'!C11:AH11,4))","v":{"$error":"#N/A"}}]
[{"$f":"FragenErstellen!A8","v":2},{"$f":"IF(E4=0, #N/A,AVERAGE('B) Eingabe (Gruppen)'!C12:AH12))","v":{"$error":"#N/A"}},{"$f":"IF(E4<2, #N/A, STDEVP('B) Eingabe (Gruppen)'!C12:AH12))","v":{"$error":"#N/A"}},{"$f":"IF(E4<2, #N/A, 100*(H4+I4)/E4)","v":{"$error":"#N/A"}},{"$f":"COUNT('B) Eingabe (Gruppen)'!C12:AH12)","v":0},{"$f":"IF(E4<2,#N/A,COUNTIF('B) Eingabe (Gruppen)'!C12:AH12,1))","v":{"$error":"#N/A"}},{"$f":"IF(E4<2,#N/A,COUNTIF('B) Eingabe (Gruppen)'!C12:AH12,2))","v":{"$error":"#N/A"}},{"$f":"IF(E4<2,#N/A,COUNTIF('B) Eingabe (Gruppen)'!C12:AH12,3))","v":{"$error":"#N/A"}},{"$f":"IF(E4<2,#N/A,COUNTIF('B) Eingabe (Gruppen)'!C12:AH12,4))","v":{"$error":"#N/A"}},null,{"$f":"IF(N4=0, #N/A,AVERAGE('B) Eingabe (GruppenLehrer)'!C12:AH12))","v":{"$error":"#N/A"}},{"$f":"IF(N4<1, #N/A, STDEVP('B) Eingabe (GruppenLehrer)'!C12:AH12))","v":{"$error":"#N/A"}},{"$f":"IF(N4<1, #N/A, 100*(Q4+R4)/N4)","v":{"$error":"#N/A"}},{"$f":"COUNT('B) Eingabe (GruppenLehrer)'!C12:AH12)","v":0},{"$f":"IF(N4<1,#N/A,COUNTIF('B) Eingabe (GruppenLehrer)'!C12:AH12,1))","v":{"$error":"#N/A"}},{"$f":"IF(N4<1,#N/A,COUNTIF('B) Eingabe (GruppenLehrer)'!C12:AH12,2))","v":{"$error":"#N/A"}},{"$f":"IF(N4<1,#N/A,COUNTIF('B) Eingabe (GruppenLehrer)'!C12:AH12,3))","v":{"$error":"#N/A"}},{"$f":"IF(N4<1,#N/A,COUNTIF('B) Eingabe (GruppenLehrer)'!C12:AH12,4))","v":{"$error":"#N/A"}}]
[{"$f":"FragenErstellen!A9","v":3},{"$f":"IF(E5=0, #N/A,AVERAGE('B) Eingabe (Gruppen)'!C13:AH13))","v":{"$error":"#N/A"}},{"$f":"IF(E5<2, #N/A, STDEVP('B) Eingabe (Gruppen)'!C13:AH13))","v":{"$error":"#N/A"}},{"$error":"#N/A"},{"$f":"COUNT('B) Eingabe (Gruppen)'!C13:AH13)","v":0},{"$f":"IF(E5<2,#N/A,COUNTIF('B) Eingabe (Gruppen)'!C13:AH13,1))","v":{"$error":"#N/A"}},{"$f":"IF(E5<2,#N/A,COUNTIF('B) Eingabe (Gruppen)'!C13:AH13,2))","v":{"$error":"#N/A"}},{"$f":"IF(E5<2,#N/A,COUNTIF('B) Eingabe (Gruppen)'!C13:AH13,3))","v":{"$error":"#N/A"}},{"$f":"IF(E5<2,#N/A,COUNTIF('B) Eingabe (Gruppen)'!C13:AH13,4))","v":{"$error":"#N/A"}},null,{"$f":"IF(N5=0, #N/A,AVERAGE('B) Eingabe (GruppenLehrer)'!C13:AH13))","v":{"$error":"#N/A"}},{"$f":"IF(N5<1, #N/A, STDEVP('B) Eingabe (GruppenLehrer)'!C13:AH13))","v":{"$error":"#N/A"}},{"$error":"#N/A"},{"$f":"COUNT('B) Eingabe (GruppenLehrer)'!C13:AH13)","v":0},{"$f":"IF(N5<1,#N/A,COUNTIF('B) Eingabe (GruppenLehrer)'!C13:AH13,1))","v":{"$error":"#N/A"}},{"$f":"IF(N5<1,#N/A,COUNTIF('B) Eingabe (GruppenLehrer)'!C13:AH13,2))","v":{"$error":"#N/A"}},{"$f":"IF(N5<1,#N/A,COUNTIF('B) Eingabe (GruppenLehrer)'!C13:AH13,3))","v":{"$error":"#N/A"}},{"$f":"IF(N5<1,#N/A,COUNTIF('B) Eingabe (GruppenLehrer)'!C13:AH13,4))","v":{"$error":"#N/A"}}]
[{"$f":"FragenErstellen!A10","v":4},{"$f":"IF(E6=0, #N/A,AVERAGE('B) Eingabe (Gruppen)'!C14:AH14))","v":{"$error":"#N/A"}},{"$f":"IF(E6<2, #N/A, STDEVP('B) Eingabe (Gruppen)'!C14:AH14))","v":{"$error":"#N/A"}},{"$error":"#N/A"},{"$f":"COUNT('B) Eingabe (Gruppen)'!C14:AH14)","v":0},{"$f":"IF(E6<2,#N/A,COUNTIF('B) Eingabe (Gruppen)'!C14:AH14,1))","v":{"$error":"#N/A"}},{"$f":"IF(E6<2,#N/A,COUNTIF('B) Eingabe (Gruppen)'!C14:AH14,2))","v":{"$error":"#N/A"}},{"$f":"IF(E6<2,#N/A,COUNTIF('B) Eingabe (Gruppen)'!C14:AH14,3))","v":{"$error":"#N/A"}},{"$f":"IF(E6<2,#N/A,COUNTIF('B) Eingabe (Gruppen)'!C14:AH14,4))","v":{"$error":"#N/A"}},null,{"$f":"IF(N6=0, #N/A,AVERAGE('B) Eingabe (GruppenLehrer)'!C14:AH14))","v":{"$error":"#N/A"}},{"$f":"IF(N6<1, #N/A, STDEVP('B) Eingabe (GruppenLehrer)'!C14:AH14))","v":{"$error":"#N/A"}},{"$error":"#N/A"},{"$f":"COUNT('B) Eingabe (GruppenLehrer)'!C14:AH14)","v":0},{"$f":"IF(N6<1,#N/A,COUNTIF('B) Eingabe (GruppenLehrer)'!C14:AH14,1))","v":{"$error":"#N/A"}},{"$f":"IF(N6<1,#N/A,COUNTIF('B) Eingabe (GruppenLehrer)'!C14:AH14,2))","v":{"$error":"#N/A"}},{"$f":"IF(N6<1,#N/A,COUNTIF('B) Eingabe (GruppenLehrer)'!C14:AH14,3))","v":{"$error":"#N/A"}},{"$f":"IF(N6<1,#N/A,COUNTIF('B) Eingabe (GruppenLehrer)'!C14:AH14,4))","v":{"$error":"#N/A"}}]
[{"$f":"FragenErstellen!A11","v":5},{"$f":"IF(E7=0, #N/A,AVERAGE('B) Eingabe (Gruppen)'!C15:AH15))","v":{"$error":"#N/A"}},{"$f":"IF(E7<2, #N/A, STDEVP('B) Eingabe (Gruppen)'!C15:AH15))","v":{"$error":"#N/A"}},{"$error":"#N/A"},{"$f":"COUNT('B) Eingabe (Gruppen)'!C15:AH15)","v":0},{"$f":"IF(E7<2,#N/A,COUNTIF('B) Eingabe (Gruppen)'!C15:AH15,1))","v":{"$error":"#N/A"}},{"$f":"IF(E7<2,#N/A,COUNTIF('B) Eingabe (Gruppen)'!C15:AH15,2))","v":{"$error":"#N/A"}},{"$f":"IF(E7<2,#N/A,COUNTIF('B) Eingabe (Gruppen)'!C15:AH15,3))","v":{"$error":"#N/A"}},{"$f":"IF(E7<2,#N/A,COUNTIF('B) Eingabe (Gruppen)'!C15:AH15,4))","v":{"$error":"#N/A"}},null,{"$f":"IF(N7=0, #N/A,AVERAGE('B) Eingabe (GruppenLehrer)'!C15:AH15))","v":{"$error":"#N/A"}},{"$f":"IF(N7<1, #N/A, STDEVP('B) Eingabe (GruppenLehrer)'!C15:AH15))","v":{"$error":"#N/A"}},{"$error":"#N/A"},{"$f":"COUNT('B) Eingabe (GruppenLehrer)'!C15:AH15)","v":0},{"$f":"IF(N7<1,#N/A,COUNTIF('B) Eingabe (GruppenLehrer)'!C15:AH15,1))","v":{"$error":"#N/A"}},{"$f":"IF(N7<1,#N/A,COUNTIF('B) Eingabe (GruppenLehrer)'!C15:AH15,2))","v":{"$error":"#N/A"}},{"$f":"IF(N7<1,#N/A,COUNTIF('B) Eingabe (GruppenLehrer)'!C15:AH15,3))","v":{"$error":"#N/A"}},{"$f":"IF(N7<1,#N/A,COUNTIF('B) Eingabe (GruppenLehrer)'!C15:AH15,4))","v":{"$error":"#N/A"}}]
[{"$f":"FragenErstellen!A12","v":6},{"$f":"IF(E8=0, #N/A,AVERAGE('B) Eingabe (Gruppen)'!C16:AH16))","v":{"$error":"#N/A"}},{"$f":"IF(E8<2, #N/A, STDEVP('B) Eingabe (Gruppen)'!C16:AH16))","v":{"$error":"#N/A"}},{"$error":"#N/A"},{"$f":"COUNT('B) Eingabe (Gruppen)'!C16:AH16)","v":0},{"$f":"IF(E8<2,#N/A,COUNTIF('B) Eingabe (Gruppen)'!C16:AH16,1))","v":{"$error":"#N/A"}},{"$f":"IF(E8<2,#N/A,COUNTIF('B) Eingabe (Gruppen)'!C16:AH16,2))","v":{"$error":"#N/A"}},{"$f":"IF(E8<2,#N/A,COUNTIF('B) Eingabe (Gruppen)'!C16:AH16,3))","v":{"$error":"#N/A"}},{"$f":"IF(E8<2,#N/A,COUNTIF('B) Eingabe (Gruppen)'!C16:AH16,4))","v":{"$error":"#N/A"}},null,{"$f":"IF(N8=0, #N/A,AVERAGE('B) Eingabe (GruppenLehrer)'!C16:AH16))","v":{"$error":"#N/A"}},{"$f":"IF(N8<1, #N/A, STDEVP('B) Eingabe (GruppenLehrer)'!C16:AH16))","v":{"$error":"#N/A"}},{"$error":"#N/A"},{"$f":"COUNT('B) Eingabe (GruppenLehrer)'!C16:AH16)","v":0},{"$f":"IF(N8<1,#N/A,COUNTIF('B) Eingabe (GruppenLehrer)'!C16:AH16,1))","v":{"$error":"#N/A"}},{"$f":"IF(N8<1,#N/A,COUNTIF('B) Eingabe (GruppenLehrer)'!C16:AH16,2))","v":{"$error":"#N/A"}},{"$f":"IF(N8<1,#N/A,COUNTIF('B) Eingabe (GruppenLehrer)'!C16:AH16,3))","v":{"$error":"#N/A"}},{"$f":"IF(N8<1,#N/A,COUNTIF('B) Eingabe (GruppenLehrer)'!C16:AH16,4))","v":{"$error":"#N/A"}}]
[{"$f":"FragenErstellen!A13","v":7},{"$f":"IF(E9=0, #N/A,AVERAGE('B) Eingabe (Gruppen)'!C17:AH17))","v":{"$error":"#N/A"}},{"$f":"IF(E9<2, #N/A, STDEVP('B) Eingabe (Gruppen)'!C17:AH17))","v":{"$error":"#N/A"}},{"$error":"#N/A"},{"$f":"COUNT('B) Eingabe (Gruppen)'!C17:AH17)","v":0},{"$f":"IF(E9<2,#N/A,COUNTIF('B) Eingabe (Gruppen)'!C17:AH17,1))","v":{"$error":"#N/A"}},{"$f":"IF(E9<2,#N/A,COUNTIF('B) Eingabe (Gruppen)'!C17:AH17,2))","v":{"$error":"#N/A"}},{"$f":"IF(E9<2,#N/A,COUNTIF('B) Eingabe (Gruppen)'!C17:AH17,3))","v":{"$error":"#N/A"}},{"$f":"IF(E9<2,#N/A,COUNTIF('B) Eingabe (Gruppen)'!C17:AH17,4))","v":{"$error":"#N/A"}},null,{"$f":"IF(N9=0, #N/A,AVERAGE('B) Eingabe (GruppenLehrer)'!C17:AH17))","v":{"$error":"#N/A"}},{"$f":"IF(N9<1, #N/A, STDEVP('B) Eingabe (GruppenLehrer)'!C17:AH17))","v":{"$error":"#N/A"}},{"$error":"#N/A"},{"$f":"COUNT('B) Eingabe (GruppenLehrer)'!C17:AH17)","v":0},{"$f":"IF(N9<1,#N/A,COUNTIF('B) Eingabe (GruppenLehrer)'!C17:AH17,1))","v":{"$error":"#N/A"}},{"$f":"IF(N9<1,#N/A,COUNTIF('B) Eingabe (GruppenLehrer)'!C17:AH17,2))","v":{"$error":"#N/A"}},{"$f":"IF(N9<1,#N/A,COUNTIF('B) Eingabe (GruppenLehrer)'!C17:AH17,3))","v":{"$error":"#N/A"}},{"$f":"IF(N9<1,#N/A,COUNTIF('B) Eingabe (GruppenLehrer)'!C17:AH17,4))","v":{"$error":"#N/A"}}]
[{"$f":"FragenErstellen!A14","v":8},{"$f":"IF(E10=0, #N/A,AVERAGE('B) Eingabe (Gruppen)'!C18:AH18))","v":{"$error":"#N/A"}},{"$f":"IF(E10<2, #N/A, STDEVP('B) Eingabe (Gruppen)'!C18:AH18))","v":{"$error":"#N/A"}},{"$error":"#N/A"},{"$f":"COUNT('B) Eingabe (Gruppen)'!C18:AH18)","v":0},{"$f":"IF(E10<2,#N/A,COUNTIF('B) Eingabe (Gruppen)'!C18:AH18,1))","v":{"$error":"#N/A"}},{"$f":"IF(E10<2,#N/A,COUNTIF('B) Eingabe (Gruppen)'!C18:AH18,2))","v":{"$error":"#N/A"}},{"$f":"IF(E10<2,#N/A,COUNTIF('B) Eingabe (Gruppen)'!C18:AH18,3))","v":{"$error":"#N/A"}},{"$f":"IF(E10<2,#N/A,COUNTIF('B) Eingabe (Gruppen)'!C18:AH18,4))","v":{"$error":"#N/A"}},null,{"$f":"IF(N10=0, #N/A,AVERAGE('B) Eingabe (GruppenLehrer)'!C18:AH18))","v":{"$error":"#N/A"}},{"$f":"IF(N10<1, #N/A, STDEVP('B) Eingabe (GruppenLehrer)'!C18:AH18))","v":{"$error":"#N/A"}},{"$error":"#N/A"},{"$f":"COUNT('B) Eingabe (GruppenLehrer)'!C18:AH18)","v":0},{"$f":"IF(N10<1,#N/A,COUNTIF('B) Eingabe (GruppenLehrer)'!C18:AH18,1))","v":{"$error":"#N/A"}},{"$f":"IF(N10<1,#N/A,COUNTIF('B) Eingabe (GruppenLehrer)'!C18:AH18,2))","v":{"$error":"#N/A"}},{"$f":"IF(N10<1,#N/A,COUNTIF('B) Eingabe (GruppenLehrer)'!C18:AH18,3))","v":{"$error":"#N/A"}},{"$f":"IF(N10<1,#N/A,COUNTIF('B) Eingabe (GruppenLehrer)'!C18:AH18,4))","v":{"$error":"#N/A"}}]
[{"$f":"FragenErstellen!A15","v":9},{"$f":"IF(E11=0, #N/A,AVERAGE('B) Eingabe (Gruppen)'!C19:AH19))","v":{"$error":"#N/A"}},{"$f":"IF(E11<2, #N/A, STDEVP('B) Eingabe (Gruppen)'!C19:AH19))","v":{"$error":"#N/A"}},{"$error":"#N/A"},{"$f":"COUNT('B) Eingabe (Gruppen)'!C19:AH19)","v":0},{"$f":"IF(E11<2,#N/A,COUNTIF('B) Eingabe (Gruppen)'!C19:AH19,1))","v":{"$error":"#N/A"}},{"$f":"IF(E11<2,#N/A,COUNTIF('B) Eingabe (Gruppen)'!C19:AH19,2))","v":{"$error":"#N/A"}},{"$f":"IF(E11<2,#N/A,COUNTIF('B) Eingabe (Gruppen)'!C19:AH19,3))","v":{"$error":"#N/A"}},{"$f":"IF(E11<2,#N/A,COUNTIF('B) Eingabe (Gruppen)'!C19:AH19,4))","v":{"$error":"#N/A"}},null,{"$f":"IF(N11=0, #N/A,AVERAGE('B) Eingabe (GruppenLehrer)'!C19:AH19))","v":{"$error":"#N/A"}},{"$f":"IF(N11<1, #N/A, STDEVP('B) Eingabe (GruppenLehrer)'!C19:AH19))","v":{"$error":"#N/A"}},{"$error":"#N/A"},{"$f":"COUNT('B) Eingabe (GruppenLehrer)'!C19:AH19)","v":0},{"$f":"IF(N11<1,#N/A,COUNTIF('B) Eingabe (GruppenLehrer)'!C19:AH19,1))","v":{"$error":"#N/A"}},{"$f":"IF(N11<1,#N/A,COUNTIF('B) Eingabe (GruppenLehrer)'!C19:AH19,2))","v":{"$error":"#N/A"}},{"$f":"IF(N11<1,#N/A,COUNTIF('B) Eingabe (GruppenLehrer)'!C19:AH19,3))","v":{"$error":"#N/A"}},{"$f":"IF(N11<1,#N/A,COUNTIF('B) Eingabe (GruppenLehrer)'!C19:AH19,4))","v":{"$error":"#N/A"}}]
[{"$f":"FragenErstellen!A16","v":10},{"$f":"IF(E12=0, #N/A,AVERAGE('B) Eingabe (Gruppen)'!C20:AH20))","v":{"$error":"#N/A"}},{"$f":"IF(E12<2, #N/A, STDEVP('B) Eingabe (Gruppen)'!C20:AH20))","v":{"$error":"#N/A"}},{"$error":"#N/A"},{"$f":"COUNT('B) Eingabe (Gruppen)'!C20:AH20)","v":0},{"$f":"IF(E12<2,#N/A,COUNTIF('B) Eingabe (Gruppen)'!C20:AH20,1))","v":{"$error":"#N/A"}},{"$f":"IF(E12<2,#N/A,COUNTIF('B) Eingabe (Gruppen)'!C20:AH20,2))","v":{"$error":"#N/A"}},{"$f":"IF(E12<2,#N/A,COUNTIF('B) Eingabe (Gruppen)'!C20:AH20,3))","v":{"$error":"#N/A"}},{"$f":"IF(E12<2,#N/A,COUNTIF('B) Eingabe (Gruppen)'!C20:AH20,4))","v":{"$error":"#N/A"}},null,{"$f":"IF(N12=0, #N/A,AVERAGE('B) Eingabe (GruppenLehrer)'!C20:AH20))","v":{"$error":"#N/A"}},{"$f":"IF(N12<1, #N/A, STDEVP('B) Eingabe (GruppenLehrer)'!C20:AH20))","v":{"$error":"#N/A"}},{"$error":"#N/A"},{"$f":"COUNT('B) Eingabe (GruppenLehrer)'!C20:AH20)","v":0},{"$f":"IF(N12<1,#N/A,COUNTIF('B) Eingabe (GruppenLehrer)'!C20:AH20,1))","v":{"$error":"#N/A"}},{"$f":"IF(N12<1,#N/A,COUNTIF('B) Eingabe (GruppenLehrer)'!C20:AH20,2))","v":{"$error":"#N/A"}},{"$f":"IF(N12<1,#N/A,COUNTIF('B) Eingabe (GruppenLehrer)'!C20:AH20,3))","v":{"$error":"#N/A"}},{"$f":"IF(N12<1,#N/A,COUNTIF('B) Eingabe (GruppenLehrer)'!C20:AH20,4))","v":{"$error":"#N/A"}}]
[{"$f":"FragenErstellen!A17","v":11},{"$f":"IF(E13=0, #N/A,AVERAGE('B) Eingabe (Gruppen)'!C21:AH21))","v":{"$error":"#N/A"}},{"$f":"IF(E13<2, #N/A, STDEVP('B) Eingabe (Gruppen)'!C21:AH21))","v":{"$error":"#N/A"}},{"$error":"#N/A"},{"$f":"COUNT('B) Eingabe (Gruppen)'!C21:AH21)","v":0},{"$f":"IF(E13<2,#N/A,COUNTIF('B) Eingabe (Gruppen)'!C21:AH21,1))","v":{"$error":"#N/A"}},{"$f":"IF(E13<2,#N/A,COUNTIF('B) Eingabe (Gruppen)'!C21:AH21,2))","v":{"$error":"#N/A"}},{"$f":"IF(E13<2,#N/A,COUNTIF('B) Eingabe (Gruppen)'!C21:AH21,3))","v":{"$error":"#N/A"}},{"$f":"IF(E13<2,#N/A,COUNTIF('B) Eingabe (Gruppen)'!C21:AH21,4))","v":{"$error":"#N/A"}},null,{"$f":"IF(N13=0, #N/A,AVERAGE('B) Eingabe (GruppenLehrer)'!C21:AH21))","v":{"$error":"#N/A"}},{"$f":"IF(N13<1, #N/A, STDEVP('B) Eingabe (GruppenLehrer)'!C21:AH21))","v":{"$error":"#N/A"}},{"$error":"#N/A"},{"$f":"COUNT('B) Eingabe (GruppenLehrer)'!C21:AH21)","v":0},{"$f":"IF(N13<1,#N/A,COUNTIF('B) Eingabe (GruppenLehrer)'!C21:AH21,1))","v":{"$error":"#N/A"}},{"$f":"IF(N13<1,#N/A,COUNTIF('B) Eingabe (GruppenLehrer)'!C21:AH21,2))","v":{"$error":"#N/A"}},{"$f":"IF(N13<1,#N/A,COUNTIF('B) Eingabe (GruppenLehrer)'!C21:AH21,3))","v":{"$error":"#N/A"}},{"$f":"IF(N13<1,#N/A,COUNTIF('B) Eingabe (GruppenLehrer)'!C21:AH21,4))","v":{"$error":"#N/A"}}]
[{"$f":"FragenErstellen!A18","v":12},{"$f":"IF(E14=0, #N/A,AVERAGE('B) Eingabe (Gruppen)'!C22:AH22))","v":{"$error":"#N/A"}},{"$f":"IF(E14<2, #N/A, STDEVP('B) Eingabe (Gruppen)'!C22:AH22))","v":{"$error":"#N/A"}},{"$error":"#N/A"},{"$f":"COUNT('B) Eingabe (Gruppen)'!C22:AH22)","v":0},{"$f":"IF(E14<2,#N/A,COUNTIF('B) Eingabe (Gruppen)'!C22:AH22,1))","v":{"$error":"#N/A"}},{"$f":"IF(E14<2,#N/A,COUNTIF('B) Eingabe (Gruppen)'!C22:AH22,2))","v":{"$error":"#N/A"}},{"$f":"IF(E14<2,#N/A,COUNTIF('B) Eingabe (Gruppen)'!C22:AH22,3))","v":{"$error":"#N/A"}},{"$f":"IF(E14<2,#N/A,COUNTIF('B) Eingabe (Gruppen)'!C22:AH22,4))","v":{"$error":"#N/A"}},null,{"$f":"IF(N14=0, #N/A,AVERAGE('B) Eingabe (GruppenLehrer)'!C22:AH22))","v":{"$error":"#N/A"}},{"$f":"IF(N14<1, #N/A, STDEVP('B) Eingabe (GruppenLehrer)'!C22:AH22))","v":{"$error":"#N/A"}},{"$error":"#N/A"},{"$f":"COUNT('B) Eingabe (GruppenLehrer)'!C22:AH22)","v":0},{"$f":"IF(N14<1,#N/A,COUNTIF('B) Eingabe (GruppenLehrer)'!C22:AH22,1))","v":{"$error":"#N/A"}},{"$f":"IF(N14<1,#N/A,COUNTIF('B) Eingabe (GruppenLehrer)'!C22:AH22,2))","v":{"$error":"#N/A"}},{"$f":"IF(N14<1,#N/A,COUNTIF('B) Eingabe (GruppenLehrer)'!C22:AH22,3))","v":{"$error":"#N/A"}},{"$f":"IF(N14<1,#N/A,COUNTIF('B) Eingabe (GruppenLehrer)'!C22:AH22,4))","v":{"$error":"#N/A"}}]
[{"$f":"FragenErstellen!A19","v":13},{"$f":"IF(E15=0, #N/A,AVERAGE('B) Eingabe (Gruppen)'!C23:AH23))","v":{"$error":"#N/A"}},{"$f":"IF(E15<2, #N/A, STDEVP('B) Eingabe (Gruppen)'!C23:AH23))","v":{"$error":"#N/A"}},{"$error":"#N/A"},{"$f":"COUNT('B) Eingabe (Gruppen)'!C23:AH23)","v":0},{"$f":"IF(E15<2,#N/A,COUNTIF('B) Eingabe (Gruppen)'!C23:AH23,1))","v":{"$error":"#N/A"}},{"$f":"IF(E15<2,#N/A,COUNTIF('B) Eingabe (Gruppen)'!C23:AH23,2))","v":{"$error":"#N/A"}},{"$f":"IF(E15<2,#N/A,COUNTIF('B) Eingabe (Gruppen)'!C23:AH23,3))","v":{"$error":"#N/A"}},{"$f":"IF(E15<2,#N/A,COUNTIF('B) Eingabe (Gruppen)'!C23:AH23,4))","v":{"$error":"#N/A"}},null,{"$f":"IF(N15=0, #N/A,AVERAGE('B) Eingabe (GruppenLehrer)'!C23:AH23))","v":{"$error":"#N/A"}},{"$f":"IF(N15<1, #N/A, STDEVP('B) Eingabe (GruppenLehrer)'!C23:AH23))","v":{"$error":"#N/A"}},{"$error":"#N/A"},{"$f":"COUNT('B) Eingabe (GruppenLehrer)'!C23:AH23)","v":0},{"$f":"IF(N15<1,#N/A,COUNTIF('B) Eingabe (GruppenLehrer)'!C23:AH23,1))","v":{"$error":"#N/A"}},{"$f":"IF(N15<1,#N/A,COUNTIF('B) Eingabe (GruppenLehrer)'!C23:AH23,2))","v":{"$error":"#N/A"}},{"$f":"IF(N15<1,#N/A,COUNTIF('B) Eingabe (GruppenLehrer)'!C23:AH23,3))","v":{"$error":"#N/A"}},{"$f":"IF(N15<1,#N/A,COUNTIF('B) Eingabe (GruppenLehrer)'!C23:AH23,4))","v":{"$error":"#N/A"}}]
[{"$f":"FragenErstellen!A20","v":14},{"$f":"IF(E16=0, #N/A,AVERAGE('B) Eingabe (Gruppen)'!C24:AH24))","v":{"$error":"#N/A"}},{"$f":"IF(E16<2, #N/A, STDEVP('B) Eingabe (Gruppen)'!C24:AH24))","v":{"$error":"#N/A"}},{"$error":"#N/A"},{"$f":"COUNT('B) Eingabe (Gruppen)'!C24:AH24)","v":0},{"$f":"IF(E16<2,#N/A,COUNTIF('B) Eingabe (Gruppen)'!C24:AH24,1))","v":{"$error":"#N/A"}},{"$f":"IF(E16<2,#N/A,COUNTIF('B) Eingabe (Gruppen)'!C24:AH24,2))","v":{"$error":"#N/A"}},{"$f":"IF(E16<2,#N/A,COUNTIF('B) Eingabe (Gruppen)'!C24:AH24,3))","v":{"$error":"#N/A"}},{"$f":"IF(E16<2,#N/A,COUNTIF('B) Eingabe (Gruppen)'!C24:AH24,4))","v":{"$error":"#N/A"}},null,{"$f":"IF(N16=0, #N/A,AVERAGE('B) Eingabe (GruppenLehrer)'!C24:AH24))","v":{"$error":"#N/A"}},{"$f":"IF(N16<1, #N/A, STDEVP('B) Eingabe (GruppenLehrer)'!C24:AH24))","v":{"$error":"#N/A"}},{"$error":"#N/A"},{"$f":"COUNT('B) Eingabe (GruppenLehrer)'!C24:AH24)","v":0},{"$f":"IF(N16<1,#N/A,COUNTIF('B) Eingabe (GruppenLehrer)'!C24:AH24,1))","v":{"$error":"#N/A"}},{"$f":"IF(N16<1,#N/A,COUNTIF('B) Eingabe (GruppenLehrer)'!C24:AH24,2))","v":{"$error":"#N/A"}},{"$f":"IF(N16<1,#N/A,COUNTIF('B) Eingabe (GruppenLehrer)'!C24:AH24,3))","v":{"$error":"#N/A"}},{"$f":"IF(N16<1,#N/A,COUNTIF('B) Eingabe (GruppenLehrer)'!C24:AH24,4))","v":{"$error":"#N/A"}}]
[{"$f":"FragenErstellen!A21","v":15},{"$f":"IF(E17=0, #N/A,AVERAGE('B) Eingabe (Gruppen)'!C25:AH25))","v":{"$error":"#N/A"}},{"$f":"IF(E17<2, #N/A, STDEVP('B) Eingabe (Gruppen)'!C25:AH25))","v":{"$error":"#N/A"}},{"$error":"#N/A"},{"$f":"COUNT('B) Eingabe (Gruppen)'!C25:AH25)","v":0},{"$f":"IF(E17<2,#N/A,COUNTIF('B) Eingabe (Gruppen)'!C25:AH25,1))","v":{"$error":"#N/A"}},{"$f":"IF(E17<2,#N/A,COUNTIF('B) Eingabe (Gruppen)'!C25:AH25,2))","v":{"$error":"#N/A"}},{"$f":"IF(E17<2,#N/A,COUNTIF('B) Eingabe (Gruppen)'!C25:AH25,3))","v":{"$error":"#N/A"}},{"$f":"IF(E17<2,#N/A,COUNTIF('B) Eingabe (Gruppen)'!C25:AH25,4))","v":{"$error":"#N/A"}},null,{"$f":"IF(N17=0, #N/A,AVERAGE('B) Eingabe (GruppenLehrer)'!C25:AH25))","v":{"$error":"#N/A"}},{"$f":"IF(N17<1, #N/A, STDEVP('B) Eingabe (GruppenLehrer)'!C25:AH25))","v":{"$error":"#N/A"}},{"$error":"#N/A"},{"$f":"COUNT('B) Eingabe (GruppenLehrer)'!C25:AH25)","v":0},{"$f":"IF(N17<1,#N/A,COUNTIF('B) Eingabe (GruppenLehrer)'!C25:AH25,1))","v":{"$error":"#N/A"}},{"$f":"IF(N17<1,#N/A,COUNTIF('B) Eingabe (GruppenLehrer)'!C25:AH25,2))","v":{"$error":"#N/A"}},{"$f":"IF(N17<1,#N/A,COUNTIF('B) Eingabe (GruppenLehrer)'!C25:AH25,3))","v":{"$error":"#N/A"}},{"$f":"IF(N17<1,#N/A,COUNTIF('B) Eingabe (GruppenLehrer)'!C25:AH25,4))","v":{"$error":"#N/A"}}]
[{"$f":"FragenErstellen!A22","v":16},{"$f":"IF(E18=0, #N/A,AVERAGE('B) Eingabe (Gruppen)'!C26:AH26))","v":{"$error":"#N/A"}},{"$f":"IF(E18<2, #N/A, STDEVP('B) Eingabe (Gruppen)'!C26:AH26))","v":{"$error":"#N/A"}},{"$error":"#N/A"},{"$f":"COUNT('B) Eingabe (Gruppen)'!C26:AH26)","v":0},{"$f":"IF(E18<2,#N/A,COUNTIF('B) Eingabe (Gruppen)'!C26:AH26,1))","v":{"$error":"#N/A"}},{"$f":"IF(E18<2,#N/A,COUNTIF('B) Eingabe (Gruppen)'!C26:AH26,2))","v":{"$error":"#N/A"}},{"$f":"IF(E18<2,#N/A,COUNTIF('B) Eingabe (Gruppen)'!C26:AH26,3))","v":{"$error":"#N/A"}},{"$f":"IF(E18<2,#N/A,COUNTIF('B) Eingabe (Gruppen)'!C26:AH26,4))","v":{"$error":"#N/A"}},null,{"$f":"IF(N18=0, #N/A,AVERAGE('B) Eingabe (GruppenLehrer)'!C26:AH26))","v":{"$error":"#N/A"}},{"$f":"IF(N18<1, #N/A, STDEVP('B) Eingabe (GruppenLehrer)'!C26:AH26))","v":{"$error":"#N/A"}},{"$error":"#N/A"},{"$f":"COUNT('B) Eingabe (GruppenLehrer)'!C26:AH26)","v":0},{"$f":"IF(N18<1,#N/A,COUNTIF('B) Eingabe (GruppenLehrer)'!C26:AH26,1))","v":{"$error":"#N/A"}},{"$f":"IF(N18<1,#N/A,COUNTIF('B) Eingabe (GruppenLehrer)'!C26:AH26,2))","v":{"$error":"#N/A"}},{"$f":"IF(N18<1,#N/A,COUNTIF('B) Eingabe (GruppenLehrer)'!C26:AH26,3))","v":{"$error":"#N/A"}},{"$f":"IF(N18<1,#N/A,COUNTIF('B) Eingabe (GruppenLehrer)'!C26:AH26,4))","v":{"$error":"#N/A"}}]
[{"$f":"FragenErstellen!A23","v":17},{"$f":"IF(E19=0, #N/A,AVERAGE('B) Eingabe (Gruppen)'!C27:AH27))","v":{"$error":"#N/A"}},{"$f":"IF(E19<2, #N/A, STDEVP('B) Eingabe (Gruppen)'!C27:AH27))","v":{"$error":"#N/A"}},{"$error":"#N/A"},{"$f":"COUNT('B) Eingabe (Gruppen)'!C27:AH27)","v":0},{"$f":"IF(E19<2,#N/A,COUNTIF('B) Eingabe (Gruppen)'!C27:AH27,1))","v":{"$error":"#N/A"}},{"$f":"IF(E19<2,#N/A,COUNTIF('B) Eingabe (Gruppen)'!C27:AH27,2))","v":{"$error":"#N/A"}},{"$f":"IF(E19<2,#N/A,COUNTIF('B) Eingabe (Gruppen)'!C27:AH27,3))","v":{"$error":"#N/A"}},{"$f":"IF(E19<2,#N/A,COUNTIF('B) Eingabe (Gruppen)'!C27:AH27,4))","v":{"$error":"#N/A"}},null,{"$f":"IF(N19=0, #N/A,AVERAGE('B) Eingabe (GruppenLehrer)'!C27:AH27))","v":{"$error":"#N/A"}},{"$f":"IF(N19<1, #N/A, STDEVP('B) Eingabe (GruppenLehrer)'!C27:AH27))","v":{"$error":"#N/A"}},{"$error":"#N/A"},{"$f":"COUNT('B) Eingabe (GruppenLehrer)'!C27:AH27)","v":0},{"$f":"IF(N19<1,#N/A,COUNTIF('B) Eingabe (GruppenLehrer)'!C27:AH27,1))","v":{"$error":"#N/A"}},{"$f":"IF(N19<1,#N/A,COUNTIF('B) Eingabe (GruppenLehrer)'!C27:AH27,2))","v":{"$error":"#N/A"}},{"$f":"IF(N19<1,#N/A,COUNTIF('B) Eingabe (GruppenLehrer)'!C27:AH27,3))","v":{"$error":"#N/A"}},{"$f":"IF(N19<1,#N/A,COUNTIF('B) Eingabe (GruppenLehrer)'!C27:AH27,4))","v":{"$error":"#N/A"}}]
[{"$f":"FragenErstellen!A24","v":18},{"$f":"IF(E20=0, #N/A,AVERAGE('B) Eingabe (Gruppen)'!C28:AH28))","v":{"$error":"#N/A"}},{"$f":"IF(E20<2, #N/A, STDEVP('B) Eingabe (Gruppen)'!C28:AH28))","v":{"$error":"#N/A"}},{"$error":"#N/A"},{"$f":"COUNT('B) Eingabe (Gruppen)'!C28:AH28)","v":0},{"$f":"IF(E20<2,#N/A,COUNTIF('B) Eingabe (Gruppen)'!C28:AH28,1))","v":{"$error":"#N/A"}},{"$f":"IF(E20<2,#N/A,COUNTIF('B) Eingabe (Gruppen)'!C28:AH28,2))","v":{"$error":"#N/A"}},{"$f":"IF(E20<2,#N/A,COUNTIF('B) Eingabe (Gruppen)'!C28:AH28,3))","v":{"$error":"#N/A"}},{"$f":"IF(E20<2,#N/A,COUNTIF('B) Eingabe (Gruppen)'!C28:AH28,4))","v":{"$error":"#N/A"}},null,{"$f":"IF(N20=0, #N/A,AVERAGE('B) Eingabe (GruppenLehrer)'!C28:AH28))","v":{"$error":"#N/A"}},{"$f":"IF(N20<1, #N/A, STDEVP('B) Eingabe (GruppenLehrer)'!C28:AH28))","v":{"$error":"#N/A"}},{"$error":"#N/A"},{"$f":"COUNT('B) Eingabe (GruppenLehrer)'!C28:AH28)","v":0},{"$f":"IF(N20<1,#N/A,COUNTIF('B) Eingabe (GruppenLehrer)'!C28:AH28,1))","v":{"$error":"#N/A"}},{"$f":"IF(N20<1,#N/A,COUNTIF('B) Eingabe (GruppenLehrer)'!C28:AH28,2))","v":{"$error":"#N/A"}},{"$f":"IF(N20<1,#N/A,COUNTIF('B) Eingabe (GruppenLehrer)'!C28:AH28,3))","v":{"$error":"#N/A"}},{"$f":"IF(N20<1,#N/A,COUNTIF('B) Eingabe (GruppenLehrer)'!C28:AH28,4))","v":{"$error":"#N/A"}}]
[{"$f":"FragenErstellen!A25","v":19},{"$f":"IF(E21=0, #N/A,AVERAGE('B) Eingabe (Gruppen)'!C29:AH29))","v":{"$error":"#N/A"}},{"$f":"IF(E21<2, #N/A, STDEVP('B) Eingabe (Gruppen)'!C29:AH29))","v":{"$error":"#N/A"}},{"$error":"#N/A"},{"$f":"COUNT('B) Eingabe (Gruppen)'!C29:AH29)","v":0},{"$f":"IF(E21<2,#N/A,COUNTIF('B) Eingabe (Gruppen)'!C29:AH29,1))","v":{"$error":"#N/A"}},{"$f":"IF(E21<2,#N/A,COUNTIF('B) Eingabe (Gruppen)'!C29:AH29,2))","v":{"$error":"#N/A"}},{"$f":"IF(E21<2,#N/A,COUNTIF('B) Eingabe (Gruppen)'!C29:AH29,3))","v":{"$error":"#N/A"}},{"$f":"IF(E21<2,#N/A,COUNTIF('B) Eingabe (Gruppen)'!C29:AH29,4))","v":{"$error":"#N/A"}},null,{"$f":"IF(N21=0, #N/A,AVERAGE('B) Eingabe (GruppenLehrer)'!C29:AH29))","v":{"$error":"#N/A"}},{"$f":"IF(N21<1, #N/A, STDEVP('B) Eingabe (GruppenLehrer)'!C29:AH29))","v":{"$error":"#N/A"}},{"$error":"#N/A"},{"$f":"COUNT('B) Eingabe (GruppenLehrer)'!C29:AH29)","v":0},{"$f":"IF(N21<1,#N/A,COUNTIF('B) Eingabe (GruppenLehrer)'!C29:AH29,1))","v":{"$error":"#N/A"}},{"$f":"IF(N21<1,#N/A,COUNTIF('B) Eingabe (GruppenLehrer)'!C29:AH29,2))","v":{"$error":"#N/A"}},{"$f":"IF(N21<1,#N/A,COUNTIF('B) Eingabe (GruppenLehrer)'!C29:AH29,3))","v":{"$error":"#N/A"}},{"$f":"IF(N21<1,#N/A,COUNTIF('B) Eingabe (GruppenLehrer)'!C29:AH29,4))","v":{"$error":"#N/A"}}]
[{"$f":"FragenErstellen!A26","v":20},{"$f":"IF(E22=0, #N/A,AVERAGE('B) Eingabe (Gruppen)'!C30:AH30))","v":{"$error":"#N/A"}},{"$f":"IF(E22<2, #N/A, STDEVP('B) Eingabe (Gruppen)'!C30:AH30))","v":{"$error":"#N/A"}},{"$error":"#N/A"},{"$f":"COUNT('B) Eingabe (Gruppen)'!C30:AH30)","v":0},{"$f":"IF(E22<2,#N/A,COUNTIF('B) Eingabe (Gruppen)'!C30:AH30,1))","v":{"$error":"#N/A"}},{"$f":"IF(E22<2,#N/A,COUNTIF('B) Eingabe (Gruppen)'!C30:AH30,2))","v":{"$error":"#N/A"}},{"$f":"IF(E22<2,#N/A,COUNTIF('B) Eingabe (Gruppen)'!C30:AH30,3))","v":{"$error":"#N/A"}},{"$f":"IF(E22<2,#N/A,COUNTIF('B) Eingabe (Gruppen)'!C30:AH30,4))","v":{"$error":"#N/A"}},null,{"$f":"IF(N22=0, #N/A,AVERAGE('B) Eingabe (GruppenLehrer)'!C30:AH30))","v":{"$error":"#N/A"}},{"$f":"IF(N22<1, #N/A, STDEVP('B) Eingabe (GruppenLehrer)'!C30:AH30))","v":{"$error":"#N/A"}},{"$error":"#N/A"},{"$f":"COUNT('B) Eingabe (GruppenLehrer)'!C30:AH30)","v":0},{"$f":"IF(N22<1,#N/A,COUNTIF('B) Eingabe (GruppenLehrer)'!C30:AH30,1))","v":{"$error":"#N/A"}},{"$f":"IF(N22<1,#N/A,COUNTIF('B) Eingabe (GruppenLehrer)'!C30:AH30,2))","v":{"$error":"#N/A"}},{"$f":"IF(N22<1,#N/A,COUNTIF('B) Eingabe (GruppenLehrer)'!C30:AH30,3))","v":{"$error":"#N/A"}},{"$f":"IF(N22<1,#N/A,COUNTIF('B) Eingabe (GruppenLehrer)'!C30:AH30,4))","v":{"$error":"#N/A"}}]
[{"$f":"FragenErstellen!A27","v":21},{"$f":"IF(E23=0, #N/A,AVERAGE('B) Eingabe (Gruppen)'!C31:AH31))","v":{"$error":"#N/A"}},{"$f":"IF(E23<2, #N/A, STDEVP('B) Eingabe (Gruppen)'!C31:AH31))","v":{"$error":"#N/A"}},{"$error":"#N/A"},{"$f":"COUNT('B) Eingabe (Gruppen)'!C31:AH31)","v":0},{"$f":"IF(E23<2,#N/A,COUNTIF('B) Eingabe (Gruppen)'!C31:AH31,1))","v":{"$error":"#N/A"}},{"$f":"IF(E23<2,#N/A,COUNTIF('B) Eingabe (Gruppen)'!C31:AH31,2))","v":{"$error":"#N/A"}},{"$f":"IF(E23<2,#N/A,COUNTIF('B) Eingabe (Gruppen)'!C31:AH31,3))","v":{"$error":"#N/A"}},{"$f":"IF(E23<2,#N/A,COUNTIF('B) Eingabe (Gruppen)'!C31:AH31,4))","v":{"$error":"#N/A"}},null,{"$f":"IF(N23=0, #N/A,AVERAGE('B) Eingabe (GruppenLehrer)'!C31:AH31))","v":{"$error":"#N/A"}},{"$f":"IF(N23<1, #N/A, STDEVP('B) Eingabe (GruppenLehrer)'!C31:AH31))","v":{"$error":"#N/A"}},{"$error":"#N/A"},{"$f":"COUNT('B) Eingabe (GruppenLehrer)'!C31:AH31)","v":0},{"$f":"IF(N23<1,#N/A,COUNTIF('B) Eingabe (GruppenLehrer)'!C31:AH31,1))","v":{"$error":"#N/A"}},{"$f":"IF(N23<1,#N/A,COUNTIF('B) Eingabe (GruppenLehrer)'!C31:AH31,2))","v":{"$error":"#N/A"}},{"$f":"IF(N23<1,#N/A,COUNTIF('B) Eingabe (GruppenLehrer)'!C31:AH31,3))","v":{"$error":"#N/A"}},{"$f":"IF(N23<1,#N/A,COUNTIF('B) Eingabe (GruppenLehrer)'!C31:AH31,4))","v":{"$error":"#N/A"}}]
[{"$f":"FragenErstellen!A28","v":22},{"$f":"IF(E24=0, #N/A,AVERAGE('B) Eingabe (Gruppen)'!C32:AH32))","v":{"$error":"#N/A"}},{"$f":"IF(E24<2, #N/A, STDEVP('B) Eingabe (Gruppen)'!C32:AH32))","v":{"$error":"#N/A"}},{"$error":"#N/A"},{"$f":"COUNT('B) Eingabe (Gruppen)'!C32:AH32)","v":0},{"$f":"IF(E24<2,#N/A,COUNTIF('B) Eingabe (Gruppen)'!C32:AH32,1))","v":{"$error":"#N/A"}},{"$f":"IF(E24<2,#N/A,COUNTIF('B) Eingabe (Gruppen)'!C32:AH32,2))","v":{"$error":"#N/A"}},{"$f":"IF(E24<2,#N/A,COUNTIF('B) Eingabe (Gruppen)'!C32:AH32,3))","v":{"$error":"#N/A"}},{"$f":"IF(E24<2,#N/A,COUNTIF('B) Eingabe (Gruppen)'!C32:AH32,4))","v":{"$error":"#N/A"}},null,{"$f":"IF(N24=0, #N/A,AVERAGE('B) Eingabe (GruppenLehrer)'!C32:AH32))","v":{"$error":"#N/A"}},{"$f":"IF(N24<1, #N/A, STDEVP('B) Eingabe (GruppenLehrer)'!C32:AH32))","v":{"$error":"#N/A"}},{"$error":"#N/A"},{"$f":"COUNT('B) Eingabe (GruppenLehrer)'!C32:AH32)","v":0},{"$f":"IF(N24<1,#N/A,COUNTIF('B) Eingabe (GruppenLehrer)'!C32:AH32,1))","v":{"$error":"#N/A"}},{"$f":"IF(N24<1,#N/A,COUNTIF('B) Eingabe (GruppenLehrer)'!C32:AH32,2))","v":{"$error":"#N/A"}},{"$f":"IF(N24<1,#N/A,COUNTIF('B) Eingabe (GruppenLehrer)'!C32:AH32,3))","v":{"$error":"#N/A"}},{"$f":"IF(N24<1,#N/A,COUNTIF('B) Eingabe (GruppenLehrer)'!C32:AH32,4))","v":{"$error":"#N/A"}}]
[{"$f":"FragenErstellen!A29","v":23},{"$f":"IF(E25=0, #N/A,AVERAGE('B) Eingabe (Gruppen)'!C33:AH33))","v":{"$error":"#N/A"}},{"$f":"IF(E25<2, #N/A, STDEVP('B) Eingabe (Gruppen)'!C33:AH33))","v":{"$error":"#N/A"}},{"$error":"#N/A"},{"$f":"COUNT('B) Eingabe (Gruppen)'!C33:AH33)","v":0},{"$f":"IF(E25<2,#N/A,COUNTIF('B) Eingabe (Gruppen)'!C33:AH33,1))","v":{"$error":"#N/A"}},{"$f":"IF(E25<2,#N/A,COUNTIF('B) Eingabe (Gruppen)'!C33:AH33,2))","v":{"$error":"#N/A"}},{"$f":"IF(E25<2,#N/A,COUNTIF('B) Eingabe (Gruppen)'!C33:AH33,3))","v":{"$error":"#N/A"}},{"$f":"IF(E25<2,#N/A,COUNTIF('B) Eingabe (Gruppen)'!C33:AH33,4))","v":{"$error":"#N/A"}},null,{"$f":"IF(N25=0, #N/A,AVERAGE('B) Eingabe (GruppenLehrer)'!C33:AH33))","v":{"$error":"#N/A"}},{"$f":"IF(N25<1, #N/A, STDEVP('B) Eingabe (GruppenLehrer)'!C33:AH33))","v":{"$error":"#N/A"}},{"$error":"#N/A"},{"$f":"COUNT('B) Eingabe (GruppenLehrer)'!C33:AH33)","v":0},{"$f":"IF(N25<1,#N/A,COUNTIF('B) Eingabe (GruppenLehrer)'!C33:AH33,1))","v":{"$error":"#N/A"}},{"$f":"IF(N25<1,#N/A,COUNTIF('B) Eingabe (GruppenLehrer)'!C33:AH33,2))","v":{"$error":"#N/A"}},{"$f":"IF(N25<1,#N/A,COUNTIF('B) Eingabe (GruppenLehrer)'!C33:AH33,3))","v":{"$error":"#N/A"}},{"$f":"IF(N25<1,#N/A,COUNTIF('B) Eingabe (GruppenLehrer)'!C33:AH33,4))","v":{"$error":"#N/A"}}]
[{"$f":"FragenErstellen!A30","v":24},{"$f":"IF(E26=0, #N/A,AVERAGE('B) Eingabe (Gruppen)'!C34:AH34))","v":{"$error":"#N/A"}},{"$f":"IF(E26<2, #N/A, STDEVP('B) Eingabe (Gruppen)'!C34:AH34))","v":{"$error":"#N/A"}},{"$error":"#N/A"},{"$f":"COUNT('B) Eingabe (Gruppen)'!C34:AH34)","v":0},{"$f":"IF(E26<2,#N/A,COUNTIF('B) Eingabe (Gruppen)'!C34:AH34,1))","v":{"$error":"#N/A"}},{"$f":"IF(E26<2,#N/A,COUNTIF('B) Eingabe (Gruppen)'!C34:AH34,2))","v":{"$error":"#N/A"}},{"$f":"IF(E26<2,#N/A,COUNTIF('B) Eingabe (Gruppen)'!C34:AH34,3))","v":{"$error":"#N/A"}},{"$f":"IF(E26<2,#N/A,COUNTIF('B) Eingabe (Gruppen)'!C34:AH34,4))","v":{"$error":"#N/A"}},null,{"$f":"IF(N26=0, #N/A,AVERAGE('B) Eingabe (GruppenLehrer)'!C34:AH34))","v":{"$error":"#N/A"}},{"$f":"IF(N26<1, #N/A, STDEVP('B) Eingabe (GruppenLehrer)'!C34:AH34))","v":{"$error":"#N/A"}},{"$error":"#N/A"},{"$f":"COUNT('B) Eingabe (GruppenLehrer)'!C34:AH34)","v":0},{"$f":"IF(N26<1,#N/A,COUNTIF('B) Eingabe (GruppenLehrer)'!C34:AH34,1))","v":{"$error":"#N/A"}},{"$f":"IF(N26<1,#N/A,COUNTIF('B) Eingabe (GruppenLehrer)'!C34:AH34,2))","v":{"$error":"#N/A"}},{"$f":"IF(N26<1,#N/A,COUNTIF('B) Eingabe (GruppenLehrer)'!C34:AH34,3))","v":{"$error":"#N/A"}},{"$f":"IF(N26<1,#N/A,COUNTIF('B) Eingabe (GruppenLehrer)'!C34:AH34,4))","v":{"$error":"#N/A"}}]
[{"$f":"FragenErstellen!A31","v":25},{"$f":"IF(E27=0, #N/A,AVERAGE('B) Eingabe (Gruppen)'!C35:AH35))","v":{"$error":"#N/A"}},{"$f":"IF(E27<2, #N/A, STDEVP('B) Eingabe (Gruppen)'!C35:AH35))","v":{"$error":"#N/A"}},{"$error":"#N/A"},{"$f":"COUNT('B) Eingabe (Gruppen)'!C35:AH35)","v":0},{"$f":"IF(E27<2,#N/A,COUNTIF('B) Eingabe (Gruppen)'!C35:AH35,1))","v":{"$error":"#N/A"}},{"$f":"IF(E27<2,#N/A,COUNTIF('B) Eingabe (Gruppen)'!C35:AH35,2))","v":{"$error":"#N/A"}},{"$f":"IF(E27<2,#N/A,COUNTIF('B) Eingabe (Gruppen)'!C35:AH35,3))","v":{"$error":"#N/A"}},{"$f":"IF(E27<2,#N/A,COUNTIF('B) Eingabe (Gruppen)'!C35:AH35,4))","v":{"$error":"#N/A"}},null,{"$f":"IF(N27=0, #N/A,AVERAGE('B) Eingabe (GruppenLehrer)'!C35:AH35))","v":{"$error":"#N/A"}},{"$f":"IF(N27<1, #N/A, STDEVP('B) Eingabe (GruppenLehrer)'!C35:AH35))","v":{"$error":"#N/A"}},{"$error":"#N/A"},{"$f":"COUNT('B) Eingabe (GruppenLehrer)'!C35:AH35)","v":0},{"$f":"IF(N27<1,#N/A,COUNTIF('B) Eingabe (GruppenLehrer)'!C35:AH35,1))","v":{"$error":"#N/A"}},{"$f":"IF(N27<1,#N/A,COUNTIF('B) Eingabe (GruppenLehrer)'!C35:AH35,2))","v":{"$error":"#N/A"}},{"$f":"IF(N27<1,#N/A,COUNTIF('B) Eingabe (GruppenLehrer)'!C35:AH35,3))","v":{"$error":"#N/A"}},{"$f":"IF(N27<1,#N/A,COUNTIF('B) Eingabe (GruppenLehrer)'!C35:AH35,4))","v":{"$error":"#N/A"}}]
[{"$f":"FragenErstellen!A32","v":26},{"$f":"IF(E28=0, #N/A,AVERAGE('B) Eingabe (Gruppen)'!C36:AH36))","v":{"$error":"#N/A"}},{"$f":"IF(E28<2, #N/A, STDEVP('B) Eingabe (Gruppen)'!C36:AH36))","v":{"$error":"#N/A"}},{"$error":"#N/A"},{"$f":"COUNT('B) Eingabe (Gruppen)'!C36:AH36)","v":0},{"$f":"IF(E28<2,#N/A,COUNTIF('B) Eingabe (Gruppen)'!C36:AH36,1))","v":{"$error":"#N/A"}},{"$f":"IF(E28<2,#N/A,COUNTIF('B) Eingabe (Gruppen)'!C36:AH36,2))","v":{"$error":"#N/A"}},{"$f":"IF(E28<2,#N/A,COUNTIF('B) Eingabe (Gruppen)'!C36:AH36,3))","v":{"$error":"#N/A"}},{"$f":"IF(E28<2,#N/A,COUNTIF('B) Eingabe (Gruppen)'!C36:AH36,4))","v":{"$error":"#N/A"}},null,{"$f":"IF(N28=0, #N/A,AVERAGE('B) Eingabe (GruppenLehrer)'!C36:AH36))","v":{"$error":"#N/A"}},{"$f":"IF(N28<1, #N/A, STDEVP('B) Eingabe (GruppenLehrer)'!C36:AH36))","v":{"$error":"#N/A"}},{"$error":"#N/A"},{"$f":"COUNT('B) Eingabe (GruppenLehrer)'!C36:AH36)","v":0},{"$f":"IF(N28<1,#N/A,COUNTIF('B) Eingabe (GruppenLehrer)'!C36:AH36,1))","v":{"$error":"#N/A"}},{"$f":"IF(N28<1,#N/A,COUNTIF('B) Eingabe (GruppenLehrer)'!C36:AH36,2))","v":{"$error":"#N/A"}},{"$f":"IF(N28<1,#N/A,COUNTIF('B) Eingabe (GruppenLehrer)'!C36:AH36,3))","v":{"$error":"#N/A"}},{"$f":"IF(N28<1,#N/A,COUNTIF('B) Eingabe (GruppenLehrer)'!C36:AH36,4))","v":{"$error":"#N/A"}}]
[{"$f":"FragenErstellen!A33","v":27},{"$f":"IF(E29=0, #N/A,AVERAGE('B) Eingabe (Gruppen)'!C37:AH37))","v":{"$error":"#N/A"}},{"$f":"IF(E29<2, #N/A, STDEVP('B) Eingabe (Gruppen)'!C37:AH37))","v":{"$error":"#N/A"}},{"$error":"#N/A"},{"$f":"COUNT('B) Eingabe (Gruppen)'!C37:AH37)","v":0},{"$f":"IF(E29<2,#N/A,COUNTIF('B) Eingabe (Gruppen)'!C37:AH37,1))","v":{"$error":"#N/A"}},{"$f":"IF(E29<2,#N/A,COUNTIF('B) Eingabe (Gruppen)'!C37:AH37,2))","v":{"$error":"#N/A"}},{"$f":"IF(E29<2,#N/A,COUNTIF('B) Eingabe (Gruppen)'!C37:AH37,3))","v":{"$error":"#N/A"}},{"$f":"IF(E29<2,#N/A,COUNTIF('B) Eingabe (Gruppen)'!C37:AH37,4))","v":{"$error":"#N/A"}},null,{"$f":"IF(N29=0, #N/A,AVERAGE('B) Eingabe (GruppenLehrer)'!C37:AH37))","v":{"$error":"#N/A"}},{"$f":"IF(N29<1, #N/A, STDEVP('B) Eingabe (GruppenLehrer)'!C37:AH37))","v":{"$error":"#N/A"}},{"$error":"#N/A"},{"$f":"COUNT('B) Eingabe (GruppenLehrer)'!C37:AH37)","v":0},{"$f":"IF(N29<1,#N/A,COUNTIF('B) Eingabe (GruppenLehrer)'!C37:AH37,1))","v":{"$error":"#N/A"}},{"$f":"IF(N29<1,#N/A,COUNTIF('B) Eingabe (GruppenLehrer)'!C37:AH37,2))","v":{"$error":"#N/A"}},{"$f":"IF(N29<1,#N/A,COUNTIF('B) Eingabe (GruppenLehrer)'!C37:AH37,3))","v":{"$error":"#N/A"}},{"$f":"IF(N29<1,#N/A,COUNTIF('B) Eingabe (GruppenLehrer)'!C37:AH37,4))","v":{"$error":"#N/A"}}]
[{"$f":"FragenErstellen!A34","v":28},{"$f":"IF(E30=0, #N/A,AVERAGE('B) Eingabe (Gruppen)'!C38:AH38))","v":{"$error":"#N/A"}},{"$f":"IF(E30<2, #N/A, STDEVP('B) Eingabe (Gruppen)'!C38:AH38))","v":{"$error":"#N/A"}},{"$error":"#N/A"},{"$f":"COUNT('B) Eingabe (Gruppen)'!C38:AH38)","v":0},{"$f":"IF(E30<2,#N/A,COUNTIF('B) Eingabe (Gruppen)'!C38:AH38,1))","v":{"$error":"#N/A"}},{"$f":"IF(E30<2,#N/A,COUNTIF('B) Eingabe (Gruppen)'!C38:AH38,2))","v":{"$error":"#N/A"}},{"$f":"IF(E30<2,#N/A,COUNTIF('B) Eingabe (Gruppen)'!C38:AH38,3))","v":{"$error":"#N/A"}},{"$f":"IF(E30<2,#N/A,COUNTIF('B) Eingabe (Gruppen)'!C38:AH38,4))","v":{"$error":"#N/A"}},null,{"$f":"IF(N30=0, #N/A,AVERAGE('B) Eingabe (GruppenLehrer)'!C38:AH38))","v":{"$error":"#N/A"}},{"$f":"IF(N30<1, #N/A, STDEVP('B) Eingabe (GruppenLehrer)'!C38:AH38))","v":{"$error":"#N/A"}},{"$error":"#N/A"},{"$f":"COUNT('B) Eingabe (GruppenLehrer)'!C38:AH38)","v":0},{"$f":"IF(N30<1,#N/A,COUNTIF('B) Eingabe (GruppenLehrer)'!C38:AH38,1))","v":{"$error":"#N/A"}},{"$f":"IF(N30<1,#N/A,COUNTIF('B) Eingabe (GruppenLehrer)'!C38:AH38,2))","v":{"$error":"#N/A"}},{"$f":"IF(N30<1,#N/A,COUNTIF('B) Eingabe (GruppenLehrer)'!C38:AH38,3))","v":{"$error":"#N/A"}},{"$f":"IF(N30<1,#N/A,COUNTIF('B) Eingabe (GruppenLehrer)'!C38:AH38,4))","v":{"$error":"#N/A"}}]
[{"$f":"FragenErstellen!A35","v":29},{"$f":"IF(E31=0, #N/A,AVERAGE('B) Eingabe (Gruppen)'!C39:AH39))","v":{"$error":"#N/A"}},{"$f":"IF(E31<2, #N/A, STDEVP('B) Eingabe (Gruppen)'!C39:AH39))","v":{"$error":"#N/A"}},{"$error":"#N/A"},{"$f":"COUNT('B) Eingabe (Gruppen)'!C39:AH39)","v":0},{"$f":"IF(E31<2,#N/A,COUNTIF('B) Eingabe (Gruppen)'!C39:AH39,1))","v":{"$error":"#N/A"}},{"$f":"IF(E31<2,#N/A,COUNTIF('B) Eingabe (Gruppen)'!C39:AH39,2))","v":{"$error":"#N/A"}},{"$f":"IF(E31<2,#N/A,COUNTIF('B) Eingabe (Gruppen)'!C39:AH39,3))","v":{"$error":"#N/A"}},{"$f":"IF(E31<2,#N/A,COUNTIF('B) Eingabe (Gruppen)'!C39:AH39,4))","v":{"$error":"#N/A"}},null,{"$f":"IF(N31=0, #N/A,AVERAGE('B) Eingabe (GruppenLehrer)'!C39:AH39))","v":{"$error":"#N/A"}},{"$f":"IF(N31<1, #N/A, STDEVP('B) Eingabe (GruppenLehrer)'!C39:AH39))","v":{"$error":"#N/A"}},{"$error":"#N/A"},{"$f":"COUNT('B) Eingabe (GruppenLehrer)'!C39:AH39)","v":0},{"$f":"IF(N31<1,#N/A,COUNTIF('B) Eingabe (GruppenLehrer)'!C39:AH39,1))","v":{"$error":"#N/A"}},{"$f":"IF(N31<1,#N/A,COUNTIF('B) Eingabe (GruppenLehrer)'!C39:AH39,2))","v":{"$error":"#N/A"}},{"$f":"IF(N31<1,#N/A,COUNTIF('B) Eingabe (GruppenLehrer)'!C39:AH39,3))","v":{"$error":"#N/A"}},{"$f":"IF(N31<1,#N/A,COUNTIF('B) Eingabe (GruppenLehrer)'!C39:AH39,4))","v":{"$error":"#N/A"}}]
[{"$f":"FragenErstellen!A36","v":30},{"$f":"IF(E32=0, #N/A,AVERAGE('B) Eingabe (Gruppen)'!C40:AH40))","v":{"$error":"#N/A"}},{"$f":"IF(E32<2, #N/A, STDEVP('B) Eingabe (Gruppen)'!C40:AH40))","v":{"$error":"#N/A"}},{"$error":"#N/A"},{"$f":"COUNT('B) Eingabe (Gruppen)'!C40:AH40)","v":0},{"$f":"IF(E32<2,#N/A,COUNTIF('B) Eingabe (Gruppen)'!C40:AH40,1))","v":{"$error":"#N/A"}},{"$f":"IF(E32<2,#N/A,COUNTIF('B) Eingabe (Gruppen)'!C40:AH40,2))","v":{"$error":"#N/A"}},{"$f":"IF(E32<2,#N/A,COUNTIF('B) Eingabe (Gruppen)'!C40:AH40,3))","v":{"$error":"#N/A"}},{"$f":"IF(E32<2,#N/A,COUNTIF('B) Eingabe (Gruppen)'!C40:AH40,4))","v":{"$error":"#N/A"}},null,{"$f":"IF(N32=0, #N/A,AVERAGE('B) Eingabe (GruppenLehrer)'!C40:AH40))","v":{"$error":"#N/A"}},{"$f":"IF(N32<1, #N/A, STDEVP('B) Eingabe (GruppenLehrer)'!C40:AH40))","v":{"$error":"#N/A"}},{"$error":"#N/A"},{"$f":"COUNT('B) Eingabe (GruppenLehrer)'!C40:AH40)","v":0},{"$f":"IF(N32<1,#N/A,COUNTIF('B) Eingabe (GruppenLehrer)'!C40:AH40,1))","v":{"$error":"#N/A"}},{"$f":"IF(N32<1,#N/A,COUNTIF('B) Eingabe (GruppenLehrer)'!C40:AH40,2))","v":{"$error":"#N/A"}},{"$f":"IF(N32<1,#N/A,COUNTIF('B) Eingabe (GruppenLehrer)'!C40:AH40,3))","v":{"$error":"#N/A"}},{"$f":"IF(N32<1,#N/A,COUNTIF('B) Eingabe (GruppenLehrer)'!C40:AH40,4))","v":{"$error":"#N/A"}}]
[{"$f":"FragenErstellen!A37","v":31},{"$f":"IF(E33=0, #N/A,AVERAGE('B) Eingabe (Gruppen)'!C41:AH41))","v":{"$error":"#N/A"}},{"$f":"IF(E33<2, #N/A, STDEVP('B) Eingabe (Gruppen)'!C41:AH41))","v":{"$error":"#N/A"}},{"$error":"#N/A"},{"$f":"COUNT('B) Eingabe (Gruppen)'!C41:AH41)","v":0},{"$f":"IF(E33<2,#N/A,COUNTIF('B) Eingabe (Gruppen)'!C41:AH41,1))","v":{"$error":"#N/A"}},{"$f":"IF(E33<2,#N/A,COUNTIF('B) Eingabe (Gruppen)'!C41:AH41,2))","v":{"$error":"#N/A"}},{"$f":"IF(E33<2,#N/A,COUNTIF('B) Eingabe (Gruppen)'!C41:AH41,3))","v":{"$error":"#N/A"}},{"$f":"IF(E33<2,#N/A,COUNTIF('B) Eingabe (Gruppen)'!C41:AH41,4))","v":{"$error":"#N/A"}},null,{"$f":"IF(N33=0, #N/A,AVERAGE('B) Eingabe (GruppenLehrer)'!C41:AH41))","v":{"$error":"#N/A"}},{"$f":"IF(N33<1, #N/A, STDEVP('B) Eingabe (GruppenLehrer)'!C41:AH41))","v":{"$error":"#N/A"}},{"$error":"#N/A"},{"$f":"COUNT('B) Eingabe (GruppenLehrer)'!C41:AH41)","v":0},{"$f":"IF(N33<1,#N/A,COUNTIF('B) Eingabe (GruppenLehrer)'!C41:AH41,1))","v":{"$error":"#N/A"}},{"$f":"IF(N33<1,#N/A,COUNTIF('B) Eingabe (GruppenLehrer)'!C41:AH41,2))","v":{"$error":"#N/A"}},{"$f":"IF(N33<1,#N/A,COUNTIF('B) Eingabe (GruppenLehrer)'!C41:AH41,3))","v":{"$error":"#N/A"}},{"$f":"IF(N33<1,#N/A,COUNTIF('B) Eingabe (GruppenLehrer)'!C41:AH41,4))","v":{"$error":"#N/A"}}]
[{"$f":"FragenErstellen!A38","v":32},{"$f":"IF(E34=0, #N/A,AVERAGE('B) Eingabe (Gruppen)'!C42:AH42))","v":{"$error":"#N/A"}},{"$f":"IF(E34<2, #N/A, STDEVP('B) Eingabe (Gruppen)'!C42:AH42))","v":{"$error":"#N/A"}},{"$error":"#N/A"},{"$f":"COUNT('B) Eingabe (Gruppen)'!C42:AH42)","v":0},{"$f":"IF(E34<2,#N/A,COUNTIF('B) Eingabe (Gruppen)'!C42:AH42,1))","v":{"$error":"#N/A"}},{"$f":"IF(E34<2,#N/A,COUNTIF('B) Eingabe (Gruppen)'!C42:AH42,2))","v":{"$error":"#N/A"}},{"$f":"IF(E34<2,#N/A,COUNTIF('B) Eingabe (Gruppen)'!C42:AH42,3))","v":{"$error":"#N/A"}},{"$f":"IF(E34<2,#N/A,COUNTIF('B) Eingabe (Gruppen)'!C42:AH42,4))","v":{"$error":"#N/A"}},null,{"$f":"IF(N34=0, #N/A,AVERAGE('B) Eingabe (GruppenLehrer)'!C42:AH42))","v":{"$error":"#N/A"}},{"$f":"IF(N34<1, #N/A, STDEVP('B) Eingabe (GruppenLehrer)'!C42:AH42))","v":{"$error":"#N/A"}},{"$error":"#N/A"},{"$f":"COUNT('B) Eingabe (GruppenLehrer)'!C42:AH42)","v":0},{"$f":"IF(N34<1,#N/A,COUNTIF('B) Eingabe (GruppenLehrer)'!C42:AH42,1))","v":{"$error":"#N/A"}},{"$f":"IF(N34<1,#N/A,COUNTIF('B) Eingabe (GruppenLehrer)'!C42:AH42,2))","v":{"$error":"#N/A"}},{"$f":"IF(N34<1,#N/A,COUNTIF('B) Eingabe (GruppenLehrer)'!C42:AH42,3))","v":{"$error":"#N/A"}},{"$f":"IF(N34<1,#N/A,COUNTIF('B) Eingabe (GruppenLehrer)'!C42:AH42,4))","v":{"$error":"#N/A"}}]
[{"$f":"FragenErstellen!A39","v":33},{"$f":"IF(E35=0, #N/A,AVERAGE('B) Eingabe (Gruppen)'!C43:AH43))","v":{"$error":"#N/A"}},{"$f":"IF(E35<2, #N/A, STDEVP('B) Eingabe (Gruppen)'!C43:AH43))","v":{"$error":"#N/A"}},{"$error":"#N/A"},{"$f":"COUNT('B) Eingabe (Gruppen)'!C43:AH43)","v":0},{"$f":"IF(E35<2,#N/A,COUNTIF('B) Eingabe (Gruppen)'!C43:AH43,1))","v":{"$error":"#N/A"}},{"$f":"IF(E35<2,#N/A,COUNTIF('B) Eingabe (Gruppen)'!C43:AH43,2))","v":{"$error":"#N/A"}},{"$f":"IF(E35<2,#N/A,COUNTIF('B) Eingabe (Gruppen)'!C43:AH43,3))","v":{"$error":"#N/A"}},{"$f":"IF(E35<2,#N/A,COUNTIF('B) Eingabe (Gruppen)'!C43:AH43,4))","v":{"$error":"#N/A"}},null,{"$f":"IF(N35=0, #N/A,AVERAGE('B) Eingabe (GruppenLehrer)'!C43:AH43))","v":{"$error":"#N/A"}},{"$f":"IF(N35<1, #N/A, STDEVP('B) Eingabe (GruppenLehrer)'!C43:AH43))","v":{"$error":"#N/A"}},{"$error":"#N/A"},{"$f":"COUNT('B) Eingabe (GruppenLehrer)'!C43:AH43)","v":0},{"$f":"IF(N35<1,#N/A,COUNTIF('B) Eingabe (GruppenLehrer)'!C43:AH43,1))","v":{"$error":"#N/A"}},{"$f":"IF(N35<1,#N/A,COUNTIF('B) Eingabe (GruppenLehrer)'!C43:AH43,2))","v":{"$error":"#N/A"}},{"$f":"IF(N35<1,#N/A,COUNTIF('B) Eingabe (GruppenLehrer)'!C43:AH43,3))","v":{"$error":"#N/A"}},{"$f":"IF(N35<1,#N/A,COUNTIF('B) Eingabe (GruppenLehrer)'!C43:AH43,4))","v":{"$error":"#N/A"}}]
[{"$f":"FragenErstellen!A40","v":34},{"$f":"IF(E36=0, #N/A,AVERAGE('B) Eingabe (Gruppen)'!C44:AH44))","v":{"$error":"#N/A"}},{"$f":"IF(E36<2, #N/A, STDEVP('B) Eingabe (Gruppen)'!C44:AH44))","v":{"$error":"#N/A"}},{"$error":"#N/A"},{"$f":"COUNT('B) Eingabe (Gruppen)'!C44:AH44)","v":0},{"$f":"IF(E36<2,#N/A,COUNTIF('B) Eingabe (Gruppen)'!C44:AH44,1))","v":{"$error":"#N/A"}},{"$f":"IF(E36<2,#N/A,COUNTIF('B) Eingabe (Gruppen)'!C44:AH44,2))","v":{"$error":"#N/A"}},{"$f":"IF(E36<2,#N/A,COUNTIF('B) Eingabe (Gruppen)'!C44:AH44,3))","v":{"$error":"#N/A"}},{"$f":"IF(E36<2,#N/A,COUNTIF('B) Eingabe (Gruppen)'!C44:AH44,4))","v":{"$error":"#N/A"}},null,{"$f":"IF(N36=0, #N/A,AVERAGE('B) Eingabe (GruppenLehrer)'!C44:AH44))","v":{"$error":"#N/A"}},{"$f":"IF(N36<1, #N/A, STDEVP('B) Eingabe (GruppenLehrer)'!C44:AH44))","v":{"$error":"#N/A"}},{"$error":"#N/A"},{"$f":"COUNT('B) Eingabe (GruppenLehrer)'!C44:AH44)","v":0},{"$f":"IF(N36<1,#N/A,COUNTIF('B) Eingabe (GruppenLehrer)'!C44:AH44,1))","v":{"$error":"#N/A"}},{"$f":"IF(N36<1,#N/A,COUNTIF('B) Eingabe (GruppenLehrer)'!C44:AH44,2))","v":{"$error":"#N/A"}},{"$f":"IF(N36<1,#N/A,COUNTIF('B) Eingabe (GruppenLehrer)'!C44:AH44,3))","v":{"$error":"#N/A"}},{"$f":"IF(N36<1,#N/A,COUNTIF('B) Eingabe (GruppenLehrer)'!C44:AH44,4))","v":{"$error":"#N/A"}}]
[{"$f":"FragenErstellen!A41","v":35},{"$f":"IF(E37=0, #N/A,AVERAGE('B) Eingabe (Gruppen)'!C45:AH45))","v":{"$error":"#N/A"}},{"$f":"IF(E37<2, #N/A, STDEVP('B) Eingabe (Gruppen)'!C45:AH45))","v":{"$error":"#N/A"}},{"$error":"#N/A"},{"$f":"COUNT('B) Eingabe (Gruppen)'!C45:AH45)","v":0},{"$f":"IF(E37<2,#N/A,COUNTIF('B) Eingabe (Gruppen)'!C45:AH45,1))","v":{"$error":"#N/A"}},{"$f":"IF(E37<2,#N/A,COUNTIF('B) Eingabe (Gruppen)'!C45:AH45,2))","v":{"$error":"#N/A"}},{"$f":"IF(E37<2,#N/A,COUNTIF('B) Eingabe (Gruppen)'!C45:AH45,3))","v":{"$error":"#N/A"}},{"$f":"IF(E37<2,#N/A,COUNTIF('B) Eingabe (Gruppen)'!C45:AH45,4))","v":{"$error":"#N/A"}},null,{"$f":"IF(N37=0, #N/A,AVERAGE('B) Eingabe (GruppenLehrer)'!C45:AH45))","v":{"$error":"#N/A"}},{"$f":"IF(N37<1, #N/A, STDEVP('B) Eingabe (GruppenLehrer)'!C45:AH45))","v":{"$error":"#N/A"}},{"$error":"#N/A"},{"$f":"COUNT('B) Eingabe (GruppenLehrer)'!C45:AH45)","v":0},{"$f":"IF(N37<1,#N/A,COUNTIF('B) Eingabe (GruppenLehrer)'!C45:AH45,1))","v":{"$error":"#N/A"}},{"$f":"IF(N37<1,#N/A,COUNTIF('B) Eingabe (GruppenLehrer)'!C45:AH45,2))","v":{"$error":"#N/A"}},{"$f":"IF(N37<1,#N/A,COUNTIF('B) Eingabe (GruppenLehrer)'!C45:AH45,3))","v":{"$error":"#N/A"}},{"$f":"IF(N37<1,#N/A,COUNTIF('B) Eingabe (GruppenLehrer)'!C45:AH45,4))","v":{"$error":"#N/A"}}]
[{"$f":"FragenErstellen!A42","v":36},{"$f":"IF(E38=0, #N/A,AVERAGE('B) Eingabe (Gruppen)'!C46:AH46))","v":{"$error":"#N/A"}},{"$f":"IF(E38<2, #N/A, STDEVP('B) Eingabe (Gruppen)'!C46:AH46))","v":{"$error":"#N/A"}},{"$error":"#N/A"},{"$f":"COUNT('B) Eingabe (Gruppen)'!C46:AH46)","v":0},{"$f":"IF(E38<2,#N/A,COUNTIF('B) Eingabe (Gruppen)'!C46:AH46,1))","v":{"$error":"#N/A"}},{"$f":"IF(E38<2,#N/A,COUNTIF('B) Eingabe (Gruppen)'!C46:AH46,2))","v":{"$error":"#N/A"}},{"$f":"IF(E38<2,#N/A,COUNTIF('B) Eingabe (Gruppen)'!C46:AH46,3))","v":{"$error":"#N/A"}},{"$f":"IF(E38<2,#N/A,COUNTIF('B) Eingabe (Gruppen)'!C46:AH46,4))","v":{"$error":"#N/A"}},null,{"$f":"IF(N38=0, #N/A,AVERAGE('B) Eingabe (GruppenLehrer)'!C46:AH46))","v":{"$error":"#N/A"}},{"$f":"IF(N38<1, #N/A, STDEVP('B) Eingabe (GruppenLehrer)'!C46:AH46))","v":{"$error":"#N/A"}},{"$error":"#N/A"},{"$f":"COUNT('B) Eingabe (GruppenLehrer)'!C46:AH46)","v":0},{"$f":"IF(N38<1,#N/A,COUNTIF('B) Eingabe (GruppenLehrer)'!C46:AH46,1))","v":{"$error":"#N/A"}},{"$f":"IF(N38<1,#N/A,COUNTIF('B) Eingabe (GruppenLehrer)'!C46:AH46,2))","v":{"$error":"#N/A"}},{"$f":"IF(N38<1,#N/A,COUNTIF('B) Eingabe (GruppenLehrer)'!C46:AH46,3))","v":{"$error":"#N/A"}},{"$f":"IF(N38<1,#N/A,COUNTIF('B) Eingabe (GruppenLehrer)'!C46:AH46,4))","v":{"$error":"#N/A"}}]
[{"$f":"FragenErstellen!A43","v":37},{"$f":"IF(E39=0, #N/A,AVERAGE('B) Eingabe (Gruppen)'!C47:AH47))","v":{"$error":"#N/A"}},{"$f":"IF(E39<2, #N/A, STDEVP('B) Eingabe (Gruppen)'!C47:AH47))","v":{"$error":"#N/A"}},{"$error":"#N/A"},{"$f":"COUNT('B) Eingabe (Gruppen)'!C47:AH47)","v":0},{"$f":"IF(E39<2,#N/A,COUNTIF('B) Eingabe (Gruppen)'!C47:AH47,1))","v":{"$error":"#N/A"}},{"$f":"IF(E39<2,#N/A,COUNTIF('B) Eingabe (Gruppen)'!C47:AH47,2))","v":{"$error":"#N/A"}},{"$f":"IF(E39<2,#N/A,COUNTIF('B) Eingabe (Gruppen)'!C47:AH47,3))","v":{"$error":"#N/A"}},{"$f":"IF(E39<2,#N/A,COUNTIF('B) Eingabe (Gruppen)'!C47:AH47,4))","v":{"$error":"#N/A"}},null,{"$f":"IF(N39=0, #N/A,AVERAGE('B) Eingabe (GruppenLehrer)'!C47:AH47))","v":{"$error":"#N/A"}},{"$f":"IF(N39<1, #N/A, STDEVP('B) Eingabe (GruppenLehrer)'!C47:AH47))","v":{"$error":"#N/A"}},{"$error":"#N/A"},{"$f":"COUNT('B) Eingabe (GruppenLehrer)'!C47:AH47)","v":0},{"$f":"IF(N39<1,#N/A,COUNTIF('B) Eingabe (GruppenLehrer)'!C47:AH47,1))","v":{"$error":"#N/A"}},{"$f":"IF(N39<1,#N/A,COUNTIF('B) Eingabe (GruppenLehrer)'!C47:AH47,2))","v":{"$error":"#N/A"}},{"$f":"IF(N39<1,#N/A,COUNTIF('B) Eingabe (GruppenLehrer)'!C47:AH47,3))","v":{"$error":"#N/A"}},{"$f":"IF(N39<1,#N/A,COUNTIF('B) Eingabe (GruppenLehrer)'!C47:AH47,4))","v":{"$error":"#N/A"}}]
[{"$f":"FragenErstellen!A44","v":38},{"$f":"IF(E40=0, #N/A,AVERAGE('B) Eingabe (Gruppen)'!C48:AH48))","v":{"$error":"#N/A"}},{"$f":"IF(E40<2, #N/A, STDEVP('B) Eingabe (Gruppen)'!C48:AH48))","v":{"$error":"#N/A"}},{"$error":"#N/A"},{"$f":"COUNT('B) Eingabe (Gruppen)'!C48:AH48)","v":0},{"$f":"IF(E40<2,#N/A,COUNTIF('B) Eingabe (Gruppen)'!C48:AH48,1))","v":{"$error":"#N/A"}},{"$f":"IF(E40<2,#N/A,COUNTIF('B) Eingabe (Gruppen)'!C48:AH48,2))","v":{"$error":"#N/A"}},{"$f":"IF(E40<2,#N/A,COUNTIF('B) Eingabe (Gruppen)'!C48:AH48,3))","v":{"$error":"#N/A"}},{"$f":"IF(E40<2,#N/A,COUNTIF('B) Eingabe (Gruppen)'!C48:AH48,4))","v":{"$error":"#N/A"}},null,{"$f":"IF(N40=0, #N/A,AVERAGE('B) Eingabe (GruppenLehrer)'!C48:AH48))","v":{"$error":"#N/A"}},{"$f":"IF(N40<1, #N/A, STDEVP('B) Eingabe (GruppenLehrer)'!C48:AH48))","v":{"$error":"#N/A"}},{"$error":"#N/A"},{"$f":"COUNT('B) Eingabe (GruppenLehrer)'!C48:AH48)","v":0},{"$f":"IF(N40<1,#N/A,COUNTIF('B) Eingabe (GruppenLehrer)'!C48:AH48,1))","v":{"$error":"#N/A"}},{"$f":"IF(N40<1,#N/A,COUNTIF('B) Eingabe (GruppenLehrer)'!C48:AH48,2))","v":{"$error":"#N/A"}},{"$f":"IF(N40<1,#N/A,COUNTIF('B) Eingabe (GruppenLehrer)'!C48:AH48,3))","v":{"$error":"#N/A"}},{"$f":"IF(N40<1,#N/A,COUNTIF('B) Eingabe (GruppenLehrer)'!C48:AH48,4))","v":{"$error":"#N/A"}}]
[{"$f":"FragenErstellen!A45","v":39},{"$f":"IF(E41=0, #N/A,AVERAGE('B) Eingabe (Gruppen)'!C49:AH49))","v":{"$error":"#N/A"}},{"$f":"IF(E41<2, #N/A, STDEVP('B) Eingabe (Gruppen)'!C49:AH49))","v":{"$error":"#N/A"}},{"$error":"#N/A"},{"$f":"COUNT('B) Eingabe (Gruppen)'!C49:AH49)","v":0},{"$f":"IF(E41<2,#N/A,COUNTIF('B) Eingabe (Gruppen)'!C49:AH49,1))","v":{"$error":"#N/A"}},{"$f":"IF(E41<2,#N/A,COUNTIF('B) Eingabe (Gruppen)'!C49:AH49,2))","v":{"$error":"#N/A"}},{"$f":"IF(E41<2,#N/A,COUNTIF('B) Eingabe (Gruppen)'!C49:AH49,3))","v":{"$error":"#N/A"}},{"$f":"IF(E41<2,#N/A,COUNTIF('B) Eingabe (Gruppen)'!C49:AH49,4))","v":{"$error":"#N/A"}},null,{"$f":"IF(N41=0, #N/A,AVERAGE('B) Eingabe (GruppenLehrer)'!C49:AH49))","v":{"$error":"#N/A"}},{"$f":"IF(N41<1, #N/A, STDEVP('B) Eingabe (GruppenLehrer)'!C49:AH49))","v":{"$error":"#N/A"}},{"$error":"#N/A"},{"$f":"COUNT('B) Eingabe (GruppenLehrer)'!C49:AH49)","v":0},{"$f":"IF(N41<1,#N/A,COUNTIF('B) Eingabe (GruppenLehrer)'!C49:AH49,1))","v":{"$error":"#N/A"}},{"$f":"IF(N41<1,#N/A,COUNTIF('B) Eingabe (GruppenLehrer)'!C49:AH49,2))","v":{"$error":"#N/A"}},{"$f":"IF(N41<1,#N/A,COUNTIF('B) Eingabe (GruppenLehrer)'!C49:AH49,3))","v":{"$error":"#N/A"}},{"$f":"IF(N41<1,#N/A,COUNTIF('B) Eingabe (GruppenLehrer)'!C49:AH49,4))","v":{"$error":"#N/A"}}]
[{"$f":"FragenErstellen!A46","v":40},{"$f":"IF(E42=0, #N/A,AVERAGE('B) Eingabe (Gruppen)'!C50:AH50))","v":{"$error":"#N/A"}},{"$f":"IF(E42<2, #N/A, STDEVP('B) Eingabe (Gruppen)'!C50:AH50))","v":{"$error":"#N/A"}},{"$error":"#N/A"},{"$f":"COUNT('B) Eingabe (Gruppen)'!C50:AH50)","v":0},{"$f":"IF(E42<2,#N/A,COUNTIF('B) Eingabe (Gruppen)'!C50:AH50,1))","v":{"$error":"#N/A"}},{"$f":"IF(E42<2,#N/A,COUNTIF('B) Eingabe (Gruppen)'!C50:AH50,2))","v":{"$error":"#N/A"}},{"$f":"IF(E42<2,#N/A,COUNTIF('B) Eingabe (Gruppen)'!C50:AH50,3))","v":{"$error":"#N/A"}},{"$f":"IF(E42<2,#N/A,COUNTIF('B) Eingabe (Gruppen)'!C50:AH50,4))","v":{"$error":"#N/A"}},null,{"$f":"IF(N42=0, #N/A,AVERAGE('B) Eingabe (GruppenLehrer)'!C50:AH50))","v":{"$error":"#N/A"}},{"$f":"IF(N42<1, #N/A, STDEVP('B) Eingabe (GruppenLehrer)'!C50:AH50))","v":{"$error":"#N/A"}},{"$error":"#N/A"},{"$f":"COUNT('B) Eingabe (GruppenLehrer)'!C50:AH50)","v":0},{"$f":"IF(N42<1,#N/A,COUNTIF('B) Eingabe (GruppenLehrer)'!C50:AH50,1))","v":{"$error":"#N/A"}},{"$f":"IF(N42<1,#N/A,COUNTIF('B) Eingabe (GruppenLehrer)'!C50:AH50,2))","v":{"$error":"#N/A"}},{"$f":"IF(N42<1,#N/A,COUNTIF('B) Eingabe (GruppenLehrer)'!C50:AH50,3))","v":{"$error":"#N/A"}},{"$f":"IF(N42<1,#N/A,COUNTIF('B) Eingabe (GruppenLehrer)'!C50:AH50,4))","v":{"$error":"#N/A"}}]
[{"$f":"FragenErstellen!A47","v":41},{"$f":"IF(E43=0, #N/A,AVERAGE('B) Eingabe (Gruppen)'!C51:AH51))","v":{"$error":"#N/A"}},{"$f":"IF(E43<2, #N/A, STDEVP('B) Eingabe (Gruppen)'!C51:AH51))","v":{"$error":"#N/A"}},{"$error":"#N/A"},{"$f":"COUNT('B) Eingabe (Gruppen)'!C51:AH51)","v":0},{"$f":"IF(E43<2,#N/A,COUNTIF('B) Eingabe (Gruppen)'!C51:AH51,1))","v":{"$error":"#N/A"}},{"$f":"IF(E43<2,#N/A,COUNTIF('B) Eingabe (Gruppen)'!C51:AH51,2))","v":{"$error":"#N/A"}},{"$f":"IF(E43<2,#N/A,COUNTIF('B) Eingabe (Gruppen)'!C51:AH51,3))","v":{"$error":"#N/A"}},{"$f":"IF(E43<2,#N/A,COUNTIF('B) Eingabe (Gruppen)'!C51:AH51,4))","v":{"$error":"#N/A"}},null,{"$f":"IF(N43=0, #N/A,AVERAGE('B) Eingabe (GruppenLehrer)'!C51:AH51))","v":{"$error":"#N/A"}},{"$f":"IF(N43<1, #N/A, STDEVP('B) Eingabe (GruppenLehrer)'!C51:AH51))","v":{"$error":"#N/A"}},{"$error":"#N/A"},{"$f":"COUNT('B) Eingabe (GruppenLehrer)'!C51:AH51)","v":0},{"$f":"IF(N43<1,#N/A,COUNTIF('B) Eingabe (GruppenLehrer)'!C51:AH51,1))","v":{"$error":"#N/A"}},{"$f":"IF(N43<1,#N/A,COUNTIF('B) Eingabe (GruppenLehrer)'!C51:AH51,2))","v":{"$error":"#N/A"}},{"$f":"IF(N43<1,#N/A,COUNTIF('B) Eingabe (GruppenLehrer)'!C51:AH51,3))","v":{"$error":"#N/A"}},{"$f":"IF(N43<1,#N/A,COUNTIF('B) Eingabe (GruppenLehrer)'!C51:AH51,4))","v":{"$error":"#N/A"}}]
[{"$f":"FragenErstellen!A48","v":42},{"$f":"IF(E44=0, #N/A,AVERAGE('B) Eingabe (Gruppen)'!C52:AH52))","v":{"$error":"#N/A"}},{"$f":"IF(E44<2, #N/A, STDEVP('B) Eingabe (Gruppen)'!C52:AH52))","v":{"$error":"#N/A"}},{"$error":"#N/A"},{"$f":"COUNT('B) Eingabe (Gruppen)'!C52:AH52)","v":0},{"$f":"IF(E44<2,#N/A,COUNTIF('B) Eingabe (Gruppen)'!C52:AH52,1))","v":{"$error":"#N/A"}},{"$f":"IF(E44<2,#N/A,COUNTIF('B) Eingabe (Gruppen)'!C52:AH52,2))","v":{"$error":"#N/A"}},{"$f":"IF(E44<2,#N/A,COUNTIF('B) Eingabe (Gruppen)'!C52:AH52,3))","v":{"$error":"#N/A"}},{"$f":"IF(E44<2,#N/A,COUNTIF('B) Eingabe (Gruppen)'!C52:AH52,4))","v":{"$error":"#N/A"}},null,{"$f":"IF(N44=0, #N/A,AVERAGE('B) Eingabe (GruppenLehrer)'!C52:AH52))","v":{"$error":"#N/A"}},{"$f":"IF(N44<1, #N/A, STDEVP('B) Eingabe (GruppenLehrer)'!C52:AH52))","v":{"$error":"#N/A"}},{"$error":"#N/A"},{"$f":"COUNT('B) Eingabe (GruppenLehrer)'!C52:AH52)","v":0},{"$f":"IF(N44<1,#N/A,COUNTIF('B) Eingabe (GruppenLehrer)'!C52:AH52,1))","v":{"$error":"#N/A"}},{"$f":"IF(N44<1,#N/A,COUNTIF('B) Eingabe (GruppenLehrer)'!C52:AH52,2))","v":{"$error":"#N/A"}},{"$f":"IF(N44<1,#N/A,COUNTIF('B) Eingabe (GruppenLehrer)'!C52:AH52,3))","v":{"$error":"#N/A"}},{"$f":"IF(N44<1,#N/A,COUNTIF('B) Eingabe (GruppenLehrer)'!C52:AH52,4))","v":{"$error":"#N/A"}}]
[{"$f":"FragenErstellen!A49","v":43},{"$f":"IF(E45=0, #N/A,AVERAGE('B) Eingabe (Gruppen)'!C53:AH53))","v":{"$error":"#N/A"}},{"$f":"IF(E45<2, #N/A, STDEVP('B) Eingabe (Gruppen)'!C53:AH53))","v":{"$error":"#N/A"}},{"$error":"#N/A"},{"$f":"COUNT('B) Eingabe (Gruppen)'!C53:AH53)","v":0},{"$f":"IF(E45<2,#N/A,COUNTIF('B) Eingabe (Gruppen)'!C53:AH53,1))","v":{"$error":"#N/A"}},{"$f":"IF(E45<2,#N/A,COUNTIF('B) Eingabe (Gruppen)'!C53:AH53,2))","v":{"$error":"#N/A"}},{"$f":"IF(E45<2,#N/A,COUNTIF('B) Eingabe (Gruppen)'!C53:AH53,3))","v":{"$error":"#N/A"}},{"$f":"IF(E45<2,#N/A,COUNTIF('B) Eingabe (Gruppen)'!C53:AH53,4))","v":{"$error":"#N/A"}},null,{"$f":"IF(N45=0, #N/A,AVERAGE('B) Eingabe (GruppenLehrer)'!C53:AH53))","v":{"$error":"#N/A"}},{"$f":"IF(N45<1, #N/A, STDEVP('B) Eingabe (GruppenLehrer)'!C53:AH53))","v":{"$error":"#N/A"}},{"$error":"#N/A"},{"$f":"COUNT('B) Eingabe (GruppenLehrer)'!C53:AH53)","v":0},{"$f":"IF(N45<1,#N/A,COUNTIF('B) Eingabe (GruppenLehrer)'!C53:AH53,1))","v":{"$error":"#N/A"}},{"$f":"IF(N45<1,#N/A,COUNTIF('B) Eingabe (GruppenLehrer)'!C53:AH53,2))","v":{"$error":"#N/A"}},{"$f":"IF(N45<1,#N/A,COUNTIF('B) Eingabe (GruppenLehrer)'!C53:AH53,3))","v":{"$error":"#N/A"}},{"$f":"IF(N45<1,#N/A,COUNTIF('B) Eingabe (GruppenLehrer)'!C53:AH53,4))","v":{"$error":"#N/A"}}]
[{"$f":"FragenErstellen!A50","v":44},{"$f":"IF(E46=0, #N/A,AVERAGE('B) Eingabe (Gruppen)'!C54:AH54))","v":{"$error":"#N/A"}},{"$f":"IF(E46<2, #N/A, STDEVP('B) Eingabe (Gruppen)'!C54:AH54))","v":{"$error":"#N/A"}},{"$error":"#N/A"},{"$f":"COUNT('B) Eingabe (Gruppen)'!C54:AH54)","v":0},{"$f":"IF(E46<2,#N/A,COUNTIF('B) Eingabe (Gruppen)'!C54:AH54,1))","v":{"$error":"#N/A"}},{"$f":"IF(E46<2,#N/A,COUNTIF('B) Eingabe (Gruppen)'!C54:AH54,2))","v":{"$error":"#N/A"}},{"$f":"IF(E46<2,#N/A,COUNTIF('B) Eingabe (Gruppen)'!C54:AH54,3))","v":{"$error":"#N/A"}},{"$f":"IF(E46<2,#N/A,COUNTIF('B) Eingabe (Gruppen)'!C54:AH54,4))","v":{"$error":"#N/A"}},null,{"$f":"IF(N46=0, #N/A,AVERAGE('B) Eingabe (GruppenLehrer)'!C54:AH54))","v":{"$error":"#N/A"}},{"$f":"IF(N46<1, #N/A, STDEVP('B) Eingabe (GruppenLehrer)'!C54:AH54))","v":{"$error":"#N/A"}},{"$error":"#N/A"},{"$f":"COUNT('B) Eingabe (GruppenLehrer)'!C54:AH54)","v":0},{"$f":"IF(N46<1,#N/A,COUNTIF('B) Eingabe (GruppenLehrer)'!C54:AH54,1))","v":{"$error":"#N/A"}},{"$f":"IF(N46<1,#N/A,COUNTIF('B) Eingabe (GruppenLehrer)'!C54:AH54,2))","v":{"$error":"#N/A"}},{"$f":"IF(N46<1,#N/A,COUNTIF('B) Eingabe (GruppenLehrer)'!C54:AH54,3))","v":{"$error":"#N/A"}},{"$f":"IF(N46<1,#N/A,COUNTIF('B) Eingabe (GruppenLehrer)'!C54:AH54,4))","v":{"$error":"#N/A"}}]
[{"$f":"FragenErstellen!A51","v":45},{"$f":"IF(E47=0, #N/A,AVERAGE('B) Eingabe (Gruppen)'!C55:AH55))","v":{"$error":"#N/A"}},{"$f":"IF(E47<2, #N/A, STDEVP('B) Eingabe (Gruppen)'!C55:AH55))","v":{"$error":"#N/A"}},{"$error":"#N/A"},{"$f":"COUNT('B) Eingabe (Gruppen)'!C55:AH55)","v":0},{"$f":"IF(E47<2,#N/A,COUNTIF('B) Eingabe (Gruppen)'!C55:AH55,1))","v":{"$error":"#N/A"}},{"$f":"IF(E47<2,#N/A,COUNTIF('B) Eingabe (Gruppen)'!C55:AH55,2))","v":{"$error":"#N/A"}},{"$f":"IF(E47<2,#N/A,COUNTIF('B) Eingabe (Gruppen)'!C55:AH55,3))","v":{"$error":"#N/A"}},{"$f":"IF(E47<2,#N/A,COUNTIF('B) Eingabe (Gruppen)'!C55:AH55,4))","v":{"$error":"#N/A"}},null,{"$f":"IF(N47=0, #N/A,AVERAGE('B) Eingabe (GruppenLehrer)'!C55:AH55))","v":{"$error":"#N/A"}},{"$f":"IF(N47<1, #N/A, STDEVP('B) Eingabe (GruppenLehrer)'!C55:AH55))","v":{"$error":"#N/A"}},{"$error":"#N/A"},{"$f":"COUNT('B) Eingabe (GruppenLehrer)'!C55:AH55)","v":0},{"$f":"IF(N47<1,#N/A,COUNTIF('B) Eingabe (GruppenLehrer)'!C55:AH55,1))","v":{"$error":"#N/A"}},{"$f":"IF(N47<1,#N/A,COUNTIF('B) Eingabe (GruppenLehrer)'!C55:AH55,2))","v":{"$error":"#N/A"}},{"$f":"IF(N47<1,#N/A,COUNTIF('B) Eingabe (GruppenLehrer)'!C55:AH55,3))","v":{"$error":"#N/A"}},{"$f":"IF(N47<1,#N/A,COUNTIF('B) Eingabe (GruppenLehrer)'!C55:AH55,4))","v":{"$error":"#N/A"}}]
[{"$f":"FragenErstellen!A52","v":46},{"$f":"IF(E48=0, #N/A,AVERAGE('B) Eingabe (Gruppen)'!C56:AH56))","v":{"$error":"#N/A"}},{"$f":"IF(E48<2, #N/A, STDEVP('B) Eingabe (Gruppen)'!C56:AH56))","v":{"$error":"#N/A"}},{"$error":"#N/A"},{"$f":"COUNT('B) Eingabe (Gruppen)'!C56:AH56)","v":0},{"$f":"IF(E48<2,#N/A,COUNTIF('B) Eingabe (Gruppen)'!C56:AH56,1))","v":{"$error":"#N/A"}},{"$f":"IF(E48<2,#N/A,COUNTIF('B) Eingabe (Gruppen)'!C56:AH56,2))","v":{"$error":"#N/A"}},{"$f":"IF(E48<2,#N/A,COUNTIF('B) Eingabe (Gruppen)'!C56:AH56,3))","v":{"$error":"#N/A"}},{"$f":"IF(E48<2,#N/A,COUNTIF('B) Eingabe (Gruppen)'!C56:AH56,4))","v":{"$error":"#N/A"}},null,{"$f":"IF(N48=0, #N/A,AVERAGE('B) Eingabe (GruppenLehrer)'!C56:AH56))","v":{"$error":"#N/A"}},{"$f":"IF(N48<1, #N/A, STDEVP('B) Eingabe (GruppenLehrer)'!C56:AH56))","v":{"$error":"#N/A"}},{"$error":"#N/A"},{"$f":"COUNT('B) Eingabe (GruppenLehrer)'!C56:AH56)","v":0},{"$f":"IF(N48<1,#N/A,COUNTIF('B) Eingabe (GruppenLehrer)'!C56:AH56,1))","v":{"$error":"#N/A"}},{"$f":"IF(N48<1,#N/A,COUNTIF('B) Eingabe (GruppenLehrer)'!C56:AH56,2))","v":{"$error":"#N/A"}},{"$f":"IF(N48<1,#N/A,COUNTIF('B) Eingabe (GruppenLehrer)'!C56:AH56,3))","v":{"$error":"#N/A"}},{"$f":"IF(N48<1,#N/A,COUNTIF('B) Eingabe (GruppenLehrer)'!C56:AH56,4))","v":{"$error":"#N/A"}}]
[{"$f":"FragenErstellen!A53","v":47},{"$f":"IF(E49=0, #N/A,AVERAGE('B) Eingabe (Gruppen)'!C57:AH57))","v":{"$error":"#N/A"}},{"$f":"IF(E49<2, #N/A, STDEVP('B) Eingabe (Gruppen)'!C57:AH57))","v":{"$error":"#N/A"}},{"$error":"#N/A"},{"$f":"COUNT('B) Eingabe (Gruppen)'!C57:AH57)","v":0},{"$f":"IF(E49<2,#N/A,COUNTIF('B) Eingabe (Gruppen)'!C57:AH57,1))","v":{"$error":"#N/A"}},{"$f":"IF(E49<2,#N/A,COUNTIF('B) Eingabe (Gruppen)'!C57:AH57,2))","v":{"$error":"#N/A"}},{"$f":"IF(E49<2,#N/A,COUNTIF('B) Eingabe (Gruppen)'!C57:AH57,3))","v":{"$error":"#N/A"}},{"$f":"IF(E49<2,#N/A,COUNTIF('B) Eingabe (Gruppen)'!C57:AH57,4))","v":{"$error":"#N/A"}},null,{"$f":"IF(N49=0, #N/A,AVERAGE('B) Eingabe (GruppenLehrer)'!C57:AH57))","v":{"$error":"#N/A"}},{"$f":"IF(N49<1, #N/A, STDEVP('B) Eingabe (GruppenLehrer)'!C57:AH57))","v":{"$error":"#N/A"}},{"$error":"#N/A"},{"$f":"COUNT('B) Eingabe (GruppenLehrer)'!C57:AH57)","v":0},{"$f":"IF(N49<1,#N/A,COUNTIF('B) Eingabe (GruppenLehrer)'!C57:AH57,1))","v":{"$error":"#N/A"}},{"$f":"IF(N49<1,#N/A,COUNTIF('B) Eingabe (GruppenLehrer)'!C57:AH57,2))","v":{"$error":"#N/A"}},{"$f":"IF(N49<1,#N/A,COUNTIF('B) Eingabe (GruppenLehrer)'!C57:AH57,3))","v":{"$error":"#N/A"}},{"$f":"IF(N49<1,#N/A,COUNTIF('B) Eingabe (GruppenLehrer)'!C57:AH57,4))","v":{"$error":"#N/A"}}]
[{"$f":"FragenErstellen!A54","v":48},{"$f":"IF(E50=0, #N/A,AVERAGE('B) Eingabe (Gruppen)'!C58:AH58))","v":{"$error":"#N/A"}},{"$f":"IF(E50<2, #N/A, STDEVP('B) Eingabe (Gruppen)'!C58:AH58))","v":{"$error":"#N/A"}},{"$error":"#N/A"},{"$f":"COUNT('B) Eingabe (Gruppen)'!C58:AH58)","v":0},{"$f":"IF(E50<2,#N/A,COUNTIF('B) Eingabe (Gruppen)'!C58:AH58,1))","v":{"$error":"#N/A"}},{"$f":"IF(E50<2,#N/A,COUNTIF('B) Eingabe (Gruppen)'!C58:AH58,2))","v":{"$error":"#N/A"}},{"$f":"IF(E50<2,#N/A,COUNTIF('B) Eingabe (Gruppen)'!C58:AH58,3))","v":{"$error":"#N/A"}},{"$f":"IF(E50<2,#N/A,COUNTIF('B) Eingabe (Gruppen)'!C58:AH58,4))","v":{"$error":"#N/A"}},null,{"$f":"IF(N50=0, #N/A,AVERAGE('B) Eingabe (GruppenLehrer)'!C58:AH58))","v":{"$error":"#N/A"}},{"$f":"IF(N50<1, #N/A, STDEVP('B) Eingabe (GruppenLehrer)'!C58:AH58))","v":{"$error":"#N/A"}},{"$error":"#N/A"},{"$f":"COUNT('B) Eingabe (GruppenLehrer)'!C58:AH58)","v":0},{"$f":"IF(N50<1,#N/A,COUNTIF('B) Eingabe (GruppenLehrer)'!C58:AH58,1))","v":{"$error":"#N/A"}},{"$f":"IF(N50<1,#N/A,COUNTIF('B) Eingabe (GruppenLehrer)'!C58:AH58,2))","v":{"$error":"#N/A"}},{"$f":"IF(N50<1,#N/A,COUNTIF('B) Eingabe (GruppenLehrer)'!C58:AH58,3))","v":{"$error":"#N/A"}},{"$f":"IF(N50<1,#N/A,COUNTIF('B) Eingabe (GruppenLehrer)'!C58:AH58,4))","v":{"$error":"#N/A"}}]
[{"$f":"FragenErstellen!A55","v":49},{"$f":"IF(E51=0, #N/A,AVERAGE('B) Eingabe (Gruppen)'!C59:AH59))","v":{"$error":"#N/A"}},{"$f":"IF(E51<2, #N/A, STDEVP('B) Eingabe (Gruppen)'!C59:AH59))","v":{"$error":"#N/A"}},{"$error":"#N/A"},{"$f":"COUNT('B) Eingabe (Gruppen)'!C59:AH59)","v":0},{"$f":"IF(E51<2,#N/A,COUNTIF('B) Eingabe (Gruppen)'!C59:AH59,1))","v":{"$error":"#N/A"}},{"$f":"IF(E51<2,#N/A,COUNTIF('B) Eingabe (Gruppen)'!C59:AH59,2))","v":{"$error":"#N/A"}},{"$f":"IF(E51<2,#N/A,COUNTIF('B) Eingabe (Gruppen)'!C59:AH59,3))","v":{"$error":"#N/A"}},{"$f":"IF(E51<2,#N/A,COUNTIF('B) Eingabe (Gruppen)'!C59:AH59,4))","v":{"$error":"#N/A"}},null,{"$f":"IF(N51=0, #N/A,AVERAGE('B) Eingabe (GruppenLehrer)'!C59:AH59))","v":{"$error":"#N/A"}},{"$f":"IF(N51<1, #N/A, STDEVP('B) Eingabe (GruppenLehrer)'!C59:AH59))","v":{"$error":"#N/A"}},{"$error":"#N/A"},{"$f":"COUNT('B) Eingabe (GruppenLehrer)'!C59:AH59)","v":0},{"$f":"IF(N51<1,#N/A,COUNTIF('B) Eingabe (GruppenLehrer)'!C59:AH59,1))","v":{"$error":"#N/A"}},{"$f":"IF(N51<1,#N/A,COUNTIF('B) Eingabe (GruppenLehrer)'!C59:AH59,2))","v":{"$error":"#N/A"}},{"$f":"IF(N51<1,#N/A,COUNTIF('B) Eingabe (GruppenLehrer)'!C59:AH59,3))","v":{"$error":"#N/A"}},{"$f":"IF(N51<1,#N/A,COUNTIF('B) Eingabe (GruppenLehrer)'!C59:AH59,4))","v":{"$error":"#N/A"}}]
[{"$f":"FragenErstellen!A56","v":50},{"$f":"IF(E52=0, #N/A,AVERAGE('B) Eingabe (Gruppen)'!C60:AH60))","v":{"$error":"#N/A"}},{"$f":"IF(E52<2, #N/A, STDEVP('B) Eingabe (Gruppen)'!C60:AH60))","v":{"$error":"#N/A"}},{"$error":"#N/A"},{"$f":"COUNT('B) Eingabe (Gruppen)'!C60:AH60)","v":0},{"$f":"IF(E52<2,#N/A,COUNTIF('B) Eingabe (Gruppen)'!C60:AH60,1))","v":{"$error":"#N/A"}},{"$f":"IF(E52<2,#N/A,COUNTIF('B) Eingabe (Gruppen)'!C60:AH60,2))","v":{"$error":"#N/A"}},{"$f":"IF(E52<2,#N/A,COUNTIF('B) Eingabe (Gruppen)'!C60:AH60,3))","v":{"$error":"#N/A"}},{"$f":"IF(E52<2,#N/A,COUNTIF('B) Eingabe (Gruppen)'!C60:AH60,4))","v":{"$error":"#N/A"}},null,{"$f":"IF(N52=0, #N/A,AVERAGE('B) Eingabe (GruppenLehrer)'!C60:AH60))","v":{"$error":"#N/A"}},{"$f":"IF(N52<1, #N/A, STDEVP('B) Eingabe (GruppenLehrer)'!C60:AH60))","v":{"$error":"#N/A"}},{"$error":"#N/A"},{"$f":"COUNT('B) Eingabe (GruppenLehrer)'!C60:AH60)","v":0},{"$f":"IF(N52<1,#N/A,COUNTIF('B) Eingabe (GruppenLehrer)'!C60:AH60,1))","v":{"$error":"#N/A"}},{"$f":"IF(N52<1,#N/A,COUNTIF('B) Eingabe (GruppenLehrer)'!C60:AH60,2))","v":{"$error":"#N/A"}},{"$f":"IF(N52<1,#N/A,COUNTIF('B) Eingabe (GruppenLehrer)'!C60:AH60,3))","v":{"$error":"#N/A"}},{"$f":"IF(N52<1,#N/A,COUNTIF('B) Eingabe (GruppenLehrer)'!C60:AH60,4))","v":{"$error":"#N/A"}}]
[{"$f":"FragenErstellen!A57","v":51},{"$f":"IF(E53=0, #N/A,AVERAGE('B) Eingabe (Gruppen)'!C61:AH61))","v":{"$error":"#N/A"}},{"$f":"IF(E53<2, #N/A, STDEVP('B) Eingabe (Gruppen)'!C61:AH61))","v":{"$error":"#N/A"}},{"$error":"#N/A"},{"$f":"COUNT('B) Eingabe (Gruppen)'!C61:AH61)","v":0},{"$f":"IF(E53<2,#N/A,COUNTIF('B) Eingabe (Gruppen)'!C61:AH61,1))","v":{"$error":"#N/A"}},{"$f":"IF(E53<2,#N/A,COUNTIF('B) Eingabe (Gruppen)'!C61:AH61,2))","v":{"$error":"#N/A"}},{"$f":"IF(E53<2,#N/A,COUNTIF('B) Eingabe (Gruppen)'!C61:AH61,3))","v":{"$error":"#N/A"}},{"$f":"IF(E53<2,#N/A,COUNTIF('B) Eingabe (Gruppen)'!C61:AH61,4))","v":{"$error":"#N/A"}},null,{"$f":"IF(N53=0, #N/A,AVERAGE('B) Eingabe (GruppenLehrer)'!C61:AH61))","v":{"$error":"#N/A"}},{"$f":"IF(N53<1, #N/A, STDEVP('B) Eingabe (GruppenLehrer)'!C61:AH61))","v":{"$error":"#N/A"}},{"$error":"#N/A"},{"$f":"COUNT('B) Eingabe (GruppenLehrer)'!C61:AH61)","v":0},{"$f":"IF(N53<1,#N/A,COUNTIF('B) Eingabe (GruppenLehrer)'!C61:AH61,1))","v":{"$error":"#N/A"}},{"$f":"IF(N53<1,#N/A,COUNTIF('B) Eingabe (GruppenLehrer)'!C61:AH61,2))","v":{"$error":"#N/A"}},{"$f":"IF(N53<1,#N/A,COUNTIF('B) Eingabe (GruppenLehrer)'!C61:AH61,3))","v":{"$error":"#N/A"}},{"$f":"IF(N53<1,#N/A,COUNTIF('B) Eingabe (GruppenLehrer)'!C61:AH61,4))","v":{"$error":"#N/A"}}]
[{"$f":"FragenErstellen!A58","v":52},{"$f":"IF(E54=0, #N/A,AVERAGE('B) Eingabe (Gruppen)'!C62:AH62))","v":{"$error":"#N/A"}},{"$f":"IF(E54<2, #N/A, STDEVP('B) Eingabe (Gruppen)'!C62:AH62))","v":{"$error":"#N/A"}},{"$error":"#N/A"},{"$f":"COUNT('B) Eingabe (Gruppen)'!C62:AH62)","v":0},{"$f":"IF(E54<2,#N/A,COUNTIF('B) Eingabe (Gruppen)'!C62:AH62,1))","v":{"$error":"#N/A"}},{"$f":"IF(E54<2,#N/A,COUNTIF('B) Eingabe (Gruppen)'!C62:AH62,2))","v":{"$error":"#N/A"}},{"$f":"IF(E54<2,#N/A,COUNTIF('B) Eingabe (Gruppen)'!C62:AH62,3))","v":{"$error":"#N/A"}},{"$f":"IF(E54<2,#N/A,COUNTIF('B) Eingabe (Gruppen)'!C62:AH62,4))","v":{"$error":"#N/A"}},null,{"$f":"IF(N54=0, #N/A,AVERAGE('B) Eingabe (GruppenLehrer)'!C62:AH62))","v":{"$error":"#N/A"}},{"$f":"IF(N54<1, #N/A, STDEVP('B) Eingabe (GruppenLehrer)'!C62:AH62))","v":{"$error":"#N/A"}},{"$error":"#N/A"},{"$f":"COUNT('B) Eingabe (GruppenLehrer)'!C62:AH62)","v":0},{"$f":"IF(N54<1,#N/A,COUNTIF('B) Eingabe (GruppenLehrer)'!C62:AH62,1))","v":{"$error":"#N/A"}},{"$f":"IF(N54<1,#N/A,COUNTIF('B) Eingabe (GruppenLehrer)'!C62:AH62,2))","v":{"$error":"#N/A"}},{"$f":"IF(N54<1,#N/A,COUNTIF('B) Eingabe (GruppenLehrer)'!C62:AH62,3))","v":{"$error":"#N/A"}},{"$f":"IF(N54<1,#N/A,COUNTIF('B) Eingabe (GruppenLehrer)'!C62:AH62,4))","v":{"$error":"#N/A"}}]
[{"$f":"FragenErstellen!A59","v":53},{"$f":"IF(E55=0, #N/A,AVERAGE('B) Eingabe (Gruppen)'!C63:AH63))","v":{"$error":"#N/A"}},{"$f":"IF(E55<2, #N/A, STDEVP('B) Eingabe (Gruppen)'!C63:AH63))","v":{"$error":"#N/A"}},{"$error":"#N/A"},{"$f":"COUNT('B) Eingabe (Gruppen)'!C63:AH63)","v":0},{"$f":"IF(E55<2,#N/A,COUNTIF('B) Eingabe (Gruppen)'!C63:AH63,1))","v":{"$error":"#N/A"}},{"$f":"IF(E55<2,#N/A,COUNTIF('B) Eingabe (Gruppen)'!C63:AH63,2))","v":{"$error":"#N/A"}},{"$f":"IF(E55<2,#N/A,COUNTIF('B) Eingabe (Gruppen)'!C63:AH63,3))","v":{"$error":"#N/A"}},{"$f":"IF(E55<2,#N/A,COUNTIF('B) Eingabe (Gruppen)'!C63:AH63,4))","v":{"$error":"#N/A"}},null,{"$f":"IF(N55=0, #N/A,AVERAGE('B) Eingabe (GruppenLehrer)'!C63:AH63))","v":{"$error":"#N/A"}},{"$f":"IF(N55<1, #N/A, STDEVP('B) Eingabe (GruppenLehrer)'!C63:AH63))","v":{"$error":"#N/A"}},{"$error":"#N/A"},{"$f":"COUNT('B) Eingabe (GruppenLehrer)'!C63:AH63)","v":0},{"$f":"IF(N55<1,#N/A,COUNTIF('B) Eingabe (GruppenLehrer)'!C63:AH63,1))","v":{"$error":"#N/A"}},{"$f":"IF(N55<1,#N/A,COUNTIF('B) Eingabe (GruppenLehrer)'!C63:AH63,2))","v":{"$error":"#N/A"}},{"$f":"IF(N55<1,#N/A,COUNTIF('B) Eingabe (GruppenLehrer)'!C63:AH63,3))","v":{"$error":"#N/A"}},{"$f":"IF(N55<1,#N/A,COUNTIF('B) Eingabe (GruppenLehrer)'!C63:AH63,4))","v":{"$error":"#N/A"}}]
[{"$f":"FragenErstellen!A60","v":54},{"$f":"IF(E56=0, #N/A,AVERAGE('B) Eingabe (Gruppen)'!C64:AH64))","v":{"$error":"#N/A"}},{"$f":"IF(E56<2, #N/A, STDEVP('B) Eingabe (Gruppen)'!C64:AH64))","v":{"$error":"#N/A"}},{"$error":"#N/A"},{"$f":"COUNT('B) Eingabe (Gruppen)'!C64:AH64)","v":0},{"$f":"IF(E56<2,#N/A,COUNTIF('B) Eingabe (Gruppen)'!C64:AH64,1))","v":{"$error":"#N/A"}},{"$f":"IF(E56<2,#N/A,COUNTIF('B) Eingabe (Gruppen)'!C64:AH64,2))","v":{"$error":"#N/A"}},{"$f":"IF(E56<2,#N/A,COUNTIF('B) Eingabe (Gruppen)'!C64:AH64,3))","v":{"$error":"#N/A"}},{"$f":"IF(E56<2,#N/A,COUNTIF('B) Eingabe (Gruppen)'!C64:AH64,4))","v":{"$error":"#N/A"}},null,{"$f":"IF(N56=0, #N/A,AVERAGE('B) Eingabe (GruppenLehrer)'!C64:AH64))","v":{"$error":"#N/A"}},{"$f":"IF(N56<1, #N/A, STDEVP('B) Eingabe (GruppenLehrer)'!C64:AH64))","v":{"$error":"#N/A"}},{"$error":"#N/A"},{"$f":"COUNT('B) Eingabe (GruppenLehrer)'!C64:AH64)","v":0},{"$f":"IF(N56<1,#N/A,COUNTIF('B) Eingabe (GruppenLehrer)'!C64:AH64,1))","v":{"$error":"#N/A"}},{"$f":"IF(N56<1,#N/A,COUNTIF('B) Eingabe (GruppenLehrer)'!C64:AH64,2))","v":{"$error":"#N/A"}},{"$f":"IF(N56<1,#N/A,COUNTIF('B) Eingabe (GruppenLehrer)'!C64:AH64,3))","v":{"$error":"#N/A"}},{"$f":"IF(N56<1,#N/A,COUNTIF('B) Eingabe (GruppenLehrer)'!C64:AH64,4))","v":{"$error":"#N/A"}}]
[{"$f":"FragenErstellen!A61","v":55},{"$f":"IF(E57=0, #N/A,AVERAGE('B) Eingabe (Gruppen)'!C65:AH65))","v":{"$error":"#N/A"}},{"$f":"IF(E57<2, #N/A, STDEVP('B) Eingabe (Gruppen)'!C65:AH65))","v":{"$error":"#N/A"}},{"$error":"#N/A"},{"$f":"COUNT('B) Eingabe (Gruppen)'!C65:AH65)","v":0},{"$f":"IF(E57<2,#N/A,COUNTIF('B) Eingabe (Gruppen)'!C65:AH65,1))","v":{"$error":"#N/A"}},{"$f":"IF(E57<2,#N/A,COUNTIF('B) Eingabe (Gruppen)'!C65:AH65,2))","v":{"$error":"#N/A"}},{"$f":"IF(E57<2,#N/A,COUNTIF('B) Eingabe (Gruppen)'!C65:AH65,3))","v":{"$error":"#N/A"}},{"$f":"IF(E57<2,#N/A,COUNTIF('B) Eingabe (Gruppen)'!C65:AH65,4))","v":{"$error":"#N/A"}},null,{"$f":"IF(N57=0, #N/A,AVERAGE('B) Eingabe (GruppenLehrer)'!C65:AH65))","v":{"$error":"#N/A"}},{"$f":"IF(N57<1, #N/A, STDEVP('B) Eingabe (GruppenLehrer)'!C65:AH65))","v":{"$error":"#N/A"}},{"$error":"#N/A"},{"$f":"COUNT('B) Eingabe (GruppenLehrer)'!C65:AH65)","v":0},{"$f":"IF(N57<1,#N/A,COUNTIF('B) Eingabe (GruppenLehrer)'!C65:AH65,1))","v":{"$error":"#N/A"}},{"$f":"IF(N57<1,#N/A,COUNTIF('B) Eingabe (GruppenLehrer)'!C65:AH65,2))","v":{"$error":"#N/A"}},{"$f":"IF(N57<1,#N/A,COUNTIF('B) Eingabe (GruppenLehrer)'!C65:AH65,3))","v":{"$error":"#N/A"}},{"$f":"IF(N57<1,#N/A,COUNTIF('B) Eingabe (GruppenLehrer)'!C65:AH65,4))","v":{"$error":"#N/A"}}]
[{"$f":"FragenErstellen!A62","v":56},{"$f":"IF(E58=0, #N/A,AVERAGE('B) Eingabe (Gruppen)'!C66:AH66))","v":{"$error":"#N/A"}},{"$f":"IF(E58<2, #N/A, STDEVP('B) Eingabe (Gruppen)'!C66:AH66))","v":{"$error":"#N/A"}},{"$error":"#N/A"},{"$f":"COUNT('B) Eingabe (Gruppen)'!C66:AH66)","v":0},{"$f":"IF(E58<2,#N/A,COUNTIF('B) Eingabe (Gruppen)'!C66:AH66,1))","v":{"$error":"#N/A"}},{"$f":"IF(E58<2,#N/A,COUNTIF('B) Eingabe (Gruppen)'!C66:AH66,2))","v":{"$error":"#N/A"}},{"$f":"IF(E58<2,#N/A,COUNTIF('B) Eingabe (Gruppen)'!C66:AH66,3))","v":{"$error":"#N/A"}},{"$f":"IF(E58<2,#N/A,COUNTIF('B) Eingabe (Gruppen)'!C66:AH66,4))","v":{"$error":"#N/A"}},null,{"$f":"IF(N58=0, #N/A,AVERAGE('B) Eingabe (GruppenLehrer)'!C66:AH66))","v":{"$error":"#N/A"}},{"$f":"IF(N58<1, #N/A, STDEVP('B) Eingabe (GruppenLehrer)'!C66:AH66))","v":{"$error":"#N/A"}},{"$error":"#N/A"},{"$f":"COUNT('B) Eingabe (GruppenLehrer)'!C66:AH66)","v":0},{"$f":"IF(N58<1,#N/A,COUNTIF('B) Eingabe (GruppenLehrer)'!C66:AH66,1))","v":{"$error":"#N/A"}},{"$f":"IF(N58<1,#N/A,COUNTIF('B) Eingabe (GruppenLehrer)'!C66:AH66,2))","v":{"$error":"#N/A"}},{"$f":"IF(N58<1,#N/A,COUNTIF('B) Eingabe (GruppenLehrer)'!C66:AH66,3))","v":{"$error":"#N/A"}},{"$f":"IF(N58<1,#N/A,COUNTIF('B) Eingabe (GruppenLehrer)'!C66:AH66,4))","v":{"$error":"#N/A"}}]
[{"$f":"FragenErstellen!A63","v":57},{"$f":"IF(E59=0, #N/A,AVERAGE('B) Eingabe (Gruppen)'!C67:AH67))","v":{"$error":"#N/A"}},{"$f":"IF(E59<2, #N/A, STDEVP('B) Eingabe (Gruppen)'!C67:AH67))","v":{"$error":"#N/A"}},{"$error":"#N/A"},{"$f":"COUNT('B) Eingabe (Gruppen)'!C67:AH67)","v":0},{"$f":"IF(E59<2,#N/A,COUNTIF('B) Eingabe (Gruppen)'!C67:AH67,1))","v":{"$error":"#N/A"}},{"$f":"IF(E59<2,#N/A,COUNTIF('B) Eingabe (Gruppen)'!C67:AH67,2))","v":{"$error":"#N/A"}},{"$f":"IF(E59<2,#N/A,COUNTIF('B) Eingabe (Gruppen)'!C67:AH67,3))","v":{"$error":"#N/A"}},{"$f":"IF(E59<2,#N/A,COUNTIF('B) Eingabe (Gruppen)'!C67:AH67,4))","v":{"$error":"#N/A"}},null,{"$f":"IF(N59=0, #N/A,AVERAGE('B) Eingabe (GruppenLehrer)'!C67:AH67))","v":{"$error":"#N/A"}},{"$f":"IF(N59<1, #N/A, STDEVP('B) Eingabe (GruppenLehrer)'!C67:AH67))","v":{"$error":"#N/A"}},{"$error":"#N/A"},{"$f":"COUNT('B) Eingabe (GruppenLehrer)'!C67:AH67)","v":0},{"$f":"IF(N59<1,#N/A,COUNTIF('B) Eingabe (GruppenLehrer)'!C67:AH67,1))","v":{"$error":"#N/A"}},{"$f":"IF(N59<1,#N/A,COUNTIF('B) Eingabe (GruppenLehrer)'!C67:AH67,2))","v":{"$error":"#N/A"}},{"$f":"IF(N59<1,#N/A,COUNTIF('B) Eingabe (GruppenLehrer)'!C67:AH67,3))","v":{"$error":"#N/A"}},{"$f":"IF(N59<1,#N/A,COUNTIF('B) Eingabe (GruppenLehrer)'!C67:AH67,4))","v":{"$error":"#N/A"}}]
[{"$f":"FragenErstellen!A64","v":58},{"$f":"IF(E60=0, #N/A,AVERAGE('B) Eingabe (Gruppen)'!C68:AH68))","v":{"$error":"#N/A"}},{"$f":"IF(E60<2, #N/A, STDEVP('B) Eingabe (Gruppen)'!C68:AH68))","v":{"$error":"#N/A"}},{"$error":"#N/A"},{"$f":"COUNT('B) Eingabe (Gruppen)'!C68:AH68)","v":0},{"$f":"IF(E60<2,#N/A,COUNTIF('B) Eingabe (Gruppen)'!C68:AH68,1))","v":{"$error":"#N/A"}},{"$f":"IF(E60<2,#N/A,COUNTIF('B) Eingabe (Gruppen)'!C68:AH68,2))","v":{"$error":"#N/A"}},{"$f":"IF(E60<2,#N/A,COUNTIF('B) Eingabe (Gruppen)'!C68:AH68,3))","v":{"$error":"#N/A"}},{"$f":"IF(E60<2,#N/A,COUNTIF('B) Eingabe (Gruppen)'!C68:AH68,4))","v":{"$error":"#N/A"}},null,{"$f":"IF(N60=0, #N/A,AVERAGE('B) Eingabe (GruppenLehrer)'!C68:AH68))","v":{"$error":"#N/A"}},{"$f":"IF(N60<1, #N/A, STDEVP('B) Eingabe (GruppenLehrer)'!C68:AH68))","v":{"$error":"#N/A"}},{"$error":"#N/A"},{"$f":"COUNT('B) Eingabe (GruppenLehrer)'!C68:AH68)","v":0},{"$f":"IF(N60<1,#N/A,COUNTIF('B) Eingabe (GruppenLehrer)'!C68:AH68,1))","v":{"$error":"#N/A"}},{"$f":"IF(N60<1,#N/A,COUNTIF('B) Eingabe (GruppenLehrer)'!C68:AH68,2))","v":{"$error":"#N/A"}},{"$f":"IF(N60<1,#N/A,COUNTIF('B) Eingabe (GruppenLehrer)'!C68:AH68,3))","v":{"$error":"#N/A"}},{"$f":"IF(N60<1,#N/A,COUNTIF('B) Eingabe (GruppenLehrer)'!C68:AH68,4))","v":{"$error":"#N/A"}}]
[{"$f":"FragenErstellen!A65","v":59},{"$f":"IF(E61=0, #N/A,AVERAGE('B) Eingabe (Gruppen)'!C69:AH69))","v":{"$error":"#N/A"}},{"$f":"IF(E61<2, #N/A, STDEVP('B) Eingabe (Gruppen)'!C69:AH69))","v":{"$error":"#N/A"}},{"$error":"#N/A"},{"$f":"COUNT('B) Eingabe (Gruppen)'!C69:AH69)","v":0},{"$f":"IF(E61<2,#N/A,COUNTIF('B) Eingabe (Gruppen)'!C69:AH69,1))","v":{"$error":"#N/A"}},{"$f":"IF(E61<2,#N/A,COUNTIF('B) Eingabe (Gruppen)'!C69:AH69,2))","v":{"$error":"#N/A"}},{"$f":"IF(E61<2,#N/A,COUNTIF('B) Eingabe (Gruppen)'!C69:AH69,3))","v":{"$error":"#N/A"}},{"$f":"IF(E61<2,#N/A,COUNTIF('B) Eingabe (Gruppen)'!C69:AH69,4))","v":{"$error":"#N/A"}},null,{"$f":"IF(N61=0, #N/A,AVERAGE('B) Eingabe (GruppenLehrer)'!C69:AH69))","v":{"$error":"#N/A"}},{"$f":"IF(N61<1, #N/A, STDEVP('B) Eingabe (GruppenLehrer)'!C69:AH69))","v":{"$error":"#N/A"}},{"$error":"#N/A"},{"$f":"COUNT('B) Eingabe (GruppenLehrer)'!C69:AH69)","v":0},{"$f":"IF(N61<1,#N/A,COUNTIF('B) Eingabe (GruppenLehrer)'!C69:AH69,1))","v":{"$error":"#N/A"}},{"$f":"IF(N61<1,#N/A,COUNTIF('B) Eingabe (GruppenLehrer)'!C69:AH69,2))","v":{"$error":"#N/A"}},{"$f":"IF(N61<1,#N/A,COUNTIF('B) Eingabe (GruppenLehrer)'!C69:AH69,3))","v":{"$error":"#N/A"}},{"$f":"IF(N61<1,#N/A,COUNTIF('B) Eingabe (GruppenLehrer)'!C69:AH69,4))","v":{"$error":"#N/A"}}]
[{"$f":"FragenErstellen!A66","v":60},{"$f":"IF(E62=0, #N/A,AVERAGE('B) Eingabe (Gruppen)'!C70:AH70))","v":{"$error":"#N/A"}},{"$f":"IF(E62<2, #N/A, STDEVP('B) Eingabe (Gruppen)'!C70:AH70))","v":{"$error":"#N/A"}},{"$error":"#N/A"},{"$f":"COUNT('B) Eingabe (Gruppen)'!C70:AH70)","v":0},{"$f":"IF(E62<2,#N/A,COUNTIF('B) Eingabe (Gruppen)'!C70:AH70,1))","v":{"$error":"#N/A"}},{"$f":"IF(E62<2,#N/A,COUNTIF('B) Eingabe (Gruppen)'!C70:AH70,2))","v":{"$error":"#N/A"}},{"$f":"IF(E62<2,#N/A,COUNTIF('B) Eingabe (Gruppen)'!C70:AH70,3))","v":{"$error":"#N/A"}},{"$f":"IF(E62<2,#N/A,COUNTIF('B) Eingabe (Gruppen)'!C70:AH70,4))","v":{"$error":"#N/A"}},null,{"$f":"IF(N62=0, #N/A,AVERAGE('B) Eingabe (GruppenLehrer)'!C70:AH70))","v":{"$error":"#N/A"}},{"$f":"IF(N62<1, #N/A, STDEVP('B) Eingabe (GruppenLehrer)'!C70:AH70))","v":{"$error":"#N/A"}},{"$error":"#N/A"},{"$f":"COUNT('B) Eingabe (GruppenLehrer)'!C70:AH70)","v":0},{"$f":"IF(N62<1,#N/A,COUNTIF('B) Eingabe (GruppenLehrer)'!C70:AH70,1))","v":{"$error":"#N/A"}},{"$f":"IF(N62<1,#N/A,COUNTIF('B) Eingabe (GruppenLehrer)'!C70:AH70,2))","v":{"$error":"#N/A"}},{"$f":"IF(N62<1,#N/A,COUNTIF('B) Eingabe (GruppenLehrer)'!C70:AH70,3))","v":{"$error":"#N/A"}},{"$f":"IF(N62<1,#N/A,COUNTIF('B) Eingabe (GruppenLehrer)'!C70:AH70,4))","v":{"$error":"#N/A"}}]
[{"$f":"FragenErstellen!A67","v":0},{"$f":"IF(E63=0, #N/A,AVERAGE('B) Eingabe (Gruppen)'!C71:AH71))","v":{"$error":"#N/A"}},{"$f":"IF(E63<2, #N/A, STDEVP('B) Eingabe (Gruppen)'!C71:AH71))","v":{"$error":"#N/A"}},{"$error":"#N/A"},{"$f":"COUNT('B) Eingabe (Gruppen)'!C71:AH71)","v":0},{"$f":"IF(E63<2,#N/A,COUNTIF('B) Eingabe (Gruppen)'!C71:AH71,1))","v":{"$error":"#N/A"}},{"$f":"IF(E63<2,#N/A,COUNTIF('B) Eingabe (Gruppen)'!C71:AH71,2))","v":{"$error":"#N/A"}},{"$f":"IF(E63<2,#N/A,COUNTIF('B) Eingabe (Gruppen)'!C71:AH71,3))","v":{"$error":"#N/A"}},{"$f":"IF(E63<2,#N/A,COUNTIF('B) Eingabe (Gruppen)'!C71:AH71,4))","v":{"$error":"#N/A"}},null,{"$f":"IF(N63=0, #N/A,AVERAGE('B) Eingabe (GruppenLehrer)'!C71:AH71))","v":{"$error":"#N/A"}},{"$f":"IF(N63<1, #N/A, STDEVP('B) Eingabe (GruppenLehrer)'!C71:AH71))","v":{"$error":"#N/A"}},{"$error":"#N/A"},{"$f":"COUNT('B) Eingabe (GruppenLehrer)'!C71:AH71)","v":0},{"$f":"IF(N63<1,#N/A,COUNTIF('B) Eingabe (GruppenLehrer)'!C71:AH71,1))","v":{"$error":"#N/A"}},{"$f":"IF(N63<1,#N/A,COUNTIF('B) Eingabe (GruppenLehrer)'!C71:AH71,2))","v":{"$error":"#N/A"}},{"$f":"IF(N63<1,#N/A,COUNTIF('B) Eingabe (GruppenLehrer)'!C71:AH71,3))","v":{"$error":"#N/A"}},{"$f":"IF(N63<1,#N/A,COUNTIF('B) Eingabe (GruppenLehrer)'!C71:AH71,4))","v":{"$error":"#N/A"}}]
[{"$f":"FragenErstellen!A68","v":0},{"$f":"IF(E64=0, #N/A,AVERAGE('B) Eingabe (Gruppen)'!C72:AH72))","v":{"$error":"#N/A"}},{"$f":"IF(E64<2, #N/A, STDEVP('B) Eingabe (Gruppen)'!C72:AH72))","v":{"$error":"#N/A"}},{"$error":"#N/A"},{"$f":"COUNT('B) Eingabe (Gruppen)'!C72:AH72)","v":0},{"$f":"IF(E64<2,#N/A,COUNTIF('B) Eingabe (Gruppen)'!C72:AH72,1))","v":{"$error":"#N/A"}},{"$f":"IF(E64<2,#N/A,COUNTIF('B) Eingabe (Gruppen)'!C72:AH72,2))","v":{"$error":"#N/A"}},{"$f":"IF(E64<2,#N/A,COUNTIF('B) Eingabe (Gruppen)'!C72:AH72,3))","v":{"$error":"#N/A"}},{"$f":"IF(E64<2,#N/A,COUNTIF('B) Eingabe (Gruppen)'!C72:AH72,4))","v":{"$error":"#N/A"}},null,{"$f":"IF(N64=0, #N/A,AVERAGE('B) Eingabe (GruppenLehrer)'!C72:AH72))","v":{"$error":"#N/A"}},{"$f":"IF(N64<1, #N/A, STDEVP('B) Eingabe (GruppenLehrer)'!C72:AH72))","v":{"$error":"#N/A"}},{"$error":"#N/A"},{"$f":"COUNT('B) Eingabe (GruppenLehrer)'!C72:AH72)","v":0},{"$f":"IF(N64<1,#N/A,COUNTIF('B) Eingabe (GruppenLehrer)'!C72:AH72,1))","v":{"$error":"#N/A"}},{"$f":"IF(N64<1,#N/A,COUNTIF('B) Eingabe (GruppenLehrer)'!C72:AH72,2))","v":{"$error":"#N/A"}},{"$f":"IF(N64<1,#N/A,COUNTIF('B) Eingabe (GruppenLehrer)'!C72:AH72,3))","v":{"$error":"#N/A"}},{"$f":"IF(N64<1,#N/A,COUNTIF('B) Eingabe (GruppenLehrer)'!C72:AH72,4))","v":{"$error":"#N/A"}}]
[{"$f":"FragenErstellen!A69","v":0},{"$f":"IF(E65=0, #N/A,AVERAGE('B) Eingabe (Gruppen)'!C73:AH73))","v":{"$error":"#N/A"}},{"$f":"IF(E65<2, #N/A, STDEVP('B) Eingabe (Gruppen)'!C73:AH73))","v":{"$error":"#N/A"}},{"$error":"#N/A"},{"$f":"COUNT('B) Eingabe (Gruppen)'!C73:AH73)","v":0},{"$f":"IF(E65<2,#N/A,COUNTIF('B) Eingabe (Gruppen)'!C73:AH73,1))","v":{"$error":"#N/A"}},{"$f":"IF(E65<2,#N/A,COUNTIF('B) Eingabe (Gruppen)'!C73:AH73,2))","v":{"$error":"#N/A"}},{"$f":"IF(E65<2,#N/A,COUNTIF('B) Eingabe (Gruppen)'!C73:AH73,3))","v":{"$error":"#N/A"}},{"$f":"IF(E65<2,#N/A,COUNTIF('B) Eingabe (Gruppen)'!C73:AH73,4))","v":{"$error":"#N/A"}},null,{"$f":"IF(N65=0, #N/A,AVERAGE('B) Eingabe (GruppenLehrer)'!C73:AH73))","v":{"$error":"#N/A"}},{"$f":"IF(N65<1, #N/A, STDEVP('B) Eingabe (GruppenLehrer)'!C73:AH73))","v":{"$error":"#N/A"}},{"$error":"#N/A"},{"$f":"COUNT('B) Eingabe (GruppenLehrer)'!C73:AH73)","v":0},{"$f":"IF(N65<1,#N/A,COUNTIF('B) Eingabe (GruppenLehrer)'!C73:AH73,1))","v":{"$error":"#N/A"}},{"$f":"IF(N65<1,#N/A,COUNTIF('B) Eingabe (GruppenLehrer)'!C73:AH73,2))","v":{"$error":"#N/A"}},{"$f":"IF(N65<1,#N/A,COUNTIF('B) Eingabe (GruppenLehrer)'!C73:AH73,3))","v":{"$error":"#N/A"}},{"$f":"IF(N65<1,#N/A,COUNTIF('B) Eingabe (GruppenLehrer)'!C73:AH73,4))","v":{"$error":"#N/A"}}]
[{"$f":"FragenErstellen!A70","v":0},{"$f":"IF(E66=0, #N/A,AVERAGE('B) Eingabe (Gruppen)'!C74:AH74))","v":{"$error":"#N/A"}},{"$f":"IF(E66<2, #N/A, STDEVP('B) Eingabe (Gruppen)'!C74:AH74))","v":{"$error":"#N/A"}},{"$error":"#N/A"},{"$f":"COUNT('B) Eingabe (Gruppen)'!C74:AH74)","v":0},{"$f":"IF(E66<2,#N/A,COUNTIF('B) Eingabe (Gruppen)'!C74:AH74,1))","v":{"$error":"#N/A"}},{"$f":"IF(E66<2,#N/A,COUNTIF('B) Eingabe (Gruppen)'!C74:AH74,2))","v":{"$error":"#N/A"}},{"$f":"IF(E66<2,#N/A,COUNTIF('B) Eingabe (Gruppen)'!C74:AH74,3))","v":{"$error":"#N/A"}},{"$f":"IF(E66<2,#N/A,COUNTIF('B) Eingabe (Gruppen)'!C74:AH74,4))","v":{"$error":"#N/A"}},null,{"$f":"IF(N66=0, #N/A,AVERAGE('B) Eingabe (GruppenLehrer)'!C74:AH74))","v":{"$error":"#N/A"}},{"$f":"IF(N66<1, #N/A, STDEVP('B) Eingabe (GruppenLehrer)'!C74:AH74))","v":{"$error":"#N/A"}},{"$error":"#N/A"},{"$f":"COUNT('B) Eingabe (GruppenLehrer)'!C74:AH74)","v":0},{"$f":"IF(N66<1,#N/A,COUNTIF('B) Eingabe (GruppenLehrer)'!C74:AH74,1))","v":{"$error":"#N/A"}},{"$f":"IF(N66<1,#N/A,COUNTIF('B) Eingabe (GruppenLehrer)'!C74:AH74,2))","v":{"$error":"#N/A"}},{"$f":"IF(N66<1,#N/A,COUNTIF('B) Eingabe (GruppenLehrer)'!C74:AH74,3))","v":{"$error":"#N/A"}},{"$f":"IF(N66<1,#N/A,COUNTIF('B) Eingabe (GruppenLehrer)'!C74:AH74,4))","v":{"$error":"#N/A"}}]
[{"$f":"FragenErstellen!A71","v":0},{"$f":"IF(E67=0, #N/A,AVERAGE('B) Eingabe (Gruppen)'!C75:AH75))","v":{"$error":"#N/A"}},{"$f":"IF(E67<2, #N/A, STDEVP('B) Eingabe (Gruppen)'!C75:AH75))","v":{"$error":"#N/A"}},{"$error":"#N/A"},{"$f":"COUNT('B) Eingabe (Gruppen)'!C75:AH75)","v":0},{"$f":"IF(E67<2,#N/A,COUNTIF('B) Eingabe (Gruppen)'!C75:AH75,1))","v":{"$error":"#N/A"}},{"$f":"IF(E67<2,#N/A,COUNTIF('B) Eingabe (Gruppen)'!C75:AH75,2))","v":{"$error":"#N/A"}},{"$f":"IF(E67<2,#N/A,COUNTIF('B) Eingabe (Gruppen)'!C75:AH75,3))","v":{"$error":"#N/A"}},{"$f":"IF(E67<2,#N/A,COUNTIF('B) Eingabe (Gruppen)'!C75:AH75,4))","v":{"$error":"#N/A"}},null,{"$f":"IF(N67=0, #N/A,AVERAGE('B) Eingabe (GruppenLehrer)'!C75:AH75))","v":{"$error":"#N/A"}},{"$f":"IF(N67<1, #N/A, STDEVP('B) Eingabe (GruppenLehrer)'!C75:AH75))","v":{"$error":"#N/A"}},{"$error":"#N/A"},{"$f":"COUNT('B) Eingabe (GruppenLehrer)'!C75:AH75)","v":0},{"$f":"IF(N67<1,#N/A,COUNTIF('B) Eingabe (GruppenLehrer)'!C75:AH75,1))","v":{"$error":"#N/A"}},{"$f":"IF(N67<1,#N/A,COUNTIF('B) Eingabe (GruppenLehrer)'!C75:AH75,2))","v":{"$error":"#N/A"}},{"$f":"IF(N67<1,#N/A,COUNTIF('B) Eingabe (GruppenLehrer)'!C75:AH75,3))","v":{"$error":"#N/A"}},{"$f":"IF(N67<1,#N/A,COUNTIF('B) Eingabe (GruppenLehrer)'!C75:AH75,4))","v":{"$error":"#N/A"}}]
[{"$f":"FragenErstellen!A72","v":0},{"$f":"IF(E68=0, #N/A,AVERAGE('B) Eingabe (Gruppen)'!C76:AH76))","v":{"$error":"#N/A"}},{"$f":"IF(E68<2, #N/A, STDEVP('B) Eingabe (Gruppen)'!C76:AH76))","v":{"$error":"#N/A"}},{"$f":"IF(E68<2, #N/A, 100*(H68+I68)/E68)","v":{"$error":"#N/A"}},{"$f":"COUNT('B) Eingabe (Gruppen)'!C76:AH76)","v":0},{"$f":"IF(E68<2,#N/A,COUNTIF('B) Eingabe (Gruppen)'!C76:AH76,1))","v":{"$error":"#N/A"}},{"$f":"IF(E68<2,#N/A,COUNTIF('B) Eingabe (Gruppen)'!C76:AH76,2))","v":{"$error":"#N/A"}},{"$f":"IF(E68<2,#N/A,COUNTIF('B) Eingabe (Gruppen)'!C76:AH76,3))","v":{"$error":"#N/A"}},{"$f":"IF(E68<2,#N/A,COUNTIF('B) Eingabe (Gruppen)'!C76:AH76,4))","v":{"$error":"#N/A"}},null,{"$f":"IF(N68=0, #N/A,AVERAGE('B) Eingabe (GruppenLehrer)'!C76:AH76))","v":{"$error":"#N/A"}},{"$f":"IF(N68<1, #N/A, STDEVP('B) Eingabe (GruppenLehrer)'!C76:AH76))","v":{"$error":"#N/A"}},{"$f":"IF(N68<1, #N/A, 100*(Q68+R68)/N68)","v":{"$error":"#N/A"}},{"$f":"COUNT('B) Eingabe (GruppenLehrer)'!C76:AH76)","v":0},{"$f":"IF(N68<1,#N/A,COUNTIF('B) Eingabe (GruppenLehrer)'!C76:AH76,1))","v":{"$error":"#N/A"}},{"$f":"IF(N68<1,#N/A,COUNTIF('B) Eingabe (GruppenLehrer)'!C76:AH76,2))","v":{"$error":"#N/A"}},{"$f":"IF(N68<1,#N/A,COUNTIF('B) Eingabe (GruppenLehrer)'!C76:AH76,3))","v":{"$error":"#N/A"}},{"$f":"IF(N68<1,#N/A,COUNTIF('B) Eingabe (GruppenLehrer)'!C76:AH76,4))","v":{"$error":"#N/A"}}]
[{"$f":"FragenErstellen!A73","v":0},{"$f":"IF(E69=0, #N/A,AVERAGE('B) Eingabe (Gruppen)'!C77:AH77))","v":{"$error":"#N/A"}},{"$f":"IF(E69<2, #N/A, STDEVP('B) Eingabe (Gruppen)'!C77:AH77))","v":{"$error":"#N/A"}},{"$error":"#N/A"},{"$f":"COUNT('B) Eingabe (Gruppen)'!C77:AH77)","v":0},{"$f":"IF(E69<2,#N/A,COUNTIF('B) Eingabe (Gruppen)'!C77:AH77,1))","v":{"$error":"#N/A"}},{"$f":"IF(E69<2,#N/A,COUNTIF('B) Eingabe (Gruppen)'!C77:AH77,2))","v":{"$error":"#N/A"}},{"$f":"IF(E69<2,#N/A,COUNTIF('B) Eingabe (Gruppen)'!C77:AH77,3))","v":{"$error":"#N/A"}},{"$f":"IF(E69<2,#N/A,COUNTIF('B) Eingabe (Gruppen)'!C77:AH77,4))","v":{"$error":"#N/A"}},null,{"$f":"IF(N69=0, #N/A,AVERAGE('B) Eingabe (GruppenLehrer)'!C77:AH77))","v":{"$error":"#N/A"}},{"$f":"IF(N69<1, #N/A, STDEVP('B) Eingabe (GruppenLehrer)'!C77:AH77))","v":{"$error":"#N/A"}},{"$error":"#N/A"},{"$f":"COUNT('B) Eingabe (GruppenLehrer)'!C77:AH77)","v":0},{"$f":"IF(N69<1,#N/A,COUNTIF('B) Eingabe (GruppenLehrer)'!C77:AH77,1))","v":{"$error":"#N/A"}},{"$f":"IF(N69<1,#N/A,COUNTIF('B) Eingabe (GruppenLehrer)'!C77:AH77,2))","v":{"$error":"#N/A"}},{"$f":"IF(N69<1,#N/A,COUNTIF('B) Eingabe (GruppenLehrer)'!C77:AH77,3))","v":{"$error":"#N/A"}},{"$f":"IF(N69<1,#N/A,COUNTIF('B) Eingabe (GruppenLehrer)'!C77:AH77,4))","v":{"$error":"#N/A"}}]
[{"$f":"FragenErstellen!A74","v":0},{"$f":"IF(E70=0, #N/A,AVERAGE('B) Eingabe (Gruppen)'!C78:AH78))","v":{"$error":"#N/A"}},{"$f":"IF(E70<2, #N/A, STDEVP('B) Eingabe (Gruppen)'!C78:AH78))","v":{"$error":"#N/A"}},{"$error":"#N/A"},{"$f":"COUNT('B) Eingabe (Gruppen)'!C78:AH78)","v":0},{"$f":"IF(E70<2,#N/A,COUNTIF('B) Eingabe (Gruppen)'!C78:AH78,1))","v":{"$error":"#N/A"}},{"$f":"IF(E70<2,#N/A,COUNTIF('B) Eingabe (Gruppen)'!C78:AH78,2))","v":{"$error":"#N/A"}},{"$f":"IF(E70<2,#N/A,COUNTIF('B) Eingabe (Gruppen)'!C78:AH78,3))","v":{"$error":"#N/A"}},{"$f":"IF(E70<2,#N/A,COUNTIF('B) Eingabe (Gruppen)'!C78:AH78,4))","v":{"$error":"#N/A"}},null,{"$f":"IF(N70=0, #N/A,AVERAGE('B) Eingabe (GruppenLehrer)'!C78:AH78))","v":{"$error":"#N/A"}},{"$f":"IF(N70<1, #N/A, STDEVP('B) Eingabe (GruppenLehrer)'!C78:AH78))","v":{"$error":"#N/A"}},{"$error":"#N/A"},{"$f":"COUNT('B) Eingabe (GruppenLehrer)'!C78:AH78)","v":0},{"$f":"IF(N70<1,#N/A,COUNTIF('B) Eingabe (GruppenLehrer)'!C78:AH78,1))","v":{"$error":"#N/A"}},{"$f":"IF(N70<1,#N/A,COUNTIF('B) Eingabe (GruppenLehrer)'!C78:AH78,2))","v":{"$error":"#N/A"}},{"$f":"IF(N70<1,#N/A,COUNTIF('B) Eingabe (GruppenLehrer)'!C78:AH78,3))","v":{"$error":"#N/A"}},{"$f":"IF(N70<1,#N/A,COUNTIF('B) Eingabe (GruppenLehrer)'!C78:AH78,4))","v":{"$error":"#N/A"}}]
[{"$f":"FragenErstellen!A75","v":0},{"$f":"IF(E71=0, #N/A,AVERAGE('B) Eingabe (Gruppen)'!C79:AH79))","v":{"$error":"#N/A"}},{"$f":"IF(E71<2, #N/A, STDEVP('B) Eingabe (Gruppen)'!C79:AH79))","v":{"$error":"#N/A"}},{"$error":"#N/A"},{"$f":"COUNT('B) Eingabe (Gruppen)'!C79:AH79)","v":0},{"$f":"IF(E71<2,#N/A,COUNTIF('B) Eingabe (Gruppen)'!C79:AH79,1))","v":{"$error":"#N/A"}},{"$f":"IF(E71<2,#N/A,COUNTIF('B) Eingabe (Gruppen)'!C79:AH79,2))","v":{"$error":"#N/A"}},{"$f":"IF(E71<2,#N/A,COUNTIF('B) Eingabe (Gruppen)'!C79:AH79,3))","v":{"$error":"#N/A"}},{"$f":"IF(E71<2,#N/A,COUNTIF('B) Eingabe (Gruppen)'!C79:AH79,4))","v":{"$error":"#N/A"}},null,{"$f":"IF(N71=0, #N/A,AVERAGE('B) Eingabe (GruppenLehrer)'!C79:AH79))","v":{"$error":"#N/A"}},{"$f":"IF(N71<1, #N/A, STDEVP('B) Eingabe (GruppenLehrer)'!C79:AH79))","v":{"$error":"#N/A"}},{"$error":"#N/A"},{"$f":"COUNT('B) Eingabe (GruppenLehrer)'!C79:AH79)","v":0},{"$f":"IF(N71<1,#N/A,COUNTIF('B) Eingabe (GruppenLehrer)'!C79:AH79,1))","v":{"$error":"#N/A"}},{"$f":"IF(N71<1,#N/A,COUNTIF('B) Eingabe (GruppenLehrer)'!C79:AH79,2))","v":{"$error":"#N/A"}},{"$f":"IF(N71<1,#N/A,COUNTIF('B) Eingabe (GruppenLehrer)'!C79:AH79,3))","v":{"$error":"#N/A"}},{"$f":"IF(N71<1,#N/A,COUNTIF('B) Eingabe (GruppenLehrer)'!C79:AH79,4))","v":{"$error":"#N/A"}}]
[{"$f":"FragenErstellen!A76","v":0},{"$f":"IF(E72=0, #N/A,AVERAGE('B) Eingabe (Gruppen)'!C80:AH80))","v":{"$error":"#N/A"}},{"$f":"IF(E72<2, #N/A, STDEVP('B) Eingabe (Gruppen)'!C80:AH80))","v":{"$error":"#N/A"}},{"$error":"#N/A"},{"$f":"COUNT('B) Eingabe (Gruppen)'!C80:AH80)","v":0},{"$f":"IF(E72<2,#N/A,COUNTIF('B) Eingabe (Gruppen)'!C80:AH80,1))","v":{"$error":"#N/A"}},{"$f":"IF(E72<2,#N/A,COUNTIF('B) Eingabe (Gruppen)'!C80:AH80,2))","v":{"$error":"#N/A"}},{"$f":"IF(E72<2,#N/A,COUNTIF('B) Eingabe (Gruppen)'!C80:AH80,3))","v":{"$error":"#N/A"}},{"$f":"IF(E72<2,#N/A,COUNTIF('B) Eingabe (Gruppen)'!C80:AH80,4))","v":{"$error":"#N/A"}},null,{"$f":"IF(N72=0, #N/A,AVERAGE('B) Eingabe (GruppenLehrer)'!C80:AH80))","v":{"$error":"#N/A"}},{"$f":"IF(N72<1, #N/A, STDEVP('B) Eingabe (GruppenLehrer)'!C80:AH80))","v":{"$error":"#N/A"}},{"$error":"#N/A"},{"$f":"COUNT('B) Eingabe (GruppenLehrer)'!C80:AH80)","v":0},{"$f":"IF(N72<1,#N/A,COUNTIF('B) Eingabe (GruppenLehrer)'!C80:AH80,1))","v":{"$error":"#N/A"}},{"$f":"IF(N72<1,#N/A,COUNTIF('B) Eingabe (GruppenLehrer)'!C80:AH80,2))","v":{"$error":"#N/A"}},{"$f":"IF(N72<1,#N/A,COUNTIF('B) Eingabe (GruppenLehrer)'!C80:AH80,3))","v":{"$error":"#N/A"}},{"$f":"IF(N72<1,#N/A,COUNTIF('B) Eingabe (GruppenLehrer)'!C80:AH80,4))","v":{"$error":"#N/A"}}]
[{"$f":"FragenErstellen!A77","v":0},{"$f":"IF(E73=0, #N/A,AVERAGE('B) Eingabe (Gruppen)'!C81:AH81))","v":{"$error":"#N/A"}},{"$f":"IF(E73<2, #N/A, STDEVP('B) Eingabe (Gruppen)'!C81:AH81))","v":{"$error":"#N/A"}},{"$error":"#N/A"},{"$f":"COUNT('B) Eingabe (Gruppen)'!C81:AH81)","v":0},{"$f":"IF(E73<2,#N/A,COUNTIF('B) Eingabe (Gruppen)'!C81:AH81,1))","v":{"$error":"#N/A"}},{"$f":"IF(E73<2,#N/A,COUNTIF('B) Eingabe (Gruppen)'!C81:AH81,2))","v":{"$error":"#N/A"}},{"$f":"IF(E73<2,#N/A,COUNTIF('B) Eingabe (Gruppen)'!C81:AH81,3))","v":{"$error":"#N/A"}},{"$f":"IF(E73<2,#N/A,COUNTIF('B) Eingabe (Gruppen)'!C81:AH81,4))","v":{"$error":"#N/A"}},null,{"$f":"IF(N73=0, #N/A,AVERAGE('B) Eingabe (GruppenLehrer)'!C81:AH81))","v":{"$error":"#N/A"}},{"$f":"IF(N73<1, #N/A, STDEVP('B) Eingabe (GruppenLehrer)'!C81:AH81))","v":{"$error":"#N/A"}},{"$error":"#N/A"},{"$f":"COUNT('B) Eingabe (GruppenLehrer)'!C81:AH81)","v":0},{"$f":"IF(N73<1,#N/A,COUNTIF('B) Eingabe (GruppenLehrer)'!C81:AH81,1))","v":{"$error":"#N/A"}},{"$f":"IF(N73<1,#N/A,COUNTIF('B) Eingabe (GruppenLehrer)'!C81:AH81,2))","v":{"$error":"#N/A"}},{"$f":"IF(N73<1,#N/A,COUNTIF('B) Eingabe (GruppenLehrer)'!C81:AH81,3))","v":{"$error":"#N/A"}},{"$f":"IF(N73<1,#N/A,COUNTIF('B) Eingabe (GruppenLehrer)'!C81:AH81,4))","v":{"$error":"#N/A"}}]
[{"$f":"FragenErstellen!A78","v":0},{"$f":"IF(E74=0, #N/A,AVERAGE('B) Eingabe (Gruppen)'!C82:AH82))","v":{"$error":"#N/A"}},{"$f":"IF(E74<2, #N/A, STDEVP('B) Eingabe (Gruppen)'!C82:AH82))","v":{"$error":"#N/A"}},{"$error":"#N/A"},{"$f":"COUNT('B) Eingabe (Gruppen)'!C82:AH82)","v":0},{"$f":"IF(E74<2,#N/A,COUNTIF('B) Eingabe (Gruppen)'!C82:AH82,1))","v":{"$error":"#N/A"}},{"$f":"IF(E74<2,#N/A,COUNTIF('B) Eingabe (Gruppen)'!C82:AH82,2))","v":{"$error":"#N/A"}},{"$f":"IF(E74<2,#N/A,COUNTIF('B) Eingabe (Gruppen)'!C82:AH82,3))","v":{"$error":"#N/A"}},{"$f":"IF(E74<2,#N/A,COUNTIF('B) Eingabe (Gruppen)'!C82:AH82,4))","v":{"$error":"#N/A"}},null,{"$f":"IF(N74=0, #N/A,AVERAGE('B) Eingabe (GruppenLehrer)'!C82:AH82))","v":{"$error":"#N/A"}},{"$f":"IF(N74<1, #N/A, STDEVP('B) Eingabe (GruppenLehrer)'!C82:AH82))","v":{"$error":"#N/A"}},{"$error":"#N/A"},{"$f":"COUNT('B) Eingabe (GruppenLehrer)'!C82:AH82)","v":0},{"$f":"IF(N74<1,#N/A,COUNTIF('B) Eingabe (GruppenLehrer)'!C82:AH82,1))","v":{"$error":"#N/A"}},{"$f":"IF(N74<1,#N/A,COUNTIF('B) Eingabe (GruppenLehrer)'!C82:AH82,2))","v":{"$error":"#N/A"}},{"$f":"IF(N74<1,#N/A,COUNTIF('B) Eingabe (GruppenLehrer)'!C82:AH82,3))","v":{"$error":"#N/A"}},{"$f":"IF(N74<1,#N/A,COUNTIF('B) Eingabe (GruppenLehrer)'!C82:AH82,4))","v":{"$error":"#N/A"}}]
[{"$f":"FragenErstellen!A79","v":0},{"$f":"IF(E75=0, #N/A,AVERAGE('B) Eingabe (Gruppen)'!C83:AH83))","v":{"$error":"#N/A"}},{"$f":"IF(E75<2, #N/A, STDEVP('B) Eingabe (Gruppen)'!C83:AH83))","v":{"$error":"#N/A"}},{"$error":"#N/A"},{"$f":"COUNT('B) Eingabe (Gruppen)'!C83:AH83)","v":0},{"$f":"IF(E75<2,#N/A,COUNTIF('B) Eingabe (Gruppen)'!C83:AH83,1))","v":{"$error":"#N/A"}},{"$f":"IF(E75<2,#N/A,COUNTIF('B) Eingabe (Gruppen)'!C83:AH83,2))","v":{"$error":"#N/A"}},{"$f":"IF(E75<2,#N/A,COUNTIF('B) Eingabe (Gruppen)'!C83:AH83,3))","v":{"$error":"#N/A"}},{"$f":"IF(E75<2,#N/A,COUNTIF('B) Eingabe (Gruppen)'!C83:AH83,4))","v":{"$error":"#N/A"}},null,{"$f":"IF(N75=0, #N/A,AVERAGE('B) Eingabe (GruppenLehrer)'!C83:AH83))","v":{"$error":"#N/A"}},{"$f":"IF(N75<1, #N/A, STDEVP('B) Eingabe (GruppenLehrer)'!C83:AH83))","v":{"$error":"#N/A"}},{"$error":"#N/A"},{"$f":"COUNT('B) Eingabe (GruppenLehrer)'!C83:AH83)","v":0},{"$f":"IF(N75<1,#N/A,COUNTIF('B) Eingabe (GruppenLehrer)'!C83:AH83,1))","v":{"$error":"#N/A"}},{"$f":"IF(N75<1,#N/A,COUNTIF('B) Eingabe (GruppenLehrer)'!C83:AH83,2))","v":{"$error":"#N/A"}},{"$f":"IF(N75<1,#N/A,COUNTIF('B) Eingabe (GruppenLehrer)'!C83:AH83,3))","v":{"$error":"#N/A"}},{"$f":"IF(N75<1,#N/A,COUNTIF('B) Eingabe (GruppenLehrer)'!C83:AH83,4))","v":{"$error":"#N/A"}}]
[{"$f":"FragenErstellen!A80","v":0},{"$f":"IF(E76=0, #N/A,AVERAGE('B) Eingabe (Gruppen)'!C84:AH84))","v":{"$error":"#N/A"}},{"$f":"IF(E76<2, #N/A, STDEVP('B) Eingabe (Gruppen)'!C84:AH84))","v":{"$error":"#N/A"}},{"$error":"#N/A"},{"$f":"COUNT('B) Eingabe (Gruppen)'!C84:AH84)","v":0},{"$f":"IF(E76<2,#N/A,COUNTIF('B) Eingabe (Gruppen)'!C84:AH84,1))","v":{"$error":"#N/A"}},{"$f":"IF(E76<2,#N/A,COUNTIF('B) Eingabe (Gruppen)'!C84:AH84,2))","v":{"$error":"#N/A"}},{"$f":"IF(E76<2,#N/A,COUNTIF('B) Eingabe (Gruppen)'!C84:AH84,3))","v":{"$error":"#N/A"}},{"$f":"IF(E76<2,#N/A,COUNTIF('B) Eingabe (Gruppen)'!C84:AH84,4))","v":{"$error":"#N/A"}},null,{"$f":"IF(N76=0, #N/A,AVERAGE('B) Eingabe (GruppenLehrer)'!C84:AH84))","v":{"$error":"#N/A"}},{"$f":"IF(N76<1, #N/A, STDEVP('B) Eingabe (GruppenLehrer)'!C84:AH84))","v":{"$error":"#N/A"}},{"$error":"#N/A"},{"$f":"COUNT('B) Eingabe (GruppenLehrer)'!C84:AH84)","v":0},{"$f":"IF(N76<1,#N/A,COUNTIF('B) Eingabe (GruppenLehrer)'!C84:AH84,1))","v":{"$error":"#N/A"}},{"$f":"IF(N76<1,#N/A,COUNTIF('B) Eingabe (GruppenLehrer)'!C84:AH84,2))","v":{"$error":"#N/A"}},{"$f":"IF(N76<1,#N/A,COUNTIF('B) Eingabe (GruppenLehrer)'!C84:AH84,3))","v":{"$error":"#N/A"}},{"$f":"IF(N76<1,#N/A,COUNTIF('B) Eingabe (GruppenLehrer)'!C84:AH84,4))","v":{"$error":"#N/A"}}]
[{"$f":"FragenErstellen!A81","v":0},{"$f":"IF(E77=0, #N/A,AVERAGE('B) Eingabe (Gruppen)'!C85:AH85))","v":{"$error":"#N/A"}},{"$f":"IF(E77<2, #N/A, STDEVP('B) Eingabe (Gruppen)'!C85:AH85))","v":{"$error":"#N/A"}},{"$error":"#N/A"},{"$f":"COUNT('B) Eingabe (Gruppen)'!C85:AH85)","v":0},{"$f":"IF(E77<2,#N/A,COUNTIF('B) Eingabe (Gruppen)'!C85:AH85,1))","v":{"$error":"#N/A"}},{"$f":"IF(E77<2,#N/A,COUNTIF('B) Eingabe (Gruppen)'!C85:AH85,2))","v":{"$error":"#N/A"}},{"$f":"IF(E77<2,#N/A,COUNTIF('B) Eingabe (Gruppen)'!C85:AH85,3))","v":{"$error":"#N/A"}},{"$f":"IF(E77<2,#N/A,COUNTIF('B) Eingabe (Gruppen)'!C85:AH85,4))","v":{"$error":"#N/A"}},null,{"$f":"IF(N77=0, #N/A,AVERAGE('B) Eingabe (GruppenLehrer)'!C85:AH85))","v":{"$error":"#N/A"}},{"$f":"IF(N77<1, #N/A, STDEVP('B) Eingabe (GruppenLehrer)'!C85:AH85))","v":{"$error":"#N/A"}},{"$error":"#N/A"},{"$f":"COUNT('B) Eingabe (GruppenLehrer)'!C85:AH85)","v":0},{"$f":"IF(N77<1,#N/A,COUNTIF('B) Eingabe (GruppenLehrer)'!C85:AH85,1))","v":{"$error":"#N/A"}},{"$f":"IF(N77<1,#N/A,COUNTIF('B) Eingabe (GruppenLehrer)'!C85:AH85,2))","v":{"$error":"#N/A"}},{"$f":"IF(N77<1,#N/A,COUNTIF('B) Eingabe (GruppenLehrer)'!C85:AH85,3))","v":{"$error":"#N/A"}},{"$f":"IF(N77<1,#N/A,COUNTIF('B) Eingabe (GruppenLehrer)'!C85:AH85,4))","v":{"$error":"#N/A"}}]
[{"$f":"FragenErstellen!A82","v":0},{"$f":"IF(E78=0, #N/A,AVERAGE('B) Eingabe (Gruppen)'!C86:AH86))","v":{"$error":"#N/A"}},{"$f":"IF(E78<2, #N/A, STDEVP('B) Eingabe (Gruppen)'!C86:AH86))","v":{"$error":"#N/A"}},{"$error":"#N/A"},{"$f":"COUNT('B) Eingabe (Gruppen)'!C86:AH86)","v":0},{"$f":"IF(E78<2,#N/A,COUNTIF('B) Eingabe (Gruppen)'!C86:AH86,1))","v":{"$error":"#N/A"}},{"$f":"IF(E78<2,#N/A,COUNTIF('B) Eingabe (Gruppen)'!C86:AH86,2))","v":{"$error":"#N/A"}},{"$f":"IF(E78<2,#N/A,COUNTIF('B) Eingabe (Gruppen)'!C86:AH86,3))","v":{"$error":"#N/A"}},{"$f":"IF(E78<2,#N/A,COUNTIF('B) Eingabe (Gruppen)'!C86:AH86,4))","v":{"$error":"#N/A"}},null,{"$f":"IF(N78=0, #N/A,AVERAGE('B) Eingabe (GruppenLehrer)'!C86:AH86))","v":{"$error":"#N/A"}},{"$f":"IF(N78<1, #N/A, STDEVP('B) Eingabe (GruppenLehrer)'!C86:AH86))","v":{"$error":"#N/A"}},{"$error":"#N/A"},{"$f":"COUNT('B) Eingabe (GruppenLehrer)'!C86:AH86)","v":0},{"$f":"IF(N78<1,#N/A,COUNTIF('B) Eingabe (GruppenLehrer)'!C86:AH86,1))","v":{"$error":"#N/A"}},{"$f":"IF(N78<1,#N/A,COUNTIF('B) Eingabe (GruppenLehrer)'!C86:AH86,2))","v":{"$error":"#N/A"}},{"$f":"IF(N78<1,#N/A,COUNTIF('B) Eingabe (GruppenLehrer)'!C86:AH86,3))","v":{"$error":"#N/A"}},{"$f":"IF(N78<1,#N/A,COUNTIF('B) Eingabe (GruppenLehrer)'!C86:AH86,4))","v":{"$error":"#N/A"}}]
[{"$f":"FragenErstellen!A83","v":0},{"$f":"IF(E79=0, #N/A,AVERAGE('B) Eingabe (Gruppen)'!C87:AH87))","v":{"$error":"#N/A"}},{"$f":"IF(E79<2, #N/A, STDEVP('B) Eingabe (Gruppen)'!C87:AH87))","v":{"$error":"#N/A"}},{"$error":"#N/A"},{"$f":"COUNT('B) Eingabe (Gruppen)'!C87:AH87)","v":0},{"$f":"IF(E79<2,#N/A,COUNTIF('B) Eingabe (Gruppen)'!C87:AH87,1))","v":{"$error":"#N/A"}},{"$f":"IF(E79<2,#N/A,COUNTIF('B) Eingabe (Gruppen)'!C87:AH87,2))","v":{"$error":"#N/A"}},{"$f":"IF(E79<2,#N/A,COUNTIF('B) Eingabe (Gruppen)'!C87:AH87,3))","v":{"$error":"#N/A"}},{"$f":"IF(E79<2,#N/A,COUNTIF('B) Eingabe (Gruppen)'!C87:AH87,4))","v":{"$error":"#N/A"}},null,{"$f":"IF(N79=0, #N/A,AVERAGE('B) Eingabe (GruppenLehrer)'!C87:AH87))","v":{"$error":"#N/A"}},{"$f":"IF(N79<1, #N/A, STDEVP('B) Eingabe (GruppenLehrer)'!C87:AH87))","v":{"$error":"#N/A"}},{"$error":"#N/A"},{"$f":"COUNT('B) Eingabe (GruppenLehrer)'!C87:AH87)","v":0},{"$f":"IF(N79<1,#N/A,COUNTIF('B) Eingabe (GruppenLehrer)'!C87:AH87,1))","v":{"$error":"#N/A"}},{"$f":"IF(N79<1,#N/A,COUNTIF('B) Eingabe (GruppenLehrer)'!C87:AH87,2))","v":{"$error":"#N/A"}},{"$f":"IF(N79<1,#N/A,COUNTIF('B) Eingabe (GruppenLehrer)'!C87:AH87,3))","v":{"$error":"#N/A"}},{"$f":"IF(N79<1,#N/A,COUNTIF('B) Eingabe (GruppenLehrer)'!C87:AH87,4))","v":{"$error":"#N/A"}}]
[{"$f":"FragenErstellen!A84","v":0},{"$f":"IF(E80=0, #N/A,AVERAGE('B) Eingabe (Gruppen)'!C88:AH88))","v":{"$error":"#N/A"}},{"$f":"IF(E80<2, #N/A, STDEVP('B) Eingabe (Gruppen)'!C88:AH88))","v":{"$error":"#N/A"}},{"$error":"#N/A"},{"$f":"COUNT('B) Eingabe (Gruppen)'!C88:AH88)","v":0},{"$f":"IF(E80<2,#N/A,COUNTIF('B) Eingabe (Gruppen)'!C88:AH88,1))","v":{"$error":"#N/A"}},{"$f":"IF(E80<2,#N/A,COUNTIF('B) Eingabe (Gruppen)'!C88:AH88,2))","v":{"$error":"#N/A"}},{"$f":"IF(E80<2,#N/A,COUNTIF('B) Eingabe (Gruppen)'!C88:AH88,3))","v":{"$error":"#N/A"}},{"$f":"IF(E80<2,#N/A,COUNTIF('B) Eingabe (Gruppen)'!C88:AH88,4))","v":{"$error":"#N/A"}},null,{"$f":"IF(N80=0, #N/A,AVERAGE('B) Eingabe (GruppenLehrer)'!C88:AH88))","v":{"$error":"#N/A"}},{"$f":"IF(N80<1, #N/A, STDEVP('B) Eingabe (GruppenLehrer)'!C88:AH88))","v":{"$error":"#N/A"}},{"$error":"#N/A"},{"$f":"COUNT('B) Eingabe (GruppenLehrer)'!C88:AH88)","v":0},{"$f":"IF(N80<1,#N/A,COUNTIF('B) Eingabe (GruppenLehrer)'!C88:AH88,1))","v":{"$error":"#N/A"}},{"$f":"IF(N80<1,#N/A,COUNTIF('B) Eingabe (GruppenLehrer)'!C88:AH88,2))","v":{"$error":"#N/A"}},{"$f":"IF(N80<1,#N/A,COUNTIF('B) Eingabe (GruppenLehrer)'!C88:AH88,3))","v":{"$error":"#N/A"}},{"$f":"IF(N80<1,#N/A,COUNTIF('B) Eingabe (GruppenLehrer)'!C88:AH88,4))","v":{"$error":"#N/A"}}]
[{"$f":"FragenErstellen!A85","v":0},{"$f":"IF(E81=0, #N/A,AVERAGE('B) Eingabe (Gruppen)'!C89:AH89))","v":{"$error":"#N/A"}},{"$f":"IF(E81<2, #N/A, STDEVP('B) Eingabe (Gruppen)'!C89:AH89))","v":{"$error":"#N/A"}},{"$error":"#N/A"},{"$f":"COUNT('B) Eingabe (Gruppen)'!C89:AH89)","v":0},{"$f":"IF(E81<2,#N/A,COUNTIF('B) Eingabe (Gruppen)'!C89:AH89,1))","v":{"$error":"#N/A"}},{"$f":"IF(E81<2,#N/A,COUNTIF('B) Eingabe (Gruppen)'!C89:AH89,2))","v":{"$error":"#N/A"}},{"$f":"IF(E81<2,#N/A,COUNTIF('B) Eingabe (Gruppen)'!C89:AH89,3))","v":{"$error":"#N/A"}},{"$f":"IF(E81<2,#N/A,COUNTIF('B) Eingabe (Gruppen)'!C89:AH89,4))","v":{"$error":"#N/A"}},null,{"$f":"IF(N81=0, #N/A,AVERAGE('B) Eingabe (GruppenLehrer)'!C89:AH89))","v":{"$error":"#N/A"}},{"$f":"IF(N81<1, #N/A, STDEVP('B) Eingabe (GruppenLehrer)'!C89:AH89))","v":{"$error":"#N/A"}},{"$error":"#N/A"},{"$f":"COUNT('B) Eingabe (GruppenLehrer)'!C89:AH89)","v":0},{"$f":"IF(N81<1,#N/A,COUNTIF('B) Eingabe (GruppenLehrer)'!C89:AH89,1))","v":{"$error":"#N/A"}},{"$f":"IF(N81<1,#N/A,COUNTIF('B) Eingabe (GruppenLehrer)'!C89:AH89,2))","v":{"$error":"#N/A"}},{"$f":"IF(N81<1,#N/A,COUNTIF('B) Eingabe (GruppenLehrer)'!C89:AH89,3))","v":{"$error":"#N/A"}},{"$f":"IF(N81<1,#N/A,COUNTIF('B) Eingabe (GruppenLehrer)'!C89:AH89,4))","v":{"$error":"#N/A"}}]
[{"$f":"FragenErstellen!A86","v":0},{"$f":"IF(E82=0, #N/A,AVERAGE('B) Eingabe (Gruppen)'!C90:AH90))","v":{"$error":"#N/A"}},{"$f":"IF(E82<2, #N/A, STDEVP('B) Eingabe (Gruppen)'!C90:AH90))","v":{"$error":"#N/A"}},{"$error":"#N/A"},{"$f":"COUNT('B) Eingabe (Gruppen)'!C90:AH90)","v":0},{"$f":"IF(E82<2,#N/A,COUNTIF('B) Eingabe (Gruppen)'!C90:AH90,1))","v":{"$error":"#N/A"}},{"$f":"IF(E82<2,#N/A,COUNTIF('B) Eingabe (Gruppen)'!C90:AH90,2))","v":{"$error":"#N/A"}},{"$f":"IF(E82<2,#N/A,COUNTIF('B) Eingabe (Gruppen)'!C90:AH90,3))","v":{"$error":"#N/A"}},{"$f":"IF(E82<2,#N/A,COUNTIF('B) Eingabe (Gruppen)'!C90:AH90,4))","v":{"$error":"#N/A"}},null,{"$f":"IF(N82=0, #N/A,AVERAGE('B) Eingabe (GruppenLehrer)'!C90:AH90))","v":{"$error":"#N/A"}},{"$f":"IF(N82<1, #N/A, STDEVP('B) Eingabe (GruppenLehrer)'!C90:AH90))","v":{"$error":"#N/A"}},{"$error":"#N/A"},{"$f":"COUNT('B) Eingabe (GruppenLehrer)'!C90:AH90)","v":0},{"$f":"IF(N82<1,#N/A,COUNTIF('B) Eingabe (GruppenLehrer)'!C90:AH90,1))","v":{"$error":"#N/A"}},{"$f":"IF(N82<1,#N/A,COUNTIF('B) Eingabe (GruppenLehrer)'!C90:AH90,2))","v":{"$error":"#N/A"}},{"$f":"IF(N82<1,#N/A,COUNTIF('B) Eingabe (GruppenLehrer)'!C90:AH90,3))","v":{"$error":"#N/A"}},{"$f":"IF(N82<1,#N/A,COUNTIF('B) Eingabe (GruppenLehrer)'!C90:AH90,4))","v":{"$error":"#N/A"}}]
[{"$f":"FragenErstellen!A87","v":0},{"$f":"IF(E83=0, #N/A,AVERAGE('B) Eingabe (Gruppen)'!C91:AH91))","v":{"$error":"#N/A"}},{"$f":"IF(E83<2, #N/A, STDEVP('B) Eingabe (Gruppen)'!C91:AH91))","v":{"$error":"#N/A"}},{"$error":"#N/A"},{"$f":"COUNT('B) Eingabe (Gruppen)'!C91:AH91)","v":0},{"$f":"IF(E83<2,#N/A,COUNTIF('B) Eingabe (Gruppen)'!C91:AH91,1))","v":{"$error":"#N/A"}},{"$f":"IF(E83<2,#N/A,COUNTIF('B) Eingabe (Gruppen)'!C91:AH91,2))","v":{"$error":"#N/A"}},{"$f":"IF(E83<2,#N/A,COUNTIF('B) Eingabe (Gruppen)'!C91:AH91,3))","v":{"$error":"#N/A"}},{"$f":"IF(E83<2,#N/A,COUNTIF('B) Eingabe (Gruppen)'!C91:AH91,4))","v":{"$error":"#N/A"}},null,{"$f":"IF(N83=0, #N/A,AVERAGE('B) Eingabe (GruppenLehrer)'!C91:AH91))","v":{"$error":"#N/A"}},{"$f":"IF(N83<1, #N/A, STDEVP('B) Eingabe (GruppenLehrer)'!C91:AH91))","v":{"$error":"#N/A"}},{"$error":"#N/A"},{"$f":"COUNT('B) Eingabe (GruppenLehrer)'!C91:AH91)","v":0},{"$f":"IF(N83<1,#N/A,COUNTIF('B) Eingabe (GruppenLehrer)'!C91:AH91,1))","v":{"$error":"#N/A"}},{"$f":"IF(N83<1,#N/A,COUNTIF('B) Eingabe (GruppenLehrer)'!C91:AH91,2))","v":{"$error":"#N/A"}},{"$f":"IF(N83<1,#N/A,COUNTIF('B) Eingabe (GruppenLehrer)'!C91:AH91,3))","v":{"$error":"#N/A"}},{"$f":"IF(N83<1,#N/A,COUNTIF('B) Eingabe (GruppenLehrer)'!C91:AH91,4))","v":{"$error":"#N/A"}}]
[{"$f":"FragenErstellen!A88","v":0},{"$f":"IF(E84=0, #N/A,AVERAGE('B) Eingabe (Gruppen)'!C92:AH92))","v":{"$error":"#N/A"}},{"$f":"IF(E84<2, #N/A, STDEVP('B) Eingabe (Gruppen)'!C92:AH92))","v":{"$error":"#N/A"}},{"$error":"#N/A"},{"$f":"COUNT('B) Eingabe (Gruppen)'!C92:AH92)","v":0},{"$f":"IF(E84<2,#N/A,COUNTIF('B) Eingabe (Gruppen)'!C92:AH92,1))","v":{"$error":"#N/A"}},{"$f":"IF(E84<2,#N/A,COUNTIF('B) Eingabe (Gruppen)'!C92:AH92,2))","v":{"$error":"#N/A"}},{"$f":"IF(E84<2,#N/A,COUNTIF('B) Eingabe (Gruppen)'!C92:AH92,3))","v":{"$error":"#N/A"}},{"$f":"IF(E84<2,#N/A,COUNTIF('B) Eingabe (Gruppen)'!C92:AH92,4))","v":{"$error":"#N/A"}},null,{"$f":"IF(N84=0, #N/A,AVERAGE('B) Eingabe (GruppenLehrer)'!C92:AH92))","v":{"$error":"#N/A"}},{"$f":"IF(N84<1, #N/A, STDEVP('B) Eingabe (GruppenLehrer)'!C92:AH92))","v":{"$error":"#N/A"}},{"$error":"#N/A"},{"$f":"COUNT('B) Eingabe (GruppenLehrer)'!C92:AH92)","v":0},{"$f":"IF(N84<1,#N/A,COUNTIF('B) Eingabe (GruppenLehrer)'!C92:AH92,1))","v":{"$error":"#N/A"}},{"$f":"IF(N84<1,#N/A,COUNTIF('B) Eingabe (GruppenLehrer)'!C92:AH92,2))","v":{"$error":"#N/A"}},{"$f":"IF(N84<1,#N/A,COUNTIF('B) Eingabe (GruppenLehrer)'!C92:AH92,3))","v":{"$error":"#N/A"}},{"$f":"IF(N84<1,#N/A,COUNTIF('B) Eingabe (GruppenLehrer)'!C92:AH92,4))","v":{"$error":"#N/A"}}]
[{"$f":"FragenErstellen!A89","v":0},{"$f":"IF(E85=0, #N/A,AVERAGE('B) Eingabe (Gruppen)'!C93:AH93))","v":{"$error":"#N/A"}},{"$f":"IF(E85<2, #N/A, STDEVP('B) Eingabe (Gruppen)'!C93:AH93))","v":{"$error":"#N/A"}},{"$error":"#N/A"},{"$f":"COUNT('B) Eingabe (Gruppen)'!C93:AH93)","v":0},{"$f":"IF(E85<2,#N/A,COUNTIF('B) Eingabe (Gruppen)'!C93:AH93,1))","v":{"$error":"#N/A"}},{"$f":"IF(E85<2,#N/A,COUNTIF('B) Eingabe (Gruppen)'!C93:AH93,2))","v":{"$error":"#N/A"}},{"$f":"IF(E85<2,#N/A,COUNTIF('B) Eingabe (Gruppen)'!C93:AH93,3))","v":{"$error":"#N/A"}},{"$f":"IF(E85<2,#N/A,COUNTIF('B) Eingabe (Gruppen)'!C93:AH93,4))","v":{"$error":"#N/A"}},null,{"$f":"IF(N85=0, #N/A,AVERAGE('B) Eingabe (GruppenLehrer)'!C93:AH93))","v":{"$error":"#N/A"}},{"$f":"IF(N85<1, #N/A, STDEVP('B) Eingabe (GruppenLehrer)'!C93:AH93))","v":{"$error":"#N/A"}},{"$error":"#N/A"},{"$f":"COUNT('B) Eingabe (GruppenLehrer)'!C93:AH93)","v":0},{"$f":"IF(N85<1,#N/A,COUNTIF('B) Eingabe (GruppenLehrer)'!C93:AH93,1))","v":{"$error":"#N/A"}},{"$f":"IF(N85<1,#N/A,COUNTIF('B) Eingabe (GruppenLehrer)'!C93:AH93,2))","v":{"$error":"#N/A"}},{"$f":"IF(N85<1,#N/A,COUNTIF('B) Eingabe (GruppenLehrer)'!C93:AH93,3))","v":{"$error":"#N/A"}},{"$f":"IF(N85<1,#N/A,COUNTIF('B) Eingabe (GruppenLehrer)'!C93:AH93,4))","v":{"$error":"#N/A"}}]
[{"$f":"FragenErstellen!A90","v":0},{"$f":"IF(E86=0, #N/A,AVERAGE('B) Eingabe (Gruppen)'!C94:AH94))","v":{"$error":"#N/A"}},{"$f":"IF(E86<2, #N/A, STDEVP('B) Eingabe (Gruppen)'!C94:AH94))","v":{"$error":"#N/A"}},{"$error":"#N/A"},{"$f":"COUNT('B) Eingabe (Gruppen)'!C94:AH94)","v":0},{"$f":"IF(E86<2,#N/A,COUNTIF('B) Eingabe (Gruppen)'!C94:AH94,1))","v":{"$error":"#N/A"}},{"$f":"IF(E86<2,#N/A,COUNTIF('B) Eingabe (Gruppen)'!C94:AH94,2))","v":{"$error":"#N/A"}},{"$f":"IF(E86<2,#N/A,COUNTIF('B) Eingabe (Gruppen)'!C94:AH94,3))","v":{"$error":"#N/A"}},{"$f":"IF(E86<2,#N/A,COUNTIF('B) Eingabe (Gruppen)'!C94:AH94,4))","v":{"$error":"#N/A"}},null,{"$f":"IF(N86=0, #N/A,AVERAGE('B) Eingabe (GruppenLehrer)'!C94:AH94))","v":{"$error":"#N/A"}},{"$f":"IF(N86<1, #N/A, STDEVP('B) Eingabe (GruppenLehrer)'!C94:AH94))","v":{"$error":"#N/A"}},{"$error":"#N/A"},{"$f":"COUNT('B) Eingabe (GruppenLehrer)'!C94:AH94)","v":0},{"$f":"IF(N86<1,#N/A,COUNTIF('B) Eingabe (GruppenLehrer)'!C94:AH94,1))","v":{"$error":"#N/A"}},{"$f":"IF(N86<1,#N/A,COUNTIF('B) Eingabe (GruppenLehrer)'!C94:AH94,2))","v":{"$error":"#N/A"}},{"$f":"IF(N86<1,#N/A,COUNTIF('B) Eingabe (GruppenLehrer)'!C94:AH94,3))","v":{"$error":"#N/A"}},{"$f":"IF(N86<1,#N/A,COUNTIF('B) Eingabe (GruppenLehrer)'!C94:AH94,4))","v":{"$error":"#N/A"}}]
[{"$f":"FragenErstellen!A91","v":0},{"$f":"IF(E87=0, #N/A,AVERAGE('B) Eingabe (Gruppen)'!C95:AH95))","v":{"$error":"#N/A"}},{"$f":"IF(E87<2, #N/A, STDEVP('B) Eingabe (Gruppen)'!C95:AH95))","v":{"$error":"#N/A"}},{"$error":"#N/A"},{"$f":"COUNT('B) Eingabe (Gruppen)'!C95:AH95)","v":0},{"$f":"IF(E87<2,#N/A,COUNTIF('B) Eingabe (Gruppen)'!C95:AH95,1))","v":{"$error":"#N/A"}},{"$f":"IF(E87<2,#N/A,COUNTIF('B) Eingabe (Gruppen)'!C95:AH95,2))","v":{"$error":"#N/A"}},{"$f":"IF(E87<2,#N/A,COUNTIF('B) Eingabe (Gruppen)'!C95:AH95,3))","v":{"$error":"#N/A"}},{"$f":"IF(E87<2,#N/A,COUNTIF('B) Eingabe (Gruppen)'!C95:AH95,4))","v":{"$error":"#N/A"}},null,{"$f":"IF(N87=0, #N/A,AVERAGE('B) Eingabe (GruppenLehrer)'!C95:AH95))","v":{"$error":"#N/A"}},{"$f":"IF(N87<1, #N/A, STDEVP('B) Eingabe (GruppenLehrer)'!C95:AH95))","v":{"$error":"#N/A"}},{"$error":"#N/A"},{"$f":"COUNT('B) Eingabe (GruppenLehrer)'!C95:AH95)","v":0},{"$f":"IF(N87<1,#N/A,COUNTIF('B) Eingabe (GruppenLehrer)'!C95:AH95,1))","v":{"$error":"#N/A"}},{"$f":"IF(N87<1,#N/A,COUNTIF('B) Eingabe (GruppenLehrer)'!C95:AH95,2))","v":{"$error":"#N/A"}},{"$f":"IF(N87<1,#N/A,COUNTIF('B) Eingabe (GruppenLehrer)'!C95:AH95,3))","v":{"$error":"#N/A"}},{"$f":"IF(N87<1,#N/A,COUNTIF('B) Eingabe (GruppenLehrer)'!C95:AH95,4))","v":{"$error":"#N/A"}}]
[{"$f":"FragenErstellen!A92","v":0},{"$f":"IF(E88=0, #N/A,AVERAGE('B) Eingabe (Gruppen)'!C96:AH96))","v":{"$error":"#N/A"}},{"$f":"IF(E88<2, #N/A, STDEVP('B) Eingabe (Gruppen)'!C96:AH96))","v":{"$error":"#N/A"}},{"$error":"#N/A"},{"$f":"COUNT('B) Eingabe (Gruppen)'!C96:AH96)","v":0},{"$f":"IF(E88<2,#N/A,COUNTIF('B) Eingabe (Gruppen)'!C96:AH96,1))","v":{"$error":"#N/A"}},{"$f":"IF(E88<2,#N/A,COUNTIF('B) Eingabe (Gruppen)'!C96:AH96,2))","v":{"$error":"#N/A"}},{"$f":"IF(E88<2,#N/A,COUNTIF('B) Eingabe (Gruppen)'!C96:AH96,3))","v":{"$error":"#N/A"}},{"$f":"IF(E88<2,#N/A,COUNTIF('B) Eingabe (Gruppen)'!C96:AH96,4))","v":{"$error":"#N/A"}},null,{"$f":"IF(N88=0, #N/A,AVERAGE('B) Eingabe (GruppenLehrer)'!C96:AH96))","v":{"$error":"#N/A"}},{"$f":"IF(N88<1, #N/A, STDEVP('B) Eingabe (GruppenLehrer)'!C96:AH96))","v":{"$error":"#N/A"}},{"$error":"#N/A"},{"$f":"COUNT('B) Eingabe (GruppenLehrer)'!C96:AH96)","v":0},{"$f":"IF(N88<1,#N/A,COUNTIF('B) Eingabe (GruppenLehrer)'!C96:AH96,1))","v":{"$error":"#N/A"}},{"$f":"IF(N88<1,#N/A,COUNTIF('B) Eingabe (GruppenLehrer)'!C96:AH96,2))","v":{"$error":"#N/A"}},{"$f":"IF(N88<1,#N/A,COUNTIF('B) Eingabe (GruppenLehrer)'!C96:AH96,3))","v":{"$error":"#N/A"}},{"$f":"IF(N88<1,#N/A,COUNTIF('B) Eingabe (GruppenLehrer)'!C96:AH96,4))","v":{"$error":"#N/A"}}]
[{"$f":"FragenErstellen!A93","v":0},{"$f":"IF(E89=0, #N/A,AVERAGE('B) Eingabe (Gruppen)'!C97:AH97))","v":{"$error":"#N/A"}},{"$f":"IF(E89<2, #N/A, STDEVP('B) Eingabe (Gruppen)'!C97:AH97))","v":{"$error":"#N/A"}},{"$error":"#N/A"},{"$f":"COUNT('B) Eingabe (Gruppen)'!C97:AH97)","v":0},{"$f":"IF(E89<2,#N/A,COUNTIF('B) Eingabe (Gruppen)'!C97:AH97,1))","v":{"$error":"#N/A"}},{"$f":"IF(E89<2,#N/A,COUNTIF('B) Eingabe (Gruppen)'!C97:AH97,2))","v":{"$error":"#N/A"}},{"$f":"IF(E89<2,#N/A,COUNTIF('B) Eingabe (Gruppen)'!C97:AH97,3))","v":{"$error":"#N/A"}},{"$f":"IF(E89<2,#N/A,COUNTIF('B) Eingabe (Gruppen)'!C97:AH97,4))","v":{"$error":"#N/A"}},null,{"$f":"IF(N89=0, #N/A,AVERAGE('B) Eingabe (GruppenLehrer)'!C97:AH97))","v":{"$error":"#N/A"}},{"$f":"IF(N89<1, #N/A, STDEVP('B) Eingabe (GruppenLehrer)'!C97:AH97))","v":{"$error":"#N/A"}},{"$error":"#N/A"},{"$f":"COUNT('B) Eingabe (GruppenLehrer)'!C97:AH97)","v":0},{"$f":"IF(N89<1,#N/A,COUNTIF('B) Eingabe (GruppenLehrer)'!C97:AH97,1))","v":{"$error":"#N/A"}},{"$f":"IF(N89<1,#N/A,COUNTIF('B) Eingabe (GruppenLehrer)'!C97:AH97,2))","v":{"$error":"#N/A"}},{"$f":"IF(N89<1,#N/A,COUNTIF('B) Eingabe (GruppenLehrer)'!C97:AH97,3))","v":{"$error":"#N/A"}},{"$f":"IF(N89<1,#N/A,COUNTIF('B) Eingabe (GruppenLehrer)'!C97:AH97,4))","v":{"$error":"#N/A"}}]
[{"$f":"FragenErstellen!A94","v":0},{"$f":"IF(E90=0, #N/A,AVERAGE('B) Eingabe (Gruppen)'!C98:AH98))","v":{"$error":"#N/A"}},{"$f":"IF(E90<2, #N/A, STDEVP('B) Eingabe (Gruppen)'!C98:AH98))","v":{"$error":"#N/A"}},{"$error":"#N/A"},{"$f":"COUNT('B) Eingabe (Gruppen)'!C98:AH98)","v":0},{"$f":"IF(E90<2,#N/A,COUNTIF('B) Eingabe (Gruppen)'!C98:AH98,1))","v":{"$error":"#N/A"}},{"$f":"IF(E90<2,#N/A,COUNTIF('B) Eingabe (Gruppen)'!C98:AH98,2))","v":{"$error":"#N/A"}},{"$f":"IF(E90<2,#N/A,COUNTIF('B) Eingabe (Gruppen)'!C98:AH98,3))","v":{"$error":"#N/A"}},{"$f":"IF(E90<2,#N/A,COUNTIF('B) Eingabe (Gruppen)'!C98:AH98,4))","v":{"$error":"#N/A"}},null,{"$f":"IF(N90=0, #N/A,AVERAGE('B) Eingabe (GruppenLehrer)'!C98:AH98))","v":{"$error":"#N/A"}},{"$f":"IF(N90<1, #N/A, STDEVP('B) Eingabe (GruppenLehrer)'!C98:AH98))","v":{"$error":"#N/A"}},{"$error":"#N/A"},{"$f":"COUNT('B) Eingabe (GruppenLehrer)'!C98:AH98)","v":0},{"$f":"IF(N90<1,#N/A,COUNTIF('B) Eingabe (GruppenLehrer)'!C98:AH98,1))","v":{"$error":"#N/A"}},{"$f":"IF(N90<1,#N/A,COUNTIF('B) Eingabe (GruppenLehrer)'!C98:AH98,2))","v":{"$error":"#N/A"}},{"$f":"IF(N90<1,#N/A,COUNTIF('B) Eingabe (GruppenLehrer)'!C98:AH98,3))","v":{"$error":"#N/A"}},{"$f":"IF(N90<1,#N/A,COUNTIF('B) Eingabe (GruppenLehrer)'!C98:AH98,4))","v":{"$error":"#N/A"}}]
[{"$f":"FragenErstellen!A95","v":0},{"$f":"IF(E91=0, #N/A,AVERAGE('B) Eingabe (Gruppen)'!C99:AH99))","v":{"$error":"#N/A"}},{"$f":"IF(E91<2, #N/A, STDEVP('B) Eingabe (Gruppen)'!C99:AH99))","v":{"$error":"#N/A"}},{"$error":"#N/A"},{"$f":"COUNT('B) Eingabe (Gruppen)'!C99:AH99)","v":0},{"$f":"IF(E91<2,#N/A,COUNTIF('B) Eingabe (Gruppen)'!C99:AH99,1))","v":{"$error":"#N/A"}},{"$f":"IF(E91<2,#N/A,COUNTIF('B) Eingabe (Gruppen)'!C99:AH99,2))","v":{"$error":"#N/A"}},{"$f":"IF(E91<2,#N/A,COUNTIF('B) Eingabe (Gruppen)'!C99:AH99,3))","v":{"$error":"#N/A"}},{"$f":"IF(E91<2,#N/A,COUNTIF('B) Eingabe (Gruppen)'!C99:AH99,4))","v":{"$error":"#N/A"}},null,{"$f":"IF(N91=0, #N/A,AVERAGE('B) Eingabe (GruppenLehrer)'!C99:AH99))","v":{"$error":"#N/A"}},{"$f":"IF(N91<1, #N/A, STDEVP('B) Eingabe (GruppenLehrer)'!C99:AH99))","v":{"$error":"#N/A"}},{"$error":"#N/A"},{"$f":"COUNT('B) Eingabe (GruppenLehrer)'!C99:AH99)","v":0},{"$f":"IF(N91<1,#N/A,COUNTIF('B) Eingabe (GruppenLehrer)'!C99:AH99,1))","v":{"$error":"#N/A"}},{"$f":"IF(N91<1,#N/A,COUNTIF('B) Eingabe (GruppenLehrer)'!C99:AH99,2))","v":{"$error":"#N/A"}},{"$f":"IF(N91<1,#N/A,COUNTIF('B) Eingabe (GruppenLehrer)'!C99:AH99,3))","v":{"$error":"#N/A"}},{"$f":"IF(N91<1,#N/A,COUNTIF('B) Eingabe (GruppenLehrer)'!C99:AH99,4))","v":{"$error":"#N/A"}}]
[{"$f":"FragenErstellen!A96","v":0},{"$f":"IF(E92=0, #N/A,AVERAGE('B) Eingabe (Gruppen)'!C100:AH100))","v":{"$error":"#N/A"}},{"$f":"IF(E92<2, #N/A, STDEVP('B) Eingabe (Gruppen)'!C100:AH100))","v":{"$error":"#N/A"}},{"$error":"#N/A"},{"$f":"COUNT('B) Eingabe (Gruppen)'!C100:AH100)","v":0},{"$f":"IF(E92<2,#N/A,COUNTIF('B) Eingabe (Gruppen)'!C100:AH100,1))","v":{"$error":"#N/A"}},{"$f":"IF(E92<2,#N/A,COUNTIF('B) Eingabe (Gruppen)'!C100:AH100,2))","v":{"$error":"#N/A"}},{"$f":"IF(E92<2,#N/A,COUNTIF('B) Eingabe (Gruppen)'!C100:AH100,3))","v":{"$error":"#N/A"}},{"$f":"IF(E92<2,#N/A,COUNTIF('B) Eingabe (Gruppen)'!C100:AH100,4))","v":{"$error":"#N/A"}},null,{"$f":"IF(N92=0, #N/A,AVERAGE('B) Eingabe (GruppenLehrer)'!C100:AH100))","v":{"$error":"#N/A"}},{"$f":"IF(N92<1, #N/A, STDEVP('B) Eingabe (GruppenLehrer)'!C100:AH100))","v":{"$error":"#N/A"}},{"$error":"#N/A"},{"$f":"COUNT('B) Eingabe (GruppenLehrer)'!C100:AH100)","v":0},{"$f":"IF(N92<1,#N/A,COUNTIF('B) Eingabe (GruppenLehrer)'!C100:AH100,1))","v":{"$error":"#N/A"}},{"$f":"IF(N92<1,#N/A,COUNTIF('B) Eingabe (GruppenLehrer)'!C100:AH100,2))","v":{"$error":"#N/A"}},{"$f":"IF(N92<1,#N/A,COUNTIF('B) Eingabe (GruppenLehrer)'!C100:AH100,3))","v":{"$error":"#N/A"}},{"$f":"IF(N92<1,#N/A,COUNTIF('B) Eingabe (GruppenLehrer)'!C100:AH100,4))","v":{"$error":"#N/A"}}]
[{"$f":"FragenErstellen!A97","v":0},{"$f":"IF(E93=0, #N/A,AVERAGE('B) Eingabe (Gruppen)'!C101:AH101))","v":{"$error":"#N/A"}},{"$f":"IF(E93<2, #N/A, STDEVP('B) Eingabe (Gruppen)'!C101:AH101))","v":{"$error":"#N/A"}},{"$error":"#N/A"},{"$f":"COUNT('B) Eingabe (Gruppen)'!C101:AH101)","v":0},{"$f":"IF(E93<2,#N/A,COUNTIF('B) Eingabe (Gruppen)'!C101:AH101,1))","v":{"$error":"#N/A"}},{"$f":"IF(E93<2,#N/A,COUNTIF('B) Eingabe (Gruppen)'!C101:AH101,2))","v":{"$error":"#N/A"}},{"$f":"IF(E93<2,#N/A,COUNTIF('B) Eingabe (Gruppen)'!C101:AH101,3))","v":{"$error":"#N/A"}},{"$f":"IF(E93<2,#N/A,COUNTIF('B) Eingabe (Gruppen)'!C101:AH101,4))","v":{"$error":"#N/A"}},null,{"$f":"IF(N93=0, #N/A,AVERAGE('B) Eingabe (GruppenLehrer)'!C101:AH101))","v":{"$error":"#N/A"}},{"$f":"IF(N93<1, #N/A, STDEVP('B) Eingabe (GruppenLehrer)'!C101:AH101))","v":{"$error":"#N/A"}},{"$error":"#N/A"},{"$f":"COUNT('B) Eingabe (GruppenLehrer)'!C101:AH101)","v":0},{"$f":"IF(N93<1,#N/A,COUNTIF('B) Eingabe (GruppenLehrer)'!C101:AH101,1))","v":{"$error":"#N/A"}},{"$f":"IF(N93<1,#N/A,COUNTIF('B) Eingabe (GruppenLehrer)'!C101:AH101,2))","v":{"$error":"#N/A"}},{"$f":"IF(N93<1,#N/A,COUNTIF('B) Eingabe (GruppenLehrer)'!C101:AH101,3))","v":{"$error":"#N/A"}},{"$f":"IF(N93<1,#N/A,COUNTIF('B) Eingabe (GruppenLehrer)'!C101:AH101,4))","v":{"$error":"#N/A"}}]
[]
[null,"Beurteilertendenzen"]
[null,null,"Rater ID","MW"]
[null,"Rater 1",{"$f":"'A) Temp'!B96","v":0},{"$f":"'A) Temp'!C96","v":""},{"$f":"IF(D97<>\"\",D158, #N/A)","v":{"$error":"#N/A"}}]
[null,"Rater 2",{"$f":"'A) Temp'!B97","v":0},{"$f":"'A) Temp'!C97","v":""},{"$f":"IF(D98<>\"\",D158, #N/A)","v":{"$error":"#N/A"}}]
[null,"Rater 3",{"$f":"'A) Temp'!B98","v":0},{"$f":"'A) Temp'!C98","v":""},{"$f":"IF(D99<>\"\",D158, #N/A)","v":{"$error":"#N/A"}}]
[null,"Rater 4",{"$f":"'A) Temp'!B99","v":0},{"$f":"'A) Temp'!C99","v":""},{"$f":"IF(D100<>\"\",D158, #N/A)","v":{"$error":"#N/A"}}]
[null,"Rater 5",{"$f":"'A) Temp'!B100","v":0},{"$f":"'A) Temp'!C100","v":""},{"$f":"IF(D101<>\"\",D158, #N/A)","v":{"$error":"#N/A"}}]
[null,"Rater 6",{"$f":"'A) Temp'!B101","v":0},{"$f":"'A) Temp'!C101","v":""},{"$f":"IF(D102<>\"\",D158, #N/A)","v":{"$error":"#N/A"}}]
[null,"Rater 7",{"$f":"'A) Temp'!B102","v":0},{"$f":"'A) Temp'!C102","v":""},{"$f":"IF(D103<>\"\",D158, #N/A)","v":{"$error":"#N/A"}}]
[null,"Rater 8",{"$f":"'A) Temp'!B103","v":0},{"$f":"'A) Temp'!C103","v":""},{"$f":"IF(D104<>\"\",D158, #N/A)","v":{"$error":"#N/A"}}]
[null,"Rater 9",{"$f":"'A) Temp'!B104","v":0},{"$f":"'A) Temp'!C104","v":""},{"$f":"IF(D105<>\"\",D158, #N/A)","v":{"$error":"#N/A"}}]
[null,"Rater 10",{"$f":"'A) Temp'!B105","v":0},{"$f":"'A) Temp'!C105","v":""},{"$f":"IF(D106<>\"\",D158, #N/A)","v":{"$error":"#N/A"}}]
[null,"Rater 11",{"$f":"'A) Temp'!B106","v":0},{"$f":"'A) Temp'!C106","v":""},{"$f":"IF(D107<>\"\",D158, #N/A)","v":{"$error":"#N/A"}}]
[null,"Rater 12",{"$f":"'A) Temp'!B107","v":0},{"$f":"'A) Temp'!C107","v":""},{"$f":"IF(D108<>\"\",D158, #N/A)","v":{"$error":"#N/A"}}]
[null,"Rater 13",{"$f":"'A) Temp'!B108","v":0},{"$f":"'A) Temp'!C108","v":""},{"$f":"IF(D109<>\"\",D158, #N/A)","v":{"$error":"#N/A"}}]
[null,"Rater 14",{"$f":"'A) Temp'!B109","v":0},{"$f":"'A) Temp'!C109","v":""},{"$f":"IF(D110<>\"\",D158, #N/A)","v":{"$error":"#N/A"}}]
[null,"Rater 15",{"$f":"'A) Temp'!B110","v":0},{"$f":"'A) Temp'!C110","v":""},{"$f":"IF(D111<>\"\",D158, #N/A)","v":{"$error":"#N/A"}}]
[null,"Rater 16",{"$f":"'A) Temp'!B111","v":0},{"$f":"'A) Temp'!C111","v":""},{"$f":"IF(D112<>\"\",D158, #N/A)","v":{"$error":"#N/A"}}]
[null,"Rater 17",{"$f":"'A) Temp'!B112","v":0},{"$f":"'A) Temp'!C112","v":""},{"$f":"IF(D113<>\"\",D158, #N/A)","v":{"$error":"#N/A"}}]
[null,"Rater 18",{"$f":"'A) Temp'!B113","v":0},{"$f":"'A) Temp'!C113","v":""},{"$f":"IF(D114<>\"\",D158, #N/A)","v":{"$error":"#N/A"}}]
[null,"Rater 19",{"$f":"'A) Temp'!B114","v":0},{"$f":"'A) Temp'!C114","v":""},{"$f":"IF(D115<>\"\",D158, #N/A)","v":{"$error":"#N/A"}}]
[null,"Rater 20",{"$f":"'A) Temp'!B115","v":0},{"$f":"'A) Temp'!C115","v":""},{"$f":"IF(D116<>\"\",D158, #N/A)","v":{"$error":"#N/A"}}]
[null,"Rater 21",{"$f":"'A) Temp'!B116","v":0},{"$f":"'A) Temp'!C116","v":""},{"$f":"IF(D117<>\"\",D158, #N/A)","v":{"$error":"#N/A"}}]
[null,"Rater 22",{"$f":"'A) Temp'!B117","v":0},{"$f":"'A) Temp'!C117","v":""},{"$f":"IF(D118<>\"\",D158, #N/A)","v":{"$error":"#N/A"}}]
[null,"Rater 23",{"$f":"'A) Temp'!B118","v":0},{"$f":"'A) Temp'!C118","v":""},{"$f":"IF(D119<>\"\",D158, #N/A)","v":{"$error":"#N/A"}}]
[null,"Rater 24",{"$f":"'A) Temp'!B119","v":0},{"$f":"'A) Temp'!C119","v":""},{"$f":"IF(D120<>\"\",D158, #N/A)","v":{"$error":"#N/A"}}]
[null,"Rater 25",{"$f":"'A) Temp'!B120","v":0},{"$f":"'A) Temp'!C120","v":""},{"$f":"IF(D121<>\"\",D158, #N/A)","v":{"$error":"#N/A"}}]
[null,"Rater 26",{"$f":"'A) Temp'!B121","v":0},{"$f":"'A) Temp'!C121","v":""},{"$f":"IF(D122<>\"\",D158, #N/A)","v":{"$error":"#N/A"}}]
[null,"Rater 27",{"$f":"'A) Temp'!B122","v":0},{"$f":"'A) Temp'!C122","v":""},{"$f":"IF(D123<>\"\",D158, #N/A)","v":{"$error":"#N/A"}}]
[null,"Rater 28",{"$f":"'A) Temp'!B123","v":0},{"$f":"'A) Temp'!C123","v":""},{"$f":"IF(D124<>\"\",D158, #N/A)","v":{"$error":"#N/A"}}]
[null,"Rater 29",{"$f":"'A) Temp'!B124","v":0},{"$f":"'A) Temp'!C124","v":""},{"$f":"IF(D125<>\"\",D158, #N/A)","v":{"$error":"#N/A"}}]
[null,"Rater 30",{"$f":"'A) Temp'!B125","v":0},{"$f":"'A) Temp'!C125","v":""},{"$f":"IF(D126<>\"\",D158, #N/A)","v":{"$error":"#N/A"}}]
[null,"Rater 31",{"$f":"'A) Temp'!B126","v":0},{"$f":"'A) Temp'!C126","v":""},{"$f":"IF(D127<>\"\",D158, #N/A)","v":{"$error":"#N/A"}}]
[null,"Rater 32",{"$f":"'A) Temp'!B127","v":0},{"$f":"'A) Temp'!C127","v":""},{"$f":"IF(D128<>\"\",D158, #N/A)","v":{"$error":"#N/A"}}]
[null,"Rater 33",{"$f":"'A) Temp'!B128","v":0},{"$f":"'A) Temp'!C128","v":""},{"$f":"IF(D129<>\"\",D158, #N/A)","v":{"$error":"#N/A"}}]
[null,"Rater 34",{"$f":"'A) Temp'!B129","v":0},{"$f":"'A) Temp'!C129","v":""},{"$f":"IF(D130<>\"\",D158, #N/A)","v":{"$error":"#N/A"}}]
[null,"Rater 35",{"$f":"'A) Temp'!B130","v":0},{"$f":"'A) Temp'!C130","v":""},{"$f":"IF(D131<>\"\",D158, #N/A)","v":{"$error":"#N/A"}}]
[null,"Rater 36",{"$f":"'A) Temp'!B131","v":0},{"$f":"'A) Temp'!C131","v":""},{"$f":"IF(D132<>\"\",D158, #N/A)","v":{"$error":"#N/A"}}]
[null,"Rater 37",{"$f":"'A) Temp'!B132","v":0},{"$f":"'A) Temp'!C132","v":""},{"$f":"IF(D133<>\"\",D158, #N/A)","v":{"$error":"#N/A"}}]
[null,"Rater 38",{"$f":"'A) Temp'!B133","v":0},{"$f":"'A) Temp'!C133","v":""},{"$f":"IF(D134<>\"\",D158, #N/A)","v":{"$error":"#N/A"}}]
[null,"Rater 39",{"$f":"'A) Temp'!B134","v":0},{"$f":"'A) Temp'!C134","v":""},{"$f":"IF(D135<>\"\",D158, #N/A)","v":{"$error":"#N/A"}}]
[null,"Rater 40",{"$f":"'A) Temp'!B135","v":0},{"$f":"'A) Temp'!C135","v":""},{"$f":"IF(D136<>\"\",D158, #N/A)","v":{"$error":"#N/A"}}]
[null,"Rater 41",{"$f":"'A) Temp'!B136","v":0},{"$f":"'A) Temp'!C136","v":""},{"$f":"IF(D137<>\"\",D158, #N/A)","v":{"$error":"#N/A"}}]
[null,"Rater 42",{"$f":"'A) Temp'!B137","v":0},{"$f":"'A) Temp'!C137","v":""},{"$f":"IF(D138<>\"\",D158, #N/A)","v":{"$error":"#N/A"}}]
[null,"Rater 43",{"$f":"'A) Temp'!B138","v":0},{"$f":"'A) Temp'!C138","v":""},{"$f":"IF(D139<>\"\",D158, #N/A)","v":{"$error":"#N/A"}}]
[null,"Rater 44",{"$f":"'A) Temp'!B139","v":0},{"$f":"'A) Temp'!C139","v":""},{"$f":"IF(D140<>\"\",D158, #N/A)","v":{"$error":"#N/A"}}]
[null,"Rater 45",{"$f":"'A) Temp'!B140","v":0},{"$f":"'A) Temp'!C140","v":""},{"$f":"IF(D141<>\"\",D158, #N/A)","v":{"$error":"#N/A"}}]
[null,"Rater 46",{"$f":"'A) Temp'!B141","v":0},{"$f":"'A) Temp'!C141","v":""},{"$f":"IF(D142<>\"\",D158, #N/A)","v":{"$error":"#N/A"}}]
[null,"Rater 47",{"$f":"'A) Temp'!B142","v":0},{"$f":"'A) Temp'!C142","v":""},{"$f":"IF(D143<>\"\",D158, #N/A)","v":{"$error":"#N/A"}}]
[null,"Rater 48",{"$f":"'A) Temp'!B143","v":0},{"$f":"'A) Temp'!C143","v":""},{"$f":"IF(D144<>\"\",D158, #N/A)","v":{"$error":"#N/A"}}]
[null,"Rater 49",{"$f":"'A) Temp'!B144","v":0},{"$f":"'A) Temp'!C144","v":""},{"$f":"IF(D145<>\"\",D158, #N/A)","v":{"$error":"#N/A"}}]
[null,"Rater 50",{"$f":"'A) Temp'!B145","v":0},{"$f":"'A) Temp'!C145","v":""},{"$f":"IF(D146<>\"\",D158, #N/A)","v":{"$error":"#N/A"}}]
[null,"Rater 51",{"$f":"'A) Temp'!B146","v":0},{"$f":"'A) Temp'!C146","v":""},{"$f":"IF(D147<>\"\",D158, #N/A)","v":{"$error":"#N/A"}}]
[null,"Rater 52",{"$f":"'A) Temp'!B147","v":0},{"$f":"'A) Temp'!C147","v":""},{"$f":"IF(D148<>\"\",D158, #N/A)","v":{"$error":"#N/A"}}]
[null,"Rater 53",{"$f":"'A) Temp'!B148","v":0},{"$f":"'A) Temp'!C148","v":""},{"$f":"IF(D149<>\"\",D158, #N/A)","v":{"$error":"#N/A"}}]
[null,"Rater 54",{"$f":"'A) Temp'!B149","v":0},{"$f":"'A) Temp'!C149","v":""},{"$f":"IF(D150<>\"\",D158, #N/A)","v":{"$error":"#N/A"}}]
[null,"Rater 55",{"$f":"'A) Temp'!B150","v":0},{"$f":"'A) Temp'!C150","v":""},{"$f":"IF(D151<>\"\",D158, #N/A)","v":{"$error":"#N/A"}}]
[null,"Rater 56",{"$f":"'A) Temp'!B151","v":0},{"$f":"'A) Temp'!C151","v":""},{"$f":"IF(D152<>\"\",D158, #N/A)","v":{"$error":"#N/A"}}]
[null,"Rater 57",{"$f":"'A) Temp'!B152","v":0},{"$f":"'A) Temp'!C152","v":""},{"$f":"IF(D153<>\"\",D158, #N/A)","v":{"$error":"#N/A"}}]
[null,"Rater 58",{"$f":"'A) Temp'!B153","v":85},{"$f":"'A) Temp'!C153","v":"Koll2"},{"$f":"IF(D154<>\"\",D158, #N/A)","v":{"$error":"#DIV/0!"}}]
[null,"Rater 59",{"$f":"'A) Temp'!B154","v":85},{"$f":"'A) Temp'!C154","v":"Kollege1"},{"$f":"IF(D155<>\"\",D158, #N/A)","v":{"$error":"#DIV/0!"}}]
[null,"Rater 60",{"$f":"'A) Temp'!B155","v":85},{"$f":"'A) Temp'!C155","v":"Lehrer"},{"$f":"IF(D156<>\"\",D158, #N/A)","v":{"$error":"#DIV/0!"}}]
[null,"Rater 61",{"$f":"'A) Temp'!B156","v":""},{"$f":"'A) Temp'!C156","v":""},{"$f":"IF(D157<>\"\",D158, #N/A)","v":{"$error":"#N/A"}}]
[null,null,"MW aller",{"$f":"AVERAGE(D97:D157)","v":{"$error":"#DIV/0!"}}]
[null,null,null,{"$f":"IF(D97<>\"\",D97, #N/A)","v":{"$error":"#N/A"}}]
[null,null,null,{"$f":"IF(D98<>\"\",D98, #N/A)","v":{"$error":"#N/A"}}]
[null,null,null,{"$error":"#N/A"}]
[null,null,null,{"$error":"#N/A"}]
[null,null,null,{"$error":"#N/A"}]
[null,null,null,{"$error":"#N/A"}]
[null,null,null,{"$error":"#N/A"}]
[null,null,null,{"$error":"#N/A"}]
[null,null,null,{"$error":"#N/A"}]
[null,null,null,{"$error":"#N/A"}]
[null,null,null,{"$error":"#N/A"}]
[null,null,null,{"$error":"#N/A"}]
[null,null,null,{"$error":"#N/A"}]
[null,null,null,{"$error":"#N/A"}]
[null,null,null,{"$error":"#N/A"}]
[null,null,null,{"$error":"#N/A"}]
[null,null,null,{"$error":"#N/A"}]
[null,null,null,{"$error":"#N/A"}]
[null,null,null,{"$error":"#N/A"}]
[null,null,null,{"$error":"#N/A"}]
[null,null,null,{"$error":"#N/A"}]
[null,null,null,{"$error":"#N/A"}]
[null,null,null,{"$error":"#N/A"}]
[null,null,null,{"$error":"#N/A"}]
[null,null,null,{"$error":"#N/A"}]
[null,null,null,{"$error":"#N/A"}]
[null,null,null,{"$error":"#N/A"}]
[null,null,null,{"$error":"#N/A"}]
[null,null,null,{"$error":"#N/A"}]
[null,null,null,{"$error":"#N/A"}]
[null,null,null,{"$error":"#N/A"}]
[null,null,null,{"$error":"#N/A"}]
[null,null,null,{"$error":"#N/A"}]
[null,null,null,{"$error":"#N/A"}]
[null,null,null,{"$error":"#N/A"}]
[null,null,null,{"$error":"#N/A"}]
[null,null,null,{"$error":"#N/A"}]
[null,null,null,{"$error":"#N/A"}]
[null,null,null,{"$error":"#N/A"}]
[null,null,null,{"$error":"#N/A"}]
[null,null,null,{"$error":"#N/A"}]
[null,null,null,{"$error":"#N/A"}]
[null,null,null,{"$error":"#N/A"}]
[null,null,null,{"$error":"#N/A"}]
[null,null,null,{"$error":"#N/A"}]
[null,null,null,{"$error":"#N/A"}]
[null,null,null,{"$error":"#N/A"}]
[null,null,null,{"$error":"#N/A"}]
[null,null,null,{"$error":"#N/A"}]
[null,null,null,{"$error":"#N/A"}]
[null,null,null,{"$error":"#N/A"}]
[null,null,null,{"$error":"#N/A"}]
[null,null,null,{"$error":"#N/A"}]
[null,null,null,{"$error":"#N/A"}]
[null,null,null,{"$error":"#N/A"}]
[null,null,null,{"$error":"#N/A"}]
[null,null,null,{"$error":"#N/A"}]
[null,null,null,"Koll2"]
[null,null,null,"Kollege1"]
[null,null,null,"Lehrer"]
[null,null,null,{"$error":"#N/A"}]
[null,"Item 30 Kollegen"]
[null,null,1,2,3,4,5,6,7,8,9,10,11,12,13,14,15,16,17,18,19,20,21,22,23,24,25,26,27,28,29,30,31,32,33,34,35,36,37,38,39,40,41,42,43,44,45,46,47,48,49,50,51,52,53,54,55,56,57,58,59,60,{"$error":"#N/A"},"Summe","N","MW","%"]
[]
["zu leicht","zu leicht"]
["etwas zu leicht","etwas zu leicht"]
["genau richtig","genau richtig"]
["etwas zu schwierig","etwas zu schwierig"]
["zu schwierig","zu schwierig"]
["fehlende Angaben","fehlende Angaben"]

{"sheet":"A) Daten (Gruppen)","index":30,"n_rows":228,"n_cols":67,"rows_kept":228,"cut":false,"hidden":true,"merged":[[0,1,0,9],[0,10,0,18],[94,1,94,3]]}
[null,"Schüler-Urteil",null,null,null,null,null,null,null,null,"Lehrer-, Kollegen-Urteil"]
["Itemnr.","M","SD","Proz3_4","N","cat1","cat2","cat3","cat4",null,"M-Kolleg","SD-Kolleg","Proz34_kog","N_kog","cat1-kog","cat2-kog","cat3-kog","cat4-kog"]
[{"$f":"FragenErstellen!A7","v":1},{"$f":"IF($E3=0, #N/A,AVERAGE('A) Eingabe (Gruppen)'!C11:AH11))","v":{"$error":"#N/A"}},{"$f":"IF(E3<2, #N/A, STDEVP('A) Eingabe (Gruppen)'!C11:AH11))","v":{"$error":"#N/A"}},{"$f":"IF(E3<2, #N/A, 100*(H3+I3)/E3)","v":{"$error":"#N/A"}},{"$f":"COUNT('A) Eingabe (Gruppen)'!C11:AH11)","v":0},{"$f":"IF(E3<2,#N/A,COUNTIF('A) Eingabe (Gruppen)'!C11:AH11,1))","v":{"$error":"#N/A"}},{"$f":"IF(E3<2,#N/A,COUNTIF('A) Eingabe (Gruppen)'!C11:AH11,2))","v":{"$error":"#N/A"}},{"$f":"IF(E3<2,#N/A,COUNTIF('A) Eingabe (Gruppen)'!C11:AH11,3))","v":{"$error":"#N/A"}},{"$f":"IF(E3<2,#N/A,COUNTIF('A) Eingabe (Gruppen)'!C11:AH11,4))","v":{"$error":"#N/A"}},null,{"$f":"IF(N3=0, #N/A,AVERAGE('A) Eingabe (GruppenLehrer)'!C11:AH11))","v":{"$error":"#N/A"}},{"$f":"IF(N3<1, #N/A, STDEVP('A) Eingabe (GruppenLehrer)'!C11:AH11))","v":{"$error":"#N/A"}},{"$f":"IF(N3<1, #N/A, 100*(Q3+R3)/N3)","v":{"$error":"#N/A"}},{"$f":"COUNT('A) Eingabe (GruppenLehrer)'!C11:AH11)","v":0},{"$f":"IF(N3<1,#N/A,COUNTIF('A) Eingabe (GruppenLehrer)'!C11:AH11,1))","v":{"$error":"#N/A"}},{"$f":"IF(N3<1,#N/A,COUNTIF('A) Eingabe (GruppenLehrer)'!C11:AH11,2))","v":{"$error":"#N/A"}},{"$f":"IF(N3<1,#N/A,COUNTIF('A) Eingabe (GruppenLehrer)'!C11:AH11,3))","v":{"$error":"#N/A"}},{"$f":"IF(N3<1,#N/A,COUNTIF('A) Eingabe (GruppenLehrer)'!C11:AH11,4))","v":{"$error":"#N/A"}}]
[{"$f":"FragenErstellen!A8","v":2},{"$f":"IF($E4=0, #N/A,AVERAGE('A) Eingabe (Gruppen)'!C12:AH12))","v":{"$error":"#N/A"}},{"$f":"IF(E4<2, #N/A, STDEVP('A) Eingabe (Gruppen)'!C12:AH12))","v":{"$error":"#N/A"}},{"$f":"IF(E4<2, #N/A, 100*(H4+I4)/E4)","v":{"$error":"#N/A"}},{"$f":"COUNT('A) Eingabe (Gruppen)'!C12:AH12)","v":0},{"$f":"IF(E4<2,#N/A,COUNTIF('A) Eingabe (Gruppen)'!C12:AH12,1))","v":{"$error":"#N/A"}},{"$f":"IF(E4<2,#N/A,COUNTIF('A) Eingabe (Gruppen)'!C12:AH12,2))","v":{"$error":"#N/A"}},{"$f":"IF(E4<2,#N/A,COUNTIF('A) Eingabe (Gruppen)'!C12:AH12,3))","v":{"$error":"#N/A"}},{"$f":"IF(E4<2,#N/A,COUNTIF('A) Eingabe (Gruppen)'!C12:AH12,4))","v":{"$error":"#N/A"}},null,{"$f":"IF(N4=0, #N/A,AVERAGE('A) Eingabe (GruppenLehrer)'!C12:AH12))","v":{"$error":"#N/A"}},{"$f":"IF(N4<1, #N/A, STDEVP('A) Eingabe (GruppenLehrer)'!C12:AH12))","v":{"$error":"#N/A"}},{"$f":"IF(N4<1, #N/A, 100*(Q4+R4)/N4)","v":{"$error":"#N/A"}},{"$f":"COUNT('A) Eingabe (GruppenLehrer)'!C12:AH12)","v":0},{"$f":"IF(N4<1,#N/A,COUNTIF('A) Eingabe (GruppenLehrer)'!C12:AH12,1))","v":{"$error":"#N/A"}},{"$f":"IF(N4<1,#N/A,COUNTIF('A) Eingabe (GruppenLehrer)'!C12:AH12,2))","v":{"$error":"#N/A"}},{"$f":"IF(N4<1,#N/A,COUNTIF('A) Eingabe (GruppenLehrer)'!C12:AH12,3))","v":{"$error":"#N/A"}},{"$f":"IF(N4<1,#N/A,COUNTIF('A) Eingabe (GruppenLehrer)'!C12:AH12,4))","v":{"$error":"#N/A"}}]
[{"$f":"FragenErstellen!A9","v":3},{"$f":"IF($E5=0, #N/A,AVERAGE('A) Eingabe (Gruppen)'!C13:AH13))","v":{"$error":"#N/A"}},{"$f":"IF(E5<2, #N/A, STDEVP('A) Eingabe (Gruppen)'!C13:AH13))","v":{"$error":"#N/A"}},{"$error":"#N/A"},{"$f":"COUNT('A) Eingabe (Gruppen)'!C13:AH13)","v":0},{"$f":"IF(E5<2,#N/A,COUNTIF('A) Eingabe (Gruppen)'!C13:AH13,1))","v":{"$error":"#N/A"}},{"$f":"IF(E5<2,#N/A,COUNTIF('A) Eingabe (Gruppen)'!C13:AH13,2))","v":{"$error":"#N/A"}},{"$f":"IF(E5<2,#N/A,COUNTIF('A) Eingabe (Gruppen)'!C13:AH13,3))","v":{"$error":"#N/A"}},{"$f":"IF(E5<2,#N/A,COUNTIF('A) Eingabe (Gruppen)'!C13:AH13,4))","v":{"$error":"#N/A"}},null,{"$f":"IF(N5=0, #N/A,AVERAGE('A) Eingabe (GruppenLehrer)'!C13:AH13))","v":{"$error":"#N/A"}},{"$f":"IF(N5<1, #N/A, STDEVP('A) Eingabe (GruppenLehrer)'!C13:AH13))","v":{"$error":"#N/A"}},{"$error":"#N/A"},{"$f":"COUNT('A) Eingabe (GruppenLehrer)'!C13:AH13)","v":0},{"$f":"IF(N5<1,#N/A,COUNTIF('A) Eingabe (GruppenLehrer)'!C13:AH13,1))","v":{"$error":"#N/A"}},{"$f":"IF(N5<1,#N/A,COUNTIF('A) Eingabe (GruppenLehrer)'!C13:AH13,2))","v":{"$error":"#N/A"}},{"$f":"IF(N5<1,#N/A,COUNTIF('A) Eingabe (GruppenLehrer)'!C13:AH13,3))","v":{"$error":"#N/A"}},{"$f":"IF(N5<1,#N/A,COUNTIF('A) Eingabe (GruppenLehrer)'!C13:AH13,4))","v":{"$error":"#N/A"}}]
[{"$f":"FragenErstellen!A10","v":4},{"$f":"IF($E6=0, #N/A,AVERAGE('A) Eingabe (Gruppen)'!C14:AH14))","v":{"$error":"#N/A"}},{"$f":"IF(E6<2, #N/A, STDEVP('A) Eingabe (Gruppen)'!C14:AH14))","v":{"$error":"#N/A"}},{"$error":"#N/A"},{"$f":"COUNT('A) Eingabe (Gruppen)'!C14:AH14)","v":0},{"$f":"IF(E6<2,#N/A,COUNTIF('A) Eingabe (Gruppen)'!C14:AH14,1))","v":{"$error":"#N/A"}},{"$f":"IF(E6<2,#N/A,COUNTIF('A) Eingabe (Gruppen)'!C14:AH14,2))","v":{"$error":"#N/A"}},{"$f":"IF(E6<2,#N/A,COUNTIF('A) Eingabe (Gruppen)'!C14:AH14,3))","v":{"$error":"#N/A"}},{"$f":"IF(E6<2,#N/A,COUNTIF('A) Eingabe (Gruppen)'!C14:AH14,4))","v":{"$error":"#N/A"}},null,{"$f":"IF(N6=0, #N/A,AVERAGE('A) Eingabe (GruppenLehrer)'!C14:AH14))","v":{"$error":"#N/A"}},{"$f":"IF(N6<1, #N/A, STDEVP('A) Eingabe (GruppenLehrer)'!C14:AH14))","v":{"$error":"#N/A"}},{"$error":"#N/A"},{"$f":"COUNT('A) Eingabe (GruppenLehrer)'!C14:AH14)","v":0},{"$f":"IF(N6<1,#N/A,COUNTIF('A) Eingabe (GruppenLehrer)'!C14:AH14,1))","v":{"$error":"#N/A"}},{"$f":"IF(N6<1,#N/A,COUNTIF('A) Eingabe (GruppenLehrer)'!C14:AH14,2))","v":{"$error":"#N/A"}},{"$f":"IF(N6<1,#N/A,COUNTIF('A) Eingabe (GruppenLehrer)'!C14:AH14,3))","v":{"$error":"#N/A"}},{"$f":"IF(N6<1,#N/A,COUNTIF('A) Eingabe (GruppenLehrer)'!C14:AH14,4))","v":{"$error":"#N/A"}}]
[{"$f":"FragenErstellen!A11","v":5},{"$f":"IF($E7=0, #N/A,AVERAGE('A) Eingabe (Gruppen)'!C15:AH15))","v":{"$error":"#N/A"}},{"$f":"IF(E7<2, #N/A, STDEVP('A) Eingabe (Gruppen)'!C15:AH15))","v":{"$error":"#N/A"}},{"$error":"#N/A"},{"$f":"COUNT('A) Eingabe (Gruppen)'!C15:AH15)","v":0},{"$f":"IF(E7<2,#N/A,COUNTIF('A) Eingabe (Gruppen)'!C15:AH15,1))","v":{"$error":"#N/A"}},{"$f":"IF(E7<2,#N/A,COUNTIF('A) Eingabe (Gruppen)'!C15:AH15,2))","v":{"$error":"#N/A"}},{"$f":"IF(E7<2,#N/A,COUNTIF('A) Eingabe (Gruppen)'!C15:AH15,3))","v":{"$error":"#N/A"}},{"$f":"IF(E7<2,#N/A,COUNTIF('A) Eingabe (Gruppen)'!C15:AH15,4))","v":{"$error":"#N/A"}},null,{"$f":"IF(N7=0, #N/A,AVERAGE('A) Eingabe (GruppenLehrer)'!C15:AH15))","v":{"$error":"#N/A"}},{"$f":"IF(N7<1, #N/A, STDEVP('A) Eingabe (GruppenLehrer)'!C15:AH15))","v":{"$error":"#N/A"}},{"$error":"#N/A"},{"$f":"COUNT('A) Eingabe (GruppenLehrer)'!C15:AH15)","v":0},{"$f":"IF(N7<1,#N/A,COUNTIF('A) Eingabe (GruppenLehrer)'!C15:AH15,1))","v":{"$error":"#N/A"}},{"$f":"IF(N7<1,#N/A,COUNTIF('A) Eingabe (GruppenLehrer)'!C15:AH15,2))","v":{"$error":"#N/A"}},{"$f":"IF(N7<1,#N/A,COUNTIF('A) Eingabe (GruppenLehrer)'!C15:AH15,3))","v":{"$error":"#N/A"}},{"$f":"IF(N7<1,#N/A,COUNTIF('A) Eingabe (GruppenLehrer)'!C15:AH15,4))","v":{"$error":"#N/A"}}]
[{"$f":"FragenErstellen!A12","v":6},{"$f":"IF($E8=0, #N/A,AVERAGE('A) Eingabe (Gruppen)'!C16:AH16))","v":{"$error":"#N/A"}},{"$f":"IF(E8<2, #N/A, STDEVP('A) Eingabe (Gruppen)'!C16:AH16))","v":{"$error":"#N/A"}},{"$error":"#N/A"},{"$f":"COUNT('A) Eingabe (Gruppen)'!C16:AH16)","v":0},{"$f":"IF(E8<2,#N/A,COUNTIF('A) Eingabe (Gruppen)'!C16:AH16,1))","v":{"$error":"#N/A"}},{"$f":"IF(E8<2,#N/A,COUNTIF('A) Eingabe (Gruppen)'!C16:AH16,2))","v":{"$error":"#N/A"}},{"$f":"IF(E8<2,#N/A,COUNTIF('A) Eingabe (Gruppen)'!C16:AH16,3))","v":{"$error":"#N/A"}},{"$f":"IF(E8<2,#N/A,COUNTIF('A) Eingabe (Gruppen)'!C16:AH16,4))","v":{"$error":"#N/A"}},null,{"$f":"IF(N8=0, #N/A,AVERAGE('A) Eingabe (GruppenLehrer)'!C16:AH16))","v":{"$error":"#N/A"}},{"$f":"IF(N8<1, #N/A, STDEVP('A) Eingabe (GruppenLehrer)'!C16:AH16))","v":{"$error":"#N/A"}},{"$error":"#N/A"},{"$f":"COUNT('A) Eingabe (GruppenLehrer)'!C16:AH16)","v":0},{"$f":"IF(N8<1,#N/A,COUNTIF('A) Eingabe (GruppenLehrer)'!C16:AH16,1))","v":{"$error":"#N/A"}},{"$f":"IF(N8<1,#N/A,COUNTIF('A) Eingabe (GruppenLehrer)'!C16:AH16,2))","v":{"$error":"#N/A"}},{"$f":"IF(N8<1,#N/A,COUNTIF('A) Eingabe (GruppenLehrer)'!C16:AH16,3))","v":{"$error":"#N/A"}},{"$f":"IF(N8<1,#N/A,COUNTIF('A) Eingabe (GruppenLehrer)'!C16:AH16,4))","v":{"$error":"#N/A"}}]
[{"$f":"FragenErstellen!A13","v":7},{"$f":"IF($E9=0, #N/A,AVERAGE('A) Eingabe (Gruppen)'!C17:AH17))","v":{"$error":"#N/A"}},{"$f":"IF(E9<2, #N/A, STDEVP('A) Eingabe (Gruppen)'!C17:AH17))","v":{"$error":"#N/A"}},{"$error":"#N/A"},{"$f":"COUNT('A) Eingabe (Gruppen)'!C17:AH17)","v":0},{"$f":"IF(E9<2,#N/A,COUNTIF('A) Eingabe (Gruppen)'!C17:AH17,1))","v":{"$error":"#N/A"}},{"$f":"IF(E9<2,#N/A,COUNTIF('A) Eingabe (Gruppen)'!C17:AH17,2))","v":{"$error":"#N/A"}},{"$f":"IF(E9<2,#N/A,COUNTIF('A) Eingabe (Gruppen)'!C17:AH17,3))","v":{"$error":"#N/A"}},{"$f":"IF(E9<2,#N/A,COUNTIF('A) Eingabe (Gruppen)'!C17:AH17,4))","v":{"$error":"#N/A"}},null,{"$f":"IF(N9=0, #N/A,AVERAGE('A) Eingabe (GruppenLehrer)'!C17:AH17))","v":{"$error":"#N/A"}},{"$f":"IF(N9<1, #N/A, STDEVP('A) Eingabe (GruppenLehrer)'!C17:AH17))","v":{"$error":"#N/A"}},{"$error":"#N/A"},{"$f":"COUNT('A) Eingabe (GruppenLehrer)'!C17:AH17)","v":0},{"$f":"IF(N9<1,#N/A,COUNTIF('A) Eingabe (GruppenLehrer)'!C17:AH17,1))","v":{"$error":"#N/A"}},{"$f":"IF(N9<1,#N/A,COUNTIF('A) Eingabe (GruppenLehrer)'!C17:AH17,2))","v":{"$error":"#N/A"}},{"$f":"IF(N9<1,#N/A,COUNTIF('A) Eingabe (GruppenLehrer)'!C17:AH17,3))","v":{"$error":"#N/A"}},{"$f":"IF(N9<1,#N/A,COUNTIF('A) Eingabe (GruppenLehrer)'!C17:AH17,4))","v":{"$error":"#N/A"}}]
[{"$f":"FragenErstellen!A14","v":8},{"$f":"IF($E10=0, #N/A,AVERAGE('A) Eingabe (Gruppen)'!C18:AH18))","v":{"$error":"#N/A"}},{"$f":"IF(E10<2, #N/A, STDEVP('A) Eingabe (Gruppen)'!C18:AH18))","v":{"$error":"#N/A"}},{"$error":"#N/A"},{"$f":"COUNT('A) Eingabe (Gruppen)'!C18:AH18)","v":0},{"$f":"IF(E10<2,#N/A,COUNTIF('A) Eingabe (Gruppen)'!C18:AH18,1))","v":{"$error":"#N/A"}},{"$f":"IF(E10<2,#N/A,COUNTIF('A) Eingabe (Gruppen)'!C18:AH18,2))","v":{"$error":"#N/A"}},{"$f":"IF(E10<2,#N/A,COUNTIF('A) Eingabe (Gruppen)'!C18:AH18,3))","v":{"$error":"#N/A"}},{"$f":"IF(E10<2,#N/A,COUNTIF('A) Eingabe (Gruppen)'!C18:AH18,4))","v":{"$error":"#N/A"}},null,{"$f":"IF(N10=0, #N/A,AVERAGE('A) Eingabe (GruppenLehrer)'!C18:AH18))","v":{"$error":"#N/A"}},{"$f":"IF(N10<1, #N/A, STDEVP('A) Eingabe (GruppenLehrer)'!C18:AH18))","v":{"$error":"#N/A"}},{"$error":"#N/A"},{"$f":"COUNT('A) Eingabe (GruppenLehrer)'!C18:AH18)","v":0},{"$f":"IF(N10<1,#N/A,COUNTIF('A) Eingabe (GruppenLehrer)'!C18:AH18,1))","v":{"$error":"#N/A"}},{"$f":"IF(N10<1,#N/A,COUNTIF('A) Eingabe (GruppenLehrer)'!C18:AH18,2))","v":{"$error":"#N/A"}},{"$f":"IF(N10<1,#N/A,COUNTIF('A) Eingabe (GruppenLehrer)'!C18:AH18,3))","v":{"$error":"#N/A"}},{"$f":"IF(N10<1,#N/A,COUNTIF('A) Eingabe (GruppenLehrer)'!C18:AH18,4))","v":{"$error":"#N/A"}}]
[{"$f":"FragenErstellen!A15","v":9},{"$f":"IF($E11=0, #N/A,AVERAGE('A) Eingabe (Gruppen)'!C19:AH19))","v":{"$error":"#N/A"}},{"$f":"IF(E11<2, #N/A, STDEVP('A) Eingabe (Gruppen)'!C19:AH19))","v":{"$error":"#N/A"}},{"$error":"#N/A"},{"$f":"COUNT('A) Eingabe (Gruppen)'!C19:AH19)","v":0},{"$f":"IF(E11<2,#N/A,COUNTIF('A) Eingabe (Gruppen)'!C19:AH19,1))","v":{"$error":"#N/A"}},{"$f":"IF(E11<2,#N/A,COUNTIF('A) Eingabe (Gruppen)'!C19:AH19,2))","v":{"$error":"#N/A"}},{"$f":"IF(E11<2,#N/A,COUNTIF('A) Eingabe (Gruppen)'!C19:AH19,3))","v":{"$error":"#N/A"}},{"$f":"IF(E11<2,#N/A,COUNTIF('A) Eingabe (Gruppen)'!C19:AH19,4))","v":{"$error":"#N/A"}},null,{"$f":"IF(N11=0, #N/A,AVERAGE('A) Eingabe (GruppenLehrer)'!C19:AH19))","v":{"$error":"#N/A"}},{"$f":"IF(N11<1, #N/A, STDEVP('A) Eingabe (GruppenLehrer)'!C19:AH19))","v":{"$error":"#N/A"}},{"$error":"#N/A"},{"$f":"COUNT('A) Eingabe (GruppenLehrer)'!C19:AH19)","v":0},{"$f":"IF(N11<1,#N/A,COUNTIF('A) Eingabe (GruppenLehrer)'!C19:AH19,1))","v":{"$error":"#N/A"}},{"$f":"IF(N11<1,#N/A,COUNTIF('A) Eingabe (GruppenLehrer)'!C19:AH19,2))","v":{"$error":"#N/A"}},{"$f":"IF(N11<1,#N/A,COUNTIF('A) Eingabe (GruppenLehrer)'!C19:AH19,3))","v":{"$error":"#N/A"}},{"$f":"IF(N11<1,#N/A,COUNTIF('A) Eingabe (GruppenLehrer)'!C19:AH19,4))","v":{"$error":"#N/A"}}]
[{"$f":"FragenErstellen!A16","v":10},{"$f":"IF($E12=0, #N/A,AVERAGE('A) Eingabe (Gruppen)'!C20:AH20))","v":{"$error":"#N/A"}},{"$f":"IF(E12<2, #N/A, STDEVP('A) Eingabe (Gruppen)'!C20:AH20))","v":{"$error":"#N/A"}},{"$error":"#N/A"},{"$f":"COUNT('A) Eingabe (Gruppen)'!C20:AH20)","v":0},{"$f":"IF(E12<2,#N/A,COUNTIF('A) Eingabe (Gruppen)'!C20:AH20,1))","v":{"$error":"#N/A"}},{"$f":"IF(E12<2,#N/A,COUNTIF('A) Eingabe (Gruppen)'!C20:AH20,2))","v":{"$error":"#N/A"}},{"$f":"IF(E12<2,#N/A,COUNTIF('A) Eingabe (Gruppen)'!C20:AH20,3))","v":{"$error":"#N/A"}},{"$f":"IF(E12<2,#N/A,COUNTIF('A) Eingabe (Gruppen)'!C20:AH20,4))","v":{"$error":"#N/A"}},null,{"$f":"IF(N12=0, #N/A,AVERAGE('A) Eingabe (GruppenLehrer)'!C20:AH20))","v":{"$error":"#N/A"}},{"$f":"IF(N12<1, #N/A, STDEVP('A) Eingabe (GruppenLehrer)'!C20:AH20))","v":{"$error":"#N/A"}},{"$error":"#N/A"},{"$f":"COUNT('A) Eingabe (GruppenLehrer)'!C20:AH20)","v":0},{"$f":"IF(N12<1,#N/A,COUNTIF('A) Eingabe (GruppenLehrer)'!C20:AH20,1))","v":{"$error":"#N/A"}},{"$f":"IF(N12<1,#N/A,COUNTIF('A) Eingabe (GruppenLehrer)'!C20:AH20,2))","v":{"$error":"#N/A"}},{"$f":"IF(N12<1,#N/A,COUNTIF('A) Eingabe (GruppenLehrer)'!C20:AH20,3))","v":{"$error":"#N/A"}},{"$f":"IF(N12<1,#N/A,COUNTIF('A) Eingabe (GruppenLehrer)'!C20:AH20,4))","v":{"$error":"#N/A"}},null," "," "," "," "," "," "," "," "," "," "," "," "," "," "," "]
[{"$f":"FragenErstellen!A17","v":11},{"$f":"IF($E13=0, #N/A,AVERAGE('A) Eingabe (Gruppen)'!C21:AH21))","v":{"$error":"#N/A"}},{"$f":"IF(E13<2, #N/A, STDEVP('A) Eingabe (Gruppen)'!C21:AH21))","v":{"$error":"#N/A"}},{"$error":"#N/A"},{"$f":"COUNT('A) Eingabe (Gruppen)'!C21:AH21)","v":0},{"$f":"IF(E13<2,#N/A,COUNTIF('A) Eingabe (Gruppen)'!C21:AH21,1))","v":{"$error":"#N/A"}},{"$f":"IF(E13<2,#N/A,COUNTIF('A) Eingabe (Gruppen)'!C21:AH21,2))","v":{"$error":"#N/A"}},{"$f":"IF(E13<2,#N/A,COUNTIF('A) Eingabe (Gruppen)'!C21:AH21,3))","v":{"$error":"#N/A"}},{"$f":"IF(E13<2,#N/A,COUNTIF('A) Eingabe (Gruppen)'!C21:AH21,4))","v":{"$error":"#N/A"}},null,{"$f":"IF(N13=0, #N/A,AVERAGE('A) Eingabe (GruppenLehrer)'!C21:AH21))","v":{"$error":"#N/A"}},{"$f":"IF(N13<1, #N/A, STDEVP('A) Eingabe (GruppenLehrer)'!C21:AH21))","v":{"$error":"#N/A"}},{"$error":"#N/A"},{"$f":"COUNT('A) Eingabe (GruppenLehrer)'!C21:AH21)","v":0},{"$f":"IF(N13<1,#N/A,COUNTIF('A) Eingabe (GruppenLehrer)'!C21:AH21,1))","v":{"$error":"#N/A"}},{"$f":"IF(N13<1,#N/A,COUNTIF('A) Eingabe (GruppenLehrer)'!C21:AH21,2))","v":{"$error":"#N/A"}},{"$f":"IF(N13<1,#N/A,COUNTIF('A) Eingabe (GruppenLehrer)'!C21:AH21,3))","v":{"$error":"#N/A"}},{"$f":"IF(N13<1,#N/A,COUNTIF('A) Eingabe (GruppenLehrer)'!C21:AH21,4))","v":{"$error":"#N/A"}},null," "," "," "," "," "," "," "," "," "," "," "," "," "," "," "]
[{"$f":"FragenErstellen!A18","v":12},{"$f":"IF($E14=0, #N/A,AVERAGE('A) Eingabe (Gruppen)'!C22:AH22))","v":{"$error":"#N/A"}},{"$f":"IF(E14<2, #N/A, STDEVP('A) Eingabe (Gruppen)'!C22:AH22))","v":{"$error":"#N/A"}},{"$error":"#N/A"},{"$f":"COUNT('A) Eingabe (Gruppen)'!C22:AH22)","v":0},{"$f":"IF(E14<2,#N/A,COUNTIF('A) Eingabe (Gruppen)'!C22:AH22,1))","v":{"$error":"#N/A"}},{"$f":"IF(E14<2,#N/A,COUNTIF('A) Eingabe (Gruppen)'!C22:AH22,2))","v":{"$error":"#N/A"}},{"$f":"IF(E14<2,#N/A,COUNTIF('A) Eingabe (Gruppen)'!C22:AH22,3))","v":{"$error":"#N/A"}},{"$f":"IF(E14<2,#N/A,COUNTIF('A) Eingabe (Gruppen)'!C22:AH22,4))","v":{"$error":"#N/A"}},null,{"$f":"IF(N14=0, #N/A,AVERAGE('A) Eingabe (GruppenLehrer)'!C22:AH22))","v":{"$error":"#N/A"}},{"$f":"IF(N14<1, #N/A, STDEVP('A) Eingabe (GruppenLehrer)'!C22:AH22))","v":{"$error":"#N/A"}},{"$error":"#N/A"},{"$f":"COUNT('A) Eingabe (GruppenLehrer)'!C22:AH22)","v":0},{"$f":"IF(N14<1,#N/A,COUNTIF('A) Eingabe (GruppenLehrer)'!C22:AH22,1))","v":{"$error":"#N/A"}},{"$f":"IF(N14<1,#N/A,COUNTIF('A) Eingabe (GruppenLehrer)'!C22:AH22,2))","v":{"$error":"#N/A"}},{"$f":"IF(N14<1,#N/A,COUNTIF('A) Eingabe (GruppenLehrer)'!C22:AH22,3))","v":{"$error":"#N/A"}},{"$f":"IF(N14<1,#N/A,COUNTIF('A) Eingabe (GruppenLehrer)'!C22:AH22,4))","v":{"$error":"#N/A"}},null," "," "," "," "," "," "," "," "," "," "," "," "," "," "," "]
[{"$f":"FragenErstellen!A19","v":13},{"$f":"IF($E15=0, #N/A,AVERAGE('A) Eingabe (Gruppen)'!C23:AH23))","v":{"$error":"#N/A"}},{"$f":"IF(E15<2, #N/A, STDEVP('A) Eingabe (Gruppen)'!C23:AH23))","v":{"$error":"#N/A"}},{"$error":"#N/A"},{"$f":"COUNT('A) Eingabe (Gruppen)'!C23:AH23)","v":0},{"$f":"IF(E15<2,#N/A,COUNTIF('A) Eingabe (Gruppen)'!C23:AH23,1))","v":{"$error":"#N/A"}},{"$f":"IF(E15<2,#N/A,COUNTIF('A) Eingabe (Gruppen)'!C23:AH23,2))","v":{"$error":"#N/A"}},{"$f":"IF(E15<2,#N/A,COUNTIF('A) Eingabe (Gruppen)'!C23:AH23,3))","v":{"$error":"#N/A"}},{"$f":"IF(E15<2,#N/A,COUNTIF('A) Eingabe (Gruppen)'!C23:AH23,4))","v":{"$error":"#N/A"}},null,{"$f":"IF(N15=0, #N/A,AVERAGE('A) Eingabe (GruppenLehrer)'!C23:AH23))","v":{"$error":"#N/A"}},{"$f":"IF(N15<1, #N/A, STDEVP('A) Eingabe (GruppenLehrer)'!C23:AH23))","v":{"$error":"#N/A"}},{"$error":"#N/A"},{"$f":"COUNT('A) Eingabe (GruppenLehrer)'!C23:AH23)","v":0},{"$f":"IF(N15<1,#N/A,COUNTIF('A) Eingabe (GruppenLehrer)'!C23:AH23,1))","v":{"$error":"#N/A"}},{"$f":"IF(N15<1,#N/A,COUNTIF('A) Eingabe (GruppenLehrer)'!C23:AH23,2))","v":{"$error":"#N/A"}},{"$f":"IF(N15<1,#N/A,COUNTIF('A) Eingabe (GruppenLehrer)'!C23:AH23,3))","v":{"$error":"#N/A"}},{"$f":"IF(N15<1,#N/A,COUNTIF('A) Eingabe (GruppenLehrer)'!C23:AH23,4))","v":{"$error":"#N/A"}},null," "," "," "," "," "," "," "," "," "," "," "," "," "," "," "]
[{"$f":"FragenErstellen!A20","v":14},{"$f":"IF($E16=0, #N/A,AVERAGE('A) Eingabe (Gruppen)'!C24:AH24))","v":{"$error":"#N/A"}},{"$f":"IF(E16<2, #N/A, STDEVP('A) Eingabe (Gruppen)'!C24:AH24))","v":{"$error":"#N/A"}},{"$error":"#N/A"},{"$f":"COUNT('A) Eingabe (Gruppen)'!C24:AH24)","v":0},{"$f":"IF(E16<2,#N/A,COUNTIF('A) Eingabe (Gruppen)'!C24:AH24,1))","v":{"$error":"#N/A"}},{"$f":"IF(E16<2,#N/A,COUNTIF('A) Eingabe (Gruppen)'!C24:AH24,2))","v":{"$error":"#N/A"}},{"$f":"IF(E16<2,#N/A,COUNTIF('A) Eingabe (Gruppen)'!C24:AH24,3))","v":{"$error":"#N/A"}},{"$f":"IF(E16<2,#N/A,COUNTIF('A) Eingabe (Gruppen)'!C24:AH24,4))","v":{"$error":"#N/A"}},null,{"$f":"IF(N16=0, #N/A,AVERAGE('A) Eingabe (GruppenLehrer)'!C24:AH24))","v":{"$error":"#N/A"}},{"$f":"IF(N16<1, #N/A, STDEVP('A) Eingabe (GruppenLehrer)'!C24:AH24))","v":{"$error":"#N/A"}},{"$error":"#N/A"},{"$f":"COUNT('A) Eingabe (GruppenLehrer)'!C24:AH24)","v":0},{"$f":"IF(N16<1,#N/A,COUNTIF('A) Eingabe (GruppenLehrer)'!C24:AH24,1))","v":{"$error":"#N/A"}},{"$f":"IF(N16<1,#N/A,COUNTIF('A) Eingabe (GruppenLehrer)'!C24:AH24,2))","v":{"$error":"#N/A"}},{"$f":"IF(N16<1,#N/A,COUNTIF('A) Eingabe (GruppenLehrer)'!C24:AH24,3))","v":{"$error":"#N/A"}},{"$f":"IF(N16<1,#N/A,COUNTIF('A) Eingabe (GruppenLehrer)'!C24:AH24,4))","v":{"$error":"#N/A"}},null," "," "," "," "," "," "," "," "," "," "," "," "," "," "," "]
[{"$f":"FragenErstellen!A21","v":15},{"$f":"IF($E17=0, #N/A,AVERAGE('A) Eingabe (Gruppen)'!C25:AH25))","v":{"$error":"#N/A"}},{"$f":"IF(E17<2, #N/A, STDEVP('A) Eingabe (Gruppen)'!C25:AH25))","v":{"$error":"#N/A"}},{"$error":"#N/A"},{"$f":"COUNT('A) Eingabe (Gruppen)'!C25:AH25)","v":0},{"$f":"IF(E17<2,#N/A,COUNTIF('A) Eingabe (Gruppen)'!C25:AH25,1))","v":{"$error":"#N/A"}},{"$f":"IF(E17<2,#N/A,COUNTIF('A) Eingabe (Gruppen)'!C25:AH25,2))","v":{"$error":"#N/A"}},{"$f":"IF(E17<2,#N/A,COUNTIF('A) Eingabe (Gruppen)'!C25:AH25,3))","v":{"$error":"#N/A"}},{"$f":"IF(E17<2,#N/A,COUNTIF('A) Eingabe (Gruppen)'!C25:AH25,4))","v":{"$error":"#N/A"}},null,{"$f":"IF(N17=0, #N/A,AVERAGE('A) Eingabe (GruppenLehrer)'!C25:AH25))","v":{"$error":"#N/A"}},{"$f":"IF(N17<1, #N/A, STDEVP('A) Eingabe (GruppenLehrer)'!C25:AH25))","v":{"$error":"#N/A"}},{"$error":"#N/A"},{"$f":"COUNT('A) Eingabe (GruppenLehrer)'!C25:AH25)","v":0},{"$f":"IF(N17<1,#N/A,COUNTIF('A) Eingabe (GruppenLehrer)'!C25:AH25,1))","v":{"$error":"#N/A"}},{"$f":"IF(N17<1,#N/A,COUNTIF('A) Eingabe (GruppenLehrer)'!C25:AH25,2))","v":{"$error":"#N/A"}},{"$f":"IF(N17<1,#N/A,COUNTIF('A) Eingabe (GruppenLehrer)'!C25:AH25,3))","v":{"$error":"#N/A"}},{"$f":"IF(N17<1,#N/A,COUNTIF('A) Eingabe (GruppenLehrer)'!C25:AH25,4))","v":{"$error":"#N/A"}},null," "," "," "," "," "," "," "," "," "," "," "," "," "," "," "]
[{"$f":"FragenErstellen!A22","v":16},{"$f":"IF($E18=0, #N/A,AVERAGE('A) Eingabe (Gruppen)'!C26:AH26))","v":{"$error":"#N/A"}},{"$f":"IF(E18<2, #N/A, STDEVP('A) Eingabe (Gruppen)'!C26:AH26))","v":{"$error":"#N/A"}},{"$error":"#N/A"},{"$f":"COUNT('A) Eingabe (Gruppen)'!C26:AH26)","v":0},{"$f":"IF(E18<2,#N/A,COUNTIF('A) Eingabe (Gruppen)'!C26:AH26,1))","v":{"$error":"#N/A"}},{"$f":"IF(E18<2,#N/A,COUNTIF('A) Eingabe (Gruppen)'!C26:AH26,2))","v":{"$error":"#N/A"}},{"$f":"IF(E18<2,#N/A,COUNTIF('A) Eingabe (Gruppen)'!C26:AH26,3))","v":{"$error":"#N/A"}},{"$f":"IF(E18<2,#N/A,COUNTIF('A) Eingabe (Gruppen)'!C26:AH26,4))","v":{"$error":"#N/A"}},null,{"$f":"IF(N18=0, #N/A,AVERAGE('A) Eingabe (GruppenLehrer)'!C26:AH26))","v":{"$error":"#N/A"}},{"$f":"IF(N18<1, #N/A, STDEVP('A) Eingabe (GruppenLehrer)'!C26:AH26))","v":{"$error":"#N/A"}},{"$error":"#N/A"},{"$f":"COUNT('A) Eingabe (GruppenLehrer)'!C26:AH26)","v":0},{"$f":"IF(N18<1,#N/A,COUNTIF('A) Eingabe (GruppenLehrer)'!C26:AH26,1))","v":{"$error":"#N/A"}},{"$f":"IF(N18<1,#N/A,COUNTIF('A) Eingabe (GruppenLehrer)'!C26:AH26,2))","v":{"$error":"#N/A"}},{"$f":"IF(N18<1,#N/A,COUNTIF('A) Eingabe (GruppenLehrer)'!C26:AH26,3))","v":{"$error":"#N/A"}},{"$f":"IF(N18<1,#N/A,COUNTIF('A) Eingabe (GruppenLehrer)'!C26:AH26,4))","v":{"$error":"#N/A"}},null," "," "," "," "," "," "," "," "," "," "," "," "," "," "," "]
[{"$f":"FragenErstellen!A23","v":17},{"$f":"IF($E19=0, #N/A,AVERAGE('A) Eingabe (Gruppen)'!C27:AH27))","v":{"$error":"#N/A"}},{"$f":"IF(E19<2, #N/A, STDEVP('A) Eingabe (Gruppen)'!C27:AH27))","v":{"$error":"#N/A"}},{"$error":"#N/A"},{"$f":"COUNT('A) Eingabe (Gruppen)'!C27:AH27)","v":0},{"$f":"IF(E19<2,#N/A,COUNTIF('A) Eingabe (Gruppen)'!C27:AH27,1))","v":{"$error":"#N/A"}},{"$f":"IF(E19<2,#N/A,COUNTIF('A) Eingabe (Gruppen)'!C27:AH27,2))","v":{"$error":"#N/A"}},{"$f":"IF(E19<2,#N/A,COUNTIF('A) Eingabe (Gruppen)'!C27:AH27,3))","v":{"$error":"#N/A"}},{"$f":"IF(E19<2,#N/A,COUNTIF('A) Eingabe (Gruppen)'!C27:AH27,4))","v":{"$error":"#N/A"}},null,{"$f":"IF(N19=0, #N/A,AVERAGE('A) Eingabe (GruppenLehrer)'!C27:AH27))","v":{"$error":"#N/A"}},{"$f":"IF(N19<1, #N/A, STDEVP('A) Eingabe (GruppenLehrer)'!C27:AH27))","v":{"$error":"#N/A"}},{"$error":"#N/A"},{"$f":"COUNT('A) Eingabe (GruppenLehrer)'!C27:AH27)","v":0},{"$f":"IF(N19<1,#N/A,COUNTIF('A) Eingabe (GruppenLehrer)'!C27:AH27,1))","v":{"$error":"#N/A"}},{"$f":"IF(N19<1,#N/A,COUNTIF('A) Eingabe (GruppenLehrer)'!C27:AH27,2))","v":{"$error":"#N/A"}},{"$f":"IF(N19<1,#N/A,COUNTIF('A) Eingabe (GruppenLehrer)'!C27:AH27,3))","v":{"$error":"#N/A"}},{"$f":"IF(N19<1,#N/A,COUNTIF('A) Eingabe (GruppenLehrer)'!C27:AH27,4))","v":{"$error":"#N/A"}},null," "," "," "," "," "," "," "," "," "," "," "," "," "," "," "]
[{"$f":"FragenErstellen!A24","v":18},{"$f":"IF($E20=0, #N/A,AVERAGE('A) Eingabe (Gruppen)'!C28:AH28))","v":{"$error":"#N/A"}},{"$f":"IF(E20<2, #N/A, STDEVP('A) Eingabe (Gruppen)'!C28:AH28))","v":{"$error":"#N/A"}},{"$error":"#N/A"},{"$f":"COUNT('A) Eingabe (Gruppen)'!C28:AH28)","v":0},{"$f":"IF(E20<2,#N/A,COUNTIF('A) Eingabe (Gruppen)'!C28:AH28,1))","v":{"$error":"#N/A"}},{"$f":"IF(E20<2,#N/A,COUNTIF('A) Eingabe (Gruppen)'!C28:AH28,2))","v":{"$error":"#N/A"}},{"$f":"IF(E20<2,#N/A,COUNTIF('A) Eingabe (Gruppen)'!C28:AH28,3))","v":{"$error":"#N/A"}},{"$f":"IF(E20<2,#N/A,COUNTIF('A) Eingabe (Gruppen)'!C28:AH28,4))","v":{"$error":"#N/A"}},null,{"$f":"IF(N20=0, #N/A,AVERAGE('A) Eingabe (GruppenLehrer)'!C28:AH28))","v":{"$error":"#N/A"}},{"$f":"IF(N20<1, #N/A, STDEVP('A) Eingabe (GruppenLehrer)'!C28:AH28))","v":{"$error":"#N/A"}},{"$error":"#N/A"},{"$f":"COUNT('A) Eingabe (GruppenLehrer)'!C28:AH28)","v":0},{"$f":"IF(N20<1,#N/A,COUNTIF('A) Eingabe (GruppenLehrer)'!C28:AH28,1))","v":{"$error":"#N/A"}},{"$f":"IF(N20<1,#N/A,COUNTIF('A) Eingabe (GruppenLehrer)'!C28:AH28,2))","v":{"$error":"#N/A"}},{"$f":"IF(N20<1,#N/A,COUNTIF('A) Eingabe (GruppenLehrer)'!C28:AH28,3))","v":{"$error":"#N/A"}},{"$f":"IF(N20<1,#N/A,COUNTIF('A) Eingabe (GruppenLehrer)'!C28:AH28,4))","v":{"$error":"#N/A"}},null," "," "," "," "," "," "," "," "," "," "," "," "," "," "," "]
[{"$f":"FragenErstellen!A25","v":19},{"$f":"IF($E21=0, #N/A,AVERAGE('A) Eingabe (Gruppen)'!C29:AH29))","v":{"$error":"#N/A"}},{"$f":"IF(E21<2, #N/A, STDEVP('A) Eingabe (Gruppen)'!C29:AH29))","v":{"$error":"#N/A"}},{"$error":"#N/A"},{"$f":"COUNT('A) Eingabe (Gruppen)'!C29:AH29)","v":0},{"$f":"IF(E21<2,#N/A,COUNTIF('A) Eingabe (Gruppen)'!C29:AH29,1))","v":{"$error":"#N/A"}},{"$f":"IF(E21<2,#N/A,COUNTIF('A) Eingabe (Gruppen)'!C29:AH29,2))","v":{"$error":"#N/A"}},{"$f":"IF(E21<2,#N/A,COUNTIF('A) Eingabe (Gruppen)'!C29:AH29,3))","v":{"$error":"#N/A"}},{"$f":"IF(E21<2,#N/A,COUNTIF('A) Eingabe (Gruppen)'!C29:AH29,4))","v":{"$error":"#N/A"}},null,{"$f":"IF(N21=0, #N/A,AVERAGE('A) Eingabe (GruppenLehrer)'!C29:AH29))","v":{"$error":"#N/A"}},{"$f":"IF(N21<1, #N/A, STDEVP('A) Eingabe (GruppenLehrer)'!C29:AH29))","v":{"$error":"#N/A"}},{"$error":"#N/A"},{"$f":"COUNT('A) Eingabe (GruppenLehrer)'!C29:AH29)","v":0},{"$f":"IF(N21<1,#N/A,COUNTIF('A) Eingabe (GruppenLehrer)'!C29:AH29,1))","v":{"$error":"#N/A"}},{"$f":"IF(N21<1,#N/A,COUNTIF('A) Eingabe (GruppenLehrer)'!C29:AH29,2))","v":{"$error":"#N/A"}},{"$f":"IF(N21<1,#N/A,COUNTIF('A) Eingabe (GruppenLehrer)'!C29:AH29,3))","v":{"$error":"#N/A"}},{"$f":"IF(N21<1,#N/A,COUNTIF('A) Eingabe (GruppenLehrer)'!C29:AH29,4))","v":{"$error":"#N/A"}},null," "," "," "," "," "," "," "," "," "," "," "," "," "," "," "]
[{"$f":"FragenErstellen!A26","v":20},{"$f":"IF($E22=0, #N/A,AVERAGE('A) Eingabe (Gruppen)'!C30:AH30))","v":{"$error":"#N/A"}},{"$f":"IF(E22<2, #N/A, STDEVP('A) Eingabe (Gruppen)'!C30:AH30))","v":{"$error":"#N/A"}},{"$error":"#N/A"},{"$f":"COUNT('A) Eingabe (Gruppen)'!C30:AH30)","v":0},{"$f":"IF(E22<2,#N/A,COUNTIF('A) Eingabe (Gruppen)'!C30:AH30,1))","v":{"$error":"#N/A"}},{"$f":"IF(E22<2,#N/A,COUNTIF('A) Eingabe (Gruppen)'!C30:AH30,2))","v":{"$error":"#N/A"}},{"$f":"IF(E22<2,#N/A,COUNTIF('A) Eingabe (Gruppen)'!C30:AH30,3))","v":{"$error":"#N/A"}},{"$f":"IF(E22<2,#N/A,COUNTIF('A) Eingabe (Gruppen)'!C30:AH30,4))","v":{"$error":"#N/A"}},null,{"$f":"IF(N22=0, #N/A,AVERAGE('A) Eingabe (GruppenLehrer)'!C30:AH30))","v":{"$error":"#N/A"}},{"$f":"IF(N22<1, #N/A, STDEVP('A) Eingabe (GruppenLehrer)'!C30:AH30))","v":{"$error":"#N/A"}},{"$error":"#N/A"},{"$f":"COUNT('A) Eingabe (GruppenLehrer)'!C30:AH30)","v":0},{"$f":"IF(N22<1,#N/A,COUNTIF('A) Eingabe (GruppenLehrer)'!C30:AH30,1))","v":{"$error":"#N/A"}},{"$f":"IF(N22<1,#N/A,COUNTIF('A) Eingabe (GruppenLehrer)'!C30:AH30,2))","v":{"$error":"#N/A"}},{"$f":"IF(N22<1,#N/A,COUNTIF('A) Eingabe (GruppenLehrer)'!C30:AH30,3))","v":{"$error":"#N/A"}},{"$f":"IF(N22<1,#N/A,COUNTIF('A) Eingabe (GruppenLehrer)'!C30:AH30,4))","v":{"$error":"#N/A"}},null," "," "," "," "," "," "," "," "," "," "," "," "," "," "," "]
[{"$f":"FragenErstellen!A27","v":21},{"$f":"IF($E23=0, #N/A,AVERAGE('A) Eingabe (Gruppen)'!C31:AH31))","v":{"$error":"#N/A"}},{"$f":"IF(E23<2, #N/A, STDEVP('A) Eingabe (Gruppen)'!C31:AH31))","v":{"$error":"#N/A"}},{"$error":"#N/A"},{"$f":"COUNT('A) Eingabe (Gruppen)'!C31:AH31)","v":0},{"$f":"IF(E23<2,#N/A,COUNTIF('A) Eingabe (Gruppen)'!C31:AH31,1))","v":{"$error":"#N/A"}},{"$f":"IF(E23<2,#N/A,COUNTIF('A) Eingabe (Gruppen)'!C31:AH31,2))","v":{"$error":"#N/A"}},{"$f":"IF(E23<2,#N/A,COUNTIF('A) Eingabe (Gruppen)'!C31:AH31,3))","v":{"$error":"#N/A"}},{"$f":"IF(E23<2,#N/A,COUNTIF('A) Eingabe (Gruppen)'!C31:AH31,4))","v":{"$error":"#N/A"}},null,{"$f":"IF(N23=0, #N/A,AVERAGE('A) Eingabe (GruppenLehrer)'!C31:AH31))","v":{"$error":"#N/A"}},{"$f":"IF(N23<1, #N/A, STDEVP('A) Eingabe (GruppenLehrer)'!C31:AH31))","v":{"$error":"#N/A"}},{"$error":"#N/A"},{"$f":"COUNT('A) Eingabe (GruppenLehrer)'!C31:AH31)","v":0},{"$f":"IF(N23<1,#N/A,COUNTIF('A) Eingabe (GruppenLehrer)'!C31:AH31,1))","v":{"$error":"#N/A"}},{"$f":"IF(N23<1,#N/A,COUNTIF('A) Eingabe (GruppenLehrer)'!C31:AH31,2))","v":{"$error":"#N/A"}},{"$f":"IF(N23<1,#N/A,COUNTIF('A) Eingabe (GruppenLehrer)'!C31:AH31,3))","v":{"$error":"#N/A"}},{"$f":"IF(N23<1,#N/A,COUNTIF('A) Eingabe (GruppenLehrer)'!C31:AH31,4))","v":{"$error":"#N/A"}},null," "," "," "," "," "," "," "," "," "," "," "," "," "," "," "]
[{"$f":"FragenErstellen!A28","v":22},{"$f":"IF($E24=0, #N/A,AVERAGE('A) Eingabe (Gruppen)'!C32:AH32))","v":{"$error":"#N/A"}},{"$f":"IF(E24<2, #N/A, STDEVP('A) Eingabe (Gruppen)'!C32:AH32))","v":{"$error":"#N/A"}},{"$error":"#N/A"},{"$f":"COUNT('A) Eingabe (Gruppen)'!C32:AH32)","v":0},{"$f":"IF(E24<2,#N/A,COUNTIF('A) Eingabe (Gruppen)'!C32:AH32,1))","v":{"$error":"#N/A"}},{"$f":"IF(E24<2,#N/A,COUNTIF('A) Eingabe (Gruppen)'!C32:AH32,2))","v":{"$error":"#N/A"}},{"$f":"IF(E24<2,#N/A,COUNTIF('A) Eingabe (Gruppen)'!C32:AH32,3))","v":{"$error":"#N/A"}},{"$f":"IF(E24<2,#N/A,COUNTIF('A) Eingabe (Gruppen)'!C32:AH32,4))","v":{"$error":"#N/A"}},null,{"$f":"IF(N24=0, #N/A,AVERAGE('A) Eingabe (GruppenLehrer)'!C32:AH32))","v":{"$error":"#N/A"}},{"$f":"IF(N24<1, #N/A, STDEVP('A) Eingabe (GruppenLehrer)'!C32:AH32))","v":{"$error":"#N/A"}},{"$error":"#N/A"},{"$f":"COUNT('A) Eingabe (GruppenLehrer)'!C32:AH32)","v":0},{"$f":"IF(N24<1,#N/A,COUNTIF('A) Eingabe (GruppenLehrer)'!C32:AH32,1))","v":{"$error":"#N/A"}},{"$f":"IF(N24<1,#N/A,COUNTIF('A) Eingabe (GruppenLehrer)'!C32:AH32,2))","v":{"$error":"#N/A"}},{"$f":"IF(N24<1,#N/A,COUNTIF('A) Eingabe (GruppenLehrer)'!C32:AH32,3))","v":{"$error":"#N/A"}},{"$f":"IF(N24<1,#N/A,COUNTIF('A) Eingabe (GruppenLehrer)'!C32:AH32,4))","v":{"$error":"#N/A"}},null," "," "," "," "," "," "," "," "," "," "," "," "," "," "," "]
[{"$f":"FragenErstellen!A29","v":23},{"$f":"IF($E25=0, #N/A,AVERAGE('A) Eingabe (Gruppen)'!C33:AH33))","v":{"$error":"#N/A"}},{"$f":"IF(E25<2, #N/A, STDEVP('A) Eingabe (Gruppen)'!C33:AH33))","v":{"$error":"#N/A"}},{"$error":"#N/A"},{"$f":"COUNT('A) Eingabe (Gruppen)'!C33:AH33)","v":0},{"$f":"IF(E25<2,#N/A,COUNTIF('A) Eingabe (Gruppen)'!C33:AH33,1))","v":{"$error":"#N/A"}},{"$f":"IF(E25<2,#N/A,COUNTIF('A) Eingabe (Gruppen)'!C33:AH33,2))","v":{"$error":"#N/A"}},{"$f":"IF(E25<2,#N/A,COUNTIF('A) Eingabe (Gruppen)'!C33:AH33,3))","v":{"$error":"#N/A"}},{"$f":"IF(E25<2,#N/A,COUNTIF('A) Eingabe (Gruppen)'!C33:AH33,4))","v":{"$error":"#N/A"}},null,{"$f":"IF(N25=0, #N/A,AVERAGE('A) Eingabe (GruppenLehrer)'!C33:AH33))","v":{"$error":"#N/A"}},{"$f":"IF(N25<1, #N/A, STDEVP('A) Eingabe (GruppenLehrer)'!C33:AH33))","v":{"$error":"#N/A"}},{"$error":"#N/A"},{"$f":"COUNT('A) Eingabe (GruppenLehrer)'!C33:AH33)","v":0},{"$f":"IF(N25<1,#N/A,COUNTIF('A) Eingabe (GruppenLehrer)'!C33:AH33,1))","v":{"$error":"#N/A"}},{"$f":"IF(N25<1,#N/A,COUNTIF('A) Eingabe (GruppenLehrer)'!C33:AH33,2))","v":{"$error":"#N/A"}},{"$f":"IF(N25<1,#N/A,COUNTIF('A) Eingabe (GruppenLehrer)'!C33:AH33,3))","v":{"$error":"#N/A"}},{"$f":"IF(N25<1,#N/A,COUNTIF('A) Eingabe (GruppenLehrer)'!C33:AH33,4))","v":{"$error":"#N/A"}},null," "," "," "," "," "," "," "," "," "," "," "," "," "," "," "]
[{"$f":"FragenErstellen!A30","v":24},{"$f":"IF($E26=0, #N/A,AVERAGE('A) Eingabe (Gruppen)'!C34:AH34))","v":{"$error":"#N/A"}},{"$f":"IF(E26<2, #N/A, STDEVP('A) Eingabe (Gruppen)'!C34:AH34))","v":{"$error":"#N/A"}},{"$error":"#N/A"},{"$f":"COUNT('A) Eingabe (Gruppen)'!C34:AH34)","v":0},{"$f":"IF(E26<2,#N/A,COUNTIF('A) Eingabe (Gruppen)'!C34:AH34,1))","v":{"$error":"#N/A"}},{"$f":"IF(E26<2,#N/A,COUNTIF('A) Eingabe (Gruppen)'!C34:AH34,2))","v":{"$error":"#N/A"}},{"$f":"IF(E26<2,#N/A,COUNTIF('A) Eingabe (Gruppen)'!C34:AH34,3))","v":{"$error":"#N/A"}},{"$f":"IF(E26<2,#N/A,COUNTIF('A) Eingabe (Gruppen)'!C34:AH34,4))","v":{"$error":"#N/A"}},null,{"$f":"IF(N26=0, #N/A,AVERAGE('A) Eingabe (GruppenLehrer)'!C34:AH34))","v":{"$error":"#N/A"}},{"$f":"IF(N26<1, #N/A, STDEVP('A) Eingabe (GruppenLehrer)'!C34:AH34))","v":{"$error":"#N/A"}},{"$error":"#N/A"},{"$f":"COUNT('A) Eingabe (GruppenLehrer)'!C34:AH34)","v":0},{"$f":"IF(N26<1,#N/A,COUNTIF('A) Eingabe (GruppenLehrer)'!C34:AH34,1))","v":{"$error":"#N/A"}},{"$f":"IF(N26<1,#N/A,COUNTIF('A) Eingabe (GruppenLehrer)'!C34:AH34,2))","v":{"$error":"#N/A"}},{"$f":"IF(N26<1,#N/A,COUNTIF('A) Eingabe (GruppenLehrer)'!C34:AH34,3))","v":{"$error":"#N/A"}},{"$f":"IF(N26<1,#N/A,COUNTIF('A) Eingabe (GruppenLehrer)'!C34:AH34,4))","v":{"$error":"#N/A"}},null," "," "," "," "," "," "," "," "," "," "," "," "," "," "," "]
[{"$f":"FragenErstellen!A31","v":25},{"$f":"IF($E27=0, #N/A,AVERAGE('A) Eingabe (Gruppen)'!C35:AH35))","v":{"$error":"#N/A"}},{"$f":"IF(E27<2, #N/A, STDEVP('A) Eingabe (Gruppen)'!C35:AH35))","v":{"$error":"#N/A"}},{"$error":"#N/A"},{"$f":"COUNT('A) Eingabe (Gruppen)'!C35:AH35)","v":0},{"$f":"IF(E27<2,#N/A,COUNTIF('A) Eingabe (Gruppen)'!C35:AH35,1))","v":{"$error":"#N/A"}},{"$f":"IF(E27<2,#N/A,COUNTIF('A) Eingabe (Gruppen)'!C35:AH35,2))","v":{"$error":"#N/A"}},{"$f":"IF(E27<2,#N/A,COUNTIF('A) Eingabe (Gruppen)'!C35:AH35,3))","v":{"$error":"#N/A"}},{"$f":"IF(E27<2,#N/A,COUNTIF('A) Eingabe (Gruppen)'!C35:AH35,4))","v":{"$error":"#N/A"}},null,{"$f":"IF(N27=0, #N/A,AVERAGE('A) Eingabe (GruppenLehrer)'!C35:AH35))","v":{"$error":"#N/A"}},{"$f":"IF(N27<1, #N/A, STDEVP('A) Eingabe (GruppenLehrer)'!C35:AH35))","v":{"$error":"#N/A"}},{"$error":"#N/A"},{"$f":"COUNT('A) Eingabe (GruppenLehrer)'!C35:AH35)","v":0},{"$f":"IF(N27<1,#N/A,COUNTIF('A) Eingabe (GruppenLehrer)'!C35:AH35,1))","v":{"$error":"#N/A"}},{"$f":"IF(N27<1,#N/A,COUNTIF('A) Eingabe (GruppenLehrer)'!C35:AH35,2))","v":{"$error":"#N/A"}},{"$f":"IF(N27<1,#N/A,COUNTIF('A) Eingabe (GruppenLehrer)'!C35:AH35,3))","v":{"$error":"#N/A"}},{"$f":"IF(N27<1,#N/A,COUNTIF('A) Eingabe (GruppenLehrer)'!C35:AH35,4))","v":{"$error":"#N/A"}},null," "," "," "," "," "," "," "," "," "," "," "," "," "," "," "]
[{"$f":"FragenErstellen!A32","v":26},{"$f":"IF($E28=0, #N/A,AVERAGE('A) Eingabe (Gruppen)'!C36:AH36))","v":{"$error":"#N/A"}},{"$f":"IF(E28<2, #N/A, STDEVP('A) Eingabe (Gruppen)'!C36:AH36))","v":{"$error":"#N/A"}},{"$error":"#N/A"},{"$f":"COUNT('A) Eingabe (Gruppen)'!C36:AH36)","v":0},{"$f":"IF(E28<2,#N/A,COUNTIF('A) Eingabe (Gruppen)'!C36:AH36,1))","v":{"$error":"#N/A"}},{"$f":"IF(E28<2,#N/A,COUNTIF('A) Eingabe (Gruppen)'!C36:AH36,2))","v":{"$error":"#N/A"}},{"$f":"IF(E28<2,#N/A,COUNTIF('A) Eingabe (Gruppen)'!C36:AH36,3))","v":{"$error":"#N/A"}},{"$f":"IF(E28<2,#N/A,COUNTIF('A) Eingabe (Gruppen)'!C36:AH36,4))","v":{"$error":"#N/A"}},null,{"$f":"IF(N28=0, #N/A,AVERAGE('A) Eingabe (GruppenLehrer)'!C36:AH36))","v":{"$error":"#N/A"}},{"$f":"IF(N28<1, #N/A, STDEVP('A) Eingabe (GruppenLehrer)'!C36:AH36))","v":{"$error":"#N/A"}},{"$error":"#N/A"},{"$f":"COUNT('A) Eingabe (GruppenLehrer)'!C36:AH36)","v":0},{"$f":"IF(N28<1,#N/A,COUNTIF('A) Eingabe (GruppenLehrer)'!C36:AH36,1))","v":{"$error":"#N/A"}},{"$f":"IF(N28<1,#N/A,COUNTIF('A) Eingabe (GruppenLehrer)'!C36:AH36,2))","v":{"$error":"#N/A"}},{"$f":"IF(N28<1,#N/A,COUNTIF('A) Eingabe (GruppenLehrer)'!C36:AH36,3))","v":{"$error":"#N/A"}},{"$f":"IF(N28<1,#N/A,COUNTIF('A) Eingabe (GruppenLehrer)'!C36:AH36,4))","v":{"$error":"#N/A"}},null," "," "," "," "," "," "," "," "," "," "," "," "," "," "," "]
[{"$f":"FragenErstellen!A33","v":27},{"$f":"IF($E29=0, #N/A,AVERAGE('A) Eingabe (Gruppen)'!C37:AH37))","v":{"$error":"#N/A"}},{"$f":"IF(E29<2, #N/A, STDEVP('A) Eingabe (Gruppen)'!C37:AH37))","v":{"$error":"#N/A"}},{"$error":"#N/A"},{"$f":"COUNT('A) Eingabe (Gruppen)'!C37:AH37)","v":0},{"$f":"IF(E29<2,#N/A,COUNTIF('A) Eingabe (Gruppen)'!C37:AH37,1))","v":{"$error":"#N/A"}},{"$f":"IF(E29<2,#N/A,COUNTIF('A) Eingabe (Gruppen)'!C37:AH37,2))","v":{"$error":"#N/A"}},{"$f":"IF(E29<2,#N/A,COUNTIF('A) Eingabe (Gruppen)'!C37:AH37,3))","v":{"$error":"#N/A"}},{"$f":"IF(E29<2,#N/A,COUNTIF('A) Eingabe (Gruppen)'!C37:AH37,4))","v":{"$error":"#N/A"}},null,{"$f":"IF(N29=0, #N/A,AVERAGE('A) Eingabe (GruppenLehrer)'!C37:AH37))","v":{"$error":"#N/A"}},{"$f":"IF(N29<1, #N/A, STDEVP('A) Eingabe (GruppenLehrer)'!C37:AH37))","v":{"$error":"#N/A"}},{"$error":"#N/A"},{"$f":"COUNT('A) Eingabe (GruppenLehrer)'!C37:AH37)","v":0},{"$f":"IF(N29<1,#N/A,COUNTIF('A) Eingabe (GruppenLehrer)'!C37:AH37,1))","v":{"$error":"#N/A"}},{"$f":"IF(N29<1,#N/A,COUNTIF('A) Eingabe (GruppenLehrer)'!C37:AH37,2))","v":{"$error":"#N/A"}},{"$f":"IF(N29<1,#N/A,COUNTIF('A) Eingabe (GruppenLehrer)'!C37:AH37,3))","v":{"$error":"#N/A"}},{"$f":"IF(N29<1,#N/A,COUNTIF('A) Eingabe (GruppenLehrer)'!C37:AH37,4))","v":{"$error":"#N/A"}},null," "," "," "," "," "," "," "," "," "," "," "," "," "," "," "]
[{"$f":"FragenErstellen!A34","v":28},{"$f":"IF($E30=0, #N/A,AVERAGE('A) Eingabe (Gruppen)'!C38:AH38))","v":{"$error":"#N/A"}},{"$f":"IF(E30<2, #N/A, STDEVP('A) Eingabe (Gruppen)'!C38:AH38))","v":{"$error":"#N/A"}},{"$error":"#N/A"},{"$f":"COUNT('A) Eingabe (Gruppen)'!C38:AH38)","v":0},{"$f":"IF(E30<2,#N/A,COUNTIF('A) Eingabe (Gruppen)'!C38:AH38,1))","v":{"$error":"#N/A"}},{"$f":"IF(E30<2,#N/A,COUNTIF('A) Eingabe (Gruppen)'!C38:AH38,2))","v":{"$error":"#N/A"}},{"$f":"IF(E30<2,#N/A,COUNTIF('A) Eingabe (Gruppen)'!C38:AH38,3))","v":{"$error":"#N/A"}},{"$f":"IF(E30<2,#N/A,COUNTIF('A) Eingabe (Gruppen)'!C38:AH38,4))","v":{"$error":"#N/A"}},null,{"$f":"IF(N30=0, #N/A,AVERAGE('A) Eingabe (GruppenLehrer)'!C38:AH38))","v":{"$error":"#N/A"}},{"$f":"IF(N30<1, #N/A, STDEVP('A) Eingabe (GruppenLehrer)'!C38:AH38))","v":{"$error":"#N/A"}},{"$error":"#N/A"},{"$f":"COUNT('A) Eingabe (GruppenLehrer)'!C38:AH38)","v":0},{"$f":"IF(N30<1,#N/A,COUNTIF('A) Eingabe (GruppenLehrer)'!C38:AH38,1))","v":{"$error":"#N/A"}},{"$f":"IF(N30<1,#N/A,COUNTIF('A) Eingabe (GruppenLehrer)'!C38:AH38,2))","v":{"$error":"#N/A"}},{"$f":"IF(N30<1,#N/A,COUNTIF('A) Eingabe (GruppenLehrer)'!C38:AH38,3))","v":{"$error":"#N/A"}},{"$f":"IF(N30<1,#N/A,COUNTIF('A) Eingabe (GruppenLehrer)'!C38:AH38,4))","v":{"$error":"#N/A"}},null," "," "," "," "," "," "," "," "," "," "," "," "," "," "," "]
[{"$f":"FragenErstellen!A35","v":29},{"$f":"IF($E31=0, #N/A,AVERAGE('A) Eingabe (Gruppen)'!C39:AH39))","v":{"$error":"#N/A"}},{"$f":"IF(E31<2, #N/A, STDEVP('A) Eingabe (Gruppen)'!C39:AH39))","v":{"$error":"#N/A"}},{"$error":"#N/A"},{"$f":"COUNT('A) Eingabe (Gruppen)'!C39:AH39)","v":0},{"$f":"IF(E31<2,#N/A,COUNTIF('A) Eingabe (Gruppen)'!C39:AH39,1))","v":{"$error":"#N/A"}},{"$f":"IF(E31<2,#N/A,COUNTIF('A) Eingabe (Gruppen)'!C39:AH39,2))","v":{"$error":"#N/A"}},{"$f":"IF(E31<2,#N/A,COUNTIF('A) Eingabe (Gruppen)'!C39:AH39,3))","v":{"$error":"#N/A"}},{"$f":"IF(E31<2,#N/A,COUNTIF('A) Eingabe (Gruppen)'!C39:AH39,4))","v":{"$error":"#N/A"}},null,{"$f":"IF(N31=0, #N/A,AVERAGE('A) Eingabe (GruppenLehrer)'!C39:AH39))","v":{"$error":"#N/A"}},{"$f":"IF(N31<1, #N/A, STDEVP('A) Eingabe (GruppenLehrer)'!C39:AH39))","v":{"$error":"#N/A"}},{"$error":"#N/A"},{"$f":"COUNT('A) Eingabe (GruppenLehrer)'!C39:AH39)","v":0},{"$f":"IF(N31<1,#N/A,COUNTIF('A) Eingabe (GruppenLehrer)'!C39:AH39,1))","v":{"$error":"#N/A"}},{"$f":"IF(N31<1,#N/A,COUNTIF('A) Eingabe (GruppenLehrer)'!C39:AH39,2))","v":{"$error":"#N/A"}},{"$f":"IF(N31<1,#N/A,COUNTIF('A) Eingabe (GruppenLehrer)'!C39:AH39,3))","v":{"$error":"#N/A"}},{"$f":"IF(N31<1,#N/A,COUNTIF('A) Eingabe (GruppenLehrer)'!C39:AH39,4))","v":{"$error":"#N/A"}},null," "," "," "," "," "," "," "," "," "," "," "," "," "," "," "]
[{"$f":"FragenErstellen!A36","v":30},{"$f":"IF($E32=0, #N/A,AVERAGE('A) Eingabe (Gruppen)'!C40:AH40))","v":{"$error":"#N/A"}},{"$f":"IF(E32<2, #N/A, STDEVP('A) Eingabe (Gruppen)'!C40:AH40))","v":{"$error":"#N/A"}},{"$error":"#N/A"},{"$f":"COUNT('A) Eingabe (Gruppen)'!C40:AH40)","v":0},{"$f":"IF(E32<2,#N/A,COUNTIF('A) Eingabe (Gruppen)'!C40:AH40,1))","v":{"$error":"#N/A"}},{"$f":"IF(E32<2,#N/A,COUNTIF('A) Eingabe (Gruppen)'!C40:AH40,2))","v":{"$error":"#N/A"}},{"$f":"IF(E32<2,#N/A,COUNTIF('A) Eingabe (Gruppen)'!C40:AH40,3))","v":{"$error":"#N/A"}},{"$f":"IF(E32<2,#N/A,COUNTIF('A) Eingabe (Gruppen)'!C40:AH40,4))","v":{"$error":"#N/A"}},null,{"$f":"IF(N32=0, #N/A,AVERAGE('A) Eingabe (GruppenLehrer)'!C40:AH40))","v":{"$error":"#N/A"}},{"$f":"IF(N32<1, #N/A, STDEVP('A) Eingabe (GruppenLehrer)'!C40:AH40))","v":{"$error":"#N/A"}},{"$error":"#N/A"},{"$f":"COUNT('A) Eingabe (GruppenLehrer)'!C40:AH40)","v":0},{"$f":"IF(N32<1,#N/A,COUNTIF('A) Eingabe (GruppenLehrer)'!C40:AH40,1))","v":{"$error":"#N/A"}},{"$f":"IF(N32<1,#N/A,COUNTIF('A) Eingabe (GruppenLehrer)'!C40:AH40,2))","v":{"$error":"#N/A"}},{"$f":"IF(N32<1,#N/A,COUNTIF('A) Eingabe (GruppenLehrer)'!C40:AH40,3))","v":{"$error":"#N/A"}},{"$f":"IF(N32<1,#N/A,COUNTIF('A) Eingabe (GruppenLehrer)'!C40:AH40,4))","v":{"$error":"#N/A"}},null," "," "," "," "," "," "," "," "," "," "," "," "," "," "," "]
[{"$f":"FragenErstellen!A37","v":31},{"$f":"IF($E33=0, #N/A,AVERAGE('A) Eingabe (Gruppen)'!C41:AH41))","v":{"$error":"#N/A"}},{"$f":"IF(E33<2, #N/A, STDEVP('A) Eingabe (Gruppen)'!C41:AH41))","v":{"$error":"#N/A"}},{"$error":"#N/A"},{"$f":"COUNT('A) Eingabe (Gruppen)'!C41:AH41)","v":0},{"$f":"IF(E33<2,#N/A,COUNTIF('A) Eingabe (Gruppen)'!C41:AH41,1))","v":{"$error":"#N/A"}},{"$f":"IF(E33<2,#N/A,COUNTIF('A) Eingabe (Gruppen)'!C41:AH41,2))","v":{"$error":"#N/A"}},{"$f":"IF(E33<2,#N/A,COUNTIF('A) Eingabe (Gruppen)'!C41:AH41,3))","v":{"$error":"#N/A"}},{"$f":"IF(E33<2,#N/A,COUNTIF('A) Eingabe (Gruppen)'!C41:AH41,4))","v":{"$error":"#N/A"}},null,{"$f":"IF(N33=0, #N/A,AVERAGE('A) Eingabe (GruppenLehrer)'!C41:AH41))","v":{"$error":"#N/A"}},{"$f":"IF(N33<1, #N/A, STDEVP('A) Eingabe (GruppenLehrer)'!C41:AH41))","v":{"$error":"#N/A"}},{"$error":"#N/A"},{"$f":"COUNT('A) Eingabe (GruppenLehrer)'!C41:AH41)","v":0},{"$f":"IF(N33<1,#N/A,COUNTIF('A) Eingabe (GruppenLehrer)'!C41:AH41,1))","v":{"$error":"#N/A"}},{"$f":"IF(N33<1,#N/A,COUNTIF('A) Eingabe (GruppenLehrer)'!C41:AH41,2))","v":{"$error":"#N/A"}},{"$f":"IF(N33<1,#N/A,COUNTIF('A) Eingabe (GruppenLehrer)'!C41:AH41,3))","v":{"$error":"#N/A"}},{"$f":"IF(N33<1,#N/A,COUNTIF('A) Eingabe (GruppenLehrer)'!C41:AH41,4))","v":{"$error":"#N/A"}},null," "," "," "," "," "," "," "," "," "," "," "," "," "," "," "]
[{"$f":"FragenErstellen!A38","v":32},{"$f":"IF($E34=0, #N/A,AVERAGE('A) Eingabe (Gruppen)'!C42:AH42))","v":{"$error":"#N/A"}},{"$f":"IF(E34<2, #N/A, STDEVP('A) Eingabe (Gruppen)'!C42:AH42))","v":{"$error":"#N/A"}},{"$error":"#N/A"},{"$f":"COUNT('A) Eingabe (Gruppen)'!C42:AH42)","v":0},{"$f":"IF(E34<2,#N/A,COUNTIF('A) Eingabe (Gruppen)'!C42:AH42,1))","v":{"$error":"#N/A"}},{"$f":"IF(E34<2,#N/A,COUNTIF('A) Eingabe (Gruppen)'!C42:AH42,2))","v":{"$error":"#N/A"}},{"$f":"IF(E34<2,#N/A,COUNTIF('A) Eingabe (Gruppen)'!C42:AH42,3))","v":{"$error":"#N/A"}},{"$f":"IF(E34<2,#N/A,COUNTIF('A) Eingabe (Gruppen)'!C42:AH42,4))","v":{"$error":"#N/A"}},null,{"$f":"IF(N34=0, #N/A,AVERAGE('A) Eingabe (GruppenLehrer)'!C42:AH42))","v":{"$error":"#N/A"}},{"$f":"IF(N34<1, #N/A, STDEVP('A) Eingabe (GruppenLehrer)'!C42:AH42))","v":{"$error":"#N/A"}},{"$error":"#N/A"},{"$f":"COUNT('A) Eingabe (GruppenLehrer)'!C42:AH42)","v":0},{"$f":"IF(N34<1,#N/A,COUNTIF('A) Eingabe (GruppenLehrer)'!C42:AH42,1))","v":{"$error":"#N/A"}},{"$f":"IF(N34<1,#N/A,COUNTIF('A) Eingabe (GruppenLehrer)'!C42:AH42,2))","v":{"$error":"#N/A"}},{"$f":"IF(N34<1,#N/A,COUNTIF('A) Eingabe (GruppenLehrer)'!C42:AH42,3))","v":{"$error":"#N/A"}},{"$f":"IF(N34<1,#N/A,COUNTIF('A) Eingabe (GruppenLehrer)'!C42:AH42,4))","v":{"$error":"#N/A"}},null," "," "," "," "," "," "," "," "," "," "," "," "," "," "," "]
[{"$f":"FragenErstellen!A39","v":33},{"$f":"IF($E35=0, #N/A,AVERAGE('A) Eingabe (Gruppen)'!C43:AH43))","v":{"$error":"#N/A"}},{"$f":"IF(E35<2, #N/A, STDEVP('A) Eingabe (Gruppen)'!C43:AH43))","v":{"$error":"#N/A"}},{"$error":"#N/A"},{"$f":"COUNT('A) Eingabe (Gruppen)'!C43:AH43)","v":0},{"$f":"IF(E35<2,#N/A,COUNTIF('A) Eingabe (Gruppen)'!C43:AH43,1))","v":{"$error":"#N/A"}},{"$f":"IF(E35<2,#N/A,COUNTIF('A) Eingabe (Gruppen)'!C43:AH43,2))","v":{"$error":"#N/A"}},{"$f":"IF(E35<2,#N/A,COUNTIF('A) Eingabe (Gruppen)'!C43:AH43,3))","v":{"$error":"#N/A"}},{"$f":"IF(E35<2,#N/A,COUNTIF('A) Eingabe (Gruppen)'!C43:AH43,4))","v":{"$error":"#N/A"}},null,{"$f":"IF(N35=0, #N/A,AVERAGE('A) Eingabe (GruppenLehrer)'!C43:AH43))","v":{"$error":"#N/A"}},{"$f":"IF(N35<1, #N/A, STDEVP('A) Eingabe (GruppenLehrer)'!C43:AH43))","v":{"$error":"#N/A"}},{"$error":"#N/A"},{"$f":"COUNT('A) Eingabe (GruppenLehrer)'!C43:AH43)","v":0},{"$f":"IF(N35<1,#N/A,COUNTIF('A) Eingabe (GruppenLehrer)'!C43:AH43,1))","v":{"$error":"#N/A"}},{"$f":"IF(N35<1,#N/A,COUNTIF('A) Eingabe (GruppenLehrer)'!C43:AH43,2))","v":{"$error":"#N/A"}},{"$f":"IF(N35<1,#N/A,COUNTIF('A) Eingabe (GruppenLehrer)'!C43:AH43,3))","v":{"$error":"#N/A"}},{"$f":"IF(N35<1,#N/A,COUNTIF('A) Eingabe (GruppenLehrer)'!C43:AH43,4))","v":{"$error":"#N/A"}},null," "," "," "," "," "," "," "," "," "," "," "," "," "," "," "]
[{"$f":"FragenErstellen!A40","v":34},{"$f":"IF($E36=0, #N/A,AVERAGE('A) Eingabe (Gruppen)'!C44:AH44))","v":{"$error":"#N/A"}},{"$f":"IF(E36<2, #N/A, STDEVP('A) Eingabe (Gruppen)'!C44:AH44))","v":{"$error":"#N/A"}},{"$error":"#N/A"},{"$f":"COUNT('A) Eingabe (Gruppen)'!C44:AH44)","v":0},{"$f":"IF(E36<2,#N/A,COUNTIF('A) Eingabe (Gruppen)'!C44:AH44,1))","v":{"$error":"#N/A"}},{"$f":"IF(E36<2,#N/A,COUNTIF('A) Eingabe (Gruppen)'!C44:AH44,2))","v":{"$error":"#N/A"}},{"$f":"IF(E36<2,#N/A,COUNTIF('A) Eingabe (Gruppen)'!C44:AH44,3))","v":{"$error":"#N/A"}},{"$f":"IF(E36<2,#N/A,COUNTIF('A) Eingabe (Gruppen)'!C44:AH44,4))","v":{"$error":"#N/A"}},null,{"$f":"IF(N36=0, #N/A,AVERAGE('A) Eingabe (GruppenLehrer)'!C44:AH44))","v":{"$error":"#N/A"}},{"$f":"IF(N36<1, #N/A, STDEVP('A) Eingabe (GruppenLehrer)'!C44:AH44))","v":{"$error":"#N/A"}},{"$error":"#N/A"},{"$f":"COUNT('A) Eingabe (GruppenLehrer)'!C44:AH44)","v":0},{"$f":"IF(N36<1,#N/A,COUNTIF('A) Eingabe (GruppenLehrer)'!C44:AH44,1))","v":{"$error":"#N/A"}},{"$f":"IF(N36<1,#N/A,COUNTIF('A) Eingabe (GruppenLehrer)'!C44:AH44,2))","v":{"$error":"#N/A"}},{"$f":"IF(N36<1,#N/A,COUNTIF('A) Eingabe (GruppenLehrer)'!C44:AH44,3))","v":{"$error":"#N/A"}},{"$f":"IF(N36<1,#N/A,COUNTIF('A) Eingabe (GruppenLehrer)'!C44:AH44,4))","v":{"$error":"#N/A"}},null," "," "," "," "," "," "," "," "," "," "," "," "," "," "," "]
[{"$f":"FragenErstellen!A41","v":35},{"$f":"IF($E37=0, #N/A,AVERAGE('A) Eingabe (Gruppen)'!C45:AH45))","v":{"$error":"#N/A"}},{"$f":"IF(E37<2, #N/A, STDEVP('A) Eingabe (Gruppen)'!C45:AH45))","v":{"$error":"#N/A"}},{"$error":"#N/A"},{"$f":"COUNT('A) Eingabe (Gruppen)'!C45:AH45)","v":0},{"$f":"IF(E37<2,#N/A,COUNTIF('A) Eingabe (Gruppen)'!C45:AH45,1))","v":{"$error":"#N/A"}},{"$f":"IF(E37<2,#N/A,COUNTIF('A) Eingabe (Gruppen)'!C45:AH45,2))","v":{"$error":"#N/A"}},{"$f":"IF(E37<2,#N/A,COUNTIF('A) Eingabe (Gruppen)'!C45:AH45,3))","v":{"$error":"#N/A"}},{"$f":"IF(E37<2,#N/A,COUNTIF('A) Eingabe (Gruppen)'!C45:AH45,4))","v":{"$error":"#N/A"}},null,{"$f":"IF(N37=0, #N/A,AVERAGE('A) Eingabe (GruppenLehrer)'!C45:AH45))","v":{"$error":"#N/A"}},{"$f":"IF(N37<1, #N/A, STDEVP('A) Eingabe (GruppenLehrer)'!C45:AH45))","v":{"$error":"#N/A"}},{"$error":"#N/A"},{"$f":"COUNT('A) Eingabe (GruppenLehrer)'!C45:AH45)","v":0},{"$f":"IF(N37<1,#N/A,COUNTIF('A) Eingabe (GruppenLehrer)'!C45:AH45,1))","v":{"$error":"#N/A"}},{"$f":"IF(N37<1,#N/A,COUNTIF('A) Eingabe (GruppenLehrer)'!C45:AH45,2))","v":{"$error":"#N/A"}},{"$f":"IF(N37<1,#N/A,COUNTIF('A) Eingabe (GruppenLehrer)'!C45:AH45,3))","v":{"$error":"#N/A"}},{"$f":"IF(N37<1,#N/A,COUNTIF('A) Eingabe (GruppenLehrer)'!C45:AH45,4))","v":{"$error":"#N/A"}}]
[{"$f":"FragenErstellen!A42","v":36},{"$f":"IF($E38=0, #N/A,AVERAGE('A) Eingabe (Gruppen)'!C46:AH46))","v":{"$error":"#N/A"}},{"$f":"IF(E38<2, #N/A, STDEVP('A) Eingabe (Gruppen)'!C46:AH46))","v":{"$error":"#N/A"}},{"$error":"#N/A"},{"$f":"COUNT('A) Eingabe (Gruppen)'!C46:AH46)","v":0},{"$f":"IF(E38<2,#N/A,COUNTIF('A) Eingabe (Gruppen)'!C46:AH46,1))","v":{"$error":"#N/A"}},{"$f":"IF(E38<2,#N/A,COUNTIF('A) Eingabe (Gruppen)'!C46:AH46,2))","v":{"$error":"#N/A"}},{"$f":"IF(E38<2,#N/A,COUNTIF('A) Eingabe (Gruppen)'!C46:AH46,3))","v":{"$error":"#N/A"}},{"$f":"IF(E38<2,#N/A,COUNTIF('A) Eingabe (Gruppen)'!C46:AH46,4))","v":{"$error":"#N/A"}},null,{"$f":"IF(N38=0, #N/A,AVERAGE('A) Eingabe (GruppenLehrer)'!C46:AH46))","v":{"$error":"#N/A"}},{"$f":"IF(N38<1, #N/A, STDEVP('A) Eingabe (GruppenLehrer)'!C46:AH46))","v":{"$error":"#N/A"}},{"$error":"#N/A"},{"$f":"COUNT('A) Eingabe (GruppenLehrer)'!C46:AH46)","v":0},{"$f":"IF(N38<1,#N/A,COUNTIF('A) Eingabe (GruppenLehrer)'!C46:AH46,1))","v":{"$error":"#N/A"}},{"$f":"IF(N38<1,#N/A,COUNTIF('A) Eingabe (GruppenLehrer)'!C46:AH46,2))","v":{"$error":"#N/A"}},{"$f":"IF(N38<1,#N/A,COUNTIF('A) Eingabe (GruppenLehrer)'!C46:AH46,3))","v":{"$error":"#N/A"}},{"$f":"IF(N38<1,#N/A,COUNTIF('A) Eingabe (GruppenLehrer)'!C46:AH46,4))","v":{"$error":"#N/A"}}]
[{"$f":"FragenErstellen!A43","v":37},{"$f":"IF($E39=0, #N/A,AVERAGE('A) Eingabe (Gruppen)'!C47:AH47))","v":{"$error":"#N/A"}},{"$f":"IF(E39<2, #N/A, STDEVP('A) Eingabe (Gruppen)'!C47:AH47))","v":{"$error":"#N/A"}},{"$error":"#N/A"},{"$f":"COUNT('A) Eingabe (Gruppen)'!C47:AH47)","v":0},{"$f":"IF(E39<2,#N/A,COUNTIF('A) Eingabe (Gruppen)'!C47:AH47,1))","v":{"$error":"#N/A"}},{"$f":"IF(E39<2,#N/A,COUNTIF('A) Eingabe (Gruppen)'!C47:AH47,2))","v":{"$error":"#N/A"}},{"$f":"IF(E39<2,#N/A,COUNTIF('A) Eingabe (Gruppen)'!C47:AH47,3))","v":{"$error":"#N/A"}},{"$f":"IF(E39<2,#N/A,COUNTIF('A) Eingabe (Gruppen)'!C47:AH47,4))","v":{"$error":"#N/A"}},null,{"$f":"IF(N39=0, #N/A,AVERAGE('A) Eingabe (GruppenLehrer)'!C47:AH47))","v":{"$error":"#N/A"}},{"$f":"IF(N39<1, #N/A, STDEVP('A) Eingabe (GruppenLehrer)'!C47:AH47))","v":{"$error":"#N/A"}},{"$error":"#N/A"},{"$f":"COUNT('A) Eingabe (GruppenLehrer)'!C47:AH47)","v":0},{"$f":"IF(N39<1,#N/A,COUNTIF('A) Eingabe (GruppenLehrer)'!C47:AH47,1))","v":{"$error":"#N/A"}},{"$f":"IF(N39<1,#N/A,COUNTIF('A) Eingabe (GruppenLehrer)'!C47:AH47,2))","v":{"$error":"#N/A"}},{"$f":"IF(N39<1,#N/A,COUNTIF('A) Eingabe (GruppenLehrer)'!C47:AH47,3))","v":{"$error":"#N/A"}},{"$f":"IF(N39<1,#N/A,COUNTIF('A) Eingabe (GruppenLehrer)'!C47:AH47,4))","v":{"$error":"#N/A"}}]
[{"$f":"FragenErstellen!A44","v":38},{"$f":"IF($E40=0, #N/A,AVERAGE('A) Eingabe (Gruppen)'!C48:AH48))","v":{"$error":"#N/A"}},{"$f":"IF(E40<2, #N/A, STDEVP('A) Eingabe (Gruppen)'!C48:AH48))","v":{"$error":"#N/A"}},{"$error":"#N/A"},{"$f":"COUNT('A) Eingabe (Gruppen)'!C48:AH48)","v":0},{"$f":"IF(E40<2,#N/A,COUNTIF('A) Eingabe (Gruppen)'!C48:AH48,1))","v":{"$error":"#N/A"}},{"$f":"IF(E40<2,#N/A,COUNTIF('A) Eingabe (Gruppen)'!C48:AH48,2))","v":{"$error":"#N/A"}},{"$f":"IF(E40<2,#N/A,COUNTIF('A) Eingabe (Gruppen)'!C48:AH48,3))","v":{"$error":"#N/A"}},{"$f":"IF(E40<2,#N/A,COUNTIF('A) Eingabe (Gruppen)'!C48:AH48,4))","v":{"$error":"#N/A"}},null,{"$f":"IF(N40=0, #N/A,AVERAGE('A) Eingabe (GruppenLehrer)'!C48:AH48))","v":{"$error":"#N/A"}},{"$f":"IF(N40<1, #N/A, STDEVP('A) Eingabe (GruppenLehrer)'!C48:AH48))","v":{"$error":"#N/A"}},{"$error":"#N/A"},{"$f":"COUNT('A) Eingabe (GruppenLehrer)'!C48:AH48)","v":0},{"$f":"IF(N40<1,#N/A,COUNTIF('A) Eingabe (GruppenLehrer)'!C48:AH48,1))","v":{"$error":"#N/A"}},{"$f":"IF(N40<1,#N/A,COUNTIF('A) Eingabe (GruppenLehrer)'!C48:AH48,2))","v":{"$error":"#N/A"}},{"$f":"IF(N40<1,#N/A,COUNTIF('A) Eingabe (GruppenLehrer)'!C48:AH48,3))","v":{"$error":"#N/A"}},{"$f":"IF(N40<1,#N/A,COUNTIF('A) Eingabe (GruppenLehrer)'!C48:AH48,4))","v":{"$error":"#N/A"}}]
[{"$f":"FragenErstellen!A45","v":39},{"$f":"IF($E41=0, #N/A,AVERAGE('A) Eingabe (Gruppen)'!C49:AH49))","v":{"$error":"#N/A"}},{"$f":"IF(E41<2, #N/A, STDEVP('A) Eingabe (Gruppen)'!C49:AH49))","v":{"$error":"#N/A"}},{"$error":"#N/A"},{"$f":"COUNT('A) Eingabe (Gruppen)'!C49:AH49)","v":0},{"$f":"IF(E41<2,#N/A,COUNTIF('A) Eingabe (Gruppen)'!C49:AH49,1))","v":{"$error":"#N/A"}},{"$f":"IF(E41<2,#N/A,COUNTIF('A) Eingabe (Gruppen)'!C49:AH49,2))","v":{"$error":"#N/A"}},{"$f":"IF(E41<2,#N/A,COUNTIF('A) Eingabe (Gruppen)'!C49:AH49,3))","v":{"$error":"#N/A"}},{"$f":"IF(E41<2,#N/A,COUNTIF('A) Eingabe (Gruppen)'!C49:AH49,4))","v":{"$error":"#N/A"}},null,{"$f":"IF(N41=0, #N/A,AVERAGE('A) Eingabe (GruppenLehrer)'!C49:AH49))","v":{"$error":"#N/A"}},{"$f":"IF(N41<1, #N/A, STDEVP('A) Eingabe (GruppenLehrer)'!C49:AH49))","v":{"$error":"#N/A"}},{"$error":"#N/A"},{"$f":"COUNT('A) Eingabe (GruppenLehrer)'!C49:AH49)","v":0},{"$f":"IF(N41<1,#N/A,COUNTIF('A) Eingabe (GruppenLehrer)'!C49:AH49,1))","v":{"$error":"#N/A"}},{"$f":"IF(N41<1,#N/A,COUNTIF('A) Eingabe (GruppenLehrer)'!C49:AH49,2))","v":{"$error":"#N/A"}},{"$f":"IF(N41<1,#N/A,COUNTIF('A) Eingabe (GruppenLehrer)'!C49:AH49,3))","v":{"$error":"#N/A"}},{"$f":"IF(N41<1,#N/A,COUNTIF('A) Eingabe (GruppenLehrer)'!C49:AH49,4))","v":{"$error":"#N/A"}}]
[{"$f":"FragenErstellen!A46","v":40},{"$f":"IF($E42=0, #N/A,AVERAGE('A) Eingabe (Gruppen)'!C50:AH50))","v":{"$error":"#N/A"}},{"$f":"IF(E42<2, #N/A, STDEVP('A) Eingabe (Gruppen)'!C50:AH50))","v":{"$error":"#N/A"}},{"$error":"#N/A"},{"$f":"COUNT('A) Eingabe (Gruppen)'!C50:AH50)","v":0},{"$f":"IF(E42<2,#N/A,COUNTIF('A) Eingabe (Gruppen)'!C50:AH50,1))","v":{"$error":"#N/A"}},{"$f":"IF(E42<2,#N/A,COUNTIF('A) Eingabe (Gruppen)'!C50:AH50,2))","v":{"$error":"#N/A"}},{"$f":"IF(E42<2,#N/A,COUNTIF('A) Eingabe (Gruppen)'!C50:AH50,3))","v":{"$error":"#N/A"}},{"$f":"IF(E42<2,#N/A,COUNTIF('A) Eingabe (Gruppen)'!C50:AH50,4))","v":{"$error":"#N/A"}},null,{"$f":"IF(N42=0, #N/A,AVERAGE('A) Eingabe (GruppenLehrer)'!C50:AH50))","v":{"$error":"#N/A"}},{"$f":"IF(N42<1, #N/A, STDEVP('A) Eingabe (GruppenLehrer)'!C50:AH50))","v":{"$error":"#N/A"}},{"$error":"#N/A"},{"$f":"COUNT('A) Eingabe (GruppenLehrer)'!C50:AH50)","v":0},{"$f":"IF(N42<1,#N/A,COUNTIF('A) Eingabe (GruppenLehrer)'!C50:AH50,1))","v":{"$error":"#N/A"}},{"$f":"IF(N42<1,#N/A,COUNTIF('A) Eingabe (GruppenLehrer)'!C50:AH50,2))","v":{"$error":"#N/A"}},{"$f":"IF(N42<1,#N/A,COUNTIF('A) Eingabe (GruppenLehrer)'!C50:AH50,3))","v":{"$error":"#N/A"}},{"$f":"IF(N42<1,#N/A,COUNTIF('A) Eingabe (GruppenLehrer)'!C50:AH50,4))","v":{"$error":"#N/A"}}]
[{"$f":"FragenErstellen!A47","v":41},{"$f":"IF($E43=0, #N/A,AVERAGE('A) Eingabe (Gruppen)'!C51:AH51))","v":{"$error":"#N/A"}},{"$f":"IF(E43<2, #N/A, STDEVP('A) Eingabe (Gruppen)'!C51:AH51))","v":{"$error":"#N/A"}},{"$error":"#N/A"},{"$f":"COUNT('A) Eingabe (Gruppen)'!C51:AH51)","v":0},{"$f":"IF(E43<2,#N/A,COUNTIF('A) Eingabe (Gruppen)'!C51:AH51,1))","v":{"$error":"#N/A"}},{"$f":"IF(E43<2,#N/A,COUNTIF('A) Eingabe (Gruppen)'!C51:AH51,2))","v":{"$error":"#N/A"}},{"$f":"IF(E43<2,#N/A,COUNTIF('A) Eingabe (Gruppen)'!C51:AH51,3))","v":{"$error":"#N/A"}},{"$f":"IF(E43<2,#N/A,COUNTIF('A) Eingabe (Gruppen)'!C51:AH51,4))","v":{"$error":"#N/A"}},null,{"$f":"IF(N43=0, #N/A,AVERAGE('A) Eingabe (GruppenLehrer)'!C51:AH51))","v":{"$error":"#N/A"}},{"$f":"IF(N43<1, #N/A, STDEVP('A) Eingabe (GruppenLehrer)'!C51:AH51))","v":{"$error":"#N/A"}},{"$error":"#N/A"},{"$f":"COUNT('A) Eingabe (GruppenLehrer)'!C51:AH51)","v":0},{"$f":"IF(N43<1,#N/A,COUNTIF('A) Eingabe (GruppenLehrer)'!C51:AH51,1))","v":{"$error":"#N/A"}},{"$f":"IF(N43<1,#N/A,COUNTIF('A) Eingabe (GruppenLehrer)'!C51:AH51,2))","v":{"$error":"#N/A"}},{"$f":"IF(N43<1,#N/A,COUNTIF('A) Eingabe (GruppenLehrer)'!C51:AH51,3))","v":{"$error":"#N/A"}},{"$f":"IF(N43<1,#N/A,COUNTIF('A) Eingabe (GruppenLehrer)'!C51:AH51,4))","v":{"$error":"#N/A"}}]
[{"$f":"FragenErstellen!A48","v":42},{"$f":"IF($E44=0, #N/A,AVERAGE('A) Eingabe (Gruppen)'!C52:AH52))","v":{"$error":"#N/A"}},{"$f":"IF(E44<2, #N/A, STDEVP('A) Eingabe (Gruppen)'!C52:AH52))","v":{"$error":"#N/A"}},{"$error":"#N/A"},{"$f":"COUNT('A) Eingabe (Gruppen)'!C52:AH52)","v":0},{"$f":"IF(E44<2,#N/A,COUNTIF('A) Eingabe (Gruppen)'!C52:AH52,1))","v":{"$error":"#N/A"}},{"$f":"IF(E44<2,#N/A,COUNTIF('A) Eingabe (Gruppen)'!C52:AH52,2))","v":{"$error":"#N/A"}},{"$f":"IF(E44<2,#N/A,COUNTIF('A) Eingabe (Gruppen)'!C52:AH52,3))","v":{"$error":"#N/A"}},{"$f":"IF(E44<2,#N/A,COUNTIF('A) Eingabe (Gruppen)'!C52:AH52,4))","v":{"$error":"#N/A"}},null,{"$f":"IF(N44=0, #N/A,AVERAGE('A) Eingabe (GruppenLehrer)'!C52:AH52))","v":{"$error":"#N/A"}},{"$f":"IF(N44<1, #N/A, STDEVP('A) Eingabe (GruppenLehrer)'!C52:AH52))","v":{"$error":"#N/A"}},{"$error":"#N/A"},{"$f":"COUNT('A) Eingabe (GruppenLehrer)'!C52:AH52)","v":0},{"$f":"IF(N44<1,#N/A,COUNTIF('A) Eingabe (GruppenLehrer)'!C52:AH52,1))","v":{"$error":"#N/A"}},{"$f":"IF(N44<1,#N/A,COUNTIF('A) Eingabe (GruppenLehrer)'!C52:AH52,2))","v":{"$error":"#N/A"}},{"$f":"IF(N44<1,#N/A,COUNTIF('A) Eingabe (GruppenLehrer)'!C52:AH52,3))","v":{"$error":"#N/A"}},{"$f":"IF(N44<1,#N/A,COUNTIF('A) Eingabe (GruppenLehrer)'!C52:AH52,4))","v":{"$error":"#N/A"}}]
[{"$f":"FragenErstellen!A49","v":43},{"$f":"IF($E45=0, #N/A,AVERAGE('A) Eingabe (Gruppen)'!C53:AH53))","v":{"$error":"#N/A"}},{"$f":"IF(E45<2, #N/A, STDEVP('A) Eingabe (Gruppen)'!C53:AH53))","v":{"$error":"#N/A"}},{"$error":"#N/A"},{"$f":"COUNT('A) Eingabe (Gruppen)'!C53:AH53)","v":0},{"$f":"IF(E45<2,#N/A,COUNTIF('A) Eingabe (Gruppen)'!C53:AH53,1))","v":{"$error":"#N/A"}},{"$f":"IF(E45<2,#N/A,COUNTIF('A) Eingabe (Gruppen)'!C53:AH53,2))","v":{"$error":"#N/A"}},{"$f":"IF(E45<2,#N/A,COUNTIF('A) Eingabe (Gruppen)'!C53:AH53,3))","v":{"$error":"#N/A"}},{"$f":"IF(E45<2,#N/A,COUNTIF('A) Eingabe (Gruppen)'!C53:AH53,4))","v":{"$error":"#N/A"}},null,{"$f":"IF(N45=0, #N/A,AVERAGE('A) Eingabe (GruppenLehrer)'!C53:AH53))","v":{"$error":"#N/A"}},{"$f":"IF(N45<1, #N/A, STDEVP('A) Eingabe (GruppenLehrer)'!C53:AH53))","v":{"$error":"#N/A"}},{"$error":"#N/A"},{"$f":"COUNT('A) Eingabe (GruppenLehrer)'!C53:AH53)","v":0},{"$f":"IF(N45<1,#N/A,COUNTIF('A) Eingabe (GruppenLehrer)'!C53:AH53,1))","v":{"$error":"#N/A"}},{"$f":"IF(N45<1,#N/A,COUNTIF('A) Eingabe (GruppenLehrer)'!C53:AH53,2))","v":{"$error":"#N/A"}},{"$f":"IF(N45<1,#N/A,COUNTIF('A) Eingabe (GruppenLehrer)'!C53:AH53,3))","v":{"$error":"#N/A"}},{"$f":"IF(N45<1,#N/A,COUNTIF('A) Eingabe (GruppenLehrer)'!C53:AH53,4))","v":{"$error":"#N/A"}}]
[{"$f":"FragenErstellen!A50","v":44},{"$f":"IF($E46=0, #N/A,AVERAGE('A) Eingabe (Gruppen)'!C54:AH54))","v":{"$error":"#N/A"}},{"$f":"IF(E46<2, #N/A, STDEVP('A) Eingabe (Gruppen)'!C54:AH54))","v":{"$error":"#N/A"}},{"$error":"#N/A"},{"$f":"COUNT('A) Eingabe (Gruppen)'!C54:AH54)","v":0},{"$f":"IF(E46<2,#N/A,COUNTIF('A) Eingabe (Gruppen)'!C54:AH54,1))","v":{"$error":"#N/A"}},{"$f":"IF(E46<2,#N/A,COUNTIF('A) Eingabe (Gruppen)'!C54:AH54,2))","v":{"$error":"#N/A"}},{"$f":"IF(E46<2,#N/A,COUNTIF('A) Eingabe (Gruppen)'!C54:AH54,3))","v":{"$error":"#N/A"}},{"$f":"IF(E46<2,#N/A,COUNTIF('A) Eingabe (Gruppen)'!C54:AH54,4))","v":{"$error":"#N/A"}},null,{"$f":"IF(N46=0, #N/A,AVERAGE('A) Eingabe (GruppenLehrer)'!C54:AH54))","v":{"$error":"#N/A"}},{"$f":"IF(N46<1, #N/A, STDEVP('A) Eingabe (GruppenLehrer)'!C54:AH54))","v":{"$error":"#N/A"}},{"$error":"#N/A"},{"$f":"COUNT('A) Eingabe (GruppenLehrer)'!C54:AH54)","v":0},{"$f":"IF(N46<1,#N/A,COUNTIF('A) Eingabe (GruppenLehrer)'!C54:AH54,1))","v":{"$error":"#N/A"}},{"$f":"IF(N46<1,#N/A,COUNTIF('A) Eingabe (GruppenLehrer)'!C54:AH54,2))","v":{"$error":"#N/A"}},{"$f":"IF(N46<1,#N/A,COUNTIF('A) Eingabe (GruppenLehrer)'!C54:AH54,3))","v":{"$error":"#N/A"}},{"$f":"IF(N46<1,#N/A,COUNTIF('A) Eingabe (GruppenLehrer)'!C54:AH54,4))","v":{"$error":"#N/A"}}]
[{"$f":"FragenErstellen!A51","v":45},{"$f":"IF($E47=0, #N/A,AVERAGE('A) Eingabe (Gruppen)'!C55:AH55))","v":{"$error":"#N/A"}},{"$f":"IF(E47<2, #N/A, STDEVP('A) Eingabe (Gruppen)'!C55:AH55))","v":{"$error":"#N/A"}},{"$error":"#N/A"},{"$f":"COUNT('A) Eingabe (Gruppen)'!C55:AH55)","v":0},{"$f":"IF(E47<2,#N/A,COUNTIF('A) Eingabe (Gruppen)'!C55:AH55,1))","v":{"$error":"#N/A"}},{"$f":"IF(E47<2,#N/A,COUNTIF('A) Eingabe (Gruppen)'!C55:AH55,2))","v":{"$error":"#N/A"}},{"$f":"IF(E47<2,#N/A,COUNTIF('A) Eingabe (Gruppen)'!C55:AH55,3))","v":{"$error":"#N/A"}},{"$f":"IF(E47<2,#N/A,COUNTIF('A) Eingabe (Gruppen)'!C55:AH55,4))","v":{"$error":"#N/A"}},null,{"$f":"IF(N47=0, #N/A,AVERAGE('A) Eingabe (GruppenLehrer)'!C55:AH55))","v":{"$error":"#N/A"}},{"$f":"IF(N47<1, #N/A, STDEVP('A) Eingabe (GruppenLehrer)'!C55:AH55))","v":{"$error":"#N/A"}},{"$error":"#N/A"},{"$f":"COUNT('A) Eingabe (GruppenLehrer)'!C55:AH55)","v":0},{"$f":"IF(N47<1,#N/A,COUNTIF('A) Eingabe (GruppenLehrer)'!C55:AH55,1))","v":{"$error":"#N/A"}},{"$f":"IF(N47<1,#N/A,COUNTIF('A) Eingabe (GruppenLehrer)'!C55:AH55,2))","v":{"$error":"#N/A"}},{"$f":"IF(N47<1,#N/A,COUNTIF('A) Eingabe (GruppenLehrer)'!C55:AH55,3))","v":{"$error":"#N/A"}},{"$f":"IF(N47<1,#N/A,COUNTIF('A) Eingabe (GruppenLehrer)'!C55:AH55,4))","v":{"$error":"#N/A"}}]
[{"$f":"FragenErstellen!A52","v":46},{"$f":"IF($E48=0, #N/A,AVERAGE('A) Eingabe (Gruppen)'!C56:AH56))","v":{"$error":"#N/A"}},{"$f":"IF(E48<2, #N/A, STDEVP('A) Eingabe (Gruppen)'!C56:AH56))","v":{"$error":"#N/A"}},{"$error":"#N/A"},{"$f":"COUNT('A) Eingabe (Gruppen)'!C56:AH56)","v":0},{"$f":"IF(E48<2,#N/A,COUNTIF('A) Eingabe (Gruppen)'!C56:AH56,1))","v":{"$error":"#N/A"}},{"$f":"IF(E48<2,#N/A,COUNTIF('A) Eingabe (Gruppen)'!C56:AH56,2))","v":{"$error":"#N/A"}},{"$f":"IF(E48<2,#N/A,COUNTIF('A) Eingabe (Gruppen)'!C56:AH56,3))","v":{"$error":"#N/A"}},{"$f":"IF(E48<2,#N/A,COUNTIF('A) Eingabe (Gruppen)'!C56:AH56,4))","v":{"$error":"#N/A"}},null,{"$f":"IF(N48=0, #N/A,AVERAGE('A) Eingabe (GruppenLehrer)'!C56:AH56))","v":{"$error":"#N/A"}},{"$f":"IF(N48<1, #N/A, STDEVP('A) Eingabe (GruppenLehrer)'!C56:AH56))","v":{"$error":"#N/A"}},{"$error":"#N/A"},{"$f":"COUNT('A) Eingabe (GruppenLehrer)'!C56:AH56)","v":0},{"$f":"IF(N48<1,#N/A,COUNTIF('A) Eingabe (GruppenLehrer)'!C56:AH56,1))","v":{"$error":"#N/A"}},{"$f":"IF(N48<1,#N/A,COUNTIF('A) Eingabe (GruppenLehrer)'!C56:AH56,2))","v":{"$error":"#N/A"}},{"$f":"IF(N48<1,#N/A,COUNTIF('A) Eingabe (GruppenLehrer)'!C56:AH56,3))","v":{"$error":"#N/A"}},{"$f":"IF(N48<1,#N/A,COUNTIF('A) Eingabe (GruppenLehrer)'!C56:AH56,4))","v":{"$error":"#N/A"}}]
[{"$f":"FragenErstellen!A53","v":47},{"$f":"IF($E49=0, #N/A,AVERAGE('A) Eingabe (Gruppen)'!C57:AH57))","v":{"$error":"#N/A"}},{"$f":"IF(E49<2, #N/A, STDEVP('A) Eingabe (Gruppen)'!C57:AH57))","v":{"$error":"#N/A"}},{"$error":"#N/A"},{"$f":"COUNT('A) Eingabe (Gruppen)'!C57:AH57)","v":0},{"$f":"IF(E49<2,#N/A,COUNTIF('A) Eingabe (Gruppen)'!C57:AH57,1))","v":{"$error":"#N/A"}},{"$f":"IF(E49<2,#N/A,COUNTIF('A) Eingabe (Gruppen)'!C57:AH57,2))","v":{"$error":"#N/A"}},{"$f":"IF(E49<2,#N/A,COUNTIF('A) Eingabe (Gruppen)'!C57:AH57,3))","v":{"$error":"#N/A"}},{"$f":"IF(E49<2,#N/A,COUNTIF('A) Eingabe (Gruppen)'!C57:AH57,4))","v":{"$error":"#N/A"}},null,{"$f":"IF(N49=0, #N/A,AVERAGE('A) Eingabe (GruppenLehrer)'!C57:AH57))","v":{"$error":"#N/A"}},{"$f":"IF(N49<1, #N/A, STDEVP('A) Eingabe (GruppenLehrer)'!C57:AH57))","v":{"$error":"#N/A"}},{"$error":"#N/A"},{"$f":"COUNT('A) Eingabe (GruppenLehrer)'!C57:AH57)","v":0},{"$f":"IF(N49<1,#N/A,COUNTIF('A) Eingabe (GruppenLehrer)'!C57:AH57,1))","v":{"$error":"#N/A"}},{"$f":"IF(N49<1,#N/A,COUNTIF('A) Eingabe (GruppenLehrer)'!C57:AH57,2))","v":{"$error":"#N/A"}},{"$f":"IF(N49<1,#N/A,COUNTIF('A) Eingabe (GruppenLehrer)'!C57:AH57,3))","v":{"$error":"#N/A"}},{"$f":"IF(N49<1,#N/A,COUNTIF('A) Eingabe (GruppenLehrer)'!C57:AH57,4))","v":{"$error":"#N/A"}}]
[{"$f":"FragenErstellen!A54","v":48},{"$f":"IF($E50=0, #N/A,AVERAGE('A) Eingabe (Gruppen)'!C58:AH58))","v":{"$error":"#N/A"}},{"$f":"IF(E50<2, #N/A, STDEVP('A) Eingabe (Gruppen)'!C58:AH58))","v":{"$error":"#N/A"}},{"$error":"#N/A"},{"$f":"COUNT('A) Eingabe (Gruppen)'!C58:AH58)","v":0},{"$f":"IF(E50<2,#N/A,COUNTIF('A) Eingabe (Gruppen)'!C58:AH58,1))","v":{"$error":"#N/A"}},{"$f":"IF(E50<2,#N/A,COUNTIF('A) Eingabe (Gruppen)'!C58:AH58,2))","v":{"$error":"#N/A"}},{"$f":"IF(E50<2,#N/A,COUNTIF('A) Eingabe (Gruppen)'!C58:AH58,3))","v":{"$error":"#N/A"}},{"$f":"IF(E50<2,#N/A,COUNTIF('A) Eingabe (Gruppen)'!C58:AH58,4))","v":{"$error":"#N/A"}},null,{"$f":"IF(N50=0, #N/A,AVERAGE('A) Eingabe (GruppenLehrer)'!C58:AH58))","v":{"$error":"#N/A"}},{"$f":"IF(N50<1, #N/A, STDEVP('A) Eingabe (GruppenLehrer)'!C58:AH58))","v":{"$error":"#N/A"}},{"$error":"#N/A"},{"$f":"COUNT('A) Eingabe (GruppenLehrer)'!C58:AH58)","v":0},{"$f":"IF(N50<1,#N/A,COUNTIF('A) Eingabe (GruppenLehrer)'!C58:AH58,1))","v":{"$error":"#N/A"}},{"$f":"IF(N50<1,#N/A,COUNTIF('A) Eingabe (GruppenLehrer)'!C58:AH58,2))","v":{"$error":"#N/A"}},{"$f":"IF(N50<1,#N/A,COUNTIF('A) Eingabe (GruppenLehrer)'!C58:AH58,3))","v":{"$error":"#N/A"}},{"$f":"IF(N50<1,#N/A,COUNTIF('A) Eingabe (GruppenLehrer)'!C58:AH58,4))","v":{"$error":"#N/A"}}]
[{"$f":"FragenErstellen!A55","v":49},{"$f":"IF($E51=0, #N/A,AVERAGE('A) Eingabe (Gruppen)'!C59:AH59))","v":{"$error":"#N/A"}},{"$f":"IF(E51<2, #N/A, STDEVP('A) Eingabe (Gruppen)'!C59:AH59))","v":{"$error":"#N/A"}},{"$error":"#N/A"},{"$f":"COUNT('A) Eingabe (Gruppen)'!C59:AH59)","v":0},{"$f":"IF(E51<2,#N/A,COUNTIF('A) Eingabe (Gruppen)'!C59:AH59,1))","v":{"$error":"#N/A"}},{"$f":"IF(E51<2,#N/A,COUNTIF('A) Eingabe (Gruppen)'!C59:AH59,2))","v":{"$error":"#N/A"}},{"$f":"IF(E51<2,#N/A,COUNTIF('A) Eingabe (Gruppen)'!C59:AH59,3))","v":{"$error":"#N/A"}},{"$f":"IF(E51<2,#N/A,COUNTIF('A) Eingabe (Gruppen)'!C59:AH59,4))","v":{"$error":"#N/A"}},null,{"$f":"IF(N51=0, #N/A,AVERAGE('A) Eingabe (GruppenLehrer)'!C59:AH59))","v":{"$error":"#N/A"}},{"$f":"IF(N51<1, #N/A, STDEVP('A) Eingabe (GruppenLehrer)'!C59:AH59))","v":{"$error":"#N/A"}},{"$error":"#N/A"},{"$f":"COUNT('A) Eingabe (GruppenLehrer)'!C59:AH59)","v":0},{"$f":"IF(N51<1,#N/A,COUNTIF('A) Eingabe (GruppenLehrer)'!C59:AH59,1))","v":{"$error":"#N/A"}},{"$f":"IF(N51<1,#N/A,COUNTIF('A) Eingabe (GruppenLehrer)'!C59:AH59,2))","v":{"$error":"#N/A"}},{"$f":"IF(N51<1,#N/A,COUNTIF('A) Eingabe (GruppenLehrer)'!C59:AH59,3))","v":{"$error":"#N/A"}},{"$f":"IF(N51<1,#N/A,COUNTIF('A) Eingabe (GruppenLehrer)'!C59:AH59,4))","v":{"$error":"#N/A"}}]
[{"$f":"FragenErstellen!A56","v":50},{"$f":"IF($E52=0, #N/A,AVERAGE('A) Eingabe (Gruppen)'!C60:AH60))","v":{"$error":"#N/A"}},{"$f":"IF(E52<2, #N/A, STDEVP('A) Eingabe (Gruppen)'!C60:AH60))","v":{"$error":"#N/A"}},{"$error":"#N/A"},{"$f":"COUNT('A) Eingabe (Gruppen)'!C60:AH60)","v":0},{"$f":"IF(E52<2,#N/A,COUNTIF('A) Eingabe (Gruppen)'!C60:AH60,1))","v":{"$error":"#N/A"}},{"$f":"IF(E52<2,#N/A,COUNTIF('A) Eingabe (Gruppen)'!C60:AH60,2))","v":{"$error":"#N/A"}},{"$f":"IF(E52<2,#N/A,COUNTIF('A) Eingabe (Gruppen)'!C60:AH60,3))","v":{"$error":"#N/A"}},{"$f":"IF(E52<2,#N/A,COUNTIF('A) Eingabe (Gruppen)'!C60:AH60,4))","v":{"$error":"#N/A"}},null,{"$f":"IF(N52=0, #N/A,AVERAGE('A) Eingabe (GruppenLehrer)'!C60:AH60))","v":{"$error":"#N/A"}},{"$f":"IF(N52<1, #N/A, STDEVP('A) Eingabe (GruppenLehrer)'!C60:AH60))","v":{"$error":"#N/A"}},{"$error":"#N/A"},{"$f":"COUNT('A) Eingabe (GruppenLehrer)'!C60:AH60)","v":0},{"$f":"IF(N52<1,#N/A,COUNTIF('A) Eingabe (GruppenLehrer)'!C60:AH60,1))","v":{"$error":"#N/A"}},{"$f":"IF(N52<1,#N/A,COUNTIF('A) Eingabe (GruppenLehrer)'!C60:AH60,2))","v":{"$error":"#N/A"}},{"$f":"IF(N52<1,#N/A,COUNTIF('A) Eingabe (GruppenLehrer)'!C60:AH60,3))","v":{"$error":"#N/A"}},{"$f":"IF(N52<1,#N/A,COUNTIF('A) Eingabe (GruppenLehrer)'!C60:AH60,4))","v":{"$error":"#N/A"}}]
[{"$f":"FragenErstellen!A57","v":51},{"$f":"IF($E53=0, #N/A,AVERAGE('A) Eingabe (Gruppen)'!C61:AH61))","v":{"$error":"#N/A"}},{"$f":"IF(E53<2, #N/A, STDEVP('A) Eingabe (Gruppen)'!C61:AH61))","v":{"$error":"#N/A"}},{"$error":"#N/A"},{"$f":"COUNT('A) Eingabe (Gruppen)'!C61:AH61)","v":0},{"$f":"IF(E53<2,#N/A,COUNTIF('A) Eingabe (Gruppen)'!C61:AH61,1))","v":{"$error":"#N/A"}},{"$f":"IF(E53<2,#N/A,COUNTIF('A) Eingabe (Gruppen)'!C61:AH61,2))","v":{"$error":"#N/A"}},{"$f":"IF(E53<2,#N/A,COUNTIF('A) Eingabe (Gruppen)'!C61:AH61,3))","v":{"$error":"#N/A"}},{"$f":"IF(E53<2,#N/A,COUNTIF('A) Eingabe (Gruppen)'!C61:AH61,4))","v":{"$error":"#N/A"}},null,{"$f":"IF(N53=0, #N/A,AVERAGE('A) Eingabe (GruppenLehrer)'!C61:AH61))","v":{"$error":"#N/A"}},{"$f":"IF(N53<1, #N/A, STDEVP('A) Eingabe (GruppenLehrer)'!C61:AH61))","v":{"$error":"#N/A"}},{"$error":"#N/A"},{"$f":"COUNT('A) Eingabe (GruppenLehrer)'!C61:AH61)","v":0},{"$f":"IF(N53<1,#N/A,COUNTIF('A) Eingabe (GruppenLehrer)'!C61:AH61,1))","v":{"$error":"#N/A"}},{"$f":"IF(N53<1,#N/A,COUNTIF('A) Eingabe (GruppenLehrer)'!C61:AH61,2))","v":{"$error":"#N/A"}},{"$f":"IF(N53<1,#N/A,COUNTIF('A) Eingabe (GruppenLehrer)'!C61:AH61,3))","v":{"$error":"#N/A"}},{"$f":"IF(N53<1,#N/A,COUNTIF('A) Eingabe (GruppenLehrer)'!C61:AH61,4))","v":{"$error":"#N/A"}}]
[{"$f":"FragenErstellen!A58","v":52},{"$f":"IF($E54=0, #N/A,AVERAGE('A) Eingabe (Gruppen)'!C62:AH62))","v":{"$error":"#N/A"}},{"$f":"IF(E54<2, #N/A, STDEVP('A) Eingabe (Gruppen)'!C62:AH62))","v":{"$error":"#N/A"}},{"$error":"#N/A"},{"$f":"COUNT('A) Eingabe (Gruppen)'!C62:AH62)","v":0},{"$f":"IF(E54<2,#N/A,COUNTIF('A) Eingabe (Gruppen)'!C62:AH62,1))","v":{"$error":"#N/A"}},{"$f":"IF(E54<2,#N/A,COUNTIF('A) Eingabe (Gruppen)'!C62:AH62,2))","v":{"$error":"#N/A"}},{"$f":"IF(E54<2,#N/A,COUNTIF('A) Eingabe (Gruppen)'!C62:AH62,3))","v":{"$error":"#N/A"}},{"$f":"IF(E54<2,#N/A,COUNTIF('A) Eingabe (Gruppen)'!C62:AH62,4))","v":{"$error":"#N/A"}},null,{"$f":"IF(N54=0, #N/A,AVERAGE('A) Eingabe (GruppenLehrer)'!C62:AH62))","v":{"$error":"#N/A"}},{"$f":"IF(N54<1, #N/A, STDEVP('A) Eingabe (GruppenLehrer)'!C62:AH62))","v":{"$error":"#N/A"}},{"$error":"#N/A"},{"$f":"COUNT('A) Eingabe (GruppenLehrer)'!C62:AH62)","v":0},{"$f":"IF(N54<1,#N/A,COUNTIF('A) Eingabe (GruppenLehrer)'!C62:AH62,1))","v":{"$error":"#N/A"}},{"$f":"IF(N54<1,#N/A,COUNTIF('A) Eingabe (GruppenLehrer)'!C62:AH62,2))","v":{"$error":"#N/A"}},{"$f":"IF(N54<1,#N/A,COUNTIF('A) Eingabe (GruppenLehrer)'!C62:AH62,3))","v":{"$error":"#N/A"}},{"$f":"IF(N54<1,#N/A,COUNTIF('A) Eingabe (GruppenLehrer)'!C62:AH62,4))","v":{"$error":"#N/A"}}]
[{"$f":"FragenErstellen!A59","v":53},{"$f":"IF($E55=0, #N/A,AVERAGE('A) Eingabe (Gruppen)'!C63:AH63))","v":{"$error":"#N/A"}},{"$f":"IF(E55<2, #N/A, STDEVP('A) Eingabe (Gruppen)'!C63:AH63))","v":{"$error":"#N/A"}},{"$error":"#N/A"},{"$f":"COUNT('A) Eingabe (Gruppen)'!C63:AH63)","v":0},{"$f":"IF(E55<2,#N/A,COUNTIF('A) Eingabe (Gruppen)'!C63:AH63,1))","v":{"$error":"#N/A"}},{"$f":"IF(E55<2,#N/A,COUNTIF('A) Eingabe (Gruppen)'!C63:AH63,2))","v":{"$error":"#N/A"}},{"$f":"IF(E55<2,#N/A,COUNTIF('A) Eingabe (Gruppen)'!C63:AH63,3))","v":{"$error":"#N/A"}},{"$f":"IF(E55<2,#N/A,COUNTIF('A) Eingabe (Gruppen)'!C63:AH63,4))","v":{"$error":"#N/A"}},null,{"$f":"IF(N55=0, #N/A,AVERAGE('A) Eingabe (GruppenLehrer)'!C63:AH63))","v":{"$error":"#N/A"}},{"$f":"IF(N55<1, #N/A, STDEVP('A) Eingabe (GruppenLehrer)'!C63:AH63))","v":{"$error":"#N/A"}},{"$error":"#N/A"},{"$f":"COUNT('A) Eingabe (GruppenLehrer)'!C63:AH63)","v":0},{"$f":"IF(N55<1,#N/A,COUNTIF('A) Eingabe (GruppenLehrer)'!C63:AH63,1))","v":{"$error":"#N/A"}},{"$f":"IF(N55<1,#N/A,COUNTIF('A) Eingabe (GruppenLehrer)'!C63:AH63,2))","v":{"$error":"#N/A"}},{"$f":"IF(N55<1,#N/A,COUNTIF('A) Eingabe (GruppenLehrer)'!C63:AH63,3))","v":{"$error":"#N/A"}},{"$f":"IF(N55<1,#N/A,COUNTIF('A) Eingabe (GruppenLehrer)'!C63:AH63,4))","v":{"$error":"#N/A"}}]
[{"$f":"FragenErstellen!A60","v":54},{"$f":"IF($E56=0, #N/A,AVERAGE('A) Eingabe (Gruppen)'!C64:AH64))","v":{"$error":"#N/A"}},{"$f":"IF(E56<2, #N/A, STDEVP('A) Eingabe (Gruppen)'!C64:AH64))","v":{"$error":"#N/A"}},{"$error":"#N/A"},{"$f":"COUNT('A) Eingabe (Gruppen)'!C64:AH64)","v":0},{"$f":"IF(E56<2,#N/A,COUNTIF('A) Eingabe (Gruppen)'!C64:AH64,1))","v":{"$error":"#N/A"}},{"$f":"IF(E56<2,#N/A,COUNTIF('A) Eingabe (Gruppen)'!C64:AH64,2))","v":{"$error":"#N/A"}},{"$f":"IF(E56<2,#N/A,COUNTIF('A) Eingabe (Gruppen)'!C64:AH64,3))","v":{"$error":"#N/A"}},{"$f":"IF(E56<2,#N/A,COUNTIF('A) Eingabe (Gruppen)'!C64:AH64,4))","v":{"$error":"#N/A"}},null,{"$f":"IF(N56=0, #N/A,AVERAGE('A) Eingabe (GruppenLehrer)'!C64:AH64))","v":{"$error":"#N/A"}},{"$f":"IF(N56<1, #N/A, STDEVP('A) Eingabe (GruppenLehrer)'!C64:AH64))","v":{"$error":"#N/A"}},{"$error":"#N/A"},{"$f":"COUNT('A) Eingabe (GruppenLehrer)'!C64:AH64)","v":0},{"$f":"IF(N56<1,#N/A,COUNTIF('A) Eingabe (GruppenLehrer)'!C64:AH64,1))","v":{"$error":"#N/A"}},{"$f":"IF(N56<1,#N/A,COUNTIF('A) Eingabe (GruppenLehrer)'!C64:AH64,2))","v":{"$error":"#N/A"}},{"$f":"IF(N56<1,#N/A,COUNTIF('A) Eingabe (GruppenLehrer)'!C64:AH64,3))","v":{"$error":"#N/A"}},{"$f":"IF(N56<1,#N/A,COUNTIF('A) Eingabe (GruppenLehrer)'!C64:AH64,4))","v":{"$error":"#N/A"}}]
[{"$f":"FragenErstellen!A61","v":55},{"$f":"IF($E57=0, #N/A,AVERAGE('A) Eingabe (Gruppen)'!C65:AH65))","v":{"$error":"#N/A"}},{"$f":"IF(E57<2, #N/A, STDEVP('A) Eingabe (Gruppen)'!C65:AH65))","v":{"$error":"#N/A"}},{"$error":"#N/A"},{"$f":"COUNT('A) Eingabe (Gruppen)'!C65:AH65)","v":0},{"$f":"IF(E57<2,#N/A,COUNTIF('A) Eingabe (Gruppen)'!C65:AH65,1))","v":{"$error":"#N/A"}},{"$f":"IF(E57<2,#N/A,COUNTIF('A) Eingabe (Gruppen)'!C65:AH65,2))","v":{"$error":"#N/A"}},{"$f":"IF(E57<2,#N/A,COUNTIF('A) Eingabe (Gruppen)'!C65:AH65,3))","v":{"$error":"#N/A"}},{"$f":"IF(E57<2,#N/A,COUNTIF('A) Eingabe (Gruppen)'!C65:AH65,4))","v":{"$error":"#N/A"}},null,{"$f":"IF(N57=0, #N/A,AVERAGE('A) Eingabe (GruppenLehrer)'!C65:AH65))","v":{"$error":"#N/A"}},{"$f":"IF(N57<1, #N/A, STDEVP('A) Eingabe (GruppenLehrer)'!C65:AH65))","v":{"$error":"#N/A"}},{"$error":"#N/A"},{"$f":"COUNT('A) Eingabe (GruppenLehrer)'!C65:AH65)","v":0},{"$f":"IF(N57<1,#N/A,COUNTIF('A) Eingabe (GruppenLehrer)'!C65:AH65,1))","v":{"$error":"#N/A"}},{"$f":"IF(N57<1,#N/A,COUNTIF('A) Eingabe (GruppenLehrer)'!C65:AH65,2))","v":{"$error":"#N/A"}},{"$f":"IF(N57<1,#N/A,COUNTIF('A) Eingabe (GruppenLehrer)'!C65:AH65,3))","v":{"$error":"#N/A"}},{"$f":"IF(N57<1,#N/A,COUNTIF('A) Eingabe (GruppenLehrer)'!C65:AH65,4))","v":{"$error":"#N/A"}}]
[{"$f":"FragenErstellen!A62","v":56},{"$f":"IF($E58=0, #N/A,AVERAGE('A) Eingabe (Gruppen)'!C66:AH66))","v":{"$error":"#N/A"}},{"$f":"IF(E58<2, #N/A, STDEVP('A) Eingabe (Gruppen)'!C66:AH66))","v":{"$error":"#N/A"}},{"$error":"#N/A"},{"$f":"COUNT('A) Eingabe (Gruppen)'!C66:AH66)","v":0},{"$f":"IF(E58<2,#N/A,COUNTIF('A) Eingabe (Gruppen)'!C66:AH66,1))","v":{"$error":"#N/A"}},{"$f":"IF(E58<2,#N/A,COUNTIF('A) Eingabe (Gruppen)'!C66:AH66,2))","v":{"$error":"#N/A"}},{"$f":"IF(E58<2,#N/A,COUNTIF('A) Eingabe (Gruppen)'!C66:AH66,3))","v":{"$error":"#N/A"}},{"$f":"IF(E58<2,#N/A,COUNTIF('A) Eingabe (Gruppen)'!C66:AH66,4))","v":{"$error":"#N/A"}},null,{"$f":"IF(N58=0, #N/A,AVERAGE('A) Eingabe (GruppenLehrer)'!C66:AH66))","v":{"$error":"#N/A"}},{"$f":"IF(N58<1, #N/A, STDEVP('A) Eingabe (GruppenLehrer)'!C66:AH66))","v":{"$error":"#N/A"}},{"$error":"#N/A"},{"$f":"COUNT('A) Eingabe (GruppenLehrer)'!C66:AH66)","v":0},{"$f":"IF(N58<1,#N/A,COUNTIF('A) Eingabe (GruppenLehrer)'!C66:AH66,1))","v":{"$error":"#N/A"}},{"$f":"IF(N58<1,#N/A,COUNTIF('A) Eingabe (GruppenLehrer)'!C66:AH66,2))","v":{"$error":"#N/A"}},{"$f":"IF(N58<1,#N/A,COUNTIF('A) Eingabe (GruppenLehrer)'!C66:AH66,3))","v":{"$error":"#N/A"}},{"$f":"IF(N58<1,#N/A,COUNTIF('A) Eingabe (GruppenLehrer)'!C66:AH66,4))","v":{"$error":"#N/A"}}]
[{"$f":"FragenErstellen!A63","v":57},{"$f":"IF($E59=0, #N/A,AVERAGE('A) Eingabe (Gruppen)'!C67:AH67))","v":{"$error":"#N/A"}},{"$f":"IF(E59<2, #N/A, STDEVP('A) Eingabe (Gruppen)'!C67:AH67))","v":{"$error":"#N/A"}},{"$error":"#N/A"},{"$f":"COUNT('A) Eingabe (Gruppen)'!C67:AH67)","v":0},{"$f":"IF(E59<2,#N/A,COUNTIF('A) Eingabe (Gruppen)'!C67:AH67,1))","v":{"$error":"#N/A"}},{"$f":"IF(E59<2,#N/A,COUNTIF('A) Eingabe (Gruppen)'!C67:AH67,2))","v":{"$error":"#N/A"}},{"$f":"IF(E59<2,#N/A,COUNTIF('A) Eingabe (Gruppen)'!C67:AH67,3))","v":{"$error":"#N/A"}},{"$f":"IF(E59<2,#N/A,COUNTIF('A) Eingabe (Gruppen)'!C67:AH67,4))","v":{"$error":"#N/A"}},null,{"$f":"IF(N59=0, #N/A,AVERAGE('A) Eingabe (GruppenLehrer)'!C67:AH67))","v":{"$error":"#N/A"}},{"$f":"IF(N59<1, #N/A, STDEVP('A) Eingabe (GruppenLehrer)'!C67:AH67))","v":{"$error":"#N/A"}},{"$error":"#N/A"},{"$f":"COUNT('A) Eingabe (GruppenLehrer)'!C67:AH67)","v":0},{"$f":"IF(N59<1,#N/A,COUNTIF('A) Eingabe (GruppenLehrer)'!C67:AH67,1))","v":{"$error":"#N/A"}},{"$f":"IF(N59<1,#N/A,COUNTIF('A) Eingabe (GruppenLehrer)'!C67:AH67,2))","v":{"$error":"#N/A"}},{"$f":"IF(N59<1,#N/A,COUNTIF('A) Eingabe (GruppenLehrer)'!C67:AH67,3))","v":{"$error":"#N/A"}},{"$f":"IF(N59<1,#N/A,COUNTIF('A) Eingabe (GruppenLehrer)'!C67:AH67,4))","v":{"$error":"#N/A"}}]
[{"$f":"FragenErstellen!A64","v":58},{"$f":"IF($E60=0, #N/A,AVERAGE('A) Eingabe (Gruppen)'!C68:AH68))","v":{"$error":"#N/A"}},{"$f":"IF(E60<2, #N/A, STDEVP('A) Eingabe (Gruppen)'!C68:AH68))","v":{"$error":"#N/A"}},{"$error":"#N/A"},{"$f":"COUNT('A) Eingabe (Gruppen)'!C68:AH68)","v":0},{"$f":"IF(E60<2,#N/A,COUNTIF('A) Eingabe (Gruppen)'!C68:AH68,1))","v":{"$error":"#N/A"}},{"$f":"IF(E60<2,#N/A,COUNTIF('A) Eingabe (Gruppen)'!C68:AH68,2))","v":{"$error":"#N/A"}},{"$f":"IF(E60<2,#N/A,COUNTIF('A) Eingabe (Gruppen)'!C68:AH68,3))","v":{"$error":"#N/A"}},{"$f":"IF(E60<2,#N/A,COUNTIF('A) Eingabe (Gruppen)'!C68:AH68,4))","v":{"$error":"#N/A"}},null,{"$f":"IF(N60=0, #N/A,AVERAGE('A) Eingabe (GruppenLehrer)'!C68:AH68))","v":{"$error":"#N/A"}},{"$f":"IF(N60<1, #N/A, STDEVP('A) Eingabe (GruppenLehrer)'!C68:AH68))","v":{"$error":"#N/A"}},{"$error":"#N/A"},{"$f":"COUNT('A) Eingabe (GruppenLehrer)'!C68:AH68)","v":0},{"$f":"IF(N60<1,#N/A,COUNTIF('A) Eingabe (GruppenLehrer)'!C68:AH68,1))","v":{"$error":"#N/A"}},{"$f":"IF(N60<1,#N/A,COUNTIF('A) Eingabe (GruppenLehrer)'!C68:AH68,2))","v":{"$error":"#N/A"}},{"$f":"IF(N60<1,#N/A,COUNTIF('A) Eingabe (GruppenLehrer)'!C68:AH68,3))","v":{"$error":"#N/A"}},{"$f":"IF(N60<1,#N/A,COUNTIF('A) Eingabe (GruppenLehrer)'!C68:AH68,4))","v":{"$error":"#N/A"}}]
[{"$f":"FragenErstellen!A65","v":59},{"$f":"IF($E61=0, #N/A,AVERAGE('A) Eingabe (Gruppen)'!C69:AH69))","v":{"$error":"#N/A"}},{"$f":"IF(E61<2, #N/A, STDEVP('A) Eingabe (Gruppen)'!C69:AH69))","v":{"$error":"#N/A"}},{"$error":"#N/A"},{"$f":"COUNT('A) Eingabe (Gruppen)'!C69:AH69)","v":0},{"$f":"IF(E61<2,#N/A,COUNTIF('A) Eingabe (Gruppen)'!C69:AH69,1))","v":{"$error":"#N/A"}},{"$f":"IF(E61<2,#N/A,COUNTIF('A) Eingabe (Gruppen)'!C69:AH69,2))","v":{"$error":"#N/A"}},{"$f":"IF(E61<2,#N/A,COUNTIF('A) Eingabe (Gruppen)'!C69:AH69,3))","v":{"$error":"#N/A"}},{"$f":"IF(E61<2,#N/A,COUNTIF('A) Eingabe (Gruppen)'!C69:AH69,4))","v":{"$error":"#N/A"}},null,{"$f":"IF(N61=0, #N/A,AVERAGE('A) Eingabe (GruppenLehrer)'!C69:AH69))","v":{"$error":"#N/A"}},{"$f":"IF(N61<1, #N/A, STDEVP('A) Eingabe (GruppenLehrer)'!C69:AH69))","v":{"$error":"#N/A"}},{"$error":"#N/A"},{"$f":"COUNT('A) Eingabe (GruppenLehrer)'!C69:AH69)","v":0},{"$f":"IF(N61<1,#N/A,COUNTIF('A) Eingabe (GruppenLehrer)'!C69:AH69,1))","v":{"$error":"#N/A"}},{"$f":"IF(N61<1,#N/A,COUNTIF('A) Eingabe (GruppenLehrer)'!C69:AH69,2))","v":{"$error":"#N/A"}},{"$f":"IF(N61<1,#N/A,COUNTIF('A) Eingabe (GruppenLehrer)'!C69:AH69,3))","v":{"$error":"#N/A"}},{"$f":"IF(N61<1,#N/A,COUNTIF('A) Eingabe (GruppenLehrer)'!C69:AH69,4))","v":{"$error":"#N/A"}}]
[{"$f":"FragenErstellen!A66","v":60},{"$f":"IF($E62=0, #N/A,AVERAGE('A) Eingabe (Gruppen)'!C70:AH70))","v":{"$error":"#N/A"}},{"$f":"IF(E62<2, #N/A, STDEVP('A) Eingabe (Gruppen)'!C70:AH70))","v":{"$error":"#N/A"}},{"$error":"#N/A"},{"$f":"COUNT('A) Eingabe (Gruppen)'!C70:AH70)","v":0},{"$f":"IF(E62<2,#N/A,COUNTIF('A) Eingabe (Gruppen)'!C70:AH70,1))","v":{"$error":"#N/A"}},{"$f":"IF(E62<2,#N/A,COUNTIF('A) Eingabe (Gruppen)'!C70:AH70,2))","v":{"$error":"#N/A"}},{"$f":"IF(E62<2,#N/A,COUNTIF('A) Eingabe (Gruppen)'!C70:AH70,3))","v":{"$error":"#N/A"}},{"$f":"IF(E62<2,#N/A,COUNTIF('A) Eingabe (Gruppen)'!C70:AH70,4))","v":{"$error":"#N/A"}},null,{"$f":"IF(N62=0, #N/A,AVERAGE('A) Eingabe (GruppenLehrer)'!C70:AH70))","v":{"$error":"#N/A"}},{"$f":"IF(N62<1, #N/A, STDEVP('A) Eingabe (GruppenLehrer)'!C70:AH70))","v":{"$error":"#N/A"}},{"$error":"#N/A"},{"$f":"COUNT('A) Eingabe (GruppenLehrer)'!C70:AH70)","v":0},{"$f":"IF(N62<1,#N/A,COUNTIF('A) Eingabe (GruppenLehrer)'!C70:AH70,1))","v":{"$error":"#N/A"}},{"$f":"IF(N62<1,#N/A,COUNTIF('A) Eingabe (GruppenLehrer)'!C70:AH70,2))","v":{"$error":"#N/A"}},{"$f":"IF(N62<1,#N/A,COUNTIF('A) Eingabe (GruppenLehrer)'!C70:AH70,3))","v":{"$error":"#N/A"}},{"$f":"IF(N62<1,#N/A,COUNTIF('A) Eingabe (GruppenLehrer)'!C70:AH70,4))","v":{"$error":"#N/A"}}]
[{"$f":"FragenErstellen!A67","v":0},{"$f":"IF($E63=0, #N/A,AVERAGE('A) Eingabe (Gruppen)'!C71:AH71))","v":{"$error":"#N/A"}},{"$f":"IF(E63<2, #N/A, STDEVP('A) Eingabe (Gruppen)'!C71:AH71))","v":{"$error":"#N/A"}},{"$error":"#N/A"},{"$f":"COUNT('A) Eingabe (Gruppen)'!C71:AH71)","v":0},{"$f":"IF(E63<2,#N/A,COUNTIF('A) Eingabe (Gruppen)'!C71:AH71,1))","v":{"$error":"#N/A"}},{"$f":"IF(E63<2,#N/A,COUNTIF('A) Eingabe (Gruppen)'!C71:AH71,2))","v":{"$error":"#N/A"}},{"$f":"IF(E63<2,#N/A,COUNTIF('A) Eingabe (Gruppen)'!C71:AH71,3))","v":{"$error":"#N/A"}},{"$f":"IF(E63<2,#N/A,COUNTIF('A) Eingabe (Gruppen)'!C71:AH71,4))","v":{"$error":"#N/A"}},null,{"$f":"IF(N63=0, #N/A,AVERAGE('A) Eingabe (GruppenLehrer)'!C71:AH71))","v":{"$error":"#N/A"}},{"$f":"IF(N63<1, #N/A, STDEVP('A) Eingabe (GruppenLehrer)'!C71:AH71))","v":{"$error":"#N/A"}},{"$error":"#N/A"},{"$f":"COUNT('A) Eingabe (GruppenLehrer)'!C71:AH71)","v":0},{"$f":"IF(N63<1,#N/A,COUNTIF('A) Eingabe (GruppenLehrer)'!C71:AH71,1))","v":{"$error":"#N/A"}},{"$f":"IF(N63<1,#N/A,COUNTIF('A) Eingabe (GruppenLehrer)'!C71:AH71,2))","v":{"$error":"#N/A"}},{"$f":"IF(N63<1,#N/A,COUNTIF('A) Eingabe (GruppenLehrer)'!C71:AH71,3))","v":{"$error":"#N/A"}},{"$f":"IF(N63<1,#N/A,COUNTIF('A) Eingabe (GruppenLehrer)'!C71:AH71,4))","v":{"$error":"#N/A"}}]
[{"$f":"FragenErstellen!A68","v":0},{"$f":"IF($E64=0, #N/A,AVERAGE('A) Eingabe (Gruppen)'!C72:AH72))","v":{"$error":"#N/A"}},{"$f":"IF(E64<2, #N/A, STDEVP('A) Eingabe (Gruppen)'!C72:AH72))","v":{"$error":"#N/A"}},{"$error":"#N/A"},{"$f":"COUNT('A) Eingabe (Gruppen)'!C72:AH72)","v":0},{"$f":"IF(E64<2,#N/A,COUNTIF('A) Eingabe (Gruppen)'!C72:AH72,1))","v":{"$error":"#N/A"}},{"$f":"IF(E64<2,#N/A,COUNTIF('A) Eingabe (Gruppen)'!C72:AH72,2))","v":{"$error":"#N/A"}},{"$f":"IF(E64<2,#N/A,COUNTIF('A) Eingabe (Gruppen)'!C72:AH72,3))","v":{"$error":"#N/A"}},{"$f":"IF(E64<2,#N/A,COUNTIF('A) Eingabe (Gruppen)'!C72:AH72,4))","v":{"$error":"#N/A"}},null,{"$f":"IF(N64=0, #N/A,AVERAGE('A) Eingabe (GruppenLehrer)'!C72:AH72))","v":{"$error":"#N/A"}},{"$f":"IF(N64<1, #N/A, STDEVP('A) Eingabe (GruppenLehrer)'!C72:AH72))","v":{"$error":"#N/A"}},{"$error":"#N/A"},{"$f":"COUNT('A) Eingabe (GruppenLehrer)'!C72:AH72)","v":0},{"$f":"IF(N64<1,#N/A,COUNTIF('A) Eingabe (GruppenLehrer)'!C72:AH72,1))","v":{"$error":"#N/A"}},{"$f":"IF(N64<1,#N/A,COUNTIF('A) Eingabe (GruppenLehrer)'!C72:AH72,2))","v":{"$error":"#N/A"}},{"$f":"IF(N64<1,#N/A,COUNTIF('A) Eingabe (GruppenLehrer)'!C72:AH72,3))","v":{"$error":"#N/A"}},{"$f":"IF(N64<1,#N/A,COUNTIF('A) Eingabe (GruppenLehrer)'!C72:AH72,4))","v":{"$error":"#N/A"}}]
[{"$f":"FragenErstellen!A69","v":0},{"$f":"IF($E65=0, #N/A,AVERAGE('A) Eingabe (Gruppen)'!C73:AH73))","v":{"$error":"#N/A"}},{"$f":"IF(E65<2, #N/A, STDEVP('A) Eingabe (Gruppen)'!C73:AH73))","v":{"$error":"#N/A"}},{"$error":"#N/A"},{"$f":"COUNT('A) Eingabe (Gruppen)'!C73:AH73)","v":0},{"$f":"IF(E65<2,#N/A,COUNTIF('A) Eingabe (Gruppen)'!C73:AH73,1))","v":{"$error":"#N/A"}},{"$f":"IF(E65<2,#N/A,COUNTIF('A) Eingabe (Gruppen)'!C73:AH73,2))","v":{"$error":"#N/A"}},{"$f":"IF(E65<2,#N/A,COUNTIF('A) Eingabe (Gruppen)'!C73:AH73,3))","v":{"$error":"#N/A"}},{"$f":"IF(E65<2,#N/A,COUNTIF('A) Eingabe (Gruppen)'!C73:AH73,4))","v":{"$error":"#N/A"}},null,{"$f":"IF(N65=0, #N/A,AVERAGE('A) Eingabe (GruppenLehrer)'!C73:AH73))","v":{"$error":"#N/A"}},{"$f":"IF(N65<1, #N/A, STDEVP('A) Eingabe (GruppenLehrer)'!C73:AH73))","v":{"$error":"#N/A"}},{"$error":"#N/A"},{"$f":"COUNT('A) Eingabe (GruppenLehrer)'!C73:AH73)","v":0},{"$f":"IF(N65<1,#N/A,COUNTIF('A) Eingabe (GruppenLehrer)'!C73:AH73,1))","v":{"$error":"#N/A"}},{"$f":"IF(N65<1,#N/A,COUNTIF('A) Eingabe (GruppenLehrer)'!C73:AH73,2))","v":{"$error":"#N/A"}},{"$f":"IF(N65<1,#N/A,COUNTIF('A) Eingabe (GruppenLehrer)'!C73:AH73,3))","v":{"$error":"#N/A"}},{"$f":"IF(N65<1,#N/A,COUNTIF('A) Eingabe (GruppenLehrer)'!C73:AH73,4))","v":{"$error":"#N/A"}}]
[{"$f":"FragenErstellen!A70","v":0},{"$f":"IF($E66=0, #N/A,AVERAGE('A) Eingabe (Gruppen)'!C74:AH74))","v":{"$error":"#N/A"}},{"$f":"IF(E66<2, #N/A, STDEVP('A) Eingabe (Gruppen)'!C74:AH74))","v":{"$error":"#N/A"}},{"$error":"#N/A"},{"$f":"COUNT('A) Eingabe (Gruppen)'!C74:AH74)","v":0},{"$f":"IF(E66<2,#N/A,COUNTIF('A) Eingabe (Gruppen)'!C74:AH74,1))","v":{"$error":"#N/A"}},{"$f":"IF(E66<2,#N/A,COUNTIF('A) Eingabe (Gruppen)'!C74:AH74,2))","v":{"$error":"#N/A"}},{"$f":"IF(E66<2,#N/A,COUNTIF('A) Eingabe (Gruppen)'!C74:AH74,3))","v":{"$error":"#N/A"}},{"$f":"IF(E66<2,#N/A,COUNTIF('A) Eingabe (Gruppen)'!C74:AH74,4))","v":{"$error":"#N/A"}},null,{"$f":"IF(N66=0, #N/A,AVERAGE('A) Eingabe (GruppenLehrer)'!C74:AH74))","v":{"$error":"#N/A"}},{"$f":"IF(N66<1, #N/A, STDEVP('A) Eingabe (GruppenLehrer)'!C74:AH74))","v":{"$error":"#N/A"}},{"$error":"#N/A"},{"$f":"COUNT('A) Eingabe (GruppenLehrer)'!C74:AH74)","v":0},{"$f":"IF(N66<1,#N/A,COUNTIF('A) Eingabe (GruppenLehrer)'!C74:AH74,1))","v":{"$error":"#N/A"}},{"$f":"IF(N66<1,#N/A,COUNTIF('A) Eingabe (GruppenLehrer)'!C74:AH74,2))","v":{"$error":"#N/A"}},{"$f":"IF(N66<1,#N/A,COUNTIF('A) Eingabe (GruppenLehrer)'!C74:AH74,3))","v":{"$error":"#N/A"}},{"$f":"IF(N66<1,#N/A,COUNTIF('A) Eingabe (GruppenLehrer)'!C74:AH74,4))","v":{"$error":"#N/A"}}]
[{"$f":"FragenErstellen!A71","v":0},{"$f":"IF($E67=0, #N/A,AVERAGE('A) Eingabe (Gruppen)'!C75:AH75))","v":{"$error":"#N/A"}},{"$f":"IF(E67<2, #N/A, STDEVP('A) Eingabe (Gruppen)'!C75:AH75))","v":{"$error":"#N/A"}},{"$error":"#N/A"},{"$f":"COUNT('A) Eingabe (Gruppen)'!C75:AH75)","v":0},{"$f":"IF(E67<2,#N/A,COUNTIF('A) Eingabe (Gruppen)'!C75:AH75,1))","v":{"$error":"#N/A"}},{"$f":"IF(E67<2,#N/A,COUNTIF('A) Eingabe (Gruppen)'!C75:AH75,2))","v":{"$error":"#N/A"}},{"$f":"IF(E67<2,#N/A,COUNTIF('A) Eingabe (Gruppen)'!C75:AH75,3))","v":{"$error":"#N/A"}},{"$f":"IF(E67<2,#N/A,COUNTIF('A) Eingabe (Gruppen)'!C75:AH75,4))","v":{"$error":"#N/A"}},null,{"$f":"IF(N67=0, #N/A,AVERAGE('A) Eingabe (GruppenLehrer)'!C75:AH75))","v":{"$error":"#N/A"}},{"$f":"IF(N67<1, #N/A, STDEVP('A) Eingabe (GruppenLehrer)'!C75:AH75))","v":{"$error":"#N/A"}},{"$error":"#N/A"},{"$f":"COUNT('A) Eingabe (GruppenLehrer)'!C75:AH75)","v":0},{"$f":"IF(N67<1,#N/A,COUNTIF('A) Eingabe (GruppenLehrer)'!C75:AH75,1))","v":{"$error":"#N/A"}},{"$f":"IF(N67<1,#N/A,COUNTIF('A) Eingabe (GruppenLehrer)'!C75:AH75,2))","v":{"$error":"#N/A"}},{"$f":"IF(N67<1,#N/A,COUNTIF('A) Eingabe (GruppenLehrer)'!C75:AH75,3))","v":{"$error":"#N/A"}},{"$f":"IF(N67<1,#N/A,COUNTIF('A) Eingabe (GruppenLehrer)'!C75:AH75,4))","v":{"$error":"#N/A"}}]
[{"$f":"FragenErstellen!A72","v":0},{"$f":"IF($E68=0, #N/A,AVERAGE('A) Eingabe (Gruppen)'!C76:AH76))","v":{"$error":"#N/A"}},{"$f":"IF(E68<2, #N/A, STDEVP('A) Eingabe (Gruppen)'!C76:AH76))","v":{"$error":"#N/A"}},{"$f":"IF(E68<2, #N/A, 100*(H68+I68)/E68)","v":{"$error":"#N/A"}},{"$f":"COUNT('A) Eingabe (Gruppen)'!C76:AH76)","v":0},{"$f":"IF(E68<2,#N/A,COUNTIF('A) Eingabe (Gruppen)'!C76:AH76,1))","v":{"$error":"#N/A"}},{"$f":"IF(E68<2,#N/A,COUNTIF('A) Eingabe (Gruppen)'!C76:AH76,2))","v":{"$error":"#N/A"}},{"$f":"IF(E68<2,#N/A,COUNTIF('A) Eingabe (Gruppen)'!C76:AH76,3))","v":{"$error":"#N/A"}},{"$f":"IF(E68<2,#N/A,COUNTIF('A) Eingabe (Gruppen)'!C76:AH76,4))","v":{"$error":"#N/A"}},null,{"$f":"IF(N68=0, #N/A,AVERAGE('A) Eingabe (GruppenLehrer)'!C76:AH76))","v":{"$error":"#N/A"}},{"$f":"IF(N68<1, #N/A, STDEVP('A) Eingabe (GruppenLehrer)'!C76:AH76))","v":{"$error":"#N/A"}},{"$f":"IF(N68<1, #N/A, 100*(Q68+R68)/N68)","v":{"$error":"#N/A"}},{"$f":"COUNT('A) Eingabe (GruppenLehrer)'!C76:AH76)","v":0},{"$f":"IF(N68<1,#N/A,COUNTIF('A) Eingabe (GruppenLehrer)'!C76:AH76,1))","v":{"$error":"#N/A"}},{"$f":"IF(N68<1,#N/A,COUNTIF('A) Eingabe (GruppenLehrer)'!C76:AH76,2))","v":{"$error":"#N/A"}},{"$f":"IF(N68<1,#N/A,COUNTIF('A) Eingabe (GruppenLehrer)'!C76:AH76,3))","v":{"$error":"#N/A"}},{"$f":"IF(N68<1,#N/A,COUNTIF('A) Eingabe (GruppenLehrer)'!C76:AH76,4))","v":{"$error":"#N/A"}}]
[{"$f":"FragenErstellen!A73","v":0},{"$f":"IF($E69=0, #N/A,AVERAGE('A) Eingabe (Gruppen)'!C77:AH77))","v":{"$error":"#N/A"}},{"$f":"IF(E69<2, #N/A, STDEVP('A) Eingabe (Gruppen)'!C77:AH77))","v":{"$error":"#N/A"}},{"$error":"#N/A"},{"$f":"COUNT('A) Eingabe (Gruppen)'!C77:AH77)","v":0},{"$f":"IF(E69<2,#N/A,COUNTIF('A) Eingabe (Gruppen)'!C77:AH77,1))","v":{"$error":"#N/A"}},{"$f":"IF(E69<2,#N/A,COUNTIF('A) Eingabe (Gruppen)'!C77:AH77,2))","v":{"$error":"#N/A"}},{"$f":"IF(E69<2,#N/A,COUNTIF('A) Eingabe (Gruppen)'!C77:AH77,3))","v":{"$error":"#N/A"}},{"$f":"IF(E69<2,#N/A,COUNTIF('A) Eingabe (Gruppen)'!C77:AH77,4))","v":{"$error":"#N/A"}},null,{"$f":"IF(N69=0, #N/A,AVERAGE('A) Eingabe (GruppenLehrer)'!C77:AH77))","v":{"$error":"#N/A"}},{"$f":"IF(N69<1, #N/A, STDEVP('A) Eingabe (GruppenLehrer)'!C77:AH77))","v":{"$error":"#N/A"}},{"$error":"#N/A"},{"$f":"COUNT('A) Eingabe (GruppenLehrer)'!C77:AH77)","v":0},{"$f":"IF(N69<1,#N/A,COUNTIF('A) Eingabe (GruppenLehrer)'!C77:AH77,1))","v":{"$error":"#N/A"}},{"$f":"IF(N69<1,#N/A,COUNTIF('A) Eingabe (GruppenLehrer)'!C77:AH77,2))","v":{"$error":"#N/A"}},{"$f":"IF(N69<1,#N/A,COUNTIF('A) Eingabe (GruppenLehrer)'!C77:AH77,3))","v":{"$error":"#N/A"}},{"$f":"IF(N69<1,#N/A,COUNTIF('A) Eingabe (GruppenLehrer)'!C77:AH77,4))","v":{"$error":"#N/A"}}]
[{"$f":"FragenErstellen!A74","v":0},{"$f":"IF($E70=0, #N/A,AVERAGE('A) Eingabe (Gruppen)'!C78:AH78))","v":{"$error":"#N/A"}},{"$f":"IF(E70<2, #N/A, STDEVP('A) Eingabe (Gruppen)'!C78:AH78))","v":{"$error":"#N/A"}},{"$error":"#N/A"},{"$f":"COUNT('A) Eingabe (Gruppen)'!C78:AH78)","v":0},{"$f":"IF(E70<2,#N/A,COUNTIF('A) Eingabe (Gruppen)'!C78:AH78,1))","v":{"$error":"#N/A"}},{"$f":"IF(E70<2,#N/A,COUNTIF('A) Eingabe (Gruppen)'!C78:AH78,2))","v":{"$error":"#N/A"}},{"$f":"IF(E70<2,#N/A,COUNTIF('A) Eingabe (Gruppen)'!C78:AH78,3))","v":{"$error":"#N/A"}},{"$f":"IF(E70<2,#N/A,COUNTIF('A) Eingabe (Gruppen)'!C78:AH78,4))","v":{"$error":"#N/A"}},null,{"$f":"IF(N70=0, #N/A,AVERAGE('A) Eingabe (GruppenLehrer)'!C78:AH78))","v":{"$error":"#N/A"}},{"$f":"IF(N70<1, #N/A, STDEVP('A) Eingabe (GruppenLehrer)'!C78:AH78))","v":{"$error":"#N/A"}},{"$error":"#N/A"},{"$f":"COUNT('A) Eingabe (GruppenLehrer)'!C78:AH78)","v":0},{"$f":"IF(N70<1,#N/A,COUNTIF('A) Eingabe (GruppenLehrer)'!C78:AH78,1))","v":{"$error":"#N/A"}},{"$f":"IF(N70<1,#N/A,COUNTIF('A) Eingabe (GruppenLehrer)'!C78:AH78,2))","v":{"$error":"#N/A"}},{"$f":"IF(N70<1,#N/A,COUNTIF('A) Eingabe (GruppenLehrer)'!C78:AH78,3))","v":{"$error":"#N/A"}},{"$f":"IF(N70<1,#N/A,COUNTIF('A) Eingabe (GruppenLehrer)'!C78:AH78,4))","v":{"$error":"#N/A"}}]
[{"$f":"FragenErstellen!A75","v":0},{"$f":"IF($E71=0, #N/A,AVERAGE('A) Eingabe (Gruppen)'!C79:AH79))","v":{"$error":"#N/A"}},{"$f":"IF(E71<2, #N/A, STDEVP('A) Eingabe (Gruppen)'!C79:AH79))","v":{"$error":"#N/A"}},{"$error":"#N/A"},{"$f":"COUNT('A) Eingabe (Gruppen)'!C79:AH79)","v":0},{"$f":"IF(E71<2,#N/A,COUNTIF('A) Eingabe (Gruppen)'!C79:AH79,1))","v":{"$error":"#N/A"}},{"$f":"IF(E71<2,#N/A,COUNTIF('A) Eingabe (Gruppen)'!C79:AH79,2))","v":{"$error":"#N/A"}},{"$f":"IF(E71<2,#N/A,COUNTIF('A) Eingabe (Gruppen)'!C79:AH79,3))","v":{"$error":"#N/A"}},{"$f":"IF(E71<2,#N/A,COUNTIF('A) Eingabe (Gruppen)'!C79:AH79,4))","v":{"$error":"#N/A"}},null,{"$f":"IF(N71=0, #N/A,AVERAGE('A) Eingabe (GruppenLehrer)'!C79:AH79))","v":{"$error":"#N/A"}},{"$f":"IF(N71<1, #N/A, STDEVP('A) Eingabe (GruppenLehrer)'!C79:AH79))","v":{"$error":"#N/A"}},{"$error":"#N/A"},{"$f":"COUNT('A) Eingabe (GruppenLehrer)'!C79:AH79)","v":0},{"$f":"IF(N71<1,#N/A,COUNTIF('A) Eingabe (GruppenLehrer)'!C79:AH79,1))","v":{"$error":"#N/A"}},{"$f":"IF(N71<1,#N/A,COUNTIF('A) Eingabe (GruppenLehrer)'!C79:AH79,2))","v":{"$error":"#N/A"}},{"$f":"IF(N71<1,#N/A,COUNTIF('A) Eingabe (GruppenLehrer)'!C79:AH79,3))","v":{"$error":"#N/A"}},{"$f":"IF(N71<1,#N/A,COUNTIF('A) Eingabe (GruppenLehrer)'!C79:AH79,4))","v":{"$error":"#N/A"}}]
[{"$f":"FragenErstellen!A76","v":0},{"$f":"IF($E72=0, #N/A,AVERAGE('A) Eingabe (Gruppen)'!C80:AH80))","v":{"$error":"#N/A"}},{"$f":"IF(E72<2, #N/A, STDEVP('A) Eingabe (Gruppen)'!C80:AH80))","v":{"$error":"#N/A"}},{"$error":"#N/A"},{"$f":"COUNT('A) Eingabe (Gruppen)'!C80:AH80)","v":0},{"$f":"IF(E72<2,#N/A,COUNTIF('A) Eingabe (Gruppen)'!C80:AH80,1))","v":{"$error":"#N/A"}},{"$f":"IF(E72<2,#N/A,COUNTIF('A) Eingabe (Gruppen)'!C80:AH80,2))","v":{"$error":"#N/A"}},{"$f":"IF(E72<2,#N/A,COUNTIF('A) Eingabe (Gruppen)'!C80:AH80,3))","v":{"$error":"#N/A"}},{"$f":"IF(E72<2,#N/A,COUNTIF('A) Eingabe (Gruppen)'!C80:AH80,4))","v":{"$error":"#N/A"}},null,{"$f":"IF(N72=0, #N/A,AVERAGE('A) Eingabe (GruppenLehrer)'!C80:AH80))","v":{"$error":"#N/A"}},{"$f":"IF(N72<1, #N/A, STDEVP('A) Eingabe (GruppenLehrer)'!C80:AH80))","v":{"$error":"#N/A"}},{"$error":"#N/A"},{"$f":"COUNT('A) Eingabe (GruppenLehrer)'!C80:AH80)","v":0},{"$f":"IF(N72<1,#N/A,COUNTIF('A) Eingabe (GruppenLehrer)'!C80:AH80,1))","v":{"$error":"#N/A"}},{"$f":"IF(N72<1,#N/A,COUNTIF('A) Eingabe (GruppenLehrer)'!C80:AH80,2))","v":{"$error":"#N/A"}},{"$f":"IF(N72<1,#N/A,COUNTIF('A) Eingabe (GruppenLehrer)'!C80:AH80,3))","v":{"$error":"#N/A"}},{"$f":"IF(N72<1,#N/A,COUNTIF('A) Eingabe (GruppenLehrer)'!C80:AH80,4))","v":{"$error":"#N/A"}}]
[{"$f":"FragenErstellen!A77","v":0},{"$f":"IF($E73=0, #N/A,AVERAGE('A) Eingabe (Gruppen)'!C81:AH81))","v":{"$error":"#N/A"}},{"$f":"IF(E73<2, #N/A, STDEVP('A) Eingabe (Gruppen)'!C81:AH81))","v":{"$error":"#N/A"}},{"$error":"#N/A"},{"$f":"COUNT('A) Eingabe (Gruppen)'!C81:AH81)","v":0},{"$f":"IF(E73<2,#N/A,COUNTIF('A) Eingabe (Gruppen)'!C81:AH81,1))","v":{"$error":"#N/A"}},{"$f":"IF(E73<2,#N/A,COUNTIF('A) Eingabe (Gruppen)'!C81:AH81,2))","v":{"$error":"#N/A"}},{"$f":"IF(E73<2,#N/A,COUNTIF('A) Eingabe (Gruppen)'!C81:AH81,3))","v":{"$error":"#N/A"}},{"$f":"IF(E73<2,#N/A,COUNTIF('A) Eingabe (Gruppen)'!C81:AH81,4))","v":{"$error":"#N/A"}},null,{"$f":"IF(N73=0, #N/A,AVERAGE('A) Eingabe (GruppenLehrer)'!C81:AH81))","v":{"$error":"#N/A"}},{"$f":"IF(N73<1, #N/A, STDEVP('A) Eingabe (GruppenLehrer)'!C81:AH81))","v":{"$error":"#N/A"}},{"$error":"#N/A"},{"$f":"COUNT('A) Eingabe (GruppenLehrer)'!C81:AH81)","v":0},{"$f":"IF(N73<1,#N/A,COUNTIF('A) Eingabe (GruppenLehrer)'!C81:AH81,1))","v":{"$error":"#N/A"}},{"$f":"IF(N73<1,#N/A,COUNTIF('A) Eingabe (GruppenLehrer)'!C81:AH81,2))","v":{"$error":"#N/A"}},{"$f":"IF(N73<1,#N/A,COUNTIF('A) Eingabe (GruppenLehrer)'!C81:AH81,3))","v":{"$error":"#N/A"}},{"$f":"IF(N73<1,#N/A,COUNTIF('A) Eingabe (GruppenLehrer)'!C81:AH81,4))","v":{"$error":"#N/A"}}]
[{"$f":"FragenErstellen!A78","v":0},{"$f":"IF($E74=0, #N/A,AVERAGE('A) Eingabe (Gruppen)'!C82:AH82))","v":{"$error":"#N/A"}},{"$f":"IF(E74<2, #N/A, STDEVP('A) Eingabe (Gruppen)'!C82:AH82))","v":{"$error":"#N/A"}},{"$error":"#N/A"},{"$f":"COUNT('A) Eingabe (Gruppen)'!C82:AH82)","v":0},{"$f":"IF(E74<2,#N/A,COUNTIF('A) Eingabe (Gruppen)'!C82:AH82,1))","v":{"$error":"#N/A"}},{"$f":"IF(E74<2,#N/A,COUNTIF('A) Eingabe (Gruppen)'!C82:AH82,2))","v":{"$error":"#N/A"}},{"$f":"IF(E74<2,#N/A,COUNTIF('A) Eingabe (Gruppen)'!C82:AH82,3))","v":{"$error":"#N/A"}},{"$f":"IF(E74<2,#N/A,COUNTIF('A) Eingabe (Gruppen)'!C82:AH82,4))","v":{"$error":"#N/A"}},null,{"$f":"IF(N74=0, #N/A,AVERAGE('A) Eingabe (GruppenLehrer)'!C82:AH82))","v":{"$error":"#N/A"}},{"$f":"IF(N74<1, #N/A, STDEVP('A) Eingabe (GruppenLehrer)'!C82:AH82))","v":{"$error":"#N/A"}},{"$error":"#N/A"},{"$f":"COUNT('A) Eingabe (GruppenLehrer)'!C82:AH82)","v":0},{"$f":"IF(N74<1,#N/A,COUNTIF('A) Eingabe (GruppenLehrer)'!C82:AH82,1))","v":{"$error":"#N/A"}},{"$f":"IF(N74<1,#N/A,COUNTIF('A) Eingabe (GruppenLehrer)'!C82:AH82,2))","v":{"$error":"#N/A"}},{"$f":"IF(N74<1,#N/A,COUNTIF('A) Eingabe (GruppenLehrer)'!C82:AH82,3))","v":{"$error":"#N/A"}},{"$f":"IF(N74<1,#N/A,COUNTIF('A) Eingabe (GruppenLehrer)'!C82:AH82,4))","v":{"$error":"#N/A"}}]
[{"$f":"FragenErstellen!A79","v":0},{"$f":"IF($E75=0, #N/A,AVERAGE('A) Eingabe (Gruppen)'!C83:AH83))","v":{"$error":"#N/A"}},{"$f":"IF(E75<2, #N/A, STDEVP('A) Eingabe (Gruppen)'!C83:AH83))","v":{"$error":"#N/A"}},{"$error":"#N/A"},{"$f":"COUNT('A) Eingabe (Gruppen)'!C83:AH83)","v":0},{"$f":"IF(E75<2,#N/A,COUNTIF('A) Eingabe (Gruppen)'!C83:AH83,1))","v":{"$error":"#N/A"}},{"$f":"IF(E75<2,#N/A,COUNTIF('A) Eingabe (Gruppen)'!C83:AH83,2))","v":{"$error":"#N/A"}},{"$f":"IF(E75<2,#N/A,COUNTIF('A) Eingabe (Gruppen)'!C83:AH83,3))","v":{"$error":"#N/A"}},{"$f":"IF(E75<2,#N/A,COUNTIF('A) Eingabe (Gruppen)'!C83:AH83,4))","v":{"$error":"#N/A"}},null,{"$f":"IF(N75=0, #N/A,AVERAGE('A) Eingabe (GruppenLehrer)'!C83:AH83))","v":{"$error":"#N/A"}},{"$f":"IF(N75<1, #N/A, STDEVP('A) Eingabe (GruppenLehrer)'!C83:AH83))","v":{"$error":"#N/A"}},{"$error":"#N/A"},{"$f":"COUNT('A) Eingabe (GruppenLehrer)'!C83:AH83)","v":0},{"$f":"IF(N75<1,#N/A,COUNTIF('A) Eingabe (GruppenLehrer)'!C83:AH83,1))","v":{"$error":"#N/A"}},{"$f":"IF(N75<1,#N/A,COUNTIF('A) Eingabe (GruppenLehrer)'!C83:AH83,2))","v":{"$error":"#N/A"}},{"$f":"IF(N75<1,#N/A,COUNTIF('A) Eingabe (GruppenLehrer)'!C83:AH83,3))","v":{"$error":"#N/A"}},{"$f":"IF(N75<1,#N/A,COUNTIF('A) Eingabe (GruppenLehrer)'!C83:AH83,4))","v":{"$error":"#N/A"}}]
[{"$f":"FragenErstellen!A80","v":0},{"$f":"IF($E76=0, #N/A,AVERAGE('A) Eingabe (Gruppen)'!C84:AH84))","v":{"$error":"#N/A"}},{"$f":"IF(E76<2, #N/A, STDEVP('A) Eingabe (Gruppen)'!C84:AH84))","v":{"$error":"#N/A"}},{"$error":"#N/A"},{"$f":"COUNT('A) Eingabe (Gruppen)'!C84:AH84)","v":0},{"$f":"IF(E76<2,#N/A,COUNTIF('A) Eingabe (Gruppen)'!C84:AH84,1))","v":{"$error":"#N/A"}},{"$f":"IF(E76<2,#N/A,COUNTIF('A) Eingabe (Gruppen)'!C84:AH84,2))","v":{"$error":"#N/A"}},{"$f":"IF(E76<2,#N/A,COUNTIF('A) Eingabe (Gruppen)'!C84:AH84,3))","v":{"$error":"#N/A"}},{"$f":"IF(E76<2,#N/A,COUNTIF('A) Eingabe (Gruppen)'!C84:AH84,4))","v":{"$error":"#N/A"}},null,{"$f":"IF(N76=0, #N/A,AVERAGE('A) Eingabe (GruppenLehrer)'!C84:AH84))","v":{"$error":"#N/A"}},{"$f":"IF(N76<1, #N/A, STDEVP('A) Eingabe (GruppenLehrer)'!C84:AH84))","v":{"$error":"#N/A"}},{"$error":"#N/A"},{"$f":"COUNT('A) Eingabe (GruppenLehrer)'!C84:AH84)","v":0},{"$f":"IF(N76<1,#N/A,COUNTIF('A) Eingabe (GruppenLehrer)'!C84:AH84,1))","v":{"$error":"#N/A"}},{"$f":"IF(N76<1,#N/A,COUNTIF('A) Eingabe (GruppenLehrer)'!C84:AH84,2))","v":{"$error":"#N/A"}},{"$f":"IF(N76<1,#N/A,COUNTIF('A) Eingabe (GruppenLehrer)'!C84:AH84,3))","v":{"$error":"#N/A"}},{"$f":"IF(N76<1,#N/A,COUNTIF('A) Eingabe (GruppenLehrer)'!C84:AH84,4))","v":{"$error":"#N/A"}}]
[{"$f":"FragenErstellen!A81","v":0},{"$f":"IF($E77=0, #N/A,AVERAGE('A) Eingabe (Gruppen)'!C85:AH85))","v":{"$error":"#N/A"}},{"$f":"IF(E77<2, #N/A, STDEVP('A) Eingabe (Gruppen)'!C85:AH85))","v":{"$error":"#N/A"}},{"$error":"#N/A"},{"$f":"COUNT('A) Eingabe (Gruppen)'!C85:AH85)","v":0},{"$f":"IF(E77<2,#N/A,COUNTIF('A) Eingabe (Gruppen)'!C85:AH85,1))","v":{"$error":"#N/A"}},{"$f":"IF(E77<2,#N/A,COUNTIF('A) Eingabe (Gruppen)'!C85:AH85,2))","v":{"$error":"#N/A"}},{"$f":"IF(E77<2,#N/A,COUNTIF('A) Eingabe (Gruppen)'!C85:AH85,3))","v":{"$error":"#N/A"}},{"$f":"IF(E77<2,#N/A,COUNTIF('A) Eingabe (Gruppen)'!C85:AH85,4))","v":{"$error":"#N/A"}},null,{"$f":"IF(N77=0, #N/A,AVERAGE('A) Eingabe (GruppenLehrer)'!C85:AH85))","v":{"$error":"#N/A"}},{"$f":"IF(N77<1, #N/A, STDEVP('A) Eingabe (GruppenLehrer)'!C85:AH85))","v":{"$error":"#N/A"}},{"$error":"#N/A"},{"$f":"COUNT('A) Eingabe (GruppenLehrer)'!C85:AH85)","v":0},{"$f":"IF(N77<1,#N/A,COUNTIF('A) Eingabe (GruppenLehrer)'!C85:AH85,1))","v":{"$error":"#N/A"}},{"$f":"IF(N77<1,#N/A,COUNTIF('A) Eingabe (GruppenLehrer)'!C85:AH85,2))","v":{"$error":"#N/A"}},{"$f":"IF(N77<1,#N/A,COUNTIF('A) Eingabe (GruppenLehrer)'!C85:AH85,3))","v":{"$error":"#N/A"}},{"$f":"IF(N77<1,#N/A,COUNTIF('A) Eingabe (GruppenLehrer)'!C85:AH85,4))","v":{"$error":"#N/A"}}]
[{"$f":"FragenErstellen!A82","v":0},{"$f":"IF($E78=0, #N/A,AVERAGE('A) Eingabe (Gruppen)'!C86:AH86))","v":{"$error":"#N/A"}},{"$f":"IF(E78<2, #N/A, STDEVP('A) Eingabe (Gruppen)'!C86:AH86))","v":{"$error":"#N/A"}},{"$error":"#N/A"},{"$f":"COUNT('A) Eingabe (Gruppen)'!C86:AH86)","v":0},{"$f":"IF(E78<2,#N/A,COUNTIF('A) Eingabe (Gruppen)'!C86:AH86,1))","v":{"$error":"#N/A"}},{"$f":"IF(E78<2,#N/A,COUNTIF('A) Eingabe (Gruppen)'!C86:AH86,2))","v":{"$error":"#N/A"}},{"$f":"IF(E78<2,#N/A,COUNTIF('A) Eingabe (Gruppen)'!C86:AH86,3))","v":{"$error":"#N/A"}},{"$f":"IF(E78<2,#N/A,COUNTIF('A) Eingabe (Gruppen)'!C86:AH86,4))","v":{"$error":"#N/A"}},null,{"$f":"IF(N78=0, #N/A,AVERAGE('A) Eingabe (GruppenLehrer)'!C86:AH86))","v":{"$error":"#N/A"}},{"$f":"IF(N78<1, #N/A, STDEVP('A) Eingabe (GruppenLehrer)'!C86:AH86))","v":{"$error":"#N/A"}},{"$error":"#N/A"},{"$f":"COUNT('A) Eingabe (GruppenLehrer)'!C86:AH86)","v":0},{"$f":"IF(N78<1,#N/A,COUNTIF('A) Eingabe (GruppenLehrer)'!C86:AH86,1))","v":{"$error":"#N/A"}},{"$f":"IF(N78<1,#N/A,COUNTIF('A) Eingabe (GruppenLehrer)'!C86:AH86,2))","v":{"$error":"#N/A"}},{"$f":"IF(N78<1,#N/A,COUNTIF('A) Eingabe (GruppenLehrer)'!C86:AH86,3))","v":{"$error":"#N/A"}},{"$f":"IF(N78<1,#N/A,COUNTIF('A) Eingabe (GruppenLehrer)'!C86:AH86,4))","v":{"$error":"#N/A"}}]
[{"$f":"FragenErstellen!A83","v":0},{"$f":"IF($E79=0, #N/A,AVERAGE('A) Eingabe (Gruppen)'!C87:AH87))","v":{"$error":"#N/A"}},{"$f":"IF(E79<2, #N/A, STDEVP('A) Eingabe (Gruppen)'!C87:AH87))","v":{"$error":"#N/A"}},{"$error":"#N/A"},{"$f":"COUNT('A) Eingabe (Gruppen)'!C87:AH87)","v":0},{"$f":"IF(E79<2,#N/A,COUNTIF('A) Eingabe (Gruppen)'!C87:AH87,1))","v":{"$error":"#N/A"}},{"$f":"IF(E79<2,#N/A,COUNTIF('A) Eingabe (Gruppen)'!C87:AH87,2))","v":{"$error":"#N/A"}},{"$f":"IF(E79<2,#N/A,COUNTIF('A) Eingabe (Gruppen)'!C87:AH87,3))","v":{"$error":"#N/A"}},{"$f":"IF(E79<2,#N/A,COUNTIF('A) Eingabe (Gruppen)'!C87:AH87,4))","v":{"$error":"#N/A"}},null,{"$f":"IF(N79=0, #N/A,AVERAGE('A) Eingabe (GruppenLehrer)'!C87:AH87))","v":{"$error":"#N/A"}},{"$f":"IF(N79<1, #N/A, STDEVP('A) Eingabe (GruppenLehrer)'!C87:AH87))","v":{"$error":"#N/A"}},{"$error":"#N/A"},{"$f":"COUNT('A) Eingabe (GruppenLehrer)'!C87:AH87)","v":0},{"$f":"IF(N79<1,#N/A,COUNTIF('A) Eingabe (GruppenLehrer)'!C87:AH87,1))","v":{"$error":"#N/A"}},{"$f":"IF(N79<1,#N/A,COUNTIF('A) Eingabe (GruppenLehrer)'!C87:AH87,2))","v":{"$error":"#N/A"}},{"$f":"IF(N79<1,#N/A,COUNTIF('A) Eingabe (GruppenLehrer)'!C87:AH87,3))","v":{"$error":"#N/A"}},{"$f":"IF(N79<1,#N/A,COUNTIF('A) Eingabe (GruppenLehrer)'!C87:AH87,4))","v":{"$error":"#N/A"}}]
[{"$f":"FragenErstellen!A84","v":0},{"$f":"IF($E80=0, #N/A,AVERAGE('A) Eingabe (Gruppen)'!C88:AH88))","v":{"$error":"#N/A"}},{"$f":"IF(E80<2, #N/A, STDEVP('A) Eingabe (Gruppen)'!C88:AH88))","v":{"$error":"#N/A"}},{"$error":"#N/A"},{"$f":"COUNT('A) Eingabe (Gruppen)'!C88:AH88)","v":0},{"$f":"IF(E80<2,#N/A,COUNTIF('A) Eingabe (Gruppen)'!C88:AH88,1))","v":{"$error":"#N/A"}},{"$f":"IF(E80<2,#N/A,COUNTIF('A) Eingabe (Gruppen)'!C88:AH88,2))","v":{"$error":"#N/A"}},{"$f":"IF(E80<2,#N/A,COUNTIF('A) Eingabe (Gruppen)'!C88:AH88,3))","v":{"$error":"#N/A"}},{"$f":"IF(E80<2,#N/A,COUNTIF('A) Eingabe (Gruppen)'!C88:AH88,4))","v":{"$error":"#N/A"}},null,{"$f":"IF(N80=0, #N/A,AVERAGE('A) Eingabe (GruppenLehrer)'!C88:AH88))","v":{"$error":"#N/A"}},{"$f":"IF(N80<1, #N/A, STDEVP('A) Eingabe (GruppenLehrer)'!C88:AH88))","v":{"$error":"#N/A"}},{"$error":"#N/A"},{"$f":"COUNT('A) Eingabe (GruppenLehrer)'!C88:AH88)","v":0},{"$f":"IF(N80<1,#N/A,COUNTIF('A) Eingabe (GruppenLehrer)'!C88:AH88,1))","v":{"$error":"#N/A"}},{"$f":"IF(N80<1,#N/A,COUNTIF('A) Eingabe (GruppenLehrer)'!C88:AH88,2))","v":{"$error":"#N/A"}},{"$f":"IF(N80<1,#N/A,COUNTIF('A) Eingabe (GruppenLehrer)'!C88:AH88,3))","v":{"$error":"#N/A"}},{"$f":"IF(N80<1,#N/A,COUNTIF('A) Eingabe (GruppenLehrer)'!C88:AH88,4))","v":{"$error":"#N/A"}}]
[{"$f":"FragenErstellen!A85","v":0},{"$f":"IF($E81=0, #N/A,AVERAGE('A) Eingabe (Gruppen)'!C89:AH89))","v":{"$error":"#N/A"}},{"$f":"IF(E81<2, #N/A, STDEVP('A) Eingabe (Gruppen)'!C89:AH89))","v":{"$error":"#N/A"}},{"$error":"#N/A"},{"$f":"COUNT('A) Eingabe (Gruppen)'!C89:AH89)","v":0},{"$f":"IF(E81<2,#N/A,COUNTIF('A) Eingabe (Gruppen)'!C89:AH89,1))","v":{"$error":"#N/A"}},{"$f":"IF(E81<2,#N/A,COUNTIF('A) Eingabe (Gruppen)'!C89:AH89,2))","v":{"$error":"#N/A"}},{"$f":"IF(E81<2,#N/A,COUNTIF('A) Eingabe (Gruppen)'!C89:AH89,3))","v":{"$error":"#N/A"}},{"$f":"IF(E81<2,#N/A,COUNTIF('A) Eingabe (Gruppen)'!C89:AH89,4))","v":{"$error":"#N/A"}},null,{"$f":"IF(N81=0, #N/A,AVERAGE('A) Eingabe (GruppenLehrer)'!C89:AH89))","v":{"$error":"#N/A"}},{"$f":"IF(N81<1, #N/A, STDEVP('A) Eingabe (GruppenLehrer)'!C89:AH89))","v":{"$error":"#N/A"}},{"$error":"#N/A"},{"$f":"COUNT('A) Eingabe (GruppenLehrer)'!C89:AH89)","v":0},{"$f":"IF(N81<1,#N/A,COUNTIF('A) Eingabe (GruppenLehrer)'!C89:AH89,1))","v":{"$error":"#N/A"}},{"$f":"IF(N81<1,#N/A,COUNTIF('A) Eingabe (GruppenLehrer)'!C89:AH89,2))","v":{"$error":"#N/A"}},{"$f":"IF(N81<1,#N/A,COUNTIF('A) Eingabe (GruppenLehrer)'!C89:AH89,3))","v":{"$error":"#N/A"}},{"$f":"IF(N81<1,#N/A,COUNTIF('A) Eingabe (GruppenLehrer)'!C89:AH89,4))","v":{"$error":"#N/A"}}]
[{"$f":"FragenErstellen!A86","v":0},{"$f":"IF($E82=0, #N/A,AVERAGE('A) Eingabe (Gruppen)'!C90:AH90))","v":{"$error":"#N/A"}},{"$f":"IF(E82<2, #N/A, STDEVP('A) Eingabe (Gruppen)'!C90:AH90))","v":{"$error":"#N/A"}},{"$error":"#N/A"},{"$f":"COUNT('A) Eingabe (Gruppen)'!C90:AH90)","v":0},{"$f":"IF(E82<2,#N/A,COUNTIF('A) Eingabe (Gruppen)'!C90:AH90,1))","v":{"$error":"#N/A"}},{"$f":"IF(E82<2,#N/A,COUNTIF('A) Eingabe (Gruppen)'!C90:AH90,2))","v":{"$error":"#N/A"}},{"$f":"IF(E82<2,#N/A,COUNTIF('A) Eingabe (Gruppen)'!C90:AH90,3))","v":{"$error":"#N/A"}},{"$f":"IF(E82<2,#N/A,COUNTIF('A) Eingabe (Gruppen)'!C90:AH90,4))","v":{"$error":"#N/A"}},null,{"$f":"IF(N82=0, #N/A,AVERAGE('A) Eingabe (GruppenLehrer)'!C90:AH90))","v":{"$error":"#N/A"}},{"$f":"IF(N82<1, #N/A, STDEVP('A) Eingabe (GruppenLehrer)'!C90:AH90))","v":{"$error":"#N/A"}},{"$error":"#N/A"},{"$f":"COUNT('A) Eingabe (GruppenLehrer)'!C90:AH90)","v":0},{"$f":"IF(N82<1,#N/A,COUNTIF('A) Eingabe (GruppenLehrer)'!C90:AH90,1))","v":{"$error":"#N/A"}},{"$f":"IF(N82<1,#N/A,COUNTIF('A) Eingabe (GruppenLehrer)'!C90:AH90,2))","v":{"$error":"#N/A"}},{"$f":"IF(N82<1,#N/A,COUNTIF('A) Eingabe (GruppenLehrer)'!C90:AH90,3))","v":{"$error":"#N/A"}},{"$f":"IF(N82<1,#N/A,COUNTIF('A) Eingabe (GruppenLehrer)'!C90:AH90,4))","v":{"$error":"#N/A"}}]
[{"$f":"FragenErstellen!A87","v":0},{"$f":"IF($E83=0, #N/A,AVERAGE('A) Eingabe (Gruppen)'!C91:AH91))","v":{"$error":"#N/A"}},{"$f":"IF(E83<2, #N/A, STDEVP('A) Eingabe (Gruppen)'!C91:AH91))","v":{"$error":"#N/A"}},{"$error":"#N/A"},{"$f":"COUNT('A) Eingabe (Gruppen)'!C91:AH91)","v":0},{"$f":"IF(E83<2,#N/A,COUNTIF('A) Eingabe (Gruppen)'!C91:AH91,1))","v":{"$error":"#N/A"}},{"$f":"IF(E83<2,#N/A,COUNTIF('A) Eingabe (Gruppen)'!C91:AH91,2))","v":{"$error":"#N/A"}},{"$f":"IF(E83<2,#N/A,COUNTIF('A) Eingabe (Gruppen)'!C91:AH91,3))","v":{"$error":"#N/A"}},{"$f":"IF(E83<2,#N/A,COUNTIF('A) Eingabe (Gruppen)'!C91:AH91,4))","v":{"$error":"#N/A"}},null,{"$f":"IF(N83=0, #N/A,AVERAGE('A) Eingabe (GruppenLehrer)'!C91:AH91))","v":{"$error":"#N/A"}},{"$f":"IF(N83<1, #N/A, STDEVP('A) Eingabe (GruppenLehrer)'!C91:AH91))","v":{"$error":"#N/A"}},{"$error":"#N/A"},{"$f":"COUNT('A) Eingabe (GruppenLehrer)'!C91:AH91)","v":0},{"$f":"IF(N83<1,#N/A,COUNTIF('A) Eingabe (GruppenLehrer)'!C91:AH91,1))","v":{"$error":"#N/A"}},{"$f":"IF(N83<1,#N/A,COUNTIF('A) Eingabe (GruppenLehrer)'!C91:AH91,2))","v":{"$error":"#N/A"}},{"$f":"IF(N83<1,#N/A,COUNTIF('A) Eingabe (GruppenLehrer)'!C91:AH91,3))","v":{"$error":"#N/A"}},{"$f":"IF(N83<1,#N/A,COUNTIF('A) Eingabe (GruppenLehrer)'!C91:AH91,4))","v":{"$error":"#N/A"}}]
[{"$f":"FragenErstellen!A88","v":0},{"$f":"IF($E84=0, #N/A,AVERAGE('A) Eingabe (Gruppen)'!C92:AH92))","v":{"$error":"#N/A"}},{"$f":"IF(E84<2, #N/A, STDEVP('A) Eingabe (Gruppen)'!C92:AH92))","v":{"$error":"#N/A"}},{"$error":"#N/A"},{"$f":"COUNT('A) Eingabe (Gruppen)'!C92:AH92)","v":0},{"$f":"IF(E84<2,#N/A,COUNTIF('A) Eingabe (Gruppen)'!C92:AH92,1))","v":{"$error":"#N/A"}},{"$f":"IF(E84<2,#N/A,COUNTIF('A) Eingabe (Gruppen)'!C92:AH92,2))","v":{"$error":"#N/A"}},{"$f":"IF(E84<2,#N/A,COUNTIF('A) Eingabe (Gruppen)'!C92:AH92,3))","v":{"$error":"#N/A"}},{"$f":"IF(E84<2,#N/A,COUNTIF('A) Eingabe (Gruppen)'!C92:AH92,4))","v":{"$error":"#N/A"}},null,{"$f":"IF(N84=0, #N/A,AVERAGE('A) Eingabe (GruppenLehrer)'!C92:AH92))","v":{"$error":"#N/A"}},{"$f":"IF(N84<1, #N/A, STDEVP('A) Eingabe (GruppenLehrer)'!C92:AH92))","v":{"$error":"#N/A"}},{"$error":"#N/A"},{"$f":"COUNT('A) Eingabe (GruppenLehrer)'!C92:AH92)","v":0},{"$f":"IF(N84<1,#N/A,COUNTIF('A) Eingabe (GruppenLehrer)'!C92:AH92,1))","v":{"$error":"#N/A"}},{"$f":"IF(N84<1,#N/A,COUNTIF('A) Eingabe (GruppenLehrer)'!C92:AH92,2))","v":{"$error":"#N/A"}},{"$f":"IF(N84<1,#N/A,COUNTIF('A) Eingabe (GruppenLehrer)'!C92:AH92,3))","v":{"$error":"#N/A"}},{"$f":"IF(N84<1,#N/A,COUNTIF('A) Eingabe (GruppenLehrer)'!C92:AH92,4))","v":{"$error":"#N/A"}}]
[{"$f":"FragenErstellen!A89","v":0},{"$f":"IF($E85=0, #N/A,AVERAGE('A) Eingabe (Gruppen)'!C93:AH93))","v":{"$error":"#N/A"}},{"$f":"IF(E85<2, #N/A, STDEVP('A) Eingabe (Gruppen)'!C93:AH93))","v":{"$error":"#N/A"}},{"$error":"#N/A"},{"$f":"COUNT('A) Eingabe (Gruppen)'!C93:AH93)","v":0},{"$f":"IF(E85<2,#N/A,COUNTIF('A) Eingabe (Gruppen)'!C93:AH93,1))","v":{"$error":"#N/A"}},{"$f":"IF(E85<2,#N/A,COUNTIF('A) Eingabe (Gruppen)'!C93:AH93,2))","v":{"$error":"#N/A"}},{"$f":"IF(E85<2,#N/A,COUNTIF('A) Eingabe (Gruppen)'!C93:AH93,3))","v":{"$error":"#N/A"}},{"$f":"IF(E85<2,#N/A,COUNTIF('A) Eingabe (Gruppen)'!C93:AH93,4))","v":{"$error":"#N/A"}},null,{"$f":"IF(N85=0, #N/A,AVERAGE('A) Eingabe (GruppenLehrer)'!C93:AH93))","v":{"$error":"#N/A"}},{"$f":"IF(N85<1, #N/A, STDEVP('A) Eingabe (GruppenLehrer)'!C93:AH93))","v":{"$error":"#N/A"}},{"$error":"#N/A"},{"$f":"COUNT('A) Eingabe (GruppenLehrer)'!C93:AH93)","v":0},{"$f":"IF(N85<1,#N/A,COUNTIF('A) Eingabe (GruppenLehrer)'!C93:AH93,1))","v":{"$error":"#N/A"}},{"$f":"IF(N85<1,#N/A,COUNTIF('A) Eingabe (GruppenLehrer)'!C93:AH93,2))","v":{"$error":"#N/A"}},{"$f":"IF(N85<1,#N/A,COUNTIF('A) Eingabe (GruppenLehrer)'!C93:AH93,3))","v":{"$error":"#N/A"}},{"$f":"IF(N85<1,#N/A,COUNTIF('A) Eingabe (GruppenLehrer)'!C93:AH93,4))","v":{"$error":"#N/A"}}]
[{"$f":"FragenErstellen!A90","v":0},{"$f":"IF($E86=0, #N/A,AVERAGE('A) Eingabe (Gruppen)'!C94:AH94))","v":{"$error":"#N/A"}},{"$f":"IF(E86<2, #N/A, STDEVP('A) Eingabe (Gruppen)'!C94:AH94))","v":{"$error":"#N/A"}},{"$error":"#N/A"},{"$f":"COUNT('A) Eingabe (Gruppen)'!C94:AH94)","v":0},{"$f":"IF(E86<2,#N/A,COUNTIF('A) Eingabe (Gruppen)'!C94:AH94,1))","v":{"$error":"#N/A"}},{"$f":"IF(E86<2,#N/A,COUNTIF('A) Eingabe (Gruppen)'!C94:AH94,2))","v":{"$error":"#N/A"}},{"$f":"IF(E86<2,#N/A,COUNTIF('A) Eingabe (Gruppen)'!C94:AH94,3))","v":{"$error":"#N/A"}},{"$f":"IF(E86<2,#N/A,COUNTIF('A) Eingabe (Gruppen)'!C94:AH94,4))","v":{"$error":"#N/A"}},null,{"$f":"IF(N86=0, #N/A,AVERAGE('A) Eingabe (GruppenLehrer)'!C94:AH94))","v":{"$error":"#N/A"}},{"$f":"IF(N86<1, #N/A, STDEVP('A) Eingabe (GruppenLehrer)'!C94:AH94))","v":{"$error":"#N/A"}},{"$error":"#N/A"},{"$f":"COUNT('A) Eingabe (GruppenLehrer)'!C94:AH94)","v":0},{"$f":"IF(N86<1,#N/A,COUNTIF('A) Eingabe (GruppenLehrer)'!C94:AH94,1))","v":{"$error":"#N/A"}},{"$f":"IF(N86<1,#N/A,COUNTIF('A) Eingabe (GruppenLehrer)'!C94:AH94,2))","v":{"$error":"#N/A"}},{"$f":"IF(N86<1,#N/A,COUNTIF('A) Eingabe (GruppenLehrer)'!C94:AH94,3))","v":{"$error":"#N/A"}},{"$f":"IF(N86<1,#N/A,COUNTIF('A) Eingabe (GruppenLehrer)'!C94:AH94,4))","v":{"$error":"#N/A"}}]
[{"$f":"FragenErstellen!A91","v":0},{"$f":"IF($E87=0, #N/A,AVERAGE('A) Eingabe (Gruppen)'!C95:AH95))","v":{"$error":"#N/A"}},{"$f":"IF(E87<2, #N/A, STDEVP('A) Eingabe (Gruppen)'!C95:AH95))","v":{"$error":"#N/A"}},{"$error":"#N/A"},{"$f":"COUNT('A) Eingabe (Gruppen)'!C95:AH95)","v":0},{"$f":"IF(E87<2,#N/A,COUNTIF('A) Eingabe (Gruppen)'!C95:AH95,1))","v":{"$error":"#N/A"}},{"$f":"IF(E87<2,#N/A,COUNTIF('A) Eingabe (Gruppen)'!C95:AH95,2))","v":{"$error":"#N/A"}},{"$f":"IF(E87<2,#N/A,COUNTIF('A) Eingabe (Gruppen)'!C95:AH95,3))","v":{"$error":"#N/A"}},{"$f":"IF(E87<2,#N/A,COUNTIF('A) Eingabe (Gruppen)'!C95:AH95,4))","v":{"$error":"#N/A"}},null,{"$f":"IF(N87=0, #N/A,AVERAGE('A) Eingabe (GruppenLehrer)'!C95:AH95))","v":{"$error":"#N/A"}},{"$f":"IF(N87<1, #N/A, STDEVP('A) Eingabe (GruppenLehrer)'!C95:AH95))","v":{"$error":"#N/A"}},{"$error":"#N/A"},{"$f":"COUNT('A) Eingabe (GruppenLehrer)'!C95:AH95)","v":0},{"$f":"IF(N87<1,#N/A,COUNTIF('A) Eingabe (GruppenLehrer)'!C95:AH95,1))","v":{"$error":"#N/A"}},{"$f":"IF(N87<1,#N/A,COUNTIF('A) Eingabe (GruppenLehrer)'!C95:AH95,2))","v":{"$error":"#N/A"}},{"$f":"IF(N87<1,#N/A,COUNTIF('A) Eingabe (GruppenLehrer)'!C95:AH95,3))","v":{"$error":"#N/A"}},{"$f":"IF(N87<1,#N/A,COUNTIF('A) Eingabe (GruppenLehrer)'!C95:AH95,4))","v":{"$error":"#N/A"}}]
[{"$f":"FragenErstellen!A92","v":0},{"$f":"IF($E88=0, #N/A,AVERAGE('A) Eingabe (Gruppen)'!C96:AH96))","v":{"$error":"#N/A"}},{"$f":"IF(E88<2, #N/A, STDEVP('A) Eingabe (Gruppen)'!C96:AH96))","v":{"$error":"#N/A"}},{"$error":"#N/A"},{"$f":"COUNT('A) Eingabe (Gruppen)'!C96:AH96)","v":0},{"$f":"IF(E88<2,#N/A,COUNTIF('A) Eingabe (Gruppen)'!C96:AH96,1))","v":{"$error":"#N/A"}},{"$f":"IF(E88<2,#N/A,COUNTIF('A) Eingabe (Gruppen)'!C96:AH96,2))","v":{"$error":"#N/A"}},{"$f":"IF(E88<2,#N/A,COUNTIF('A) Eingabe (Gruppen)'!C96:AH96,3))","v":{"$error":"#N/A"}},{"$f":"IF(E88<2,#N/A,COUNTIF('A) Eingabe (Gruppen)'!C96:AH96,4))","v":{"$error":"#N/A"}},null,{"$f":"IF(N88=0, #N/A,AVERAGE('A) Eingabe (GruppenLehrer)'!C96:AH96))","v":{"$error":"#N/A"}},{"$f":"IF(N88<1, #N/A, STDEVP('A) Eingabe (GruppenLehrer)'!C96:AH96))","v":{"$error":"#N/A"}},{"$error":"#N/A"},{"$f":"COUNT('A) Eingabe (GruppenLehrer)'!C96:AH96)","v":0},{"$f":"IF(N88<1,#N/A,COUNTIF('A) Eingabe (GruppenLehrer)'!C96:AH96,1))","v":{"$error":"#N/A"}},{"$f":"IF(N88<1,#N/A,COUNTIF('A) Eingabe (GruppenLehrer)'!C96:AH96,2))","v":{"$error":"#N/A"}},{"$f":"IF(N88<1,#N/A,COUNTIF('A) Eingabe (GruppenLehrer)'!C96:AH96,3))","v":{"$error":"#N/A"}},{"$f":"IF(N88<1,#N/A,COUNTIF('A) Eingabe (GruppenLehrer)'!C96:AH96,4))","v":{"$error":"#N/A"}}]
[{"$f":"FragenErstellen!A93","v":0},{"$f":"IF($E89=0, #N/A,AVERAGE('A) Eingabe (Gruppen)'!C97:AH97))","v":{"$error":"#N/A"}},{"$f":"IF(E89<2, #N/A, STDEVP('A) Eingabe (Gruppen)'!C97:AH97))","v":{"$error":"#N/A"}},{"$error":"#N/A"},{"$f":"COUNT('A) Eingabe (Gruppen)'!C97:AH97)","v":0},{"$f":"IF(E89<2,#N/A,COUNTIF('A) Eingabe (Gruppen)'!C97:AH97,1))","v":{"$error":"#N/A"}},{"$f":"IF(E89<2,#N/A,COUNTIF('A) Eingabe (Gruppen)'!C97:AH97,2))","v":{"$error":"#N/A"}},{"$f":"IF(E89<2,#N/A,COUNTIF('A) Eingabe (Gruppen)'!C97:AH97,3))","v":{"$error":"#N/A"}},{"$f":"IF(E89<2,#N/A,COUNTIF('A) Eingabe (Gruppen)'!C97:AH97,4))","v":{"$error":"#N/A"}},null,{"$f":"IF(N89=0, #N/A,AVERAGE('A) Eingabe (GruppenLehrer)'!C97:AH97))","v":{"$error":"#N/A"}},{"$f":"IF(N89<1, #N/A, STDEVP('A) Eingabe (GruppenLehrer)'!C97:AH97))","v":{"$error":"#N/A"}},{"$error":"#N/A"},{"$f":"COUNT('A) Eingabe (GruppenLehrer)'!C97:AH97)","v":0},{"$f":"IF(N89<1,#N/A,COUNTIF('A) Eingabe (GruppenLehrer)'!C97:AH97,1))","v":{"$error":"#N/A"}},{"$f":"IF(N89<1,#N/A,COUNTIF('A) Eingabe (GruppenLehrer)'!C97:AH97,2))","v":{"$error":"#N/A"}},{"$f":"IF(N89<1,#N/A,COUNTIF('A) Eingabe (GruppenLehrer)'!C97:AH97,3))","v":{"$error":"#N/A"}},{"$f":"IF(N89<1,#N/A,COUNTIF('A) Eingabe (GruppenLehrer)'!C97:AH97,4))","v":{"$error":"#N/A"}}]
[{"$f":"FragenErstellen!A94","v":0},{"$f":"IF($E90=0, #N/A,AVERAGE('A) Eingabe (Gruppen)'!C98:AH98))","v":{"$error":"#N/A"}},{"$f":"IF(E90<2, #N/A, STDEVP('A) Eingabe (Gruppen)'!C98:AH98))","v":{"$error":"#N/A"}},{"$error":"#N/A"},{"$f":"COUNT('A) Eingabe (Gruppen)'!C98:AH98)","v":0},{"$f":"IF(E90<2,#N/A,COUNTIF('A) Eingabe (Gruppen)'!C98:AH98,1))","v":{"$error":"#N/A"}},{"$f":"IF(E90<2,#N/A,COUNTIF('A) Eingabe (Gruppen)'!C98:AH98,2))","v":{"$error":"#N/A"}},{"$f":"IF(E90<2,#N/A,COUNTIF('A) Eingabe (Gruppen)'!C98:AH98,3))","v":{"$error":"#N/A"}},{"$f":"IF(E90<2,#N/A,COUNTIF('A) Eingabe (Gruppen)'!C98:AH98,4))","v":{"$error":"#N/A"}},null,{"$f":"IF(N90=0, #N/A,AVERAGE('A) Eingabe (GruppenLehrer)'!C98:AH98))","v":{"$error":"#N/A"}},{"$f":"IF(N90<1, #N/A, STDEVP('A) Eingabe (GruppenLehrer)'!C98:AH98))","v":{"$error":"#N/A"}},{"$error":"#N/A"},{"$f":"COUNT('A) Eingabe (GruppenLehrer)'!C98:AH98)","v":0},{"$f":"IF(N90<1,#N/A,COUNTIF('A) Eingabe (GruppenLehrer)'!C98:AH98,1))","v":{"$error":"#N/A"}},{"$f":"IF(N90<1,#N/A,COUNTIF('A) Eingabe (GruppenLehrer)'!C98:AH98,2))","v":{"$error":"#N/A"}},{"$f":"IF(N90<1,#N/A,COUNTIF('A) Eingabe (GruppenLehrer)'!C98:AH98,3))","v":{"$error":"#N/A"}},{"$f":"IF(N90<1,#N/A,COUNTIF('A) Eingabe (GruppenLehrer)'!C98:AH98,4))","v":{"$error":"#N/A"}}]
[{"$f":"FragenErstellen!A95","v":0},{"$f":"IF($E91=0, #N/A,AVERAGE('A) Eingabe (Gruppen)'!C99:AH99))","v":{"$error":"#N/A"}},{"$f":"IF(E91<2, #N/A, STDEVP('A) Eingabe (Gruppen)'!C99:AH99))","v":{"$error":"#N/A"}},{"$error":"#N/A"},{"$f":"COUNT('A) Eingabe (Gruppen)'!C99:AH99)","v":0},{"$f":"IF(E91<2,#N/A,COUNTIF('A) Eingabe (Gruppen)'!C99:AH99,1))","v":{"$error":"#N/A"}},{"$f":"IF(E91<2,#N/A,COUNTIF('A) Eingabe (Gruppen)'!C99:AH99,2))","v":{"$error":"#N/A"}},{"$f":"IF(E91<2,#N/A,COUNTIF('A) Eingabe (Gruppen)'!C99:AH99,3))","v":{"$error":"#N/A"}},{"$f":"IF(E91<2,#N/A,COUNTIF('A) Eingabe (Gruppen)'!C99:AH99,4))","v":{"$error":"#N/A"}},null,{"$f":"IF(N91=0, #N/A,AVERAGE('A) Eingabe (GruppenLehrer)'!C99:AH99))","v":{"$error":"#N/A"}},{"$f":"IF(N91<1, #N/A, STDEVP('A) Eingabe (GruppenLehrer)'!C99:AH99))","v":{"$error":"#N/A"}},{"$error":"#N/A"},{"$f":"COUNT('A) Eingabe (GruppenLehrer)'!C99:AH99)","v":0},{"$f":"IF(N91<1,#N/A,COUNTIF('A) Eingabe (GruppenLehrer)'!C99:AH99,1))","v":{"$error":"#N/A"}},{"$f":"IF(N91<1,#N/A,COUNTIF('A) Eingabe (GruppenLehrer)'!C99:AH99,2))","v":{"$error":"#N/A"}},{"$f":"IF(N91<1,#N/A,COUNTIF('A) Eingabe (GruppenLehrer)'!C99:AH99,3))","v":{"$error":"#N/A"}},{"$f":"IF(N91<1,#N/A,COUNTIF('A) Eingabe (GruppenLehrer)'!C99:AH99,4))","v":{"$error":"#N/A"}}]
[{"$f":"FragenErstellen!A96","v":0},{"$f":"IF($E92=0, #N/A,AVERAGE('A) Eingabe (Gruppen)'!C100:AH100))","v":{"$error":"#N/A"}},{"$f":"IF(E92<2, #N/A, STDEVP('A) Eingabe (Gruppen)'!C100:AH100))","v":{"$error":"#N/A"}},{"$error":"#N/A"},{"$f":"COUNT('A) Eingabe (Gruppen)'!C100:AH100)","v":0},{"$f":"IF(E92<2,#N/A,COUNTIF('A) Eingabe (Gruppen)'!C100:AH100,1))","v":{"$error":"#N/A"}},{"$f":"IF(E92<2,#N/A,COUNTIF('A) Eingabe (Gruppen)'!C100:AH100,2))","v":{"$error":"#N/A"}},{"$f":"IF(E92<2,#N/A,COUNTIF('A) Eingabe (Gruppen)'!C100:AH100,3))","v":{"$error":"#N/A"}},{"$f":"IF(E92<2,#N/A,COUNTIF('A) Eingabe (Gruppen)'!C100:AH100,4))","v":{"$error":"#N/A"}},null,{"$f":"IF(N92=0, #N/A,AVERAGE('A) Eingabe (GruppenLehrer)'!C100:AH100))","v":{"$error":"#N/A"}},{"$f":"IF(N92<1, #N/A, STDEVP('A) Eingabe (GruppenLehrer)'!C100:AH100))","v":{"$error":"#N/A"}},{"$error":"#N/A"},{"$f":"COUNT('A) Eingabe (GruppenLehrer)'!C100:AH100)","v":0},{"$f":"IF(N92<1,#N/A,COUNTIF('A) Eingabe (GruppenLehrer)'!C100:AH100,1))","v":{"$error":"#N/A"}},{"$f":"IF(N92<1,#N/A,COUNTIF('A) Eingabe (GruppenLehrer)'!C100:AH100,2))","v":{"$error":"#N/A"}},{"$f":"IF(N92<1,#N/A,COUNTIF('A) Eingabe (GruppenLehrer)'!C100:AH100,3))","v":{"$error":"#N/A"}},{"$f":"IF(N92<1,#N/A,COUNTIF('A) Eingabe (GruppenLehrer)'!C100:AH100,4))","v":{"$error":"#N/A"}}]
[{"$f":"FragenErstellen!A97","v":0},{"$f":"IF($E93=0, #N/A,AVERAGE('A) Eingabe (Gruppen)'!C101:AH101))","v":{"$error":"#N/A"}},{"$f":"IF(E93<2, #N/A, STDEVP('A) Eingabe (Gruppen)'!C101:AH101))","v":{"$error":"#N/A"}},{"$error":"#N/A"},{"$f":"COUNT('A) Eingabe (Gruppen)'!C101:AH101)","v":0},{"$f":"IF(E93<2,#N/A,COUNTIF('A) Eingabe (Gruppen)'!C101:AH101,1))","v":{"$error":"#N/A"}},{"$f":"IF(E93<2,#N/A,COUNTIF('A) Eingabe (Gruppen)'!C101:AH101,2))","v":{"$error":"#N/A"}},{"$f":"IF(E93<2,#N/A,COUNTIF('A) Eingabe (Gruppen)'!C101:AH101,3))","v":{"$error":"#N/A"}},{"$f":"IF(E93<2,#N/A,COUNTIF('A) Eingabe (Gruppen)'!C101:AH101,4))","v":{"$error":"#N/A"}},null,{"$f":"IF(N93=0, #N/A,AVERAGE('A) Eingabe (GruppenLehrer)'!C101:AH101))","v":{"$error":"#N/A"}},{"$f":"IF(N93<1, #N/A, STDEVP('A) Eingabe (GruppenLehrer)'!C101:AH101))","v":{"$error":"#N/A"}},{"$error":"#N/A"},{"$f":"COUNT('A) Eingabe (GruppenLehrer)'!C101:AH101)","v":0},{"$f":"IF(N93<1,#N/A,COUNTIF('A) Eingabe (GruppenLehrer)'!C101:AH101,1))","v":{"$error":"#N/A"}},{"$f":"IF(N93<1,#N/A,COUNTIF('A) Eingabe (GruppenLehrer)'!C101:AH101,2))","v":{"$error":"#N/A"}},{"$f":"IF(N93<1,#N/A,COUNTIF('A) Eingabe (GruppenLehrer)'!C101:AH101,3))","v":{"$error":"#N/A"}},{"$f":"IF(N93<1,#N/A,COUNTIF('A) Eingabe (GruppenLehrer)'!C101:AH101,4))","v":{"$error":"#N/A"}}]
[]
[null,"Beurteilertendenzen"]
[null,null,"Rater ID","MW"]
[null,"Rater 1",{"$f":"'A) Temp'!B96","v":0},{"$f":"'A) Temp'!C96","v":""},{"$f":"IF(D97<>\"\",D158, #N/A)","v":{"$error":"#N/A"}}]
[null,"Rater 2",{"$f":"'A) Temp'!B97","v":0},{"$f":"'A) Temp'!C97","v":""},{"$f":"IF(D98<>\"\",D158, #N/A)","v":{"$error":"#N/A"}}]
[null,"Rater 3",{"$f":"'A) Temp'!B98","v":0},{"$f":"'A) Temp'!C98","v":""},{"$f":"IF(D99<>\"\",D158, #N/A)","v":{"$error":"#N/A"}}]
[null,"Rater 4",{"$f":"'A) Temp'!B99","v":0},{"$f":"'A) Temp'!C99","v":""},{"$f":"IF(D100<>\"\",D158, #N/A)","v":{"$error":"#N/A"}}]
[null,"Rater 5",{"$f":"'A) Temp'!B100","v":0},{"$f":"'A) Temp'!C100","v":""},{"$f":"IF(D101<>\"\",D158, #N/A)","v":{"$error":"#N/A"}}]
[null,"Rater 6",{"$f":"'A) Temp'!B101","v":0},{"$f":"'A) Temp'!C101","v":""},{"$f":"IF(D102<>\"\",D158, #N/A)","v":{"$error":"#N/A"}}]
[null,"Rater 7",{"$f":"'A) Temp'!B102","v":0},{"$f":"'A) Temp'!C102","v":""},{"$f":"IF(D103<>\"\",D158, #N/A)","v":{"$error":"#N/A"}}]
[null,"Rater 8",{"$f":"'A) Temp'!B103","v":0},{"$f":"'A) Temp'!C103","v":""},{"$f":"IF(D104<>\"\",D158, #N/A)","v":{"$error":"#N/A"}}]
[null,"Rater 9",{"$f":"'A) Temp'!B104","v":0},{"$f":"'A) Temp'!C104","v":""},{"$f":"IF(D105<>\"\",D158, #N/A)","v":{"$error":"#N/A"}}]
[null,"Rater 10",{"$f":"'A) Temp'!B105","v":0},{"$f":"'A) Temp'!C105","v":""},{"$f":"IF(D106<>\"\",D158, #N/A)","v":{"$error":"#N/A"}}]
[null,"Rater 11",{"$f":"'A) Temp'!B106","v":0},{"$f":"'A) Temp'!C106","v":""},{"$f":"IF(D107<>\"\",D158, #N/A)","v":{"$error":"#N/A"}}]
[null,"Rater 12",{"$f":"'A) Temp'!B107","v":0},{"$f":"'A) Temp'!C107","v":""},{"$f":"IF(D108<>\"\",D158, #N/A)","v":{"$error":"#N/A"}}]
[null,"Rater 13",{"$f":"'A) Temp'!B108","v":0},{"$f":"'A) Temp'!C108","v":""},{"$f":"IF(D109<>\"\",D158, #N/A)","v":{"$error":"#N/A"}}]
[null,"Rater 14",{"$f":"'A) Temp'!B109","v":0},{"$f":"'A) Temp'!C109","v":""},{"$f":"IF(D110<>\"\",D158, #N/A)","v":{"$error":"#N/A"}}]
[null,"Rater 15",{"$f":"'A) Temp'!B110","v":0},{"$f":"'A) Temp'!C110","v":""},{"$f":"IF(D111<>\"\",D158, #N/A)","v":{"$error":"#N/A"}}]
[null,"Rater 16",{"$f":"'A) Temp'!B111","v":0},{"$f":"'A) Temp'!C111","v":""},{"$f":"IF(D112<>\"\",D158, #N/A)","v":{"$error":"#N/A"}}]
[null,"Rater 17",{"$f":"'A) Temp'!B112","v":0},{"$f":"'A) Temp'!C112","v":""},{"$f":"IF(D113<>\"\",D158, #N/A)","v":{"$error":"#N/A"}}]
[null,"Rater 18",{"$f":"'A) Temp'!B113","v":0},{"$f":"'A) Temp'!C113","v":""},{"$f":"IF(D114<>\"\",D158, #N/A)","v":{"$error":"#N/A"}}]
[null,"Rater 19",{"$f":"'A) Temp'!B114","v":0},{"$f":"'A) Temp'!C114","v":""},{"$f":"IF(D115<>\"\",D158, #N/A)","v":{"$error":"#N/A"}}]
[null,"Rater 20",{"$f":"'A) Temp'!B115","v":0},{"$f":"'A) Temp'!C115","v":""},{"$f":"IF(D116<>\"\",D158, #N/A)","v":{"$error":"#N/A"}}]
[null,"Rater 21",{"$f":"'A) Temp'!B116","v":0},{"$f":"'A) Temp'!C116","v":""},{"$f":"IF(D117<>\"\",D158, #N/A)","v":{"$error":"#N/A"}}]
[null,"Rater 22",{"$f":"'A) Temp'!B117","v":0},{"$f":"'A) Temp'!C117","v":""},{"$f":"IF(D118<>\"\",D158, #N/A)","v":{"$error":"#N/A"}}]
[null,"Rater 23",{"$f":"'A) Temp'!B118","v":0},{"$f":"'A) Temp'!C118","v":""},{"$f":"IF(D119<>\"\",D158, #N/A)","v":{"$error":"#N/A"}}]
[null,"Rater 24",{"$f":"'A) Temp'!B119","v":0},{"$f":"'A) Temp'!C119","v":""},{"$f":"IF(D120<>\"\",D158, #N/A)","v":{"$error":"#N/A"}}]
[null,"Rater 25",{"$f":"'A) Temp'!B120","v":0},{"$f":"'A) Temp'!C120","v":""},{"$f":"IF(D121<>\"\",D158, #N/A)","v":{"$error":"#N/A"}}]
[null,"Rater 26",{"$f":"'A) Temp'!B121","v":0},{"$f":"'A) Temp'!C121","v":""},{"$f":"IF(D122<>\"\",D158, #N/A)","v":{"$error":"#N/A"}}]
[null,"Rater 27",{"$f":"'A) Temp'!B122","v":0},{"$f":"'A) Temp'!C122","v":""},{"$f":"IF(D123<>\"\",D158, #N/A)","v":{"$error":"#N/A"}}]
[null,"Rater 28",{"$f":"'A) Temp'!B123","v":0},{"$f":"'A) Temp'!C123","v":""},{"$f":"IF(D124<>\"\",D158, #N/A)","v":{"$error":"#N/A"}}]
[null,"Rater 29",{"$f":"'A) Temp'!B124","v":0},{"$f":"'A) Temp'!C124","v":""},{"$f":"IF(D125<>\"\",D158, #N/A)","v":{"$error":"#N/A"}}]
[null,"Rater 30",{"$f":"'A) Temp'!B125","v":0},{"$f":"'A) Temp'!C125","v":""},{"$f":"IF(D126<>\"\",D158, #N/A)","v":{"$error":"#N/A"}}]
[null,"Rater 31",{"$f":"'A) Temp'!B126","v":0},{"$f":"'A) Temp'!C126","v":""},{"$f":"IF(D127<>\"\",D158, #N/A)","v":{"$error":"#N/A"}}]
[null,"Rater 32",{"$f":"'A) Temp'!B127","v":0},{"$f":"'A) Temp'!C127","v":""},{"$f":"IF(D128<>\"\",D158, #N/A)","v":{"$error":"#N/A"}}]
[null,"Rater 33",{"$f":"'A) Temp'!B128","v":0},{"$f":"'A) Temp'!C128","v":""},{"$f":"IF(D129<>\"\",D158, #N/A)","v":{"$error":"#N/A"}}]
[null,"Rater 34",{"$f":"'A) Temp'!B129","v":0},{"$f":"'A) Temp'!C129","v":""},{"$f":"IF(D130<>\"\",D158, #N/A)","v":{"$error":"#N/A"}}]
[null,"Rater 35",{"$f":"'A) Temp'!B130","v":0},{"$f":"'A) Temp'!C130","v":""},{"$f":"IF(D131<>\"\",D158, #N/A)","v":{"$error":"#N/A"}}]
[null,"Rater 36",{"$f":"'A) Temp'!B131","v":0},{"$f":"'A) Temp'!C131","v":""},{"$f":"IF(D132<>\"\",D158, #N/A)","v":{"$error":"#N/A"}}]
[null,"Rater 37",{"$f":"'A) Temp'!B132","v":0},{"$f":"'A) Temp'!C132","v":""},{"$f":"IF(D133<>\"\",D158, #N/A)","v":{"$error":"#N/A"}}]
[null,"Rater 38",{"$f":"'A) Temp'!B133","v":0},{"$f":"'A) Temp'!C133","v":""},{"$f":"IF(D134<>\"\",D158, #N/A)","v":{"$error":"#N/A"}}]
[null,"Rater 39",{"$f":"'A) Temp'!B134","v":0},{"$f":"'A) Temp'!C134","v":""},{"$f":"IF(D135<>\"\",D158, #N/A)","v":{"$error":"#N/A"}}]
[null,"Rater 40",{"$f":"'A) Temp'!B135","v":0},{"$f":"'A) Temp'!C135","v":""},{"$f":"IF(D136<>\"\",D158, #N/A)","v":{"$error":"#N/A"}}]
[null,"Rater 41",{"$f":"'A) Temp'!B136","v":0},{"$f":"'A) Temp'!C136","v":""},{"$f":"IF(D137<>\"\",D158, #N/A)","v":{"$error":"#N/A"}}]
[null,"Rater 42",{"$f":"'A) Temp'!B137","v":0},{"$f":"'A) Temp'!C137","v":""},{"$f":"IF(D138<>\"\",D158, #N/A)","v":{"$error":"#N/A"}}]
[null,"Rater 43",{"$f":"'A) Temp'!B138","v":0},{"$f":"'A) Temp'!C138","v":""},{"$f":"IF(D139<>\"\",D158, #N/A)","v":{"$error":"#N/A"}}]
[null,"Rater 44",{"$f":"'A) Temp'!B139","v":0},{"$f":"'A) Temp'!C139","v":""},{"$f":"IF(D140<>\"\",D158, #N/A)","v":{"$error":"#N/A"}}]
[null,"Rater 45",{"$f":"'A) Temp'!B140","v":0},{"$f":"'A) Temp'!C140","v":""},{"$f":"IF(D141<>\"\",D158, #N/A)","v":{"$error":"#N/A"}}]
[null,"Rater 46",{"$f":"'A) Temp'!B141","v":0},{"$f":"'A) Temp'!C141","v":""},{"$f":"IF(D142<>\"\",D158, #N/A)","v":{"$error":"#N/A"}}]
[null,"Rater 47",{"$f":"'A) Temp'!B142","v":0},{"$f":"'A) Temp'!C142","v":""},{"$f":"IF(D143<>\"\",D158, #N/A)","v":{"$error":"#N/A"}}]
[null,"Rater 48",{"$f":"'A) Temp'!B143","v":0},{"$f":"'A) Temp'!C143","v":""},{"$f":"IF(D144<>\"\",D158, #N/A)","v":{"$error":"#N/A"}}]
[null,"Rater 49",{"$f":"'A) Temp'!B144","v":0},{"$f":"'A) Temp'!C144","v":""},{"$f":"IF(D145<>\"\",D158, #N/A)","v":{"$error":"#N/A"}}]
[null,"Rater 50",{"$f":"'A) Temp'!B145","v":0},{"$f":"'A) Temp'!C145","v":""},{"$f":"IF(D146<>\"\",D158, #N/A)","v":{"$error":"#N/A"}}]
[null,"Rater 51",{"$f":"'A) Temp'!B146","v":0},{"$f":"'A) Temp'!C146","v":""},{"$f":"IF(D147<>\"\",D158, #N/A)","v":{"$error":"#N/A"}}]
[null,"Rater 52",{"$f":"'A) Temp'!B147","v":0},{"$f":"'A) Temp'!C147","v":""},{"$f":"IF(D148<>\"\",D158, #N/A)","v":{"$error":"#N/A"}}]
[null,"Rater 53",{"$f":"'A) Temp'!B148","v":0},{"$f":"'A) Temp'!C148","v":""},{"$f":"IF(D149<>\"\",D158, #N/A)","v":{"$error":"#N/A"}}]
[null,"Rater 54",{"$f":"'A) Temp'!B149","v":0},{"$f":"'A) Temp'!C149","v":""},{"$f":"IF(D150<>\"\",D158, #N/A)","v":{"$error":"#N/A"}}]
[null,"Rater 55",{"$f":"'A) Temp'!B150","v":0},{"$f":"'A) Temp'!C150","v":""},{"$f":"IF(D151<>\"\",D158, #N/A)","v":{"$error":"#N/A"}}]
[null,"Rater 56",{"$f":"'A) Temp'!B151","v":0},{"$f":"'A) Temp'!C151","v":""},{"$f":"IF(D152<>\"\",D158, #N/A)","v":{"$error":"#N/A"}}]
[null,"Rater 57",{"$f":"'A) Temp'!B152","v":0},{"$f":"'A) Temp'!C152","v":""},{"$f":"IF(D153<>\"\",D158, #N/A)","v":{"$error":"#N/A"}}]
[null,"Rater 58",{"$f":"'A) Temp'!B153","v":85},{"$f":"'A) Temp'!C153","v":"Koll2"},{"$f":"IF(D154<>\"\",D158, #N/A)","v":{"$error":"#DIV/0!"}}]
[null,"Rater 59",{"$f":"'A) Temp'!B154","v":85},{"$f":"'A) Temp'!C154","v":"Kollege1"},{"$f":"IF(D155<>\"\",D158, #N/A)","v":{"$error":"#DIV/0!"}}]
[null,"Rater 60",{"$f":"'A) Temp'!B155","v":85},{"$f":"'A) Temp'!C155","v":"Lehrer"},{"$f":"IF(D156<>\"\",D158, #N/A)","v":{"$error":"#DIV/0!"}}]
[null,"Rater 61",{"$f":"'A) Temp'!B156","v":""},{"$f":"'A) Temp'!C156","v":""},{"$f":"IF(D157<>\"\",D158, #N/A)","v":{"$error":"#N/A"}}]
[null,null,"MW aller",{"$f":"AVERAGE(D97:D157)","v":{"$error":"#DIV/0!"}}]
[null,null,null,{"$f":"IF(D97<>\"\",D97, #N/A)","v":{"$error":"#N/A"}}]
[null,null,null,{"$f":"IF(D98<>\"\",D98, #N/A)","v":{"$error":"#N/A"}}]
[null,null,null,{"$error":"#N/A"}]
[null,null,null,{"$error":"#N/A"}]
[null,null,null,{"$error":"#N/A"}]
[null,null,null,{"$error":"#N/A"}]
[null,null,null,{"$error":"#N/A"}]
[null,null,null,{"$error":"#N/A"}]
[null,null,null,{"$error":"#N/A"}]
[null,null,null,{"$error":"#N/A"}]
[null,null,null,{"$error":"#N/A"}]
[null,null,null,{"$error":"#N/A"}]
[null,null,null,{"$error":"#N/A"}]
[null,null,null,{"$error":"#N/A"}]
[null,null,null,{"$error":"#N/A"}]
[null,null,null,{"$error":"#N/A"}]
[null,null,null,{"$error":"#N/A"}]
[null,null,null,{"$error":"#N/A"}]
[null,null,null,{"$error":"#N/A"}]
[null,null,null,{"$error":"#N/A"}]
[null,null,null,{"$error":"#N/A"}]
[null,null,null,{"$error":"#N/A"}]
[null,null,null,{"$error":"#N/A"}]
[null,null,null,{"$error":"#N/A"}]
[null,null,null,{"$error":"#N/A"}]
[null,null,null,{"$error":"#N/A"}]
[null,null,null,{"$error":"#N/A"}]
[null,null,null,{"$error":"#N/A"}]
[null,null,null,{"$error":"#N/A"}]
[null,null,null,{"$error":"#N/A"}]
[null,null,null,{"$error":"#N/A"}]
[null,null,null,{"$error":"#N/A"}]
[null,null,null,{"$error":"#N/A"}]
[null,null,null,{"$error":"#N/A"}]
[null,null,null,{"$error":"#N/A"}]
[null,null,null,{"$error":"#N/A"}]
[null,null,null,{"$error":"#N/A"}]
[null,null,null,{"$error":"#N/A"}]
[null,null,null,{"$error":"#N/A"}]
[null,null,null,{"$error":"#N/A"}]
[null,null,null,{"$error":"#N/A"}]
[null,null,null,{"$error":"#N/A"}]
[null,null,null,{"$error":"#N/A"}]
[null,null,null,{"$error":"#N/A"}]
[null,null,null,{"$error":"#N/A"}]
[null,null,null,{"$error":"#N/A"}]
[null,null,null,{"$error":"#N/A"}]
[null,null,null,{"$error":"#N/A"}]
[null,null,null,{"$error":"#N/A"}]
[null,null,null,{"$error":"#N/A"}]
[null,null,null,{"$error":"#N/A"}]
[null,null,null,{"$error":"#N/A"}]
[null,null,null,{"$error":"#N/A"}]
[null,null,null,{"$error":"#N/A"}]
[null,null,null,{"$error":"#N/A"}]
[null,null,null,{"$error":"#N/A"}]
[null,null,null,{"$error":"#N/A"}]
[null,null,null,"Koll2"]
[null,null,null,"Kollege1"]
[null,null,null,"Lehrer"]
[null,null,null,{"$error":"#N/A"}]
[null,"Item 30 Kollegen"]
[null,null,1,2,3,4,5,6,7,8,9,10,11,12,13,14,15,16,17,18,19,20,21,22,23,24,25,26,27,28,29,30,31,32,33,34,35,36,37,38,39,40,41,42,43,44,45,46,47,48,49,50,51,52,53,54,55,56,57,58,59,60,{"$error":"#N/A"},"Summe","N","MW","%"]
[]
["zu leicht","zu leicht"]
["etwas zu leicht","etwas zu leicht"]
["genau richtig","genau richtig"]
["etwas zu schwierig","etwas zu schwierig"]
["zu schwierig","zu schwierig"]
["fehlende Angaben","fehlende Angaben"]

{"sheet":"A) Daten","index":31,"n_rows":228,"n_cols":67,"rows_kept":228,"cut":false,"hidden":true,"merged":[[0,1,0,9],[0,10,0,18],[94,1,94,3]]}
[null,"Schüler-Urteil",null,null,null,null,null,null,null,null,"Lehrer-, Kollegen-Urteil"]
["Itemnr.","M","SD","Proz3_4","N","cat1","cat2","cat3","cat4","SE","M-Kolleg","SD-Kolleg","Proz34_kog","N_kog","cat1-kog","cat2-kog","cat3-kog","cat4-kog","SE"]
[{"$f":"FragenErstellen!A7","v":1},{"$f":"IF($E3=0, #N/A,AVERAGE('A) Eingabe (Schüler)'!C11:AH11))","v":{"$error":"#N/A"}},{"$f":"IF(E3<2, #N/A, STDEVP('A) Eingabe (Schüler)'!C11:AH11))","v":{"$error":"#N/A"}},{"$f":"IF(E3<2, #N/A, 100*(H3+I3)/E3)","v":{"$error":"#N/A"}},{"$f":"COUNT('A) Eingabe (Schüler)'!C11:AH11)","v":0},{"$f":"IF(E3<2,#N/A,COUNTIF('A) Eingabe (Schüler)'!C11:AH11,1))","v":{"$error":"#N/A"}},{"$f":"IF(E3<2,#N/A,COUNTIF('A) Eingabe (Schüler)'!C11:AH11,2))","v":{"$error":"#N/A"}},{"$f":"IF(E3<2,#N/A,COUNTIF('A) Eingabe (Schüler)'!C11:AH11,3))","v":{"$error":"#N/A"}},{"$f":"IF(E3<2,#N/A,COUNTIF('A) Eingabe (Schüler)'!C11:AH11,4))","v":{"$error":"#N/A"}},{"$f":"IF('A) Eingabe (Lehrer)'!C11=\"\", #N/A, 'A) Eingabe (Lehrer)'!C11)","v":{"$error":"#N/A"}},{"$f":"IF(N3=0, #N/A,AVERAGE('A) Eingabe (Lehrer)'!D11:AH11))","v":{"$error":"#N/A"}},{"$f":"IF(N3<1, #N/A, STDEVP('A) Eingabe (Lehrer)'!D11:AH11))","v":{"$error":"#N/A"}},{"$f":"IF(N3<1, #N/A, 100*(Q3+R3)/N3)","v":{"$error":"#N/A"}},{"$f":"COUNT('A) Eingabe (Lehrer)'!D11:AH11)","v":0},{"$f":"IF(N3<1,#N/A,COUNTIF('A) Eingabe (Lehrer)'!D11:AH11,1))","v":{"$error":"#N/A"}},{"$f":"IF(N3<1,#N/A,COUNTIF('A) Eingabe (Lehrer)'!D11:AH11,2))","v":{"$error":"#N/A"}},{"$f":"IF(N3<1,#N/A,COUNTIF('A) Eingabe (Lehrer)'!D11:AH11,3))","v":{"$error":"#N/A"}},{"$f":"IF(N3<1,#N/A,COUNTIF('A) Eingabe (Lehrer)'!D11:AH11,4))","v":{"$error":"#N/A"}},{"$f":"IF('A) Eingabe (Lehrer)'!C11=\"\", #N/A, 'A) Eingabe (Lehrer)'!C11)","v":{"$error":"#N/A"}}]
[{"$f":"FragenErstellen!A8","v":2},{"$f":"IF($E4=0, #N/A,AVERAGE('A) Eingabe (Schüler)'!C12:AH12))","v":{"$error":"#N/A"}},{"$f":"IF(E4<2, #N/A, STDEVP('A) Eingabe (Schüler)'!C12:AH12))","v":{"$error":"#N/A"}},{"$f":"IF(E4<2, #N/A, 100*(H4+I4)/E4)","v":{"$error":"#N/A"}},{"$f":"COUNT('A) Eingabe (Schüler)'!C12:AH12)","v":0},{"$f":"IF(E4<2,#N/A,COUNTIF('A) Eingabe (Schüler)'!C12:AH12,1))","v":{"$error":"#N/A"}},{"$f":"IF(E4<2,#N/A,COUNTIF('A) Eingabe (Schüler)'!C12:AH12,2))","v":{"$error":"#N/A"}},{"$f":"IF(E4<2,#N/A,COUNTIF('A) Eingabe (Schüler)'!C12:AH12,3))","v":{"$error":"#N/A"}},{"$f":"IF(E4<2,#N/A,COUNTIF('A) Eingabe (Schüler)'!C12:AH12,4))","v":{"$error":"#N/A"}},{"$f":"IF('A) Eingabe (Lehrer)'!C12=\"\", #N/A, 'A) Eingabe (Lehrer)'!C12)","v":{"$error":"#N/A"}},{"$f":"IF(N4=0, #N/A,AVERAGE('A) Eingabe (Lehrer)'!D12:AH12))","v":{"$error":"#N/A"}},{"$f":"IF(N4<1, #N/A, STDEVP('A) Eingabe (Lehrer)'!D12:AH12))","v":{"$error":"#N/A"}},{"$f":"IF(N4<1, #N/A, 100*(Q4+R4)/N4)","v":{"$error":"#N/A"}},{"$f":"COUNT('A) Eingabe (Lehrer)'!D12:AH12)","v":0},{"$f":"IF(N4<1,#N/A,COUNTIF('A) Eingabe (Lehrer)'!D12:AH12,1))","v":{"$error":"#N/A"}},{"$f":"IF(N4<1,#N/A,COUNTIF('A) Eingabe (Lehrer)'!D12:AH12,2))","v":{"$error":"#N/A"}},{"$f":"IF(N4<1,#N/A,COUNTIF('A) Eingabe (Lehrer)'!D12:AH12,3))","v":{"$error":"#N/A"}},{"$f":"IF(N4<1,#N/A,COUNTIF('A) Eingabe (Lehrer)'!D12:AH12,4))","v":{"$error":"#N/A"}},{"$f":"IF('A) Eingabe (Lehrer)'!C12=\"\", #N/A, 'A) Eingabe (Lehrer)'!C12)","v":{"$error":"#N/A"}}]
[{"$f":"FragenErstellen!A9","v":3},{"$f":"IF($E5=0, #N/A,AVERAGE('A) Eingabe (Schüler)'!C13:AH13))","v":{"$error":"#N/A"}},{"$f":"IF(E5<2, #N/A, STDEVP('A) Eingabe (Schüler)'!C13:AH13))","v":{"$error":"#N/A"}},{"$error":"#N/A"},{"$f":"COUNT('A) Eingabe (Schüler)'!C13:AH13)","v":0},{"$f":"IF(E5<2,#N/A,COUNTIF('A) Eingabe (Schüler)'!C13:AH13,1))","v":{"$error":"#N/A"}},{"$f":"IF(E5<2,#N/A,COUNTIF('A) Eingabe (Schüler)'!C13:AH13,2))","v":{"$error":"#N/A"}},{"$f":"IF(E5<2,#N/A,COUNTIF('A) Eingabe (Schüler)'!C13:AH13,3))","v":{"$error":"#N/A"}},{"$f":"IF(E5<2,#N/A,COUNTIF('A) Eingabe (Schüler)'!C13:AH13,4))","v":{"$error":"#N/A"}},{"$f":"IF('A) Eingabe (Lehrer)'!C13=\"\", #N/A, 'A) Eingabe (Lehrer)'!C13)","v":{"$error":"#N/A"}},{"$f":"IF(N5=0, #N/A,AVERAGE('A) Eingabe (Lehrer)'!D13:AH13))","v":{"$error":"#N/A"}},{"$f":"IF(N5<1, #N/A, STDEVP('A) Eingabe (Lehrer)'!D13:AH13))","v":{"$error":"#N/A"}},{"$error":"#N/A"},{"$f":"COUNT('A) Eingabe (Lehrer)'!D13:AH13)","v":0},{"$f":"IF(N5<1,#N/A,COUNTIF('A) Eingabe (Lehrer)'!D13:AH13,1))","v":{"$error":"#N/A"}},{"$f":"IF(N5<1,#N/A,COUNTIF('A) Eingabe (Lehrer)'!D13:AH13,2))","v":{"$error":"#N/A"}},{"$f":"IF(N5<1,#N/A,COUNTIF('A) Eingabe (Lehrer)'!D13:AH13,3))","v":{"$error":"#N/A"}},{"$f":"IF(N5<1,#N/A,COUNTIF('A) Eingabe (Lehrer)'!D13:AH13,4))","v":{"$error":"#N/A"}},{"$f":"IF('A) Eingabe (Lehrer)'!C13=\"\", #N/A, 'A) Eingabe (Lehrer)'!C13)","v":{"$error":"#N/A"}}]
[{"$f":"FragenErstellen!A10","v":4},{"$f":"IF($E6=0, #N/A,AVERAGE('A) Eingabe (Schüler)'!C14:AH14))","v":{"$error":"#N/A"}},{"$f":"IF(E6<2, #N/A, STDEVP('A) Eingabe (Schüler)'!C14:AH14))","v":{"$error":"#N/A"}},{"$error":"#N/A"},{"$f":"COUNT('A) Eingabe (Schüler)'!C14:AH14)","v":0},{"$f":"IF(E6<2,#N/A,COUNTIF('A) Eingabe (Schüler)'!C14:AH14,1))","v":{"$error":"#N/A"}},{"$f":"IF(E6<2,#N/A,COUNTIF('A) Eingabe (Schüler)'!C14:AH14,2))","v":{"$error":"#N/A"}},{"$f":"IF(E6<2,#N/A,COUNTIF('A) Eingabe (Schüler)'!C14:AH14,3))","v":{"$error":"#N/A"}},{"$f":"IF(E6<2,#N/A,COUNTIF('A) Eingabe (Schüler)'!C14:AH14,4))","v":{"$error":"#N/A"}},{"$f":"IF('A) Eingabe (Lehrer)'!C14=\"\", #N/A, 'A) Eingabe (Lehrer)'!C14)","v":{"$error":"#N/A"}},{"$f":"IF(N6=0, #N/A,AVERAGE('A) Eingabe (Lehrer)'!D14:AH14))","v":{"$error":"#N/A"}},{"$f":"IF(N6<1, #N/A, STDEVP('A) Eingabe (Lehrer)'!D14:AH14))","v":{"$error":"#N/A"}},{"$error":"#N/A"},{"$f":"COUNT('A) Eingabe (Lehrer)'!D14:AH14)","v":0},{"$f":"IF(N6<1,#N/A,COUNTIF('A) Eingabe (Lehrer)'!D14:AH14,1))","v":{"$error":"#N/A"}},{"$f":"IF(N6<1,#N/A,COUNTIF('A) Eingabe (Lehrer)'!D14:AH14,2))","v":{"$error":"#N/A"}},{"$f":"IF(N6<1,#N/A,COUNTIF('A) Eingabe (Lehrer)'!D14:AH14,3))","v":{"$error":"#N/A"}},{"$f":"IF(N6<1,#N/A,COUNTIF('A) Eingabe (Lehrer)'!D14:AH14,4))","v":{"$error":"#N/A"}},{"$f":"IF('A) Eingabe (Lehrer)'!C14=\"\", #N/A, 'A) Eingabe (Lehrer)'!C14)","v":{"$error":"#N/A"}}]
[{"$f":"FragenErstellen!A11","v":5},{"$f":"IF($E7=0, #N/A,AVERAGE('A) Eingabe (Schüler)'!C15:AH15))","v":{"$error":"#N/A"}},{"$f":"IF(E7<2, #N/A, STDEVP('A) Eingabe (Schüler)'!C15:AH15))","v":{"$error":"#N/A"}},{"$error":"#N/A"},{"$f":"COUNT('A) Eingabe (Schüler)'!C15:AH15)","v":0},{"$f":"IF(E7<2,#N/A,COUNTIF('A) Eingabe (Schüler)'!C15:AH15,1))","v":{"$error":"#N/A"}},{"$f":"IF(E7<2,#N/A,COUNTIF('A) Eingabe (Schüler)'!C15:AH15,2))","v":{"$error":"#N/A"}},{"$f":"IF(E7<2,#N/A,COUNTIF('A) Eingabe (Schüler)'!C15:AH15,3))","v":{"$error":"#N/A"}},{"$f":"IF(E7<2,#N/A,COUNTIF('A) Eingabe (Schüler)'!C15:AH15,4))","v":{"$error":"#N/A"}},{"$f":"IF('A) Eingabe (Lehrer)'!C15=\"\", #N/A, 'A) Eingabe (Lehrer)'!C15)","v":{"$error":"#N/A"}},{"$f":"IF(N7=0, #N/A,AVERAGE('A) Eingabe (Lehrer)'!D15:AH15))","v":{"$error":"#N/A"}},{"$f":"IF(N7<1, #N/A, STDEVP('A) Eingabe (Lehrer)'!D15:AH15))","v":{"$error":"#N/A"}},{"$error":"#N/A"},{"$f":"COUNT('A) Eingabe (Lehrer)'!D15:AH15)","v":0},{"$f":"IF(N7<1,#N/A,COUNTIF('A) Eingabe (Lehrer)'!D15:AH15,1))","v":{"$error":"#N/A"}},{"$f":"IF(N7<1,#N/A,COUNTIF('A) Eingabe (Lehrer)'!D15:AH15,2))","v":{"$error":"#N/A"}},{"$f":"IF(N7<1,#N/A,COUNTIF('A) Eingabe (Lehrer)'!D15:AH15,3))","v":{"$error":"#N/A"}},{"$f":"IF(N7<1,#N/A,COUNTIF('A) Eingabe (Lehrer)'!D15:AH15,4))","v":{"$error":"#N/A"}},{"$f":"IF('A) Eingabe (Lehrer)'!C15=\"\", #N/A, 'A) Eingabe (Lehrer)'!C15)","v":{"$error":"#N/A"}}]
[{"$f":"FragenErstellen!A12","v":6},{"$f":"IF($E8=0, #N/A,AVERAGE('A) Eingabe (Schüler)'!C16:AH16))","v":{"$error":"#N/A"}},{"$f":"IF(E8<2, #N/A, STDEVP('A) Eingabe (Schüler)'!C16:AH16))","v":{"$error":"#N/A"}},{"$error":"#N/A"},{"$f":"COUNT('A) Eingabe (Schüler)'!C16:AH16)","v":0},{"$f":"IF(E8<2,#N/A,COUNTIF('A) Eingabe (Schüler)'!C16:AH16,1))","v":{"$error":"#N/A"}},{"$f":"IF(E8<2,#N/A,COUNTIF('A) Eingabe (Schüler)'!C16:AH16,2))","v":{"$error":"#N/A"}},{"$f":"IF(E8<2,#N/A,COUNTIF('A) Eingabe (Schüler)'!C16:AH16,3))","v":{"$error":"#N/A"}},{"$f":"IF(E8<2,#N/A,COUNTIF('A) Eingabe (Schüler)'!C16:AH16,4))","v":{"$error":"#N/A"}},{"$f":"IF('A) Eingabe (Lehrer)'!C16=\"\", #N/A, 'A) Eingabe (Lehrer)'!C16)","v":{"$error":"#N/A"}},{"$f":"IF(N8=0, #N/A,AVERAGE('A) Eingabe (Lehrer)'!D16:AH16))","v":{"$error":"#N/A"}},{"$f":"IF(N8<1, #N/A, STDEVP('A) Eingabe (Lehrer)'!D16:AH16))","v":{"$error":"#N/A"}},{"$error":"#N/A"},{"$f":"COUNT('A) Eingabe (Lehrer)'!D16:AH16)","v":0},{"$f":"IF(N8<1,#N/A,COUNTIF('A) Eingabe (Lehrer)'!D16:AH16,1))","v":{"$error":"#N/A"}},{"$f":"IF(N8<1,#N/A,COUNTIF('A) Eingabe (Lehrer)'!D16:AH16,2))","v":{"$error":"#N/A"}},{"$f":"IF(N8<1,#N/A,COUNTIF('A) Eingabe (Lehrer)'!D16:AH16,3))","v":{"$error":"#N/A"}},{"$f":"IF(N8<1,#N/A,COUNTIF('A) Eingabe (Lehrer)'!D16:AH16,4))","v":{"$error":"#N/A"}},{"$f":"IF('A) Eingabe (Lehrer)'!C16=\"\", #N/A, 'A) Eingabe (Lehrer)'!C16)","v":{"$error":"#N/A"}}]
[{"$f":"FragenErstellen!A13","v":7},{"$f":"IF($E9=0, #N/A,AVERAGE('A) Eingabe (Schüler)'!C17:AH17))","v":{"$error":"#N/A"}},{"$f":"IF(E9<2, #N/A, STDEVP('A) Eingabe (Schüler)'!C17:AH17))","v":{"$error":"#N/A"}},{"$error":"#N/A"},{"$f":"COUNT('A) Eingabe (Schüler)'!C17:AH17)","v":0},{"$f":"IF(E9<2,#N/A,COUNTIF('A) Eingabe (Schüler)'!C17:AH17,1))","v":{"$error":"#N/A"}},{"$f":"IF(E9<2,#N/A,COUNTIF('A) Eingabe (Schüler)'!C17:AH17,2))","v":{"$error":"#N/A"}},{"$f":"IF(E9<2,#N/A,COUNTIF('A) Eingabe (Schüler)'!C17:AH17,3))","v":{"$error":"#N/A"}},{"$f":"IF(E9<2,#N/A,COUNTIF('A) Eingabe (Schüler)'!C17:AH17,4))","v":{"$error":"#N/A"}},{"$f":"IF('A) Eingabe (Lehrer)'!C17=\"\", #N/A, 'A) Eingabe (Lehrer)'!C17)","v":{"$error":"#N/A"}},{"$f":"IF(N9=0, #N/A,AVERAGE('A) Eingabe (Lehrer)'!D17:AH17))","v":{"$error":"#N/A"}},{"$f":"IF(N9<1, #N/A, STDEVP('A) Eingabe (Lehrer)'!D17:AH17))","v":{"$error":"#N/A"}},{"$error":"#N/A"},{"$f":"COUNT('A) Eingabe (Lehrer)'!D17:AH17)","v":0},{"$f":"IF(N9<1,#N/A,COUNTIF('A) Eingabe (Lehrer)'!D17:AH17,1))","v":{"$error":"#N/A"}},{"$f":"IF(N9<1,#N/A,COUNTIF('A) Eingabe (Lehrer)'!D17:AH17,2))","v":{"$error":"#N/A"}},{"$f":"IF(N9<1,#N/A,COUNTIF('A) Eingabe (Lehrer)'!D17:AH17,3))","v":{"$error":"#N/A"}},{"$f":"IF(N9<1,#N/A,COUNTIF('A) Eingabe (Lehrer)'!D17:AH17,4))","v":{"$error":"#N/A"}},{"$f":"IF('A) Eingabe (Lehrer)'!C17=\"\", #N/A, 'A) Eingabe (Lehrer)'!C17)","v":{"$error":"#N/A"}}]
[{"$f":"FragenErstellen!A14","v":8},{"$f":"IF($E10=0, #N/A,AVERAGE('A) Eingabe (Schüler)'!C18:AH18))","v":{"$error":"#N/A"}},{"$f":"IF(E10<2, #N/A, STDEVP('A) Eingabe (Schüler)'!C18:AH18))","v":{"$error":"#N/A"}},{"$error":"#N/A"},{"$f":"COUNT('A) Eingabe (Schüler)'!C18:AH18)","v":0},{"$f":"IF(E10<2,#N/A,COUNTIF('A) Eingabe (Schüler)'!C18:AH18,1))","v":{"$error":"#N/A"}},{"$f":"IF(E10<2,#N/A,COUNTIF('A) Eingabe (Schüler)'!C18:AH18,2))","v":{"$error":"#N/A"}},{"$f":"IF(E10<2,#N/A,COUNTIF('A) Eingabe (Schüler)'!C18:AH18,3))","v":{"$error":"#N/A"}},{"$f":"IF(E10<2,#N/A,COUNTIF('A) Eingabe (Schüler)'!C18:AH18,4))","v":{"$error":"#N/A"}},{"$f":"IF('A) Eingabe (Lehrer)'!C18=\"\", #N/A, 'A) Eingabe (Lehrer)'!C18)","v":{"$error":"#N/A"}},{"$f":"IF(N10=0, #N/A,AVERAGE('A) Eingabe (Lehrer)'!D18:AH18))","v":{"$error":"#N/A"}},{"$f":"IF(N10<1, #N/A, STDEVP('A) Eingabe (Lehrer)'!D18:AH18))","v":{"$error":"#N/A"}},{"$error":"#N/A"},{"$f":"COUNT('A) Eingabe (Lehrer)'!D18:AH18)","v":0},{"$f":"IF(N10<1,#N/A,COUNTIF('A) Eingabe (Lehrer)'!D18:AH18,1))","v":{"$error":"#N/A"}},{"$f":"IF(N10<1,#N/A,COUNTIF('A) Eingabe (Lehrer)'!D18:AH18,2))","v":{"$error":"#N/A"}},{"$f":"IF(N10<1,#N/A,COUNTIF('A) Eingabe (Lehrer)'!D18:AH18,3))","v":{"$error":"#N/A"}},{"$f":"IF(N10<1,#N/A,COUNTIF('A) Eingabe (Lehrer)'!D18:AH18,4))","v":{"$error":"#N/A"}},{"$f":"IF('A) Eingabe (Lehrer)'!C18=\"\", #N/A, 'A) Eingabe (Lehrer)'!C18)","v":{"$error":"#N/A"}}]
[{"$f":"FragenErstellen!A15","v":9},{"$f":"IF($E11=0, #N/A,AVERAGE('A) Eingabe (Schüler)'!C19:AH19))","v":{"$error":"#N/A"}},{"$f":"IF(E11<2, #N/A, STDEVP('A) Eingabe (Schüler)'!C19:AH19))","v":{"$error":"#N/A"}},{"$error":"#N/A"},{"$f":"COUNT('A) Eingabe (Schüler)'!C19:AH19)","v":0},{"$f":"IF(E11<2,#N/A,COUNTIF('A) Eingabe (Schüler)'!C19:AH19,1))","v":{"$error":"#N/A"}},{"$f":"IF(E11<2,#N/A,COUNTIF('A) Eingabe (Schüler)'!C19:AH19,2))","v":{"$error":"#N/A"}},{"$f":"IF(E11<2,#N/A,COUNTIF('A) Eingabe (Schüler)'!C19:AH19,3))","v":{"$error":"#N/A"}},{"$f":"IF(E11<2,#N/A,COUNTIF('A) Eingabe (Schüler)'!C19:AH19,4))","v":{"$error":"#N/A"}},{"$f":"IF('A) Eingabe (Lehrer)'!C19=\"\", #N/A, 'A) Eingabe (Lehrer)'!C19)","v":{"$error":"#N/A"}},{"$f":"IF(N11=0, #N/A,AVERAGE('A) Eingabe (Lehrer)'!D19:AH19))","v":{"$error":"#N/A"}},{"$f":"IF(N11<1, #N/A, STDEVP('A) Eingabe (Lehrer)'!D19:AH19))","v":{"$error":"#N/A"}},{"$error":"#N/A"},{"$f":"COUNT('A) Eingabe (Lehrer)'!D19:AH19)","v":0},{"$f":"IF(N11<1,#N/A,COUNTIF('A) Eingabe (Lehrer)'!D19:AH19,1))","v":{"$error":"#N/A"}},{"$f":"IF(N11<1,#N/A,COUNTIF('A) Eingabe (Lehrer)'!D19:AH19,2))","v":{"$error":"#N/A"}},{"$f":"IF(N11<1,#N/A,COUNTIF('A) Eingabe (Lehrer)'!D19:AH19,3))","v":{"$error":"#N/A"}},{"$f":"IF(N11<1,#N/A,COUNTIF('A) Eingabe (Lehrer)'!D19:AH19,4))","v":{"$error":"#N/A"}},{"$f":"IF('A) Eingabe (Lehrer)'!C19=\"\", #N/A, 'A) Eingabe (Lehrer)'!C19)","v":{"$error":"#N/A"}}]
[{"$f":"FragenErstellen!A16","v":10},{"$f":"IF($E12=0, #N/A,AVERAGE('A) Eingabe (Schüler)'!C20:AH20))","v":{"$error":"#N/A"}},{"$f":"IF(E12<2, #N/A, STDEVP('A) Eingabe (Schüler)'!C20:AH20))","v":{"$error":"#N/A"}},{"$error":"#N/A"},{"$f":"COUNT('A) Eingabe (Schüler)'!C20:AH20)","v":0},{"$f":"IF(E12<2,#N/A,COUNTIF('A) Eingabe (Schüler)'!C20:AH20,1))","v":{"$error":"#N/A"}},{"$f":"IF(E12<2,#N/A,COUNTIF('A) Eingabe (Schüler)'!C20:AH20,2))","v":{"$error":"#N/A"}},{"$f":"IF(E12<2,#N/A,COUNTIF('A) Eingabe (Schüler)'!C20:AH20,3))","v":{"$error":"#N/A"}},{"$f":"IF(E12<2,#N/A,COUNTIF('A) Eingabe (Schüler)'!C20:AH20,4))","v":{"$error":"#N/A"}},{"$f":"IF('A) Eingabe (Lehrer)'!C20=\"\", #N/A, 'A) Eingabe (Lehrer)'!C20)","v":{"$error":"#N/A"}},{"$f":"IF(N12=0, #N/A,AVERAGE('A) Eingabe (Lehrer)'!D20:AH20))","v":{"$error":"#N/A"}},{"$f":"IF(N12<1, #N/A, STDEVP('A) Eingabe (Lehrer)'!D20:AH20))","v":{"$error":"#N/A"}},{"$error":"#N/A"},{"$f":"COUNT('A) Eingabe (Lehrer)'!D20:AH20)","v":0},{"$f":"IF(N12<1,#N/A,COUNTIF('A) Eingabe (Lehrer)'!D20:AH20,1))","v":{"$error":"#N/A"}},{"$f":"IF(N12<1,#N/A,COUNTIF('A) Eingabe (Lehrer)'!D20:AH20,2))","v":{"$error":"#N/A"}},{"$f":"IF(N12<1,#N/A,COUNTIF('A) Eingabe (Lehrer)'!D20:AH20,3))","v":{"$error":"#N/A"}},{"$f":"IF(N12<1,#N/A,COUNTIF('A) Eingabe (Lehrer)'!D20:AH20,4))","v":{"$error":"#N/A"}},{"$f":"IF('A) Eingabe (Lehrer)'!C20=\"\", #N/A, 'A) Eingabe (Lehrer)'!C20)","v":{"$error":"#N/A"}}," "," "," "," "," "," "," "," "," "," "," "," "," "," "," "]
[{"$f":"FragenErstellen!A17","v":11},{"$f":"IF($E13=0, #N/A,AVERAGE('A) Eingabe (Schüler)'!C21:AH21))","v":{"$error":"#N/A"}},{"$f":"IF(E13<2, #N/A, STDEVP('A) Eingabe (Schüler)'!C21:AH21))","v":{"$error":"#N/A"}},{"$error":"#N/A"},{"$f":"COUNT('A) Eingabe (Schüler)'!C21:AH21)","v":0},{"$f":"IF(E13<2,#N/A,COUNTIF('A) Eingabe (Schüler)'!C21:AH21,1))","v":{"$error":"#N/A"}},{"$f":"IF(E13<2,#N/A,COUNTIF('A) Eingabe (Schüler)'!C21:AH21,2))","v":{"$error":"#N/A"}},{"$f":"IF(E13<2,#N/A,COUNTIF('A) Eingabe (Schüler)'!C21:AH21,3))","v":{"$error":"#N/A"}},{"$f":"IF(E13<2,#N/A,COUNTIF('A) Eingabe (Schüler)'!C21:AH21,4))","v":{"$error":"#N/A"}},{"$f":"IF('A) Eingabe (Lehrer)'!C21=\"\", #N/A, 'A) Eingabe (Lehrer)'!C21)","v":{"$error":"#N/A"}},{"$f":"IF(N13=0, #N/A,AVERAGE('A) Eingabe (Lehrer)'!D21:AH21))","v":{"$error":"#N/A"}},{"$f":"IF(N13<1, #N/A, STDEVP('A) Eingabe (Lehrer)'!D21:AH21))","v":{"$error":"#N/A"}},{"$error":"#N/A"},{"$f":"COUNT('A) Eingabe (Lehrer)'!D21:AH21)","v":0},{"$f":"IF(N13<1,#N/A,COUNTIF('A) Eingabe (Lehrer)'!D21:AH21,1))","v":{"$error":"#N/A"}},{"$f":"IF(N13<1,#N/A,COUNTIF('A) Eingabe (Lehrer)'!D21:AH21,2))","v":{"$error":"#N/A"}},{"$f":"IF(N13<1,#N/A,COUNTIF('A) Eingabe (Lehrer)'!D21:AH21,3))","v":{"$error":"#N/A"}},{"$f":"IF(N13<1,#N/A,COUNTIF('A) Eingabe (Lehrer)'!D21:AH21,4))","v":{"$error":"#N/A"}},{"$f":"IF('A) Eingabe (Lehrer)'!C21=\"\", #N/A, 'A) Eingabe (Lehrer)'!C21)","v":{"$error":"#N/A"}}," "," "," "," "," "," "," "," "," "," "," "," "," "," "," "]
[{"$f":"FragenErstellen!A18","v":12},{"$f":"IF($E14=0, #N/A,AVERAGE('A) Eingabe (Schüler)'!C22:AH22))","v":{"$error":"#N/A"}},{"$f":"IF(E14<2, #N/A, STDEVP('A) Eingabe (Schüler)'!C22:AH22))","v":{"$error":"#N/A"}},{"$error":"#N/A"},{"$f":"COUNT('A) Eingabe (Schüler)'!C22:AH22)","v":0},{"$f":"IF(E14<2,#N/A,COUNTIF('A) Eingabe (Schüler)'!C22:AH22,1))","v":{"$error":"#N/A"}},{"$f":"IF(E14<2,#N/A,COUNTIF('A) Eingabe (Schüler)'!C22:AH22,2))","v":{"$error":"#N/A"}},{"$f":"IF(E14<2,#N/A,COUNTIF('A) Eingabe (Schüler)'!C22:AH22,3))","v":{"$error":"#N/A"}},{"$f":"IF(E14<2,#N/A,COUNTIF('A) Eingabe (Schüler)'!C22:AH22,4))","v":{"$error":"#N/A"}},{"$f":"IF('A) Eingabe (Lehrer)'!C22=\"\", #N/A, 'A) Eingabe (Lehrer)'!C22)","v":{"$error":"#N/A"}},{"$f":"IF(N14=0, #N/A,AVERAGE('A) Eingabe (Lehrer)'!D22:AH22))","v":{"$error":"#N/A"}},{"$f":"IF(N14<1, #N/A, STDEVP('A) Eingabe (Lehrer)'!D22:AH22))","v":{"$error":"#N/A"}},{"$error":"#N/A"},{"$f":"COUNT('A) Eingabe (Lehrer)'!D22:AH22)","v":0},{"$f":"IF(N14<1,#N/A,COUNTIF('A) Eingabe (Lehrer)'!D22:AH22,1))","v":{"$error":"#N/A"}},{"$f":"IF(N14<1,#N/A,COUNTIF('A) Eingabe (Lehrer)'!D22:AH22,2))","v":{"$error":"#N/A"}},{"$f":"IF(N14<1,#N/A,COUNTIF('A) Eingabe (Lehrer)'!D22:AH22,3))","v":{"$error":"#N/A"}},{"$f":"IF(N14<1,#N/A,COUNTIF('A) Eingabe (Lehrer)'!D22:AH22,4))","v":{"$error":"#N/A"}},{"$f":"IF('A) Eingabe (Lehrer)'!C22=\"\", #N/A, 'A) Eingabe (Lehrer)'!C22)","v":{"$error":"#N/A"}}," "," "," "," "," "," "," "," "," "," "," "," "," "," "," "]
[{"$f":"FragenErstellen!A19","v":13},{"$f":"IF($E15=0, #N/A,AVERAGE('A) Eingabe (Schüler)'!C23:AH23))","v":{"$error":"#N/A"}},{"$f":"IF(E15<2, #N/A, STDEVP('A) Eingabe (Schüler)'!C23:AH23))","v":{"$error":"#N/A"}},{"$error":"#N/A"},{"$f":"COUNT('A) Eingabe (Schüler)'!C23:AH23)","v":0},{"$f":"IF(E15<2,#N/A,COUNTIF('A) Eingabe (Schüler)'!C23:AH23,1))","v":{"$error":"#N/A"}},{"$f":"IF(E15<2,#N/A,COUNTIF('A) Eingabe (Schüler)'!C23:AH23,2))","v":{"$error":"#N/A"}},{"$f":"IF(E15<2,#N/A,COUNTIF('A) Eingabe (Schüler)'!C23:AH23,3))","v":{"$error":"#N/A"}},{"$f":"IF(E15<2,#N/A,COUNTIF('A) Eingabe (Schüler)'!C23:AH23,4))","v":{"$error":"#N/A"}},{"$f":"IF('A) Eingabe (Lehrer)'!C23=\"\", #N/A, 'A) Eingabe (Lehrer)'!C23)","v":{"$error":"#N/A"}},{"$f":"IF(N15=0, #N/A,AVERAGE('A) Eingabe (Lehrer)'!D23:AH23))","v":{"$error":"#N/A"}},{"$f":"IF(N15<1, #N/A, STDEVP('A) Eingabe (Lehrer)'!D23:AH23))","v":{"$error":"#N/A"}},{"$error":"#N/A"},{"$f":"COUNT('A) Eingabe (Lehrer)'!D23:AH23)","v":0},{"$f":"IF(N15<1,#N/A,COUNTIF('A) Eingabe (Lehrer)'!D23:AH23,1))","v":{"$error":"#N/A"}},{"$f":"IF(N15<1,#N/A,COUNTIF('A) Eingabe (Lehrer)'!D23:AH23,2))","v":{"$error":"#N/A"}},{"$f":"IF(N15<1,#N/A,COUNTIF('A) Eingabe (Lehrer)'!D23:AH23,3))","v":{"$error":"#N/A"}},{"$f":"IF(N15<1,#N/A,COUNTIF('A) Eingabe (Lehrer)'!D23:AH23,4))","v":{"$error":"#N/A"}},{"$f":"IF('A) Eingabe (Lehrer)'!C23=\"\", #N/A, 'A) Eingabe (Lehrer)'!C23)","v":{"$error":"#N/A"}}," "," "," "," "," "," "," "," "," "," "," "," "," "," "," "]
[{"$f":"FragenErstellen!A20","v":14},{"$f":"IF($E16=0, #N/A,AVERAGE('A) Eingabe (Schüler)'!C24:AH24))","v":{"$error":"#N/A"}},{"$f":"IF(E16<2, #N/A, STDEVP('A) Eingabe (Schüler)'!C24:AH24))","v":{"$error":"#N/A"}},{"$error":"#N/A"},{"$f":"COUNT('A) Eingabe (Schüler)'!C24:AH24)","v":0},{"$f":"IF(E16<2,#N/A,COUNTIF('A) Eingabe (Schüler)'!C24:AH24,1))","v":{"$error":"#N/A"}},{"$f":"IF(E16<2,#N/A,COUNTIF('A) Eingabe (Schüler)'!C24:AH24,2))","v":{"$error":"#N/A"}},{"$f":"IF(E16<2,#N/A,COUNTIF('A) Eingabe (Schüler)'!C24:AH24,3))","v":{"$error":"#N/A"}},{"$f":"IF(E16<2,#N/A,COUNTIF('A) Eingabe (Schüler)'!C24:AH24,4))","v":{"$error":"#N/A"}},{"$f":"IF('A) Eingabe (Lehrer)'!C24=\"\", #N/A, 'A) Eingabe (Lehrer)'!C24)","v":{"$error":"#N/A"}},{"$f":"IF(N16=0, #N/A,AVERAGE('A) Eingabe (Lehrer)'!D24:AH24))","v":{"$error":"#N/A"}},{"$f":"IF(N16<1, #N/A, STDEVP('A) Eingabe (Lehrer)'!D24:AH24))","v":{"$error":"#N/A"}},{"$error":"#N/A"},{"$f":"COUNT('A) Eingabe (Lehrer)'!D24:AH24)","v":0},{"$f":"IF(N16<1,#N/A,COUNTIF('A) Eingabe (Lehrer)'!D24:AH24,1))","v":{"$error":"#N/A"}},{"$f":"IF(N16<1,#N/A,COUNTIF('A) Eingabe (Lehrer)'!D24:AH24,2))","v":{"$error":"#N/A"}},{"$f":"IF(N16<1,#N/A,COUNTIF('A) Eingabe (Lehrer)'!D24:AH24,3))","v":{"$error":"#N/A"}},{"$f":"IF(N16<1,#N/A,COUNTIF('A) Eingabe (Lehrer)'!D24:AH24,4))","v":{"$error":"#N/A"}},{"$f":"IF('A) Eingabe (Lehrer)'!C24=\"\", #N/A, 'A) Eingabe (Lehrer)'!C24)","v":{"$error":"#N/A"}}," "," "," "," "," "," "," "," "," "," "," "," "," "," "," "]
[{"$f":"FragenErstellen!A21","v":15},{"$f":"IF($E17=0, #N/A,AVERAGE('A) Eingabe (Schüler)'!C25:AH25))","v":{"$error":"#N/A"}},{"$f":"IF(E17<2, #N/A, STDEVP('A) Eingabe (Schüler)'!C25:AH25))","v":{"$error":"#N/A"}},{"$error":"#N/A"},{"$f":"COUNT('A) Eingabe (Schüler)'!C25:AH25)","v":0},{"$f":"IF(E17<2,#N/A,COUNTIF('A) Eingabe (Schüler)'!C25:AH25,1))","v":{"$error":"#N/A"}},{"$f":"IF(E17<2,#N/A,COUNTIF('A) Eingabe (Schüler)'!C25:AH25,2))","v":{"$error":"#N/A"}},{"$f":"IF(E17<2,#N/A,COUNTIF('A) Eingabe (Schüler)'!C25:AH25,3))","v":{"$error":"#N/A"}},{"$f":"IF(E17<2,#N/A,COUNTIF('A) Eingabe (Schüler)'!C25:AH25,4))","v":{"$error":"#N/A"}},{"$f":"IF('A) Eingabe (Lehrer)'!C25=\"\", #N/A, 'A) Eingabe (Lehrer)'!C25)","v":{"$error":"#N/A"}},{"$f":"IF(N17=0, #N/A,AVERAGE('A) Eingabe (Lehrer)'!D25:AH25))","v":{"$error":"#N/A"}},{"$f":"IF(N17<1, #N/A, STDEVP('A) Eingabe (Lehrer)'!D25:AH25))","v":{"$error":"#N/A"}},{"$error":"#N/A"},{"$f":"COUNT('A) Eingabe (Lehrer)'!D25:AH25)","v":0},{"$f":"IF(N17<1,#N/A,COUNTIF('A) Eingabe (Lehrer)'!D25:AH25,1))","v":{"$error":"#N/A"}},{"$f":"IF(N17<1,#N/A,COUNTIF('A) Eingabe (Lehrer)'!D25:AH25,2))","v":{"$error":"#N/A"}},{"$f":"IF(N17<1,#N/A,COUNTIF('A) Eingabe (Lehrer)'!D25:AH25,3))","v":{"$error":"#N/A"}},{"$f":"IF(N17<1,#N/A,COUNTIF('A) Eingabe (Lehrer)'!D25:AH25,4))","v":{"$error":"#N/A"}},{"$f":"IF('A) Eingabe (Lehrer)'!C25=\"\", #N/A, 'A) Eingabe (Lehrer)'!C25)","v":{"$error":"#N/A"}}," "," "," "," "," "," "," "," "," "," "," "," "," "," "," "]
[{"$f":"FragenErstellen!A22","v":16},{"$f":"IF($E18=0, #N/A,AVERAGE('A) Eingabe (Schüler)'!C26:AH26))","v":{"$error":"#N/A"}},{"$f":"IF(E18<2, #N/A, STDEVP('A) Eingabe (Schüler)'!C26:AH26))","v":{"$error":"#N/A"}},{"$error":"#N/A"},{"$f":"COUNT('A) Eingabe (Schüler)'!C26:AH26)","v":0},{"$f":"IF(E18<2,#N/A,COUNTIF('A) Eingabe (Schüler)'!C26:AH26,1))","v":{"$error":"#N/A"}},{"$f":"IF(E18<2,#N/A,COUNTIF('A) Eingabe (Schüler)'!C26:AH26,2))","v":{"$error":"#N/A"}},{"$f":"IF(E18<2,#N/A,COUNTIF('A) Eingabe (Schüler)'!C26:AH26,3))","v":{"$error":"#N/A"}},{"$f":"IF(E18<2,#N/A,COUNTIF('A) Eingabe (Schüler)'!C26:AH26,4))","v":{"$error":"#N/A"}},{"$f":"IF('A) Eingabe (Lehrer)'!C26=\"\", #N/A, 'A) Eingabe (Lehrer)'!C26)","v":{"$error":"#N/A"}},{"$f":"IF(N18=0, #N/A,AVERAGE('A) Eingabe (Lehrer)'!D26:AH26))","v":{"$error":"#N/A"}},{"$f":"IF(N18<1, #N/A, STDEVP('A) Eingabe (Lehrer)'!D26:AH26))","v":{"$error":"#N/A"}},{"$error":"#N/A"},{"$f":"COUNT('A) Eingabe (Lehrer)'!D26:AH26)","v":0},{"$f":"IF(N18<1,#N/A,COUNTIF('A) Eingabe (Lehrer)'!D26:AH26,1))","v":{"$error":"#N/A"}},{"$f":"IF(N18<1,#N/A,COUNTIF('A) Eingabe (Lehrer)'!D26:AH26,2))","v":{"$error":"#N/A"}},{"$f":"IF(N18<1,#N/A,COUNTIF('A) Eingabe (Lehrer)'!D26:AH26,3))","v":{"$error":"#N/A"}},{"$f":"IF(N18<1,#N/A,COUNTIF('A) Eingabe (Lehrer)'!D26:AH26,4))","v":{"$error":"#N/A"}},{"$f":"IF('A) Eingabe (Lehrer)'!C26=\"\", #N/A, 'A) Eingabe (Lehrer)'!C26)","v":{"$error":"#N/A"}}," "," "," "," "," "," "," "," "," "," "," "," "," "," "," "]
[{"$f":"FragenErstellen!A23","v":17},{"$f":"IF($E19=0, #N/A,AVERAGE('A) Eingabe (Schüler)'!C27:AH27))","v":{"$error":"#N/A"}},{"$f":"IF(E19<2, #N/A, STDEVP('A) Eingabe (Schüler)'!C27:AH27))","v":{"$error":"#N/A"}},{"$error":"#N/A"},{"$f":"COUNT('A) Eingabe (Schüler)'!C27:AH27)","v":0},{"$f":"IF(E19<2,#N/A,COUNTIF('A) Eingabe (Schüler)'!C27:AH27,1))","v":{"$error":"#N/A"}},{"$f":"IF(E19<2,#N/A,COUNTIF('A) Eingabe (Schüler)'!C27:AH27,2))","v":{"$error":"#N/A"}},{"$f":"IF(E19<2,#N/A,COUNTIF('A) Eingabe (Schüler)'!C27:AH27,3))","v":{"$error":"#N/A"}},{"$f":"IF(E19<2,#N/A,COUNTIF('A) Eingabe (Schüler)'!C27:AH27,4))","v":{"$error":"#N/A"}},{"$f":"IF('A) Eingabe (Lehrer)'!C27=\"\", #N/A, 'A) Eingabe (Lehrer)'!C27)","v":{"$error":"#N/A"}},{"$f":"IF(N19=0, #N/A,AVERAGE('A) Eingabe (Lehrer)'!D27:AH27))","v":{"$error":"#N/A"}},{"$f":"IF(N19<1, #N/A, STDEVP('A) Eingabe (Lehrer)'!D27:AH27))","v":{"$error":"#N/A"}},{"$error":"#N/A"},{"$f":"COUNT('A) Eingabe (Lehrer)'!D27:AH27)","v":0},{"$f":"IF(N19<1,#N/A,COUNTIF('A) Eingabe (Lehrer)'!D27:AH27,1))","v":{"$error":"#N/A"}},{"$f":"IF(N19<1,#N/A,COUNTIF('A) Eingabe (Lehrer)'!D27:AH27,2))","v":{"$error":"#N/A"}},{"$f":"IF(N19<1,#N/A,COUNTIF('A) Eingabe (Lehrer)'!D27:AH27,3))","v":{"$error":"#N/A"}},{"$f":"IF(N19<1,#N/A,COUNTIF('A) Eingabe (Lehrer)'!D27:AH27,4))","v":{"$error":"#N/A"}},{"$f":"IF('A) Eingabe (Lehrer)'!C27=\"\", #N/A, 'A) Eingabe (Lehrer)'!C27)","v":{"$error":"#N/A"}}," "," "," "," "," "," "," "," "," "," "," "," "," "," "," "]
[{"$f":"FragenErstellen!A24","v":18},{"$f":"IF($E20=0, #N/A,AVERAGE('A) Eingabe (Schüler)'!C28:AH28))","v":{"$error":"#N/A"}},{"$f":"IF(E20<2, #N/A, STDEVP('A) Eingabe (Schüler)'!C28:AH28))","v":{"$error":"#N/A"}},{"$error":"#N/A"},{"$f":"COUNT('A) Eingabe (Schüler)'!C28:AH28)","v":0},{"$f":"IF(E20<2,#N/A,COUNTIF('A) Eingabe (Schüler)'!C28:AH28,1))","v":{"$error":"#N/A"}},{"$f":"IF(E20<2,#N/A,COUNTIF('A) Eingabe (Schüler)'!C28:AH28,2))","v":{"$error":"#N/A"}},{"$f":"IF(E20<2,#N/A,COUNTIF('A) Eingabe (Schüler)'!C28:AH28,3))","v":{"$error":"#N/A"}},{"$f":"IF(E20<2,#N/A,COUNTIF('A) Eingabe (Schüler)'!C28:AH28,4))","v":{"$error":"#N/A"}},{"$f":"IF('A) Eingabe (Lehrer)'!C28=\"\", #N/A, 'A) Eingabe (Lehrer)'!C28)","v":{"$error":"#N/A"}},{"$f":"IF(N20=0, #N/A,AVERAGE('A) Eingabe (Lehrer)'!D28:AH28))","v":{"$error":"#N/A"}},{"$f":"IF(N20<1, #N/A, STDEVP('A) Eingabe (Lehrer)'!D28:AH28))","v":{"$error":"#N/A"}},{"$error":"#N/A"},{"$f":"COUNT('A) Eingabe (Lehrer)'!D28:AH28)","v":0},{"$f":"IF(N20<1,#N/A,COUNTIF('A) Eingabe (Lehrer)'!D28:AH28,1))","v":{"$error":"#N/A"}},{"$f":"IF(N20<1,#N/A,COUNTIF('A) Eingabe (Lehrer)'!D28:AH28,2))","v":{"$error":"#N/A"}},{"$f":"IF(N20<1,#N/A,COUNTIF('A) Eingabe (Lehrer)'!D28:AH28,3))","v":{"$error":"#N/A"}},{"$f":"IF(N20<1,#N/A,COUNTIF('A) Eingabe (Lehrer)'!D28:AH28,4))","v":{"$error":"#N/A"}},{"$f":"IF('A) Eingabe (Lehrer)'!C28=\"\", #N/A, 'A) Eingabe (Lehrer)'!C28)","v":{"$error":"#N/A"}}," "," "," "," "," "," "," "," "," "," "," "," "," "," "," "]
[{"$f":"FragenErstellen!A25","v":19},{"$f":"IF($E21=0, #N/A,AVERAGE('A) Eingabe (Schüler)'!C29:AH29))","v":{"$error":"#N/A"}},{"$f":"IF(E21<2, #N/A, STDEVP('A) Eingabe (Schüler)'!C29:AH29))","v":{"$error":"#N/A"}},{"$error":"#N/A"},{"$f":"COUNT('A) Eingabe (Schüler)'!C29:AH29)","v":0},{"$f":"IF(E21<2,#N/A,COUNTIF('A) Eingabe (Schüler)'!C29:AH29,1))","v":{"$error":"#N/A"}},{"$f":"IF(E21<2,#N/A,COUNTIF('A) Eingabe (Schüler)'!C29:AH29,2))","v":{"$error":"#N/A"}},{"$f":"IF(E21<2,#N/A,COUNTIF('A) Eingabe (Schüler)'!C29:AH29,3))","v":{"$error":"#N/A"}},{"$f":"IF(E21<2,#N/A,COUNTIF('A) Eingabe (Schüler)'!C29:AH29,4))","v":{"$error":"#N/A"}},{"$f":"IF('A) Eingabe (Lehrer)'!C29=\"\", #N/A, 'A) Eingabe (Lehrer)'!C29)","v":{"$error":"#N/A"}},{"$f":"IF(N21=0, #N/A,AVERAGE('A) Eingabe (Lehrer)'!D29:AH29))","v":{"$error":"#N/A"}},{"$f":"IF(N21<1, #N/A, STDEVP('A) Eingabe (Lehrer)'!D29:AH29))","v":{"$error":"#N/A"}},{"$error":"#N/A"},{"$f":"COUNT('A) Eingabe (Lehrer)'!D29:AH29)","v":0},{"$f":"IF(N21<1,#N/A,COUNTIF('A) Eingabe (Lehrer)'!D29:AH29,1))","v":{"$error":"#N/A"}},{"$f":"IF(N21<1,#N/A,COUNTIF('A) Eingabe (Lehrer)'!D29:AH29,2))","v":{"$error":"#N/A"}},{"$f":"IF(N21<1,#N/A,COUNTIF('A) Eingabe (Lehrer)'!D29:AH29,3))","v":{"$error":"#N/A"}},{"$f":"IF(N21<1,#N/A,COUNTIF('A) Eingabe (Lehrer)'!D29:AH29,4))","v":{"$error":"#N/A"}},{"$f":"IF('A) Eingabe (Lehrer)'!C29=\"\", #N/A, 'A) Eingabe (Lehrer)'!C29)","v":{"$error":"#N/A"}}," "," "," "," "," "," "," "," "," "," "," "," "," "," "," "]
[{"$f":"FragenErstellen!A26","v":20},{"$f":"IF($E22=0, #N/A,AVERAGE('A) Eingabe (Schüler)'!C30:AH30))","v":{"$error":"#N/A"}},{"$f":"IF(E22<2, #N/A, STDEVP('A) Eingabe (Schüler)'!C30:AH30))","v":{"$error":"#N/A"}},{"$error":"#N/A"},{"$f":"COUNT('A) Eingabe (Schüler)'!C30:AH30)","v":0},{"$f":"IF(E22<2,#N/A,COUNTIF('A) Eingabe (Schüler)'!C30:AH30,1))","v":{"$error":"#N/A"}},{"$f":"IF(E22<2,#N/A,COUNTIF('A) Eingabe (Schüler)'!C30:AH30,2))","v":{"$error":"#N/A"}},{"$f":"IF(E22<2,#N/A,COUNTIF('A) Eingabe (Schüler)'!C30:AH30,3))","v":{"$error":"#N/A"}},{"$f":"IF(E22<2,#N/A,COUNTIF('A) Eingabe (Schüler)'!C30:AH30,4))","v":{"$error":"#N/A"}},{"$f":"IF('A) Eingabe (Lehrer)'!C30=\"\", #N/A, 'A) Eingabe (Lehrer)'!C30)","v":{"$error":"#N/A"}},{"$f":"IF(N22=0, #N/A,AVERAGE('A) Eingabe (Lehrer)'!D30:AH30))","v":{"$error":"#N/A"}},{"$f":"IF(N22<1, #N/A, STDEVP('A) Eingabe (Lehrer)'!D30:AH30))","v":{"$error":"#N/A"}},{"$error":"#N/A"},{"$f":"COUNT('A) Eingabe (Lehrer)'!D30:AH30)","v":0},{"$f":"IF(N22<1,#N/A,COUNTIF('A) Eingabe (Lehrer)'!D30:AH30,1))","v":{"$error":"#N/A"}},{"$f":"IF(N22<1,#N/A,COUNTIF('A) Eingabe (Lehrer)'!D30:AH30,2))","v":{"$error":"#N/A"}},{"$f":"IF(N22<1,#N/A,COUNTIF('A) Eingabe (Lehrer)'!D30:AH30,3))","v":{"$error":"#N/A"}},{"$f":"IF(N22<1,#N/A,COUNTIF('A) Eingabe (Lehrer)'!D30:AH30,4))","v":{"$error":"#N/A"}},{"$f":"IF('A) Eingabe (Lehrer)'!C30=\"\", #N/A, 'A) Eingabe (Lehrer)'!C30)","v":{"$error":"#N/A"}}," "," "," "," "," "," "," "," "," "," "," "," "," "," "," "]
[{"$f":"FragenErstellen!A27","v":21},{"$f":"IF($E23=0, #N/A,AVERAGE('A) Eingabe (Schüler)'!C31:AH31))","v":{"$error":"#N/A"}},{"$f":"IF(E23<2, #N/A, STDEVP('A) Eingabe (Schüler)'!C31:AH31))","v":{"$error":"#N/A"}},{"$error":"#N/A"},{"$f":"COUNT('A) Eingabe (Schüler)'!C31:AH31)","v":0},{"$f":"IF(E23<2,#N/A,COUNTIF('A) Eingabe (Schüler)'!C31:AH31,1))","v":{"$error":"#N/A"}},{"$f":"IF(E23<2,#N/A,COUNTIF('A) Eingabe (Schüler)'!C31:AH31,2))","v":{"$error":"#N/A"}},{"$f":"IF(E23<2,#N/A,COUNTIF('A) Eingabe (Schüler)'!C31:AH31,3))","v":{"$error":"#N/A"}},{"$f":"IF(E23<2,#N/A,COUNTIF('A) Eingabe (Schüler)'!C31:AH31,4))","v":{"$error":"#N/A"}},{"$f":"IF('A) Eingabe (Lehrer)'!C31=\"\", #N/A, 'A) Eingabe (Lehrer)'!C31)","v":{"$error":"#N/A"}},{"$f":"IF(N23=0, #N/A,AVERAGE('A) Eingabe (Lehrer)'!D31:AH31))","v":{"$error":"#N/A"}},{"$f":"IF(N23<1, #N/A, STDEVP('A) Eingabe (Lehrer)'!D31:AH31))","v":{"$error":"#N/A"}},{"$error":"#N/A"},{"$f":"COUNT('A) Eingabe (Lehrer)'!D31:AH31)","v":0},{"$f":"IF(N23<1,#N/A,COUNTIF('A) Eingabe (Lehrer)'!D31:AH31,1))","v":{"$error":"#N/A"}},{"$f":"IF(N23<1,#N/A,COUNTIF('A) Eingabe (Lehrer)'!D31:AH31,2))","v":{"$error":"#N/A"}},{"$f":"IF(N23<1,#N/A,COUNTIF('A) Eingabe (Lehrer)'!D31:AH31,3))","v":{"$error":"#N/A"}},{"$f":"IF(N23<1,#N/A,COUNTIF('A) Eingabe (Lehrer)'!D31:AH31,4))","v":{"$error":"#N/A"}},{"$f":"IF('A) Eingabe (Lehrer)'!C31=\"\", #N/A, 'A) Eingabe (Lehrer)'!C31)","v":{"$error":"#N/A"}}," "," "," "," "," "," "," "," "," "," "," "," "," "," "," "]
[{"$f":"FragenErstellen!A28","v":22},{"$f":"IF($E24=0, #N/A,AVERAGE('A) Eingabe (Schüler)'!C32:AH32))","v":{"$error":"#N/A"}},{"$f":"IF(E24<2, #N/A, STDEVP('A) Eingabe (Schüler)'!C32:AH32))","v":{"$error":"#N/A"}},{"$error":"#N/A"},{"$f":"COUNT('A) Eingabe (Schüler)'!C32:AH32)","v":0},{"$f":"IF(E24<2,#N/A,COUNTIF('A) Eingabe (Schüler)'!C32:AH32,1))","v":{"$error":"#N/A"}},{"$f":"IF(E24<2,#N/A,COUNTIF('A) Eingabe (Schüler)'!C32:AH32,2))","v":{"$error":"#N/A"}},{"$f":"IF(E24<2,#N/A,COUNTIF('A) Eingabe (Schüler)'!C32:AH32,3))","v":{"$error":"#N/A"}},{"$f":"IF(E24<2,#N/A,COUNTIF('A) Eingabe (Schüler)'!C32:AH32,4))","v":{"$error":"#N/A"}},{"$f":"IF('A) Eingabe (Lehrer)'!C32=\"\", #N/A, 'A) Eingabe (Lehrer)'!C32)","v":{"$error":"#N/A"}},{"$f":"IF(N24=0, #N/A,AVERAGE('A) Eingabe (Lehrer)'!D32:AH32))","v":{"$error":"#N/A"}},{"$f":"IF(N24<1, #N/A, STDEVP('A) Eingabe (Lehrer)'!D32:AH32))","v":{"$error":"#N/A"}},{"$error":"#N/A"},{"$f":"COUNT('A) Eingabe (Lehrer)'!D32:AH32)","v":0},{"$f":"IF(N24<1,#N/A,COUNTIF('A) Eingabe (Lehrer)'!D32:AH32,1))","v":{"$error":"#N/A"}},{"$f":"IF(N24<1,#N/A,COUNTIF('A) Eingabe (Lehrer)'!D32:AH32,2))","v":{"$error":"#N/A"}},{"$f":"IF(N24<1,#N/A,COUNTIF('A) Eingabe (Lehrer)'!D32:AH32,3))","v":{"$error":"#N/A"}},{"$f":"IF(N24<1,#N/A,COUNTIF('A) Eingabe (Lehrer)'!D32:AH32,4))","v":{"$error":"#N/A"}},{"$f":"IF('A) Eingabe (Lehrer)'!C32=\"\", #N/A, 'A) Eingabe (Lehrer)'!C32)","v":{"$error":"#N/A"}}," "," "," "," "," "," "," "," "," "," "," "," "," "," "," "]
[{"$f":"FragenErstellen!A29","v":23},{"$f":"IF($E25=0, #N/A,AVERAGE('A) Eingabe (Schüler)'!C33:AH33))","v":{"$error":"#N/A"}},{"$f":"IF(E25<2, #N/A, STDEVP('A) Eingabe (Schüler)'!C33:AH33))","v":{"$error":"#N/A"}},{"$error":"#N/A"},{"$f":"COUNT('A) Eingabe (Schüler)'!C33:AH33)","v":0},{"$f":"IF(E25<2,#N/A,COUNTIF('A) Eingabe (Schüler)'!C33:AH33,1))","v":{"$error":"#N/A"}},{"$f":"IF(E25<2,#N/A,COUNTIF('A) Eingabe (Schüler)'!C33:AH33,2))","v":{"$error":"#N/A"}},{"$f":"IF(E25<2,#N/A,COUNTIF('A) Eingabe (Schüler)'!C33:AH33,3))","v":{"$error":"#N/A"}},{"$f":"IF(E25<2,#N/A,COUNTIF('A) Eingabe (Schüler)'!C33:AH33,4))","v":{"$error":"#N/A"}},{"$f":"IF('A) Eingabe (Lehrer)'!C33=\"\", #N/A, 'A) Eingabe (Lehrer)'!C33)","v":{"$error":"#N/A"}},{"$f":"IF(N25=0, #N/A,AVERAGE('A) Eingabe (Lehrer)'!D33:AH33))","v":{"$error":"#N/A"}},{"$f":"IF(N25<1, #N/A, STDEVP('A) Eingabe (Lehrer)'!D33:AH33))","v":{"$error":"#N/A"}},{"$error":"#N/A"},{"$f":"COUNT('A) Eingabe (Lehrer)'!D33:AH33)","v":0},{"$f":"IF(N25<1,#N/A,COUNTIF('A) Eingabe (Lehrer)'!D33:AH33,1))","v":{"$error":"#N/A"}},{"$f":"IF(N25<1,#N/A,COUNTIF('A) Eingabe (Lehrer)'!D33:AH33,2))","v":{"$error":"#N/A"}},{"$f":"IF(N25<1,#N/A,COUNTIF('A) Eingabe (Lehrer)'!D33:AH33,3))","v":{"$error":"#N/A"}},{"$f":"IF(N25<1,#N/A,COUNTIF('A) Eingabe (Lehrer)'!D33:AH33,4))","v":{"$error":"#N/A"}},{"$f":"IF('A) Eingabe (Lehrer)'!C33=\"\", #N/A, 'A) Eingabe (Lehrer)'!C33)","v":{"$error":"#N/A"}}," "," "," "," "," "," "," "," "," "," "," "," "," "," "," "]
[{"$f":"FragenErstellen!A30","v":24},{"$f":"IF($E26=0, #N/A,AVERAGE('A) Eingabe (Schüler)'!C34:AH34))","v":{"$error":"#N/A"}},{"$f":"IF(E26<2, #N/A, STDEVP('A) Eingabe (Schüler)'!C34:AH34))","v":{"$error":"#N/A"}},{"$error":"#N/A"},{"$f":"COUNT('A) Eingabe (Schüler)'!C34:AH34)","v":0},{"$f":"IF(E26<2,#N/A,COUNTIF('A) Eingabe (Schüler)'!C34:AH34,1))","v":{"$error":"#N/A"}},{"$f":"IF(E26<2,#N/A,COUNTIF('A) Eingabe (Schüler)'!C34:AH34,2))","v":{"$error":"#N/A"}},{"$f":"IF(E26<2,#N/A,COUNTIF('A) Eingabe (Schüler)'!C34:AH34,3))","v":{"$error":"#N/A"}},{"$f":"IF(E26<2,#N/A,COUNTIF('A) Eingabe (Schüler)'!C34:AH34,4))","v":{"$error":"#N/A"}},{"$f":"IF('A) Eingabe (Lehrer)'!C34=\"\", #N/A, 'A) Eingabe (Lehrer)'!C34)","v":{"$error":"#N/A"}},{"$f":"IF(N26=0, #N/A,AVERAGE('A) Eingabe (Lehrer)'!D34:AH34))","v":{"$error":"#N/A"}},{"$f":"IF(N26<1, #N/A, STDEVP('A) Eingabe (Lehrer)'!D34:AH34))","v":{"$error":"#N/A"}},{"$error":"#N/A"},{"$f":"COUNT('A) Eingabe (Lehrer)'!D34:AH34)","v":0},{"$f":"IF(N26<1,#N/A,COUNTIF('A) Eingabe (Lehrer)'!D34:AH34,1))","v":{"$error":"#N/A"}},{"$f":"IF(N26<1,#N/A,COUNTIF('A) Eingabe (Lehrer)'!D34:AH34,2))","v":{"$error":"#N/A"}},{"$f":"IF(N26<1,#N/A,COUNTIF('A) Eingabe (Lehrer)'!D34:AH34,3))","v":{"$error":"#N/A"}},{"$f":"IF(N26<1,#N/A,COUNTIF('A) Eingabe (Lehrer)'!D34:AH34,4))","v":{"$error":"#N/A"}},{"$f":"IF('A) Eingabe (Lehrer)'!C34=\"\", #N/A, 'A) Eingabe (Lehrer)'!C34)","v":{"$error":"#N/A"}}," "," "," "," "," "," "," "," "," "," "," "," "," "," "," "]
[{"$f":"FragenErstellen!A31","v":25},{"$f":"IF($E27=0, #N/A,AVERAGE('A) Eingabe (Schüler)'!C35:AH35))","v":{"$error":"#N/A"}},{"$f":"IF(E27<2, #N/A, STDEVP('A) Eingabe (Schüler)'!C35:AH35))","v":{"$error":"#N/A"}},{"$error":"#N/A"},{"$f":"COUNT('A) Eingabe (Schüler)'!C35:AH35)","v":0},{"$f":"IF(E27<2,#N/A,COUNTIF('A) Eingabe (Schüler)'!C35:AH35,1))","v":{"$error":"#N/A"}},{"$f":"IF(E27<2,#N/A,COUNTIF('A) Eingabe (Schüler)'!C35:AH35,2))","v":{"$error":"#N/A"}},{"$f":"IF(E27<2,#N/A,COUNTIF('A) Eingabe (Schüler)'!C35:AH35,3))","v":{"$error":"#N/A"}},{"$f":"IF(E27<2,#N/A,COUNTIF('A) Eingabe (Schüler)'!C35:AH35,4))","v":{"$error":"#N/A"}},{"$f":"IF('A) Eingabe (Lehrer)'!C35=\"\", #N/A, 'A) Eingabe (Lehrer)'!C35)","v":{"$error":"#N/A"}},{"$f":"IF(N27=0, #N/A,AVERAGE('A) Eingabe (Lehrer)'!D35:AH35))","v":{"$error":"#N/A"}},{"$f":"IF(N27<1, #N/A, STDEVP('A) Eingabe (Lehrer)'!D35:AH35))","v":{"$error":"#N/A"}},{"$error":"#N/A"},{"$f":"COUNT('A) Eingabe (Lehrer)'!D35:AH35)","v":0},{"$f":"IF(N27<1,#N/A,COUNTIF('A) Eingabe (Lehrer)'!D35:AH35,1))","v":{"$error":"#N/A"}},{"$f":"IF(N27<1,#N/A,COUNTIF('A) Eingabe (Lehrer)'!D35:AH35,2))","v":{"$error":"#N/A"}},{"$f":"IF(N27<1,#N/A,COUNTIF('A) Eingabe (Lehrer)'!D35:AH35,3))","v":{"$error":"#N/A"}},{"$f":"IF(N27<1,#N/A,COUNTIF('A) Eingabe (Lehrer)'!D35:AH35,4))","v":{"$error":"#N/A"}},{"$f":"IF('A) Eingabe (Lehrer)'!C35=\"\", #N/A, 'A) Eingabe (Lehrer)'!C35)","v":{"$error":"#N/A"}}," "," "," "," "," "," "," "," "," "," "," "," "," "," "," "]
[{"$f":"FragenErstellen!A32","v":26},{"$f":"IF($E28=0, #N/A,AVERAGE('A) Eingabe (Schüler)'!C36:AH36))","v":{"$error":"#N/A"}},{"$f":"IF(E28<2, #N/A, STDEVP('A) Eingabe (Schüler)'!C36:AH36))","v":{"$error":"#N/A"}},{"$error":"#N/A"},{"$f":"COUNT('A) Eingabe (Schüler)'!C36:AH36)","v":0},{"$f":"IF(E28<2,#N/A,COUNTIF('A) Eingabe (Schüler)'!C36:AH36,1))","v":{"$error":"#N/A"}},{"$f":"IF(E28<2,#N/A,COUNTIF('A) Eingabe (Schüler)'!C36:AH36,2))","v":{"$error":"#N/A"}},{"$f":"IF(E28<2,#N/A,COUNTIF('A) Eingabe (Schüler)'!C36:AH36,3))","v":{"$error":"#N/A"}},{"$f":"IF(E28<2,#N/A,COUNTIF('A) Eingabe (Schüler)'!C36:AH36,4))","v":{"$error":"#N/A"}},{"$f":"IF('A) Eingabe (Lehrer)'!C36=\"\", #N/A, 'A) Eingabe (Lehrer)'!C36)","v":{"$error":"#N/A"}},{"$f":"IF(N28=0, #N/A,AVERAGE('A) Eingabe (Lehrer)'!D36:AH36))","v":{"$error":"#N/A"}},{"$f":"IF(N28<1, #N/A, STDEVP('A) Eingabe (Lehrer)'!D36:AH36))","v":{"$error":"#N/A"}},{"$error":"#N/A"},{"$f":"COUNT('A) Eingabe (Lehrer)'!D36:AH36)","v":0},{"$f":"IF(N28<1,#N/A,COUNTIF('A) Eingabe (Lehrer)'!D36:AH36,1))","v":{"$error":"#N/A"}},{"$f":"IF(N28<1,#N/A,COUNTIF('A) Eingabe (Lehrer)'!D36:AH36,2))","v":{"$error":"#N/A"}},{"$f":"IF(N28<1,#N/A,COUNTIF('A) Eingabe (Lehrer)'!D36:AH36,3))","v":{"$error":"#N/A"}},{"$f":"IF(N28<1,#N/A,COUNTIF('A) Eingabe (Lehrer)'!D36:AH36,4))","v":{"$error":"#N/A"}},{"$f":"IF('A) Eingabe (Lehrer)'!C36=\"\", #N/A, 'A) Eingabe (Lehrer)'!C36)","v":{"$error":"#N/A"}}," "," "," "," "," "," "," "," "," "," "," "," "," "," "," "]
[{"$f":"FragenErstellen!A33","v":27},{"$f":"IF($E29=0, #N/A,AVERAGE('A) Eingabe (Schüler)'!C37:AH37))","v":{"$error":"#N/A"}},{"$f":"IF(E29<2, #N/A, STDEVP('A) Eingabe (Schüler)'!C37:AH37))","v":{"$error":"#N/A"}},{"$error":"#N/A"},{"$f":"COUNT('A) Eingabe (Schüler)'!C37:AH37)","v":0},{"$f":"IF(E29<2,#N/A,COUNTIF('A) Eingabe (Schüler)'!C37:AH37,1))","v":{"$error":"#N/A"}},{"$f":"IF(E29<2,#N/A,COUNTIF('A) Eingabe (Schüler)'!C37:AH37,2))","v":{"$error":"#N/A"}},{"$f":"IF(E29<2,#N/A,COUNTIF('A) Eingabe (Schüler)'!C37:AH37,3))","v":{"$error":"#N/A"}},{"$f":"IF(E29<2,#N/A,COUNTIF('A) Eingabe (Schüler)'!C37:AH37,4))","v":{"$error":"#N/A"}},{"$f":"IF('A) Eingabe (Lehrer)'!C37=\"\", #N/A, 'A) Eingabe (Lehrer)'!C37)","v":{"$error":"#N/A"}},{"$f":"IF(N29=0, #N/A,AVERAGE('A) Eingabe (Lehrer)'!D37:AH37))","v":{"$error":"#N/A"}},{"$f":"IF(N29<1, #N/A, STDEVP('A) Eingabe (Lehrer)'!D37:AH37))","v":{"$error":"#N/A"}},{"$error":"#N/A"},{"$f":"COUNT('A) Eingabe (Lehrer)'!D37:AH37)","v":0},{"$f":"IF(N29<1,#N/A,COUNTIF('A) Eingabe (Lehrer)'!D37:AH37,1))","v":{"$error":"#N/A"}},{"$f":"IF(N29<1,#N/A,COUNTIF('A) Eingabe (Lehrer)'!D37:AH37,2))","v":{"$error":"#N/A"}},{"$f":"IF(N29<1,#N/A,COUNTIF('A) Eingabe (Lehrer)'!D37:AH37,3))","v":{"$error":"#N/A"}},{"$f":"IF(N29<1,#N/A,COUNTIF('A) Eingabe (Lehrer)'!D37:AH37,4))","v":{"$error":"#N/A"}},{"$f":"IF('A) Eingabe (Lehrer)'!C37=\"\", #N/A, 'A) Eingabe (Lehrer)'!C37)","v":{"$error":"#N/A"}}," "," "," "," "," "," "," "," "," "," "," "," "," "," "," "]
[{"$f":"FragenErstellen!A34","v":28},{"$f":"IF($E30=0, #N/A,AVERAGE('A) Eingabe (Schüler)'!C38:AH38))","v":{"$error":"#N/A"}},{"$f":"IF(E30<2, #N/A, STDEVP('A) Eingabe (Schüler)'!C38:AH38))","v":{"$error":"#N/A"}},{"$error":"#N/A"},{"$f":"COUNT('A) Eingabe (Schüler)'!C38:AH38)","v":0},{"$f":"IF(E30<2,#N/A,COUNTIF('A) Eingabe (Schüler)'!C38:AH38,1))","v":{"$error":"#N/A"}},{"$f":"IF(E30<2,#N/A,COUNTIF('A) Eingabe (Schüler)'!C38:AH38,2))","v":{"$error":"#N/A"}},{"$f":"IF(E30<2,#N/A,COUNTIF('A) Eingabe (Schüler)'!C38:AH38,3))","v":{"$error":"#N/A"}},{"$f":"IF(E30<2,#N/A,COUNTIF('A) Eingabe (Schüler)'!C38:AH38,4))","v":{"$error":"#N/A"}},{"$f":"IF('A) Eingabe (Lehrer)'!C38=\"\", #N/A, 'A) Eingabe (Lehrer)'!C38)","v":{"$error":"#N/A"}},{"$f":"IF(N30=0, #N/A,AVERAGE('A) Eingabe (Lehrer)'!D38:AH38))","v":{"$error":"#N/A"}},{"$f":"IF(N30<1, #N/A, STDEVP('A) Eingabe (Lehrer)'!D38:AH38))","v":{"$error":"#N/A"}},{"$error":"#N/A"},{"$f":"COUNT('A) Eingabe (Lehrer)'!D38:AH38)","v":0},{"$f":"IF(N30<1,#N/A,COUNTIF('A) Eingabe (Lehrer)'!D38:AH38,1))","v":{"$error":"#N/A"}},{"$f":"IF(N30<1,#N/A,COUNTIF('A) Eingabe (Lehrer)'!D38:AH38,2))","v":{"$error":"#N/A"}},{"$f":"IF(N30<1,#N/A,COUNTIF('A) Eingabe (Lehrer)'!D38:AH38,3))","v":{"$error":"#N/A"}},{"$f":"IF(N30<1,#N/A,COUNTIF('A) Eingabe (Lehrer)'!D38:AH38,4))","v":{"$error":"#N/A"}},{"$f":"IF('A) Eingabe (Lehrer)'!C38=\"\", #N/A, 'A) Eingabe (Lehrer)'!C38)","v":{"$error":"#N/A"}}," "," "," "," "," "," "," "," "," "," "," "," "," "," "," "]
[{"$f":"FragenErstellen!A35","v":29},{"$f":"IF($E31=0, #N/A,AVERAGE('A) Eingabe (Schüler)'!C39:AH39))","v":{"$error":"#N/A"}},{"$f":"IF(E31<2, #N/A, STDEVP('A) Eingabe (Schüler)'!C39:AH39))","v":{"$error":"#N/A"}},{"$error":"#N/A"},{"$f":"COUNT('A) Eingabe (Schüler)'!C39:AH39)","v":0},{"$f":"IF(E31<2,#N/A,COUNTIF('A) Eingabe (Schüler)'!C39:AH39,1))","v":{"$error":"#N/A"}},{"$f":"IF(E31<2,#N/A,COUNTIF('A) Eingabe (Schüler)'!C39:AH39,2))","v":{"$error":"#N/A"}},{"$f":"IF(E31<2,#N/A,COUNTIF('A) Eingabe (Schüler)'!C39:AH39,3))","v":{"$error":"#N/A"}},{"$f":"IF(E31<2,#N/A,COUNTIF('A) Eingabe (Schüler)'!C39:AH39,4))","v":{"$error":"#N/A"}},{"$f":"IF('A) Eingabe (Lehrer)'!C39=\"\", #N/A, 'A) Eingabe (Lehrer)'!C39)","v":{"$error":"#N/A"}},{"$f":"IF(N31=0, #N/A,AVERAGE('A) Eingabe (Lehrer)'!D39:AH39))","v":{"$error":"#N/A"}},{"$f":"IF(N31<1, #N/A, STDEVP('A) Eingabe (Lehrer)'!D39:AH39))","v":{"$error":"#N/A"}},{"$error":"#N/A"},{"$f":"COUNT('A) Eingabe (Lehrer)'!D39:AH39)","v":0},{"$f":"IF(N31<1,#N/A,COUNTIF('A) Eingabe (Lehrer)'!D39:AH39,1))","v":{"$error":"#N/A"}},{"$f":"IF(N31<1,#N/A,COUNTIF('A) Eingabe (Lehrer)'!D39:AH39,2))","v":{"$error":"#N/A"}},{"$f":"IF(N31<1,#N/A,COUNTIF('A) Eingabe (Lehrer)'!D39:AH39,3))","v":{"$error":"#N/A"}},{"$f":"IF(N31<1,#N/A,COUNTIF('A) Eingabe (Lehrer)'!D39:AH39,4))","v":{"$error":"#N/A"}},{"$f":"IF('A) Eingabe (Lehrer)'!C39=\"\", #N/A, 'A) Eingabe (Lehrer)'!C39)","v":{"$error":"#N/A"}}," "," "," "," "," "," "," "," "," "," "," "," "," "," "," "]
[{"$f":"FragenErstellen!A36","v":30},{"$f":"IF($E32=0, #N/A,AVERAGE('A) Eingabe (Schüler)'!C40:AH40))","v":{"$error":"#N/A"}},{"$f":"IF(E32<2, #N/A, STDEVP('A) Eingabe (Schüler)'!C40:AH40))","v":{"$error":"#N/A"}},{"$error":"#N/A"},{"$f":"COUNT('A) Eingabe (Schüler)'!C40:AH40)","v":0},{"$f":"IF(E32<2,#N/A,COUNTIF('A) Eingabe (Schüler)'!C40:AH40,1))","v":{"$error":"#N/A"}},{"$f":"IF(E32<2,#N/A,COUNTIF('A) Eingabe (Schüler)'!C40:AH40,2))","v":{"$error":"#N/A"}},{"$f":"IF(E32<2,#N/A,COUNTIF('A) Eingabe (Schüler)'!C40:AH40,3))","v":{"$error":"#N/A"}},{"$f":"IF(E32<2,#N/A,COUNTIF('A) Eingabe (Schüler)'!C40:AH40,4))","v":{"$error":"#N/A"}},{"$f":"IF('A) Eingabe (Lehrer)'!C40=\"\", #N/A, 'A) Eingabe (Lehrer)'!C40)","v":{"$error":"#N/A"}},{"$f":"IF(N32=0, #N/A,AVERAGE('A) Eingabe (Lehrer)'!D40:AH40))","v":{"$error":"#N/A"}},{"$f":"IF(N32<1, #N/A, STDEVP('A) Eingabe (Lehrer)'!D40:AH40))","v":{"$error":"#N/A"}},{"$error":"#N/A"},{"$f":"COUNT('A) Eingabe (Lehrer)'!D40:AH40)","v":0},{"$f":"IF(N32<1,#N/A,COUNTIF('A) Eingabe (Lehrer)'!D40:AH40,1))","v":{"$error":"#N/A"}},{"$f":"IF(N32<1,#N/A,COUNTIF('A) Eingabe (Lehrer)'!D40:AH40,2))","v":{"$error":"#N/A"}},{"$f":"IF(N32<1,#N/A,COUNTIF('A) Eingabe (Lehrer)'!D40:AH40,3))","v":{"$error":"#N/A"}},{"$f":"IF(N32<1,#N/A,COUNTIF('A) Eingabe (Lehrer)'!D40:AH40,4))","v":{"$error":"#N/A"}},{"$f":"IF('A) Eingabe (Lehrer)'!C40=\"\", #N/A, 'A) Eingabe (Lehrer)'!C40)","v":{"$error":"#N/A"}}," "," "," "," "," "," "," "," "," "," "," "," "," "," "," "]
[{"$f":"FragenErstellen!A37","v":31},{"$f":"IF($E33=0, #N/A,AVERAGE('A) Eingabe (Schüler)'!C41:AH41))","v":{"$error":"#N/A"}},{"$f":"IF(E33<2, #N/A, STDEVP('A) Eingabe (Schüler)'!C41:AH41))","v":{"$error":"#N/A"}},{"$error":"#N/A"},{"$f":"COUNT('A) Eingabe (Schüler)'!C41:AH41)","v":0},{"$f":"IF(E33<2,#N/A,COUNTIF('A) Eingabe (Schüler)'!C41:AH41,1))","v":{"$error":"#N/A"}},{"$f":"IF(E33<2,#N/A,COUNTIF('A) Eingabe (Schüler)'!C41:AH41,2))","v":{"$error":"#N/A"}},{"$f":"IF(E33<2,#N/A,COUNTIF('A) Eingabe (Schüler)'!C41:AH41,3))","v":{"$error":"#N/A"}},{"$f":"IF(E33<2,#N/A,COUNTIF('A) Eingabe (Schüler)'!C41:AH41,4))","v":{"$error":"#N/A"}},{"$f":"IF('A) Eingabe (Lehrer)'!C41=\"\", #N/A, 'A) Eingabe (Lehrer)'!C41)","v":{"$error":"#N/A"}},{"$f":"IF(N33=0, #N/A,AVERAGE('A) Eingabe (Lehrer)'!D41:AH41))","v":{"$error":"#N/A"}},{"$f":"IF(N33<1, #N/A, STDEVP('A) Eingabe (Lehrer)'!D41:AH41))","v":{"$error":"#N/A"}},{"$error":"#N/A"},{"$f":"COUNT('A) Eingabe (Lehrer)'!D41:AH41)","v":0},{"$f":"IF(N33<1,#N/A,COUNTIF('A) Eingabe (Lehrer)'!D41:AH41,1))","v":{"$error":"#N/A"}},{"$f":"IF(N33<1,#N/A,COUNTIF('A) Eingabe (Lehrer)'!D41:AH41,2))","v":{"$error":"#N/A"}},{"$f":"IF(N33<1,#N/A,COUNTIF('A) Eingabe (Lehrer)'!D41:AH41,3))","v":{"$error":"#N/A"}},{"$f":"IF(N33<1,#N/A,COUNTIF('A) Eingabe (Lehrer)'!D41:AH41,4))","v":{"$error":"#N/A"}},{"$f":"IF('A) Eingabe (Lehrer)'!C41=\"\", #N/A, 'A) Eingabe (Lehrer)'!C41)","v":{"$error":"#N/A"}}," "," "," "," "," "," "," "," "," "," "," "," "," "," "," "]
[{"$f":"FragenErstellen!A38","v":32},{"$f":"IF($E34=0, #N/A,AVERAGE('A) Eingabe (Schüler)'!C42:AH42))","v":{"$error":"#N/A"}},{"$f":"IF(E34<2, #N/A, STDEVP('A) Eingabe (Schüler)'!C42:AH42))","v":{"$error":"#N/A"}},{"$error":"#N/A"},{"$f":"COUNT('A) Eingabe (Schüler)'!C42:AH42)","v":0},{"$f":"IF(E34<2,#N/A,COUNTIF('A) Eingabe (Schüler)'!C42:AH42,1))","v":{"$error":"#N/A"}},{"$f":"IF(E34<2,#N/A,COUNTIF('A) Eingabe (Schüler)'!C42:AH42,2))","v":{"$error":"#N/A"}},{"$f":"IF(E34<2,#N/A,COUNTIF('A) Eingabe (Schüler)'!C42:AH42,3))","v":{"$error":"#N/A"}},{"$f":"IF(E34<2,#N/A,COUNTIF('A) Eingabe (Schüler)'!C42:AH42,4))","v":{"$error":"#N/A"}},{"$f":"IF('A) Eingabe (Lehrer)'!C42=\"\", #N/A, 'A) Eingabe (Lehrer)'!C42)","v":{"$error":"#N/A"}},{"$f":"IF(N34=0, #N/A,AVERAGE('A) Eingabe (Lehrer)'!D42:AH42))","v":{"$error":"#N/A"}},{"$f":"IF(N34<1, #N/A, STDEVP('A) Eingabe (Lehrer)'!D42:AH42))","v":{"$error":"#N/A"}},{"$error":"#N/A"},{"$f":"COUNT('A) Eingabe (Lehrer)'!D42:AH42)","v":0},{"$f":"IF(N34<1,#N/A,COUNTIF('A) Eingabe (Lehrer)'!D42:AH42,1))","v":{"$error":"#N/A"}},{"$f":"IF(N34<1,#N/A,COUNTIF('A) Eingabe (Lehrer)'!D42:AH42,2))","v":{"$error":"#N/A"}},{"$f":"IF(N34<1,#N/A,COUNTIF('A) Eingabe (Lehrer)'!D42:AH42,3))","v":{"$error":"#N/A"}},{"$f":"IF(N34<1,#N/A,COUNTIF('A) Eingabe (Lehrer)'!D42:AH42,4))","v":{"$error":"#N/A"}},{"$f":"IF('A) Eingabe (Lehrer)'!C42=\"\", #N/A, 'A) Eingabe (Lehrer)'!C42)","v":{"$error":"#N/A"}}," "," "," "," "," "," "," "," "," "," "," "," "," "," "," "]
[{"$f":"FragenErstellen!A39","v":33},{"$f":"IF($E35=0, #N/A,AVERAGE('A) Eingabe (Schüler)'!C43:AH43))","v":{"$error":"#N/A"}},{"$f":"IF(E35<2, #N/A, STDEVP('A) Eingabe (Schüler)'!C43:AH43))","v":{"$error":"#N/A"}},{"$error":"#N/A"},{"$f":"COUNT('A) Eingabe (Schüler)'!C43:AH43)","v":0},{"$f":"IF(E35<2,#N/A,COUNTIF('A) Eingabe (Schüler)'!C43:AH43,1))","v":{"$error":"#N/A"}},{"$f":"IF(E35<2,#N/A,COUNTIF('A) Eingabe (Schüler)'!C43:AH43,2))","v":{"$error":"#N/A"}},{"$f":"IF(E35<2,#N/A,COUNTIF('A) Eingabe (Schüler)'!C43:AH43,3))","v":{"$error":"#N/A"}},{"$f":"IF(E35<2,#N/A,COUNTIF('A) Eingabe (Schüler)'!C43:AH43,4))","v":{"$error":"#N/A"}},{"$f":"IF('A) Eingabe (Lehrer)'!C43=\"\", #N/A, 'A) Eingabe (Lehrer)'!C43)","v":{"$error":"#N/A"}},{"$f":"IF(N35=0, #N/A,AVERAGE('A) Eingabe (Lehrer)'!D43:AH43))","v":{"$error":"#N/A"}},{"$f":"IF(N35<1, #N/A, STDEVP('A) Eingabe (Lehrer)'!D43:AH43))","v":{"$error":"#N/A"}},{"$error":"#N/A"},{"$f":"COUNT('A) Eingabe (Lehrer)'!D43:AH43)","v":0},{"$f":"IF(N35<1,#N/A,COUNTIF('A) Eingabe (Lehrer)'!D43:AH43,1))","v":{"$error":"#N/A"}},{"$f":"IF(N35<1,#N/A,COUNTIF('A) Eingabe (Lehrer)'!D43:AH43,2))","v":{"$error":"#N/A"}},{"$f":"IF(N35<1,#N/A,COUNTIF('A) Eingabe (Lehrer)'!D43:AH43,3))","v":{"$error":"#N/A"}},{"$f":"IF(N35<1,#N/A,COUNTIF('A) Eingabe (Lehrer)'!D43:AH43,4))","v":{"$error":"#N/A"}},{"$f":"IF('A) Eingabe (Lehrer)'!C43=\"\", #N/A, 'A) Eingabe (Lehrer)'!C43)","v":{"$error":"#N/A"}}," "," "," "," "," "," "," "," "," "," "," "," "," "," "," "]
[{"$f":"FragenErstellen!A40","v":34},{"$f":"IF($E36=0, #N/A,AVERAGE('A) Eingabe (Schüler)'!C44:AH44))","v":{"$error":"#N/A"}},{"$f":"IF(E36<2, #N/A, STDEVP('A) Eingabe (Schüler)'!C44:AH44))","v":{"$error":"#N/A"}},{"$error":"#N/A"},{"$f":"COUNT('A) Eingabe (Schüler)'!C44:AH44)","v":0},{"$f":"IF(E36<2,#N/A,COUNTIF('A) Eingabe (Schüler)'!C44:AH44,1))","v":{"$error":"#N/A"}},{"$f":"IF(E36<2,#N/A,COUNTIF('A) Eingabe (Schüler)'!C44:AH44,2))","v":{"$error":"#N/A"}},{"$f":"IF(E36<2,#N/A,COUNTIF('A) Eingabe (Schüler)'!C44:AH44,3))","v":{"$error":"#N/A"}},{"$f":"IF(E36<2,#N/A,COUNTIF('A) Eingabe (Schüler)'!C44:AH44,4))","v":{"$error":"#N/A"}},{"$f":"IF('A) Eingabe (Lehrer)'!C44=\"\", #N/A, 'A) Eingabe (Lehrer)'!C44)","v":{"$error":"#N/A"}},{"$f":"IF(N36=0, #N/A,AVERAGE('A) Eingabe (Lehrer)'!D44:AH44))","v":{"$error":"#N/A"}},{"$f":"IF(N36<1, #N/A, STDEVP('A) Eingabe (Lehrer)'!D44:AH44))","v":{"$error":"#N/A"}},{"$error":"#N/A"},{"$f":"COUNT('A) Eingabe (Lehrer)'!D44:AH44)","v":0},{"$f":"IF(N36<1,#N/A,COUNTIF('A) Eingabe (Lehrer)'!D44:AH44,1))","v":{"$error":"#N/A"}},{"$f":"IF(N36<1,#N/A,COUNTIF('A) Eingabe (Lehrer)'!D44:AH44,2))","v":{"$error":"#N/A"}},{"$f":"IF(N36<1,#N/A,COUNTIF('A) Eingabe (Lehrer)'!D44:AH44,3))","v":{"$error":"#N/A"}},{"$f":"IF(N36<1,#N/A,COUNTIF('A) Eingabe (Lehrer)'!D44:AH44,4))","v":{"$error":"#N/A"}},{"$f":"IF('A) Eingabe (Lehrer)'!C44=\"\", #N/A, 'A) Eingabe (Lehrer)'!C44)","v":{"$error":"#N/A"}}," "," "," "," "," "," "," "," "," "," "," "," "," "," "," "]
[{"$f":"FragenErstellen!A41","v":35},{"$f":"IF($E37=0, #N/A,AVERAGE('A) Eingabe (Schüler)'!C45:AH45))","v":{"$error":"#N/A"}},{"$f":"IF(E37<2, #N/A, STDEVP('A) Eingabe (Schüler)'!C45:AH45))","v":{"$error":"#N/A"}},{"$error":"#N/A"},{"$f":"COUNT('A) Eingabe (Schüler)'!C45:AH45)","v":0},{"$f":"IF(E37<2,#N/A,COUNTIF('A) Eingabe (Schüler)'!C45:AH45,1))","v":{"$error":"#N/A"}},{"$f":"IF(E37<2,#N/A,COUNTIF('A) Eingabe (Schüler)'!C45:AH45,2))","v":{"$error":"#N/A"}},{"$f":"IF(E37<2,#N/A,COUNTIF('A) Eingabe (Schüler)'!C45:AH45,3))","v":{"$error":"#N/A"}},{"$f":"IF(E37<2,#N/A,COUNTIF('A) Eingabe (Schüler)'!C45:AH45,4))","v":{"$error":"#N/A"}},{"$f":"IF('A) Eingabe (Lehrer)'!C45=\"\", #N/A, 'A) Eingabe (Lehrer)'!C45)","v":{"$error":"#N/A"}},{"$f":"IF(N37=0, #N/A,AVERAGE('A) Eingabe (Lehrer)'!D45:AH45))","v":{"$error":"#N/A"}},{"$f":"IF(N37<1, #N/A, STDEVP('A) Eingabe (Lehrer)'!D45:AH45))","v":{"$error":"#N/A"}},{"$error":"#N/A"},{"$f":"COUNT('A) Eingabe (Lehrer)'!D45:AH45)","v":0},{"$f":"IF(N37<1,#N/A,COUNTIF('A) Eingabe (Lehrer)'!D45:AH45,1))","v":{"$error":"#N/A"}},{"$f":"IF(N37<1,#N/A,COUNTIF('A) Eingabe (Lehrer)'!D45:AH45,2))","v":{"$error":"#N/A"}},{"$f":"IF(N37<1,#N/A,COUNTIF('A) Eingabe (Lehrer)'!D45:AH45,3))","v":{"$error":"#N/A"}},{"$f":"IF(N37<1,#N/A,COUNTIF('A) Eingabe (Lehrer)'!D45:AH45,4))","v":{"$error":"#N/A"}},{"$f":"IF('A) Eingabe (Lehrer)'!C45=\"\", #N/A, 'A) Eingabe (Lehrer)'!C45)","v":{"$error":"#N/A"}}]
[{"$f":"FragenErstellen!A42","v":36},{"$f":"IF($E38=0, #N/A,AVERAGE('A) Eingabe (Schüler)'!C46:AH46))","v":{"$error":"#N/A"}},{"$f":"IF(E38<2, #N/A, STDEVP('A) Eingabe (Schüler)'!C46:AH46))","v":{"$error":"#N/A"}},{"$error":"#N/A"},{"$f":"COUNT('A) Eingabe (Schüler)'!C46:AH46)","v":0},{"$f":"IF(E38<2,#N/A,COUNTIF('A) Eingabe (Schüler)'!C46:AH46,1))","v":{"$error":"#N/A"}},{"$f":"IF(E38<2,#N/A,COUNTIF('A) Eingabe (Schüler)'!C46:AH46,2))","v":{"$error":"#N/A"}},{"$f":"IF(E38<2,#N/A,COUNTIF('A) Eingabe (Schüler)'!C46:AH46,3))","v":{"$error":"#N/A"}},{"$f":"IF(E38<2,#N/A,COUNTIF('A) Eingabe (Schüler)'!C46:AH46,4))","v":{"$error":"#N/A"}},{"$f":"IF('A) Eingabe (Lehrer)'!C46=\"\", #N/A, 'A) Eingabe (Lehrer)'!C46)","v":{"$error":"#N/A"}},{"$f":"IF(N38=0, #N/A,AVERAGE('A) Eingabe (Lehrer)'!D46:AH46))","v":{"$error":"#N/A"}},{"$f":"IF(N38<1, #N/A, STDEVP('A) Eingabe (Lehrer)'!D46:AH46))","v":{"$error":"#N/A"}},{"$error":"#N/A"},{"$f":"COUNT('A) Eingabe (Lehrer)'!D46:AH46)","v":0},{"$f":"IF(N38<1,#N/A,COUNTIF('A) Eingabe (Lehrer)'!D46:AH46,1))","v":{"$error":"#N/A"}},{"$f":"IF(N38<1,#N/A,COUNTIF('A) Eingabe (Lehrer)'!D46:AH46,2))","v":{"$error":"#N/A"}},{"$f":"IF(N38<1,#N/A,COUNTIF('A) Eingabe (Lehrer)'!D46:AH46,3))","v":{"$error":"#N/A"}},{"$f":"IF(N38<1,#N/A,COUNTIF('A) Eingabe (Lehrer)'!D46:AH46,4))","v":{"$error":"#N/A"}},{"$f":"IF('A) Eingabe (Lehrer)'!C46=\"\", #N/A, 'A) Eingabe (Lehrer)'!C46)","v":{"$error":"#N/A"}}]
[{"$f":"FragenErstellen!A43","v":37},{"$f":"IF($E39=0, #N/A,AVERAGE('A) Eingabe (Schüler)'!C47:AH47))","v":{"$error":"#N/A"}},{"$f":"IF(E39<2, #N/A, STDEVP('A) Eingabe (Schüler)'!C47:AH47))","v":{"$error":"#N/A"}},{"$error":"#N/A"},{"$f":"COUNT('A) Eingabe (Schüler)'!C47:AH47)","v":0},{"$f":"IF(E39<2,#N/A,COUNTIF('A) Eingabe (Schüler)'!C47:AH47,1))","v":{"$error":"#N/A"}},{"$f":"IF(E39<2,#N/A,COUNTIF('A) Eingabe (Schüler)'!C47:AH47,2))","v":{"$error":"#N/A"}},{"$f":"IF(E39<2,#N/A,COUNTIF('A) Eingabe (Schüler)'!C47:AH47,3))","v":{"$error":"#N/A"}},{"$f":"IF(E39<2,#N/A,COUNTIF('A) Eingabe (Schüler)'!C47:AH47,4))","v":{"$error":"#N/A"}},{"$f":"IF('A) Eingabe (Lehrer)'!C47=\"\", #N/A, 'A) Eingabe (Lehrer)'!C47)","v":{"$error":"#N/A"}},{"$f":"IF(N39=0, #N/A,AVERAGE('A) Eingabe (Lehrer)'!D47:AH47))","v":{"$error":"#N/A"}},{"$f":"IF(N39<1, #N/A, STDEVP('A) Eingabe (Lehrer)'!D47:AH47))","v":{"$error":"#N/A"}},{"$error":"#N/A"},{"$f":"COUNT('A) Eingabe (Lehrer)'!D47:AH47)","v":0},{"$f":"IF(N39<1,#N/A,COUNTIF('A) Eingabe (Lehrer)'!D47:AH47,1))","v":{"$error":"#N/A"}},{"$f":"IF(N39<1,#N/A,COUNTIF('A) Eingabe (Lehrer)'!D47:AH47,2))","v":{"$error":"#N/A"}},{"$f":"IF(N39<1,#N/A,COUNTIF('A) Eingabe (Lehrer)'!D47:AH47,3))","v":{"$error":"#N/A"}},{"$f":"IF(N39<1,#N/A,COUNTIF('A) Eingabe (Lehrer)'!D47:AH47,4))","v":{"$error":"#N/A"}},{"$f":"IF('A) Eingabe (Lehrer)'!C47=\"\", #N/A, 'A) Eingabe (Lehrer)'!C47)","v":{"$error":"#N/A"}}]
[{"$f":"FragenErstellen!A44","v":38},{"$f":"IF($E40=0, #N/A,AVERAGE('A) Eingabe (Schüler)'!C48:AH48))","v":{"$error":"#N/A"}},{"$f":"IF(E40<2, #N/A, STDEVP('A) Eingabe (Schüler)'!C48:AH48))","v":{"$error":"#N/A"}},{"$error":"#N/A"},{"$f":"COUNT('A) Eingabe (Schüler)'!C48:AH48)","v":0},{"$f":"IF(E40<2,#N/A,COUNTIF('A) Eingabe (Schüler)'!C48:AH48,1))","v":{"$error":"#N/A"}},{"$f":"IF(E40<2,#N/A,COUNTIF('A) Eingabe (Schüler)'!C48:AH48,2))","v":{"$error":"#N/A"}},{"$f":"IF(E40<2,#N/A,COUNTIF('A) Eingabe (Schüler)'!C48:AH48,3))","v":{"$error":"#N/A"}},{"$f":"IF(E40<2,#N/A,COUNTIF('A) Eingabe (Schüler)'!C48:AH48,4))","v":{"$error":"#N/A"}},{"$f":"IF('A) Eingabe (Lehrer)'!C48=\"\", #N/A, 'A) Eingabe (Lehrer)'!C48)","v":{"$error":"#N/A"}},{"$f":"IF(N40=0, #N/A,AVERAGE('A) Eingabe (Lehrer)'!D48:AH48))","v":{"$error":"#N/A"}},{"$f":"IF(N40<1, #N/A, STDEVP('A) Eingabe (Lehrer)'!D48:AH48))","v":{"$error":"#N/A"}},{"$error":"#N/A"},{"$f":"COUNT('A) Eingabe (Lehrer)'!D48:AH48)","v":0},{"$f":"IF(N40<1,#N/A,COUNTIF('A) Eingabe (Lehrer)'!D48:AH48,1))","v":{"$error":"#N/A"}},{"$f":"IF(N40<1,#N/A,COUNTIF('A) Eingabe (Lehrer)'!D48:AH48,2))","v":{"$error":"#N/A"}},{"$f":"IF(N40<1,#N/A,COUNTIF('A) Eingabe (Lehrer)'!D48:AH48,3))","v":{"$error":"#N/A"}},{"$f":"IF(N40<1,#N/A,COUNTIF('A) Eingabe (Lehrer)'!D48:AH48,4))","v":{"$error":"#N/A"}},{"$f":"IF('A) Eingabe (Lehrer)'!C48=\"\", #N/A, 'A) Eingabe (Lehrer)'!C48)","v":{"$error":"#N/A"}}]
[{"$f":"FragenErstellen!A45","v":39},{"$f":"IF($E41=0, #N/A,AVERAGE('A) Eingabe (Schüler)'!C49:AH49))","v":{"$error":"#N/A"}},{"$f":"IF(E41<2, #N/A, STDEVP('A) Eingabe (Schüler)'!C49:AH49))","v":{"$error":"#N/A"}},{"$error":"#N/A"},{"$f":"COUNT('A) Eingabe (Schüler)'!C49:AH49)","v":0},{"$f":"IF(E41<2,#N/A,COUNTIF('A) Eingabe (Schüler)'!C49:AH49,1))","v":{"$error":"#N/A"}},{"$f":"IF(E41<2,#N/A,COUNTIF('A) Eingabe (Schüler)'!C49:AH49,2))","v":{"$error":"#N/A"}},{"$f":"IF(E41<2,#N/A,COUNTIF('A) Eingabe (Schüler)'!C49:AH49,3))","v":{"$error":"#N/A"}},{"$f":"IF(E41<2,#N/A,COUNTIF('A) Eingabe (Schüler)'!C49:AH49,4))","v":{"$error":"#N/A"}},{"$f":"IF('A) Eingabe (Lehrer)'!C49=\"\", #N/A, 'A) Eingabe (Lehrer)'!C49)","v":{"$error":"#N/A"}},{"$f":"IF(N41=0, #N/A,AVERAGE('A) Eingabe (Lehrer)'!D49:AH49))","v":{"$error":"#N/A"}},{"$f":"IF(N41<1, #N/A, STDEVP('A) Eingabe (Lehrer)'!D49:AH49))","v":{"$error":"#N/A"}},{"$error":"#N/A"},{"$f":"COUNT('A) Eingabe (Lehrer)'!D49:AH49)","v":0},{"$f":"IF(N41<1,#N/A,COUNTIF('A) Eingabe (Lehrer)'!D49:AH49,1))","v":{"$error":"#N/A"}},{"$f":"IF(N41<1,#N/A,COUNTIF('A) Eingabe (Lehrer)'!D49:AH49,2))","v":{"$error":"#N/A"}},{"$f":"IF(N41<1,#N/A,COUNTIF('A) Eingabe (Lehrer)'!D49:AH49,3))","v":{"$error":"#N/A"}},{"$f":"IF(N41<1,#N/A,COUNTIF('A) Eingabe (Lehrer)'!D49:AH49,4))","v":{"$error":"#N/A"}},{"$f":"IF('A) Eingabe (Lehrer)'!C49=\"\", #N/A, 'A) Eingabe (Lehrer)'!C49)","v":{"$error":"#N/A"}}]
[{"$f":"FragenErstellen!A46","v":40},{"$f":"IF($E42=0, #N/A,AVERAGE('A) Eingabe (Schüler)'!C50:AH50))","v":{"$error":"#N/A"}},{"$f":"IF(E42<2, #N/A, STDEVP('A) Eingabe (Schüler)'!C50:AH50))","v":{"$error":"#N/A"}},{"$error":"#N/A"},{"$f":"COUNT('A) Eingabe (Schüler)'!C50:AH50)","v":0},{"$f":"IF(E42<2,#N/A,COUNTIF('A) Eingabe (Schüler)'!C50:AH50,1))","v":{"$error":"#N/A"}},{"$f":"IF(E42<2,#N/A,COUNTIF('A) Eingabe (Schüler)'!C50:AH50,2))","v":{"$error":"#N/A"}},{"$f":"IF(E42<2,#N/A,COUNTIF('A) Eingabe (Schüler)'!C50:AH50,3))","v":{"$error":"#N/A"}},{"$f":"IF(E42<2,#N/A,COUNTIF('A) Eingabe (Schüler)'!C50:AH50,4))","v":{"$error":"#N/A"}},{"$f":"IF('A) Eingabe (Lehrer)'!C50=\"\", #N/A, 'A) Eingabe (Lehrer)'!C50)","v":{"$error":"#N/A"}},{"$f":"IF(N42=0, #N/A,AVERAGE('A) Eingabe (Lehrer)'!D50:AH50))","v":{"$error":"#N/A"}},{"$f":"IF(N42<1, #N/A, STDEVP('A) Eingabe (Lehrer)'!D50:AH50))","v":{"$error":"#N/A"}},{"$error":"#N/A"},{"$f":"COUNT('A) Eingabe (Lehrer)'!D50:AH50)","v":0},{"$f":"IF(N42<1,#N/A,COUNTIF('A) Eingabe (Lehrer)'!D50:AH50,1))","v":{"$error":"#N/A"}},{"$f":"IF(N42<1,#N/A,COUNTIF('A) Eingabe (Lehrer)'!D50:AH50,2))","v":{"$error":"#N/A"}},{"$f":"IF(N42<1,#N/A,COUNTIF('A) Eingabe (Lehrer)'!D50:AH50,3))","v":{"$error":"#N/A"}},{"$f":"IF(N42<1,#N/A,COUNTIF('A) Eingabe (Lehrer)'!D50:AH50,4))","v":{"$error":"#N/A"}},{"$f":"IF('A) Eingabe (Lehrer)'!C50=\"\", #N/A, 'A) Eingabe (Lehrer)'!C50)","v":{"$error":"#N/A"}}]
[{"$f":"FragenErstellen!A47","v":41},{"$f":"IF($E43=0, #N/A,AVERAGE('A) Eingabe (Schüler)'!C51:AH51))","v":{"$error":"#N/A"}},{"$f":"IF(E43<2, #N/A, STDEVP('A) Eingabe (Schüler)'!C51:AH51))","v":{"$error":"#N/A"}},{"$error":"#N/A"},{"$f":"COUNT('A) Eingabe (Schüler)'!C51:AH51)","v":0},{"$f":"IF(E43<2,#N/A,COUNTIF('A) Eingabe (Schüler)'!C51:AH51,1))","v":{"$error":"#N/A"}},{"$f":"IF(E43<2,#N/A,COUNTIF('A) Eingabe (Schüler)'!C51:AH51,2))","v":{"$error":"#N/A"}},{"$f":"IF(E43<2,#N/A,COUNTIF('A) Eingabe (Schüler)'!C51:AH51,3))","v":{"$error":"#N/A"}},{"$f":"IF(E43<2,#N/A,COUNTIF('A) Eingabe (Schüler)'!C51:AH51,4))","v":{"$error":"#N/A"}},{"$f":"IF('A) Eingabe (Lehrer)'!C51=\"\", #N/A, 'A) Eingabe (Lehrer)'!C51)","v":{"$error":"#N/A"}},{"$f":"IF(N43=0, #N/A,AVERAGE('A) Eingabe (Lehrer)'!D51:AH51))","v":{"$error":"#N/A"}},{"$f":"IF(N43<1, #N/A, STDEVP('A) Eingabe (Lehrer)'!D51:AH51))","v":{"$error":"#N/A"}},{"$error":"#N/A"},{"$f":"COUNT('A) Eingabe (Lehrer)'!D51:AH51)","v":0},{"$f":"IF(N43<1,#N/A,COUNTIF('A) Eingabe (Lehrer)'!D51:AH51,1))","v":{"$error":"#N/A"}},{"$f":"IF(N43<1,#N/A,COUNTIF('A) Eingabe (Lehrer)'!D51:AH51,2))","v":{"$error":"#N/A"}},{"$f":"IF(N43<1,#N/A,COUNTIF('A) Eingabe (Lehrer)'!D51:AH51,3))","v":{"$error":"#N/A"}},{"$f":"IF(N43<1,#N/A,COUNTIF('A) Eingabe (Lehrer)'!D51:AH51,4))","v":{"$error":"#N/A"}},{"$f":"IF('A) Eingabe (Lehrer)'!C51=\"\", #N/A, 'A) Eingabe (Lehrer)'!C51)","v":{"$error":"#N/A"}}]
[{"$f":"FragenErstellen!A48","v":42},{"$f":"IF($E44=0, #N/A,AVERAGE('A) Eingabe (Schüler)'!C52:AH52))","v":{"$error":"#N/A"}},{"$f":"IF(E44<2, #N/A, STDEVP('A) Eingabe (Schüler)'!C52:AH52))","v":{"$error":"#N/A"}},{"$error":"#N/A"},{"$f":"COUNT('A) Eingabe (Schüler)'!C52:AH52)","v":0},{"$f":"IF(E44<2,#N/A,COUNTIF('A) Eingabe (Schüler)'!C52:AH52,1))","v":{"$error":"#N/A"}},{"$f":"IF(E44<2,#N/A,COUNTIF('A) Eingabe (Schüler)'!C52:AH52,2))","v":{"$error":"#N/A"}},{"$f":"IF(E44<2,#N/A,COUNTIF('A) Eingabe (Schüler)'!C52:AH52,3))","v":{"$error":"#N/A"}},{"$f":"IF(E44<2,#N/A,COUNTIF('A) Eingabe (Schüler)'!C52:AH52,4))","v":{"$error":"#N/A"}},{"$f":"IF('A) Eingabe (Lehrer)'!C52=\"\", #N/A, 'A) Eingabe (Lehrer)'!C52)","v":{"$error":"#N/A"}},{"$f":"IF(N44=0, #N/A,AVERAGE('A) Eingabe (Lehrer)'!D52:AH52))","v":{"$error":"#N/A"}},{"$f":"IF(N44<1, #N/A, STDEVP('A) Eingabe (Lehrer)'!D52:AH52))","v":{"$error":"#N/A"}},{"$error":"#N/A"},{"$f":"COUNT('A) Eingabe (Lehrer)'!D52:AH52)","v":0},{"$f":"IF(N44<1,#N/A,COUNTIF('A) Eingabe (Lehrer)'!D52:AH52,1))","v":{"$error":"#N/A"}},{"$f":"IF(N44<1,#N/A,COUNTIF('A) Eingabe (Lehrer)'!D52:AH52,2))","v":{"$error":"#N/A"}},{"$f":"IF(N44<1,#N/A,COUNTIF('A) Eingabe (Lehrer)'!D52:AH52,3))","v":{"$error":"#N/A"}},{"$f":"IF(N44<1,#N/A,COUNTIF('A) Eingabe (Lehrer)'!D52:AH52,4))","v":{"$error":"#N/A"}},{"$f":"IF('A) Eingabe (Lehrer)'!C52=\"\", #N/A, 'A) Eingabe (Lehrer)'!C52)","v":{"$error":"#N/A"}}]
[{"$f":"FragenErstellen!A49","v":43},{"$f":"IF($E45=0, #N/A,AVERAGE('A) Eingabe (Schüler)'!C53:AH53))","v":{"$error":"#N/A"}},{"$f":"IF(E45<2, #N/A, STDEVP('A) Eingabe (Schüler)'!C53:AH53))","v":{"$error":"#N/A"}},{"$error":"#N/A"},{"$f":"COUNT('A) Eingabe (Schüler)'!C53:AH53)","v":0},{"$f":"IF(E45<2,#N/A,COUNTIF('A) Eingabe (Schüler)'!C53:AH53,1))","v":{"$error":"#N/A"}},{"$f":"IF(E45<2,#N/A,COUNTIF('A) Eingabe (Schüler)'!C53:AH53,2))","v":{"$error":"#N/A"}},{"$f":"IF(E45<2,#N/A,COUNTIF('A) Eingabe (Schüler)'!C53:AH53,3))","v":{"$error":"#N/A"}},{"$f":"IF(E45<2,#N/A,COUNTIF('A) Eingabe (Schüler)'!C53:AH53,4))","v":{"$error":"#N/A"}},{"$f":"IF('A) Eingabe (Lehrer)'!C53=\"\", #N/A, 'A) Eingabe (Lehrer)'!C53)","v":{"$error":"#N/A"}},{"$f":"IF(N45=0, #N/A,AVERAGE('A) Eingabe (Lehrer)'!D53:AH53))","v":{"$error":"#N/A"}},{"$f":"IF(N45<1, #N/A, STDEVP('A) Eingabe (Lehrer)'!D53:AH53))","v":{"$error":"#N/A"}},{"$error":"#N/A"},{"$f":"COUNT('A) Eingabe (Lehrer)'!D53:AH53)","v":0},{"$f":"IF(N45<1,#N/A,COUNTIF('A) Eingabe (Lehrer)'!D53:AH53,1))","v":{"$error":"#N/A"}},{"$f":"IF(N45<1,#N/A,COUNTIF('A) Eingabe (Lehrer)'!D53:AH53,2))","v":{"$error":"#N/A"}},{"$f":"IF(N45<1,#N/A,COUNTIF('A) Eingabe (Lehrer)'!D53:AH53,3))","v":{"$error":"#N/A"}},{"$f":"IF(N45<1,#N/A,COUNTIF('A) Eingabe (Lehrer)'!D53:AH53,4))","v":{"$error":"#N/A"}},{"$f":"IF('A) Eingabe (Lehrer)'!C53=\"\", #N/A, 'A) Eingabe (Lehrer)'!C53)","v":{"$error":"#N/A"}}]
[{"$f":"FragenErstellen!A50","v":44},{"$f":"IF($E46=0, #N/A,AVERAGE('A) Eingabe (Schüler)'!C54:AH54))","v":{"$error":"#N/A"}},{"$f":"IF(E46<2, #N/A, STDEVP('A) Eingabe (Schüler)'!C54:AH54))","v":{"$error":"#N/A"}},{"$error":"#N/A"},{"$f":"COUNT('A) Eingabe (Schüler)'!C54:AH54)","v":0},{"$f":"IF(E46<2,#N/A,COUNTIF('A) Eingabe (Schüler)'!C54:AH54,1))","v":{"$error":"#N/A"}},{"$f":"IF(E46<2,#N/A,COUNTIF('A) Eingabe (Schüler)'!C54:AH54,2))","v":{"$error":"#N/A"}},{"$f":"IF(E46<2,#N/A,COUNTIF('A) Eingabe (Schüler)'!C54:AH54,3))","v":{"$error":"#N/A"}},{"$f":"IF(E46<2,#N/A,COUNTIF('A) Eingabe (Schüler)'!C54:AH54,4))","v":{"$error":"#N/A"}},{"$f":"IF('A) Eingabe (Lehrer)'!C54=\"\", #N/A, 'A) Eingabe (Lehrer)'!C54)","v":{"$error":"#N/A"}},{"$f":"IF(N46=0, #N/A,AVERAGE('A) Eingabe (Lehrer)'!D54:AH54))","v":{"$error":"#N/A"}},{"$f":"IF(N46<1, #N/A, STDEVP('A) Eingabe (Lehrer)'!D54:AH54))","v":{"$error":"#N/A"}},{"$error":"#N/A"},{"$f":"COUNT('A) Eingabe (Lehrer)'!D54:AH54)","v":0},{"$f":"IF(N46<1,#N/A,COUNTIF('A) Eingabe (Lehrer)'!D54:AH54,1))","v":{"$error":"#N/A"}},{"$f":"IF(N46<1,#N/A,COUNTIF('A) Eingabe (Lehrer)'!D54:AH54,2))","v":{"$error":"#N/A"}},{"$f":"IF(N46<1,#N/A,COUNTIF('A) Eingabe (Lehrer)'!D54:AH54,3))","v":{"$error":"#N/A"}},{"$f":"IF(N46<1,#N/A,COUNTIF('A) Eingabe (Lehrer)'!D54:AH54,4))","v":{"$error":"#N/A"}},{"$f":"IF('A) Eingabe (Lehrer)'!C54=\"\", #N/A, 'A) Eingabe (Lehrer)'!C54)","v":{"$error":"#N/A"}}]
[{"$f":"FragenErstellen!A51","v":45},{"$f":"IF($E47=0, #N/A,AVERAGE('A) Eingabe (Schüler)'!C55:AH55))","v":{"$error":"#N/A"}},{"$f":"IF(E47<2, #N/A, STDEVP('A) Eingabe (Schüler)'!C55:AH55))","v":{"$error":"#N/A"}},{"$error":"#N/A"},{"$f":"COUNT('A) Eingabe (Schüler)'!C55:AH55)","v":0},{"$f":"IF(E47<2,#N/A,COUNTIF('A) Eingabe (Schüler)'!C55:AH55,1))","v":{"$error":"#N/A"}},{"$f":"IF(E47<2,#N/A,COUNTIF('A) Eingabe (Schüler)'!C55:AH55,2))","v":{"$error":"#N/A"}},{"$f":"IF(E47<2,#N/A,COUNTIF('A) Eingabe (Schüler)'!C55:AH55,3))","v":{"$error":"#N/A"}},{"$f":"IF(E47<2,#N/A,COUNTIF('A) Eingabe (Schüler)'!C55:AH55,4))","v":{"$error":"#N/A"}},{"$f":"IF('A) Eingabe (Lehrer)'!C55=\"\", #N/A, 'A) Eingabe (Lehrer)'!C55)","v":{"$error":"#N/A"}},{"$f":"IF(N47=0, #N/A,AVERAGE('A) Eingabe (Lehrer)'!D55:AH55))","v":{"$error":"#N/A"}},{"$f":"IF(N47<1, #N/A, STDEVP('A) Eingabe (Lehrer)'!D55:AH55))","v":{"$error":"#N/A"}},{"$error":"#N/A"},{"$f":"COUNT('A) Eingabe (Lehrer)'!D55:AH55)","v":0},{"$f":"IF(N47<1,#N/A,COUNTIF('A) Eingabe (Lehrer)'!D55:AH55,1))","v":{"$error":"#N/A"}},{"$f":"IF(N47<1,#N/A,COUNTIF('A) Eingabe (Lehrer)'!D55:AH55,2))","v":{"$error":"#N/A"}},{"$f":"IF(N47<1,#N/A,COUNTIF('A) Eingabe (Lehrer)'!D55:AH55,3))","v":{"$error":"#N/A"}},{"$f":"IF(N47<1,#N/A,COUNTIF('A) Eingabe (Lehrer)'!D55:AH55,4))","v":{"$error":"#N/A"}},{"$f":"IF('A) Eingabe (Lehrer)'!C55=\"\", #N/A, 'A) Eingabe (Lehrer)'!C55)","v":{"$error":"#N/A"}}]
[{"$f":"FragenErstellen!A52","v":46},{"$f":"IF($E48=0, #N/A,AVERAGE('A) Eingabe (Schüler)'!C56:AH56))","v":{"$error":"#N/A"}},{"$f":"IF(E48<2, #N/A, STDEVP('A) Eingabe (Schüler)'!C56:AH56))","v":{"$error":"#N/A"}},{"$error":"#N/A"},{"$f":"COUNT('A) Eingabe (Schüler)'!C56:AH56)","v":0},{"$f":"IF(E48<2,#N/A,COUNTIF('A) Eingabe (Schüler)'!C56:AH56,1))","v":{"$error":"#N/A"}},{"$f":"IF(E48<2,#N/A,COUNTIF('A) Eingabe (Schüler)'!C56:AH56,2))","v":{"$error":"#N/A"}},{"$f":"IF(E48<2,#N/A,COUNTIF('A) Eingabe (Schüler)'!C56:AH56,3))","v":{"$error":"#N/A"}},{"$f":"IF(E48<2,#N/A,COUNTIF('A) Eingabe (Schüler)'!C56:AH56,4))","v":{"$error":"#N/A"}},{"$f":"IF('A) Eingabe (Lehrer)'!C56=\"\", #N/A, 'A) Eingabe (Lehrer)'!C56)","v":{"$error":"#N/A"}},{"$f":"IF(N48=0, #N/A,AVERAGE('A) Eingabe (Lehrer)'!D56:AH56))","v":{"$error":"#N/A"}},{"$f":"IF(N48<1, #N/A, STDEVP('A) Eingabe (Lehrer)'!D56:AH56))","v":{"$error":"#N/A"}},{"$error":"#N/A"},{"$f":"COUNT('A) Eingabe (Lehrer)'!D56:AH56)","v":0},{"$f":"IF(N48<1,#N/A,COUNTIF('A) Eingabe (Lehrer)'!D56:AH56,1))","v":{"$error":"#N/A"}},{"$f":"IF(N48<1,#N/A,COUNTIF('A) Eingabe (Lehrer)'!D56:AH56,2))","v":{"$error":"#N/A"}},{"$f":"IF(N48<1,#N/A,COUNTIF('A) Eingabe (Lehrer)'!D56:AH56,3))","v":{"$error":"#N/A"}},{"$f":"IF(N48<1,#N/A,COUNTIF('A) Eingabe (Lehrer)'!D56:AH56,4))","v":{"$error":"#N/A"}},{"$f":"IF('A) Eingabe (Lehrer)'!C56=\"\", #N/A, 'A) Eingabe (Lehrer)'!C56)","v":{"$error":"#N/A"}}]
[{"$f":"FragenErstellen!A53","v":47},{"$f":"IF($E49=0, #N/A,AVERAGE('A) Eingabe (Schüler)'!C57:AH57))","v":{"$error":"#N/A"}},{"$f":"IF(E49<2, #N/A, STDEVP('A) Eingabe (Schüler)'!C57:AH57))","v":{"$error":"#N/A"}},{"$error":"#N/A"},{"$f":"COUNT('A) Eingabe (Schüler)'!C57:AH57)","v":0},{"$f":"IF(E49<2,#N/A,COUNTIF('A) Eingabe (Schüler)'!C57:AH57,1))","v":{"$error":"#N/A"}},{"$f":"IF(E49<2,#N/A,COUNTIF('A) Eingabe (Schüler)'!C57:AH57,2))","v":{"$error":"#N/A"}},{"$f":"IF(E49<2,#N/A,COUNTIF('A) Eingabe (Schüler)'!C57:AH57,3))","v":{"$error":"#N/A"}},{"$f":"IF(E49<2,#N/A,COUNTIF('A) Eingabe (Schüler)'!C57:AH57,4))","v":{"$error":"#N/A"}},{"$f":"IF('A) Eingabe (Lehrer)'!C57=\"\", #N/A, 'A) Eingabe (Lehrer)'!C57)","v":{"$error":"#N/A"}},{"$f":"IF(N49=0, #N/A,AVERAGE('A) Eingabe (Lehrer)'!D57:AH57))","v":{"$error":"#N/A"}},{"$f":"IF(N49<1, #N/A, STDEVP('A) Eingabe (Lehrer)'!D57:AH57))","v":{"$error":"#N/A"}},{"$error":"#N/A"},{"$f":"COUNT('A) Eingabe (Lehrer)'!D57:AH57)","v":0},{"$f":"IF(N49<1,#N/A,COUNTIF('A) Eingabe (Lehrer)'!D57:AH57,1))","v":{"$error":"#N/A"}},{"$f":"IF(N49<1,#N/A,COUNTIF('A) Eingabe (Lehrer)'!D57:AH57,2))","v":{"$error":"#N/A"}},{"$f":"IF(N49<1,#N/A,COUNTIF('A) Eingabe (Lehrer)'!D57:AH57,3))","v":{"$error":"#N/A"}},{"$f":"IF(N49<1,#N/A,COUNTIF('A) Eingabe (Lehrer)'!D57:AH57,4))","v":{"$error":"#N/A"}},{"$f":"IF('A) Eingabe (Lehrer)'!C57=\"\", #N/A, 'A) Eingabe (Lehrer)'!C57)","v":{"$error":"#N/A"}}]
[{"$f":"FragenErstellen!A54","v":48},{"$f":"IF($E50=0, #N/A,AVERAGE('A) Eingabe (Schüler)'!C58:AH58))","v":{"$error":"#N/A"}},{"$f":"IF(E50<2, #N/A, STDEVP('A) Eingabe (Schüler)'!C58:AH58))","v":{"$error":"#N/A"}},{"$error":"#N/A"},{"$f":"COUNT('A) Eingabe (Schüler)'!C58:AH58)","v":0},{"$f":"IF(E50<2,#N/A,COUNTIF('A) Eingabe (Schüler)'!C58:AH58,1))","v":{"$error":"#N/A"}},{"$f":"IF(E50<2,#N/A,COUNTIF('A) Eingabe (Schüler)'!C58:AH58,2))","v":{"$error":"#N/A"}},{"$f":"IF(E50<2,#N/A,COUNTIF('A) Eingabe (Schüler)'!C58:AH58,3))","v":{"$error":"#N/A"}},{"$f":"IF(E50<2,#N/A,COUNTIF('A) Eingabe (Schüler)'!C58:AH58,4))","v":{"$error":"#N/A"}},{"$f":"IF('A) Eingabe (Lehrer)'!C58=\"\", #N/A, 'A) Eingabe (Lehrer)'!C58)","v":{"$error":"#N/A"}},{"$f":"IF(N50=0, #N/A,AVERAGE('A) Eingabe (Lehrer)'!D58:AH58))","v":{"$error":"#N/A"}},{"$f":"IF(N50<1, #N/A, STDEVP('A) Eingabe (Lehrer)'!D58:AH58))","v":{"$error":"#N/A"}},{"$error":"#N/A"},{"$f":"COUNT('A) Eingabe (Lehrer)'!D58:AH58)","v":0},{"$f":"IF(N50<1,#N/A,COUNTIF('A) Eingabe (Lehrer)'!D58:AH58,1))","v":{"$error":"#N/A"}},{"$f":"IF(N50<1,#N/A,COUNTIF('A) Eingabe (Lehrer)'!D58:AH58,2))","v":{"$error":"#N/A"}},{"$f":"IF(N50<1,#N/A,COUNTIF('A) Eingabe (Lehrer)'!D58:AH58,3))","v":{"$error":"#N/A"}},{"$f":"IF(N50<1,#N/A,COUNTIF('A) Eingabe (Lehrer)'!D58:AH58,4))","v":{"$error":"#N/A"}},{"$f":"IF('A) Eingabe (Lehrer)'!C58=\"\", #N/A, 'A) Eingabe (Lehrer)'!C58)","v":{"$error":"#N/A"}}]
[{"$f":"FragenErstellen!A55","v":49},{"$f":"IF($E51=0, #N/A,AVERAGE('A) Eingabe (Schüler)'!C59:AH59))","v":{"$error":"#N/A"}},{"$f":"IF(E51<2, #N/A, STDEVP('A) Eingabe (Schüler)'!C59:AH59))","v":{"$error":"#N/A"}},{"$error":"#N/A"},{"$f":"COUNT('A) Eingabe (Schüler)'!C59:AH59)","v":0},{"$f":"IF(E51<2,#N/A,COUNTIF('A) Eingabe (Schüler)'!C59:AH59,1))","v":{"$error":"#N/A"}},{"$f":"IF(E51<2,#N/A,COUNTIF('A) Eingabe (Schüler)'!C59:AH59,2))","v":{"$error":"#N/A"}},{"$f":"IF(E51<2,#N/A,COUNTIF('A) Eingabe (Schüler)'!C59:AH59,3))","v":{"$error":"#N/A"}},{"$f":"IF(E51<2,#N/A,COUNTIF('A) Eingabe (Schüler)'!C59:AH59,4))","v":{"$error":"#N/A"}},{"$f":"IF('A) Eingabe (Lehrer)'!C59=\"\", #N/A, 'A) Eingabe (Lehrer)'!C59)","v":{"$error":"#N/A"}},{"$f":"IF(N51=0, #N/A,AVERAGE('A) Eingabe (Lehrer)'!D59:AH59))","v":{"$error":"#N/A"}},{"$f":"IF(N51<1, #N/A, STDEVP('A) Eingabe (Lehrer)'!D59:AH59))","v":{"$error":"#N/A"}},{"$error":"#N/A"},{"$f":"COUNT('A) Eingabe (Lehrer)'!D59:AH59)","v":0},{"$f":"IF(N51<1,#N/A,COUNTIF('A) Eingabe (Lehrer)'!D59:AH59,1))","v":{"$error":"#N/A"}},{"$f":"IF(N51<1,#N/A,COUNTIF('A) Eingabe (Lehrer)'!D59:AH59,2))","v":{"$error":"#N/A"}},{"$f":"IF(N51<1,#N/A,COUNTIF('A) Eingabe (Lehrer)'!D59:AH59,3))","v":{"$error":"#N/A"}},{"$f":"IF(N51<1,#N/A,COUNTIF('A) Eingabe (Lehrer)'!D59:AH59,4))","v":{"$error":"#N/A"}},{"$f":"IF('A) Eingabe (Lehrer)'!C59=\"\", #N/A, 'A) Eingabe (Lehrer)'!C59)","v":{"$error":"#N/A"}}]
[{"$f":"FragenErstellen!A56","v":50},{"$f":"IF($E52=0, #N/A,AVERAGE('A) Eingabe (Schüler)'!C60:AH60))","v":{"$error":"#N/A"}},{"$f":"IF(E52<2, #N/A, STDEVP('A) Eingabe (Schüler)'!C60:AH60))","v":{"$error":"#N/A"}},{"$error":"#N/A"},{"$f":"COUNT('A) Eingabe (Schüler)'!C60:AH60)","v":0},{"$f":"IF(E52<2,#N/A,COUNTIF('A) Eingabe (Schüler)'!C60:AH60,1))","v":{"$error":"#N/A"}},{"$f":"IF(E52<2,#N/A,COUNTIF('A) Eingabe (Schüler)'!C60:AH60,2))","v":{"$error":"#N/A"}},{"$f":"IF(E52<2,#N/A,COUNTIF('A) Eingabe (Schüler)'!C60:AH60,3))","v":{"$error":"#N/A"}},{"$f":"IF(E52<2,#N/A,COUNTIF('A) Eingabe (Schüler)'!C60:AH60,4))","v":{"$error":"#N/A"}},{"$f":"IF('A) Eingabe (Lehrer)'!C60=\"\", #N/A, 'A) Eingabe (Lehrer)'!C60)","v":{"$error":"#N/A"}},{"$f":"IF(N52=0, #N/A,AVERAGE('A) Eingabe (Lehrer)'!D60:AH60))","v":{"$error":"#N/A"}},{"$f":"IF(N52<1, #N/A, STDEVP('A) Eingabe (Lehrer)'!D60:AH60))","v":{"$error":"#N/A"}},{"$error":"#N/A"},{"$f":"COUNT('A) Eingabe (Lehrer)'!D60:AH60)","v":0},{"$f":"IF(N52<1,#N/A,COUNTIF('A) Eingabe (Lehrer)'!D60:AH60,1))","v":{"$error":"#N/A"}},{"$f":"IF(N52<1,#N/A,COUNTIF('A) Eingabe (Lehrer)'!D60:AH60,2))","v":{"$error":"#N/A"}},{"$f":"IF(N52<1,#N/A,COUNTIF('A) Eingabe (Lehrer)'!D60:AH60,3))","v":{"$error":"#N/A"}},{"$f":"IF(N52<1,#N/A,COUNTIF('A) Eingabe (Lehrer)'!D60:AH60,4))","v":{"$error":"#N/A"}},{"$f":"IF('A) Eingabe (Lehrer)'!C60=\"\", #N/A, 'A) Eingabe (Lehrer)'!C60)","v":{"$error":"#N/A"}}]
[{"$f":"FragenErstellen!A57","v":51},{"$f":"IF($E53=0, #N/A,AVERAGE('A) Eingabe (Schüler)'!C61:AH61))","v":{"$error":"#N/A"}},{"$f":"IF(E53<2, #N/A, STDEVP('A) Eingabe (Schüler)'!C61:AH61))","v":{"$error":"#N/A"}},{"$error":"#N/A"},{"$f":"COUNT('A) Eingabe (Schüler)'!C61:AH61)","v":0},{"$f":"IF(E53<2,#N/A,COUNTIF('A) Eingabe (Schüler)'!C61:AH61,1))","v":{"$error":"#N/A"}},{"$f":"IF(E53<2,#N/A,COUNTIF('A) Eingabe (Schüler)'!C61:AH61,2))","v":{"$error":"#N/A"}},{"$f":"IF(E53<2,#N/A,COUNTIF('A) Eingabe (Schüler)'!C61:AH61,3))","v":{"$error":"#N/A"}},{"$f":"IF(E53<2,#N/A,COUNTIF('A) Eingabe (Schüler)'!C61:AH61,4))","v":{"$error":"#N/A"}},{"$f":"IF('A) Eingabe (Lehrer)'!C61=\"\", #N/A, 'A) Eingabe (Lehrer)'!C61)","v":{"$error":"#N/A"}},{"$f":"IF(N53=0, #N/A,AVERAGE('A) Eingabe (Lehrer)'!D61:AH61))","v":{"$error":"#N/A"}},{"$f":"IF(N53<1, #N/A, STDEVP('A) Eingabe (Lehrer)'!D61:AH61))","v":{"$error":"#N/A"}},{"$error":"#N/A"},{"$f":"COUNT('A) Eingabe (Lehrer)'!D61:AH61)","v":0},{"$f":"IF(N53<1,#N/A,COUNTIF('A) Eingabe (Lehrer)'!D61:AH61,1))","v":{"$error":"#N/A"}},{"$f":"IF(N53<1,#N/A,COUNTIF('A) Eingabe (Lehrer)'!D61:AH61,2))","v":{"$error":"#N/A"}},{"$f":"IF(N53<1,#N/A,COUNTIF('A) Eingabe (Lehrer)'!D61:AH61,3))","v":{"$error":"#N/A"}},{"$f":"IF(N53<1,#N/A,COUNTIF('A) Eingabe (Lehrer)'!D61:AH61,4))","v":{"$error":"#N/A"}},{"$f":"IF('A) Eingabe (Lehrer)'!C61=\"\", #N/A, 'A) Eingabe (Lehrer)'!C61)","v":{"$error":"#N/A"}}]
[{"$f":"FragenErstellen!A58","v":52},{"$f":"IF($E54=0, #N/A,AVERAGE('A) Eingabe (Schüler)'!C62:AH62))","v":{"$error":"#N/A"}},{"$f":"IF(E54<2, #N/A, STDEVP('A) Eingabe (Schüler)'!C62:AH62))","v":{"$error":"#N/A"}},{"$error":"#N/A"},{"$f":"COUNT('A) Eingabe (Schüler)'!C62:AH62)","v":0},{"$f":"IF(E54<2,#N/A,COUNTIF('A) Eingabe (Schüler)'!C62:AH62,1))","v":{"$error":"#N/A"}},{"$f":"IF(E54<2,#N/A,COUNTIF('A) Eingabe (Schüler)'!C62:AH62,2))","v":{"$error":"#N/A"}},{"$f":"IF(E54<2,#N/A,COUNTIF('A) Eingabe (Schüler)'!C62:AH62,3))","v":{"$error":"#N/A"}},{"$f":"IF(E54<2,#N/A,COUNTIF('A) Eingabe (Schüler)'!C62:AH62,4))","v":{"$error":"#N/A"}},{"$f":"IF('A) Eingabe (Lehrer)'!C62=\"\", #N/A, 'A) Eingabe (Lehrer)'!C62)","v":{"$error":"#N/A"}},{"$f":"IF(N54=0, #N/A,AVERAGE('A) Eingabe (Lehrer)'!D62:AH62))","v":{"$error":"#N/A"}},{"$f":"IF(N54<1, #N/A, STDEVP('A) Eingabe (Lehrer)'!D62:AH62))","v":{"$error":"#N/A"}},{"$error":"#N/A"},{"$f":"COUNT('A) Eingabe (Lehrer)'!D62:AH62)","v":0},{"$f":"IF(N54<1,#N/A,COUNTIF('A) Eingabe (Lehrer)'!D62:AH62,1))","v":{"$error":"#N/A"}},{"$f":"IF(N54<1,#N/A,COUNTIF('A) Eingabe (Lehrer)'!D62:AH62,2))","v":{"$error":"#N/A"}},{"$f":"IF(N54<1,#N/A,COUNTIF('A) Eingabe (Lehrer)'!D62:AH62,3))","v":{"$error":"#N/A"}},{"$f":"IF(N54<1,#N/A,COUNTIF('A) Eingabe (Lehrer)'!D62:AH62,4))","v":{"$error":"#N/A"}},{"$f":"IF('A) Eingabe (Lehrer)'!C62=\"\", #N/A, 'A) Eingabe (Lehrer)'!C62)","v":{"$error":"#N/A"}}]
[{"$f":"FragenErstellen!A59","v":53},{"$f":"IF($E55=0, #N/A,AVERAGE('A) Eingabe (Schüler)'!C63:AH63))","v":{"$error":"#N/A"}},{"$f":"IF(E55<2, #N/A, STDEVP('A) Eingabe (Schüler)'!C63:AH63))","v":{"$error":"#N/A"}},{"$error":"#N/A"},{"$f":"COUNT('A) Eingabe (Schüler)'!C63:AH63)","v":0},{"$f":"IF(E55<2,#N/A,COUNTIF('A) Eingabe (Schüler)'!C63:AH63,1))","v":{"$error":"#N/A"}},{"$f":"IF(E55<2,#N/A,COUNTIF('A) Eingabe (Schüler)'!C63:AH63,2))","v":{"$error":"#N/A"}},{"$f":"IF(E55<2,#N/A,COUNTIF('A) Eingabe (Schüler)'!C63:AH63,3))","v":{"$error":"#N/A"}},{"$f":"IF(E55<2,#N/A,COUNTIF('A) Eingabe (Schüler)'!C63:AH63,4))","v":{"$error":"#N/A"}},{"$f":"IF('A) Eingabe (Lehrer)'!C63=\"\", #N/A, 'A) Eingabe (Lehrer)'!C63)","v":{"$error":"#N/A"}},{"$f":"IF(N55=0, #N/A,AVERAGE('A) Eingabe (Lehrer)'!D63:AH63))","v":{"$error":"#N/A"}},{"$f":"IF(N55<1, #N/A, STDEVP('A) Eingabe (Lehrer)'!D63:AH63))","v":{"$error":"#N/A"}},{"$error":"#N/A"},{"$f":"COUNT('A) Eingabe (Lehrer)'!D63:AH63)","v":0},{"$f":"IF(N55<1,#N/A,COUNTIF('A) Eingabe (Lehrer)'!D63:AH63,1))","v":{"$error":"#N/A"}},{"$f":"IF(N55<1,#N/A,COUNTIF('A) Eingabe (Lehrer)'!D63:AH63,2))","v":{"$error":"#N/A"}},{"$f":"IF(N55<1,#N/A,COUNTIF('A) Eingabe (Lehrer)'!D63:AH63,3))","v":{"$error":"#N/A"}},{"$f":"IF(N55<1,#N/A,COUNTIF('A) Eingabe (Lehrer)'!D63:AH63,4))","v":{"$error":"#N/A"}},{"$f":"IF('A) Eingabe (Lehrer)'!C63=\"\", #N/A, 'A) Eingabe (Lehrer)'!C63)","v":{"$error":"#N/A"}}]
[{"$f":"FragenErstellen!A60","v":54},{"$f":"IF($E56=0, #N/A,AVERAGE('A) Eingabe (Schüler)'!C64:AH64))","v":{"$error":"#N/A"}},{"$f":"IF(E56<2, #N/A, STDEVP('A) Eingabe (Schüler)'!C64:AH64))","v":{"$error":"#N/A"}},{"$error":"#N/A"},{"$f":"COUNT('A) Eingabe (Schüler)'!C64:AH64)","v":0},{"$f":"IF(E56<2,#N/A,COUNTIF('A) Eingabe (Schüler)'!C64:AH64,1))","v":{"$error":"#N/A"}},{"$f":"IF(E56<2,#N/A,COUNTIF('A) Eingabe (Schüler)'!C64:AH64,2))","v":{"$error":"#N/A"}},{"$f":"IF(E56<2,#N/A,COUNTIF('A) Eingabe (Schüler)'!C64:AH64,3))","v":{"$error":"#N/A"}},{"$f":"IF(E56<2,#N/A,COUNTIF('A) Eingabe (Schüler)'!C64:AH64,4))","v":{"$error":"#N/A"}},{"$f":"IF('A) Eingabe (Lehrer)'!C64=\"\", #N/A, 'A) Eingabe (Lehrer)'!C64)","v":{"$error":"#N/A"}},{"$f":"IF(N56=0, #N/A,AVERAGE('A) Eingabe (Lehrer)'!D64:AH64))","v":{"$error":"#N/A"}},{"$f":"IF(N56<1, #N/A, STDEVP('A) Eingabe (Lehrer)'!D64:AH64))","v":{"$error":"#N/A"}},{"$error":"#N/A"},{"$f":"COUNT('A) Eingabe (Lehrer)'!D64:AH64)","v":0},{"$f":"IF(N56<1,#N/A,COUNTIF('A) Eingabe (Lehrer)'!D64:AH64,1))","v":{"$error":"#N/A"}},{"$f":"IF(N56<1,#N/A,COUNTIF('A) Eingabe (Lehrer)'!D64:AH64,2))","v":{"$error":"#N/A"}},{"$f":"IF(N56<1,#N/A,COUNTIF('A) Eingabe (Lehrer)'!D64:AH64,3))","v":{"$error":"#N/A"}},{"$f":"IF(N56<1,#N/A,COUNTIF('A) Eingabe (Lehrer)'!D64:AH64,4))","v":{"$error":"#N/A"}},{"$f":"IF('A) Eingabe (Lehrer)'!C64=\"\", #N/A, 'A) Eingabe (Lehrer)'!C64)","v":{"$error":"#N/A"}}]
[{"$f":"FragenErstellen!A61","v":55},{"$f":"IF($E57=0, #N/A,AVERAGE('A) Eingabe (Schüler)'!C65:AH65))","v":{"$error":"#N/A"}},{"$f":"IF(E57<2, #N/A, STDEVP('A) Eingabe (Schüler)'!C65:AH65))","v":{"$error":"#N/A"}},{"$error":"#N/A"},{"$f":"COUNT('A) Eingabe (Schüler)'!C65:AH65)","v":0},{"$f":"IF(E57<2,#N/A,COUNTIF('A) Eingabe (Schüler)'!C65:AH65,1))","v":{"$error":"#N/A"}},{"$f":"IF(E57<2,#N/A,COUNTIF('A) Eingabe (Schüler)'!C65:AH65,2))","v":{"$error":"#N/A"}},{"$f":"IF(E57<2,#N/A,COUNTIF('A) Eingabe (Schüler)'!C65:AH65,3))","v":{"$error":"#N/A"}},{"$f":"IF(E57<2,#N/A,COUNTIF('A) Eingabe (Schüler)'!C65:AH65,4))","v":{"$error":"#N/A"}},{"$f":"IF('A) Eingabe (Lehrer)'!C65=\"\", #N/A, 'A) Eingabe (Lehrer)'!C65)","v":{"$error":"#N/A"}},{"$f":"IF(N57=0, #N/A,AVERAGE('A) Eingabe (Lehrer)'!D65:AH65))","v":{"$error":"#N/A"}},{"$f":"IF(N57<1, #N/A, STDEVP('A) Eingabe (Lehrer)'!D65:AH65))","v":{"$error":"#N/A"}},{"$error":"#N/A"},{"$f":"COUNT('A) Eingabe (Lehrer)'!D65:AH65)","v":0},{"$f":"IF(N57<1,#N/A,COUNTIF('A) Eingabe (Lehrer)'!D65:AH65,1))","v":{"$error":"#N/A"}},{"$f":"IF(N57<1,#N/A,COUNTIF('A) Eingabe (Lehrer)'!D65:AH65,2))","v":{"$error":"#N/A"}},{"$f":"IF(N57<1,#N/A,COUNTIF('A) Eingabe (Lehrer)'!D65:AH65,3))","v":{"$error":"#N/A"}},{"$f":"IF(N57<1,#N/A,COUNTIF('A) Eingabe (Lehrer)'!D65:AH65,4))","v":{"$error":"#N/A"}},{"$f":"IF('A) Eingabe (Lehrer)'!C65=\"\", #N/A, 'A) Eingabe (Lehrer)'!C65)","v":{"$error":"#N/A"}}]
[{"$f":"FragenErstellen!A62","v":56},{"$f":"IF($E58=0, #N/A,AVERAGE('A) Eingabe (Schüler)'!C66:AH66))","v":{"$error":"#N/A"}},{"$f":"IF(E58<2, #N/A, STDEVP('A) Eingabe (Schüler)'!C66:AH66))","v":{"$error":"#N/A"}},{"$error":"#N/A"},{"$f":"COUNT('A) Eingabe (Schüler)'!C66:AH66)","v":0},{"$f":"IF(E58<2,#N/A,COUNTIF('A) Eingabe (Schüler)'!C66:AH66,1))","v":{"$error":"#N/A"}},{"$f":"IF(E58<2,#N/A,COUNTIF('A) Eingabe (Schüler)'!C66:AH66,2))","v":{"$error":"#N/A"}},{"$f":"IF(E58<2,#N/A,COUNTIF('A) Eingabe (Schüler)'!C66:AH66,3))","v":{"$error":"#N/A"}},{"$f":"IF(E58<2,#N/A,COUNTIF('A) Eingabe (Schüler)'!C66:AH66,4))","v":{"$error":"#N/A"}},{"$f":"IF('A) Eingabe (Lehrer)'!C66=\"\", #N/A, 'A) Eingabe (Lehrer)'!C66)","v":{"$error":"#N/A"}},{"$f":"IF(N58=0, #N/A,AVERAGE('A) Eingabe (Lehrer)'!D66:AH66))","v":{"$error":"#N/A"}},{"$f":"IF(N58<1, #N/A, STDEVP('A) Eingabe (Lehrer)'!D66:AH66))","v":{"$error":"#N/A"}},{"$error":"#N/A"},{"$f":"COUNT('A) Eingabe (Lehrer)'!D66:AH66)","v":0},{"$f":"IF(N58<1,#N/A,COUNTIF('A) Eingabe (Lehrer)'!D66:AH66,1))","v":{"$error":"#N/A"}},{"$f":"IF(N58<1,#N/A,COUNTIF('A) Eingabe (Lehrer)'!D66:AH66,2))","v":{"$error":"#N/A"}},{"$f":"IF(N58<1,#N/A,COUNTIF('A) Eingabe (Lehrer)'!D66:AH66,3))","v":{"$error":"#N/A"}},{"$f":"IF(N58<1,#N/A,COUNTIF('A) Eingabe (Lehrer)'!D66:AH66,4))","v":{"$error":"#N/A"}},{"$f":"IF('A) Eingabe (Lehrer)'!C66=\"\", #N/A, 'A) Eingabe (Lehrer)'!C66)","v":{"$error":"#N/A"}}]
[{"$f":"FragenErstellen!A63","v":57},{"$f":"IF($E59=0, #N/A,AVERAGE('A) Eingabe (Schüler)'!C67:AH67))","v":{"$error":"#N/A"}},{"$f":"IF(E59<2, #N/A, STDEVP('A) Eingabe (Schüler)'!C67:AH67))","v":{"$error":"#N/A"}},{"$error":"#N/A"},{"$f":"COUNT('A) Eingabe (Schüler)'!C67:AH67)","v":0},{"$f":"IF(E59<2,#N/A,COUNTIF('A) Eingabe (Schüler)'!C67:AH67,1))","v":{"$error":"#N/A"}},{"$f":"IF(E59<2,#N/A,COUNTIF('A) Eingabe (Schüler)'!C67:AH67,2))","v":{"$error":"#N/A"}},{"$f":"IF(E59<2,#N/A,COUNTIF('A) Eingabe (Schüler)'!C67:AH67,3))","v":{"$error":"#N/A"}},{"$f":"IF(E59<2,#N/A,COUNTIF('A) Eingabe (Schüler)'!C67:AH67,4))","v":{"$error":"#N/A"}},{"$f":"IF('A) Eingabe (Lehrer)'!C67=\"\", #N/A, 'A) Eingabe (Lehrer)'!C67)","v":{"$error":"#N/A"}},{"$f":"IF(N59=0, #N/A,AVERAGE('A) Eingabe (Lehrer)'!D67:AH67))","v":{"$error":"#N/A"}},{"$f":"IF(N59<1, #N/A, STDEVP('A) Eingabe (Lehrer)'!D67:AH67))","v":{"$error":"#N/A"}},{"$error":"#N/A"},{"$f":"COUNT('A) Eingabe (Lehrer)'!D67:AH67)","v":0},{"$f":"IF(N59<1,#N/A,COUNTIF('A) Eingabe (Lehrer)'!D67:AH67,1))","v":{"$error":"#N/A"}},{"$f":"IF(N59<1,#N/A,COUNTIF('A) Eingabe (Lehrer)'!D67:AH67,2))","v":{"$error":"#N/A"}},{"$f":"IF(N59<1,#N/A,COUNTIF('A) Eingabe (Lehrer)'!D67:AH67,3))","v":{"$error":"#N/A"}},{"$f":"IF(N59<1,#N/A,COUNTIF('A) Eingabe (Lehrer)'!D67:AH67,4))","v":{"$error":"#N/A"}},{"$f":"IF('A) Eingabe (Lehrer)'!C67=\"\", #N/A, 'A) Eingabe (Lehrer)'!C67)","v":{"$error":"#N/A"}}]
[{"$f":"FragenErstellen!A64","v":58},{"$f":"IF($E60=0, #N/A,AVERAGE('A) Eingabe (Schüler)'!C68:AH68))","v":{"$error":"#N/A"}},{"$f":"IF(E60<2, #N/A, STDEVP('A) Eingabe (Schüler)'!C68:AH68))","v":{"$error":"#N/A"}},{"$error":"#N/A"},{"$f":"COUNT('A) Eingabe (Schüler)'!C68:AH68)","v":0},{"$f":"IF(E60<2,#N/A,COUNTIF('A) Eingabe (Schüler)'!C68:AH68,1))","v":{"$error":"#N/A"}},{"$f":"IF(E60<2,#N/A,COUNTIF('A) Eingabe (Schüler)'!C68:AH68,2))","v":{"$error":"#N/A"}},{"$f":"IF(E60<2,#N/A,COUNTIF('A) Eingabe (Schüler)'!C68:AH68,3))","v":{"$error":"#N/A"}},{"$f":"IF(E60<2,#N/A,COUNTIF('A) Eingabe (Schüler)'!C68:AH68,4))","v":{"$error":"#N/A"}},{"$f":"IF('A) Eingabe (Lehrer)'!C68=\"\", #N/A, 'A) Eingabe (Lehrer)'!C68)","v":{"$error":"#N/A"}},{"$f":"IF(N60=0, #N/A,AVERAGE('A) Eingabe (Lehrer)'!D68:AH68))","v":{"$error":"#N/A"}},{"$f":"IF(N60<1, #N/A, STDEVP('A) Eingabe (Lehrer)'!D68:AH68))","v":{"$error":"#N/A"}},{"$error":"#N/A"},{"$f":"COUNT('A) Eingabe (Lehrer)'!D68:AH68)","v":0},{"$f":"IF(N60<1,#N/A,COUNTIF('A) Eingabe (Lehrer)'!D68:AH68,1))","v":{"$error":"#N/A"}},{"$f":"IF(N60<1,#N/A,COUNTIF('A) Eingabe (Lehrer)'!D68:AH68,2))","v":{"$error":"#N/A"}},{"$f":"IF(N60<1,#N/A,COUNTIF('A) Eingabe (Lehrer)'!D68:AH68,3))","v":{"$error":"#N/A"}},{"$f":"IF(N60<1,#N/A,COUNTIF('A) Eingabe (Lehrer)'!D68:AH68,4))","v":{"$error":"#N/A"}},{"$f":"IF('A) Eingabe (Lehrer)'!C68=\"\", #N/A, 'A) Eingabe (Lehrer)'!C68)","v":{"$error":"#N/A"}}]
[{"$f":"FragenErstellen!A65","v":59},{"$f":"IF($E61=0, #N/A,AVERAGE('A) Eingabe (Schüler)'!C69:AH69))","v":{"$error":"#N/A"}},{"$f":"IF(E61<2, #N/A, STDEVP('A) Eingabe (Schüler)'!C69:AH69))","v":{"$error":"#N/A"}},{"$error":"#N/A"},{"$f":"COUNT('A) Eingabe (Schüler)'!C69:AH69)","v":0},{"$f":"IF(E61<2,#N/A,COUNTIF('A) Eingabe (Schüler)'!C69:AH69,1))","v":{"$error":"#N/A"}},{"$f":"IF(E61<2,#N/A,COUNTIF('A) Eingabe (Schüler)'!C69:AH69,2))","v":{"$error":"#N/A"}},{"$f":"IF(E61<2,#N/A,COUNTIF('A) Eingabe (Schüler)'!C69:AH69,3))","v":{"$error":"#N/A"}},{"$f":"IF(E61<2,#N/A,COUNTIF('A) Eingabe (Schüler)'!C69:AH69,4))","v":{"$error":"#N/A"}},{"$f":"IF('A) Eingabe (Lehrer)'!C69=\"\", #N/A, 'A) Eingabe (Lehrer)'!C69)","v":{"$error":"#N/A"}},{"$f":"IF(N61=0, #N/A,AVERAGE('A) Eingabe (Lehrer)'!D69:AH69))","v":{"$error":"#N/A"}},{"$f":"IF(N61<1, #N/A, STDEVP('A) Eingabe (Lehrer)'!D69:AH69))","v":{"$error":"#N/A"}},{"$error":"#N/A"},{"$f":"COUNT('A) Eingabe (Lehrer)'!D69:AH69)","v":0},{"$f":"IF(N61<1,#N/A,COUNTIF('A) Eingabe (Lehrer)'!D69:AH69,1))","v":{"$error":"#N/A"}},{"$f":"IF(N61<1,#N/A,COUNTIF('A) Eingabe (Lehrer)'!D69:AH69,2))","v":{"$error":"#N/A"}},{"$f":"IF(N61<1,#N/A,COUNTIF('A) Eingabe (Lehrer)'!D69:AH69,3))","v":{"$error":"#N/A"}},{"$f":"IF(N61<1,#N/A,COUNTIF('A) Eingabe (Lehrer)'!D69:AH69,4))","v":{"$error":"#N/A"}},{"$f":"IF('A) Eingabe (Lehrer)'!C69=\"\", #N/A, 'A) Eingabe (Lehrer)'!C69)","v":{"$error":"#N/A"}}]
[{"$f":"FragenErstellen!A66","v":60},{"$f":"IF($E62=0, #N/A,AVERAGE('A) Eingabe (Schüler)'!C70:AH70))","v":{"$error":"#N/A"}},{"$f":"IF(E62<2, #N/A, STDEVP('A) Eingabe (Schüler)'!C70:AH70))","v":{"$error":"#N/A"}},{"$error":"#N/A"},{"$f":"COUNT('A) Eingabe (Schüler)'!C70:AH70)","v":0},{"$f":"IF(E62<2,#N/A,COUNTIF('A) Eingabe (Schüler)'!C70:AH70,1))","v":{"$error":"#N/A"}},{"$f":"IF(E62<2,#N/A,COUNTIF('A) Eingabe (Schüler)'!C70:AH70,2))","v":{"$error":"#N/A"}},{"$f":"IF(E62<2,#N/A,COUNTIF('A) Eingabe (Schüler)'!C70:AH70,3))","v":{"$error":"#N/A"}},{"$f":"IF(E62<2,#N/A,COUNTIF('A) Eingabe (Schüler)'!C70:AH70,4))","v":{"$error":"#N/A"}},{"$f":"IF('A) Eingabe (Lehrer)'!C70=\"\", #N/A, 'A) Eingabe (Lehrer)'!C70)","v":{"$error":"#N/A"}},{"$f":"IF(N62=0, #N/A,AVERAGE('A) Eingabe (Lehrer)'!D70:AH70))","v":{"$error":"#N/A"}},{"$f":"IF(N62<1, #N/A, STDEVP('A) Eingabe (Lehrer)'!D70:AH70))","v":{"$error":"#N/A"}},{"$error":"#N/A"},{"$f":"COUNT('A) Eingabe (Lehrer)'!D70:AH70)","v":0},{"$f":"IF(N62<1,#N/A,COUNTIF('A) Eingabe (Lehrer)'!D70:AH70,1))","v":{"$error":"#N/A"}},{"$f":"IF(N62<1,#N/A,COUNTIF('A) Eingabe (Lehrer)'!D70:AH70,2))","v":{"$error":"#N/A"}},{"$f":"IF(N62<1,#N/A,COUNTIF('A) Eingabe (Lehrer)'!D70:AH70,3))","v":{"$error":"#N/A"}},{"$f":"IF(N62<1,#N/A,COUNTIF('A) Eingabe (Lehrer)'!D70:AH70,4))","v":{"$error":"#N/A"}},{"$f":"IF('A) Eingabe (Lehrer)'!C70=\"\", #N/A, 'A) Eingabe (Lehrer)'!C70)","v":{"$error":"#N/A"}}]
[{"$f":"FragenErstellen!A67","v":0},{"$f":"IF($E63=0, #N/A,AVERAGE('A) Eingabe (Schüler)'!C71:AH71))","v":{"$error":"#N/A"}},{"$f":"IF(E63<2, #N/A, STDEVP('A) Eingabe (Schüler)'!C71:AH71))","v":{"$error":"#N/A"}},{"$error":"#N/A"},{"$f":"COUNT('A) Eingabe (Schüler)'!C71:AH71)","v":0},{"$f":"IF(E63<2,#N/A,COUNTIF('A) Eingabe (Schüler)'!C71:AH71,1))","v":{"$error":"#N/A"}},{"$f":"IF(E63<2,#N/A,COUNTIF('A) Eingabe (Schüler)'!C71:AH71,2))","v":{"$error":"#N/A"}},{"$f":"IF(E63<2,#N/A,COUNTIF('A) Eingabe (Schüler)'!C71:AH71,3))","v":{"$error":"#N/A"}},{"$f":"IF(E63<2,#N/A,COUNTIF('A) Eingabe (Schüler)'!C71:AH71,4))","v":{"$error":"#N/A"}},{"$f":"IF('A) Eingabe (Lehrer)'!C71=\"\", #N/A, 'A) Eingabe (Lehrer)'!C71)","v":{"$error":"#N/A"}},{"$f":"IF(N63=0, #N/A,AVERAGE('A) Eingabe (Lehrer)'!D71:AH71))","v":{"$error":"#N/A"}},{"$f":"IF(N63<1, #N/A, STDEVP('A) Eingabe (Lehrer)'!D71:AH71))","v":{"$error":"#N/A"}},{"$error":"#N/A"},{"$f":"COUNT('A) Eingabe (Lehrer)'!D71:AH71)","v":0},{"$f":"IF(N63<1,#N/A,COUNTIF('A) Eingabe (Lehrer)'!D71:AH71,1))","v":{"$error":"#N/A"}},{"$f":"IF(N63<1,#N/A,COUNTIF('A) Eingabe (Lehrer)'!D71:AH71,2))","v":{"$error":"#N/A"}},{"$f":"IF(N63<1,#N/A,COUNTIF('A) Eingabe (Lehrer)'!D71:AH71,3))","v":{"$error":"#N/A"}},{"$f":"IF(N63<1,#N/A,COUNTIF('A) Eingabe (Lehrer)'!D71:AH71,4))","v":{"$error":"#N/A"}},{"$f":"IF('A) Eingabe (Lehrer)'!C71=\"\", #N/A, 'A) Eingabe (Lehrer)'!C71)","v":{"$error":"#N/A"}}]
[{"$f":"FragenErstellen!A68","v":0},{"$f":"IF($E64=0, #N/A,AVERAGE('A) Eingabe (Schüler)'!C72:AH72))","v":{"$error":"#N/A"}},{"$f":"IF(E64<2, #N/A, STDEVP('A) Eingabe (Schüler)'!C72:AH72))","v":{"$error":"#N/A"}},{"$error":"#N/A"},{"$f":"COUNT('A) Eingabe (Schüler)'!C72:AH72)","v":0},{"$f":"IF(E64<2,#N/A,COUNTIF('A) Eingabe (Schüler)'!C72:AH72,1))","v":{"$error":"#N/A"}},{"$f":"IF(E64<2,#N/A,COUNTIF('A) Eingabe (Schüler)'!C72:AH72,2))","v":{"$error":"#N/A"}},{"$f":"IF(E64<2,#N/A,COUNTIF('A) Eingabe (Schüler)'!C72:AH72,3))","v":{"$error":"#N/A"}},{"$f":"IF(E64<2,#N/A,COUNTIF('A) Eingabe (Schüler)'!C72:AH72,4))","v":{"$error":"#N/A"}},{"$f":"IF('A) Eingabe (Lehrer)'!C72=\"\", #N/A, 'A) Eingabe (Lehrer)'!C72)","v":{"$error":"#N/A"}},{"$f":"IF(N64=0, #N/A,AVERAGE('A) Eingabe (Lehrer)'!D72:AH72))","v":{"$error":"#N/A"}},{"$f":"IF(N64<1, #N/A, STDEVP('A) Eingabe (Lehrer)'!D72:AH72))","v":{"$error":"#N/A"}},{"$error":"#N/A"},{"$f":"COUNT('A) Eingabe (Lehrer)'!D72:AH72)","v":0},{"$f":"IF(N64<1,#N/A,COUNTIF('A) Eingabe (Lehrer)'!D72:AH72,1))","v":{"$error":"#N/A"}},{"$f":"IF(N64<1,#N/A,COUNTIF('A) Eingabe (Lehrer)'!D72:AH72,2))","v":{"$error":"#N/A"}},{"$f":"IF(N64<1,#N/A,COUNTIF('A) Eingabe (Lehrer)'!D72:AH72,3))","v":{"$error":"#N/A"}},{"$f":"IF(N64<1,#N/A,COUNTIF('A) Eingabe (Lehrer)'!D72:AH72,4))","v":{"$error":"#N/A"}},{"$f":"IF('A) Eingabe (Lehrer)'!C72=\"\", #N/A, 'A) Eingabe (Lehrer)'!C72)","v":{"$error":"#N/A"}}]
[{"$f":"FragenErstellen!A69","v":0},{"$f":"IF($E65=0, #N/A,AVERAGE('A) Eingabe (Schüler)'!C73:AH73))","v":{"$error":"#N/A"}},{"$f":"IF(E65<2, #N/A, STDEVP('A) Eingabe (Schüler)'!C73:AH73))","v":{"$error":"#N/A"}},{"$error":"#N/A"},{"$f":"COUNT('A) Eingabe (Schüler)'!C73:AH73)","v":0},{"$f":"IF(E65<2,#N/A,COUNTIF('A) Eingabe (Schüler)'!C73:AH73,1))","v":{"$error":"#N/A"}},{"$f":"IF(E65<2,#N/A,COUNTIF('A) Eingabe (Schüler)'!C73:AH73,2))","v":{"$error":"#N/A"}},{"$f":"IF(E65<2,#N/A,COUNTIF('A) Eingabe (Schüler)'!C73:AH73,3))","v":{"$error":"#N/A"}},{"$f":"IF(E65<2,#N/A,COUNTIF('A) Eingabe (Schüler)'!C73:AH73,4))","v":{"$error":"#N/A"}},{"$f":"IF('A) Eingabe (Lehrer)'!C73=\"\", #N/A, 'A) Eingabe (Lehrer)'!C73)","v":{"$error":"#N/A"}},{"$f":"IF(N65=0, #N/A,AVERAGE('A) Eingabe (Lehrer)'!D73:AH73))","v":{"$error":"#N/A"}},{"$f":"IF(N65<1, #N/A, STDEVP('A) Eingabe (Lehrer)'!D73:AH73))","v":{"$error":"#N/A"}},{"$error":"#N/A"},{"$f":"COUNT('A) Eingabe (Lehrer)'!D73:AH73)","v":0},{"$f":"IF(N65<1,#N/A,COUNTIF('A) Eingabe (Lehrer)'!D73:AH73,1))","v":{"$error":"#N/A"}},{"$f":"IF(N65<1,#N/A,COUNTIF('A) Eingabe (Lehrer)'!D73:AH73,2))","v":{"$error":"#N/A"}},{"$f":"IF(N65<1,#N/A,COUNTIF('A) Eingabe (Lehrer)'!D73:AH73,3))","v":{"$error":"#N/A"}},{"$f":"IF(N65<1,#N/A,COUNTIF('A) Eingabe (Lehrer)'!D73:AH73,4))","v":{"$error":"#N/A"}},{"$f":"IF('A) Eingabe (Lehrer)'!C73=\"\", #N/A, 'A) Eingabe (Lehrer)'!C73)","v":{"$error":"#N/A"}}]
[{"$f":"FragenErstellen!A70","v":0},{"$f":"IF($E66=0, #N/A,AVERAGE('A) Eingabe (Schüler)'!C74:AH74))","v":{"$error":"#N/A"}},{"$f":"IF(E66<2, #N/A, STDEVP('A) Eingabe (Schüler)'!C74:AH74))","v":{"$error":"#N/A"}},{"$error":"#N/A"},{"$f":"COUNT('A) Eingabe (Schüler)'!C74:AH74)","v":0},{"$f":"IF(E66<2,#N/A,COUNTIF('A) Eingabe (Schüler)'!C74:AH74,1))","v":{"$error":"#N/A"}},{"$f":"IF(E66<2,#N/A,COUNTIF('A) Eingabe (Schüler)'!C74:AH74,2))","v":{"$error":"#N/A"}},{"$f":"IF(E66<2,#N/A,COUNTIF('A) Eingabe (Schüler)'!C74:AH74,3))","v":{"$error":"#N/A"}},{"$f":"IF(E66<2,#N/A,COUNTIF('A) Eingabe (Schüler)'!C74:AH74,4))","v":{"$error":"#N/A"}},{"$f":"IF('A) Eingabe (Lehrer)'!C74=\"\", #N/A, 'A) Eingabe (Lehrer)'!C74)","v":{"$error":"#N/A"}},{"$f":"IF(N66=0, #N/A,AVERAGE('A) Eingabe (Lehrer)'!D74:AH74))","v":{"$error":"#N/A"}},{"$f":"IF(N66<1, #N/A, STDEVP('A) Eingabe (Lehrer)'!D74:AH74))","v":{"$error":"#N/A"}},{"$error":"#N/A"},{"$f":"COUNT('A) Eingabe (Lehrer)'!D74:AH74)","v":0},{"$f":"IF(N66<1,#N/A,COUNTIF('A) Eingabe (Lehrer)'!D74:AH74,1))","v":{"$error":"#N/A"}},{"$f":"IF(N66<1,#N/A,COUNTIF('A) Eingabe (Lehrer)'!D74:AH74,2))","v":{"$error":"#N/A"}},{"$f":"IF(N66<1,#N/A,COUNTIF('A) Eingabe (Lehrer)'!D74:AH74,3))","v":{"$error":"#N/A"}},{"$f":"IF(N66<1,#N/A,COUNTIF('A) Eingabe (Lehrer)'!D74:AH74,4))","v":{"$error":"#N/A"}},{"$f":"IF('A) Eingabe (Lehrer)'!C74=\"\", #N/A, 'A) Eingabe (Lehrer)'!C74)","v":{"$error":"#N/A"}}]
[{"$f":"FragenErstellen!A71","v":0},{"$f":"IF($E67=0, #N/A,AVERAGE('A) Eingabe (Schüler)'!C75:AH75))","v":{"$error":"#N/A"}},{"$f":"IF(E67<2, #N/A, STDEVP('A) Eingabe (Schüler)'!C75:AH75))","v":{"$error":"#N/A"}},{"$error":"#N/A"},{"$f":"COUNT('A) Eingabe (Schüler)'!C75:AH75)","v":0},{"$f":"IF(E67<2,#N/A,COUNTIF('A) Eingabe (Schüler)'!C75:AH75,1))","v":{"$error":"#N/A"}},{"$f":"IF(E67<2,#N/A,COUNTIF('A) Eingabe (Schüler)'!C75:AH75,2))","v":{"$error":"#N/A"}},{"$f":"IF(E67<2,#N/A,COUNTIF('A) Eingabe (Schüler)'!C75:AH75,3))","v":{"$error":"#N/A"}},{"$f":"IF(E67<2,#N/A,COUNTIF('A) Eingabe (Schüler)'!C75:AH75,4))","v":{"$error":"#N/A"}},{"$f":"IF('A) Eingabe (Lehrer)'!C75=\"\", #N/A, 'A) Eingabe (Lehrer)'!C75)","v":{"$error":"#N/A"}},{"$f":"IF(N67=0, #N/A,AVERAGE('A) Eingabe (Lehrer)'!D75:AH75))","v":{"$error":"#N/A"}},{"$f":"IF(N67<1, #N/A, STDEVP('A) Eingabe (Lehrer)'!D75:AH75))","v":{"$error":"#N/A"}},{"$error":"#N/A"},{"$f":"COUNT('A) Eingabe (Lehrer)'!D75:AH75)","v":0},{"$f":"IF(N67<1,#N/A,COUNTIF('A) Eingabe (Lehrer)'!D75:AH75,1))","v":{"$error":"#N/A"}},{"$f":"IF(N67<1,#N/A,COUNTIF('A) Eingabe (Lehrer)'!D75:AH75,2))","v":{"$error":"#N/A"}},{"$f":"IF(N67<1,#N/A,COUNTIF('A) Eingabe (Lehrer)'!D75:AH75,3))","v":{"$error":"#N/A"}},{"$f":"IF(N67<1,#N/A,COUNTIF('A) Eingabe (Lehrer)'!D75:AH75,4))","v":{"$error":"#N/A"}},{"$f":"IF('A) Eingabe (Lehrer)'!C75=\"\", #N/A, 'A) Eingabe (Lehrer)'!C75)","v":{"$error":"#N/A"}}]
[{"$f":"FragenErstellen!A72","v":0},{"$f":"IF($E68=0, #N/A,AVERAGE('A) Eingabe (Schüler)'!C76:AH76))","v":{"$error":"#N/A"}},{"$f":"IF(E68<2, #N/A, STDEVP('A) Eingabe (Schüler)'!C76:AH76))","v":{"$error":"#N/A"}},{"$f":"IF(E68<2, #N/A, 100*(H68+I68)/E68)","v":{"$error":"#N/A"}},{"$f":"COUNT('A) Eingabe (Schüler)'!C76:AH76)","v":0},{"$f":"IF(E68<2,#N/A,COUNTIF('A) Eingabe (Schüler)'!C76:AH76,1))","v":{"$error":"#N/A"}},{"$f":"IF(E68<2,#N/A,COUNTIF('A) Eingabe (Schüler)'!C76:AH76,2))","v":{"$error":"#N/A"}},{"$f":"IF(E68<2,#N/A,COUNTIF('A) Eingabe (Schüler)'!C76:AH76,3))","v":{"$error":"#N/A"}},{"$f":"IF(E68<2,#N/A,COUNTIF('A) Eingabe (Schüler)'!C76:AH76,4))","v":{"$error":"#N/A"}},{"$f":"IF('A) Eingabe (Lehrer)'!C76=\"\", #N/A, 'A) Eingabe (Lehrer)'!C76)","v":{"$error":"#N/A"}},{"$f":"IF(N68=0, #N/A,AVERAGE('A) Eingabe (Lehrer)'!D76:AH76))","v":{"$error":"#N/A"}},{"$f":"IF(N68<1, #N/A, STDEVP('A) Eingabe (Lehrer)'!D76:AH76))","v":{"$error":"#N/A"}},{"$f":"IF(N68<1, #N/A, 100*(Q68+R68)/N68)","v":{"$error":"#N/A"}},{"$f":"COUNT('A) Eingabe (Lehrer)'!D76:AH76)","v":0},{"$f":"IF(N68<1,#N/A,COUNTIF('A) Eingabe (Lehrer)'!D76:AH76,1))","v":{"$error":"#N/A"}},{"$f":"IF(N68<1,#N/A,COUNTIF('A) Eingabe (Lehrer)'!D76:AH76,2))","v":{"$error":"#N/A"}},{"$f":"IF(N68<1,#N/A,COUNTIF('A) Eingabe (Lehrer)'!D76:AH76,3))","v":{"$error":"#N/A"}},{"$f":"IF(N68<1,#N/A,COUNTIF('A) Eingabe (Lehrer)'!D76:AH76,4))","v":{"$error":"#N/A"}},{"$f":"IF('A) Eingabe (Lehrer)'!C76=\"\", #N/A, 'A) Eingabe (Lehrer)'!C76)","v":{"$error":"#N/A"}}]
[{"$f":"FragenErstellen!A73","v":0},{"$f":"IF($E69=0, #N/A,AVERAGE('A) Eingabe (Schüler)'!C77:AH77))","v":{"$error":"#N/A"}},{"$f":"IF(E69<2, #N/A, STDEVP('A) Eingabe (Schüler)'!C77:AH77))","v":{"$error":"#N/A"}},{"$error":"#N/A"},{"$f":"COUNT('A) Eingabe (Schüler)'!C77:AH77)","v":0},{"$f":"IF(E69<2,#N/A,COUNTIF('A) Eingabe (Schüler)'!C77:AH77,1))","v":{"$error":"#N/A"}},{"$f":"IF(E69<2,#N/A,COUNTIF('A) Eingabe (Schüler)'!C77:AH77,2))","v":{"$error":"#N/A"}},{"$f":"IF(E69<2,#N/A,COUNTIF('A) Eingabe (Schüler)'!C77:AH77,3))","v":{"$error":"#N/A"}},{"$f":"IF(E69<2,#N/A,COUNTIF('A) Eingabe (Schüler)'!C77:AH77,4))","v":{"$error":"#N/A"}},{"$f":"IF('A) Eingabe (Lehrer)'!C77=\"\", #N/A, 'A) Eingabe (Lehrer)'!C77)","v":{"$error":"#N/A"}},{"$f":"IF(N69=0, #N/A,AVERAGE('A) Eingabe (Lehrer)'!D77:AH77))","v":{"$error":"#N/A"}},{"$f":"IF(N69<1, #N/A, STDEVP('A) Eingabe (Lehrer)'!D77:AH77))","v":{"$error":"#N/A"}},{"$error":"#N/A"},{"$f":"COUNT('A) Eingabe (Lehrer)'!D77:AH77)","v":0},{"$f":"IF(N69<1,#N/A,COUNTIF('A) Eingabe (Lehrer)'!D77:AH77,1))","v":{"$error":"#N/A"}},{"$f":"IF(N69<1,#N/A,COUNTIF('A) Eingabe (Lehrer)'!D77:AH77,2))","v":{"$error":"#N/A"}},{"$f":"IF(N69<1,#N/A,COUNTIF('A) Eingabe (Lehrer)'!D77:AH77,3))","v":{"$error":"#N/A"}},{"$f":"IF(N69<1,#N/A,COUNTIF('A) Eingabe (Lehrer)'!D77:AH77,4))","v":{"$error":"#N/A"}},{"$f":"IF('A) Eingabe (Lehrer)'!C77=\"\", #N/A, 'A) Eingabe (Lehrer)'!C77)","v":{"$error":"#N/A"}}]
[{"$f":"FragenErstellen!A74","v":0},{"$f":"IF($E70=0, #N/A,AVERAGE('A) Eingabe (Schüler)'!C78:AH78))","v":{"$error":"#N/A"}},{"$f":"IF(E70<2, #N/A, STDEVP('A) Eingabe (Schüler)'!C78:AH78))","v":{"$error":"#N/A"}},{"$error":"#N/A"},{"$f":"COUNT('A) Eingabe (Schüler)'!C78:AH78)","v":0},{"$f":"IF(E70<2,#N/A,COUNTIF('A) Eingabe (Schüler)'!C78:AH78,1))","v":{"$error":"#N/A"}},{"$f":"IF(E70<2,#N/A,COUNTIF('A) Eingabe (Schüler)'!C78:AH78,2))","v":{"$error":"#N/A"}},{"$f":"IF(E70<2,#N/A,COUNTIF('A) Eingabe (Schüler)'!C78:AH78,3))","v":{"$error":"#N/A"}},{"$f":"IF(E70<2,#N/A,COUNTIF('A) Eingabe (Schüler)'!C78:AH78,4))","v":{"$error":"#N/A"}},{"$f":"IF('A) Eingabe (Lehrer)'!C78=\"\", #N/A, 'A) Eingabe (Lehrer)'!C78)","v":{"$error":"#N/A"}},{"$f":"IF(N70=0, #N/A,AVERAGE('A) Eingabe (Lehrer)'!D78:AH78))","v":{"$error":"#N/A"}},{"$f":"IF(N70<1, #N/A, STDEVP('A) Eingabe (Lehrer)'!D78:AH78))","v":{"$error":"#N/A"}},{"$error":"#N/A"},{"$f":"COUNT('A) Eingabe (Lehrer)'!D78:AH78)","v":0},{"$f":"IF(N70<1,#N/A,COUNTIF('A) Eingabe (Lehrer)'!D78:AH78,1))","v":{"$error":"#N/A"}},{"$f":"IF(N70<1,#N/A,COUNTIF('A) Eingabe (Lehrer)'!D78:AH78,2))","v":{"$error":"#N/A"}},{"$f":"IF(N70<1,#N/A,COUNTIF('A) Eingabe (Lehrer)'!D78:AH78,3))","v":{"$error":"#N/A"}},{"$f":"IF(N70<1,#N/A,COUNTIF('A) Eingabe (Lehrer)'!D78:AH78,4))","v":{"$error":"#N/A"}},{"$f":"IF('A) Eingabe (Lehrer)'!C78=\"\", #N/A, 'A) Eingabe (Lehrer)'!C78)","v":{"$error":"#N/A"}}]
[{"$f":"FragenErstellen!A75","v":0},{"$f":"IF($E71=0, #N/A,AVERAGE('A) Eingabe (Schüler)'!C79:AH79))","v":{"$error":"#N/A"}},{"$f":"IF(E71<2, #N/A, STDEVP('A) Eingabe (Schüler)'!C79:AH79))","v":{"$error":"#N/A"}},{"$error":"#N/A"},{"$f":"COUNT('A) Eingabe (Schüler)'!C79:AH79)","v":0},{"$f":"IF(E71<2,#N/A,COUNTIF('A) Eingabe (Schüler)'!C79:AH79,1))","v":{"$error":"#N/A"}},{"$f":"IF(E71<2,#N/A,COUNTIF('A) Eingabe (Schüler)'!C79:AH79,2))","v":{"$error":"#N/A"}},{"$f":"IF(E71<2,#N/A,COUNTIF('A) Eingabe (Schüler)'!C79:AH79,3))","v":{"$error":"#N/A"}},{"$f":"IF(E71<2,#N/A,COUNTIF('A) Eingabe (Schüler)'!C79:AH79,4))","v":{"$error":"#N/A"}},{"$f":"IF('A) Eingabe (Lehrer)'!C79=\"\", #N/A, 'A) Eingabe (Lehrer)'!C79)","v":{"$error":"#N/A"}},{"$f":"IF(N71=0, #N/A,AVERAGE('A) Eingabe (Lehrer)'!D79:AH79))","v":{"$error":"#N/A"}},{"$f":"IF(N71<1, #N/A, STDEVP('A) Eingabe (Lehrer)'!D79:AH79))","v":{"$error":"#N/A"}},{"$error":"#N/A"},{"$f":"COUNT('A) Eingabe (Lehrer)'!D79:AH79)","v":0},{"$f":"IF(N71<1,#N/A,COUNTIF('A) Eingabe (Lehrer)'!D79:AH79,1))","v":{"$error":"#N/A"}},{"$f":"IF(N71<1,#N/A,COUNTIF('A) Eingabe (Lehrer)'!D79:AH79,2))","v":{"$error":"#N/A"}},{"$f":"IF(N71<1,#N/A,COUNTIF('A) Eingabe (Lehrer)'!D79:AH79,3))","v":{"$error":"#N/A"}},{"$f":"IF(N71<1,#N/A,COUNTIF('A) Eingabe (Lehrer)'!D79:AH79,4))","v":{"$error":"#N/A"}},{"$f":"IF('A) Eingabe (Lehrer)'!C79=\"\", #N/A, 'A) Eingabe (Lehrer)'!C79)","v":{"$error":"#N/A"}}]
[{"$f":"FragenErstellen!A76","v":0},{"$f":"IF($E72=0, #N/A,AVERAGE('A) Eingabe (Schüler)'!C80:AH80))","v":{"$error":"#N/A"}},{"$f":"IF(E72<2, #N/A, STDEVP('A) Eingabe (Schüler)'!C80:AH80))","v":{"$error":"#N/A"}},{"$error":"#N/A"},{"$f":"COUNT('A) Eingabe (Schüler)'!C80:AH80)","v":0},{"$f":"IF(E72<2,#N/A,COUNTIF('A) Eingabe (Schüler)'!C80:AH80,1))","v":{"$error":"#N/A"}},{"$f":"IF(E72<2,#N/A,COUNTIF('A) Eingabe (Schüler)'!C80:AH80,2))","v":{"$error":"#N/A"}},{"$f":"IF(E72<2,#N/A,COUNTIF('A) Eingabe (Schüler)'!C80:AH80,3))","v":{"$error":"#N/A"}},{"$f":"IF(E72<2,#N/A,COUNTIF('A) Eingabe (Schüler)'!C80:AH80,4))","v":{"$error":"#N/A"}},{"$f":"IF('A) Eingabe (Lehrer)'!C80=\"\", #N/A, 'A) Eingabe (Lehrer)'!C80)","v":{"$error":"#N/A"}},{"$f":"IF(N72=0, #N/A,AVERAGE('A) Eingabe (Lehrer)'!D80:AH80))","v":{"$error":"#N/A"}},{"$f":"IF(N72<1, #N/A, STDEVP('A) Eingabe (Lehrer)'!D80:AH80))","v":{"$error":"#N/A"}},{"$error":"#N/A"},{"$f":"COUNT('A) Eingabe (Lehrer)'!D80:AH80)","v":0},{"$f":"IF(N72<1,#N/A,COUNTIF('A) Eingabe (Lehrer)'!D80:AH80,1))","v":{"$error":"#N/A"}},{"$f":"IF(N72<1,#N/A,COUNTIF('A) Eingabe (Lehrer)'!D80:AH80,2))","v":{"$error":"#N/A"}},{"$f":"IF(N72<1,#N/A,COUNTIF('A) Eingabe (Lehrer)'!D80:AH80,3))","v":{"$error":"#N/A"}},{"$f":"IF(N72<1,#N/A,COUNTIF('A) Eingabe (Lehrer)'!D80:AH80,4))","v":{"$error":"#N/A"}},{"$f":"IF('A) Eingabe (Lehrer)'!C80=\"\", #N/A, 'A) Eingabe (Lehrer)'!C80)","v":{"$error":"#N/A"}}]
[{"$f":"FragenErstellen!A77","v":0},{"$f":"IF($E73=0, #N/A,AVERAGE('A) Eingabe (Schüler)'!C81:AH81))","v":{"$error":"#N/A"}},{"$f":"IF(E73<2, #N/A, STDEVP('A) Eingabe (Schüler)'!C81:AH81))","v":{"$error":"#N/A"}},{"$error":"#N/A"},{"$f":"COUNT('A) Eingabe (Schüler)'!C81:AH81)","v":0},{"$f":"IF(E73<2,#N/A,COUNTIF('A) Eingabe (Schüler)'!C81:AH81,1))","v":{"$error":"#N/A"}},{"$f":"IF(E73<2,#N/A,COUNTIF('A) Eingabe (Schüler)'!C81:AH81,2))","v":{"$error":"#N/A"}},{"$f":"IF(E73<2,#N/A,COUNTIF('A) Eingabe (Schüler)'!C81:AH81,3))","v":{"$error":"#N/A"}},{"$f":"IF(E73<2,#N/A,COUNTIF('A) Eingabe (Schüler)'!C81:AH81,4))","v":{"$error":"#N/A"}},{"$f":"IF('A) Eingabe (Lehrer)'!C81=\"\", #N/A, 'A) Eingabe (Lehrer)'!C81)","v":{"$error":"#N/A"}},{"$f":"IF(N73=0, #N/A,AVERAGE('A) Eingabe (Lehrer)'!D81:AH81))","v":{"$error":"#N/A"}},{"$f":"IF(N73<1, #N/A, STDEVP('A) Eingabe (Lehrer)'!D81:AH81))","v":{"$error":"#N/A"}},{"$error":"#N/A"},{"$f":"COUNT('A) Eingabe (Lehrer)'!D81:AH81)","v":0},{"$f":"IF(N73<1,#N/A,COUNTIF('A) Eingabe (Lehrer)'!D81:AH81,1))","v":{"$error":"#N/A"}},{"$f":"IF(N73<1,#N/A,COUNTIF('A) Eingabe (Lehrer)'!D81:AH81,2))","v":{"$error":"#N/A"}},{"$f":"IF(N73<1,#N/A,COUNTIF('A) Eingabe (Lehrer)'!D81:AH81,3))","v":{"$error":"#N/A"}},{"$f":"IF(N73<1,#N/A,COUNTIF('A) Eingabe (Lehrer)'!D81:AH81,4))","v":{"$error":"#N/A"}},{"$f":"IF('A) Eingabe (Lehrer)'!C81=\"\", #N/A, 'A) Eingabe (Lehrer)'!C81)","v":{"$error":"#N/A"}}]
[{"$f":"FragenErstellen!A78","v":0},{"$f":"IF($E74=0, #N/A,AVERAGE('A) Eingabe (Schüler)'!C82:AH82))","v":{"$error":"#N/A"}},{"$f":"IF(E74<2, #N/A, STDEVP('A) Eingabe (Schüler)'!C82:AH82))","v":{"$error":"#N/A"}},{"$error":"#N/A"},{"$f":"COUNT('A) Eingabe (Schüler)'!C82:AH82)","v":0},{"$f":"IF(E74<2,#N/A,COUNTIF('A) Eingabe (Schüler)'!C82:AH82,1))","v":{"$error":"#N/A"}},{"$f":"IF(E74<2,#N/A,COUNTIF('A) Eingabe (Schüler)'!C82:AH82,2))","v":{"$error":"#N/A"}},{"$f":"IF(E74<2,#N/A,COUNTIF('A) Eingabe (Schüler)'!C82:AH82,3))","v":{"$error":"#N/A"}},{"$f":"IF(E74<2,#N/A,COUNTIF('A) Eingabe (Schüler)'!C82:AH82,4))","v":{"$error":"#N/A"}},{"$f":"IF('A) Eingabe (Lehrer)'!C82=\"\", #N/A, 'A) Eingabe (Lehrer)'!C82)","v":{"$error":"#N/A"}},{"$f":"IF(N74=0, #N/A,AVERAGE('A) Eingabe (Lehrer)'!D82:AH82))","v":{"$error":"#N/A"}},{"$f":"IF(N74<1, #N/A, STDEVP('A) Eingabe (Lehrer)'!D82:AH82))","v":{"$error":"#N/A"}},{"$error":"#N/A"},{"$f":"COUNT('A) Eingabe (Lehrer)'!D82:AH82)","v":0},{"$f":"IF(N74<1,#N/A,COUNTIF('A) Eingabe (Lehrer)'!D82:AH82,1))","v":{"$error":"#N/A"}},{"$f":"IF(N74<1,#N/A,COUNTIF('A) Eingabe (Lehrer)'!D82:AH82,2))","v":{"$error":"#N/A"}},{"$f":"IF(N74<1,#N/A,COUNTIF('A) Eingabe (Lehrer)'!D82:AH82,3))","v":{"$error":"#N/A"}},{"$f":"IF(N74<1,#N/A,COUNTIF('A) Eingabe (Lehrer)'!D82:AH82,4))","v":{"$error":"#N/A"}},{"$f":"IF('A) Eingabe (Lehrer)'!C82=\"\", #N/A, 'A) Eingabe (Lehrer)'!C82)","v":{"$error":"#N/A"}}]
[{"$f":"FragenErstellen!A79","v":0},{"$f":"IF($E75=0, #N/A,AVERAGE('A) Eingabe (Schüler)'!C83:AH83))","v":{"$error":"#N/A"}},{"$f":"IF(E75<2, #N/A, STDEVP('A) Eingabe (Schüler)'!C83:AH83))","v":{"$error":"#N/A"}},{"$error":"#N/A"},{"$f":"COUNT('A) Eingabe (Schüler)'!C83:AH83)","v":0},{"$f":"IF(E75<2,#N/A,COUNTIF('A) Eingabe (Schüler)'!C83:AH83,1))","v":{"$error":"#N/A"}},{"$f":"IF(E75<2,#N/A,COUNTIF('A) Eingabe (Schüler)'!C83:AH83,2))","v":{"$error":"#N/A"}},{"$f":"IF(E75<2,#N/A,COUNTIF('A) Eingabe (Schüler)'!C83:AH83,3))","v":{"$error":"#N/A"}},{"$f":"IF(E75<2,#N/A,COUNTIF('A) Eingabe (Schüler)'!C83:AH83,4))","v":{"$error":"#N/A"}},{"$f":"IF('A) Eingabe (Lehrer)'!C83=\"\", #N/A, 'A) Eingabe (Lehrer)'!C83)","v":{"$error":"#N/A"}},{"$f":"IF(N75=0, #N/A,AVERAGE('A) Eingabe (Lehrer)'!D83:AH83))","v":{"$error":"#N/A"}},{"$f":"IF(N75<1, #N/A, STDEVP('A) Eingabe (Lehrer)'!D83:AH83))","v":{"$error":"#N/A"}},{"$error":"#N/A"},{"$f":"COUNT('A) Eingabe (Lehrer)'!D83:AH83)","v":0},{"$f":"IF(N75<1,#N/A,COUNTIF('A) Eingabe (Lehrer)'!D83:AH83,1))","v":{"$error":"#N/A"}},{"$f":"IF(N75<1,#N/A,COUNTIF('A) Eingabe (Lehrer)'!D83:AH83,2))","v":{"$error":"#N/A"}},{"$f":"IF(N75<1,#N/A,COUNTIF('A) Eingabe (Lehrer)'!D83:AH83,3))","v":{"$error":"#N/A"}},{"$f":"IF(N75<1,#N/A,COUNTIF('A) Eingabe (Lehrer)'!D83:AH83,4))","v":{"$error":"#N/A"}},{"$f":"IF('A) Eingabe (Lehrer)'!C83=\"\", #N/A, 'A) Eingabe (Lehrer)'!C83)","v":{"$error":"#N/A"}}]
[{"$f":"FragenErstellen!A80","v":0},{"$f":"IF($E76=0, #N/A,AVERAGE('A) Eingabe (Schüler)'!C84:AH84))","v":{"$error":"#N/A"}},{"$f":"IF(E76<2, #N/A, STDEVP('A) Eingabe (Schüler)'!C84:AH84))","v":{"$error":"#N/A"}},{"$error":"#N/A"},{"$f":"COUNT('A) Eingabe (Schüler)'!C84:AH84)","v":0},{"$f":"IF(E76<2,#N/A,COUNTIF('A) Eingabe (Schüler)'!C84:AH84,1))","v":{"$error":"#N/A"}},{"$f":"IF(E76<2,#N/A,COUNTIF('A) Eingabe (Schüler)'!C84:AH84,2))","v":{"$error":"#N/A"}},{"$f":"IF(E76<2,#N/A,COUNTIF('A) Eingabe (Schüler)'!C84:AH84,3))","v":{"$error":"#N/A"}},{"$f":"IF(E76<2,#N/A,COUNTIF('A) Eingabe (Schüler)'!C84:AH84,4))","v":{"$error":"#N/A"}},{"$f":"IF('A) Eingabe (Lehrer)'!C84=\"\", #N/A, 'A) Eingabe (Lehrer)'!C84)","v":{"$error":"#N/A"}},{"$f":"IF(N76=0, #N/A,AVERAGE('A) Eingabe (Lehrer)'!D84:AH84))","v":{"$error":"#N/A"}},{"$f":"IF(N76<1, #N/A, STDEVP('A) Eingabe (Lehrer)'!D84:AH84))","v":{"$error":"#N/A"}},{"$error":"#N/A"},{"$f":"COUNT('A) Eingabe (Lehrer)'!D84:AH84)","v":0},{"$f":"IF(N76<1,#N/A,COUNTIF('A) Eingabe (Lehrer)'!D84:AH84,1))","v":{"$error":"#N/A"}},{"$f":"IF(N76<1,#N/A,COUNTIF('A) Eingabe (Lehrer)'!D84:AH84,2))","v":{"$error":"#N/A"}},{"$f":"IF(N76<1,#N/A,COUNTIF('A) Eingabe (Lehrer)'!D84:AH84,3))","v":{"$error":"#N/A"}},{"$f":"IF(N76<1,#N/A,COUNTIF('A) Eingabe (Lehrer)'!D84:AH84,4))","v":{"$error":"#N/A"}},{"$f":"IF('A) Eingabe (Lehrer)'!C84=\"\", #N/A, 'A) Eingabe (Lehrer)'!C84)","v":{"$error":"#N/A"}}]
[{"$f":"FragenErstellen!A81","v":0},{"$f":"IF($E77=0, #N/A,AVERAGE('A) Eingabe (Schüler)'!C85:AH85))","v":{"$error":"#N/A"}},{"$f":"IF(E77<2, #N/A, STDEVP('A) Eingabe (Schüler)'!C85:AH85))","v":{"$error":"#N/A"}},{"$error":"#N/A"},{"$f":"COUNT('A) Eingabe (Schüler)'!C85:AH85)","v":0},{"$f":"IF(E77<2,#N/A,COUNTIF('A) Eingabe (Schüler)'!C85:AH85,1))","v":{"$error":"#N/A"}},{"$f":"IF(E77<2,#N/A,COUNTIF('A) Eingabe (Schüler)'!C85:AH85,2))","v":{"$error":"#N/A"}},{"$f":"IF(E77<2,#N/A,COUNTIF('A) Eingabe (Schüler)'!C85:AH85,3))","v":{"$error":"#N/A"}},{"$f":"IF(E77<2,#N/A,COUNTIF('A) Eingabe (Schüler)'!C85:AH85,4))","v":{"$error":"#N/A"}},{"$f":"IF('A) Eingabe (Lehrer)'!C85=\"\", #N/A, 'A) Eingabe (Lehrer)'!C85)","v":{"$error":"#N/A"}},{"$f":"IF(N77=0, #N/A,AVERAGE('A) Eingabe (Lehrer)'!D85:AH85))","v":{"$error":"#N/A"}},{"$f":"IF(N77<1, #N/A, STDEVP('A) Eingabe (Lehrer)'!D85:AH85))","v":{"$error":"#N/A"}},{"$error":"#N/A"},{"$f":"COUNT('A) Eingabe (Lehrer)'!D85:AH85)","v":0},{"$f":"IF(N77<1,#N/A,COUNTIF('A) Eingabe (Lehrer)'!D85:AH85,1))","v":{"$error":"#N/A"}},{"$f":"IF(N77<1,#N/A,COUNTIF('A) Eingabe (Lehrer)'!D85:AH85,2))","v":{"$error":"#N/A"}},{"$f":"IF(N77<1,#N/A,COUNTIF('A) Eingabe (Lehrer)'!D85:AH85,3))","v":{"$error":"#N/A"}},{"$f":"IF(N77<1,#N/A,COUNTIF('A) Eingabe (Lehrer)'!D85:AH85,4))","v":{"$error":"#N/A"}},{"$f":"IF('A) Eingabe (Lehrer)'!C85=\"\", #N/A, 'A) Eingabe (Lehrer)'!C85)","v":{"$error":"#N/A"}}]
[{"$f":"FragenErstellen!A82","v":0},{"$f":"IF($E78=0, #N/A,AVERAGE('A) Eingabe (Schüler)'!C86:AH86))","v":{"$error":"#N/A"}},{"$f":"IF(E78<2, #N/A, STDEVP('A) Eingabe (Schüler)'!C86:AH86))","v":{"$error":"#N/A"}},{"$error":"#N/A"},{"$f":"COUNT('A) Eingabe (Schüler)'!C86:AH86)","v":0},{"$f":"IF(E78<2,#N/A,COUNTIF('A) Eingabe (Schüler)'!C86:AH86,1))","v":{"$error":"#N/A"}},{"$f":"IF(E78<2,#N/A,COUNTIF('A) Eingabe (Schüler)'!C86:AH86,2))","v":{"$error":"#N/A"}},{"$f":"IF(E78<2,#N/A,COUNTIF('A) Eingabe (Schüler)'!C86:AH86,3))","v":{"$error":"#N/A"}},{"$f":"IF(E78<2,#N/A,COUNTIF('A) Eingabe (Schüler)'!C86:AH86,4))","v":{"$error":"#N/A"}},{"$f":"IF('A) Eingabe (Lehrer)'!C86=\"\", #N/A, 'A) Eingabe (Lehrer)'!C86)","v":{"$error":"#N/A"}},{"$f":"IF(N78=0, #N/A,AVERAGE('A) Eingabe (Lehrer)'!D86:AH86))","v":{"$error":"#N/A"}},{"$f":"IF(N78<1, #N/A, STDEVP('A) Eingabe (Lehrer)'!D86:AH86))","v":{"$error":"#N/A"}},{"$error":"#N/A"},{"$f":"COUNT('A) Eingabe (Lehrer)'!D86:AH86)","v":0},{"$f":"IF(N78<1,#N/A,COUNTIF('A) Eingabe (Lehrer)'!D86:AH86,1))","v":{"$error":"#N/A"}},{"$f":"IF(N78<1,#N/A,COUNTIF('A) Eingabe (Lehrer)'!D86:AH86,2))","v":{"$error":"#N/A"}},{"$f":"IF(N78<1,#N/A,COUNTIF('A) Eingabe (Lehrer)'!D86:AH86,3))","v":{"$error":"#N/A"}},{"$f":"IF(N78<1,#N/A,COUNTIF('A) Eingabe (Lehrer)'!D86:AH86,4))","v":{"$error":"#N/A"}},{"$f":"IF('A) Eingabe (Lehrer)'!C86=\"\", #N/A, 'A) Eingabe (Lehrer)'!C86)","v":{"$error":"#N/A"}}]
[{"$f":"FragenErstellen!A83","v":0},{"$f":"IF($E79=0, #N/A,AVERAGE('A) Eingabe (Schüler)'!C87:AH87))","v":{"$error":"#N/A"}},{"$f":"IF(E79<2, #N/A, STDEVP('A) Eingabe (Schüler)'!C87:AH87))","v":{"$error":"#N/A"}},{"$error":"#N/A"},{"$f":"COUNT('A) Eingabe (Schüler)'!C87:AH87)","v":0},{"$f":"IF(E79<2,#N/A,COUNTIF('A) Eingabe (Schüler)'!C87:AH87,1))","v":{"$error":"#N/A"}},{"$f":"IF(E79<2,#N/A,COUNTIF('A) Eingabe (Schüler)'!C87:AH87,2))","v":{"$error":"#N/A"}},{"$f":"IF(E79<2,#N/A,COUNTIF('A) Eingabe (Schüler)'!C87:AH87,3))","v":{"$error":"#N/A"}},{"$f":"IF(E79<2,#N/A,COUNTIF('A) Eingabe (Schüler)'!C87:AH87,4))","v":{"$error":"#N/A"}},{"$f":"IF('A) Eingabe (Lehrer)'!C87=\"\", #N/A, 'A) Eingabe (Lehrer)'!C87)","v":{"$error":"#N/A"}},{"$f":"IF(N79=0, #N/A,AVERAGE('A) Eingabe (Lehrer)'!D87:AH87))","v":{"$error":"#N/A"}},{"$f":"IF(N79<1, #N/A, STDEVP('A) Eingabe (Lehrer)'!D87:AH87))","v":{"$error":"#N/A"}},{"$error":"#N/A"},{"$f":"COUNT('A) Eingabe (Lehrer)'!D87:AH87)","v":0},{"$f":"IF(N79<1,#N/A,COUNTIF('A) Eingabe (Lehrer)'!D87:AH87,1))","v":{"$error":"#N/A"}},{"$f":"IF(N79<1,#N/A,COUNTIF('A) Eingabe (Lehrer)'!D87:AH87,2))","v":{"$error":"#N/A"}},{"$f":"IF(N79<1,#N/A,COUNTIF('A) Eingabe (Lehrer)'!D87:AH87,3))","v":{"$error":"#N/A"}},{"$f":"IF(N79<1,#N/A,COUNTIF('A) Eingabe (Lehrer)'!D87:AH87,4))","v":{"$error":"#N/A"}},{"$f":"IF('A) Eingabe (Lehrer)'!C87=\"\", #N/A, 'A) Eingabe (Lehrer)'!C87)","v":{"$error":"#N/A"}}]
[{"$f":"FragenErstellen!A84","v":0},{"$f":"IF($E80=0, #N/A,AVERAGE('A) Eingabe (Schüler)'!C88:AH88))","v":{"$error":"#N/A"}},{"$f":"IF(E80<2, #N/A, STDEVP('A) Eingabe (Schüler)'!C88:AH88))","v":{"$error":"#N/A"}},{"$error":"#N/A"},{"$f":"COUNT('A) Eingabe (Schüler)'!C88:AH88)","v":0},{"$f":"IF(E80<2,#N/A,COUNTIF('A) Eingabe (Schüler)'!C88:AH88,1))","v":{"$error":"#N/A"}},{"$f":"IF(E80<2,#N/A,COUNTIF('A) Eingabe (Schüler)'!C88:AH88,2))","v":{"$error":"#N/A"}},{"$f":"IF(E80<2,#N/A,COUNTIF('A) Eingabe (Schüler)'!C88:AH88,3))","v":{"$error":"#N/A"}},{"$f":"IF(E80<2,#N/A,COUNTIF('A) Eingabe (Schüler)'!C88:AH88,4))","v":{"$error":"#N/A"}},{"$f":"IF('A) Eingabe (Lehrer)'!C88=\"\", #N/A, 'A) Eingabe (Lehrer)'!C88)","v":{"$error":"#N/A"}},{"$f":"IF(N80=0, #N/A,AVERAGE('A) Eingabe (Lehrer)'!D88:AH88))","v":{"$error":"#N/A"}},{"$f":"IF(N80<1, #N/A, STDEVP('A) Eingabe (Lehrer)'!D88:AH88))","v":{"$error":"#N/A"}},{"$error":"#N/A"},{"$f":"COUNT('A) Eingabe (Lehrer)'!D88:AH88)","v":0},{"$f":"IF(N80<1,#N/A,COUNTIF('A) Eingabe (Lehrer)'!D88:AH88,1))","v":{"$error":"#N/A"}},{"$f":"IF(N80<1,#N/A,COUNTIF('A) Eingabe (Lehrer)'!D88:AH88,2))","v":{"$error":"#N/A"}},{"$f":"IF(N80<1,#N/A,COUNTIF('A) Eingabe (Lehrer)'!D88:AH88,3))","v":{"$error":"#N/A"}},{"$f":"IF(N80<1,#N/A,COUNTIF('A) Eingabe (Lehrer)'!D88:AH88,4))","v":{"$error":"#N/A"}},{"$f":"IF('A) Eingabe (Lehrer)'!C88=\"\", #N/A, 'A) Eingabe (Lehrer)'!C88)","v":{"$error":"#N/A"}}]
[{"$f":"FragenErstellen!A85","v":0},{"$f":"IF($E81=0, #N/A,AVERAGE('A) Eingabe (Schüler)'!C89:AH89))","v":{"$error":"#N/A"}},{"$f":"IF(E81<2, #N/A, STDEVP('A) Eingabe (Schüler)'!C89:AH89))","v":{"$error":"#N/A"}},{"$error":"#N/A"},{"$f":"COUNT('A) Eingabe (Schüler)'!C89:AH89)","v":0},{"$f":"IF(E81<2,#N/A,COUNTIF('A) Eingabe (Schüler)'!C89:AH89,1))","v":{"$error":"#N/A"}},{"$f":"IF(E81<2,#N/A,COUNTIF('A) Eingabe (Schüler)'!C89:AH89,2))","v":{"$error":"#N/A"}},{"$f":"IF(E81<2,#N/A,COUNTIF('A) Eingabe (Schüler)'!C89:AH89,3))","v":{"$error":"#N/A"}},{"$f":"IF(E81<2,#N/A,COUNTIF('A) Eingabe (Schüler)'!C89:AH89,4))","v":{"$error":"#N/A"}},{"$f":"IF('A) Eingabe (Lehrer)'!C89=\"\", #N/A, 'A) Eingabe (Lehrer)'!C89)","v":{"$error":"#N/A"}},{"$f":"IF(N81=0, #N/A,AVERAGE('A) Eingabe (Lehrer)'!D89:AH89))","v":{"$error":"#N/A"}},{"$f":"IF(N81<1, #N/A, STDEVP('A) Eingabe (Lehrer)'!D89:AH89))","v":{"$error":"#N/A"}},{"$error":"#N/A"},{"$f":"COUNT('A) Eingabe (Lehrer)'!D89:AH89)","v":0},{"$f":"IF(N81<1,#N/A,COUNTIF('A) Eingabe (Lehrer)'!D89:AH89,1))","v":{"$error":"#N/A"}},{"$f":"IF(N81<1,#N/A,COUNTIF('A) Eingabe (Lehrer)'!D89:AH89,2))","v":{"$error":"#N/A"}},{"$f":"IF(N81<1,#N/A,COUNTIF('A) Eingabe (Lehrer)'!D89:AH89,3))","v":{"$error":"#N/A"}},{"$f":"IF(N81<1,#N/A,COUNTIF('A) Eingabe (Lehrer)'!D89:AH89,4))","v":{"$error":"#N/A"}},{"$f":"IF('A) Eingabe (Lehrer)'!C89=\"\", #N/A, 'A) Eingabe (Lehrer)'!C89)","v":{"$error":"#N/A"}}]
[{"$f":"FragenErstellen!A86","v":0},{"$f":"IF($E82=0, #N/A,AVERAGE('A) Eingabe (Schüler)'!C90:AH90))","v":{"$error":"#N/A"}},{"$f":"IF(E82<2, #N/A, STDEVP('A) Eingabe (Schüler)'!C90:AH90))","v":{"$error":"#N/A"}},{"$error":"#N/A"},{"$f":"COUNT('A) Eingabe (Schüler)'!C90:AH90)","v":0},{"$f":"IF(E82<2,#N/A,COUNTIF('A) Eingabe (Schüler)'!C90:AH90,1))","v":{"$error":"#N/A"}},{"$f":"IF(E82<2,#N/A,COUNTIF('A) Eingabe (Schüler)'!C90:AH90,2))","v":{"$error":"#N/A"}},{"$f":"IF(E82<2,#N/A,COUNTIF('A) Eingabe (Schüler)'!C90:AH90,3))","v":{"$error":"#N/A"}},{"$f":"IF(E82<2,#N/A,COUNTIF('A) Eingabe (Schüler)'!C90:AH90,4))","v":{"$error":"#N/A"}},{"$f":"IF('A) Eingabe (Lehrer)'!C90=\"\", #N/A, 'A) Eingabe (Lehrer)'!C90)","v":{"$error":"#N/A"}},{"$f":"IF(N82=0, #N/A,AVERAGE('A) Eingabe (Lehrer)'!D90:AH90))","v":{"$error":"#N/A"}},{"$f":"IF(N82<1, #N/A, STDEVP('A) Eingabe (Lehrer)'!D90:AH90))","v":{"$error":"#N/A"}},{"$error":"#N/A"},{"$f":"COUNT('A) Eingabe (Lehrer)'!D90:AH90)","v":0},{"$f":"IF(N82<1,#N/A,COUNTIF('A) Eingabe (Lehrer)'!D90:AH90,1))","v":{"$error":"#N/A"}},{"$f":"IF(N82<1,#N/A,COUNTIF('A) Eingabe (Lehrer)'!D90:AH90,2))","v":{"$error":"#N/A"}},{"$f":"IF(N82<1,#N/A,COUNTIF('A) Eingabe (Lehrer)'!D90:AH90,3))","v":{"$error":"#N/A"}},{"$f":"IF(N82<1,#N/A,COUNTIF('A) Eingabe (Lehrer)'!D90:AH90,4))","v":{"$error":"#N/A"}},{"$f":"IF('A) Eingabe (Lehrer)'!C90=\"\", #N/A, 'A) Eingabe (Lehrer)'!C90)","v":{"$error":"#N/A"}}]
[{"$f":"FragenErstellen!A87","v":0},{"$f":"IF($E83=0, #N/A,AVERAGE('A) Eingabe (Schüler)'!C91:AH91))","v":{"$error":"#N/A"}},{"$f":"IF(E83<2, #N/A, STDEVP('A) Eingabe (Schüler)'!C91:AH91))","v":{"$error":"#N/A"}},{"$error":"#N/A"},{"$f":"COUNT('A) Eingabe (Schüler)'!C91:AH91)","v":0},{"$f":"IF(E83<2,#N/A,COUNTIF('A) Eingabe (Schüler)'!C91:AH91,1))","v":{"$error":"#N/A"}},{"$f":"IF(E83<2,#N/A,COUNTIF('A) Eingabe (Schüler)'!C91:AH91,2))","v":{"$error":"#N/A"}},{"$f":"IF(E83<2,#N/A,COUNTIF('A) Eingabe (Schüler)'!C91:AH91,3))","v":{"$error":"#N/A"}},{"$f":"IF(E83<2,#N/A,COUNTIF('A) Eingabe (Schüler)'!C91:AH91,4))","v":{"$error":"#N/A"}},{"$f":"IF('A) Eingabe (Lehrer)'!C91=\"\", #N/A, 'A) Eingabe (Lehrer)'!C91)","v":{"$error":"#N/A"}},{"$f":"IF(N83=0, #N/A,AVERAGE('A) Eingabe (Lehrer)'!D91:AH91))","v":{"$error":"#N/A"}},{"$f":"IF(N83<1, #N/A, STDEVP('A) Eingabe (Lehrer)'!D91:AH91))","v":{"$error":"#N/A"}},{"$error":"#N/A"},{"$f":"COUNT('A) Eingabe (Lehrer)'!D91:AH91)","v":0},{"$f":"IF(N83<1,#N/A,COUNTIF('A) Eingabe (Lehrer)'!D91:AH91,1))","v":{"$error":"#N/A"}},{"$f":"IF(N83<1,#N/A,COUNTIF('A) Eingabe (Lehrer)'!D91:AH91,2))","v":{"$error":"#N/A"}},{"$f":"IF(N83<1,#N/A,COUNTIF('A) Eingabe (Lehrer)'!D91:AH91,3))","v":{"$error":"#N/A"}},{"$f":"IF(N83<1,#N/A,COUNTIF('A) Eingabe (Lehrer)'!D91:AH91,4))","v":{"$error":"#N/A"}},{"$f":"IF('A) Eingabe (Lehrer)'!C91=\"\", #N/A, 'A) Eingabe (Lehrer)'!C91)","v":{"$error":"#N/A"}}]
[{"$f":"FragenErstellen!A88","v":0},{"$f":"IF($E84=0, #N/A,AVERAGE('A) Eingabe (Schüler)'!C92:AH92))","v":{"$error":"#N/A"}},{"$f":"IF(E84<2, #N/A, STDEVP('A) Eingabe (Schüler)'!C92:AH92))","v":{"$error":"#N/A"}},{"$error":"#N/A"},{"$f":"COUNT('A) Eingabe (Schüler)'!C92:AH92)","v":0},{"$f":"IF(E84<2,#N/A,COUNTIF('A) Eingabe (Schüler)'!C92:AH92,1))","v":{"$error":"#N/A"}},{"$f":"IF(E84<2,#N/A,COUNTIF('A) Eingabe (Schüler)'!C92:AH92,2))","v":{"$error":"#N/A"}},{"$f":"IF(E84<2,#N/A,COUNTIF('A) Eingabe (Schüler)'!C92:AH92,3))","v":{"$error":"#N/A"}},{"$f":"IF(E84<2,#N/A,COUNTIF('A) Eingabe (Schüler)'!C92:AH92,4))","v":{"$error":"#N/A"}},{"$f":"IF('A) Eingabe (Lehrer)'!C92=\"\", #N/A, 'A) Eingabe (Lehrer)'!C92)","v":{"$error":"#N/A"}},{"$f":"IF(N84=0, #N/A,AVERAGE('A) Eingabe (Lehrer)'!D92:AH92))","v":{"$error":"#N/A"}},{"$f":"IF(N84<1, #N/A, STDEVP('A) Eingabe (Lehrer)'!D92:AH92))","v":{"$error":"#N/A"}},{"$error":"#N/A"},{"$f":"COUNT('A) Eingabe (Lehrer)'!D92:AH92)","v":0},{"$f":"IF(N84<1,#N/A,COUNTIF('A) Eingabe (Lehrer)'!D92:AH92,1))","v":{"$error":"#N/A"}},{"$f":"IF(N84<1,#N/A,COUNTIF('A) Eingabe (Lehrer)'!D92:AH92,2))","v":{"$error":"#N/A"}},{"$f":"IF(N84<1,#N/A,COUNTIF('A) Eingabe (Lehrer)'!D92:AH92,3))","v":{"$error":"#N/A"}},{"$f":"IF(N84<1,#N/A,COUNTIF('A) Eingabe (Lehrer)'!D92:AH92,4))","v":{"$error":"#N/A"}},{"$f":"IF('A) Eingabe (Lehrer)'!C92=\"\", #N/A, 'A) Eingabe (Lehrer)'!C92)","v":{"$error":"#N/A"}}]
[{"$f":"FragenErstellen!A89","v":0},{"$f":"IF($E85=0, #N/A,AVERAGE('A) Eingabe (Schüler)'!C93:AH93))","v":{"$error":"#N/A"}},{"$f":"IF(E85<2, #N/A, STDEVP('A) Eingabe (Schüler)'!C93:AH93))","v":{"$error":"#N/A"}},{"$error":"#N/A"},{"$f":"COUNT('A) Eingabe (Schüler)'!C93:AH93)","v":0},{"$f":"IF(E85<2,#N/A,COUNTIF('A) Eingabe (Schüler)'!C93:AH93,1))","v":{"$error":"#N/A"}},{"$f":"IF(E85<2,#N/A,COUNTIF('A) Eingabe (Schüler)'!C93:AH93,2))","v":{"$error":"#N/A"}},{"$f":"IF(E85<2,#N/A,COUNTIF('A) Eingabe (Schüler)'!C93:AH93,3))","v":{"$error":"#N/A"}},{"$f":"IF(E85<2,#N/A,COUNTIF('A) Eingabe (Schüler)'!C93:AH93,4))","v":{"$error":"#N/A"}},{"$f":"IF('A) Eingabe (Lehrer)'!C93=\"\", #N/A, 'A) Eingabe (Lehrer)'!C93)","v":{"$error":"#N/A"}},{"$f":"IF(N85=0, #N/A,AVERAGE('A) Eingabe (Lehrer)'!D93:AH93))","v":{"$error":"#N/A"}},{"$f":"IF(N85<1, #N/A, STDEVP('A) Eingabe (Lehrer)'!D93:AH93))","v":{"$error":"#N/A"}},{"$error":"#N/A"},{"$f":"COUNT('A) Eingabe (Lehrer)'!D93:AH93)","v":0},{"$f":"IF(N85<1,#N/A,COUNTIF('A) Eingabe (Lehrer)'!D93:AH93,1))","v":{"$error":"#N/A"}},{"$f":"IF(N85<1,#N/A,COUNTIF('A) Eingabe (Lehrer)'!D93:AH93,2))","v":{"$error":"#N/A"}},{"$f":"IF(N85<1,#N/A,COUNTIF('A) Eingabe (Lehrer)'!D93:AH93,3))","v":{"$error":"#N/A"}},{"$f":"IF(N85<1,#N/A,COUNTIF('A) Eingabe (Lehrer)'!D93:AH93,4))","v":{"$error":"#N/A"}},{"$f":"IF('A) Eingabe (Lehrer)'!C93=\"\", #N/A, 'A) Eingabe (Lehrer)'!C93)","v":{"$error":"#N/A"}}]
[{"$f":"FragenErstellen!A90","v":0},{"$f":"IF($E86=0, #N/A,AVERAGE('A) Eingabe (Schüler)'!C94:AH94))","v":{"$error":"#N/A"}},{"$f":"IF(E86<2, #N/A, STDEVP('A) Eingabe (Schüler)'!C94:AH94))","v":{"$error":"#N/A"}},{"$error":"#N/A"},{"$f":"COUNT('A) Eingabe (Schüler)'!C94:AH94)","v":0},{"$f":"IF(E86<2,#N/A,COUNTIF('A) Eingabe (Schüler)'!C94:AH94,1))","v":{"$error":"#N/A"}},{"$f":"IF(E86<2,#N/A,COUNTIF('A) Eingabe (Schüler)'!C94:AH94,2))","v":{"$error":"#N/A"}},{"$f":"IF(E86<2,#N/A,COUNTIF('A) Eingabe (Schüler)'!C94:AH94,3))","v":{"$error":"#N/A"}},{"$f":"IF(E86<2,#N/A,COUNTIF('A) Eingabe (Schüler)'!C94:AH94,4))","v":{"$error":"#N/A"}},{"$f":"IF('A) Eingabe (Lehrer)'!C94=\"\", #N/A, 'A) Eingabe (Lehrer)'!C94)","v":{"$error":"#N/A"}},{"$f":"IF(N86=0, #N/A,AVERAGE('A) Eingabe (Lehrer)'!D94:AH94))","v":{"$error":"#N/A"}},{"$f":"IF(N86<1, #N/A, STDEVP('A) Eingabe (Lehrer)'!D94:AH94))","v":{"$error":"#N/A"}},{"$error":"#N/A"},{"$f":"COUNT('A) Eingabe (Lehrer)'!D94:AH94)","v":0},{"$f":"IF(N86<1,#N/A,COUNTIF('A) Eingabe (Lehrer)'!D94:AH94,1))","v":{"$error":"#N/A"}},{"$f":"IF(N86<1,#N/A,COUNTIF('A) Eingabe (Lehrer)'!D94:AH94,2))","v":{"$error":"#N/A"}},{"$f":"IF(N86<1,#N/A,COUNTIF('A) Eingabe (Lehrer)'!D94:AH94,3))","v":{"$error":"#N/A"}},{"$f":"IF(N86<1,#N/A,COUNTIF('A) Eingabe (Lehrer)'!D94:AH94,4))","v":{"$error":"#N/A"}},{"$f":"IF('A) Eingabe (Lehrer)'!C94=\"\", #N/A, 'A) Eingabe (Lehrer)'!C94)","v":{"$error":"#N/A"}}]
[{"$f":"FragenErstellen!A91","v":0},{"$f":"IF($E87=0, #N/A,AVERAGE('A) Eingabe (Schüler)'!C95:AH95))","v":{"$error":"#N/A"}},{"$f":"IF(E87<2, #N/A, STDEVP('A) Eingabe (Schüler)'!C95:AH95))","v":{"$error":"#N/A"}},{"$error":"#N/A"},{"$f":"COUNT('A) Eingabe (Schüler)'!C95:AH95)","v":0},{"$f":"IF(E87<2,#N/A,COUNTIF('A) Eingabe (Schüler)'!C95:AH95,1))","v":{"$error":"#N/A"}},{"$f":"IF(E87<2,#N/A,COUNTIF('A) Eingabe (Schüler)'!C95:AH95,2))","v":{"$error":"#N/A"}},{"$f":"IF(E87<2,#N/A,COUNTIF('A) Eingabe (Schüler)'!C95:AH95,3))","v":{"$error":"#N/A"}},{"$f":"IF(E87<2,#N/A,COUNTIF('A) Eingabe (Schüler)'!C95:AH95,4))","v":{"$error":"#N/A"}},{"$f":"IF('A) Eingabe (Lehrer)'!C95=\"\", #N/A, 'A) Eingabe (Lehrer)'!C95)","v":{"$error":"#N/A"}},{"$f":"IF(N87=0, #N/A,AVERAGE('A) Eingabe (Lehrer)'!D95:AH95))","v":{"$error":"#N/A"}},{"$f":"IF(N87<1, #N/A, STDEVP('A) Eingabe (Lehrer)'!D95:AH95))","v":{"$error":"#N/A"}},{"$error":"#N/A"},{"$f":"COUNT('A) Eingabe (Lehrer)'!D95:AH95)","v":0},{"$f":"IF(N87<1,#N/A,COUNTIF('A) Eingabe (Lehrer)'!D95:AH95,1))","v":{"$error":"#N/A"}},{"$f":"IF(N87<1,#N/A,COUNTIF('A) Eingabe (Lehrer)'!D95:AH95,2))","v":{"$error":"#N/A"}},{"$f":"IF(N87<1,#N/A,COUNTIF('A) Eingabe (Lehrer)'!D95:AH95,3))","v":{"$error":"#N/A"}},{"$f":"IF(N87<1,#N/A,COUNTIF('A) Eingabe (Lehrer)'!D95:AH95,4))","v":{"$error":"#N/A"}},{"$f":"IF('A) Eingabe (Lehrer)'!C95=\"\", #N/A, 'A) Eingabe (Lehrer)'!C95)","v":{"$error":"#N/A"}}]
[{"$f":"FragenErstellen!A92","v":0},{"$f":"IF($E88=0, #N/A,AVERAGE('A) Eingabe (Schüler)'!C96:AH96))","v":{"$error":"#N/A"}},{"$f":"IF(E88<2, #N/A, STDEVP('A) Eingabe (Schüler)'!C96:AH96))","v":{"$error":"#N/A"}},{"$error":"#N/A"},{"$f":"COUNT('A) Eingabe (Schüler)'!C96:AH96)","v":0},{"$f":"IF(E88<2,#N/A,COUNTIF('A) Eingabe (Schüler)'!C96:AH96,1))","v":{"$error":"#N/A"}},{"$f":"IF(E88<2,#N/A,COUNTIF('A) Eingabe (Schüler)'!C96:AH96,2))","v":{"$error":"#N/A"}},{"$f":"IF(E88<2,#N/A,COUNTIF('A) Eingabe (Schüler)'!C96:AH96,3))","v":{"$error":"#N/A"}},{"$f":"IF(E88<2,#N/A,COUNTIF('A) Eingabe (Schüler)'!C96:AH96,4))","v":{"$error":"#N/A"}},{"$f":"IF('A) Eingabe (Lehrer)'!C96=\"\", #N/A, 'A) Eingabe (Lehrer)'!C96)","v":{"$error":"#N/A"}},{"$f":"IF(N88=0, #N/A,AVERAGE('A) Eingabe (Lehrer)'!D96:AH96))","v":{"$error":"#N/A"}},{"$f":"IF(N88<1, #N/A, STDEVP('A) Eingabe (Lehrer)'!D96:AH96))","v":{"$error":"#N/A"}},{"$error":"#N/A"},{"$f":"COUNT('A) Eingabe (Lehrer)'!D96:AH96)","v":0},{"$f":"IF(N88<1,#N/A,COUNTIF('A) Eingabe (Lehrer)'!D96:AH96,1))","v":{"$error":"#N/A"}},{"$f":"IF(N88<1,#N/A,COUNTIF('A) Eingabe (Lehrer)'!D96:AH96,2))","v":{"$error":"#N/A"}},{"$f":"IF(N88<1,#N/A,COUNTIF('A) Eingabe (Lehrer)'!D96:AH96,3))","v":{"$error":"#N/A"}},{"$f":"IF(N88<1,#N/A,COUNTIF('A) Eingabe (Lehrer)'!D96:AH96,4))","v":{"$error":"#N/A"}},{"$f":"IF('A) Eingabe (Lehrer)'!C96=\"\", #N/A, 'A) Eingabe (Lehrer)'!C96)","v":{"$error":"#N/A"}}]
[{"$f":"FragenErstellen!A93","v":0},{"$f":"IF($E89=0, #N/A,AVERAGE('A) Eingabe (Schüler)'!C97:AH97))","v":{"$error":"#N/A"}},{"$f":"IF(E89<2, #N/A, STDEVP('A) Eingabe (Schüler)'!C97:AH97))","v":{"$error":"#N/A"}},{"$error":"#N/A"},{"$f":"COUNT('A) Eingabe (Schüler)'!C97:AH97)","v":0},{"$f":"IF(E89<2,#N/A,COUNTIF('A) Eingabe (Schüler)'!C97:AH97,1))","v":{"$error":"#N/A"}},{"$f":"IF(E89<2,#N/A,COUNTIF('A) Eingabe (Schüler)'!C97:AH97,2))","v":{"$error":"#N/A"}},{"$f":"IF(E89<2,#N/A,COUNTIF('A) Eingabe (Schüler)'!C97:AH97,3))","v":{"$error":"#N/A"}},{"$f":"IF(E89<2,#N/A,COUNTIF('A) Eingabe (Schüler)'!C97:AH97,4))","v":{"$error":"#N/A"}},{"$f":"IF('A) Eingabe (Lehrer)'!C97=\"\", #N/A, 'A) Eingabe (Lehrer)'!C97)","v":{"$error":"#N/A"}},{"$f":"IF(N89=0, #N/A,AVERAGE('A) Eingabe (Lehrer)'!D97:AH97))","v":{"$error":"#N/A"}},{"$f":"IF(N89<1, #N/A, STDEVP('A) Eingabe (Lehrer)'!D97:AH97))","v":{"$error":"#N/A"}},{"$error":"#N/A"},{"$f":"COUNT('A) Eingabe (Lehrer)'!D97:AH97)","v":0},{"$f":"IF(N89<1,#N/A,COUNTIF('A) Eingabe (Lehrer)'!D97:AH97,1))","v":{"$error":"#N/A"}},{"$f":"IF(N89<1,#N/A,COUNTIF('A) Eingabe (Lehrer)'!D97:AH97,2))","v":{"$error":"#N/A"}},{"$f":"IF(N89<1,#N/A,COUNTIF('A) Eingabe (Lehrer)'!D97:AH97,3))","v":{"$error":"#N/A"}},{"$f":"IF(N89<1,#N/A,COUNTIF('A) Eingabe (Lehrer)'!D97:AH97,4))","v":{"$error":"#N/A"}},{"$f":"IF('A) Eingabe (Lehrer)'!C97=\"\", #N/A, 'A) Eingabe (Lehrer)'!C97)","v":{"$error":"#N/A"}}]
[{"$f":"FragenErstellen!A94","v":0},{"$f":"IF($E90=0, #N/A,AVERAGE('A) Eingabe (Schüler)'!C98:AH98))","v":{"$error":"#N/A"}},{"$f":"IF(E90<2, #N/A, STDEVP('A) Eingabe (Schüler)'!C98:AH98))","v":{"$error":"#N/A"}},{"$error":"#N/A"},{"$f":"COUNT('A) Eingabe (Schüler)'!C98:AH98)","v":0},{"$f":"IF(E90<2,#N/A,COUNTIF('A) Eingabe (Schüler)'!C98:AH98,1))","v":{"$error":"#N/A"}},{"$f":"IF(E90<2,#N/A,COUNTIF('A) Eingabe (Schüler)'!C98:AH98,2))","v":{"$error":"#N/A"}},{"$f":"IF(E90<2,#N/A,COUNTIF('A) Eingabe (Schüler)'!C98:AH98,3))","v":{"$error":"#N/A"}},{"$f":"IF(E90<2,#N/A,COUNTIF('A) Eingabe (Schüler)'!C98:AH98,4))","v":{"$error":"#N/A"}},{"$f":"IF('A) Eingabe (Lehrer)'!C98=\"\", #N/A, 'A) Eingabe (Lehrer)'!C98)","v":{"$error":"#N/A"}},{"$f":"IF(N90=0, #N/A,AVERAGE('A) Eingabe (Lehrer)'!D98:AH98))","v":{"$error":"#N/A"}},{"$f":"IF(N90<1, #N/A, STDEVP('A) Eingabe (Lehrer)'!D98:AH98))","v":{"$error":"#N/A"}},{"$error":"#N/A"},{"$f":"COUNT('A) Eingabe (Lehrer)'!D98:AH98)","v":0},{"$f":"IF(N90<1,#N/A,COUNTIF('A) Eingabe (Lehrer)'!D98:AH98,1))","v":{"$error":"#N/A"}},{"$f":"IF(N90<1,#N/A,COUNTIF('A) Eingabe (Lehrer)'!D98:AH98,2))","v":{"$error":"#N/A"}},{"$f":"IF(N90<1,#N/A,COUNTIF('A) Eingabe (Lehrer)'!D98:AH98,3))","v":{"$error":"#N/A"}},{"$f":"IF(N90<1,#N/A,COUNTIF('A) Eingabe (Lehrer)'!D98:AH98,4))","v":{"$error":"#N/A"}},{"$f":"IF('A) Eingabe (Lehrer)'!C98=\"\", #N/A, 'A) Eingabe (Lehrer)'!C98)","v":{"$error":"#N/A"}}]
[{"$f":"FragenErstellen!A95","v":0},{"$f":"IF($E91=0, #N/A,AVERAGE('A) Eingabe (Schüler)'!C99:AH99))","v":{"$error":"#N/A"}},{"$f":"IF(E91<2, #N/A, STDEVP('A) Eingabe (Schüler)'!C99:AH99))","v":{"$error":"#N/A"}},{"$error":"#N/A"},{"$f":"COUNT('A) Eingabe (Schüler)'!C99:AH99)","v":0},{"$f":"IF(E91<2,#N/A,COUNTIF('A) Eingabe (Schüler)'!C99:AH99,1))","v":{"$error":"#N/A"}},{"$f":"IF(E91<2,#N/A,COUNTIF('A) Eingabe (Schüler)'!C99:AH99,2))","v":{"$error":"#N/A"}},{"$f":"IF(E91<2,#N/A,COUNTIF('A) Eingabe (Schüler)'!C99:AH99,3))","v":{"$error":"#N/A"}},{"$f":"IF(E91<2,#N/A,COUNTIF('A) Eingabe (Schüler)'!C99:AH99,4))","v":{"$error":"#N/A"}},{"$f":"IF('A) Eingabe (Lehrer)'!C99=\"\", #N/A, 'A) Eingabe (Lehrer)'!C99)","v":{"$error":"#N/A"}},{"$f":"IF(N91=0, #N/A,AVERAGE('A) Eingabe (Lehrer)'!D99:AH99))","v":{"$error":"#N/A"}},{"$f":"IF(N91<1, #N/A, STDEVP('A) Eingabe (Lehrer)'!D99:AH99))","v":{"$error":"#N/A"}},{"$error":"#N/A"},{"$f":"COUNT('A) Eingabe (Lehrer)'!D99:AH99)","v":0},{"$f":"IF(N91<1,#N/A,COUNTIF('A) Eingabe (Lehrer)'!D99:AH99,1))","v":{"$error":"#N/A"}},{"$f":"IF(N91<1,#N/A,COUNTIF('A) Eingabe (Lehrer)'!D99:AH99,2))","v":{"$error":"#N/A"}},{"$f":"IF(N91<1,#N/A,COUNTIF('A) Eingabe (Lehrer)'!D99:AH99,3))","v":{"$error":"#N/A"}},{"$f":"IF(N91<1,#N/A,COUNTIF('A) Eingabe (Lehrer)'!D99:AH99,4))","v":{"$error":"#N/A"}},{"$f":"IF('A) Eingabe (Lehrer)'!C99=\"\", #N/A, 'A) Eingabe (Lehrer)'!C99)","v":{"$error":"#N/A"}}]
[{"$f":"FragenErstellen!A96","v":0},{"$f":"IF($E92=0, #N/A,AVERAGE('A) Eingabe (Schüler)'!C100:AH100))","v":{"$error":"#N/A"}},{"$f":"IF(E92<2, #N/A, STDEVP('A) Eingabe (Schüler)'!C100:AH100))","v":{"$error":"#N/A"}},{"$error":"#N/A"},{"$f":"COUNT('A) Eingabe (Schüler)'!C100:AH100)","v":0},{"$f":"IF(E92<2,#N/A,COUNTIF('A) Eingabe (Schüler)'!C100:AH100,1))","v":{"$error":"#N/A"}},{"$f":"IF(E92<2,#N/A,COUNTIF('A) Eingabe (Schüler)'!C100:AH100,2))","v":{"$error":"#N/A"}},{"$f":"IF(E92<2,#N/A,COUNTIF('A) Eingabe (Schüler)'!C100:AH100,3))","v":{"$error":"#N/A"}},{"$f":"IF(E92<2,#N/A,COUNTIF('A) Eingabe (Schüler)'!C100:AH100,4))","v":{"$error":"#N/A"}},{"$f":"IF('A) Eingabe (Lehrer)'!C100=\"\", #N/A, 'A) Eingabe (Lehrer)'!C100)","v":{"$error":"#N/A"}},{"$f":"IF(N92=0, #N/A,AVERAGE('A) Eingabe (Lehrer)'!D100:AH100))","v":{"$error":"#N/A"}},{"$f":"IF(N92<1, #N/A, STDEVP('A) Eingabe (Lehrer)'!D100:AH100))","v":{"$error":"#N/A"}},{"$error":"#N/A"},{"$f":"COUNT('A) Eingabe (Lehrer)'!D100:AH100)","v":0},{"$f":"IF(N92<1,#N/A,COUNTIF('A) Eingabe (Lehrer)'!D100:AH100,1))","v":{"$error":"#N/A"}},{"$f":"IF(N92<1,#N/A,COUNTIF('A) Eingabe (Lehrer)'!D100:AH100,2))","v":{"$error":"#N/A"}},{"$f":"IF(N92<1,#N/A,COUNTIF('A) Eingabe (Lehrer)'!D100:AH100,3))","v":{"$error":"#N/A"}},{"$f":"IF(N92<1,#N/A,COUNTIF('A) Eingabe (Lehrer)'!D100:AH100,4))","v":{"$error":"#N/A"}},{"$f":"IF('A) Eingabe (Lehrer)'!C100=\"\", #N/A, 'A) Eingabe (Lehrer)'!C100)","v":{"$error":"#N/A"}}]
[{"$f":"FragenErstellen!A97","v":0},{"$f":"IF($E93=0, #N/A,AVERAGE('A) Eingabe (Schüler)'!C101:AH101))","v":{"$error":"#N/A"}},{"$f":"IF(E93<2, #N/A, STDEVP('A) Eingabe (Schüler)'!C101:AH101))","v":{"$error":"#N/A"}},{"$error":"#N/A"},{"$f":"COUNT('A) Eingabe (Schüler)'!C101:AH101)","v":0},{"$f":"IF(E93<2,#N/A,COUNTIF('A) Eingabe (Schüler)'!C101:AH101,1))","v":{"$error":"#N/A"}},{"$f":"IF(E93<2,#N/A,COUNTIF('A) Eingabe (Schüler)'!C101:AH101,2))","v":{"$error":"#N/A"}},{"$f":"IF(E93<2,#N/A,COUNTIF('A) Eingabe (Schüler)'!C101:AH101,3))","v":{"$error":"#N/A"}},{"$f":"IF(E93<2,#N/A,COUNTIF('A) Eingabe (Schüler)'!C101:AH101,4))","v":{"$error":"#N/A"}},{"$f":"IF('A) Eingabe (Lehrer)'!C101=\"\", #N/A, 'A) Eingabe (Lehrer)'!C101)","v":{"$error":"#N/A"}},{"$f":"IF(N93=0, #N/A,AVERAGE('A) Eingabe (Lehrer)'!D101:AH101))","v":{"$error":"#N/A"}},{"$f":"IF(N93<1, #N/A, STDEVP('A) Eingabe (Lehrer)'!D101:AH101))","v":{"$error":"#N/A"}},{"$error":"#N/A"},{"$f":"COUNT('A) Eingabe (Lehrer)'!D101:AH101)","v":0},{"$f":"IF(N93<1,#N/A,COUNTIF('A) Eingabe (Lehrer)'!D101:AH101,1))","v":{"$error":"#N/A"}},{"$f":"IF(N93<1,#N/A,COUNTIF('A) Eingabe (Lehrer)'!D101:AH101,2))","v":{"$error":"#N/A"}},{"$f":"IF(N93<1,#N/A,COUNTIF('A) Eingabe (Lehrer)'!D101:AH101,3))","v":{"$error":"#N/A"}},{"$f":"IF(N93<1,#N/A,COUNTIF('A) Eingabe (Lehrer)'!D101:AH101,4))","v":{"$error":"#N/A"}},{"$f":"IF('A) Eingabe (Lehrer)'!C101=\"\", #N/A, 'A) Eingabe (Lehrer)'!C101)","v":{"$error":"#N/A"}}]
[]
[null,"Beurteilertendenzen"]
[null,null,"Rater ID","MW"]
[null,"Rater 1",{"$f":"'A) Temp'!B96","v":0},{"$f":"'A) Temp'!C96","v":""},{"$f":"IF(D97<>\"\",D158, #N/A)","v":{"$error":"#N/A"}}]
[null,"Rater 2",{"$f":"'A) Temp'!B97","v":0},{"$f":"'A) Temp'!C97","v":""},{"$f":"IF(D98<>\"\",D158, #N/A)","v":{"$error":"#N/A"}}]
[null,"Rater 3",{"$f":"'A) Temp'!B98","v":0},{"$f":"'A) Temp'!C98","v":""},{"$f":"IF(D99<>\"\",D158, #N/A)","v":{"$error":"#N/A"}}]
[null,"Rater 4",{"$f":"'A) Temp'!B99","v":0},{"$f":"'A) Temp'!C99","v":""},{"$f":"IF(D100<>\"\",D158, #N/A)","v":{"$error":"#N/A"}}]
[null,"Rater 5",{"$f":"'A) Temp'!B100","v":0},{"$f":"'A) Temp'!C100","v":""},{"$f":"IF(D101<>\"\",D158, #N/A)","v":{"$error":"#N/A"}}]
[null,"Rater 6",{"$f":"'A) Temp'!B101","v":0},{"$f":"'A) Temp'!C101","v":""},{"$f":"IF(D102<>\"\",D158, #N/A)","v":{"$error":"#N/A"}}]
[null,"Rater 7",{"$f":"'A) Temp'!B102","v":0},{"$f":"'A) Temp'!C102","v":""},{"$f":"IF(D103<>\"\",D158, #N/A)","v":{"$error":"#N/A"}}]
[null,"Rater 8",{"$f":"'A) Temp'!B103","v":0},{"$f":"'A) Temp'!C103","v":""},{"$f":"IF(D104<>\"\",D158, #N/A)","v":{"$error":"#N/A"}}]
[null,"Rater 9",{"$f":"'A) Temp'!B104","v":0},{"$f":"'A) Temp'!C104","v":""},{"$f":"IF(D105<>\"\",D158, #N/A)","v":{"$error":"#N/A"}}]
[null,"Rater 10",{"$f":"'A) Temp'!B105","v":0},{"$f":"'A) Temp'!C105","v":""},{"$f":"IF(D106<>\"\",D158, #N/A)","v":{"$error":"#N/A"}}]
[null,"Rater 11",{"$f":"'A) Temp'!B106","v":0},{"$f":"'A) Temp'!C106","v":""},{"$f":"IF(D107<>\"\",D158, #N/A)","v":{"$error":"#N/A"}}]
[null,"Rater 12",{"$f":"'A) Temp'!B107","v":0},{"$f":"'A) Temp'!C107","v":""},{"$f":"IF(D108<>\"\",D158, #N/A)","v":{"$error":"#N/A"}}]
[null,"Rater 13",{"$f":"'A) Temp'!B108","v":0},{"$f":"'A) Temp'!C108","v":""},{"$f":"IF(D109<>\"\",D158, #N/A)","v":{"$error":"#N/A"}}]
[null,"Rater 14",{"$f":"'A) Temp'!B109","v":0},{"$f":"'A) Temp'!C109","v":""},{"$f":"IF(D110<>\"\",D158, #N/A)","v":{"$error":"#N/A"}}]
[null,"Rater 15",{"$f":"'A) Temp'!B110","v":0},{"$f":"'A) Temp'!C110","v":""},{"$f":"IF(D111<>\"\",D158, #N/A)","v":{"$error":"#N/A"}}]
[null,"Rater 16",{"$f":"'A) Temp'!B111","v":0},{"$f":"'A) Temp'!C111","v":""},{"$f":"IF(D112<>\"\",D158, #N/A)","v":{"$error":"#N/A"}}]
[null,"Rater 17",{"$f":"'A) Temp'!B112","v":0},{"$f":"'A) Temp'!C112","v":""},{"$f":"IF(D113<>\"\",D158, #N/A)","v":{"$error":"#N/A"}}]
[null,"Rater 18",{"$f":"'A) Temp'!B113","v":0},{"$f":"'A) Temp'!C113","v":""},{"$f":"IF(D114<>\"\",D158, #N/A)","v":{"$error":"#N/A"}}]
[null,"Rater 19",{"$f":"'A) Temp'!B114","v":0},{"$f":"'A) Temp'!C114","v":""},{"$f":"IF(D115<>\"\",D158, #N/A)","v":{"$error":"#N/A"}}]
[null,"Rater 20",{"$f":"'A) Temp'!B115","v":0},{"$f":"'A) Temp'!C115","v":""},{"$f":"IF(D116<>\"\",D158, #N/A)","v":{"$error":"#N/A"}}]
[null,"Rater 21",{"$f":"'A) Temp'!B116","v":0},{"$f":"'A) Temp'!C116","v":""},{"$f":"IF(D117<>\"\",D158, #N/A)","v":{"$error":"#N/A"}}]
[null,"Rater 22",{"$f":"'A) Temp'!B117","v":0},{"$f":"'A) Temp'!C117","v":""},{"$f":"IF(D118<>\"\",D158, #N/A)","v":{"$error":"#N/A"}}]
[null,"Rater 23",{"$f":"'A) Temp'!B118","v":0},{"$f":"'A) Temp'!C118","v":""},{"$f":"IF(D119<>\"\",D158, #N/A)","v":{"$error":"#N/A"}}]
[null,"Rater 24",{"$f":"'A) Temp'!B119","v":0},{"$f":"'A) Temp'!C119","v":""},{"$f":"IF(D120<>\"\",D158, #N/A)","v":{"$error":"#N/A"}}]
[null,"Rater 25",{"$f":"'A) Temp'!B120","v":0},{"$f":"'A) Temp'!C120","v":""},{"$f":"IF(D121<>\"\",D158, #N/A)","v":{"$error":"#N/A"}}]
[null,"Rater 26",{"$f":"'A) Temp'!B121","v":0},{"$f":"'A) Temp'!C121","v":""},{"$f":"IF(D122<>\"\",D158, #N/A)","v":{"$error":"#N/A"}}]
[null,"Rater 27",{"$f":"'A) Temp'!B122","v":0},{"$f":"'A) Temp'!C122","v":""},{"$f":"IF(D123<>\"\",D158, #N/A)","v":{"$error":"#N/A"}}]
[null,"Rater 28",{"$f":"'A) Temp'!B123","v":0},{"$f":"'A) Temp'!C123","v":""},{"$f":"IF(D124<>\"\",D158, #N/A)","v":{"$error":"#N/A"}}]
[null,"Rater 29",{"$f":"'A) Temp'!B124","v":0},{"$f":"'A) Temp'!C124","v":""},{"$f":"IF(D125<>\"\",D158, #N/A)","v":{"$error":"#N/A"}}]
[null,"Rater 30",{"$f":"'A) Temp'!B125","v":0},{"$f":"'A) Temp'!C125","v":""},{"$f":"IF(D126<>\"\",D158, #N/A)","v":{"$error":"#N/A"}}]
[null,"Rater 31",{"$f":"'A) Temp'!B126","v":0},{"$f":"'A) Temp'!C126","v":""},{"$f":"IF(D127<>\"\",D158, #N/A)","v":{"$error":"#N/A"}}]
[null,"Rater 32",{"$f":"'A) Temp'!B127","v":0},{"$f":"'A) Temp'!C127","v":""},{"$f":"IF(D128<>\"\",D158, #N/A)","v":{"$error":"#N/A"}}]
[null,"Rater 33",{"$f":"'A) Temp'!B128","v":0},{"$f":"'A) Temp'!C128","v":""},{"$f":"IF(D129<>\"\",D158, #N/A)","v":{"$error":"#N/A"}}]
[null,"Rater 34",{"$f":"'A) Temp'!B129","v":0},{"$f":"'A) Temp'!C129","v":""},{"$f":"IF(D130<>\"\",D158, #N/A)","v":{"$error":"#N/A"}}]
[null,"Rater 35",{"$f":"'A) Temp'!B130","v":0},{"$f":"'A) Temp'!C130","v":""},{"$f":"IF(D131<>\"\",D158, #N/A)","v":{"$error":"#N/A"}}]
[null,"Rater 36",{"$f":"'A) Temp'!B131","v":0},{"$f":"'A) Temp'!C131","v":""},{"$f":"IF(D132<>\"\",D158, #N/A)","v":{"$error":"#N/A"}}]
[null,"Rater 37",{"$f":"'A) Temp'!B132","v":0},{"$f":"'A) Temp'!C132","v":""},{"$f":"IF(D133<>\"\",D158, #N/A)","v":{"$error":"#N/A"}}]
[null,"Rater 38",{"$f":"'A) Temp'!B133","v":0},{"$f":"'A) Temp'!C133","v":""},{"$f":"IF(D134<>\"\",D158, #N/A)","v":{"$error":"#N/A"}}]
[null,"Rater 39",{"$f":"'A) Temp'!B134","v":0},{"$f":"'A) Temp'!C134","v":""},{"$f":"IF(D135<>\"\",D158, #N/A)","v":{"$error":"#N/A"}}]
[null,"Rater 40",{"$f":"'A) Temp'!B135","v":0},{"$f":"'A) Temp'!C135","v":""},{"$f":"IF(D136<>\"\",D158, #N/A)","v":{"$error":"#N/A"}}]
[null,"Rater 41",{"$f":"'A) Temp'!B136","v":0},{"$f":"'A) Temp'!C136","v":""},{"$f":"IF(D137<>\"\",D158, #N/A)","v":{"$error":"#N/A"}}]
[null,"Rater 42",{"$f":"'A) Temp'!B137","v":0},{"$f":"'A) Temp'!C137","v":""},{"$f":"IF(D138<>\"\",D158, #N/A)","v":{"$error":"#N/A"}}]
[null,"Rater 43",{"$f":"'A) Temp'!B138","v":0},{"$f":"'A) Temp'!C138","v":""},{"$f":"IF(D139<>\"\",D158, #N/A)","v":{"$error":"#N/A"}}]
[null,"Rater 44",{"$f":"'A) Temp'!B139","v":0},{"$f":"'A) Temp'!C139","v":""},{"$f":"IF(D140<>\"\",D158, #N/A)","v":{"$error":"#N/A"}}]
[null,"Rater 45",{"$f":"'A) Temp'!B140","v":0},{"$f":"'A) Temp'!C140","v":""},{"$f":"IF(D141<>\"\",D158, #N/A)","v":{"$error":"#N/A"}}]
[null,"Rater 46",{"$f":"'A) Temp'!B141","v":0},{"$f":"'A) Temp'!C141","v":""},{"$f":"IF(D142<>\"\",D158, #N/A)","v":{"$error":"#N/A"}}]
[null,"Rater 47",{"$f":"'A) Temp'!B142","v":0},{"$f":"'A) Temp'!C142","v":""},{"$f":"IF(D143<>\"\",D158, #N/A)","v":{"$error":"#N/A"}}]
[null,"Rater 48",{"$f":"'A) Temp'!B143","v":0},{"$f":"'A) Temp'!C143","v":""},{"$f":"IF(D144<>\"\",D158, #N/A)","v":{"$error":"#N/A"}}]
[null,"Rater 49",{"$f":"'A) Temp'!B144","v":0},{"$f":"'A) Temp'!C144","v":""},{"$f":"IF(D145<>\"\",D158, #N/A)","v":{"$error":"#N/A"}}]
[null,"Rater 50",{"$f":"'A) Temp'!B145","v":0},{"$f":"'A) Temp'!C145","v":""},{"$f":"IF(D146<>\"\",D158, #N/A)","v":{"$error":"#N/A"}}]
[null,"Rater 51",{"$f":"'A) Temp'!B146","v":0},{"$f":"'A) Temp'!C146","v":""},{"$f":"IF(D147<>\"\",D158, #N/A)","v":{"$error":"#N/A"}}]
[null,"Rater 52",{"$f":"'A) Temp'!B147","v":0},{"$f":"'A) Temp'!C147","v":""},{"$f":"IF(D148<>\"\",D158, #N/A)","v":{"$error":"#N/A"}}]
[null,"Rater 53",{"$f":"'A) Temp'!B148","v":0},{"$f":"'A) Temp'!C148","v":""},{"$f":"IF(D149<>\"\",D158, #N/A)","v":{"$error":"#N/A"}}]
[null,"Rater 54",{"$f":"'A) Temp'!B149","v":0},{"$f":"'A) Temp'!C149","v":""},{"$f":"IF(D150<>\"\",D158, #N/A)","v":{"$error":"#N/A"}}]
[null,"Rater 55",{"$f":"'A) Temp'!B150","v":0},{"$f":"'A) Temp'!C150","v":""},{"$f":"IF(D151<>\"\",D158, #N/A)","v":{"$error":"#N/A"}}]
[null,"Rater 56",{"$f":"'A) Temp'!B151","v":0},{"$f":"'A) Temp'!C151","v":""},{"$f":"IF(D152<>\"\",D158, #N/A)","v":{"$error":"#N/A"}}]
[null,"Rater 57",{"$f":"'A) Temp'!B152","v":0},{"$f":"'A) Temp'!C152","v":""},{"$f":"IF(D153<>\"\",D158, #N/A)","v":{"$error":"#N/A"}}]
[null,"Rater 58",{"$f":"'A) Temp'!B153","v":85},{"$f":"'A) Temp'!C153","v":"Koll2"},{"$f":"IF(D154<>\"\",D158, #N/A)","v":{"$error":"#DIV/0!"}}]
[null,"Rater 59",{"$f":"'A) Temp'!B154","v":85},{"$f":"'A) Temp'!C154","v":"Kollege1"},{"$f":"IF(D155<>\"\",D158, #N/A)","v":{"$error":"#DIV/0!"}}]
[null,"Rater 60",{"$f":"'A) Temp'!B155","v":85},{"$f":"'A) Temp'!C155","v":"Lehrer"},{"$f":"IF(D156<>\"\",D158, #N/A)","v":{"$error":"#DIV/0!"}}]
[null,"Rater 61",{"$f":"'A) Temp'!B156","v":""},{"$f":"'A) Temp'!C156","v":""},{"$f":"IF(D157<>\"\",D158, #N/A)","v":{"$error":"#N/A"}}]
[null,null,"MW aller",{"$f":"AVERAGE(D97:D157)","v":{"$error":"#DIV/0!"}}]
[null,null,null,{"$f":"IF(D97<>\"\",D97, #N/A)","v":{"$error":"#N/A"}}]
[null,null,null,{"$f":"IF(D98<>\"\",D98, #N/A)","v":{"$error":"#N/A"}}]
[null,null,null,{"$error":"#N/A"}]
[null,null,null,{"$error":"#N/A"}]
[null,null,null,{"$error":"#N/A"}]
[null,null,null,{"$error":"#N/A"}]
[null,null,null,{"$error":"#N/A"}]
[null,null,null,{"$error":"#N/A"}]
[null,null,null,{"$error":"#N/A"}]
[null,null,null,{"$error":"#N/A"}]
[null,null,null,{"$error":"#N/A"}]
[null,null,null,{"$error":"#N/A"}]
[null,null,null,{"$error":"#N/A"}]
[null,null,null,{"$error":"#N/A"}]
[null,null,null,{"$error":"#N/A"}]
[null,null,null,{"$error":"#N/A"}]
[null,null,null,{"$error":"#N/A"}]
[null,null,null,{"$error":"#N/A"}]
[null,null,null,{"$error":"#N/A"}]
[null,null,null,{"$error":"#N/A"}]
[null,null,null,{"$error":"#N/A"}]
[null,null,null,{"$error":"#N/A"}]
[null,null,null,{"$error":"#N/A"}]
[null,null,null,{"$error":"#N/A"}]
[null,null,null,{"$error":"#N/A"}]
[null,null,null,{"$error":"#N/A"}]
[null,null,null,{"$error":"#N/A"}]
[null,null,null,{"$error":"#N/A"}]
[null,null,null,{"$error":"#N/A"}]
[null,null,null,{"$error":"#N/A"}]
[null,null,null,{"$error":"#N/A"}]
[null,null,null,{"$error":"#N/A"}]
[null,null,null,{"$error":"#N/A"}]
[null,null,null,{"$error":"#N/A"}]
[null,null,null,{"$error":"#N/A"}]
[null,null,null,{"$error":"#N/A"}]
[null,null,null,{"$error":"#N/A"}]
[null,null,null,{"$error":"#N/A"}]
[null,null,null,{"$error":"#N/A"}]
[null,null,null,{"$error":"#N/A"}]
[null,null,null,{"$error":"#N/A"}]
[null,null,null,{"$error":"#N/A"}]
[null,null,null,{"$error":"#N/A"}]
[null,null,null,{"$error":"#N/A"}]
[null,null,null,{"$error":"#N/A"}]
[null,null,null,{"$error":"#N/A"}]
[null,null,null,{"$error":"#N/A"}]
[null,null,null,{"$error":"#N/A"}]
[null,null,null,{"$error":"#N/A"}]
[null,null,null,{"$error":"#N/A"}]
[null,null,null,{"$error":"#N/A"}]
[null,null,null,{"$error":"#N/A"}]
[null,null,null,{"$error":"#N/A"}]
[null,null,null,{"$error":"#N/A"}]
[null,null,null,{"$error":"#N/A"}]
[null,null,null,{"$error":"#N/A"}]
[null,null,null,{"$error":"#N/A"}]
[null,null,null,"Koll2"]
[null,null,null,"Kollege1"]
[null,null,null,"Lehrer"]
[null,null,null,{"$error":"#N/A"}]
[null,"Item 30 Kollegen"]
[null,null,1,2,3,4,5,6,7,8,9,10,11,12,13,14,15,16,17,18,19,20,21,22,23,24,25,26,27,28,29,30,31,32,33,34,35,36,37,38,39,40,41,42,43,44,45,46,47,48,49,50,51,52,53,54,55,56,57,58,59,60,{"$error":"#N/A"},"Summe","N","MW","%"]
[]
["zu leicht","zu leicht"]
["etwas zu leicht","etwas zu leicht"]
["genau richtig","genau richtig"]
["etwas zu schwierig","etwas zu schwierig"]
["zu schwierig","zu schwierig"]
["fehlende Angaben","fehlende Angaben"]

{"sheet":"B) Daten","index":32,"n_rows":228,"n_cols":67,"rows_kept":228,"cut":false,"hidden":true,"merged":[[0,1,0,9],[0,10,0,18],[94,1,94,3]]}
[null,"Schüler-Urteil",null,null,null,null,null,null,null,null,"Lehrer-, Kollegen-Urteil"]
["Itemnr.","M","SD","Proz3_4","N","cat1","cat2","cat3","cat4","SE","M-Kolleg","SD-Kolleg","Proz34_kog","N_kog","cat1-kog","cat2-kog","cat3-kog","cat4-kog","SE"]
[{"$f":"FragenErstellen!A7","v":1},{"$f":"IF(E3=0, #N/A,AVERAGE('B) Eingabe (Schüler)'!C11:AH11))","v":{"$error":"#N/A"}},{"$f":"IF(E3<2, #N/A, STDEVP('B) Eingabe (Schüler)'!C11:AH11))","v":{"$error":"#N/A"}},{"$f":"IF(E3<2, #N/A, 100*(H3+I3)/E3)","v":{"$error":"#N/A"}},{"$f":"COUNT('B) Eingabe (Schüler)'!C11:AH11)","v":0},{"$f":"IF(E3<2,#N/A,COUNTIF('B) Eingabe (Schüler)'!C11:AH11,1))","v":{"$error":"#N/A"}},{"$f":"IF(E3<2,#N/A,COUNTIF('B) Eingabe (Schüler)'!C11:AH11,2))","v":{"$error":"#N/A"}},{"$f":"IF(E3<2,#N/A,COUNTIF('B) Eingabe (Schüler)'!C11:AH11,3))","v":{"$error":"#N/A"}},{"$f":"IF(E3<2,#N/A,COUNTIF('B) Eingabe (Schüler)'!C11:AH11,4))","v":{"$error":"#N/A"}},{"$f":"IF('B) Eingabe (Lehrer)'!C11=\"\", #N/A, 'B) Eingabe (Lehrer)'!C11)","v":{"$error":"#N/A"}},{"$f":"IF(N3=0, #N/A,AVERAGE('B) Eingabe (Lehrer)'!D11:AH11))","v":{"$error":"#N/A"}},{"$f":"IF(N3<1, #N/A, STDEVP('B) Eingabe (Lehrer)'!D11:AH11))","v":{"$error":"#N/A"}},{"$f":"IF(N3<1, #N/A, 100*(Q3+R3)/N3)","v":{"$error":"#N/A"}},{"$f":"COUNT('B) Eingabe (Lehrer)'!D11:AH11)","v":0},{"$f":"IF(N3<1,#N/A,COUNTIF('B) Eingabe (Lehrer)'!D11:AH11,1))","v":{"$error":"#N/A"}},{"$f":"IF(N3<1,#N/A,COUNTIF('B) Eingabe (Lehrer)'!D11:AH11,2))","v":{"$error":"#N/A"}},{"$f":"IF(N3<1,#N/A,COUNTIF('B) Eingabe (Lehrer)'!D11:AH11,3))","v":{"$error":"#N/A"}},{"$f":"IF(N3<1,#N/A,COUNTIF('B) Eingabe (Lehrer)'!D11:AH11,4))","v":{"$error":"#N/A"}},{"$f":"IF('B) Eingabe (Lehrer)'!C11=\"\", #N/A, 'B) Eingabe (Lehrer)'!C11)","v":{"$error":"#N/A"}}]
[{"$f":"FragenErstellen!A8","v":2},{"$f":"IF(E4=0, #N/A,AVERAGE('B) Eingabe (Schüler)'!C12:AH12))","v":{"$error":"#N/A"}},{"$f":"IF(E4<2, #N/A, STDEVP('B) Eingabe (Schüler)'!C12:AH12))","v":{"$error":"#N/A"}},{"$f":"IF(E4<2, #N/A, 100*(H4+I4)/E4)","v":{"$error":"#N/A"}},{"$f":"COUNT('B) Eingabe (Schüler)'!C12:AH12)","v":0},{"$f":"IF(E4<2,#N/A,COUNTIF('B) Eingabe (Schüler)'!C12:AH12,1))","v":{"$error":"#N/A"}},{"$f":"IF(E4<2,#N/A,COUNTIF('B) Eingabe (Schüler)'!C12:AH12,2))","v":{"$error":"#N/A"}},{"$f":"IF(E4<2,#N/A,COUNTIF('B) Eingabe (Schüler)'!C12:AH12,3))","v":{"$error":"#N/A"}},{"$f":"IF(E4<2,#N/A,COUNTIF('B) Eingabe (Schüler)'!C12:AH12,4))","v":{"$error":"#N/A"}},{"$f":"IF('B) Eingabe (Lehrer)'!C12=\"\", #N/A, 'B) Eingabe (Lehrer)'!C12)","v":{"$error":"#N/A"}},{"$f":"IF(N4=0, #N/A,AVERAGE('B) Eingabe (Lehrer)'!D12:AH12))","v":{"$error":"#N/A"}},{"$f":"IF(N4<1, #N/A, STDEVP('B) Eingabe (Lehrer)'!D12:AH12))","v":{"$error":"#N/A"}},{"$f":"IF(N4<1, #N/A, 100*(Q4+R4)/N4)","v":{"$error":"#N/A"}},{"$f":"COUNT('B) Eingabe (Lehrer)'!D12:AH12)","v":0},{"$f":"IF(N4<1,#N/A,COUNTIF('B) Eingabe (Lehrer)'!D12:AH12,1))","v":{"$error":"#N/A"}},{"$f":"IF(N4<1,#N/A,COUNTIF('B) Eingabe (Lehrer)'!D12:AH12,2))","v":{"$error":"#N/A"}},{"$f":"IF(N4<1,#N/A,COUNTIF('B) Eingabe (Lehrer)'!D12:AH12,3))","v":{"$error":"#N/A"}},{"$f":"IF(N4<1,#N/A,COUNTIF('B) Eingabe (Lehrer)'!D12:AH12,4))","v":{"$error":"#N/A"}},{"$f":"IF('B) Eingabe (Lehrer)'!C12=\"\", #N/A, 'B) Eingabe (Lehrer)'!C12)","v":{"$error":"#N/A"}}]
[{"$f":"FragenErstellen!A9","v":3},{"$f":"IF(E5=0, #N/A,AVERAGE('B) Eingabe (Schüler)'!C13:AH13))","v":{"$error":"#N/A"}},{"$f":"IF(E5<2, #N/A, STDEVP('B) Eingabe (Schüler)'!C13:AH13))","v":{"$error":"#N/A"}},{"$error":"#N/A"},{"$f":"COUNT('B) Eingabe (Schüler)'!C13:AH13)","v":0},{"$f":"IF(E5<2,#N/A,COUNTIF('B) Eingabe (Schüler)'!C13:AH13,1))","v":{"$error":"#N/A"}},{"$f":"IF(E5<2,#N/A,COUNTIF('B) Eingabe (Schüler)'!C13:AH13,2))","v":{"$error":"#N/A"}},{"$f":"IF(E5<2,#N/A,COUNTIF('B) Eingabe (Schüler)'!C13:AH13,3))","v":{"$error":"#N/A"}},{"$f":"IF(E5<2,#N/A,COUNTIF('B) Eingabe (Schüler)'!C13:AH13,4))","v":{"$error":"#N/A"}},{"$f":"IF('B) Eingabe (Lehrer)'!C13=\"\", #N/A, 'B) Eingabe (Lehrer)'!C13)","v":{"$error":"#N/A"}},{"$f":"IF(N5=0, #N/A,AVERAGE('B) Eingabe (Lehrer)'!D13:AH13))","v":{"$error":"#N/A"}},{"$f":"IF(N5<1, #N/A, STDEVP('B) Eingabe (Lehrer)'!D13:AH13))","v":{"$error":"#N/A"}},{"$error":"#N/A"},{"$f":"COUNT('B) Eingabe (Lehrer)'!D13:AH13)","v":0},{"$f":"IF(N5<1,#N/A,COUNTIF('B) Eingabe (Lehrer)'!D13:AH13,1))","v":{"$error":"#N/A"}},{"$f":"IF(N5<1,#N/A,COUNTIF('B) Eingabe (Lehrer)'!D13:AH13,2))","v":{"$error":"#N/A"}},{"$f":"IF(N5<1,#N/A,COUNTIF('B) Eingabe (Lehrer)'!D13:AH13,3))","v":{"$error":"#N/A"}},{"$f":"IF(N5<1,#N/A,COUNTIF('B) Eingabe (Lehrer)'!D13:AH13,4))","v":{"$error":"#N/A"}},{"$f":"IF('B) Eingabe (Lehrer)'!C13=\"\", #N/A, 'B) Eingabe (Lehrer)'!C13)","v":{"$error":"#N/A"}}]
[{"$f":"FragenErstellen!A10","v":4},{"$f":"IF(E6=0, #N/A,AVERAGE('B) Eingabe (Schüler)'!C14:AH14))","v":{"$error":"#N/A"}},{"$f":"IF(E6<2, #N/A, STDEVP('B) Eingabe (Schüler)'!C14:AH14))","v":{"$error":"#N/A"}},{"$error":"#N/A"},{"$f":"COUNT('B) Eingabe (Schüler)'!C14:AH14)","v":0},{"$f":"IF(E6<2,#N/A,COUNTIF('B) Eingabe (Schüler)'!C14:AH14,1))","v":{"$error":"#N/A"}},{"$f":"IF(E6<2,#N/A,COUNTIF('B) Eingabe (Schüler)'!C14:AH14,2))","v":{"$error":"#N/A"}},{"$f":"IF(E6<2,#N/A,COUNTIF('B) Eingabe (Schüler)'!C14:AH14,3))","v":{"$error":"#N/A"}},{"$f":"IF(E6<2,#N/A,COUNTIF('B) Eingabe (Schüler)'!C14:AH14,4))","v":{"$error":"#N/A"}},{"$f":"IF('B) Eingabe (Lehrer)'!C14=\"\", #N/A, 'B) Eingabe (Lehrer)'!C14)","v":{"$error":"#N/A"}},{"$f":"IF(N6=0, #N/A,AVERAGE('B) Eingabe (Lehrer)'!D14:AH14))","v":{"$error":"#N/A"}},{"$f":"IF(N6<1, #N/A, STDEVP('B) Eingabe (Lehrer)'!D14:AH14))","v":{"$error":"#N/A"}},{"$error":"#N/A"},{"$f":"COUNT('B) Eingabe (Lehrer)'!D14:AH14)","v":0},{"$f":"IF(N6<1,#N/A,COUNTIF('B) Eingabe (Lehrer)'!D14:AH14,1))","v":{"$error":"#N/A"}},{"$f":"IF(N6<1,#N/A,COUNTIF('B) Eingabe (Lehrer)'!D14:AH14,2))","v":{"$error":"#N/A"}},{"$f":"IF(N6<1,#N/A,COUNTIF('B) Eingabe (Lehrer)'!D14:AH14,3))","v":{"$error":"#N/A"}},{"$f":"IF(N6<1,#N/A,COUNTIF('B) Eingabe (Lehrer)'!D14:AH14,4))","v":{"$error":"#N/A"}},{"$f":"IF('B) Eingabe (Lehrer)'!C14=\"\", #N/A, 'B) Eingabe (Lehrer)'!C14)","v":{"$error":"#N/A"}}]
[{"$f":"FragenErstellen!A11","v":5},{"$f":"IF(E7=0, #N/A,AVERAGE('B) Eingabe (Schüler)'!C15:AH15))","v":{"$error":"#N/A"}},{"$f":"IF(E7<2, #N/A, STDEVP('B) Eingabe (Schüler)'!C15:AH15))","v":{"$error":"#N/A"}},{"$error":"#N/A"},{"$f":"COUNT('B) Eingabe (Schüler)'!C15:AH15)","v":0},{"$f":"IF(E7<2,#N/A,COUNTIF('B) Eingabe (Schüler)'!C15:AH15,1))","v":{"$error":"#N/A"}},{"$f":"IF(E7<2,#N/A,COUNTIF('B) Eingabe (Schüler)'!C15:AH15,2))","v":{"$error":"#N/A"}},{"$f":"IF(E7<2,#N/A,COUNTIF('B) Eingabe (Schüler)'!C15:AH15,3))","v":{"$error":"#N/A"}},{"$f":"IF(E7<2,#N/A,COUNTIF('B) Eingabe (Schüler)'!C15:AH15,4))","v":{"$error":"#N/A"}},{"$f":"IF('B) Eingabe (Lehrer)'!C15=\"\", #N/A, 'B) Eingabe (Lehrer)'!C15)","v":{"$error":"#N/A"}},{"$f":"IF(N7=0, #N/A,AVERAGE('B) Eingabe (Lehrer)'!D15:AH15))","v":{"$error":"#N/A"}},{"$f":"IF(N7<1, #N/A, STDEVP('B) Eingabe (Lehrer)'!D15:AH15))","v":{"$error":"#N/A"}},{"$error":"#N/A"},{"$f":"COUNT('B) Eingabe (Lehrer)'!D15:AH15)","v":0},{"$f":"IF(N7<1,#N/A,COUNTIF('B) Eingabe (Lehrer)'!D15:AH15,1))","v":{"$error":"#N/A"}},{"$f":"IF(N7<1,#N/A,COUNTIF('B) Eingabe (Lehrer)'!D15:AH15,2))","v":{"$error":"#N/A"}},{"$f":"IF(N7<1,#N/A,COUNTIF('B) Eingabe (Lehrer)'!D15:AH15,3))","v":{"$error":"#N/A"}},{"$f":"IF(N7<1,#N/A,COUNTIF('B) Eingabe (Lehrer)'!D15:AH15,4))","v":{"$error":"#N/A"}},{"$f":"IF('B) Eingabe (Lehrer)'!C15=\"\", #N/A, 'B) Eingabe (Lehrer)'!C15)","v":{"$error":"#N/A"}}]
[{"$f":"FragenErstellen!A12","v":6},{"$f":"IF(E8=0, #N/A,AVERAGE('B) Eingabe (Schüler)'!C16:AH16))","v":{"$error":"#N/A"}},{"$f":"IF(E8<2, #N/A, STDEVP('B) Eingabe (Schüler)'!C16:AH16))","v":{"$error":"#N/A"}},{"$error":"#N/A"},{"$f":"COUNT('B) Eingabe (Schüler)'!C16:AH16)","v":0},{"$f":"IF(E8<2,#N/A,COUNTIF('B) Eingabe (Schüler)'!C16:AH16,1))","v":{"$error":"#N/A"}},{"$f":"IF(E8<2,#N/A,COUNTIF('B) Eingabe (Schüler)'!C16:AH16,2))","v":{"$error":"#N/A"}},{"$f":"IF(E8<2,#N/A,COUNTIF('B) Eingabe (Schüler)'!C16:AH16,3))","v":{"$error":"#N/A"}},{"$f":"IF(E8<2,#N/A,COUNTIF('B) Eingabe (Schüler)'!C16:AH16,4))","v":{"$error":"#N/A"}},{"$f":"IF('B) Eingabe (Lehrer)'!C16=\"\", #N/A, 'B) Eingabe (Lehrer)'!C16)","v":{"$error":"#N/A"}},{"$f":"IF(N8=0, #N/A,AVERAGE('B) Eingabe (Lehrer)'!D16:AH16))","v":{"$error":"#N/A"}},{"$f":"IF(N8<1, #N/A, STDEVP('B) Eingabe (Lehrer)'!D16:AH16))","v":{"$error":"#N/A"}},{"$error":"#N/A"},{"$f":"COUNT('B) Eingabe (Lehrer)'!D16:AH16)","v":0},{"$f":"IF(N8<1,#N/A,COUNTIF('B) Eingabe (Lehrer)'!D16:AH16,1))","v":{"$error":"#N/A"}},{"$f":"IF(N8<1,#N/A,COUNTIF('B) Eingabe (Lehrer)'!D16:AH16,2))","v":{"$error":"#N/A"}},{"$f":"IF(N8<1,#N/A,COUNTIF('B) Eingabe (Lehrer)'!D16:AH16,3))","v":{"$error":"#N/A"}},{"$f":"IF(N8<1,#N/A,COUNTIF('B) Eingabe (Lehrer)'!D16:AH16,4))","v":{"$error":"#N/A"}},{"$f":"IF('B) Eingabe (Lehrer)'!C16=\"\", #N/A, 'B) Eingabe (Lehrer)'!C16)","v":{"$error":"#N/A"}}]
[{"$f":"FragenErstellen!A13","v":7},{"$f":"IF(E9=0, #N/A,AVERAGE('B) Eingabe (Schüler)'!C17:AH17))","v":{"$error":"#N/A"}},{"$f":"IF(E9<2, #N/A, STDEVP('B) Eingabe (Schüler)'!C17:AH17))","v":{"$error":"#N/A"}},{"$error":"#N/A"},{"$f":"COUNT('B) Eingabe (Schüler)'!C17:AH17)","v":0},{"$f":"IF(E9<2,#N/A,COUNTIF('B) Eingabe (Schüler)'!C17:AH17,1))","v":{"$error":"#N/A"}},{"$f":"IF(E9<2,#N/A,COUNTIF('B) Eingabe (Schüler)'!C17:AH17,2))","v":{"$error":"#N/A"}},{"$f":"IF(E9<2,#N/A,COUNTIF('B) Eingabe (Schüler)'!C17:AH17,3))","v":{"$error":"#N/A"}},{"$f":"IF(E9<2,#N/A,COUNTIF('B) Eingabe (Schüler)'!C17:AH17,4))","v":{"$error":"#N/A"}},{"$f":"IF('B) Eingabe (Lehrer)'!C17=\"\", #N/A, 'B) Eingabe (Lehrer)'!C17)","v":{"$error":"#N/A"}},{"$f":"IF(N9=0, #N/A,AVERAGE('B) Eingabe (Lehrer)'!D17:AH17))","v":{"$error":"#N/A"}},{"$f":"IF(N9<1, #N/A, STDEVP('B) Eingabe (Lehrer)'!D17:AH17))","v":{"$error":"#N/A"}},{"$error":"#N/A"},{"$f":"COUNT('B) Eingabe (Lehrer)'!D17:AH17)","v":0},{"$f":"IF(N9<1,#N/A,COUNTIF('B) Eingabe (Lehrer)'!D17:AH17,1))","v":{"$error":"#N/A"}},{"$f":"IF(N9<1,#N/A,COUNTIF('B) Eingabe (Lehrer)'!D17:AH17,2))","v":{"$error":"#N/A"}},{"$f":"IF(N9<1,#N/A,COUNTIF('B) Eingabe (Lehrer)'!D17:AH17,3))","v":{"$error":"#N/A"}},{"$f":"IF(N9<1,#N/A,COUNTIF('B) Eingabe (Lehrer)'!D17:AH17,4))","v":{"$error":"#N/A"}},{"$f":"IF('B) Eingabe (Lehrer)'!C17=\"\", #N/A, 'B) Eingabe (Lehrer)'!C17)","v":{"$error":"#N/A"}}]
[{"$f":"FragenErstellen!A14","v":8},{"$f":"IF(E10=0, #N/A,AVERAGE('B) Eingabe (Schüler)'!C18:AH18))","v":{"$error":"#N/A"}},{"$f":"IF(E10<2, #N/A, STDEVP('B) Eingabe (Schüler)'!C18:AH18))","v":{"$error":"#N/A"}},{"$error":"#N/A"},{"$f":"COUNT('B) Eingabe (Schüler)'!C18:AH18)","v":0},{"$f":"IF(E10<2,#N/A,COUNTIF('B) Eingabe (Schüler)'!C18:AH18,1))","v":{"$error":"#N/A"}},{"$f":"IF(E10<2,#N/A,COUNTIF('B) Eingabe (Schüler)'!C18:AH18,2))","v":{"$error":"#N/A"}},{"$f":"IF(E10<2,#N/A,COUNTIF('B) Eingabe (Schüler)'!C18:AH18,3))","v":{"$error":"#N/A"}},{"$f":"IF(E10<2,#N/A,COUNTIF('B) Eingabe (Schüler)'!C18:AH18,4))","v":{"$error":"#N/A"}},{"$f":"IF('B) Eingabe (Lehrer)'!C18=\"\", #N/A, 'B) Eingabe (Lehrer)'!C18)","v":{"$error":"#N/A"}},{"$f":"IF(N10=0, #N/A,AVERAGE('B) Eingabe (Lehrer)'!D18:AH18))","v":{"$error":"#N/A"}},{"$f":"IF(N10<1, #N/A, STDEVP('B) Eingabe (Lehrer)'!D18:AH18))","v":{"$error":"#N/A"}},{"$error":"#N/A"},{"$f":"COUNT('B) Eingabe (Lehrer)'!D18:AH18)","v":0},{"$f":"IF(N10<1,#N/A,COUNTIF('B) Eingabe (Lehrer)'!D18:AH18,1))","v":{"$error":"#N/A"}},{"$f":"IF(N10<1,#N/A,COUNTIF('B) Eingabe (Lehrer)'!D18:AH18,2))","v":{"$error":"#N/A"}},{"$f":"IF(N10<1,#N/A,COUNTIF('B) Eingabe (Lehrer)'!D18:AH18,3))","v":{"$error":"#N/A"}},{"$f":"IF(N10<1,#N/A,COUNTIF('B) Eingabe (Lehrer)'!D18:AH18,4))","v":{"$error":"#N/A"}},{"$f":"IF('B) Eingabe (Lehrer)'!C18=\"\", #N/A, 'B) Eingabe (Lehrer)'!C18)","v":{"$error":"#N/A"}}]
[{"$f":"FragenErstellen!A15","v":9},{"$f":"IF(E11=0, #N/A,AVERAGE('B) Eingabe (Schüler)'!C19:AH19))","v":{"$error":"#N/A"}},{"$f":"IF(E11<2, #N/A, STDEVP('B) Eingabe (Schüler)'!C19:AH19))","v":{"$error":"#N/A"}},{"$error":"#N/A"},{"$f":"COUNT('B) Eingabe (Schüler)'!C19:AH19)","v":0},{"$f":"IF(E11<2,#N/A,COUNTIF('B) Eingabe (Schüler)'!C19:AH19,1))","v":{"$error":"#N/A"}},{"$f":"IF(E11<2,#N/A,COUNTIF('B) Eingabe (Schüler)'!C19:AH19,2))","v":{"$error":"#N/A"}},{"$f":"IF(E11<2,#N/A,COUNTIF('B) Eingabe (Schüler)'!C19:AH19,3))","v":{"$error":"#N/A"}},{"$f":"IF(E11<2,#N/A,COUNTIF('B) Eingabe (Schüler)'!C19:AH19,4))","v":{"$error":"#N/A"}},{"$f":"IF('B) Eingabe (Lehrer)'!C19=\"\", #N/A, 'B) Eingabe (Lehrer)'!C19)","v":{"$error":"#N/A"}},{"$f":"IF(N11=0, #N/A,AVERAGE('B) Eingabe (Lehrer)'!D19:AH19))","v":{"$error":"#N/A"}},{"$f":"IF(N11<1, #N/A, STDEVP('B) Eingabe (Lehrer)'!D19:AH19))","v":{"$error":"#N/A"}},{"$error":"#N/A"},{"$f":"COUNT('B) Eingabe (Lehrer)'!D19:AH19)","v":0},{"$f":"IF(N11<1,#N/A,COUNTIF('B) Eingabe (Lehrer)'!D19:AH19,1))","v":{"$error":"#N/A"}},{"$f":"IF(N11<1,#N/A,COUNTIF('B) Eingabe (Lehrer)'!D19:AH19,2))","v":{"$error":"#N/A"}},{"$f":"IF(N11<1,#N/A,COUNTIF('B) Eingabe (Lehrer)'!D19:AH19,3))","v":{"$error":"#N/A"}},{"$f":"IF(N11<1,#N/A,COUNTIF('B) Eingabe (Lehrer)'!D19:AH19,4))","v":{"$error":"#N/A"}},{"$f":"IF('B) Eingabe (Lehrer)'!C19=\"\", #N/A, 'B) Eingabe (Lehrer)'!C19)","v":{"$error":"#N/A"}}]
[{"$f":"FragenErstellen!A16","v":10},{"$f":"IF(E12=0, #N/A,AVERAGE('B) Eingabe (Schüler)'!C20:AH20))","v":{"$error":"#N/A"}},{"$f":"IF(E12<2, #N/A, STDEVP('B) Eingabe (Schüler)'!C20:AH20))","v":{"$error":"#N/A"}},{"$error":"#N/A"},{"$f":"COUNT('B) Eingabe (Schüler)'!C20:AH20)","v":0},{"$f":"IF(E12<2,#N/A,COUNTIF('B) Eingabe (Schüler)'!C20:AH20,1))","v":{"$error":"#N/A"}},{"$f":"IF(E12<2,#N/A,COUNTIF('B) Eingabe (Schüler)'!C20:AH20,2))","v":{"$error":"#N/A"}},{"$f":"IF(E12<2,#N/A,COUNTIF('B) Eingabe (Schüler)'!C20:AH20,3))","v":{"$error":"#N/A"}},{"$f":"IF(E12<2,#N/A,COUNTIF('B) Eingabe (Schüler)'!C20:AH20,4))","v":{"$error":"#N/A"}},{"$f":"IF('B) Eingabe (Lehrer)'!C20=\"\", #N/A, 'B) Eingabe (Lehrer)'!C20)","v":{"$error":"#N/A"}},{"$f":"IF(N12=0, #N/A,AVERAGE('B) Eingabe (Lehrer)'!D20:AH20))","v":{"$error":"#N/A"}},{"$f":"IF(N12<1, #N/A, STDEVP('B) Eingabe (Lehrer)'!D20:AH20))","v":{"$error":"#N/A"}},{"$error":"#N/A"},{"$f":"COUNT('B) Eingabe (Lehrer)'!D20:AH20)","v":0},{"$f":"IF(N12<1,#N/A,COUNTIF('B) Eingabe (Lehrer)'!D20:AH20,1))","v":{"$error":"#N/A"}},{"$f":"IF(N12<1,#N/A,COUNTIF('B) Eingabe (Lehrer)'!D20:AH20,2))","v":{"$error":"#N/A"}},{"$f":"IF(N12<1,#N/A,COUNTIF('B) Eingabe (Lehrer)'!D20:AH20,3))","v":{"$error":"#N/A"}},{"$f":"IF(N12<1,#N/A,COUNTIF('B) Eingabe (Lehrer)'!D20:AH20,4))","v":{"$error":"#N/A"}},{"$f":"IF('B) Eingabe (Lehrer)'!C20=\"\", #N/A, 'B) Eingabe (Lehrer)'!C20)","v":{"$error":"#N/A"}}]
[{"$f":"FragenErstellen!A17","v":11},{"$f":"IF(E13=0, #N/A,AVERAGE('B) Eingabe (Schüler)'!C21:AH21))","v":{"$error":"#N/A"}},{"$f":"IF(E13<2, #N/A, STDEVP('B) Eingabe (Schüler)'!C21:AH21))","v":{"$error":"#N/A"}},{"$error":"#N/A"},{"$f":"COUNT('B) Eingabe (Schüler)'!C21:AH21)","v":0},{"$f":"IF(E13<2,#N/A,COUNTIF('B) Eingabe (Schüler)'!C21:AH21,1))","v":{"$error":"#N/A"}},{"$f":"IF(E13<2,#N/A,COUNTIF('B) Eingabe (Schüler)'!C21:AH21,2))","v":{"$error":"#N/A"}},{"$f":"IF(E13<2,#N/A,COUNTIF('B) Eingabe (Schüler)'!C21:AH21,3))","v":{"$error":"#N/A"}},{"$f":"IF(E13<2,#N/A,COUNTIF('B) Eingabe (Schüler)'!C21:AH21,4))","v":{"$error":"#N/A"}},{"$f":"IF('B) Eingabe (Lehrer)'!C21=\"\", #N/A, 'B) Eingabe (Lehrer)'!C21)","v":{"$error":"#N/A"}},{"$f":"IF(N13=0, #N/A,AVERAGE('B) Eingabe (Lehrer)'!D21:AH21))","v":{"$error":"#N/A"}},{"$f":"IF(N13<1, #N/A, STDEVP('B) Eingabe (Lehrer)'!D21:AH21))","v":{"$error":"#N/A"}},{"$error":"#N/A"},{"$f":"COUNT('B) Eingabe (Lehrer)'!D21:AH21)","v":0},{"$f":"IF(N13<1,#N/A,COUNTIF('B) Eingabe (Lehrer)'!D21:AH21,1))","v":{"$error":"#N/A"}},{"$f":"IF(N13<1,#N/A,COUNTIF('B) Eingabe (Lehrer)'!D21:AH21,2))","v":{"$error":"#N/A"}},{"$f":"IF(N13<1,#N/A,COUNTIF('B) Eingabe (Lehrer)'!D21:AH21,3))","v":{"$error":"#N/A"}},{"$f":"IF(N13<1,#N/A,COUNTIF('B) Eingabe (Lehrer)'!D21:AH21,4))","v":{"$error":"#N/A"}},{"$f":"IF('B) Eingabe (Lehrer)'!C21=\"\", #N/A, 'B) Eingabe (Lehrer)'!C21)","v":{"$error":"#N/A"}}]
[{"$f":"FragenErstellen!A18","v":12},{"$f":"IF(E14=0, #N/A,AVERAGE('B) Eingabe (Schüler)'!C22:AH22))","v":{"$error":"#N/A"}},{"$f":"IF(E14<2, #N/A, STDEVP('B) Eingabe (Schüler)'!C22:AH22))","v":{"$error":"#N/A"}},{"$error":"#N/A"},{"$f":"COUNT('B) Eingabe (Schüler)'!C22:AH22)","v":0},{"$f":"IF(E14<2,#N/A,COUNTIF('B) Eingabe (Schüler)'!C22:AH22,1))","v":{"$error":"#N/A"}},{"$f":"IF(E14<2,#N/A,COUNTIF('B) Eingabe (Schüler)'!C22:AH22,2))","v":{"$error":"#N/A"}},{"$f":"IF(E14<2,#N/A,COUNTIF('B) Eingabe (Schüler)'!C22:AH22,3))","v":{"$error":"#N/A"}},{"$f":"IF(E14<2,#N/A,COUNTIF('B) Eingabe (Schüler)'!C22:AH22,4))","v":{"$error":"#N/A"}},{"$f":"IF('B) Eingabe (Lehrer)'!C22=\"\", #N/A, 'B) Eingabe (Lehrer)'!C22)","v":{"$error":"#N/A"}},{"$f":"IF(N14=0, #N/A,AVERAGE('B) Eingabe (Lehrer)'!D22:AH22))","v":{"$error":"#N/A"}},{"$f":"IF(N14<1, #N/A, STDEVP('B) Eingabe (Lehrer)'!D22:AH22))","v":{"$error":"#N/A"}},{"$error":"#N/A"},{"$f":"COUNT('B) Eingabe (Lehrer)'!D22:AH22)","v":0},{"$f":"IF(N14<1,#N/A,COUNTIF('B) Eingabe (Lehrer)'!D22:AH22,1))","v":{"$error":"#N/A"}},{"$f":"IF(N14<1,#N/A,COUNTIF('B) Eingabe (Lehrer)'!D22:AH22,2))","v":{"$error":"#N/A"}},{"$f":"IF(N14<1,#N/A,COUNTIF('B) Eingabe (Lehrer)'!D22:AH22,3))","v":{"$error":"#N/A"}},{"$f":"IF(N14<1,#N/A,COUNTIF('B) Eingabe (Lehrer)'!D22:AH22,4))","v":{"$error":"#N/A"}},{"$f":"IF('B) Eingabe (Lehrer)'!C22=\"\", #N/A, 'B) Eingabe (Lehrer)'!C22)","v":{"$error":"#N/A"}}]
[{"$f":"FragenErstellen!A19","v":13},{"$f":"IF(E15=0, #N/A,AVERAGE('B) Eingabe (Schüler)'!C23:AH23))","v":{"$error":"#N/A"}},{"$f":"IF(E15<2, #N/A, STDEVP('B) Eingabe (Schüler)'!C23:AH23))","v":{"$error":"#N/A"}},{"$error":"#N/A"},{"$f":"COUNT('B) Eingabe (Schüler)'!C23:AH23)","v":0},{"$f":"IF(E15<2,#N/A,COUNTIF('B) Eingabe (Schüler)'!C23:AH23,1))","v":{"$error":"#N/A"}},{"$f":"IF(E15<2,#N/A,COUNTIF('B) Eingabe (Schüler)'!C23:AH23,2))","v":{"$error":"#N/A"}},{"$f":"IF(E15<2,#N/A,COUNTIF('B) Eingabe (Schüler)'!C23:AH23,3))","v":{"$error":"#N/A"}},{"$f":"IF(E15<2,#N/A,COUNTIF('B) Eingabe (Schüler)'!C23:AH23,4))","v":{"$error":"#N/A"}},{"$f":"IF('B) Eingabe (Lehrer)'!C23=\"\", #N/A, 'B) Eingabe (Lehrer)'!C23)","v":{"$error":"#N/A"}},{"$f":"IF(N15=0, #N/A,AVERAGE('B) Eingabe (Lehrer)'!D23:AH23))","v":{"$error":"#N/A"}},{"$f":"IF(N15<1, #N/A, STDEVP('B) Eingabe (Lehrer)'!D23:AH23))","v":{"$error":"#N/A"}},{"$error":"#N/A"},{"$f":"COUNT('B) Eingabe (Lehrer)'!D23:AH23)","v":0},{"$f":"IF(N15<1,#N/A,COUNTIF('B) Eingabe (Lehrer)'!D23:AH23,1))","v":{"$error":"#N/A"}},{"$f":"IF(N15<1,#N/A,COUNTIF('B) Eingabe (Lehrer)'!D23:AH23,2))","v":{"$error":"#N/A"}},{"$f":"IF(N15<1,#N/A,COUNTIF('B) Eingabe (Lehrer)'!D23:AH23,3))","v":{"$error":"#N/A"}},{"$f":"IF(N15<1,#N/A,COUNTIF('B) Eingabe (Lehrer)'!D23:AH23,4))","v":{"$error":"#N/A"}},{"$f":"IF('B) Eingabe (Lehrer)'!C23=\"\", #N/A, 'B) Eingabe (Lehrer)'!C23)","v":{"$error":"#N/A"}}]
[{"$f":"FragenErstellen!A20","v":14},{"$f":"IF(E16=0, #N/A,AVERAGE('B) Eingabe (Schüler)'!C24:AH24))","v":{"$error":"#N/A"}},{"$f":"IF(E16<2, #N/A, STDEVP('B) Eingabe (Schüler)'!C24:AH24))","v":{"$error":"#N/A"}},{"$error":"#N/A"},{"$f":"COUNT('B) Eingabe (Schüler)'!C24:AH24)","v":0},{"$f":"IF(E16<2,#N/A,COUNTIF('B) Eingabe (Schüler)'!C24:AH24,1))","v":{"$error":"#N/A"}},{"$f":"IF(E16<2,#N/A,COUNTIF('B) Eingabe (Schüler)'!C24:AH24,2))","v":{"$error":"#N/A"}},{"$f":"IF(E16<2,#N/A,COUNTIF('B) Eingabe (Schüler)'!C24:AH24,3))","v":{"$error":"#N/A"}},{"$f":"IF(E16<2,#N/A,COUNTIF('B) Eingabe (Schüler)'!C24:AH24,4))","v":{"$error":"#N/A"}},{"$f":"IF('B) Eingabe (Lehrer)'!C24=\"\", #N/A, 'B) Eingabe (Lehrer)'!C24)","v":{"$error":"#N/A"}},{"$f":"IF(N16=0, #N/A,AVERAGE('B) Eingabe (Lehrer)'!D24:AH24))","v":{"$error":"#N/A"}},{"$f":"IF(N16<1, #N/A, STDEVP('B) Eingabe (Lehrer)'!D24:AH24))","v":{"$error":"#N/A"}},{"$error":"#N/A"},{"$f":"COUNT('B) Eingabe (Lehrer)'!D24:AH24)","v":0},{"$f":"IF(N16<1,#N/A,COUNTIF('B) Eingabe (Lehrer)'!D24:AH24,1))","v":{"$error":"#N/A"}},{"$f":"IF(N16<1,#N/A,COUNTIF('B) Eingabe (Lehrer)'!D24:AH24,2))","v":{"$error":"#N/A"}},{"$f":"IF(N16<1,#N/A,COUNTIF('B) Eingabe (Lehrer)'!D24:AH24,3))","v":{"$error":"#N/A"}},{"$f":"IF(N16<1,#N/A,COUNTIF('B) Eingabe (Lehrer)'!D24:AH24,4))","v":{"$error":"#N/A"}},{"$f":"IF('B) Eingabe (Lehrer)'!C24=\"\", #N/A, 'B) Eingabe (Lehrer)'!C24)","v":{"$error":"#N/A"}}]
[{"$f":"FragenErstellen!A21","v":15},{"$f":"IF(E17=0, #N/A,AVERAGE('B) Eingabe (Schüler)'!C25:AH25))","v":{"$error":"#N/A"}},{"$f":"IF(E17<2, #N/A, STDEVP('B) Eingabe (Schüler)'!C25:AH25))","v":{"$error":"#N/A"}},{"$error":"#N/A"},{"$f":"COUNT('B) Eingabe (Schüler)'!C25:AH25)","v":0},{"$f":"IF(E17<2,#N/A,COUNTIF('B) Eingabe (Schüler)'!C25:AH25,1))","v":{"$error":"#N/A"}},{"$f":"IF(E17<2,#N/A,COUNTIF('B) Eingabe (Schüler)'!C25:AH25,2))","v":{"$error":"#N/A"}},{"$f":"IF(E17<2,#N/A,COUNTIF('B) Eingabe (Schüler)'!C25:AH25,3))","v":{"$error":"#N/A"}},{"$f":"IF(E17<2,#N/A,COUNTIF('B) Eingabe (Schüler)'!C25:AH25,4))","v":{"$error":"#N/A"}},{"$f":"IF('B) Eingabe (Lehrer)'!C25=\"\", #N/A, 'B) Eingabe (Lehrer)'!C25)","v":{"$error":"#N/A"}},{"$f":"IF(N17=0, #N/A,AVERAGE('B) Eingabe (Lehrer)'!D25:AH25))","v":{"$error":"#N/A"}},{"$f":"IF(N17<1, #N/A, STDEVP('B) Eingabe (Lehrer)'!D25:AH25))","v":{"$error":"#N/A"}},{"$error":"#N/A"},{"$f":"COUNT('B) Eingabe (Lehrer)'!D25:AH25)","v":0},{"$f":"IF(N17<1,#N/A,COUNTIF('B) Eingabe (Lehrer)'!D25:AH25,1))","v":{"$error":"#N/A"}},{"$f":"IF(N17<1,#N/A,COUNTIF('B) Eingabe (Lehrer)'!D25:AH25,2))","v":{"$error":"#N/A"}},{"$f":"IF(N17<1,#N/A,COUNTIF('B) Eingabe (Lehrer)'!D25:AH25,3))","v":{"$error":"#N/A"}},{"$f":"IF(N17<1,#N/A,COUNTIF('B) Eingabe (Lehrer)'!D25:AH25,4))","v":{"$error":"#N/A"}},{"$f":"IF('B) Eingabe (Lehrer)'!C25=\"\", #N/A, 'B) Eingabe (Lehrer)'!C25)","v":{"$error":"#N/A"}}]
[{"$f":"FragenErstellen!A22","v":16},{"$f":"IF(E18=0, #N/A,AVERAGE('B) Eingabe (Schüler)'!C26:AH26))","v":{"$error":"#N/A"}},{"$f":"IF(E18<2, #N/A, STDEVP('B) Eingabe (Schüler)'!C26:AH26))","v":{"$error":"#N/A"}},{"$error":"#N/A"},{"$f":"COUNT('B) Eingabe (Schüler)'!C26:AH26)","v":0},{"$f":"IF(E18<2,#N/A,COUNTIF('B) Eingabe (Schüler)'!C26:AH26,1))","v":{"$error":"#N/A"}},{"$f":"IF(E18<2,#N/A,COUNTIF('B) Eingabe (Schüler)'!C26:AH26,2))","v":{"$error":"#N/A"}},{"$f":"IF(E18<2,#N/A,COUNTIF('B) Eingabe (Schüler)'!C26:AH26,3))","v":{"$error":"#N/A"}},{"$f":"IF(E18<2,#N/A,COUNTIF('B) Eingabe (Schüler)'!C26:AH26,4))","v":{"$error":"#N/A"}},{"$f":"IF('B) Eingabe (Lehrer)'!C26=\"\", #N/A, 'B) Eingabe (Lehrer)'!C26)","v":{"$error":"#N/A"}},{"$f":"IF(N18=0, #N/A,AVERAGE('B) Eingabe (Lehrer)'!D26:AH26))","v":{"$error":"#N/A"}},{"$f":"IF(N18<1, #N/A, STDEVP('B) Eingabe (Lehrer)'!D26:AH26))","v":{"$error":"#N/A"}},{"$error":"#N/A"},{"$f":"COUNT('B) Eingabe (Lehrer)'!D26:AH26)","v":0},{"$f":"IF(N18<1,#N/A,COUNTIF('B) Eingabe (Lehrer)'!D26:AH26,1))","v":{"$error":"#N/A"}},{"$f":"IF(N18<1,#N/A,COUNTIF('B) Eingabe (Lehrer)'!D26:AH26,2))","v":{"$error":"#N/A"}},{"$f":"IF(N18<1,#N/A,COUNTIF('B) Eingabe (Lehrer)'!D26:AH26,3))","v":{"$error":"#N/A"}},{"$f":"IF(N18<1,#N/A,COUNTIF('B) Eingabe (Lehrer)'!D26:AH26,4))","v":{"$error":"#N/A"}},{"$f":"IF('B) Eingabe (Lehrer)'!C26=\"\", #N/A, 'B) Eingabe (Lehrer)'!C26)","v":{"$error":"#N/A"}}]
[{"$f":"FragenErstellen!A23","v":17},{"$f":"IF(E19=0, #N/A,AVERAGE('B) Eingabe (Schüler)'!C27:AH27))","v":{"$error":"#N/A"}},{"$f":"IF(E19<2, #N/A, STDEVP('B) Eingabe (Schüler)'!C27:AH27))","v":{"$error":"#N/A"}},{"$error":"#N/A"},{"$f":"COUNT('B) Eingabe (Schüler)'!C27:AH27)","v":0},{"$f":"IF(E19<2,#N/A,COUNTIF('B) Eingabe (Schüler)'!C27:AH27,1))","v":{"$error":"#N/A"}},{"$f":"IF(E19<2,#N/A,COUNTIF('B) Eingabe (Schüler)'!C27:AH27,2))","v":{"$error":"#N/A"}},{"$f":"IF(E19<2,#N/A,COUNTIF('B) Eingabe (Schüler)'!C27:AH27,3))","v":{"$error":"#N/A"}},{"$f":"IF(E19<2,#N/A,COUNTIF('B) Eingabe (Schüler)'!C27:AH27,4))","v":{"$error":"#N/A"}},{"$f":"IF('B) Eingabe (Lehrer)'!C27=\"\", #N/A, 'B) Eingabe (Lehrer)'!C27)","v":{"$error":"#N/A"}},{"$f":"IF(N19=0, #N/A,AVERAGE('B) Eingabe (Lehrer)'!D27:AH27))","v":{"$error":"#N/A"}},{"$f":"IF(N19<1, #N/A, STDEVP('B) Eingabe (Lehrer)'!D27:AH27))","v":{"$error":"#N/A"}},{"$error":"#N/A"},{"$f":"COUNT('B) Eingabe (Lehrer)'!D27:AH27)","v":0},{"$f":"IF(N19<1,#N/A,COUNTIF('B) Eingabe (Lehrer)'!D27:AH27,1))","v":{"$error":"#N/A"}},{"$f":"IF(N19<1,#N/A,COUNTIF('B) Eingabe (Lehrer)'!D27:AH27,2))","v":{"$error":"#N/A"}},{"$f":"IF(N19<1,#N/A,COUNTIF('B) Eingabe (Lehrer)'!D27:AH27,3))","v":{"$error":"#N/A"}},{"$f":"IF(N19<1,#N/A,COUNTIF('B) Eingabe (Lehrer)'!D27:AH27,4))","v":{"$error":"#N/A"}},{"$f":"IF('B) Eingabe (Lehrer)'!C27=\"\", #N/A, 'B) Eingabe (Lehrer)'!C27)","v":{"$error":"#N/A"}}]
[{"$f":"FragenErstellen!A24","v":18},{"$f":"IF(E20=0, #N/A,AVERAGE('B) Eingabe (Schüler)'!C28:AH28))","v":{"$error":"#N/A"}},{"$f":"IF(E20<2, #N/A, STDEVP('B) Eingabe (Schüler)'!C28:AH28))","v":{"$error":"#N/A"}},{"$error":"#N/A"},{"$f":"COUNT('B) Eingabe (Schüler)'!C28:AH28)","v":0},{"$f":"IF(E20<2,#N/A,COUNTIF('B) Eingabe (Schüler)'!C28:AH28,1))","v":{"$error":"#N/A"}},{"$f":"IF(E20<2,#N/A,COUNTIF('B) Eingabe (Schüler)'!C28:AH28,2))","v":{"$error":"#N/A"}},{"$f":"IF(E20<2,#N/A,COUNTIF('B) Eingabe (Schüler)'!C28:AH28,3))","v":{"$error":"#N/A"}},{"$f":"IF(E20<2,#N/A,COUNTIF('B) Eingabe (Schüler)'!C28:AH28,4))","v":{"$error":"#N/A"}},{"$f":"IF('B) Eingabe (Lehrer)'!C28=\"\", #N/A, 'B) Eingabe (Lehrer)'!C28)","v":{"$error":"#N/A"}},{"$f":"IF(N20=0, #N/A,AVERAGE('B) Eingabe (Lehrer)'!D28:AH28))","v":{"$error":"#N/A"}},{"$f":"IF(N20<1, #N/A, STDEVP('B) Eingabe (Lehrer)'!D28:AH28))","v":{"$error":"#N/A"}},{"$error":"#N/A"},{"$f":"COUNT('B) Eingabe (Lehrer)'!D28:AH28)","v":0},{"$f":"IF(N20<1,#N/A,COUNTIF('B) Eingabe (Lehrer)'!D28:AH28,1))","v":{"$error":"#N/A"}},{"$f":"IF(N20<1,#N/A,COUNTIF('B) Eingabe (Lehrer)'!D28:AH28,2))","v":{"$error":"#N/A"}},{"$f":"IF(N20<1,#N/A,COUNTIF('B) Eingabe (Lehrer)'!D28:AH28,3))","v":{"$error":"#N/A"}},{"$f":"IF(N20<1,#N/A,COUNTIF('B) Eingabe (Lehrer)'!D28:AH28,4))","v":{"$error":"#N/A"}},{"$f":"IF('B) Eingabe (Lehrer)'!C28=\"\", #N/A, 'B) Eingabe (Lehrer)'!C28)","v":{"$error":"#N/A"}}]
[{"$f":"FragenErstellen!A25","v":19},{"$f":"IF(E21=0, #N/A,AVERAGE('B) Eingabe (Schüler)'!C29:AH29))","v":{"$error":"#N/A"}},{"$f":"IF(E21<2, #N/A, STDEVP('B) Eingabe (Schüler)'!C29:AH29))","v":{"$error":"#N/A"}},{"$error":"#N/A"},{"$f":"COUNT('B) Eingabe (Schüler)'!C29:AH29)","v":0},{"$f":"IF(E21<2,#N/A,COUNTIF('B) Eingabe (Schüler)'!C29:AH29,1))","v":{"$error":"#N/A"}},{"$f":"IF(E21<2,#N/A,COUNTIF('B) Eingabe (Schüler)'!C29:AH29,2))","v":{"$error":"#N/A"}},{"$f":"IF(E21<2,#N/A,COUNTIF('B) Eingabe (Schüler)'!C29:AH29,3))","v":{"$error":"#N/A"}},{"$f":"IF(E21<2,#N/A,COUNTIF('B) Eingabe (Schüler)'!C29:AH29,4))","v":{"$error":"#N/A"}},{"$f":"IF('B) Eingabe (Lehrer)'!C29=\"\", #N/A, 'B) Eingabe (Lehrer)'!C29)","v":{"$error":"#N/A"}},{"$f":"IF(N21=0, #N/A,AVERAGE('B) Eingabe (Lehrer)'!D29:AH29))","v":{"$error":"#N/A"}},{"$f":"IF(N21<1, #N/A, STDEVP('B) Eingabe (Lehrer)'!D29:AH29))","v":{"$error":"#N/A"}},{"$error":"#N/A"},{"$f":"COUNT('B) Eingabe (Lehrer)'!D29:AH29)","v":0},{"$f":"IF(N21<1,#N/A,COUNTIF('B) Eingabe (Lehrer)'!D29:AH29,1))","v":{"$error":"#N/A"}},{"$f":"IF(N21<1,#N/A,COUNTIF('B) Eingabe (Lehrer)'!D29:AH29,2))","v":{"$error":"#N/A"}},{"$f":"IF(N21<1,#N/A,COUNTIF('B) Eingabe (Lehrer)'!D29:AH29,3))","v":{"$error":"#N/A"}},{"$f":"IF(N21<1,#N/A,COUNTIF('B) Eingabe (Lehrer)'!D29:AH29,4))","v":{"$error":"#N/A"}},{"$f":"IF('B) Eingabe (Lehrer)'!C29=\"\", #N/A, 'B) Eingabe (Lehrer)'!C29)","v":{"$error":"#N/A"}}]
[{"$f":"FragenErstellen!A26","v":20},{"$f":"IF(E22=0, #N/A,AVERAGE('B) Eingabe (Schüler)'!C30:AH30))","v":{"$error":"#N/A"}},{"$f":"IF(E22<2, #N/A, STDEVP('B) Eingabe (Schüler)'!C30:AH30))","v":{"$error":"#N/A"}},{"$error":"#N/A"},{"$f":"COUNT('B) Eingabe (Schüler)'!C30:AH30)","v":0},{"$f":"IF(E22<2,#N/A,COUNTIF('B) Eingabe (Schüler)'!C30:AH30,1))","v":{"$error":"#N/A"}},{"$f":"IF(E22<2,#N/A,COUNTIF('B) Eingabe (Schüler)'!C30:AH30,2))","v":{"$error":"#N/A"}},{"$f":"IF(E22<2,#N/A,COUNTIF('B) Eingabe (Schüler)'!C30:AH30,3))","v":{"$error":"#N/A"}},{"$f":"IF(E22<2,#N/A,COUNTIF('B) Eingabe (Schüler)'!C30:AH30,4))","v":{"$error":"#N/A"}},{"$f":"IF('B) Eingabe (Lehrer)'!C30=\"\", #N/A, 'B) Eingabe (Lehrer)'!C30)","v":{"$error":"#N/A"}},{"$f":"IF(N22=0, #N/A,AVERAGE('B) Eingabe (Lehrer)'!D30:AH30))","v":{"$error":"#N/A"}},{"$f":"IF(N22<1, #N/A, STDEVP('B) Eingabe (Lehrer)'!D30:AH30))","v":{"$error":"#N/A"}},{"$error":"#N/A"},{"$f":"COUNT('B) Eingabe (Lehrer)'!D30:AH30)","v":0},{"$f":"IF(N22<1,#N/A,COUNTIF('B) Eingabe (Lehrer)'!D30:AH30,1))","v":{"$error":"#N/A"}},{"$f":"IF(N22<1,#N/A,COUNTIF('B) Eingabe (Lehrer)'!D30:AH30,2))","v":{"$error":"#N/A"}},{"$f":"IF(N22<1,#N/A,COUNTIF('B) Eingabe (Lehrer)'!D30:AH30,3))","v":{"$error":"#N/A"}},{"$f":"IF(N22<1,#N/A,COUNTIF('B) Eingabe (Lehrer)'!D30:AH30,4))","v":{"$error":"#N/A"}},{"$f":"IF('B) Eingabe (Lehrer)'!C30=\"\", #N/A, 'B) Eingabe (Lehrer)'!C30)","v":{"$error":"#N/A"}}]
[{"$f":"FragenErstellen!A27","v":21},{"$f":"IF(E23=0, #N/A,AVERAGE('B) Eingabe (Schüler)'!C31:AH31))","v":{"$error":"#N/A"}},{"$f":"IF(E23<2, #N/A, STDEVP('B) Eingabe (Schüler)'!C31:AH31))","v":{"$error":"#N/A"}},{"$error":"#N/A"},{"$f":"COUNT('B) Eingabe (Schüler)'!C31:AH31)","v":0},{"$f":"IF(E23<2,#N/A,COUNTIF('B) Eingabe (Schüler)'!C31:AH31,1))","v":{"$error":"#N/A"}},{"$f":"IF(E23<2,#N/A,COUNTIF('B) Eingabe (Schüler)'!C31:AH31,2))","v":{"$error":"#N/A"}},{"$f":"IF(E23<2,#N/A,COUNTIF('B) Eingabe (Schüler)'!C31:AH31,3))","v":{"$error":"#N/A"}},{"$f":"IF(E23<2,#N/A,COUNTIF('B) Eingabe (Schüler)'!C31:AH31,4))","v":{"$error":"#N/A"}},{"$f":"IF('B) Eingabe (Lehrer)'!C31=\"\", #N/A, 'B) Eingabe (Lehrer)'!C31)","v":{"$error":"#N/A"}},{"$f":"IF(N23=0, #N/A,AVERAGE('B) Eingabe (Lehrer)'!D31:AH31))","v":{"$error":"#N/A"}},{"$f":"IF(N23<1, #N/A, STDEVP('B) Eingabe (Lehrer)'!D31:AH31))","v":{"$error":"#N/A"}},{"$error":"#N/A"},{"$f":"COUNT('B) Eingabe (Lehrer)'!D31:AH31)","v":0},{"$f":"IF(N23<1,#N/A,COUNTIF('B) Eingabe (Lehrer)'!D31:AH31,1))","v":{"$error":"#N/A"}},{"$f":"IF(N23<1,#N/A,COUNTIF('B) Eingabe (Lehrer)'!D31:AH31,2))","v":{"$error":"#N/A"}},{"$f":"IF(N23<1,#N/A,COUNTIF('B) Eingabe (Lehrer)'!D31:AH31,3))","v":{"$error":"#N/A"}},{"$f":"IF(N23<1,#N/A,COUNTIF('B) Eingabe (Lehrer)'!D31:AH31,4))","v":{"$error":"#N/A"}},{"$f":"IF('B) Eingabe (Lehrer)'!C31=\"\", #N/A, 'B) Eingabe (Lehrer)'!C31)","v":{"$error":"#N/A"}}]
[{"$f":"FragenErstellen!A28","v":22},{"$f":"IF(E24=0, #N/A,AVERAGE('B) Eingabe (Schüler)'!C32:AH32))","v":{"$error":"#N/A"}},{"$f":"IF(E24<2, #N/A, STDEVP('B) Eingabe (Schüler)'!C32:AH32))","v":{"$error":"#N/A"}},{"$error":"#N/A"},{"$f":"COUNT('B) Eingabe (Schüler)'!C32:AH32)","v":0},{"$f":"IF(E24<2,#N/A,COUNTIF('B) Eingabe (Schüler)'!C32:AH32,1))","v":{"$error":"#N/A"}},{"$f":"IF(E24<2,#N/A,COUNTIF('B) Eingabe (Schüler)'!C32:AH32,2))","v":{"$error":"#N/A"}},{"$f":"IF(E24<2,#N/A,COUNTIF('B) Eingabe (Schüler)'!C32:AH32,3))","v":{"$error":"#N/A"}},{"$f":"IF(E24<2,#N/A,COUNTIF('B) Eingabe (Schüler)'!C32:AH32,4))","v":{"$error":"#N/A"}},{"$f":"IF('B) Eingabe (Lehrer)'!C32=\"\", #N/A, 'B) Eingabe (Lehrer)'!C32)","v":{"$error":"#N/A"}},{"$f":"IF(N24=0, #N/A,AVERAGE('B) Eingabe (Lehrer)'!D32:AH32))","v":{"$error":"#N/A"}},{"$f":"IF(N24<1, #N/A, STDEVP('B) Eingabe (Lehrer)'!D32:AH32))","v":{"$error":"#N/A"}},{"$error":"#N/A"},{"$f":"COUNT('B) Eingabe (Lehrer)'!D32:AH32)","v":0},{"$f":"IF(N24<1,#N/A,COUNTIF('B) Eingabe (Lehrer)'!D32:AH32,1))","v":{"$error":"#N/A"}},{"$f":"IF(N24<1,#N/A,COUNTIF('B) Eingabe (Lehrer)'!D32:AH32,2))","v":{"$error":"#N/A"}},{"$f":"IF(N24<1,#N/A,COUNTIF('B) Eingabe (Lehrer)'!D32:AH32,3))","v":{"$error":"#N/A"}},{"$f":"IF(N24<1,#N/A,COUNTIF('B) Eingabe (Lehrer)'!D32:AH32,4))","v":{"$error":"#N/A"}},{"$f":"IF('B) Eingabe (Lehrer)'!C32=\"\", #N/A, 'B) Eingabe (Lehrer)'!C32)","v":{"$error":"#N/A"}}]
[{"$f":"FragenErstellen!A29","v":23},{"$f":"IF(E25=0, #N/A,AVERAGE('B) Eingabe (Schüler)'!C33:AH33))","v":{"$error":"#N/A"}},{"$f":"IF(E25<2, #N/A, STDEVP('B) Eingabe (Schüler)'!C33:AH33))","v":{"$error":"#N/A"}},{"$error":"#N/A"},{"$f":"COUNT('B) Eingabe (Schüler)'!C33:AH33)","v":0},{"$f":"IF(E25<2,#N/A,COUNTIF('B) Eingabe (Schüler)'!C33:AH33,1))","v":{"$error":"#N/A"}},{"$f":"IF(E25<2,#N/A,COUNTIF('B) Eingabe (Schüler)'!C33:AH33,2))","v":{"$error":"#N/A"}},{"$f":"IF(E25<2,#N/A,COUNTIF('B) Eingabe (Schüler)'!C33:AH33,3))","v":{"$error":"#N/A"}},{"$f":"IF(E25<2,#N/A,COUNTIF('B) Eingabe (Schüler)'!C33:AH33,4))","v":{"$error":"#N/A"}},{"$f":"IF('B) Eingabe (Lehrer)'!C33=\"\", #N/A, 'B) Eingabe (Lehrer)'!C33)","v":{"$error":"#N/A"}},{"$f":"IF(N25=0, #N/A,AVERAGE('B) Eingabe (Lehrer)'!D33:AH33))","v":{"$error":"#N/A"}},{"$f":"IF(N25<1, #N/A, STDEVP('B) Eingabe (Lehrer)'!D33:AH33))","v":{"$error":"#N/A"}},{"$error":"#N/A"},{"$f":"COUNT('B) Eingabe (Lehrer)'!D33:AH33)","v":0},{"$f":"IF(N25<1,#N/A,COUNTIF('B) Eingabe (Lehrer)'!D33:AH33,1))","v":{"$error":"#N/A"}},{"$f":"IF(N25<1,#N/A,COUNTIF('B) Eingabe (Lehrer)'!D33:AH33,2))","v":{"$error":"#N/A"}},{"$f":"IF(N25<1,#N/A,COUNTIF('B) Eingabe (Lehrer)'!D33:AH33,3))","v":{"$error":"#N/A"}},{"$f":"IF(N25<1,#N/A,COUNTIF('B) Eingabe (Lehrer)'!D33:AH33,4))","v":{"$error":"#N/A"}},{"$f":"IF('B) Eingabe (Lehrer)'!C33=\"\", #N/A, 'B) Eingabe (Lehrer)'!C33)","v":{"$error":"#N/A"}}]
[{"$f":"FragenErstellen!A30","v":24},{"$f":"IF(E26=0, #N/A,AVERAGE('B) Eingabe (Schüler)'!C34:AH34))","v":{"$error":"#N/A"}},{"$f":"IF(E26<2, #N/A, STDEVP('B) Eingabe (Schüler)'!C34:AH34))","v":{"$error":"#N/A"}},{"$error":"#N/A"},{"$f":"COUNT('B) Eingabe (Schüler)'!C34:AH34)","v":0},{"$f":"IF(E26<2,#N/A,COUNTIF('B) Eingabe (Schüler)'!C34:AH34,1))","v":{"$error":"#N/A"}},{"$f":"IF(E26<2,#N/A,COUNTIF('B) Eingabe (Schüler)'!C34:AH34,2))","v":{"$error":"#N/A"}},{"$f":"IF(E26<2,#N/A,COUNTIF('B) Eingabe (Schüler)'!C34:AH34,3))","v":{"$error":"#N/A"}},{"$f":"IF(E26<2,#N/A,COUNTIF('B) Eingabe (Schüler)'!C34:AH34,4))","v":{"$error":"#N/A"}},{"$f":"IF('B) Eingabe (Lehrer)'!C34=\"\", #N/A, 'B) Eingabe (Lehrer)'!C34)","v":{"$error":"#N/A"}},{"$f":"IF(N26=0, #N/A,AVERAGE('B) Eingabe (Lehrer)'!D34:AH34))","v":{"$error":"#N/A"}},{"$f":"IF(N26<1, #N/A, STDEVP('B) Eingabe (Lehrer)'!D34:AH34))","v":{"$error":"#N/A"}},{"$error":"#N/A"},{"$f":"COUNT('B) Eingabe (Lehrer)'!D34:AH34)","v":0},{"$f":"IF(N26<1,#N/A,COUNTIF('B) Eingabe (Lehrer)'!D34:AH34,1))","v":{"$error":"#N/A"}},{"$f":"IF(N26<1,#N/A,COUNTIF('B) Eingabe (Lehrer)'!D34:AH34,2))","v":{"$error":"#N/A"}},{"$f":"IF(N26<1,#N/A,COUNTIF('B) Eingabe (Lehrer)'!D34:AH34,3))","v":{"$error":"#N/A"}},{"$f":"IF(N26<1,#N/A,COUNTIF('B) Eingabe (Lehrer)'!D34:AH34,4))","v":{"$error":"#N/A"}},{"$f":"IF('B) Eingabe (Lehrer)'!C34=\"\", #N/A, 'B) Eingabe (Lehrer)'!C34)","v":{"$error":"#N/A"}}]
[{"$f":"FragenErstellen!A31","v":25},{"$f":"IF(E27=0, #N/A,AVERAGE('B) Eingabe (Schüler)'!C35:AH35))","v":{"$error":"#N/A"}},{"$f":"IF(E27<2, #N/A, STDEVP('B) Eingabe (Schüler)'!C35:AH35))","v":{"$error":"#N/A"}},{"$error":"#N/A"},{"$f":"COUNT('B) Eingabe (Schüler)'!C35:AH35)","v":0},{"$f":"IF(E27<2,#N/A,COUNTIF('B) Eingabe (Schüler)'!C35:AH35,1))","v":{"$error":"#N/A"}},{"$f":"IF(E27<2,#N/A,COUNTIF('B) Eingabe (Schüler)'!C35:AH35,2))","v":{"$error":"#N/A"}},{"$f":"IF(E27<2,#N/A,COUNTIF('B) Eingabe (Schüler)'!C35:AH35,3))","v":{"$error":"#N/A"}},{"$f":"IF(E27<2,#N/A,COUNTIF('B) Eingabe (Schüler)'!C35:AH35,4))","v":{"$error":"#N/A"}},{"$f":"IF('B) Eingabe (Lehrer)'!C35=\"\", #N/A, 'B) Eingabe (Lehrer)'!C35)","v":{"$error":"#N/A"}},{"$f":"IF(N27=0, #N/A,AVERAGE('B) Eingabe (Lehrer)'!D35:AH35))","v":{"$error":"#N/A"}},{"$f":"IF(N27<1, #N/A, STDEVP('B) Eingabe (Lehrer)'!D35:AH35))","v":{"$error":"#N/A"}},{"$error":"#N/A"},{"$f":"COUNT('B) Eingabe (Lehrer)'!D35:AH35)","v":0},{"$f":"IF(N27<1,#N/A,COUNTIF('B) Eingabe (Lehrer)'!D35:AH35,1))","v":{"$error":"#N/A"}},{"$f":"IF(N27<1,#N/A,COUNTIF('B) Eingabe (Lehrer)'!D35:AH35,2))","v":{"$error":"#N/A"}},{"$f":"IF(N27<1,#N/A,COUNTIF('B) Eingabe (Lehrer)'!D35:AH35,3))","v":{"$error":"#N/A"}},{"$f":"IF(N27<1,#N/A,COUNTIF('B) Eingabe (Lehrer)'!D35:AH35,4))","v":{"$error":"#N/A"}},{"$f":"IF('B) Eingabe (Lehrer)'!C35=\"\", #N/A, 'B) Eingabe (Lehrer)'!C35)","v":{"$error":"#N/A"}}]
[{"$f":"FragenErstellen!A32","v":26},{"$f":"IF(E28=0, #N/A,AVERAGE('B) Eingabe (Schüler)'!C36:AH36))","v":{"$error":"#N/A"}},{"$f":"IF(E28<2, #N/A, STDEVP('B) Eingabe (Schüler)'!C36:AH36))","v":{"$error":"#N/A"}},{"$error":"#N/A"},{"$f":"COUNT('B) Eingabe (Schüler)'!C36:AH36)","v":0},{"$f":"IF(E28<2,#N/A,COUNTIF('B) Eingabe (Schüler)'!C36:AH36,1))","v":{"$error":"#N/A"}},{"$f":"IF(E28<2,#N/A,COUNTIF('B) Eingabe (Schüler)'!C36:AH36,2))","v":{"$error":"#N/A"}},{"$f":"IF(E28<2,#N/A,COUNTIF('B) Eingabe (Schüler)'!C36:AH36,3))","v":{"$error":"#N/A"}},{"$f":"IF(E28<2,#N/A,COUNTIF('B) Eingabe (Schüler)'!C36:AH36,4))","v":{"$error":"#N/A"}},{"$f":"IF('B) Eingabe (Lehrer)'!C36=\"\", #N/A, 'B) Eingabe (Lehrer)'!C36)","v":{"$error":"#N/A"}},{"$f":"IF(N28=0, #N/A,AVERAGE('B) Eingabe (Lehrer)'!D36:AH36))","v":{"$error":"#N/A"}},{"$f":"IF(N28<1, #N/A, STDEVP('B) Eingabe (Lehrer)'!D36:AH36))","v":{"$error":"#N/A"}},{"$error":"#N/A"},{"$f":"COUNT('B) Eingabe (Lehrer)'!D36:AH36)","v":0},{"$f":"IF(N28<1,#N/A,COUNTIF('B) Eingabe (Lehrer)'!D36:AH36,1))","v":{"$error":"#N/A"}},{"$f":"IF(N28<1,#N/A,COUNTIF('B) Eingabe (Lehrer)'!D36:AH36,2))","v":{"$error":"#N/A"}},{"$f":"IF(N28<1,#N/A,COUNTIF('B) Eingabe (Lehrer)'!D36:AH36,3))","v":{"$error":"#N/A"}},{"$f":"IF(N28<1,#N/A,COUNTIF('B) Eingabe (Lehrer)'!D36:AH36,4))","v":{"$error":"#N/A"}},{"$f":"IF('B) Eingabe (Lehrer)'!C36=\"\", #N/A, 'B) Eingabe (Lehrer)'!C36)","v":{"$error":"#N/A"}}]
[{"$f":"FragenErstellen!A33","v":27},{"$f":"IF(E29=0, #N/A,AVERAGE('B) Eingabe (Schüler)'!C37:AH37))","v":{"$error":"#N/A"}},{"$f":"IF(E29<2, #N/A, STDEVP('B) Eingabe (Schüler)'!C37:AH37))","v":{"$error":"#N/A"}},{"$error":"#N/A"},{"$f":"COUNT('B) Eingabe (Schüler)'!C37:AH37)","v":0},{"$f":"IF(E29<2,#N/A,COUNTIF('B) Eingabe (Schüler)'!C37:AH37,1))","v":{"$error":"#N/A"}},{"$f":"IF(E29<2,#N/A,COUNTIF('B) Eingabe (Schüler)'!C37:AH37,2))","v":{"$error":"#N/A"}},{"$f":"IF(E29<2,#N/A,COUNTIF('B) Eingabe (Schüler)'!C37:AH37,3))","v":{"$error":"#N/A"}},{"$f":"IF(E29<2,#N/A,COUNTIF('B) Eingabe (Schüler)'!C37:AH37,4))","v":{"$error":"#N/A"}},{"$f":"IF('B) Eingabe (Lehrer)'!C37=\"\", #N/A, 'B) Eingabe (Lehrer)'!C37)","v":{"$error":"#N/A"}},{"$f":"IF(N29=0, #N/A,AVERAGE('B) Eingabe (Lehrer)'!D37:AH37))","v":{"$error":"#N/A"}},{"$f":"IF(N29<1, #N/A, STDEVP('B) Eingabe (Lehrer)'!D37:AH37))","v":{"$error":"#N/A"}},{"$error":"#N/A"},{"$f":"COUNT('B) Eingabe (Lehrer)'!D37:AH37)","v":0},{"$f":"IF(N29<1,#N/A,COUNTIF('B) Eingabe (Lehrer)'!D37:AH37,1))","v":{"$error":"#N/A"}},{"$f":"IF(N29<1,#N/A,COUNTIF('B) Eingabe (Lehrer)'!D37:AH37,2))","v":{"$error":"#N/A"}},{"$f":"IF(N29<1,#N/A,COUNTIF('B) Eingabe (Lehrer)'!D37:AH37,3))","v":{"$error":"#N/A"}},{"$f":"IF(N29<1,#N/A,COUNTIF('B) Eingabe (Lehrer)'!D37:AH37,4))","v":{"$error":"#N/A"}},{"$f":"IF('B) Eingabe (Lehrer)'!C37=\"\", #N/A, 'B) Eingabe (Lehrer)'!C37)","v":{"$error":"#N/A"}}]
[{"$f":"FragenErstellen!A34","v":28},{"$f":"IF(E30=0, #N/A,AVERAGE('B) Eingabe (Schüler)'!C38:AH38))","v":{"$error":"#N/A"}},{"$f":"IF(E30<2, #N/A, STDEVP('B) Eingabe (Schüler)'!C38:AH38))","v":{"$error":"#N/A"}},{"$error":"#N/A"},{"$f":"COUNT('B) Eingabe (Schüler)'!C38:AH38)","v":0},{"$f":"IF(E30<2,#N/A,COUNTIF('B) Eingabe (Schüler)'!C38:AH38,1))","v":{"$error":"#N/A"}},{"$f":"IF(E30<2,#N/A,COUNTIF('B) Eingabe (Schüler)'!C38:AH38,2))","v":{"$error":"#N/A"}},{"$f":"IF(E30<2,#N/A,COUNTIF('B) Eingabe (Schüler)'!C38:AH38,3))","v":{"$error":"#N/A"}},{"$f":"IF(E30<2,#N/A,COUNTIF('B) Eingabe (Schüler)'!C38:AH38,4))","v":{"$error":"#N/A"}},{"$f":"IF('B) Eingabe (Lehrer)'!C38=\"\", #N/A, 'B) Eingabe (Lehrer)'!C38)","v":{"$error":"#N/A"}},{"$f":"IF(N30=0, #N/A,AVERAGE('B) Eingabe (Lehrer)'!D38:AH38))","v":{"$error":"#N/A"}},{"$f":"IF(N30<1, #N/A, STDEVP('B) Eingabe (Lehrer)'!D38:AH38))","v":{"$error":"#N/A"}},{"$error":"#N/A"},{"$f":"COUNT('B) Eingabe (Lehrer)'!D38:AH38)","v":0},{"$f":"IF(N30<1,#N/A,COUNTIF('B) Eingabe (Lehrer)'!D38:AH38,1))","v":{"$error":"#N/A"}},{"$f":"IF(N30<1,#N/A,COUNTIF('B) Eingabe (Lehrer)'!D38:AH38,2))","v":{"$error":"#N/A"}},{"$f":"IF(N30<1,#N/A,COUNTIF('B) Eingabe (Lehrer)'!D38:AH38,3))","v":{"$error":"#N/A"}},{"$f":"IF(N30<1,#N/A,COUNTIF('B) Eingabe (Lehrer)'!D38:AH38,4))","v":{"$error":"#N/A"}},{"$f":"IF('B) Eingabe (Lehrer)'!C38=\"\", #N/A, 'B) Eingabe (Lehrer)'!C38)","v":{"$error":"#N/A"}}]
[{"$f":"FragenErstellen!A35","v":29},{"$f":"IF(E31=0, #N/A,AVERAGE('B) Eingabe (Schüler)'!C39:AH39))","v":{"$error":"#N/A"}},{"$f":"IF(E31<2, #N/A, STDEVP('B) Eingabe (Schüler)'!C39:AH39))","v":{"$error":"#N/A"}},{"$error":"#N/A"},{"$f":"COUNT('B) Eingabe (Schüler)'!C39:AH39)","v":0},{"$f":"IF(E31<2,#N/A,COUNTIF('B) Eingabe (Schüler)'!C39:AH39,1))","v":{"$error":"#N/A"}},{"$f":"IF(E31<2,#N/A,COUNTIF('B) Eingabe (Schüler)'!C39:AH39,2))","v":{"$error":"#N/A"}},{"$f":"IF(E31<2,#N/A,COUNTIF('B) Eingabe (Schüler)'!C39:AH39,3))","v":{"$error":"#N/A"}},{"$f":"IF(E31<2,#N/A,COUNTIF('B) Eingabe (Schüler)'!C39:AH39,4))","v":{"$error":"#N/A"}},{"$f":"IF('B) Eingabe (Lehrer)'!C39=\"\", #N/A, 'B) Eingabe (Lehrer)'!C39)","v":{"$error":"#N/A"}},{"$f":"IF(N31=0, #N/A,AVERAGE('B) Eingabe (Lehrer)'!D39:AH39))","v":{"$error":"#N/A"}},{"$f":"IF(N31<1, #N/A, STDEVP('B) Eingabe (Lehrer)'!D39:AH39))","v":{"$error":"#N/A"}},{"$error":"#N/A"},{"$f":"COUNT('B) Eingabe (Lehrer)'!D39:AH39)","v":0},{"$f":"IF(N31<1,#N/A,COUNTIF('B) Eingabe (Lehrer)'!D39:AH39,1))","v":{"$error":"#N/A"}},{"$f":"IF(N31<1,#N/A,COUNTIF('B) Eingabe (Lehrer)'!D39:AH39,2))","v":{"$error":"#N/A"}},{"$f":"IF(N31<1,#N/A,COUNTIF('B) Eingabe (Lehrer)'!D39:AH39,3))","v":{"$error":"#N/A"}},{"$f":"IF(N31<1,#N/A,COUNTIF('B) Eingabe (Lehrer)'!D39:AH39,4))","v":{"$error":"#N/A"}},{"$f":"IF('B) Eingabe (Lehrer)'!C39=\"\", #N/A, 'B) Eingabe (Lehrer)'!C39)","v":{"$error":"#N/A"}}]
[{"$f":"FragenErstellen!A36","v":30},{"$f":"IF(E32=0, #N/A,AVERAGE('B) Eingabe (Schüler)'!C40:AH40))","v":{"$error":"#N/A"}},{"$f":"IF(E32<2, #N/A, STDEVP('B) Eingabe (Schüler)'!C40:AH40))","v":{"$error":"#N/A"}},{"$error":"#N/A"},{"$f":"COUNT('B) Eingabe (Schüler)'!C40:AH40)","v":0},{"$f":"IF(E32<2,#N/A,COUNTIF('B) Eingabe (Schüler)'!C40:AH40,1))","v":{"$error":"#N/A"}},{"$f":"IF(E32<2,#N/A,COUNTIF('B) Eingabe (Schüler)'!C40:AH40,2))","v":{"$error":"#N/A"}},{"$f":"IF(E32<2,#N/A,COUNTIF('B) Eingabe (Schüler)'!C40:AH40,3))","v":{"$error":"#N/A"}},{"$f":"IF(E32<2,#N/A,COUNTIF('B) Eingabe (Schüler)'!C40:AH40,4))","v":{"$error":"#N/A"}},{"$f":"IF('B) Eingabe (Lehrer)'!C40=\"\", #N/A, 'B) Eingabe (Lehrer)'!C40)","v":{"$error":"#N/A"}},{"$f":"IF(N32=0, #N/A,AVERAGE('B) Eingabe (Lehrer)'!D40:AH40))","v":{"$error":"#N/A"}},{"$f":"IF(N32<1, #N/A, STDEVP('B) Eingabe (Lehrer)'!D40:AH40))","v":{"$error":"#N/A"}},{"$error":"#N/A"},{"$f":"COUNT('B) Eingabe (Lehrer)'!D40:AH40)","v":0},{"$f":"IF(N32<1,#N/A,COUNTIF('B) Eingabe (Lehrer)'!D40:AH40,1))","v":{"$error":"#N/A"}},{"$f":"IF(N32<1,#N/A,COUNTIF('B) Eingabe (Lehrer)'!D40:AH40,2))","v":{"$error":"#N/A"}},{"$f":"IF(N32<1,#N/A,COUNTIF('B) Eingabe (Lehrer)'!D40:AH40,3))","v":{"$error":"#N/A"}},{"$f":"IF(N32<1,#N/A,COUNTIF('B) Eingabe (Lehrer)'!D40:AH40,4))","v":{"$error":"#N/A"}},{"$f":"IF('B) Eingabe (Lehrer)'!C40=\"\", #N/A, 'B) Eingabe (Lehrer)'!C40)","v":{"$error":"#N/A"}}]
[{"$f":"FragenErstellen!A37","v":31},{"$f":"IF(E33=0, #N/A,AVERAGE('B) Eingabe (Schüler)'!C41:AH41))","v":{"$error":"#N/A"}},{"$f":"IF(E33<2, #N/A, STDEVP('B) Eingabe (Schüler)'!C41:AH41))","v":{"$error":"#N/A"}},{"$error":"#N/A"},{"$f":"COUNT('B) Eingabe (Schüler)'!C41:AH41)","v":0},{"$f":"IF(E33<2,#N/A,COUNTIF('B) Eingabe (Schüler)'!C41:AH41,1))","v":{"$error":"#N/A"}},{"$f":"IF(E33<2,#N/A,COUNTIF('B) Eingabe (Schüler)'!C41:AH41,2))","v":{"$error":"#N/A"}},{"$f":"IF(E33<2,#N/A,COUNTIF('B) Eingabe (Schüler)'!C41:AH41,3))","v":{"$error":"#N/A"}},{"$f":"IF(E33<2,#N/A,COUNTIF('B) Eingabe (Schüler)'!C41:AH41,4))","v":{"$error":"#N/A"}},{"$f":"IF('B) Eingabe (Lehrer)'!C41=\"\", #N/A, 'B) Eingabe (Lehrer)'!C41)","v":{"$error":"#N/A"}},{"$f":"IF(N33=0, #N/A,AVERAGE('B) Eingabe (Lehrer)'!D41:AH41))","v":{"$error":"#N/A"}},{"$f":"IF(N33<1, #N/A, STDEVP('B) Eingabe (Lehrer)'!D41:AH41))","v":{"$error":"#N/A"}},{"$error":"#N/A"},{"$f":"COUNT('B) Eingabe (Lehrer)'!D41:AH41)","v":0},{"$f":"IF(N33<1,#N/A,COUNTIF('B) Eingabe (Lehrer)'!D41:AH41,1))","v":{"$error":"#N/A"}},{"$f":"IF(N33<1,#N/A,COUNTIF('B) Eingabe (Lehrer)'!D41:AH41,2))","v":{"$error":"#N/A"}},{"$f":"IF(N33<1,#N/A,COUNTIF('B) Eingabe (Lehrer)'!D41:AH41,3))","v":{"$error":"#N/A"}},{"$f":"IF(N33<1,#N/A,COUNTIF('B) Eingabe (Lehrer)'!D41:AH41,4))","v":{"$error":"#N/A"}},{"$f":"IF('B) Eingabe (Lehrer)'!C41=\"\", #N/A, 'B) Eingabe (Lehrer)'!C41)","v":{"$error":"#N/A"}}]
[{"$f":"FragenErstellen!A38","v":32},{"$f":"IF(E34=0, #N/A,AVERAGE('B) Eingabe (Schüler)'!C42:AH42))","v":{"$error":"#N/A"}},{"$f":"IF(E34<2, #N/A, STDEVP('B) Eingabe (Schüler)'!C42:AH42))","v":{"$error":"#N/A"}},{"$error":"#N/A"},{"$f":"COUNT('B) Eingabe (Schüler)'!C42:AH42)","v":0},{"$f":"IF(E34<2,#N/A,COUNTIF('B) Eingabe (Schüler)'!C42:AH42,1))","v":{"$error":"#N/A"}},{"$f":"IF(E34<2,#N/A,COUNTIF('B) Eingabe (Schüler)'!C42:AH42,2))","v":{"$error":"#N/A"}},{"$f":"IF(E34<2,#N/A,COUNTIF('B) Eingabe (Schüler)'!C42:AH42,3))","v":{"$error":"#N/A"}},{"$f":"IF(E34<2,#N/A,COUNTIF('B) Eingabe (Schüler)'!C42:AH42,4))","v":{"$error":"#N/A"}},{"$f":"IF('B) Eingabe (Lehrer)'!C42=\"\", #N/A, 'B) Eingabe (Lehrer)'!C42)","v":{"$error":"#N/A"}},{"$f":"IF(N34=0, #N/A,AVERAGE('B) Eingabe (Lehrer)'!D42:AH42))","v":{"$error":"#N/A"}},{"$f":"IF(N34<1, #N/A, STDEVP('B) Eingabe (Lehrer)'!D42:AH42))","v":{"$error":"#N/A"}},{"$error":"#N/A"},{"$f":"COUNT('B) Eingabe (Lehrer)'!D42:AH42)","v":0},{"$f":"IF(N34<1,#N/A,COUNTIF('B) Eingabe (Lehrer)'!D42:AH42,1))","v":{"$error":"#N/A"}},{"$f":"IF(N34<1,#N/A,COUNTIF('B) Eingabe (Lehrer)'!D42:AH42,2))","v":{"$error":"#N/A"}},{"$f":"IF(N34<1,#N/A,COUNTIF('B) Eingabe (Lehrer)'!D42:AH42,3))","v":{"$error":"#N/A"}},{"$f":"IF(N34<1,#N/A,COUNTIF('B) Eingabe (Lehrer)'!D42:AH42,4))","v":{"$error":"#N/A"}},{"$f":"IF('B) Eingabe (Lehrer)'!C42=\"\", #N/A, 'B) Eingabe (Lehrer)'!C42)","v":{"$error":"#N/A"}}]
[{"$f":"FragenErstellen!A39","v":33},{"$f":"IF(E35=0, #N/A,AVERAGE('B) Eingabe (Schüler)'!C43:AH43))","v":{"$error":"#N/A"}},{"$f":"IF(E35<2, #N/A, STDEVP('B) Eingabe (Schüler)'!C43:AH43))","v":{"$error":"#N/A"}},{"$error":"#N/A"},{"$f":"COUNT('B) Eingabe (Schüler)'!C43:AH43)","v":0},{"$f":"IF(E35<2,#N/A,COUNTIF('B) Eingabe (Schüler)'!C43:AH43,1))","v":{"$error":"#N/A"}},{"$f":"IF(E35<2,#N/A,COUNTIF('B) Eingabe (Schüler)'!C43:AH43,2))","v":{"$error":"#N/A"}},{"$f":"IF(E35<2,#N/A,COUNTIF('B) Eingabe (Schüler)'!C43:AH43,3))","v":{"$error":"#N/A"}},{"$f":"IF(E35<2,#N/A,COUNTIF('B) Eingabe (Schüler)'!C43:AH43,4))","v":{"$error":"#N/A"}},{"$f":"IF('B) Eingabe (Lehrer)'!C43=\"\", #N/A, 'B) Eingabe (Lehrer)'!C43)","v":{"$error":"#N/A"}},{"$f":"IF(N35=0, #N/A,AVERAGE('B) Eingabe (Lehrer)'!D43:AH43))","v":{"$error":"#N/A"}},{"$f":"IF(N35<1, #N/A, STDEVP('B) Eingabe (Lehrer)'!D43:AH43))","v":{"$error":"#N/A"}},{"$error":"#N/A"},{"$f":"COUNT('B) Eingabe (Lehrer)'!D43:AH43)","v":0},{"$f":"IF(N35<1,#N/A,COUNTIF('B) Eingabe (Lehrer)'!D43:AH43,1))","v":{"$error":"#N/A"}},{"$f":"IF(N35<1,#N/A,COUNTIF('B) Eingabe (Lehrer)'!D43:AH43,2))","v":{"$error":"#N/A"}},{"$f":"IF(N35<1,#N/A,COUNTIF('B) Eingabe (Lehrer)'!D43:AH43,3))","v":{"$error":"#N/A"}},{"$f":"IF(N35<1,#N/A,COUNTIF('B) Eingabe (Lehrer)'!D43:AH43,4))","v":{"$error":"#N/A"}},{"$f":"IF('B) Eingabe (Lehrer)'!C43=\"\", #N/A, 'B) Eingabe (Lehrer)'!C43)","v":{"$error":"#N/A"}}]
[{"$f":"FragenErstellen!A40","v":34},{"$f":"IF(E36=0, #N/A,AVERAGE('B) Eingabe (Schüler)'!C44:AH44))","v":{"$error":"#N/A"}},{"$f":"IF(E36<2, #N/A, STDEVP('B) Eingabe (Schüler)'!C44:AH44))","v":{"$error":"#N/A"}},{"$error":"#N/A"},{"$f":"COUNT('B) Eingabe (Schüler)'!C44:AH44)","v":0},{"$f":"IF(E36<2,#N/A,COUNTIF('B) Eingabe (Schüler)'!C44:AH44,1))","v":{"$error":"#N/A"}},{"$f":"IF(E36<2,#N/A,COUNTIF('B) Eingabe (Schüler)'!C44:AH44,2))","v":{"$error":"#N/A"}},{"$f":"IF(E36<2,#N/A,COUNTIF('B) Eingabe (Schüler)'!C44:AH44,3))","v":{"$error":"#N/A"}},{"$f":"IF(E36<2,#N/A,COUNTIF('B) Eingabe (Schüler)'!C44:AH44,4))","v":{"$error":"#N/A"}},{"$f":"IF('B) Eingabe (Lehrer)'!C44=\"\", #N/A, 'B) Eingabe (Lehrer)'!C44)","v":{"$error":"#N/A"}},{"$f":"IF(N36=0, #N/A,AVERAGE('B) Eingabe (Lehrer)'!D44:AH44))","v":{"$error":"#N/A"}},{"$f":"IF(N36<1, #N/A, STDEVP('B) Eingabe (Lehrer)'!D44:AH44))","v":{"$error":"#N/A"}},{"$error":"#N/A"},{"$f":"COUNT('B) Eingabe (Lehrer)'!D44:AH44)","v":0},{"$f":"IF(N36<1,#N/A,COUNTIF('B) Eingabe (Lehrer)'!D44:AH44,1))","v":{"$error":"#N/A"}},{"$f":"IF(N36<1,#N/A,COUNTIF('B) Eingabe (Lehrer)'!D44:AH44,2))","v":{"$error":"#N/A"}},{"$f":"IF(N36<1,#N/A,COUNTIF('B) Eingabe (Lehrer)'!D44:AH44,3))","v":{"$error":"#N/A"}},{"$f":"IF(N36<1,#N/A,COUNTIF('B) Eingabe (Lehrer)'!D44:AH44,4))","v":{"$error":"#N/A"}},{"$f":"IF('B) Eingabe (Lehrer)'!C44=\"\", #N/A, 'B) Eingabe (Lehrer)'!C44)","v":{"$error":"#N/A"}}]
[{"$f":"FragenErstellen!A41","v":35},{"$f":"IF(E37=0, #N/A,AVERAGE('B) Eingabe (Schüler)'!C45:AH45))","v":{"$error":"#N/A"}},{"$f":"IF(E37<2, #N/A, STDEVP('B) Eingabe (Schüler)'!C45:AH45))","v":{"$error":"#N/A"}},{"$error":"#N/A"},{"$f":"COUNT('B) Eingabe (Schüler)'!C45:AH45)","v":0},{"$f":"IF(E37<2,#N/A,COUNTIF('B) Eingabe (Schüler)'!C45:AH45,1))","v":{"$error":"#N/A"}},{"$f":"IF(E37<2,#N/A,COUNTIF('B) Eingabe (Schüler)'!C45:AH45,2))","v":{"$error":"#N/A"}},{"$f":"IF(E37<2,#N/A,COUNTIF('B) Eingabe (Schüler)'!C45:AH45,3))","v":{"$error":"#N/A"}},{"$f":"IF(E37<2,#N/A,COUNTIF('B) Eingabe (Schüler)'!C45:AH45,4))","v":{"$error":"#N/A"}},{"$f":"IF('B) Eingabe (Lehrer)'!C45=\"\", #N/A, 'B) Eingabe (Lehrer)'!C45)","v":{"$error":"#N/A"}},{"$f":"IF(N37=0, #N/A,AVERAGE('B) Eingabe (Lehrer)'!D45:AH45))","v":{"$error":"#N/A"}},{"$f":"IF(N37<1, #N/A, STDEVP('B) Eingabe (Lehrer)'!D45:AH45))","v":{"$error":"#N/A"}},{"$error":"#N/A"},{"$f":"COUNT('B) Eingabe (Lehrer)'!D45:AH45)","v":0},{"$f":"IF(N37<1,#N/A,COUNTIF('B) Eingabe (Lehrer)'!D45:AH45,1))","v":{"$error":"#N/A"}},{"$f":"IF(N37<1,#N/A,COUNTIF('B) Eingabe (Lehrer)'!D45:AH45,2))","v":{"$error":"#N/A"}},{"$f":"IF(N37<1,#N/A,COUNTIF('B) Eingabe (Lehrer)'!D45:AH45,3))","v":{"$error":"#N/A"}},{"$f":"IF(N37<1,#N/A,COUNTIF('B) Eingabe (Lehrer)'!D45:AH45,4))","v":{"$error":"#N/A"}},{"$f":"IF('B) Eingabe (Lehrer)'!C45=\"\", #N/A, 'B) Eingabe (Lehrer)'!C45)","v":{"$error":"#N/A"}}]
[{"$f":"FragenErstellen!A42","v":36},{"$f":"IF(E38=0, #N/A,AVERAGE('B) Eingabe (Schüler)'!C46:AH46))","v":{"$error":"#N/A"}},{"$f":"IF(E38<2, #N/A, STDEVP('B) Eingabe (Schüler)'!C46:AH46))","v":{"$error":"#N/A"}},{"$error":"#N/A"},{"$f":"COUNT('B) Eingabe (Schüler)'!C46:AH46)","v":0},{"$f":"IF(E38<2,#N/A,COUNTIF('B) Eingabe (Schüler)'!C46:AH46,1))","v":{"$error":"#N/A"}},{"$f":"IF(E38<2,#N/A,COUNTIF('B) Eingabe (Schüler)'!C46:AH46,2))","v":{"$error":"#N/A"}},{"$f":"IF(E38<2,#N/A,COUNTIF('B) Eingabe (Schüler)'!C46:AH46,3))","v":{"$error":"#N/A"}},{"$f":"IF(E38<2,#N/A,COUNTIF('B) Eingabe (Schüler)'!C46:AH46,4))","v":{"$error":"#N/A"}},{"$f":"IF('B) Eingabe (Lehrer)'!C46=\"\", #N/A, 'B) Eingabe (Lehrer)'!C46)","v":{"$error":"#N/A"}},{"$f":"IF(N38=0, #N/A,AVERAGE('B) Eingabe (Lehrer)'!D46:AH46))","v":{"$error":"#N/A"}},{"$f":"IF(N38<1, #N/A, STDEVP('B) Eingabe (Lehrer)'!D46:AH46))","v":{"$error":"#N/A"}},{"$error":"#N/A"},{"$f":"COUNT('B) Eingabe (Lehrer)'!D46:AH46)","v":0},{"$f":"IF(N38<1,#N/A,COUNTIF('B) Eingabe (Lehrer)'!D46:AH46,1))","v":{"$error":"#N/A"}},{"$f":"IF(N38<1,#N/A,COUNTIF('B) Eingabe (Lehrer)'!D46:AH46,2))","v":{"$error":"#N/A"}},{"$f":"IF(N38<1,#N/A,COUNTIF('B) Eingabe (Lehrer)'!D46:AH46,3))","v":{"$error":"#N/A"}},{"$f":"IF(N38<1,#N/A,COUNTIF('B) Eingabe (Lehrer)'!D46:AH46,4))","v":{"$error":"#N/A"}},{"$f":"IF('B) Eingabe (Lehrer)'!C46=\"\", #N/A, 'B) Eingabe (Lehrer)'!C46)","v":{"$error":"#N/A"}}]
[{"$f":"FragenErstellen!A43","v":37},{"$f":"IF(E39=0, #N/A,AVERAGE('B) Eingabe (Schüler)'!C47:AH47))","v":{"$error":"#N/A"}},{"$f":"IF(E39<2, #N/A, STDEVP('B) Eingabe (Schüler)'!C47:AH47))","v":{"$error":"#N/A"}},{"$error":"#N/A"},{"$f":"COUNT('B) Eingabe (Schüler)'!C47:AH47)","v":0},{"$f":"IF(E39<2,#N/A,COUNTIF('B) Eingabe (Schüler)'!C47:AH47,1))","v":{"$error":"#N/A"}},{"$f":"IF(E39<2,#N/A,COUNTIF('B) Eingabe (Schüler)'!C47:AH47,2))","v":{"$error":"#N/A"}},{"$f":"IF(E39<2,#N/A,COUNTIF('B) Eingabe (Schüler)'!C47:AH47,3))","v":{"$error":"#N/A"}},{"$f":"IF(E39<2,#N/A,COUNTIF('B) Eingabe (Schüler)'!C47:AH47,4))","v":{"$error":"#N/A"}},{"$f":"IF('B) Eingabe (Lehrer)'!C47=\"\", #N/A, 'B) Eingabe (Lehrer)'!C47)","v":{"$error":"#N/A"}},{"$f":"IF(N39=0, #N/A,AVERAGE('B) Eingabe (Lehrer)'!D47:AH47))","v":{"$error":"#N/A"}},{"$f":"IF(N39<1, #N/A, STDEVP('B) Eingabe (Lehrer)'!D47:AH47))","v":{"$error":"#N/A"}},{"$error":"#N/A"},{"$f":"COUNT('B) Eingabe (Lehrer)'!D47:AH47)","v":0},{"$f":"IF(N39<1,#N/A,COUNTIF('B) Eingabe (Lehrer)'!D47:AH47,1))","v":{"$error":"#N/A"}},{"$f":"IF(N39<1,#N/A,COUNTIF('B) Eingabe (Lehrer)'!D47:AH47,2))","v":{"$error":"#N/A"}},{"$f":"IF(N39<1,#N/A,COUNTIF('B) Eingabe (Lehrer)'!D47:AH47,3))","v":{"$error":"#N/A"}},{"$f":"IF(N39<1,#N/A,COUNTIF('B) Eingabe (Lehrer)'!D47:AH47,4))","v":{"$error":"#N/A"}},{"$f":"IF('B) Eingabe (Lehrer)'!C47=\"\", #N/A, 'B) Eingabe (Lehrer)'!C47)","v":{"$error":"#N/A"}}]
[{"$f":"FragenErstellen!A44","v":38},{"$f":"IF(E40=0, #N/A,AVERAGE('B) Eingabe (Schüler)'!C48:AH48))","v":{"$error":"#N/A"}},{"$f":"IF(E40<2, #N/A, STDEVP('B) Eingabe (Schüler)'!C48:AH48))","v":{"$error":"#N/A"}},{"$error":"#N/A"},{"$f":"COUNT('B) Eingabe (Schüler)'!C48:AH48)","v":0},{"$f":"IF(E40<2,#N/A,COUNTIF('B) Eingabe (Schüler)'!C48:AH48,1))","v":{"$error":"#N/A"}},{"$f":"IF(E40<2,#N/A,COUNTIF('B) Eingabe (Schüler)'!C48:AH48,2))","v":{"$error":"#N/A"}},{"$f":"IF(E40<2,#N/A,COUNTIF('B) Eingabe (Schüler)'!C48:AH48,3))","v":{"$error":"#N/A"}},{"$f":"IF(E40<2,#N/A,COUNTIF('B) Eingabe (Schüler)'!C48:AH48,4))","v":{"$error":"#N/A"}},{"$f":"IF('B) Eingabe (Lehrer)'!C48=\"\", #N/A, 'B) Eingabe (Lehrer)'!C48)","v":{"$error":"#N/A"}},{"$f":"IF(N40=0, #N/A,AVERAGE('B) Eingabe (Lehrer)'!D48:AH48))","v":{"$error":"#N/A"}},{"$f":"IF(N40<1, #N/A, STDEVP('B) Eingabe (Lehrer)'!D48:AH48))","v":{"$error":"#N/A"}},{"$error":"#N/A"},{"$f":"COUNT('B) Eingabe (Lehrer)'!D48:AH48)","v":0},{"$f":"IF(N40<1,#N/A,COUNTIF('B) Eingabe (Lehrer)'!D48:AH48,1))","v":{"$error":"#N/A"}},{"$f":"IF(N40<1,#N/A,COUNTIF('B) Eingabe (Lehrer)'!D48:AH48,2))","v":{"$error":"#N/A"}},{"$f":"IF(N40<1,#N/A,COUNTIF('B) Eingabe (Lehrer)'!D48:AH48,3))","v":{"$error":"#N/A"}},{"$f":"IF(N40<1,#N/A,COUNTIF('B) Eingabe (Lehrer)'!D48:AH48,4))","v":{"$error":"#N/A"}},{"$f":"IF('B) Eingabe (Lehrer)'!C48=\"\", #N/A, 'B) Eingabe (Lehrer)'!C48)","v":{"$error":"#N/A"}}]
[{"$f":"FragenErstellen!A45","v":39},{"$f":"IF(E41=0, #N/A,AVERAGE('B) Eingabe (Schüler)'!C49:AH49))","v":{"$error":"#N/A"}},{"$f":"IF(E41<2, #N/A, STDEVP('B) Eingabe (Schüler)'!C49:AH49))","v":{"$error":"#N/A"}},{"$error":"#N/A"},{"$f":"COUNT('B) Eingabe (Schüler)'!C49:AH49)","v":0},{"$f":"IF(E41<2,#N/A,COUNTIF('B) Eingabe (Schüler)'!C49:AH49,1))","v":{"$error":"#N/A"}},{"$f":"IF(E41<2,#N/A,COUNTIF('B) Eingabe (Schüler)'!C49:AH49,2))","v":{"$error":"#N/A"}},{"$f":"IF(E41<2,#N/A,COUNTIF('B) Eingabe (Schüler)'!C49:AH49,3))","v":{"$error":"#N/A"}},{"$f":"IF(E41<2,#N/A,COUNTIF('B) Eingabe (Schüler)'!C49:AH49,4))","v":{"$error":"#N/A"}},{"$f":"IF('B) Eingabe (Lehrer)'!C49=\"\", #N/A, 'B) Eingabe (Lehrer)'!C49)","v":{"$error":"#N/A"}},{"$f":"IF(N41=0, #N/A,AVERAGE('B) Eingabe (Lehrer)'!D49:AH49))","v":{"$error":"#N/A"}},{"$f":"IF(N41<1, #N/A, STDEVP('B) Eingabe (Lehrer)'!D49:AH49))","v":{"$error":"#N/A"}},{"$error":"#N/A"},{"$f":"COUNT('B) Eingabe (Lehrer)'!D49:AH49)","v":0},{"$f":"IF(N41<1,#N/A,COUNTIF('B) Eingabe (Lehrer)'!D49:AH49,1))","v":{"$error":"#N/A"}},{"$f":"IF(N41<1,#N/A,COUNTIF('B) Eingabe (Lehrer)'!D49:AH49,2))","v":{"$error":"#N/A"}},{"$f":"IF(N41<1,#N/A,COUNTIF('B) Eingabe (Lehrer)'!D49:AH49,3))","v":{"$error":"#N/A"}},{"$f":"IF(N41<1,#N/A,COUNTIF('B) Eingabe (Lehrer)'!D49:AH49,4))","v":{"$error":"#N/A"}},{"$f":"IF('B) Eingabe (Lehrer)'!C49=\"\", #N/A, 'B) Eingabe (Lehrer)'!C49)","v":{"$error":"#N/A"}}]
[{"$f":"FragenErstellen!A46","v":40},{"$f":"IF(E42=0, #N/A,AVERAGE('B) Eingabe (Schüler)'!C50:AH50))","v":{"$error":"#N/A"}},{"$f":"IF(E42<2, #N/A, STDEVP('B) Eingabe (Schüler)'!C50:AH50))","v":{"$error":"#N/A"}},{"$error":"#N/A"},{"$f":"COUNT('B) Eingabe (Schüler)'!C50:AH50)","v":0},{"$f":"IF(E42<2,#N/A,COUNTIF('B) Eingabe (Schüler)'!C50:AH50,1))","v":{"$error":"#N/A"}},{"$f":"IF(E42<2,#N/A,COUNTIF('B) Eingabe (Schüler)'!C50:AH50,2))","v":{"$error":"#N/A"}},{"$f":"IF(E42<2,#N/A,COUNTIF('B) Eingabe (Schüler)'!C50:AH50,3))","v":{"$error":"#N/A"}},{"$f":"IF(E42<2,#N/A,COUNTIF('B) Eingabe (Schüler)'!C50:AH50,4))","v":{"$error":"#N/A"}},{"$f":"IF('B) Eingabe (Lehrer)'!C50=\"\", #N/A, 'B) Eingabe (Lehrer)'!C50)","v":{"$error":"#N/A"}},{"$f":"IF(N42=0, #N/A,AVERAGE('B) Eingabe (Lehrer)'!D50:AH50))","v":{"$error":"#N/A"}},{"$f":"IF(N42<1, #N/A, STDEVP('B) Eingabe (Lehrer)'!D50:AH50))","v":{"$error":"#N/A"}},{"$error":"#N/A"},{"$f":"COUNT('B) Eingabe (Lehrer)'!D50:AH50)","v":0},{"$f":"IF(N42<1,#N/A,COUNTIF('B) Eingabe (Lehrer)'!D50:AH50,1))","v":{"$error":"#N/A"}},{"$f":"IF(N42<1,#N/A,COUNTIF('B) Eingabe (Lehrer)'!D50:AH50,2))","v":{"$error":"#N/A"}},{"$f":"IF(N42<1,#N/A,COUNTIF('B) Eingabe (Lehrer)'!D50:AH50,3))","v":{"$error":"#N/A"}},{"$f":"IF(N42<1,#N/A,COUNTIF('B) Eingabe (Lehrer)'!D50:AH50,4))","v":{"$error":"#N/A"}},{"$f":"IF('B) Eingabe (Lehrer)'!C50=\"\", #N/A, 'B) Eingabe (Lehrer)'!C50)","v":{"$error":"#N/A"}}]
[{"$f":"FragenErstellen!A47","v":41},{"$f":"IF(E43=0, #N/A,AVERAGE('B) Eingabe (Schüler)'!C51:AH51))","v":{"$error":"#N/A"}},{"$f":"IF(E43<2, #N/A, STDEVP('B) Eingabe (Schüler)'!C51:AH51))","v":{"$error":"#N/A"}},{"$error":"#N/A"},{"$f":"COUNT('B) Eingabe (Schüler)'!C51:AH51)","v":0},{"$f":"IF(E43<2,#N/A,COUNTIF('B) Eingabe (Schüler)'!C51:AH51,1))","v":{"$error":"#N/A"}},{"$f":"IF(E43<2,#N/A,COUNTIF('B) Eingabe (Schüler)'!C51:AH51,2))","v":{"$error":"#N/A"}},{"$f":"IF(E43<2,#N/A,COUNTIF('B) Eingabe (Schüler)'!C51:AH51,3))","v":{"$error":"#N/A"}},{"$f":"IF(E43<2,#N/A,COUNTIF('B) Eingabe (Schüler)'!C51:AH51,4))","v":{"$error":"#N/A"}},{"$f":"IF('B) Eingabe (Lehrer)'!C51=\"\", #N/A, 'B) Eingabe (Lehrer)'!C51)","v":{"$error":"#N/A"}},{"$f":"IF(N43=0, #N/A,AVERAGE('B) Eingabe (Lehrer)'!D51:AH51))","v":{"$error":"#N/A"}},{"$f":"IF(N43<1, #N/A, STDEVP('B) Eingabe (Lehrer)'!D51:AH51))","v":{"$error":"#N/A"}},{"$error":"#N/A"},{"$f":"COUNT('B) Eingabe (Lehrer)'!D51:AH51)","v":0},{"$f":"IF(N43<1,#N/A,COUNTIF('B) Eingabe (Lehrer)'!D51:AH51,1))","v":{"$error":"#N/A"}},{"$f":"IF(N43<1,#N/A,COUNTIF('B) Eingabe (Lehrer)'!D51:AH51,2))","v":{"$error":"#N/A"}},{"$f":"IF(N43<1,#N/A,COUNTIF('B) Eingabe (Lehrer)'!D51:AH51,3))","v":{"$error":"#N/A"}},{"$f":"IF(N43<1,#N/A,COUNTIF('B) Eingabe (Lehrer)'!D51:AH51,4))","v":{"$error":"#N/A"}},{"$f":"IF('B) Eingabe (Lehrer)'!C51=\"\", #N/A, 'B) Eingabe (Lehrer)'!C51)","v":{"$error":"#N/A"}}]
[{"$f":"FragenErstellen!A48","v":42},{"$f":"IF(E44=0, #N/A,AVERAGE('B) Eingabe (Schüler)'!C52:AH52))","v":{"$error":"#N/A"}},{"$f":"IF(E44<2, #N/A, STDEVP('B) Eingabe (Schüler)'!C52:AH52))","v":{"$error":"#N/A"}},{"$error":"#N/A"},{"$f":"COUNT('B) Eingabe (Schüler)'!C52:AH52)","v":0},{"$f":"IF(E44<2,#N/A,COUNTIF('B) Eingabe (Schüler)'!C52:AH52,1))","v":{"$error":"#N/A"}},{"$f":"IF(E44<2,#N/A,COUNTIF('B) Eingabe (Schüler)'!C52:AH52,2))","v":{"$error":"#N/A"}},{"$f":"IF(E44<2,#N/A,COUNTIF('B) Eingabe (Schüler)'!C52:AH52,3))","v":{"$error":"#N/A"}},{"$f":"IF(E44<2,#N/A,COUNTIF('B) Eingabe (Schüler)'!C52:AH52,4))","v":{"$error":"#N/A"}},{"$f":"IF('B) Eingabe (Lehrer)'!C52=\"\", #N/A, 'B) Eingabe (Lehrer)'!C52)","v":{"$error":"#N/A"}},{"$f":"IF(N44=0, #N/A,AVERAGE('B) Eingabe (Lehrer)'!D52:AH52))","v":{"$error":"#N/A"}},{"$f":"IF(N44<1, #N/A, STDEVP('B) Eingabe (Lehrer)'!D52:AH52))","v":{"$error":"#N/A"}},{"$error":"#N/A"},{"$f":"COUNT('B) Eingabe (Lehrer)'!D52:AH52)","v":0},{"$f":"IF(N44<1,#N/A,COUNTIF('B) Eingabe (Lehrer)'!D52:AH52,1))","v":{"$error":"#N/A"}},{"$f":"IF(N44<1,#N/A,COUNTIF('B) Eingabe (Lehrer)'!D52:AH52,2))","v":{"$error":"#N/A"}},{"$f":"IF(N44<1,#N/A,COUNTIF('B) Eingabe (Lehrer)'!D52:AH52,3))","v":{"$error":"#N/A"}},{"$f":"IF(N44<1,#N/A,COUNTIF('B) Eingabe (Lehrer)'!D52:AH52,4))","v":{"$error":"#N/A"}},{"$f":"IF('B) Eingabe (Lehrer)'!C52=\"\", #N/A, 'B) Eingabe (Lehrer)'!C52)","v":{"$error":"#N/A"}}]
[{"$f":"FragenErstellen!A49","v":43},{"$f":"IF(E45=0, #N/A,AVERAGE('B) Eingabe (Schüler)'!C53:AH53))","v":{"$error":"#N/A"}},{"$f":"IF(E45<2, #N/A, STDEVP('B) Eingabe (Schüler)'!C53:AH53))","v":{"$error":"#N/A"}},{"$error":"#N/A"},{"$f":"COUNT('B) Eingabe (Schüler)'!C53:AH53)","v":0},{"$f":"IF(E45<2,#N/A,COUNTIF('B) Eingabe (Schüler)'!C53:AH53,1))","v":{"$error":"#N/A"}},{"$f":"IF(E45<2,#N/A,COUNTIF('B) Eingabe (Schüler)'!C53:AH53,2))","v":{"$error":"#N/A"}},{"$f":"IF(E45<2,#N/A,COUNTIF('B) Eingabe (Schüler)'!C53:AH53,3))","v":{"$error":"#N/A"}},{"$f":"IF(E45<2,#N/A,COUNTIF('B) Eingabe (Schüler)'!C53:AH53,4))","v":{"$error":"#N/A"}},{"$f":"IF('B) Eingabe (Lehrer)'!C53=\"\", #N/A, 'B) Eingabe (Lehrer)'!C53)","v":{"$error":"#N/A"}},{"$f":"IF(N45=0, #N/A,AVERAGE('B) Eingabe (Lehrer)'!D53:AH53))","v":{"$error":"#N/A"}},{"$f":"IF(N45<1, #N/A, STDEVP('B) Eingabe (Lehrer)'!D53:AH53))","v":{"$error":"#N/A"}},{"$error":"#N/A"},{"$f":"COUNT('B) Eingabe (Lehrer)'!D53:AH53)","v":0},{"$f":"IF(N45<1,#N/A,COUNTIF('B) Eingabe (Lehrer)'!D53:AH53,1))","v":{"$error":"#N/A"}},{"$f":"IF(N45<1,#N/A,COUNTIF('B) Eingabe (Lehrer)'!D53:AH53,2))","v":{"$error":"#N/A"}},{"$f":"IF(N45<1,#N/A,COUNTIF('B) Eingabe (Lehrer)'!D53:AH53,3))","v":{"$error":"#N/A"}},{"$f":"IF(N45<1,#N/A,COUNTIF('B) Eingabe (Lehrer)'!D53:AH53,4))","v":{"$error":"#N/A"}},{"$f":"IF('B) Eingabe (Lehrer)'!C53=\"\", #N/A, 'B) Eingabe (Lehrer)'!C53)","v":{"$error":"#N/A"}}]
[{"$f":"FragenErstellen!A50","v":44},{"$f":"IF(E46=0, #N/A,AVERAGE('B) Eingabe (Schüler)'!C54:AH54))","v":{"$error":"#N/A"}},{"$f":"IF(E46<2, #N/A, STDEVP('B) Eingabe (Schüler)'!C54:AH54))","v":{"$error":"#N/A"}},{"$error":"#N/A"},{"$f":"COUNT('B) Eingabe (Schüler)'!C54:AH54)","v":0},{"$f":"IF(E46<2,#N/A,COUNTIF('B) Eingabe (Schüler)'!C54:AH54,1))","v":{"$error":"#N/A"}},{"$f":"IF(E46<2,#N/A,COUNTIF('B) Eingabe (Schüler)'!C54:AH54,2))","v":{"$error":"#N/A"}},{"$f":"IF(E46<2,#N/A,COUNTIF('B) Eingabe (Schüler)'!C54:AH54,3))","v":{"$error":"#N/A"}},{"$f":"IF(E46<2,#N/A,COUNTIF('B) Eingabe (Schüler)'!C54:AH54,4))","v":{"$error":"#N/A"}},{"$f":"IF('B) Eingabe (Lehrer)'!C54=\"\", #N/A, 'B) Eingabe (Lehrer)'!C54)","v":{"$error":"#N/A"}},{"$f":"IF(N46=0, #N/A,AVERAGE('B) Eingabe (Lehrer)'!D54:AH54))","v":{"$error":"#N/A"}},{"$f":"IF(N46<1, #N/A, STDEVP('B) Eingabe (Lehrer)'!D54:AH54))","v":{"$error":"#N/A"}},{"$error":"#N/A"},{"$f":"COUNT('B) Eingabe (Lehrer)'!D54:AH54)","v":0},{"$f":"IF(N46<1,#N/A,COUNTIF('B) Eingabe (Lehrer)'!D54:AH54,1))","v":{"$error":"#N/A"}},{"$f":"IF(N46<1,#N/A,COUNTIF('B) Eingabe (Lehrer)'!D54:AH54,2))","v":{"$error":"#N/A"}},{"$f":"IF(N46<1,#N/A,COUNTIF('B) Eingabe (Lehrer)'!D54:AH54,3))","v":{"$error":"#N/A"}},{"$f":"IF(N46<1,#N/A,COUNTIF('B) Eingabe (Lehrer)'!D54:AH54,4))","v":{"$error":"#N/A"}},{"$f":"IF('B) Eingabe (Lehrer)'!C54=\"\", #N/A, 'B) Eingabe (Lehrer)'!C54)","v":{"$error":"#N/A"}}]
[{"$f":"FragenErstellen!A51","v":45},{"$f":"IF(E47=0, #N/A,AVERAGE('B) Eingabe (Schüler)'!C55:AH55))","v":{"$error":"#N/A"}},{"$f":"IF(E47<2, #N/A, STDEVP('B) Eingabe (Schüler)'!C55:AH55))","v":{"$error":"#N/A"}},{"$error":"#N/A"},{"$f":"COUNT('B) Eingabe (Schüler)'!C55:AH55)","v":0},{"$f":"IF(E47<2,#N/A,COUNTIF('B) Eingabe (Schüler)'!C55:AH55,1))","v":{"$error":"#N/A"}},{"$f":"IF(E47<2,#N/A,COUNTIF('B) Eingabe (Schüler)'!C55:AH55,2))","v":{"$error":"#N/A"}},{"$f":"IF(E47<2,#N/A,COUNTIF('B) Eingabe (Schüler)'!C55:AH55,3))","v":{"$error":"#N/A"}},{"$f":"IF(E47<2,#N/A,COUNTIF('B) Eingabe (Schüler)'!C55:AH55,4))","v":{"$error":"#N/A"}},{"$f":"IF('B) Eingabe (Lehrer)'!C55=\"\", #N/A, 'B) Eingabe (Lehrer)'!C55)","v":{"$error":"#N/A"}},{"$f":"IF(N47=0, #N/A,AVERAGE('B) Eingabe (Lehrer)'!D55:AH55))","v":{"$error":"#N/A"}},{"$f":"IF(N47<1, #N/A, STDEVP('B) Eingabe (Lehrer)'!D55:AH55))","v":{"$error":"#N/A"}},{"$error":"#N/A"},{"$f":"COUNT('B) Eingabe (Lehrer)'!D55:AH55)","v":0},{"$f":"IF(N47<1,#N/A,COUNTIF('B) Eingabe (Lehrer)'!D55:AH55,1))","v":{"$error":"#N/A"}},{"$f":"IF(N47<1,#N/A,COUNTIF('B) Eingabe (Lehrer)'!D55:AH55,2))","v":{"$error":"#N/A"}},{"$f":"IF(N47<1,#N/A,COUNTIF('B) Eingabe (Lehrer)'!D55:AH55,3))","v":{"$error":"#N/A"}},{"$f":"IF(N47<1,#N/A,COUNTIF('B) Eingabe (Lehrer)'!D55:AH55,4))","v":{"$error":"#N/A"}},{"$f":"IF('B) Eingabe (Lehrer)'!C55=\"\", #N/A, 'B) Eingabe (Lehrer)'!C55)","v":{"$error":"#N/A"}}]
[{"$f":"FragenErstellen!A52","v":46},{"$f":"IF(E48=0, #N/A,AVERAGE('B) Eingabe (Schüler)'!C56:AH56))","v":{"$error":"#N/A"}},{"$f":"IF(E48<2, #N/A, STDEVP('B) Eingabe (Schüler)'!C56:AH56))","v":{"$error":"#N/A"}},{"$error":"#N/A"},{"$f":"COUNT('B) Eingabe (Schüler)'!C56:AH56)","v":0},{"$f":"IF(E48<2,#N/A,COUNTIF('B) Eingabe (Schüler)'!C56:AH56,1))","v":{"$error":"#N/A"}},{"$f":"IF(E48<2,#N/A,COUNTIF('B) Eingabe (Schüler)'!C56:AH56,2))","v":{"$error":"#N/A"}},{"$f":"IF(E48<2,#N/A,COUNTIF('B) Eingabe (Schüler)'!C56:AH56,3))","v":{"$error":"#N/A"}},{"$f":"IF(E48<2,#N/A,COUNTIF('B) Eingabe (Schüler)'!C56:AH56,4))","v":{"$error":"#N/A"}},{"$f":"IF('B) Eingabe (Lehrer)'!C56=\"\", #N/A, 'B) Eingabe (Lehrer)'!C56)","v":{"$error":"#N/A"}},{"$f":"IF(N48=0, #N/A,AVERAGE('B) Eingabe (Lehrer)'!D56:AH56))","v":{"$error":"#N/A"}},{"$f":"IF(N48<1, #N/A, STDEVP('B) Eingabe (Lehrer)'!D56:AH56))","v":{"$error":"#N/A"}},{"$error":"#N/A"},{"$f":"COUNT('B) Eingabe (Lehrer)'!D56:AH56)","v":0},{"$f":"IF(N48<1,#N/A,COUNTIF('B) Eingabe (Lehrer)'!D56:AH56,1))","v":{"$error":"#N/A"}},{"$f":"IF(N48<1,#N/A,COUNTIF('B) Eingabe (Lehrer)'!D56:AH56,2))","v":{"$error":"#N/A"}},{"$f":"IF(N48<1,#N/A,COUNTIF('B) Eingabe (Lehrer)'!D56:AH56,3))","v":{"$error":"#N/A"}},{"$f":"IF(N48<1,#N/A,COUNTIF('B) Eingabe (Lehrer)'!D56:AH56,4))","v":{"$error":"#N/A"}},{"$f":"IF('B) Eingabe (Lehrer)'!C56=\"\", #N/A, 'B) Eingabe (Lehrer)'!C56)","v":{"$error":"#N/A"}}]
[{"$f":"FragenErstellen!A53","v":47},{"$f":"IF(E49=0, #N/A,AVERAGE('B) Eingabe (Schüler)'!C57:AH57))","v":{"$error":"#N/A"}},{"$f":"IF(E49<2, #N/A, STDEVP('B) Eingabe (Schüler)'!C57:AH57))","v":{"$error":"#N/A"}},{"$error":"#N/A"},{"$f":"COUNT('B) Eingabe (Schüler)'!C57:AH57)","v":0},{"$f":"IF(E49<2,#N/A,COUNTIF('B) Eingabe (Schüler)'!C57:AH57,1))","v":{"$error":"#N/A"}},{"$f":"IF(E49<2,#N/A,COUNTIF('B) Eingabe (Schüler)'!C57:AH57,2))","v":{"$error":"#N/A"}},{"$f":"IF(E49<2,#N/A,COUNTIF('B) Eingabe (Schüler)'!C57:AH57,3))","v":{"$error":"#N/A"}},{"$f":"IF(E49<2,#N/A,COUNTIF('B) Eingabe (Schüler)'!C57:AH57,4))","v":{"$error":"#N/A"}},{"$f":"IF('B) Eingabe (Lehrer)'!C57=\"\", #N/A, 'B) Eingabe (Lehrer)'!C57)","v":{"$error":"#N/A"}},{"$f":"IF(N49=0, #N/A,AVERAGE('B) Eingabe (Lehrer)'!D57:AH57))","v":{"$error":"#N/A"}},{"$f":"IF(N49<1, #N/A, STDEVP('B) Eingabe (Lehrer)'!D57:AH57))","v":{"$error":"#N/A"}},{"$error":"#N/A"},{"$f":"COUNT('B) Eingabe (Lehrer)'!D57:AH57)","v":0},{"$f":"IF(N49<1,#N/A,COUNTIF('B) Eingabe (Lehrer)'!D57:AH57,1))","v":{"$error":"#N/A"}},{"$f":"IF(N49<1,#N/A,COUNTIF('B) Eingabe (Lehrer)'!D57:AH57,2))","v":{"$error":"#N/A"}},{"$f":"IF(N49<1,#N/A,COUNTIF('B) Eingabe (Lehrer)'!D57:AH57,3))","v":{"$error":"#N/A"}},{"$f":"IF(N49<1,#N/A,COUNTIF('B) Eingabe (Lehrer)'!D57:AH57,4))","v":{"$error":"#N/A"}},{"$f":"IF('B) Eingabe (Lehrer)'!C57=\"\", #N/A, 'B) Eingabe (Lehrer)'!C57)","v":{"$error":"#N/A"}}]
[{"$f":"FragenErstellen!A54","v":48},{"$f":"IF(E50=0, #N/A,AVERAGE('B) Eingabe (Schüler)'!C58:AH58))","v":{"$error":"#N/A"}},{"$f":"IF(E50<2, #N/A, STDEVP('B) Eingabe (Schüler)'!C58:AH58))","v":{"$error":"#N/A"}},{"$error":"#N/A"},{"$f":"COUNT('B) Eingabe (Schüler)'!C58:AH58)","v":0},{"$f":"IF(E50<2,#N/A,COUNTIF('B) Eingabe (Schüler)'!C58:AH58,1))","v":{"$error":"#N/A"}},{"$f":"IF(E50<2,#N/A,COUNTIF('B) Eingabe (Schüler)'!C58:AH58,2))","v":{"$error":"#N/A"}},{"$f":"IF(E50<2,#N/A,COUNTIF('B) Eingabe (Schüler)'!C58:AH58,3))","v":{"$error":"#N/A"}},{"$f":"IF(E50<2,#N/A,COUNTIF('B) Eingabe (Schüler)'!C58:AH58,4))","v":{"$error":"#N/A"}},{"$f":"IF('B) Eingabe (Lehrer)'!C58=\"\", #N/A, 'B) Eingabe (Lehrer)'!C58)","v":{"$error":"#N/A"}},{"$f":"IF(N50=0, #N/A,AVERAGE('B) Eingabe (Lehrer)'!D58:AH58))","v":{"$error":"#N/A"}},{"$f":"IF(N50<1, #N/A, STDEVP('B) Eingabe (Lehrer)'!D58:AH58))","v":{"$error":"#N/A"}},{"$error":"#N/A"},{"$f":"COUNT('B) Eingabe (Lehrer)'!D58:AH58)","v":0},{"$f":"IF(N50<1,#N/A,COUNTIF('B) Eingabe (Lehrer)'!D58:AH58,1))","v":{"$error":"#N/A"}},{"$f":"IF(N50<1,#N/A,COUNTIF('B) Eingabe (Lehrer)'!D58:AH58,2))","v":{"$error":"#N/A"}},{"$f":"IF(N50<1,#N/A,COUNTIF('B) Eingabe (Lehrer)'!D58:AH58,3))","v":{"$error":"#N/A"}},{"$f":"IF(N50<1,#N/A,COUNTIF('B) Eingabe (Lehrer)'!D58:AH58,4))","v":{"$error":"#N/A"}},{"$f":"IF('B) Eingabe (Lehrer)'!C58=\"\", #N/A, 'B) Eingabe (Lehrer)'!C58)","v":{"$error":"#N/A"}}]
[{"$f":"FragenErstellen!A55","v":49},{"$f":"IF(E51=0, #N/A,AVERAGE('B) Eingabe (Schüler)'!C59:AH59))","v":{"$error":"#N/A"}},{"$f":"IF(E51<2, #N/A, STDEVP('B) Eingabe (Schüler)'!C59:AH59))","v":{"$error":"#N/A"}},{"$error":"#N/A"},{"$f":"COUNT('B) Eingabe (Schüler)'!C59:AH59)","v":0},{"$f":"IF(E51<2,#N/A,COUNTIF('B) Eingabe (Schüler)'!C59:AH59,1))","v":{"$error":"#N/A"}},{"$f":"IF(E51<2,#N/A,COUNTIF('B) Eingabe (Schüler)'!C59:AH59,2))","v":{"$error":"#N/A"}},{"$f":"IF(E51<2,#N/A,COUNTIF('B) Eingabe (Schüler)'!C59:AH59,3))","v":{"$error":"#N/A"}},{"$f":"IF(E51<2,#N/A,COUNTIF('B) Eingabe (Schüler)'!C59:AH59,4))","v":{"$error":"#N/A"}},{"$f":"IF('B) Eingabe (Lehrer)'!C59=\"\", #N/A, 'B) Eingabe (Lehrer)'!C59)","v":{"$error":"#N/A"}},{"$f":"IF(N51=0, #N/A,AVERAGE('B) Eingabe (Lehrer)'!D59:AH59))","v":{"$error":"#N/A"}},{"$f":"IF(N51<1, #N/A, STDEVP('B) Eingabe (Lehrer)'!D59:AH59))","v":{"$error":"#N/A"}},{"$error":"#N/A"},{"$f":"COUNT('B) Eingabe (Lehrer)'!D59:AH59)","v":0},{"$f":"IF(N51<1,#N/A,COUNTIF('B) Eingabe (Lehrer)'!D59:AH59,1))","v":{"$error":"#N/A"}},{"$f":"IF(N51<1,#N/A,COUNTIF('B) Eingabe (Lehrer)'!D59:AH59,2))","v":{"$error":"#N/A"}},{"$f":"IF(N51<1,#N/A,COUNTIF('B) Eingabe (Lehrer)'!D59:AH59,3))","v":{"$error":"#N/A"}},{"$f":"IF(N51<1,#N/A,COUNTIF('B) Eingabe (Lehrer)'!D59:AH59,4))","v":{"$error":"#N/A"}},{"$f":"IF('B) Eingabe (Lehrer)'!C59=\"\", #N/A, 'B) Eingabe (Lehrer)'!C59)","v":{"$error":"#N/A"}}]
[{"$f":"FragenErstellen!A56","v":50},{"$f":"IF(E52=0, #N/A,AVERAGE('B) Eingabe (Schüler)'!C60:AH60))","v":{"$error":"#N/A"}},{"$f":"IF(E52<2, #N/A, STDEVP('B) Eingabe (Schüler)'!C60:AH60))","v":{"$error":"#N/A"}},{"$error":"#N/A"},{"$f":"COUNT('B) Eingabe (Schüler)'!C60:AH60)","v":0},{"$f":"IF(E52<2,#N/A,COUNTIF('B) Eingabe (Schüler)'!C60:AH60,1))","v":{"$error":"#N/A"}},{"$f":"IF(E52<2,#N/A,COUNTIF('B) Eingabe (Schüler)'!C60:AH60,2))","v":{"$error":"#N/A"}},{"$f":"IF(E52<2,#N/A,COUNTIF('B) Eingabe (Schüler)'!C60:AH60,3))","v":{"$error":"#N/A"}},{"$f":"IF(E52<2,#N/A,COUNTIF('B) Eingabe (Schüler)'!C60:AH60,4))","v":{"$error":"#N/A"}},{"$f":"IF('B) Eingabe (Lehrer)'!C60=\"\", #N/A, 'B) Eingabe (Lehrer)'!C60)","v":{"$error":"#N/A"}},{"$f":"IF(N52=0, #N/A,AVERAGE('B) Eingabe (Lehrer)'!D60:AH60))","v":{"$error":"#N/A"}},{"$f":"IF(N52<1, #N/A, STDEVP('B) Eingabe (Lehrer)'!D60:AH60))","v":{"$error":"#N/A"}},{"$error":"#N/A"},{"$f":"COUNT('B) Eingabe (Lehrer)'!D60:AH60)","v":0},{"$f":"IF(N52<1,#N/A,COUNTIF('B) Eingabe (Lehrer)'!D60:AH60,1))","v":{"$error":"#N/A"}},{"$f":"IF(N52<1,#N/A,COUNTIF('B) Eingabe (Lehrer)'!D60:AH60,2))","v":{"$error":"#N/A"}},{"$f":"IF(N52<1,#N/A,COUNTIF('B) Eingabe (Lehrer)'!D60:AH60,3))","v":{"$error":"#N/A"}},{"$f":"IF(N52<1,#N/A,COUNTIF('B) Eingabe (Lehrer)'!D60:AH60,4))","v":{"$error":"#N/A"}},{"$f":"IF('B) Eingabe (Lehrer)'!C60=\"\", #N/A, 'B) Eingabe (Lehrer)'!C60)","v":{"$error":"#N/A"}}]
[{"$f":"FragenErstellen!A57","v":51},{"$f":"IF(E53=0, #N/A,AVERAGE('B) Eingabe (Schüler)'!C61:AH61))","v":{"$error":"#N/A"}},{"$f":"IF(E53<2, #N/A, STDEVP('B) Eingabe (Schüler)'!C61:AH61))","v":{"$error":"#N/A"}},{"$error":"#N/A"},{"$f":"COUNT('B) Eingabe (Schüler)'!C61:AH61)","v":0},{"$f":"IF(E53<2,#N/A,COUNTIF('B) Eingabe (Schüler)'!C61:AH61,1))","v":{"$error":"#N/A"}},{"$f":"IF(E53<2,#N/A,COUNTIF('B) Eingabe (Schüler)'!C61:AH61,2))","v":{"$error":"#N/A"}},{"$f":"IF(E53<2,#N/A,COUNTIF('B) Eingabe (Schüler)'!C61:AH61,3))","v":{"$error":"#N/A"}},{"$f":"IF(E53<2,#N/A,COUNTIF('B) Eingabe (Schüler)'!C61:AH61,4))","v":{"$error":"#N/A"}},{"$f":"IF('B) Eingabe (Lehrer)'!C61=\"\", #N/A, 'B) Eingabe (Lehrer)'!C61)","v":{"$error":"#N/A"}},{"$f":"IF(N53=0, #N/A,AVERAGE('B) Eingabe (Lehrer)'!D61:AH61))","v":{"$error":"#N/A"}},{"$f":"IF(N53<1, #N/A, STDEVP('B) Eingabe (Lehrer)'!D61:AH61))","v":{"$error":"#N/A"}},{"$error":"#N/A"},{"$f":"COUNT('B) Eingabe (Lehrer)'!D61:AH61)","v":0},{"$f":"IF(N53<1,#N/A,COUNTIF('B) Eingabe (Lehrer)'!D61:AH61,1))","v":{"$error":"#N/A"}},{"$f":"IF(N53<1,#N/A,COUNTIF('B) Eingabe (Lehrer)'!D61:AH61,2))","v":{"$error":"#N/A"}},{"$f":"IF(N53<1,#N/A,COUNTIF('B) Eingabe (Lehrer)'!D61:AH61,3))","v":{"$error":"#N/A"}},{"$f":"IF(N53<1,#N/A,COUNTIF('B) Eingabe (Lehrer)'!D61:AH61,4))","v":{"$error":"#N/A"}},{"$f":"IF('B) Eingabe (Lehrer)'!C61=\"\", #N/A, 'B) Eingabe (Lehrer)'!C61)","v":{"$error":"#N/A"}}]
[{"$f":"FragenErstellen!A58","v":52},{"$f":"IF(E54=0, #N/A,AVERAGE('B) Eingabe (Schüler)'!C62:AH62))","v":{"$error":"#N/A"}},{"$f":"IF(E54<2, #N/A, STDEVP('B) Eingabe (Schüler)'!C62:AH62))","v":{"$error":"#N/A"}},{"$error":"#N/A"},{"$f":"COUNT('B) Eingabe (Schüler)'!C62:AH62)","v":0},{"$f":"IF(E54<2,#N/A,COUNTIF('B) Eingabe (Schüler)'!C62:AH62,1))","v":{"$error":"#N/A"}},{"$f":"IF(E54<2,#N/A,COUNTIF('B) Eingabe (Schüler)'!C62:AH62,2))","v":{"$error":"#N/A"}},{"$f":"IF(E54<2,#N/A,COUNTIF('B) Eingabe (Schüler)'!C62:AH62,3))","v":{"$error":"#N/A"}},{"$f":"IF(E54<2,#N/A,COUNTIF('B) Eingabe (Schüler)'!C62:AH62,4))","v":{"$error":"#N/A"}},{"$f":"IF('B) Eingabe (Lehrer)'!C62=\"\", #N/A, 'B) Eingabe (Lehrer)'!C62)","v":{"$error":"#N/A"}},{"$f":"IF(N54=0, #N/A,AVERAGE('B) Eingabe (Lehrer)'!D62:AH62))","v":{"$error":"#N/A"}},{"$f":"IF(N54<1, #N/A, STDEVP('B) Eingabe (Lehrer)'!D62:AH62))","v":{"$error":"#N/A"}},{"$error":"#N/A"},{"$f":"COUNT('B) Eingabe (Lehrer)'!D62:AH62)","v":0},{"$f":"IF(N54<1,#N/A,COUNTIF('B) Eingabe (Lehrer)'!D62:AH62,1))","v":{"$error":"#N/A"}},{"$f":"IF(N54<1,#N/A,COUNTIF('B) Eingabe (Lehrer)'!D62:AH62,2))","v":{"$error":"#N/A"}},{"$f":"IF(N54<1,#N/A,COUNTIF('B) Eingabe (Lehrer)'!D62:AH62,3))","v":{"$error":"#N/A"}},{"$f":"IF(N54<1,#N/A,COUNTIF('B) Eingabe (Lehrer)'!D62:AH62,4))","v":{"$error":"#N/A"}},{"$f":"IF('B) Eingabe (Lehrer)'!C62=\"\", #N/A, 'B) Eingabe (Lehrer)'!C62)","v":{"$error":"#N/A"}}]
[{"$f":"FragenErstellen!A59","v":53},{"$f":"IF(E55=0, #N/A,AVERAGE('B) Eingabe (Schüler)'!C63:AH63))","v":{"$error":"#N/A"}},{"$f":"IF(E55<2, #N/A, STDEVP('B) Eingabe (Schüler)'!C63:AH63))","v":{"$error":"#N/A"}},{"$error":"#N/A"},{"$f":"COUNT('B) Eingabe (Schüler)'!C63:AH63)","v":0},{"$f":"IF(E55<2,#N/A,COUNTIF('B) Eingabe (Schüler)'!C63:AH63,1))","v":{"$error":"#N/A"}},{"$f":"IF(E55<2,#N/A,COUNTIF('B) Eingabe (Schüler)'!C63:AH63,2))","v":{"$error":"#N/A"}},{"$f":"IF(E55<2,#N/A,COUNTIF('B) Eingabe (Schüler)'!C63:AH63,3))","v":{"$error":"#N/A"}},{"$f":"IF(E55<2,#N/A,COUNTIF('B) Eingabe (Schüler)'!C63:AH63,4))","v":{"$error":"#N/A"}},{"$f":"IF('B) Eingabe (Lehrer)'!C63=\"\", #N/A, 'B) Eingabe (Lehrer)'!C63)","v":{"$error":"#N/A"}},{"$f":"IF(N55=0, #N/A,AVERAGE('B) Eingabe (Lehrer)'!D63:AH63))","v":{"$error":"#N/A"}},{"$f":"IF(N55<1, #N/A, STDEVP('B) Eingabe (Lehrer)'!D63:AH63))","v":{"$error":"#N/A"}},{"$error":"#N/A"},{"$f":"COUNT('B) Eingabe (Lehrer)'!D63:AH63)","v":0},{"$f":"IF(N55<1,#N/A,COUNTIF('B) Eingabe (Lehrer)'!D63:AH63,1))","v":{"$error":"#N/A"}},{"$f":"IF(N55<1,#N/A,COUNTIF('B) Eingabe (Lehrer)'!D63:AH63,2))","v":{"$error":"#N/A"}},{"$f":"IF(N55<1,#N/A,COUNTIF('B) Eingabe (Lehrer)'!D63:AH63,3))","v":{"$error":"#N/A"}},{"$f":"IF(N55<1,#N/A,COUNTIF('B) Eingabe (Lehrer)'!D63:AH63,4))","v":{"$error":"#N/A"}},{"$f":"IF('B) Eingabe (Lehrer)'!C63=\"\", #N/A, 'B) Eingabe (Lehrer)'!C63)","v":{"$error":"#N/A"}}]
[{"$f":"FragenErstellen!A60","v":54},{"$f":"IF(E56=0, #N/A,AVERAGE('B) Eingabe (Schüler)'!C64:AH64))","v":{"$error":"#N/A"}},{"$f":"IF(E56<2, #N/A, STDEVP('B) Eingabe (Schüler)'!C64:AH64))","v":{"$error":"#N/A"}},{"$error":"#N/A"},{"$f":"COUNT('B) Eingabe (Schüler)'!C64:AH64)","v":0},{"$f":"IF(E56<2,#N/A,COUNTIF('B) Eingabe (Schüler)'!C64:AH64,1))","v":{"$error":"#N/A"}},{"$f":"IF(E56<2,#N/A,COUNTIF('B) Eingabe (Schüler)'!C64:AH64,2))","v":{"$error":"#N/A"}},{"$f":"IF(E56<2,#N/A,COUNTIF('B) Eingabe (Schüler)'!C64:AH64,3))","v":{"$error":"#N/A"}},{"$f":"IF(E56<2,#N/A,COUNTIF('B) Eingabe (Schüler)'!C64:AH64,4))","v":{"$error":"#N/A"}},{"$f":"IF('B) Eingabe (Lehrer)'!C64=\"\", #N/A, 'B) Eingabe (Lehrer)'!C64)","v":{"$error":"#N/A"}},{"$f":"IF(N56=0, #N/A,AVERAGE('B) Eingabe (Lehrer)'!D64:AH64))","v":{"$error":"#N/A"}},{"$f":"IF(N56<1, #N/A, STDEVP('B) Eingabe (Lehrer)'!D64:AH64))","v":{"$error":"#N/A"}},{"$error":"#N/A"},{"$f":"COUNT('B) Eingabe (Lehrer)'!D64:AH64)","v":0},{"$f":"IF(N56<1,#N/A,COUNTIF('B) Eingabe (Lehrer)'!D64:AH64,1))","v":{"$error":"#N/A"}},{"$f":"IF(N56<1,#N/A,COUNTIF('B) Eingabe (Lehrer)'!D64:AH64,2))","v":{"$error":"#N/A"}},{"$f":"IF(N56<1,#N/A,COUNTIF('B) Eingabe (Lehrer)'!D64:AH64,3))","v":{"$error":"#N/A"}},{"$f":"IF(N56<1,#N/A,COUNTIF('B) Eingabe (Lehrer)'!D64:AH64,4))","v":{"$error":"#N/A"}},{"$f":"IF('B) Eingabe (Lehrer)'!C64=\"\", #N/A, 'B) Eingabe (Lehrer)'!C64)","v":{"$error":"#N/A"}}]
[{"$f":"FragenErstellen!A61","v":55},{"$f":"IF(E57=0, #N/A,AVERAGE('B) Eingabe (Schüler)'!C65:AH65))","v":{"$error":"#N/A"}},{"$f":"IF(E57<2, #N/A, STDEVP('B) Eingabe (Schüler)'!C65:AH65))","v":{"$error":"#N/A"}},{"$error":"#N/A"},{"$f":"COUNT('B) Eingabe (Schüler)'!C65:AH65)","v":0},{"$f":"IF(E57<2,#N/A,COUNTIF('B) Eingabe (Schüler)'!C65:AH65,1))","v":{"$error":"#N/A"}},{"$f":"IF(E57<2,#N/A,COUNTIF('B) Eingabe (Schüler)'!C65:AH65,2))","v":{"$error":"#N/A"}},{"$f":"IF(E57<2,#N/A,COUNTIF('B) Eingabe (Schüler)'!C65:AH65,3))","v":{"$error":"#N/A"}},{"$f":"IF(E57<2,#N/A,COUNTIF('B) Eingabe (Schüler)'!C65:AH65,4))","v":{"$error":"#N/A"}},{"$f":"IF('B) Eingabe (Lehrer)'!C65=\"\", #N/A, 'B) Eingabe (Lehrer)'!C65)","v":{"$error":"#N/A"}},{"$f":"IF(N57=0, #N/A,AVERAGE('B) Eingabe (Lehrer)'!D65:AH65))","v":{"$error":"#N/A"}},{"$f":"IF(N57<1, #N/A, STDEVP('B) Eingabe (Lehrer)'!D65:AH65))","v":{"$error":"#N/A"}},{"$error":"#N/A"},{"$f":"COUNT('B) Eingabe (Lehrer)'!D65:AH65)","v":0},{"$f":"IF(N57<1,#N/A,COUNTIF('B) Eingabe (Lehrer)'!D65:AH65,1))","v":{"$error":"#N/A"}},{"$f":"IF(N57<1,#N/A,COUNTIF('B) Eingabe (Lehrer)'!D65:AH65,2))","v":{"$error":"#N/A"}},{"$f":"IF(N57<1,#N/A,COUNTIF('B) Eingabe (Lehrer)'!D65:AH65,3))","v":{"$error":"#N/A"}},{"$f":"IF(N57<1,#N/A,COUNTIF('B) Eingabe (Lehrer)'!D65:AH65,4))","v":{"$error":"#N/A"}},{"$f":"IF('B) Eingabe (Lehrer)'!C65=\"\", #N/A, 'B) Eingabe (Lehrer)'!C65)","v":{"$error":"#N/A"}}]
[{"$f":"FragenErstellen!A62","v":56},{"$f":"IF(E58=0, #N/A,AVERAGE('B) Eingabe (Schüler)'!C66:AH66))","v":{"$error":"#N/A"}},{"$f":"IF(E58<2, #N/A, STDEVP('B) Eingabe (Schüler)'!C66:AH66))","v":{"$error":"#N/A"}},{"$error":"#N/A"},{"$f":"COUNT('B) Eingabe (Schüler)'!C66:AH66)","v":0},{"$f":"IF(E58<2,#N/A,COUNTIF('B) Eingabe (Schüler)'!C66:AH66,1))","v":{"$error":"#N/A"}},{"$f":"IF(E58<2,#N/A,COUNTIF('B) Eingabe (Schüler)'!C66:AH66,2))","v":{"$error":"#N/A"}},{"$f":"IF(E58<2,#N/A,COUNTIF('B) Eingabe (Schüler)'!C66:AH66,3))","v":{"$error":"#N/A"}},{"$f":"IF(E58<2,#N/A,COUNTIF('B) Eingabe (Schüler)'!C66:AH66,4))","v":{"$error":"#N/A"}},{"$f":"IF('B) Eingabe (Lehrer)'!C66=\"\", #N/A, 'B) Eingabe (Lehrer)'!C66)","v":{"$error":"#N/A"}},{"$f":"IF(N58=0, #N/A,AVERAGE('B) Eingabe (Lehrer)'!D66:AH66))","v":{"$error":"#N/A"}},{"$f":"IF(N58<1, #N/A, STDEVP('B) Eingabe (Lehrer)'!D66:AH66))","v":{"$error":"#N/A"}},{"$error":"#N/A"},{"$f":"COUNT('B) Eingabe (Lehrer)'!D66:AH66)","v":0},{"$f":"IF(N58<1,#N/A,COUNTIF('B) Eingabe (Lehrer)'!D66:AH66,1))","v":{"$error":"#N/A"}},{"$f":"IF(N58<1,#N/A,COUNTIF('B) Eingabe (Lehrer)'!D66:AH66,2))","v":{"$error":"#N/A"}},{"$f":"IF(N58<1,#N/A,COUNTIF('B) Eingabe (Lehrer)'!D66:AH66,3))","v":{"$error":"#N/A"}},{"$f":"IF(N58<1,#N/A,COUNTIF('B) Eingabe (Lehrer)'!D66:AH66,4))","v":{"$error":"#N/A"}},{"$f":"IF('B) Eingabe (Lehrer)'!C66=\"\", #N/A, 'B) Eingabe (Lehrer)'!C66)","v":{"$error":"#N/A"}}]
[{"$f":"FragenErstellen!A63","v":57},{"$f":"IF(E59=0, #N/A,AVERAGE('B) Eingabe (Schüler)'!C67:AH67))","v":{"$error":"#N/A"}},{"$f":"IF(E59<2, #N/A, STDEVP('B) Eingabe (Schüler)'!C67:AH67))","v":{"$error":"#N/A"}},{"$error":"#N/A"},{"$f":"COUNT('B) Eingabe (Schüler)'!C67:AH67)","v":0},{"$f":"IF(E59<2,#N/A,COUNTIF('B) Eingabe (Schüler)'!C67:AH67,1))","v":{"$error":"#N/A"}},{"$f":"IF(E59<2,#N/A,COUNTIF('B) Eingabe (Schüler)'!C67:AH67,2))","v":{"$error":"#N/A"}},{"$f":"IF(E59<2,#N/A,COUNTIF('B) Eingabe (Schüler)'!C67:AH67,3))","v":{"$error":"#N/A"}},{"$f":"IF(E59<2,#N/A,COUNTIF('B) Eingabe (Schüler)'!C67:AH67,4))","v":{"$error":"#N/A"}},{"$f":"IF('B) Eingabe (Lehrer)'!C67=\"\", #N/A, 'B) Eingabe (Lehrer)'!C67)","v":{"$error":"#N/A"}},{"$f":"IF(N59=0, #N/A,AVERAGE('B) Eingabe (Lehrer)'!D67:AH67))","v":{"$error":"#N/A"}},{"$f":"IF(N59<1, #N/A, STDEVP('B) Eingabe (Lehrer)'!D67:AH67))","v":{"$error":"#N/A"}},{"$error":"#N/A"},{"$f":"COUNT('B) Eingabe (Lehrer)'!D67:AH67)","v":0},{"$f":"IF(N59<1,#N/A,COUNTIF('B) Eingabe (Lehrer)'!D67:AH67,1))","v":{"$error":"#N/A"}},{"$f":"IF(N59<1,#N/A,COUNTIF('B) Eingabe (Lehrer)'!D67:AH67,2))","v":{"$error":"#N/A"}},{"$f":"IF(N59<1,#N/A,COUNTIF('B) Eingabe (Lehrer)'!D67:AH67,3))","v":{"$error":"#N/A"}},{"$f":"IF(N59<1,#N/A,COUNTIF('B) Eingabe (Lehrer)'!D67:AH67,4))","v":{"$error":"#N/A"}},{"$f":"IF('B) Eingabe (Lehrer)'!C67=\"\", #N/A, 'B) Eingabe (Lehrer)'!C67)","v":{"$error":"#N/A"}}]
[{"$f":"FragenErstellen!A64","v":58},{"$f":"IF(E60=0, #N/A,AVERAGE('B) Eingabe (Schüler)'!C68:AH68))","v":{"$error":"#N/A"}},{"$f":"IF(E60<2, #N/A, STDEVP('B) Eingabe (Schüler)'!C68:AH68))","v":{"$error":"#N/A"}},{"$error":"#N/A"},{"$f":"COUNT('B) Eingabe (Schüler)'!C68:AH68)","v":0},{"$f":"IF(E60<2,#N/A,COUNTIF('B) Eingabe (Schüler)'!C68:AH68,1))","v":{"$error":"#N/A"}},{"$f":"IF(E60<2,#N/A,COUNTIF('B) Eingabe (Schüler)'!C68:AH68,2))","v":{"$error":"#N/A"}},{"$f":"IF(E60<2,#N/A,COUNTIF('B) Eingabe (Schüler)'!C68:AH68,3))","v":{"$error":"#N/A"}},{"$f":"IF(E60<2,#N/A,COUNTIF('B) Eingabe (Schüler)'!C68:AH68,4))","v":{"$error":"#N/A"}},{"$f":"IF('B) Eingabe (Lehrer)'!C68=\"\", #N/A, 'B) Eingabe (Lehrer)'!C68)","v":{"$error":"#N/A"}},{"$f":"IF(N60=0, #N/A,AVERAGE('B) Eingabe (Lehrer)'!D68:AH68))","v":{"$error":"#N/A"}},{"$f":"IF(N60<1, #N/A, STDEVP('B) Eingabe (Lehrer)'!D68:AH68))","v":{"$error":"#N/A"}},{"$error":"#N/A"},{"$f":"COUNT('B) Eingabe (Lehrer)'!D68:AH68)","v":0},{"$f":"IF(N60<1,#N/A,COUNTIF('B) Eingabe (Lehrer)'!D68:AH68,1))","v":{"$error":"#N/A"}},{"$f":"IF(N60<1,#N/A,COUNTIF('B) Eingabe (Lehrer)'!D68:AH68,2))","v":{"$error":"#N/A"}},{"$f":"IF(N60<1,#N/A,COUNTIF('B) Eingabe (Lehrer)'!D68:AH68,3))","v":{"$error":"#N/A"}},{"$f":"IF(N60<1,#N/A,COUNTIF('B) Eingabe (Lehrer)'!D68:AH68,4))","v":{"$error":"#N/A"}},{"$f":"IF('B) Eingabe (Lehrer)'!C68=\"\", #N/A, 'B) Eingabe (Lehrer)'!C68)","v":{"$error":"#N/A"}}]
[{"$f":"FragenErstellen!A65","v":59},{"$f":"IF(E61=0, #N/A,AVERAGE('B) Eingabe (Schüler)'!C69:AH69))","v":{"$error":"#N/A"}},{"$f":"IF(E61<2, #N/A, STDEVP('B) Eingabe (Schüler)'!C69:AH69))","v":{"$error":"#N/A"}},{"$error":"#N/A"},{"$f":"COUNT('B) Eingabe (Schüler)'!C69:AH69)","v":0},{"$f":"IF(E61<2,#N/A,COUNTIF('B) Eingabe (Schüler)'!C69:AH69,1))","v":{"$error":"#N/A"}},{"$f":"IF(E61<2,#N/A,COUNTIF('B) Eingabe (Schüler)'!C69:AH69,2))","v":{"$error":"#N/A"}},{"$f":"IF(E61<2,#N/A,COUNTIF('B) Eingabe (Schüler)'!C69:AH69,3))","v":{"$error":"#N/A"}},{"$f":"IF(E61<2,#N/A,COUNTIF('B) Eingabe (Schüler)'!C69:AH69,4))","v":{"$error":"#N/A"}},{"$f":"IF('B) Eingabe (Lehrer)'!C69=\"\", #N/A, 'B) Eingabe (Lehrer)'!C69)","v":{"$error":"#N/A"}},{"$f":"IF(N61=0, #N/A,AVERAGE('B) Eingabe (Lehrer)'!D69:AH69))","v":{"$error":"#N/A"}},{"$f":"IF(N61<1, #N/A, STDEVP('B) Eingabe (Lehrer)'!D69:AH69))","v":{"$error":"#N/A"}},{"$error":"#N/A"},{"$f":"COUNT('B) Eingabe (Lehrer)'!D69:AH69)","v":0},{"$f":"IF(N61<1,#N/A,COUNTIF('B) Eingabe (Lehrer)'!D69:AH69,1))","v":{"$error":"#N/A"}},{"$f":"IF(N61<1,#N/A,COUNTIF('B) Eingabe (Lehrer)'!D69:AH69,2))","v":{"$error":"#N/A"}},{"$f":"IF(N61<1,#N/A,COUNTIF('B) Eingabe (Lehrer)'!D69:AH69,3))","v":{"$error":"#N/A"}},{"$f":"IF(N61<1,#N/A,COUNTIF('B) Eingabe (Lehrer)'!D69:AH69,4))","v":{"$error":"#N/A"}},{"$f":"IF('B) Eingabe (Lehrer)'!C69=\"\", #N/A, 'B) Eingabe (Lehrer)'!C69)","v":{"$error":"#N/A"}}]
[{"$f":"FragenErstellen!A66","v":60},{"$f":"IF(E62=0, #N/A,AVERAGE('B) Eingabe (Schüler)'!C70:AH70))","v":{"$error":"#N/A"}},{"$f":"IF(E62<2, #N/A, STDEVP('B) Eingabe (Schüler)'!C70:AH70))","v":{"$error":"#N/A"}},{"$error":"#N/A"},{"$f":"COUNT('B) Eingabe (Schüler)'!C70:AH70)","v":0},{"$f":"IF(E62<2,#N/A,COUNTIF('B) Eingabe (Schüler)'!C70:AH70,1))","v":{"$error":"#N/A"}},{"$f":"IF(E62<2,#N/A,COUNTIF('B) Eingabe (Schüler)'!C70:AH70,2))","v":{"$error":"#N/A"}},{"$f":"IF(E62<2,#N/A,COUNTIF('B) Eingabe (Schüler)'!C70:AH70,3))","v":{"$error":"#N/A"}},{"$f":"IF(E62<2,#N/A,COUNTIF('B) Eingabe (Schüler)'!C70:AH70,4))","v":{"$error":"#N/A"}},{"$f":"IF('B) Eingabe (Lehrer)'!C70=\"\", #N/A, 'B) Eingabe (Lehrer)'!C70)","v":{"$error":"#N/A"}},{"$f":"IF(N62=0, #N/A,AVERAGE('B) Eingabe (Lehrer)'!D70:AH70))","v":{"$error":"#N/A"}},{"$f":"IF(N62<1, #N/A, STDEVP('B) Eingabe (Lehrer)'!D70:AH70))","v":{"$error":"#N/A"}},{"$error":"#N/A"},{"$f":"COUNT('B) Eingabe (Lehrer)'!D70:AH70)","v":0},{"$f":"IF(N62<1,#N/A,COUNTIF('B) Eingabe (Lehrer)'!D70:AH70,1))","v":{"$error":"#N/A"}},{"$f":"IF(N62<1,#N/A,COUNTIF('B) Eingabe (Lehrer)'!D70:AH70,2))","v":{"$error":"#N/A"}},{"$f":"IF(N62<1,#N/A,COUNTIF('B) Eingabe (Lehrer)'!D70:AH70,3))","v":{"$error":"#N/A"}},{"$f":"IF(N62<1,#N/A,COUNTIF('B) Eingabe (Lehrer)'!D70:AH70,4))","v":{"$error":"#N/A"}},{"$f":"IF('B) Eingabe (Lehrer)'!C70=\"\", #N/A, 'B) Eingabe (Lehrer)'!C70)","v":{"$error":"#N/A"}}]
[{"$f":"FragenErstellen!A67","v":0},{"$f":"IF(E63=0, #N/A,AVERAGE('B) Eingabe (Schüler)'!C71:AH71))","v":{"$error":"#N/A"}},{"$f":"IF(E63<2, #N/A, STDEVP('B) Eingabe (Schüler)'!C71:AH71))","v":{"$error":"#N/A"}},{"$error":"#N/A"},{"$f":"COUNT('B) Eingabe (Schüler)'!C71:AH71)","v":0},{"$f":"IF(E63<2,#N/A,COUNTIF('B) Eingabe (Schüler)'!C71:AH71,1))","v":{"$error":"#N/A"}},{"$f":"IF(E63<2,#N/A,COUNTIF('B) Eingabe (Schüler)'!C71:AH71,2))","v":{"$error":"#N/A"}},{"$f":"IF(E63<2,#N/A,COUNTIF('B) Eingabe (Schüler)'!C71:AH71,3))","v":{"$error":"#N/A"}},{"$f":"IF(E63<2,#N/A,COUNTIF('B) Eingabe (Schüler)'!C71:AH71,4))","v":{"$error":"#N/A"}},{"$f":"IF('B) Eingabe (Lehrer)'!C71=\"\", #N/A, 'B) Eingabe (Lehrer)'!C71)","v":{"$error":"#N/A"}},{"$f":"IF(N63=0, #N/A,AVERAGE('B) Eingabe (Lehrer)'!D71:AH71))","v":{"$error":"#N/A"}},{"$f":"IF(N63<1, #N/A, STDEVP('B) Eingabe (Lehrer)'!D71:AH71))","v":{"$error":"#N/A"}},{"$error":"#N/A"},{"$f":"COUNT('B) Eingabe (Lehrer)'!D71:AH71)","v":0},{"$f":"IF(N63<1,#N/A,COUNTIF('B) Eingabe (Lehrer)'!D71:AH71,1))","v":{"$error":"#N/A"}},{"$f":"IF(N63<1,#N/A,COUNTIF('B) Eingabe (Lehrer)'!D71:AH71,2))","v":{"$error":"#N/A"}},{"$f":"IF(N63<1,#N/A,COUNTIF('B) Eingabe (Lehrer)'!D71:AH71,3))","v":{"$error":"#N/A"}},{"$f":"IF(N63<1,#N/A,COUNTIF('B) Eingabe (Lehrer)'!D71:AH71,4))","v":{"$error":"#N/A"}},{"$f":"IF('B) Eingabe (Lehrer)'!C71=\"\", #N/A, 'B) Eingabe (Lehrer)'!C71)","v":{"$error":"#N/A"}}]
[{"$f":"FragenErstellen!A68","v":0},{"$f":"IF(E64=0, #N/A,AVERAGE('B) Eingabe (Schüler)'!C72:AH72))","v":{"$error":"#N/A"}},{"$f":"IF(E64<2, #N/A, STDEVP('B) Eingabe (Schüler)'!C72:AH72))","v":{"$error":"#N/A"}},{"$error":"#N/A"},{"$f":"COUNT('B) Eingabe (Schüler)'!C72:AH72)","v":0},{"$f":"IF(E64<2,#N/A,COUNTIF('B) Eingabe (Schüler)'!C72:AH72,1))","v":{"$error":"#N/A"}},{"$f":"IF(E64<2,#N/A,COUNTIF('B) Eingabe (Schüler)'!C72:AH72,2))","v":{"$error":"#N/A"}},{"$f":"IF(E64<2,#N/A,COUNTIF('B) Eingabe (Schüler)'!C72:AH72,3))","v":{"$error":"#N/A"}},{"$f":"IF(E64<2,#N/A,COUNTIF('B) Eingabe (Schüler)'!C72:AH72,4))","v":{"$error":"#N/A"}},{"$f":"IF('B) Eingabe (Lehrer)'!C72=\"\", #N/A, 'B) Eingabe (Lehrer)'!C72)","v":{"$error":"#N/A"}},{"$f":"IF(N64=0, #N/A,AVERAGE('B) Eingabe (Lehrer)'!D72:AH72))","v":{"$error":"#N/A"}},{"$f":"IF(N64<1, #N/A, STDEVP('B) Eingabe (Lehrer)'!D72:AH72))","v":{"$error":"#N/A"}},{"$error":"#N/A"},{"$f":"COUNT('B) Eingabe (Lehrer)'!D72:AH72)","v":0},{"$f":"IF(N64<1,#N/A,COUNTIF('B) Eingabe (Lehrer)'!D72:AH72,1))","v":{"$error":"#N/A"}},{"$f":"IF(N64<1,#N/A,COUNTIF('B) Eingabe (Lehrer)'!D72:AH72,2))","v":{"$error":"#N/A"}},{"$f":"IF(N64<1,#N/A,COUNTIF('B) Eingabe (Lehrer)'!D72:AH72,3))","v":{"$error":"#N/A"}},{"$f":"IF(N64<1,#N/A,COUNTIF('B) Eingabe (Lehrer)'!D72:AH72,4))","v":{"$error":"#N/A"}},{"$f":"IF('B) Eingabe (Lehrer)'!C72=\"\", #N/A, 'B) Eingabe (Lehrer)'!C72)","v":{"$error":"#N/A"}}]
[{"$f":"FragenErstellen!A69","v":0},{"$f":"IF(E65=0, #N/A,AVERAGE('B) Eingabe (Schüler)'!C73:AH73))","v":{"$error":"#N/A"}},{"$f":"IF(E65<2, #N/A, STDEVP('B) Eingabe (Schüler)'!C73:AH73))","v":{"$error":"#N/A"}},{"$error":"#N/A"},{"$f":"COUNT('B) Eingabe (Schüler)'!C73:AH73)","v":0},{"$f":"IF(E65<2,#N/A,COUNTIF('B) Eingabe (Schüler)'!C73:AH73,1))","v":{"$error":"#N/A"}},{"$f":"IF(E65<2,#N/A,COUNTIF('B) Eingabe (Schüler)'!C73:AH73,2))","v":{"$error":"#N/A"}},{"$f":"IF(E65<2,#N/A,COUNTIF('B) Eingabe (Schüler)'!C73:AH73,3))","v":{"$error":"#N/A"}},{"$f":"IF(E65<2,#N/A,COUNTIF('B) Eingabe (Schüler)'!C73:AH73,4))","v":{"$error":"#N/A"}},{"$f":"IF('B) Eingabe (Lehrer)'!C73=\"\", #N/A, 'B) Eingabe (Lehrer)'!C73)","v":{"$error":"#N/A"}},{"$f":"IF(N65=0, #N/A,AVERAGE('B) Eingabe (Lehrer)'!D73:AH73))","v":{"$error":"#N/A"}},{"$f":"IF(N65<1, #N/A, STDEVP('B) Eingabe (Lehrer)'!D73:AH73))","v":{"$error":"#N/A"}},{"$error":"#N/A"},{"$f":"COUNT('B) Eingabe (Lehrer)'!D73:AH73)","v":0},{"$f":"IF(N65<1,#N/A,COUNTIF('B) Eingabe (Lehrer)'!D73:AH73,1))","v":{"$error":"#N/A"}},{"$f":"IF(N65<1,#N/A,COUNTIF('B) Eingabe (Lehrer)'!D73:AH73,2))","v":{"$error":"#N/A"}},{"$f":"IF(N65<1,#N/A,COUNTIF('B) Eingabe (Lehrer)'!D73:AH73,3))","v":{"$error":"#N/A"}},{"$f":"IF(N65<1,#N/A,COUNTIF('B) Eingabe (Lehrer)'!D73:AH73,4))","v":{"$error":"#N/A"}},{"$f":"IF('B) Eingabe (Lehrer)'!C73=\"\", #N/A, 'B) Eingabe (Lehrer)'!C73)","v":{"$error":"#N/A"}}]
[{"$f":"FragenErstellen!A70","v":0},{"$f":"IF(E66=0, #N/A,AVERAGE('B) Eingabe (Schüler)'!C74:AH74))","v":{"$error":"#N/A"}},{"$f":"IF(E66<2, #N/A, STDEVP('B) Eingabe (Schüler)'!C74:AH74))","v":{"$error":"#N/A"}},{"$error":"#N/A"},{"$f":"COUNT('B) Eingabe (Schüler)'!C74:AH74)","v":0},{"$f":"IF(E66<2,#N/A,COUNTIF('B) Eingabe (Schüler)'!C74:AH74,1))","v":{"$error":"#N/A"}},{"$f":"IF(E66<2,#N/A,COUNTIF('B) Eingabe (Schüler)'!C74:AH74,2))","v":{"$error":"#N/A"}},{"$f":"IF(E66<2,#N/A,COUNTIF('B) Eingabe (Schüler)'!C74:AH74,3))","v":{"$error":"#N/A"}},{"$f":"IF(E66<2,#N/A,COUNTIF('B) Eingabe (Schüler)'!C74:AH74,4))","v":{"$error":"#N/A"}},{"$f":"IF('B) Eingabe (Lehrer)'!C74=\"\", #N/A, 'B) Eingabe (Lehrer)'!C74)","v":{"$error":"#N/A"}},{"$f":"IF(N66=0, #N/A,AVERAGE('B) Eingabe (Lehrer)'!D74:AH74))","v":{"$error":"#N/A"}},{"$f":"IF(N66<1, #N/A, STDEVP('B) Eingabe (Lehrer)'!D74:AH74))","v":{"$error":"#N/A"}},{"$error":"#N/A"},{"$f":"COUNT('B) Eingabe (Lehrer)'!D74:AH74)","v":0},{"$f":"IF(N66<1,#N/A,COUNTIF('B) Eingabe (Lehrer)'!D74:AH74,1))","v":{"$error":"#N/A"}},{"$f":"IF(N66<1,#N/A,COUNTIF('B) Eingabe (Lehrer)'!D74:AH74,2))","v":{"$error":"#N/A"}},{"$f":"IF(N66<1,#N/A,COUNTIF('B) Eingabe (Lehrer)'!D74:AH74,3))","v":{"$error":"#N/A"}},{"$f":"IF(N66<1,#N/A,COUNTIF('B) Eingabe (Lehrer)'!D74:AH74,4))","v":{"$error":"#N/A"}},{"$f":"IF('B) Eingabe (Lehrer)'!C74=\"\", #N/A, 'B) Eingabe (Lehrer)'!C74)","v":{"$error":"#N/A"}}]
[{"$f":"FragenErstellen!A71","v":0},{"$f":"IF(E67=0, #N/A,AVERAGE('B) Eingabe (Schüler)'!C75:AH75))","v":{"$error":"#N/A"}},{"$f":"IF(E67<2, #N/A, STDEVP('B) Eingabe (Schüler)'!C75:AH75))","v":{"$error":"#N/A"}},{"$error":"#N/A"},{"$f":"COUNT('B) Eingabe (Schüler)'!C75:AH75)","v":0},{"$f":"IF(E67<2,#N/A,COUNTIF('B) Eingabe (Schüler)'!C75:AH75,1))","v":{"$error":"#N/A"}},{"$f":"IF(E67<2,#N/A,COUNTIF('B) Eingabe (Schüler)'!C75:AH75,2))","v":{"$error":"#N/A"}},{"$f":"IF(E67<2,#N/A,COUNTIF('B) Eingabe (Schüler)'!C75:AH75,3))","v":{"$error":"#N/A"}},{"$f":"IF(E67<2,#N/A,COUNTIF('B) Eingabe (Schüler)'!C75:AH75,4))","v":{"$error":"#N/A"}},{"$f":"IF('B) Eingabe (Lehrer)'!C75=\"\", #N/A, 'B) Eingabe (Lehrer)'!C75)","v":{"$error":"#N/A"}},{"$f":"IF(N67=0, #N/A,AVERAGE('B) Eingabe (Lehrer)'!D75:AH75))","v":{"$error":"#N/A"}},{"$f":"IF(N67<1, #N/A, STDEVP('B) Eingabe (Lehrer)'!D75:AH75))","v":{"$error":"#N/A"}},{"$error":"#N/A"},{"$f":"COUNT('B) Eingabe (Lehrer)'!D75:AH75)","v":0},{"$f":"IF(N67<1,#N/A,COUNTIF('B) Eingabe (Lehrer)'!D75:AH75,1))","v":{"$error":"#N/A"}},{"$f":"IF(N67<1,#N/A,COUNTIF('B) Eingabe (Lehrer)'!D75:AH75,2))","v":{"$error":"#N/A"}},{"$f":"IF(N67<1,#N/A,COUNTIF('B) Eingabe (Lehrer)'!D75:AH75,3))","v":{"$error":"#N/A"}},{"$f":"IF(N67<1,#N/A,COUNTIF('B) Eingabe (Lehrer)'!D75:AH75,4))","v":{"$error":"#N/A"}},{"$f":"IF('B) Eingabe (Lehrer)'!C75=\"\", #N/A, 'B) Eingabe (Lehrer)'!C75)","v":{"$error":"#N/A"}}]
[{"$f":"FragenErstellen!A72","v":0},{"$f":"IF(E68=0, #N/A,AVERAGE('B) Eingabe (Schüler)'!C76:AH76))","v":{"$error":"#N/A"}},{"$f":"IF(E68<2, #N/A, STDEVP('B) Eingabe (Schüler)'!C76:AH76))","v":{"$error":"#N/A"}},{"$f":"IF(E68<2, #N/A, 100*(H68+I68)/E68)","v":{"$error":"#N/A"}},{"$f":"COUNT('B) Eingabe (Schüler)'!C76:AH76)","v":0},{"$f":"IF(E68<2,#N/A,COUNTIF('B) Eingabe (Schüler)'!C76:AH76,1))","v":{"$error":"#N/A"}},{"$f":"IF(E68<2,#N/A,COUNTIF('B) Eingabe (Schüler)'!C76:AH76,2))","v":{"$error":"#N/A"}},{"$f":"IF(E68<2,#N/A,COUNTIF('B) Eingabe (Schüler)'!C76:AH76,3))","v":{"$error":"#N/A"}},{"$f":"IF(E68<2,#N/A,COUNTIF('B) Eingabe (Schüler)'!C76:AH76,4))","v":{"$error":"#N/A"}},{"$f":"IF('B) Eingabe (Lehrer)'!C76=\"\", #N/A, 'B) Eingabe (Lehrer)'!C76)","v":{"$error":"#N/A"}},{"$f":"IF(N68=0, #N/A,AVERAGE('B) Eingabe (Lehrer)'!D76:AH76))","v":{"$error":"#N/A"}},{"$f":"IF(N68<1, #N/A, STDEVP('B) Eingabe (Lehrer)'!D76:AH76))","v":{"$error":"#N/A"}},{"$f":"IF(N68<1, #N/A, 100*(Q68+R68)/N68)","v":{"$error":"#N/A"}},{"$f":"COUNT('B) Eingabe (Lehrer)'!D76:AH76)","v":0},{"$f":"IF(N68<1,#N/A,COUNTIF('B) Eingabe (Lehrer)'!D76:AH76,1))","v":{"$error":"#N/A"}},{"$f":"IF(N68<1,#N/A,COUNTIF('B) Eingabe (Lehrer)'!D76:AH76,2))","v":{"$error":"#N/A"}},{"$f":"IF(N68<1,#N/A,COUNTIF('B) Eingabe (Lehrer)'!D76:AH76,3))","v":{"$error":"#N/A"}},{"$f":"IF(N68<1,#N/A,COUNTIF('B) Eingabe (Lehrer)'!D76:AH76,4))","v":{"$error":"#N/A"}},{"$f":"IF('B) Eingabe (Lehrer)'!C76=\"\", #N/A, 'B) Eingabe (Lehrer)'!C76)","v":{"$error":"#N/A"}}]
[{"$f":"FragenErstellen!A73","v":0},{"$f":"IF(E69=0, #N/A,AVERAGE('B) Eingabe (Schüler)'!C77:AH77))","v":{"$error":"#N/A"}},{"$f":"IF(E69<2, #N/A, STDEVP('B) Eingabe (Schüler)'!C77:AH77))","v":{"$error":"#N/A"}},{"$error":"#N/A"},{"$f":"COUNT('B) Eingabe (Schüler)'!C77:AH77)","v":0},{"$f":"IF(E69<2,#N/A,COUNTIF('B) Eingabe (Schüler)'!C77:AH77,1))","v":{"$error":"#N/A"}},{"$f":"IF(E69<2,#N/A,COUNTIF('B) Eingabe (Schüler)'!C77:AH77,2))","v":{"$error":"#N/A"}},{"$f":"IF(E69<2,#N/A,COUNTIF('B) Eingabe (Schüler)'!C77:AH77,3))","v":{"$error":"#N/A"}},{"$f":"IF(E69<2,#N/A,COUNTIF('B) Eingabe (Schüler)'!C77:AH77,4))","v":{"$error":"#N/A"}},{"$f":"IF('B) Eingabe (Lehrer)'!C77=\"\", #N/A, 'B) Eingabe (Lehrer)'!C77)","v":{"$error":"#N/A"}},{"$f":"IF(N69=0, #N/A,AVERAGE('B) Eingabe (Lehrer)'!D77:AH77))","v":{"$error":"#N/A"}},{"$f":"IF(N69<1, #N/A, STDEVP('B) Eingabe (Lehrer)'!D77:AH77))","v":{"$error":"#N/A"}},{"$error":"#N/A"},{"$f":"COUNT('B) Eingabe (Lehrer)'!D77:AH77)","v":0},{"$f":"IF(N69<1,#N/A,COUNTIF('B) Eingabe (Lehrer)'!D77:AH77,1))","v":{"$error":"#N/A"}},{"$f":"IF(N69<1,#N/A,COUNTIF('B) Eingabe (Lehrer)'!D77:AH77,2))","v":{"$error":"#N/A"}},{"$f":"IF(N69<1,#N/A,COUNTIF('B) Eingabe (Lehrer)'!D77:AH77,3))","v":{"$error":"#N/A"}},{"$f":"IF(N69<1,#N/A,COUNTIF('B) Eingabe (Lehrer)'!D77:AH77,4))","v":{"$error":"#N/A"}},{"$f":"IF('B) Eingabe (Lehrer)'!C77=\"\", #N/A, 'B) Eingabe (Lehrer)'!C77)","v":{"$error":"#N/A"}}]
[{"$f":"FragenErstellen!A74","v":0},{"$f":"IF(E70=0, #N/A,AVERAGE('B) Eingabe (Schüler)'!C78:AH78))","v":{"$error":"#N/A"}},{"$f":"IF(E70<2, #N/A, STDEVP('B) Eingabe (Schüler)'!C78:AH78))","v":{"$error":"#N/A"}},{"$error":"#N/A"},{"$f":"COUNT('B) Eingabe (Schüler)'!C78:AH78)","v":0},{"$f":"IF(E70<2,#N/A,COUNTIF('B) Eingabe (Schüler)'!C78:AH78,1))","v":{"$error":"#N/A"}},{"$f":"IF(E70<2,#N/A,COUNTIF('B) Eingabe (Schüler)'!C78:AH78,2))","v":{"$error":"#N/A"}},{"$f":"IF(E70<2,#N/A,COUNTIF('B) Eingabe (Schüler)'!C78:AH78,3))","v":{"$error":"#N/A"}},{"$f":"IF(E70<2,#N/A,COUNTIF('B) Eingabe (Schüler)'!C78:AH78,4))","v":{"$error":"#N/A"}},{"$f":"IF('B) Eingabe (Lehrer)'!C78=\"\", #N/A, 'B) Eingabe (Lehrer)'!C78)","v":{"$error":"#N/A"}},{"$f":"IF(N70=0, #N/A,AVERAGE('B) Eingabe (Lehrer)'!D78:AH78))","v":{"$error":"#N/A"}},{"$f":"IF(N70<1, #N/A, STDEVP('B) Eingabe (Lehrer)'!D78:AH78))","v":{"$error":"#N/A"}},{"$error":"#N/A"},{"$f":"COUNT('B) Eingabe (Lehrer)'!D78:AH78)","v":0},{"$f":"IF(N70<1,#N/A,COUNTIF('B) Eingabe (Lehrer)'!D78:AH78,1))","v":{"$error":"#N/A"}},{"$f":"IF(N70<1,#N/A,COUNTIF('B) Eingabe (Lehrer)'!D78:AH78,2))","v":{"$error":"#N/A"}},{"$f":"IF(N70<1,#N/A,COUNTIF('B) Eingabe (Lehrer)'!D78:AH78,3))","v":{"$error":"#N/A"}},{"$f":"IF(N70<1,#N/A,COUNTIF('B) Eingabe (Lehrer)'!D78:AH78,4))","v":{"$error":"#N/A"}},{"$f":"IF('B) Eingabe (Lehrer)'!C78=\"\", #N/A, 'B) Eingabe (Lehrer)'!C78)","v":{"$error":"#N/A"}}]
[{"$f":"FragenErstellen!A75","v":0},{"$f":"IF(E71=0, #N/A,AVERAGE('B) Eingabe (Schüler)'!C79:AH79))","v":{"$error":"#N/A"}},{"$f":"IF(E71<2, #N/A, STDEVP('B) Eingabe (Schüler)'!C79:AH79))","v":{"$error":"#N/A"}},{"$error":"#N/A"},{"$f":"COUNT('B) Eingabe (Schüler)'!C79:AH79)","v":0},{"$f":"IF(E71<2,#N/A,COUNTIF('B) Eingabe (Schüler)'!C79:AH79,1))","v":{"$error":"#N/A"}},{"$f":"IF(E71<2,#N/A,COUNTIF('B) Eingabe (Schüler)'!C79:AH79,2))","v":{"$error":"#N/A"}},{"$f":"IF(E71<2,#N/A,COUNTIF('B) Eingabe (Schüler)'!C79:AH79,3))","v":{"$error":"#N/A"}},{"$f":"IF(E71<2,#N/A,COUNTIF('B) Eingabe (Schüler)'!C79:AH79,4))","v":{"$error":"#N/A"}},{"$f":"IF('B) Eingabe (Lehrer)'!C79=\"\", #N/A, 'B) Eingabe (Lehrer)'!C79)","v":{"$error":"#N/A"}},{"$f":"IF(N71=0, #N/A,AVERAGE('B) Eingabe (Lehrer)'!D79:AH79))","v":{"$error":"#N/A"}},{"$f":"IF(N71<1, #N/A, STDEVP('B) Eingabe (Lehrer)'!D79:AH79))","v":{"$error":"#N/A"}},{"$error":"#N/A"},{"$f":"COUNT('B) Eingabe (Lehrer)'!D79:AH79)","v":0},{"$f":"IF(N71<1,#N/A,COUNTIF('B) Eingabe (Lehrer)'!D79:AH79,1))","v":{"$error":"#N/A"}},{"$f":"IF(N71<1,#N/A,COUNTIF('B) Eingabe (Lehrer)'!D79:AH79,2))","v":{"$error":"#N/A"}},{"$f":"IF(N71<1,#N/A,COUNTIF('B) Eingabe (Lehrer)'!D79:AH79,3))","v":{"$error":"#N/A"}},{"$f":"IF(N71<1,#N/A,COUNTIF('B) Eingabe (Lehrer)'!D79:AH79,4))","v":{"$error":"#N/A"}},{"$f":"IF('B) Eingabe (Lehrer)'!C79=\"\", #N/A, 'B) Eingabe (Lehrer)'!C79)","v":{"$error":"#N/A"}}]
[{"$f":"FragenErstellen!A76","v":0},{"$f":"IF(E72=0, #N/A,AVERAGE('B) Eingabe (Schüler)'!C80:AH80))","v":{"$error":"#N/A"}},{"$f":"IF(E72<2, #N/A, STDEVP('B) Eingabe (Schüler)'!C80:AH80))","v":{"$error":"#N/A"}},{"$error":"#N/A"},{"$f":"COUNT('B) Eingabe (Schüler)'!C80:AH80)","v":0},{"$f":"IF(E72<2,#N/A,COUNTIF('B) Eingabe (Schüler)'!C80:AH80,1))","v":{"$error":"#N/A"}},{"$f":"IF(E72<2,#N/A,COUNTIF('B) Eingabe (Schüler)'!C80:AH80,2))","v":{"$error":"#N/A"}},{"$f":"IF(E72<2,#N/A,COUNTIF('B) Eingabe (Schüler)'!C80:AH80,3))","v":{"$error":"#N/A"}},{"$f":"IF(E72<2,#N/A,COUNTIF('B) Eingabe (Schüler)'!C80:AH80,4))","v":{"$error":"#N/A"}},{"$f":"IF('B) Eingabe (Lehrer)'!C80=\"\", #N/A, 'B) Eingabe (Lehrer)'!C80)","v":{"$error":"#N/A"}},{"$f":"IF(N72=0, #N/A,AVERAGE('B) Eingabe (Lehrer)'!D80:AH80))","v":{"$error":"#N/A"}},{"$f":"IF(N72<1, #N/A, STDEVP('B) Eingabe (Lehrer)'!D80:AH80))","v":{"$error":"#N/A"}},{"$error":"#N/A"},{"$f":"COUNT('B) Eingabe (Lehrer)'!D80:AH80)","v":0},{"$f":"IF(N72<1,#N/A,COUNTIF('B) Eingabe (Lehrer)'!D80:AH80,1))","v":{"$error":"#N/A"}},{"$f":"IF(N72<1,#N/A,COUNTIF('B) Eingabe (Lehrer)'!D80:AH80,2))","v":{"$error":"#N/A"}},{"$f":"IF(N72<1,#N/A,COUNTIF('B) Eingabe (Lehrer)'!D80:AH80,3))","v":{"$error":"#N/A"}},{"$f":"IF(N72<1,#N/A,COUNTIF('B) Eingabe (Lehrer)'!D80:AH80,4))","v":{"$error":"#N/A"}},{"$f":"IF('B) Eingabe (Lehrer)'!C80=\"\", #N/A, 'B) Eingabe (Lehrer)'!C80)","v":{"$error":"#N/A"}}]
[{"$f":"FragenErstellen!A77","v":0},{"$f":"IF(E73=0, #N/A,AVERAGE('B) Eingabe (Schüler)'!C81:AH81))","v":{"$error":"#N/A"}},{"$f":"IF(E73<2, #N/A, STDEVP('B) Eingabe (Schüler)'!C81:AH81))","v":{"$error":"#N/A"}},{"$error":"#N/A"},{"$f":"COUNT('B) Eingabe (Schüler)'!C81:AH81)","v":0},{"$f":"IF(E73<2,#N/A,COUNTIF('B) Eingabe (Schüler)'!C81:AH81,1))","v":{"$error":"#N/A"}},{"$f":"IF(E73<2,#N/A,COUNTIF('B) Eingabe (Schüler)'!C81:AH81,2))","v":{"$error":"#N/A"}},{"$f":"IF(E73<2,#N/A,COUNTIF('B) Eingabe (Schüler)'!C81:AH81,3))","v":{"$error":"#N/A"}},{"$f":"IF(E73<2,#N/A,COUNTIF('B) Eingabe (Schüler)'!C81:AH81,4))","v":{"$error":"#N/A"}},{"$f":"IF('B) Eingabe (Lehrer)'!C81=\"\", #N/A, 'B) Eingabe (Lehrer)'!C81)","v":{"$error":"#N/A"}},{"$f":"IF(N73=0, #N/A,AVERAGE('B) Eingabe (Lehrer)'!D81:AH81))","v":{"$error":"#N/A"}},{"$f":"IF(N73<1, #N/A, STDEVP('B) Eingabe (Lehrer)'!D81:AH81))","v":{"$error":"#N/A"}},{"$error":"#N/A"},{"$f":"COUNT('B) Eingabe (Lehrer)'!D81:AH81)","v":0},{"$f":"IF(N73<1,#N/A,COUNTIF('B) Eingabe (Lehrer)'!D81:AH81,1))","v":{"$error":"#N/A"}},{"$f":"IF(N73<1,#N/A,COUNTIF('B) Eingabe (Lehrer)'!D81:AH81,2))","v":{"$error":"#N/A"}},{"$f":"IF(N73<1,#N/A,COUNTIF('B) Eingabe (Lehrer)'!D81:AH81,3))","v":{"$error":"#N/A"}},{"$f":"IF(N73<1,#N/A,COUNTIF('B) Eingabe (Lehrer)'!D81:AH81,4))","v":{"$error":"#N/A"}},{"$f":"IF('B) Eingabe (Lehrer)'!C81=\"\", #N/A, 'B) Eingabe (Lehrer)'!C81)","v":{"$error":"#N/A"}}]
[{"$f":"FragenErstellen!A78","v":0},{"$f":"IF(E74=0, #N/A,AVERAGE('B) Eingabe (Schüler)'!C82:AH82))","v":{"$error":"#N/A"}},{"$f":"IF(E74<2, #N/A, STDEVP('B) Eingabe (Schüler)'!C82:AH82))","v":{"$error":"#N/A"}},{"$error":"#N/A"},{"$f":"COUNT('B) Eingabe (Schüler)'!C82:AH82)","v":0},{"$f":"IF(E74<2,#N/A,COUNTIF('B) Eingabe (Schüler)'!C82:AH82,1))","v":{"$error":"#N/A"}},{"$f":"IF(E74<2,#N/A,COUNTIF('B) Eingabe (Schüler)'!C82:AH82,2))","v":{"$error":"#N/A"}},{"$f":"IF(E74<2,#N/A,COUNTIF('B) Eingabe (Schüler)'!C82:AH82,3))","v":{"$error":"#N/A"}},{"$f":"IF(E74<2,#N/A,COUNTIF('B) Eingabe (Schüler)'!C82:AH82,4))","v":{"$error":"#N/A"}},{"$f":"IF('B) Eingabe (Lehrer)'!C82=\"\", #N/A, 'B) Eingabe (Lehrer)'!C82)","v":{"$error":"#N/A"}},{"$f":"IF(N74=0, #N/A,AVERAGE('B) Eingabe (Lehrer)'!D82:AH82))","v":{"$error":"#N/A"}},{"$f":"IF(N74<1, #N/A, STDEVP('B) Eingabe (Lehrer)'!D82:AH82))","v":{"$error":"#N/A"}},{"$error":"#N/A"},{"$f":"COUNT('B) Eingabe (Lehrer)'!D82:AH82)","v":0},{"$f":"IF(N74<1,#N/A,COUNTIF('B) Eingabe (Lehrer)'!D82:AH82,1))","v":{"$error":"#N/A"}},{"$f":"IF(N74<1,#N/A,COUNTIF('B) Eingabe (Lehrer)'!D82:AH82,2))","v":{"$error":"#N/A"}},{"$f":"IF(N74<1,#N/A,COUNTIF('B) Eingabe (Lehrer)'!D82:AH82,3))","v":{"$error":"#N/A"}},{"$f":"IF(N74<1,#N/A,COUNTIF('B) Eingabe (Lehrer)'!D82:AH82,4))","v":{"$error":"#N/A"}},{"$f":"IF('B) Eingabe (Lehrer)'!C82=\"\", #N/A, 'B) Eingabe (Lehrer)'!C82)","v":{"$error":"#N/A"}}]
[{"$f":"FragenErstellen!A79","v":0},{"$f":"IF(E75=0, #N/A,AVERAGE('B) Eingabe (Schüler)'!C83:AH83))","v":{"$error":"#N/A"}},{"$f":"IF(E75<2, #N/A, STDEVP('B) Eingabe (Schüler)'!C83:AH83))","v":{"$error":"#N/A"}},{"$error":"#N/A"},{"$f":"COUNT('B) Eingabe (Schüler)'!C83:AH83)","v":0},{"$f":"IF(E75<2,#N/A,COUNTIF('B) Eingabe (Schüler)'!C83:AH83,1))","v":{"$error":"#N/A"}},{"$f":"IF(E75<2,#N/A,COUNTIF('B) Eingabe (Schüler)'!C83:AH83,2))","v":{"$error":"#N/A"}},{"$f":"IF(E75<2,#N/A,COUNTIF('B) Eingabe (Schüler)'!C83:AH83,3))","v":{"$error":"#N/A"}},{"$f":"IF(E75<2,#N/A,COUNTIF('B) Eingabe (Schüler)'!C83:AH83,4))","v":{"$error":"#N/A"}},{"$f":"IF('B) Eingabe (Lehrer)'!C83=\"\", #N/A, 'B) Eingabe (Lehrer)'!C83)","v":{"$error":"#N/A"}},{"$f":"IF(N75=0, #N/A,AVERAGE('B) Eingabe (Lehrer)'!D83:AH83))","v":{"$error":"#N/A"}},{"$f":"IF(N75<1, #N/A, STDEVP('B) Eingabe (Lehrer)'!D83:AH83))","v":{"$error":"#N/A"}},{"$error":"#N/A"},{"$f":"COUNT('B) Eingabe (Lehrer)'!D83:AH83)","v":0},{"$f":"IF(N75<1,#N/A,COUNTIF('B) Eingabe (Lehrer)'!D83:AH83,1))","v":{"$error":"#N/A"}},{"$f":"IF(N75<1,#N/A,COUNTIF('B) Eingabe (Lehrer)'!D83:AH83,2))","v":{"$error":"#N/A"}},{"$f":"IF(N75<1,#N/A,COUNTIF('B) Eingabe (Lehrer)'!D83:AH83,3))","v":{"$error":"#N/A"}},{"$f":"IF(N75<1,#N/A,COUNTIF('B) Eingabe (Lehrer)'!D83:AH83,4))","v":{"$error":"#N/A"}},{"$f":"IF('B) Eingabe (Lehrer)'!C83=\"\", #N/A, 'B) Eingabe (Lehrer)'!C83)","v":{"$error":"#N/A"}}]
[{"$f":"FragenErstellen!A80","v":0},{"$f":"IF(E76=0, #N/A,AVERAGE('B) Eingabe (Schüler)'!C84:AH84))","v":{"$error":"#N/A"}},{"$f":"IF(E76<2, #N/A, STDEVP('B) Eingabe (Schüler)'!C84:AH84))","v":{"$error":"#N/A"}},{"$error":"#N/A"},{"$f":"COUNT('B) Eingabe (Schüler)'!C84:AH84)","v":0},{"$f":"IF(E76<2,#N/A,COUNTIF('B) Eingabe (Schüler)'!C84:AH84,1))","v":{"$error":"#N/A"}},{"$f":"IF(E76<2,#N/A,COUNTIF('B) Eingabe (Schüler)'!C84:AH84,2))","v":{"$error":"#N/A"}},{"$f":"IF(E76<2,#N/A,COUNTIF('B) Eingabe (Schüler)'!C84:AH84,3))","v":{"$error":"#N/A"}},{"$f":"IF(E76<2,#N/A,COUNTIF('B) Eingabe (Schüler)'!C84:AH84,4))","v":{"$error":"#N/A"}},{"$f":"IF('B) Eingabe (Lehrer)'!C84=\"\", #N/A, 'B) Eingabe (Lehrer)'!C84)","v":{"$error":"#N/A"}},{"$f":"IF(N76=0, #N/A,AVERAGE('B) Eingabe (Lehrer)'!D84:AH84))","v":{"$error":"#N/A"}},{"$f":"IF(N76<1, #N/A, STDEVP('B) Eingabe (Lehrer)'!D84:AH84))","v":{"$error":"#N/A"}},{"$error":"#N/A"},{"$f":"COUNT('B) Eingabe (Lehrer)'!D84:AH84)","v":0},{"$f":"IF(N76<1,#N/A,COUNTIF('B) Eingabe (Lehrer)'!D84:AH84,1))","v":{"$error":"#N/A"}},{"$f":"IF(N76<1,#N/A,COUNTIF('B) Eingabe (Lehrer)'!D84:AH84,2))","v":{"$error":"#N/A"}},{"$f":"IF(N76<1,#N/A,COUNTIF('B) Eingabe (Lehrer)'!D84:AH84,3))","v":{"$error":"#N/A"}},{"$f":"IF(N76<1,#N/A,COUNTIF('B) Eingabe (Lehrer)'!D84:AH84,4))","v":{"$error":"#N/A"}},{"$f":"IF('B) Eingabe (Lehrer)'!C84=\"\", #N/A, 'B) Eingabe (Lehrer)'!C84)","v":{"$error":"#N/A"}}]
[{"$f":"FragenErstellen!A81","v":0},{"$f":"IF(E77=0, #N/A,AVERAGE('B) Eingabe (Schüler)'!C85:AH85))","v":{"$error":"#N/A"}},{"$f":"IF(E77<2, #N/A, STDEVP('B) Eingabe (Schüler)'!C85:AH85))","v":{"$error":"#N/A"}},{"$error":"#N/A"},{"$f":"COUNT('B) Eingabe (Schüler)'!C85:AH85)","v":0},{"$f":"IF(E77<2,#N/A,COUNTIF('B) Eingabe (Schüler)'!C85:AH85,1))","v":{"$error":"#N/A"}},{"$f":"IF(E77<2,#N/A,COUNTIF('B) Eingabe (Schüler)'!C85:AH85,2))","v":{"$error":"#N/A"}},{"$f":"IF(E77<2,#N/A,COUNTIF('B) Eingabe (Schüler)'!C85:AH85,3))","v":{"$error":"#N/A"}},{"$f":"IF(E77<2,#N/A,COUNTIF('B) Eingabe (Schüler)'!C85:AH85,4))","v":{"$error":"#N/A"}},{"$f":"IF('B) Eingabe (Lehrer)'!C85=\"\", #N/A, 'B) Eingabe (Lehrer)'!C85)","v":{"$error":"#N/A"}},{"$f":"IF(N77=0, #N/A,AVERAGE('B) Eingabe (Lehrer)'!D85:AH85))","v":{"$error":"#N/A"}},{"$f":"IF(N77<1, #N/A, STDEVP('B) Eingabe (Lehrer)'!D85:AH85))","v":{"$error":"#N/A"}},{"$error":"#N/A"},{"$f":"COUNT('B) Eingabe (Lehrer)'!D85:AH85)","v":0},{"$f":"IF(N77<1,#N/A,COUNTIF('B) Eingabe (Lehrer)'!D85:AH85,1))","v":{"$error":"#N/A"}},{"$f":"IF(N77<1,#N/A,COUNTIF('B) Eingabe (Lehrer)'!D85:AH85,2))","v":{"$error":"#N/A"}},{"$f":"IF(N77<1,#N/A,COUNTIF('B) Eingabe (Lehrer)'!D85:AH85,3))","v":{"$error":"#N/A"}},{"$f":"IF(N77<1,#N/A,COUNTIF('B) Eingabe (Lehrer)'!D85:AH85,4))","v":{"$error":"#N/A"}},{"$f":"IF('B) Eingabe (Lehrer)'!C85=\"\", #N/A, 'B) Eingabe (Lehrer)'!C85)","v":{"$error":"#N/A"}}]
[{"$f":"FragenErstellen!A82","v":0},{"$f":"IF(E78=0, #N/A,AVERAGE('B) Eingabe (Schüler)'!C86:AH86))","v":{"$error":"#N/A"}},{"$f":"IF(E78<2, #N/A, STDEVP('B) Eingabe (Schüler)'!C86:AH86))","v":{"$error":"#N/A"}},{"$error":"#N/A"},{"$f":"COUNT('B) Eingabe (Schüler)'!C86:AH86)","v":0},{"$f":"IF(E78<2,#N/A,COUNTIF('B) Eingabe (Schüler)'!C86:AH86,1))","v":{"$error":"#N/A"}},{"$f":"IF(E78<2,#N/A,COUNTIF('B) Eingabe (Schüler)'!C86:AH86,2))","v":{"$error":"#N/A"}},{"$f":"IF(E78<2,#N/A,COUNTIF('B) Eingabe (Schüler)'!C86:AH86,3))","v":{"$error":"#N/A"}},{"$f":"IF(E78<2,#N/A,COUNTIF('B) Eingabe (Schüler)'!C86:AH86,4))","v":{"$error":"#N/A"}},{"$f":"IF('B) Eingabe (Lehrer)'!C86=\"\", #N/A, 'B) Eingabe (Lehrer)'!C86)","v":{"$error":"#N/A"}},{"$f":"IF(N78=0, #N/A,AVERAGE('B) Eingabe (Lehrer)'!D86:AH86))","v":{"$error":"#N/A"}},{"$f":"IF(N78<1, #N/A, STDEVP('B) Eingabe (Lehrer)'!D86:AH86))","v":{"$error":"#N/A"}},{"$error":"#N/A"},{"$f":"COUNT('B) Eingabe (Lehrer)'!D86:AH86)","v":0},{"$f":"IF(N78<1,#N/A,COUNTIF('B) Eingabe (Lehrer)'!D86:AH86,1))","v":{"$error":"#N/A"}},{"$f":"IF(N78<1,#N/A,COUNTIF('B) Eingabe (Lehrer)'!D86:AH86,2))","v":{"$error":"#N/A"}},{"$f":"IF(N78<1,#N/A,COUNTIF('B) Eingabe (Lehrer)'!D86:AH86,3))","v":{"$error":"#N/A"}},{"$f":"IF(N78<1,#N/A,COUNTIF('B) Eingabe (Lehrer)'!D86:AH86,4))","v":{"$error":"#N/A"}},{"$f":"IF('B) Eingabe (Lehrer)'!C86=\"\", #N/A, 'B) Eingabe (Lehrer)'!C86)","v":{"$error":"#N/A"}}]
[{"$f":"FragenErstellen!A83","v":0},{"$f":"IF(E79=0, #N/A,AVERAGE('B) Eingabe (Schüler)'!C87:AH87))","v":{"$error":"#N/A"}},{"$f":"IF(E79<2, #N/A, STDEVP('B) Eingabe (Schüler)'!C87:AH87))","v":{"$error":"#N/A"}},{"$error":"#N/A"},{"$f":"COUNT('B) Eingabe (Schüler)'!C87:AH87)","v":0},{"$f":"IF(E79<2,#N/A,COUNTIF('B) Eingabe (Schüler)'!C87:AH87,1))","v":{"$error":"#N/A"}},{"$f":"IF(E79<2,#N/A,COUNTIF('B) Eingabe (Schüler)'!C87:AH87,2))","v":{"$error":"#N/A"}},{"$f":"IF(E79<2,#N/A,COUNTIF('B) Eingabe (Schüler)'!C87:AH87,3))","v":{"$error":"#N/A"}},{"$f":"IF(E79<2,#N/A,COUNTIF('B) Eingabe (Schüler)'!C87:AH87,4))","v":{"$error":"#N/A"}},{"$f":"IF('B) Eingabe (Lehrer)'!C87=\"\", #N/A, 'B) Eingabe (Lehrer)'!C87)","v":{"$error":"#N/A"}},{"$f":"IF(N79=0, #N/A,AVERAGE('B) Eingabe (Lehrer)'!D87:AH87))","v":{"$error":"#N/A"}},{"$f":"IF(N79<1, #N/A, STDEVP('B) Eingabe (Lehrer)'!D87:AH87))","v":{"$error":"#N/A"}},{"$error":"#N/A"},{"$f":"COUNT('B) Eingabe (Lehrer)'!D87:AH87)","v":0},{"$f":"IF(N79<1,#N/A,COUNTIF('B) Eingabe (Lehrer)'!D87:AH87,1))","v":{"$error":"#N/A"}},{"$f":"IF(N79<1,#N/A,COUNTIF('B) Eingabe (Lehrer)'!D87:AH87,2))","v":{"$error":"#N/A"}},{"$f":"IF(N79<1,#N/A,COUNTIF('B) Eingabe (Lehrer)'!D87:AH87,3))","v":{"$error":"#N/A"}},{"$f":"IF(N79<1,#N/A,COUNTIF('B) Eingabe (Lehrer)'!D87:AH87,4))","v":{"$error":"#N/A"}},{"$f":"IF('B) Eingabe (Lehrer)'!C87=\"\", #N/A, 'B) Eingabe (Lehrer)'!C87)","v":{"$error":"#N/A"}}]
[{"$f":"FragenErstellen!A84","v":0},{"$f":"IF(E80=0, #N/A,AVERAGE('B) Eingabe (Schüler)'!C88:AH88))","v":{"$error":"#N/A"}},{"$f":"IF(E80<2, #N/A, STDEVP('B) Eingabe (Schüler)'!C88:AH88))","v":{"$error":"#N/A"}},{"$error":"#N/A"},{"$f":"COUNT('B) Eingabe (Schüler)'!C88:AH88)","v":0},{"$f":"IF(E80<2,#N/A,COUNTIF('B) Eingabe (Schüler)'!C88:AH88,1))","v":{"$error":"#N/A"}},{"$f":"IF(E80<2,#N/A,COUNTIF('B) Eingabe (Schüler)'!C88:AH88,2))","v":{"$error":"#N/A"}},{"$f":"IF(E80<2,#N/A,COUNTIF('B) Eingabe (Schüler)'!C88:AH88,3))","v":{"$error":"#N/A"}},{"$f":"IF(E80<2,#N/A,COUNTIF('B) Eingabe (Schüler)'!C88:AH88,4))","v":{"$error":"#N/A"}},{"$f":"IF('B) Eingabe (Lehrer)'!C88=\"\", #N/A, 'B) Eingabe (Lehrer)'!C88)","v":{"$error":"#N/A"}},{"$f":"IF(N80=0, #N/A,AVERAGE('B) Eingabe (Lehrer)'!D88:AH88))","v":{"$error":"#N/A"}},{"$f":"IF(N80<1, #N/A, STDEVP('B) Eingabe (Lehrer)'!D88:AH88))","v":{"$error":"#N/A"}},{"$error":"#N/A"},{"$f":"COUNT('B) Eingabe (Lehrer)'!D88:AH88)","v":0},{"$f":"IF(N80<1,#N/A,COUNTIF('B) Eingabe (Lehrer)'!D88:AH88,1))","v":{"$error":"#N/A"}},{"$f":"IF(N80<1,#N/A,COUNTIF('B) Eingabe (Lehrer)'!D88:AH88,2))","v":{"$error":"#N/A"}},{"$f":"IF(N80<1,#N/A,COUNTIF('B) Eingabe (Lehrer)'!D88:AH88,3))","v":{"$error":"#N/A"}},{"$f":"IF(N80<1,#N/A,COUNTIF('B) Eingabe (Lehrer)'!D88:AH88,4))","v":{"$error":"#N/A"}},{"$f":"IF('B) Eingabe (Lehrer)'!C88=\"\", #N/A, 'B) Eingabe (Lehrer)'!C88)","v":{"$error":"#N/A"}}]
[{"$f":"FragenErstellen!A85","v":0},{"$f":"IF(E81=0, #N/A,AVERAGE('B) Eingabe (Schüler)'!C89:AH89))","v":{"$error":"#N/A"}},{"$f":"IF(E81<2, #N/A, STDEVP('B) Eingabe (Schüler)'!C89:AH89))","v":{"$error":"#N/A"}},{"$error":"#N/A"},{"$f":"COUNT('B) Eingabe (Schüler)'!C89:AH89)","v":0},{"$f":"IF(E81<2,#N/A,COUNTIF('B) Eingabe (Schüler)'!C89:AH89,1))","v":{"$error":"#N/A"}},{"$f":"IF(E81<2,#N/A,COUNTIF('B) Eingabe (Schüler)'!C89:AH89,2))","v":{"$error":"#N/A"}},{"$f":"IF(E81<2,#N/A,COUNTIF('B) Eingabe (Schüler)'!C89:AH89,3))","v":{"$error":"#N/A"}},{"$f":"IF(E81<2,#N/A,COUNTIF('B) Eingabe (Schüler)'!C89:AH89,4))","v":{"$error":"#N/A"}},{"$f":"IF('B) Eingabe (Lehrer)'!C89=\"\", #N/A, 'B) Eingabe (Lehrer)'!C89)","v":{"$error":"#N/A"}},{"$f":"IF(N81=0, #N/A,AVERAGE('B) Eingabe (Lehrer)'!D89:AH89))","v":{"$error":"#N/A"}},{"$f":"IF(N81<1, #N/A, STDEVP('B) Eingabe (Lehrer)'!D89:AH89))","v":{"$error":"#N/A"}},{"$error":"#N/A"},{"$f":"COUNT('B) Eingabe (Lehrer)'!D89:AH89)","v":0},{"$f":"IF(N81<1,#N/A,COUNTIF('B) Eingabe (Lehrer)'!D89:AH89,1))","v":{"$error":"#N/A"}},{"$f":"IF(N81<1,#N/A,COUNTIF('B) Eingabe (Lehrer)'!D89:AH89,2))","v":{"$error":"#N/A"}},{"$f":"IF(N81<1,#N/A,COUNTIF('B) Eingabe (Lehrer)'!D89:AH89,3))","v":{"$error":"#N/A"}},{"$f":"IF(N81<1,#N/A,COUNTIF('B) Eingabe (Lehrer)'!D89:AH89,4))","v":{"$error":"#N/A"}},{"$f":"IF('B) Eingabe (Lehrer)'!C89=\"\", #N/A, 'B) Eingabe (Lehrer)'!C89)","v":{"$error":"#N/A"}}]
[{"$f":"FragenErstellen!A86","v":0},{"$f":"IF(E82=0, #N/A,AVERAGE('B) Eingabe (Schüler)'!C90:AH90))","v":{"$error":"#N/A"}},{"$f":"IF(E82<2, #N/A, STDEVP('B) Eingabe (Schüler)'!C90:AH90))","v":{"$error":"#N/A"}},{"$error":"#N/A"},{"$f":"COUNT('B) Eingabe (Schüler)'!C90:AH90)","v":0},{"$f":"IF(E82<2,#N/A,COUNTIF('B) Eingabe (Schüler)'!C90:AH90,1))","v":{"$error":"#N/A"}},{"$f":"IF(E82<2,#N/A,COUNTIF('B) Eingabe (Schüler)'!C90:AH90,2))","v":{"$error":"#N/A"}},{"$f":"IF(E82<2,#N/A,COUNTIF('B) Eingabe (Schüler)'!C90:AH90,3))","v":{"$error":"#N/A"}},{"$f":"IF(E82<2,#N/A,COUNTIF('B) Eingabe (Schüler)'!C90:AH90,4))","v":{"$error":"#N/A"}},{"$f":"IF('B) Eingabe (Lehrer)'!C90=\"\", #N/A, 'B) Eingabe (Lehrer)'!C90)","v":{"$error":"#N/A"}},{"$f":"IF(N82=0, #N/A,AVERAGE('B) Eingabe (Lehrer)'!D90:AH90))","v":{"$error":"#N/A"}},{"$f":"IF(N82<1, #N/A, STDEVP('B) Eingabe (Lehrer)'!D90:AH90))","v":{"$error":"#N/A"}},{"$error":"#N/A"},{"$f":"COUNT('B) Eingabe (Lehrer)'!D90:AH90)","v":0},{"$f":"IF(N82<1,#N/A,COUNTIF('B) Eingabe (Lehrer)'!D90:AH90,1))","v":{"$error":"#N/A"}},{"$f":"IF(N82<1,#N/A,COUNTIF('B) Eingabe (Lehrer)'!D90:AH90,2))","v":{"$error":"#N/A"}},{"$f":"IF(N82<1,#N/A,COUNTIF('B) Eingabe (Lehrer)'!D90:AH90,3))","v":{"$error":"#N/A"}},{"$f":"IF(N82<1,#N/A,COUNTIF('B) Eingabe (Lehrer)'!D90:AH90,4))","v":{"$error":"#N/A"}},{"$f":"IF('B) Eingabe (Lehrer)'!C90=\"\", #N/A, 'B) Eingabe (Lehrer)'!C90)","v":{"$error":"#N/A"}}]
[{"$f":"FragenErstellen!A87","v":0},{"$f":"IF(E83=0, #N/A,AVERAGE('B) Eingabe (Schüler)'!C91:AH91))","v":{"$error":"#N/A"}},{"$f":"IF(E83<2, #N/A, STDEVP('B) Eingabe (Schüler)'!C91:AH91))","v":{"$error":"#N/A"}},{"$error":"#N/A"},{"$f":"COUNT('B) Eingabe (Schüler)'!C91:AH91)","v":0},{"$f":"IF(E83<2,#N/A,COUNTIF('B) Eingabe (Schüler)'!C91:AH91,1))","v":{"$error":"#N/A"}},{"$f":"IF(E83<2,#N/A,COUNTIF('B) Eingabe (Schüler)'!C91:AH91,2))","v":{"$error":"#N/A"}},{"$f":"IF(E83<2,#N/A,COUNTIF('B) Eingabe (Schüler)'!C91:AH91,3))","v":{"$error":"#N/A"}},{"$f":"IF(E83<2,#N/A,COUNTIF('B) Eingabe (Schüler)'!C91:AH91,4))","v":{"$error":"#N/A"}},{"$f":"IF('B) Eingabe (Lehrer)'!C91=\"\", #N/A, 'B) Eingabe (Lehrer)'!C91)","v":{"$error":"#N/A"}},{"$f":"IF(N83=0, #N/A,AVERAGE('B) Eingabe (Lehrer)'!D91:AH91))","v":{"$error":"#N/A"}},{"$f":"IF(N83<1, #N/A, STDEVP('B) Eingabe (Lehrer)'!D91:AH91))","v":{"$error":"#N/A"}},{"$error":"#N/A"},{"$f":"COUNT('B) Eingabe (Lehrer)'!D91:AH91)","v":0},{"$f":"IF(N83<1,#N/A,COUNTIF('B) Eingabe (Lehrer)'!D91:AH91,1))","v":{"$error":"#N/A"}},{"$f":"IF(N83<1,#N/A,COUNTIF('B) Eingabe (Lehrer)'!D91:AH91,2))","v":{"$error":"#N/A"}},{"$f":"IF(N83<1,#N/A,COUNTIF('B) Eingabe (Lehrer)'!D91:AH91,3))","v":{"$error":"#N/A"}},{"$f":"IF(N83<1,#N/A,COUNTIF('B) Eingabe (Lehrer)'!D91:AH91,4))","v":{"$error":"#N/A"}},{"$f":"IF('B) Eingabe (Lehrer)'!C91=\"\", #N/A, 'B) Eingabe (Lehrer)'!C91)","v":{"$error":"#N/A"}}]
[{"$f":"FragenErstellen!A88","v":0},{"$f":"IF(E84=0, #N/A,AVERAGE('B) Eingabe (Schüler)'!C92:AH92))","v":{"$error":"#N/A"}},{"$f":"IF(E84<2, #N/A, STDEVP('B) Eingabe (Schüler)'!C92:AH92))","v":{"$error":"#N/A"}},{"$error":"#N/A"},{"$f":"COUNT('B) Eingabe (Schüler)'!C92:AH92)","v":0},{"$f":"IF(E84<2,#N/A,COUNTIF('B) Eingabe (Schüler)'!C92:AH92,1))","v":{"$error":"#N/A"}},{"$f":"IF(E84<2,#N/A,COUNTIF('B) Eingabe (Schüler)'!C92:AH92,2))","v":{"$error":"#N/A"}},{"$f":"IF(E84<2,#N/A,COUNTIF('B) Eingabe (Schüler)'!C92:AH92,3))","v":{"$error":"#N/A"}},{"$f":"IF(E84<2,#N/A,COUNTIF('B) Eingabe (Schüler)'!C92:AH92,4))","v":{"$error":"#N/A"}},{"$f":"IF('B) Eingabe (Lehrer)'!C92=\"\", #N/A, 'B) Eingabe (Lehrer)'!C92)","v":{"$error":"#N/A"}},{"$f":"IF(N84=0, #N/A,AVERAGE('B) Eingabe (Lehrer)'!D92:AH92))","v":{"$error":"#N/A"}},{"$f":"IF(N84<1, #N/A, STDEVP('B) Eingabe (Lehrer)'!D92:AH92))","v":{"$error":"#N/A"}},{"$error":"#N/A"},{"$f":"COUNT('B) Eingabe (Lehrer)'!D92:AH92)","v":0},{"$f":"IF(N84<1,#N/A,COUNTIF('B) Eingabe (Lehrer)'!D92:AH92,1))","v":{"$error":"#N/A"}},{"$f":"IF(N84<1,#N/A,COUNTIF('B) Eingabe (Lehrer)'!D92:AH92,2))","v":{"$error":"#N/A"}},{"$f":"IF(N84<1,#N/A,COUNTIF('B) Eingabe (Lehrer)'!D92:AH92,3))","v":{"$error":"#N/A"}},{"$f":"IF(N84<1,#N/A,COUNTIF('B) Eingabe (Lehrer)'!D92:AH92,4))","v":{"$error":"#N/A"}},{"$f":"IF('B) Eingabe (Lehrer)'!C92=\"\", #N/A, 'B) Eingabe (Lehrer)'!C92)","v":{"$error":"#N/A"}}]
[{"$f":"FragenErstellen!A89","v":0},{"$f":"IF(E85=0, #N/A,AVERAGE('B) Eingabe (Schüler)'!C93:AH93))","v":{"$error":"#N/A"}},{"$f":"IF(E85<2, #N/A, STDEVP('B) Eingabe (Schüler)'!C93:AH93))","v":{"$error":"#N/A"}},{"$error":"#N/A"},{"$f":"COUNT('B) Eingabe (Schüler)'!C93:AH93)","v":0},{"$f":"IF(E85<2,#N/A,COUNTIF('B) Eingabe (Schüler)'!C93:AH93,1))","v":{"$error":"#N/A"}},{"$f":"IF(E85<2,#N/A,COUNTIF('B) Eingabe (Schüler)'!C93:AH93,2))","v":{"$error":"#N/A"}},{"$f":"IF(E85<2,#N/A,COUNTIF('B) Eingabe (Schüler)'!C93:AH93,3))","v":{"$error":"#N/A"}},{"$f":"IF(E85<2,#N/A,COUNTIF('B) Eingabe (Schüler)'!C93:AH93,4))","v":{"$error":"#N/A"}},{"$f":"IF('B) Eingabe (Lehrer)'!C93=\"\", #N/A, 'B) Eingabe (Lehrer)'!C93)","v":{"$error":"#N/A"}},{"$f":"IF(N85=0, #N/A,AVERAGE('B) Eingabe (Lehrer)'!D93:AH93))","v":{"$error":"#N/A"}},{"$f":"IF(N85<1, #N/A, STDEVP('B) Eingabe (Lehrer)'!D93:AH93))","v":{"$error":"#N/A"}},{"$error":"#N/A"},{"$f":"COUNT('B) Eingabe (Lehrer)'!D93:AH93)","v":0},{"$f":"IF(N85<1,#N/A,COUNTIF('B) Eingabe (Lehrer)'!D93:AH93,1))","v":{"$error":"#N/A"}},{"$f":"IF(N85<1,#N/A,COUNTIF('B) Eingabe (Lehrer)'!D93:AH93,2))","v":{"$error":"#N/A"}},{"$f":"IF(N85<1,#N/A,COUNTIF('B) Eingabe (Lehrer)'!D93:AH93,3))","v":{"$error":"#N/A"}},{"$f":"IF(N85<1,#N/A,COUNTIF('B) Eingabe (Lehrer)'!D93:AH93,4))","v":{"$error":"#N/A"}},{"$f":"IF('B) Eingabe (Lehrer)'!C93=\"\", #N/A, 'B) Eingabe (Lehrer)'!C93)","v":{"$error":"#N/A"}}]
[{"$f":"FragenErstellen!A90","v":0},{"$f":"IF(E86=0, #N/A,AVERAGE('B) Eingabe (Schüler)'!C94:AH94))","v":{"$error":"#N/A"}},{"$f":"IF(E86<2, #N/A, STDEVP('B) Eingabe (Schüler)'!C94:AH94))","v":{"$error":"#N/A"}},{"$error":"#N/A"},{"$f":"COUNT('B) Eingabe (Schüler)'!C94:AH94)","v":0},{"$f":"IF(E86<2,#N/A,COUNTIF('B) Eingabe (Schüler)'!C94:AH94,1))","v":{"$error":"#N/A"}},{"$f":"IF(E86<2,#N/A,COUNTIF('B) Eingabe (Schüler)'!C94:AH94,2))","v":{"$error":"#N/A"}},{"$f":"IF(E86<2,#N/A,COUNTIF('B) Eingabe (Schüler)'!C94:AH94,3))","v":{"$error":"#N/A"}},{"$f":"IF(E86<2,#N/A,COUNTIF('B) Eingabe (Schüler)'!C94:AH94,4))","v":{"$error":"#N/A"}},{"$f":"IF('B) Eingabe (Lehrer)'!C94=\"\", #N/A, 'B) Eingabe (Lehrer)'!C94)","v":{"$error":"#N/A"}},{"$f":"IF(N86=0, #N/A,AVERAGE('B) Eingabe (Lehrer)'!D94:AH94))","v":{"$error":"#N/A"}},{"$f":"IF(N86<1, #N/A, STDEVP('B) Eingabe (Lehrer)'!D94:AH94))","v":{"$error":"#N/A"}},{"$error":"#N/A"},{"$f":"COUNT('B) Eingabe (Lehrer)'!D94:AH94)","v":0},{"$f":"IF(N86<1,#N/A,COUNTIF('B) Eingabe (Lehrer)'!D94:AH94,1))","v":{"$error":"#N/A"}},{"$f":"IF(N86<1,#N/A,COUNTIF('B) Eingabe (Lehrer)'!D94:AH94,2))","v":{"$error":"#N/A"}},{"$f":"IF(N86<1,#N/A,COUNTIF('B) Eingabe (Lehrer)'!D94:AH94,3))","v":{"$error":"#N/A"}},{"$f":"IF(N86<1,#N/A,COUNTIF('B) Eingabe (Lehrer)'!D94:AH94,4))","v":{"$error":"#N/A"}},{"$f":"IF('B) Eingabe (Lehrer)'!C94=\"\", #N/A, 'B) Eingabe (Lehrer)'!C94)","v":{"$error":"#N/A"}}]
[{"$f":"FragenErstellen!A91","v":0},{"$f":"IF(E87=0, #N/A,AVERAGE('B) Eingabe (Schüler)'!C95:AH95))","v":{"$error":"#N/A"}},{"$f":"IF(E87<2, #N/A, STDEVP('B) Eingabe (Schüler)'!C95:AH95))","v":{"$error":"#N/A"}},{"$error":"#N/A"},{"$f":"COUNT('B) Eingabe (Schüler)'!C95:AH95)","v":0},{"$f":"IF(E87<2,#N/A,COUNTIF('B) Eingabe (Schüler)'!C95:AH95,1))","v":{"$error":"#N/A"}},{"$f":"IF(E87<2,#N/A,COUNTIF('B) Eingabe (Schüler)'!C95:AH95,2))","v":{"$error":"#N/A"}},{"$f":"IF(E87<2,#N/A,COUNTIF('B) Eingabe (Schüler)'!C95:AH95,3))","v":{"$error":"#N/A"}},{"$f":"IF(E87<2,#N/A,COUNTIF('B) Eingabe (Schüler)'!C95:AH95,4))","v":{"$error":"#N/A"}},{"$f":"IF('B) Eingabe (Lehrer)'!C95=\"\", #N/A, 'B) Eingabe (Lehrer)'!C95)","v":{"$error":"#N/A"}},{"$f":"IF(N87=0, #N/A,AVERAGE('B) Eingabe (Lehrer)'!D95:AH95))","v":{"$error":"#N/A"}},{"$f":"IF(N87<1, #N/A, STDEVP('B) Eingabe (Lehrer)'!D95:AH95))","v":{"$error":"#N/A"}},{"$error":"#N/A"},{"$f":"COUNT('B) Eingabe (Lehrer)'!D95:AH95)","v":0},{"$f":"IF(N87<1,#N/A,COUNTIF('B) Eingabe (Lehrer)'!D95:AH95,1))","v":{"$error":"#N/A"}},{"$f":"IF(N87<1,#N/A,COUNTIF('B) Eingabe (Lehrer)'!D95:AH95,2))","v":{"$error":"#N/A"}},{"$f":"IF(N87<1,#N/A,COUNTIF('B) Eingabe (Lehrer)'!D95:AH95,3))","v":{"$error":"#N/A"}},{"$f":"IF(N87<1,#N/A,COUNTIF('B) Eingabe (Lehrer)'!D95:AH95,4))","v":{"$error":"#N/A"}},{"$f":"IF('B) Eingabe (Lehrer)'!C95=\"\", #N/A, 'B) Eingabe (Lehrer)'!C95)","v":{"$error":"#N/A"}}]
[{"$f":"FragenErstellen!A92","v":0},{"$f":"IF(E88=0, #N/A,AVERAGE('B) Eingabe (Schüler)'!C96:AH96))","v":{"$error":"#N/A"}},{"$f":"IF(E88<2, #N/A, STDEVP('B) Eingabe (Schüler)'!C96:AH96))","v":{"$error":"#N/A"}},{"$error":"#N/A"},{"$f":"COUNT('B) Eingabe (Schüler)'!C96:AH96)","v":0},{"$f":"IF(E88<2,#N/A,COUNTIF('B) Eingabe (Schüler)'!C96:AH96,1))","v":{"$error":"#N/A"}},{"$f":"IF(E88<2,#N/A,COUNTIF('B) Eingabe (Schüler)'!C96:AH96,2))","v":{"$error":"#N/A"}},{"$f":"IF(E88<2,#N/A,COUNTIF('B) Eingabe (Schüler)'!C96:AH96,3))","v":{"$error":"#N/A"}},{"$f":"IF(E88<2,#N/A,COUNTIF('B) Eingabe (Schüler)'!C96:AH96,4))","v":{"$error":"#N/A"}},{"$f":"IF('B) Eingabe (Lehrer)'!C96=\"\", #N/A, 'B) Eingabe (Lehrer)'!C96)","v":{"$error":"#N/A"}},{"$f":"IF(N88=0, #N/A,AVERAGE('B) Eingabe (Lehrer)'!D96:AH96))","v":{"$error":"#N/A"}},{"$f":"IF(N88<1, #N/A, STDEVP('B) Eingabe (Lehrer)'!D96:AH96))","v":{"$error":"#N/A"}},{"$error":"#N/A"},{"$f":"COUNT('B) Eingabe (Lehrer)'!D96:AH96)","v":0},{"$f":"IF(N88<1,#N/A,COUNTIF('B) Eingabe (Lehrer)'!D96:AH96,1))","v":{"$error":"#N/A"}},{"$f":"IF(N88<1,#N/A,COUNTIF('B) Eingabe (Lehrer)'!D96:AH96,2))","v":{"$error":"#N/A"}},{"$f":"IF(N88<1,#N/A,COUNTIF('B) Eingabe (Lehrer)'!D96:AH96,3))","v":{"$error":"#N/A"}},{"$f":"IF(N88<1,#N/A,COUNTIF('B) Eingabe (Lehrer)'!D96:AH96,4))","v":{"$error":"#N/A"}},{"$f":"IF('B) Eingabe (Lehrer)'!C96=\"\", #N/A, 'B) Eingabe (Lehrer)'!C96)","v":{"$error":"#N/A"}}]
[{"$f":"FragenErstellen!A93","v":0},{"$f":"IF(E89=0, #N/A,AVERAGE('B) Eingabe (Schüler)'!C97:AH97))","v":{"$error":"#N/A"}},{"$f":"IF(E89<2, #N/A, STDEVP('B) Eingabe (Schüler)'!C97:AH97))","v":{"$error":"#N/A"}},{"$error":"#N/A"},{"$f":"COUNT('B) Eingabe (Schüler)'!C97:AH97)","v":0},{"$f":"IF(E89<2,#N/A,COUNTIF('B) Eingabe (Schüler)'!C97:AH97,1))","v":{"$error":"#N/A"}},{"$f":"IF(E89<2,#N/A,COUNTIF('B) Eingabe (Schüler)'!C97:AH97,2))","v":{"$error":"#N/A"}},{"$f":"IF(E89<2,#N/A,COUNTIF('B) Eingabe (Schüler)'!C97:AH97,3))","v":{"$error":"#N/A"}},{"$f":"IF(E89<2,#N/A,COUNTIF('B) Eingabe (Schüler)'!C97:AH97,4))","v":{"$error":"#N/A"}},{"$f":"IF('B) Eingabe (Lehrer)'!C97=\"\", #N/A, 'B) Eingabe (Lehrer)'!C97)","v":{"$error":"#N/A"}},{"$f":"IF(N89=0, #N/A,AVERAGE('B) Eingabe (Lehrer)'!D97:AH97))","v":{"$error":"#N/A"}},{"$f":"IF(N89<1, #N/A, STDEVP('B) Eingabe (Lehrer)'!D97:AH97))","v":{"$error":"#N/A"}},{"$error":"#N/A"},{"$f":"COUNT('B) Eingabe (Lehrer)'!D97:AH97)","v":0},{"$f":"IF(N89<1,#N/A,COUNTIF('B) Eingabe (Lehrer)'!D97:AH97,1))","v":{"$error":"#N/A"}},{"$f":"IF(N89<1,#N/A,COUNTIF('B) Eingabe (Lehrer)'!D97:AH97,2))","v":{"$error":"#N/A"}},{"$f":"IF(N89<1,#N/A,COUNTIF('B) Eingabe (Lehrer)'!D97:AH97,3))","v":{"$error":"#N/A"}},{"$f":"IF(N89<1,#N/A,COUNTIF('B) Eingabe (Lehrer)'!D97:AH97,4))","v":{"$error":"#N/A"}},{"$f":"IF('B) Eingabe (Lehrer)'!C97=\"\", #N/A, 'B) Eingabe (Lehrer)'!C97)","v":{"$error":"#N/A"}}]
[{"$f":"FragenErstellen!A94","v":0},{"$f":"IF(E90=0, #N/A,AVERAGE('B) Eingabe (Schüler)'!C98:AH98))","v":{"$error":"#N/A"}},{"$f":"IF(E90<2, #N/A, STDEVP('B) Eingabe (Schüler)'!C98:AH98))","v":{"$error":"#N/A"}},{"$error":"#N/A"},{"$f":"COUNT('B) Eingabe (Schüler)'!C98:AH98)","v":0},{"$f":"IF(E90<2,#N/A,COUNTIF('B) Eingabe (Schüler)'!C98:AH98,1))","v":{"$error":"#N/A"}},{"$f":"IF(E90<2,#N/A,COUNTIF('B) Eingabe (Schüler)'!C98:AH98,2))","v":{"$error":"#N/A"}},{"$f":"IF(E90<2,#N/A,COUNTIF('B) Eingabe (Schüler)'!C98:AH98,3))","v":{"$error":"#N/A"}},{"$f":"IF(E90<2,#N/A,COUNTIF('B) Eingabe (Schüler)'!C98:AH98,4))","v":{"$error":"#N/A"}},{"$f":"IF('B) Eingabe (Lehrer)'!C98=\"\", #N/A, 'B) Eingabe (Lehrer)'!C98)","v":{"$error":"#N/A"}},{"$f":"IF(N90=0, #N/A,AVERAGE('B) Eingabe (Lehrer)'!D98:AH98))","v":{"$error":"#N/A"}},{"$f":"IF(N90<1, #N/A, STDEVP('B) Eingabe (Lehrer)'!D98:AH98))","v":{"$error":"#N/A"}},{"$error":"#N/A"},{"$f":"COUNT('B) Eingabe (Lehrer)'!D98:AH98)","v":0},{"$f":"IF(N90<1,#N/A,COUNTIF('B) Eingabe (Lehrer)'!D98:AH98,1))","v":{"$error":"#N/A"}},{"$f":"IF(N90<1,#N/A,COUNTIF('B) Eingabe (Lehrer)'!D98:AH98,2))","v":{"$error":"#N/A"}},{"$f":"IF(N90<1,#N/A,COUNTIF('B) Eingabe (Lehrer)'!D98:AH98,3))","v":{"$error":"#N/A"}},{"$f":"IF(N90<1,#N/A,COUNTIF('B) Eingabe (Lehrer)'!D98:AH98,4))","v":{"$error":"#N/A"}},{"$f":"IF('B) Eingabe (Lehrer)'!C98=\"\", #N/A, 'B) Eingabe (Lehrer)'!C98)","v":{"$error":"#N/A"}}]
[{"$f":"FragenErstellen!A95","v":0},{"$f":"IF(E91=0, #N/A,AVERAGE('B) Eingabe (Schüler)'!C99:AH99))","v":{"$error":"#N/A"}},{"$f":"IF(E91<2, #N/A, STDEVP('B) Eingabe (Schüler)'!C99:AH99))","v":{"$error":"#N/A"}},{"$error":"#N/A"},{"$f":"COUNT('B) Eingabe (Schüler)'!C99:AH99)","v":0},{"$f":"IF(E91<2,#N/A,COUNTIF('B) Eingabe (Schüler)'!C99:AH99,1))","v":{"$error":"#N/A"}},{"$f":"IF(E91<2,#N/A,COUNTIF('B) Eingabe (Schüler)'!C99:AH99,2))","v":{"$error":"#N/A"}},{"$f":"IF(E91<2,#N/A,COUNTIF('B) Eingabe (Schüler)'!C99:AH99,3))","v":{"$error":"#N/A"}},{"$f":"IF(E91<2,#N/A,COUNTIF('B) Eingabe (Schüler)'!C99:AH99,4))","v":{"$error":"#N/A"}},{"$f":"IF('B) Eingabe (Lehrer)'!C99=\"\", #N/A, 'B) Eingabe (Lehrer)'!C99)","v":{"$error":"#N/A"}},{"$f":"IF(N91=0, #N/A,AVERAGE('B) Eingabe (Lehrer)'!D99:AH99))","v":{"$error":"#N/A"}},{"$f":"IF(N91<1, #N/A, STDEVP('B) Eingabe (Lehrer)'!D99:AH99))","v":{"$error":"#N/A"}},{"$error":"#N/A"},{"$f":"COUNT('B) Eingabe (Lehrer)'!D99:AH99)","v":0},{"$f":"IF(N91<1,#N/A,COUNTIF('B) Eingabe (Lehrer)'!D99:AH99,1))","v":{"$error":"#N/A"}},{"$f":"IF(N91<1,#N/A,COUNTIF('B) Eingabe (Lehrer)'!D99:AH99,2))","v":{"$error":"#N/A"}},{"$f":"IF(N91<1,#N/A,COUNTIF('B) Eingabe (Lehrer)'!D99:AH99,3))","v":{"$error":"#N/A"}},{"$f":"IF(N91<1,#N/A,COUNTIF('B) Eingabe (Lehrer)'!D99:AH99,4))","v":{"$error":"#N/A"}},{"$f":"IF('B) Eingabe (Lehrer)'!C99=\"\", #N/A, 'B) Eingabe (Lehrer)'!C99)","v":{"$error":"#N/A"}}]
[{"$f":"FragenErstellen!A96","v":0},{"$f":"IF(E92=0, #N/A,AVERAGE('B) Eingabe (Schüler)'!C100:AH100))","v":{"$error":"#N/A"}},{"$f":"IF(E92<2, #N/A, STDEVP('B) Eingabe (Schüler)'!C100:AH100))","v":{"$error":"#N/A"}},{"$error":"#N/A"},{"$f":"COUNT('B) Eingabe (Schüler)'!C100:AH100)","v":0},{"$f":"IF(E92<2,#N/A,COUNTIF('B) Eingabe (Schüler)'!C100:AH100,1))","v":{"$error":"#N/A"}},{"$f":"IF(E92<2,#N/A,COUNTIF('B) Eingabe (Schüler)'!C100:AH100,2))","v":{"$error":"#N/A"}},{"$f":"IF(E92<2,#N/A,COUNTIF('B) Eingabe (Schüler)'!C100:AH100,3))","v":{"$error":"#N/A"}},{"$f":"IF(E92<2,#N/A,COUNTIF('B) Eingabe (Schüler)'!C100:AH100,4))","v":{"$error":"#N/A"}},{"$f":"IF('B) Eingabe (Lehrer)'!C100=\"\", #N/A, 'B) Eingabe (Lehrer)'!C100)","v":{"$error":"#N/A"}},{"$f":"IF(N92=0, #N/A,AVERAGE('B) Eingabe (Lehrer)'!D100:AH100))","v":{"$error":"#N/A"}},{"$f":"IF(N92<1, #N/A, STDEVP('B) Eingabe (Lehrer)'!D100:AH100))","v":{"$error":"#N/A"}},{"$error":"#N/A"},{"$f":"COUNT('B) Eingabe (Lehrer)'!D100:AH100)","v":0},{"$f":"IF(N92<1,#N/A,COUNTIF('B) Eingabe (Lehrer)'!D100:AH100,1))","v":{"$error":"#N/A"}},{"$f":"IF(N92<1,#N/A,COUNTIF('B) Eingabe (Lehrer)'!D100:AH100,2))","v":{"$error":"#N/A"}},{"$f":"IF(N92<1,#N/A,COUNTIF('B) Eingabe (Lehrer)'!D100:AH100,3))","v":{"$error":"#N/A"}},{"$f":"IF(N92<1,#N/A,COUNTIF('B) Eingabe (Lehrer)'!D100:AH100,4))","v":{"$error":"#N/A"}},{"$f":"IF('B) Eingabe (Lehrer)'!C100=\"\", #N/A, 'B) Eingabe (Lehrer)'!C100)","v":{"$error":"#N/A"}}]
[{"$f":"FragenErstellen!A97","v":0},{"$f":"IF(E93=0, #N/A,AVERAGE('B) Eingabe (Schüler)'!C101:AH101))","v":{"$error":"#N/A"}},{"$f":"IF(E93<2, #N/A, STDEVP('B) Eingabe (Schüler)'!C101:AH101))","v":{"$error":"#N/A"}},{"$error":"#N/A"},{"$f":"COUNT('B) Eingabe (Schüler)'!C101:AH101)","v":0},{"$f":"IF(E93<2,#N/A,COUNTIF('B) Eingabe (Schüler)'!C101:AH101,1))","v":{"$error":"#N/A"}},{"$f":"IF(E93<2,#N/A,COUNTIF('B) Eingabe (Schüler)'!C101:AH101,2))","v":{"$error":"#N/A"}},{"$f":"IF(E93<2,#N/A,COUNTIF('B) Eingabe (Schüler)'!C101:AH101,3))","v":{"$error":"#N/A"}},{"$f":"IF(E93<2,#N/A,COUNTIF('B) Eingabe (Schüler)'!C101:AH101,4))","v":{"$error":"#N/A"}},{"$f":"IF('B) Eingabe (Lehrer)'!C101=\"\", #N/A, 'B) Eingabe (Lehrer)'!C101)","v":{"$error":"#N/A"}},{"$f":"IF(N93=0, #N/A,AVERAGE('B) Eingabe (Lehrer)'!D101:AH101))","v":{"$error":"#N/A"}},{"$f":"IF(N93<1, #N/A, STDEVP('B) Eingabe (Lehrer)'!D101:AH101))","v":{"$error":"#N/A"}},{"$error":"#N/A"},{"$f":"COUNT('B) Eingabe (Lehrer)'!D101:AH101)","v":0},{"$f":"IF(N93<1,#N/A,COUNTIF('B) Eingabe (Lehrer)'!D101:AH101,1))","v":{"$error":"#N/A"}},{"$f":"IF(N93<1,#N/A,COUNTIF('B) Eingabe (Lehrer)'!D101:AH101,2))","v":{"$error":"#N/A"}},{"$f":"IF(N93<1,#N/A,COUNTIF('B) Eingabe (Lehrer)'!D101:AH101,3))","v":{"$error":"#N/A"}},{"$f":"IF(N93<1,#N/A,COUNTIF('B) Eingabe (Lehrer)'!D101:AH101,4))","v":{"$error":"#N/A"}},{"$f":"IF('B) Eingabe (Lehrer)'!C101=\"\", #N/A, 'B) Eingabe (Lehrer)'!C101)","v":{"$error":"#N/A"}}]
[]
[null,"Beurteilertendenzen"]
[null,null,"Rater ID","MW"]
[null,"Rater 1",{"$f":"'A) Temp'!B96","v":0},{"$f":"'A) Temp'!C96","v":""},{"$f":"IF(D97<>\"\",D158, #N/A)","v":{"$error":"#N/A"}}]
[null,"Rater 2",{"$f":"'A) Temp'!B97","v":0},{"$f":"'A) Temp'!C97","v":""},{"$f":"IF(D98<>\"\",D158, #N/A)","v":{"$error":"#N/A"}}]
[null,"Rater 3",{"$f":"'A) Temp'!B98","v":0},{"$f":"'A) Temp'!C98","v":""},{"$f":"IF(D99<>\"\",D158, #N/A)","v":{"$error":"#N/A"}}]
[null,"Rater 4",{"$f":"'A) Temp'!B99","v":0},{"$f":"'A) Temp'!C99","v":""},{"$f":"IF(D100<>\"\",D158, #N/A)","v":{"$error":"#N/A"}}]
[null,"Rater 5",{"$f":"'A) Temp'!B100","v":0},{"$f":"'A) Temp'!C100","v":""},{"$f":"IF(D101<>\"\",D158, #N/A)","v":{"$error":"#N/A"}}]
[null,"Rater 6",{"$f":"'A) Temp'!B101","v":0},{"$f":"'A) Temp'!C101","v":""},{"$f":"IF(D102<>\"\",D158, #N/A)","v":{"$error":"#N/A"}}]
[null,"Rater 7",{"$f":"'A) Temp'!B102","v":0},{"$f":"'A) Temp'!C102","v":""},{"$f":"IF(D103<>\"\",D158, #N/A)","v":{"$error":"#N/A"}}]
[null,"Rater 8",{"$f":"'A) Temp'!B103","v":0},{"$f":"'A) Temp'!C103","v":""},{"$f":"IF(D104<>\"\",D158, #N/A)","v":{"$error":"#N/A"}}]
[null,"Rater 9",{"$f":"'A) Temp'!B104","v":0},{"$f":"'A) Temp'!C104","v":""},{"$f":"IF(D105<>\"\",D158, #N/A)","v":{"$error":"#N/A"}}]
[null,"Rater 10",{"$f":"'A) Temp'!B105","v":0},{"$f":"'A) Temp'!C105","v":""},{"$f":"IF(D106<>\"\",D158, #N/A)","v":{"$error":"#N/A"}}]
[null,"Rater 11",{"$f":"'A) Temp'!B106","v":0},{"$f":"'A) Temp'!C106","v":""},{"$f":"IF(D107<>\"\",D158, #N/A)","v":{"$error":"#N/A"}}]
[null,"Rater 12",{"$f":"'A) Temp'!B107","v":0},{"$f":"'A) Temp'!C107","v":""},{"$f":"IF(D108<>\"\",D158, #N/A)","v":{"$error":"#N/A"}}]
[null,"Rater 13",{"$f":"'A) Temp'!B108","v":0},{"$f":"'A) Temp'!C108","v":""},{"$f":"IF(D109<>\"\",D158, #N/A)","v":{"$error":"#N/A"}}]
[null,"Rater 14",{"$f":"'A) Temp'!B109","v":0},{"$f":"'A) Temp'!C109","v":""},{"$f":"IF(D110<>\"\",D158, #N/A)","v":{"$error":"#N/A"}}]
[null,"Rater 15",{"$f":"'A) Temp'!B110","v":0},{"$f":"'A) Temp'!C110","v":""},{"$f":"IF(D111<>\"\",D158, #N/A)","v":{"$error":"#N/A"}}]
[null,"Rater 16",{"$f":"'A) Temp'!B111","v":0},{"$f":"'A) Temp'!C111","v":""},{"$f":"IF(D112<>\"\",D158, #N/A)","v":{"$error":"#N/A"}}]
[null,"Rater 17",{"$f":"'A) Temp'!B112","v":0},{"$f":"'A) Temp'!C112","v":""},{"$f":"IF(D113<>\"\",D158, #N/A)","v":{"$error":"#N/A"}}]
[null,"Rater 18",{"$f":"'A) Temp'!B113","v":0},{"$f":"'A) Temp'!C113","v":""},{"$f":"IF(D114<>\"\",D158, #N/A)","v":{"$error":"#N/A"}}]
[null,"Rater 19",{"$f":"'A) Temp'!B114","v":0},{"$f":"'A) Temp'!C114","v":""},{"$f":"IF(D115<>\"\",D158, #N/A)","v":{"$error":"#N/A"}}]
[null,"Rater 20",{"$f":"'A) Temp'!B115","v":0},{"$f":"'A) Temp'!C115","v":""},{"$f":"IF(D116<>\"\",D158, #N/A)","v":{"$error":"#N/A"}}]
[null,"Rater 21",{"$f":"'A) Temp'!B116","v":0},{"$f":"'A) Temp'!C116","v":""},{"$f":"IF(D117<>\"\",D158, #N/A)","v":{"$error":"#N/A"}}]
[null,"Rater 22",{"$f":"'A) Temp'!B117","v":0},{"$f":"'A) Temp'!C117","v":""},{"$f":"IF(D118<>\"\",D158, #N/A)","v":{"$error":"#N/A"}}]
[null,"Rater 23",{"$f":"'A) Temp'!B118","v":0},{"$f":"'A) Temp'!C118","v":""},{"$f":"IF(D119<>\"\",D158, #N/A)","v":{"$error":"#N/A"}}]
[null,"Rater 24",{"$f":"'A) Temp'!B119","v":0},{"$f":"'A) Temp'!C119","v":""},{"$f":"IF(D120<>\"\",D158, #N/A)","v":{"$error":"#N/A"}}]
[null,"Rater 25",{"$f":"'A) Temp'!B120","v":0},{"$f":"'A) Temp'!C120","v":""},{"$f":"IF(D121<>\"\",D158, #N/A)","v":{"$error":"#N/A"}}]
[null,"Rater 26",{"$f":"'A) Temp'!B121","v":0},{"$f":"'A) Temp'!C121","v":""},{"$f":"IF(D122<>\"\",D158, #N/A)","v":{"$error":"#N/A"}}]
[null,"Rater 27",{"$f":"'A) Temp'!B122","v":0},{"$f":"'A) Temp'!C122","v":""},{"$f":"IF(D123<>\"\",D158, #N/A)","v":{"$error":"#N/A"}}]
[null,"Rater 28",{"$f":"'A) Temp'!B123","v":0},{"$f":"'A) Temp'!C123","v":""},{"$f":"IF(D124<>\"\",D158, #N/A)","v":{"$error":"#N/A"}}]
[null,"Rater 29",{"$f":"'A) Temp'!B124","v":0},{"$f":"'A) Temp'!C124","v":""},{"$f":"IF(D125<>\"\",D158, #N/A)","v":{"$error":"#N/A"}}]
[null,"Rater 30",{"$f":"'A) Temp'!B125","v":0},{"$f":"'A) Temp'!C125","v":""},{"$f":"IF(D126<>\"\",D158, #N/A)","v":{"$error":"#N/A"}}]
[null,"Rater 31",{"$f":"'A) Temp'!B126","v":0},{"$f":"'A) Temp'!C126","v":""},{"$f":"IF(D127<>\"\",D158, #N/A)","v":{"$error":"#N/A"}}]
[null,"Rater 32",{"$f":"'A) Temp'!B127","v":0},{"$f":"'A) Temp'!C127","v":""},{"$f":"IF(D128<>\"\",D158, #N/A)","v":{"$error":"#N/A"}}]
[null,"Rater 33",{"$f":"'A) Temp'!B128","v":0},{"$f":"'A) Temp'!C128","v":""},{"$f":"IF(D129<>\"\",D158, #N/A)","v":{"$error":"#N/A"}}]
[null,"Rater 34",{"$f":"'A) Temp'!B129","v":0},{"$f":"'A) Temp'!C129","v":""},{"$f":"IF(D130<>\"\",D158, #N/A)","v":{"$error":"#N/A"}}]
[null,"Rater 35",{"$f":"'A) Temp'!B130","v":0},{"$f":"'A) Temp'!C130","v":""},{"$f":"IF(D131<>\"\",D158, #N/A)","v":{"$error":"#N/A"}}]
[null,"Rater 36",{"$f":"'A) Temp'!B131","v":0},{"$f":"'A) Temp'!C131","v":""},{"$f":"IF(D132<>\"\",D158, #N/A)","v":{"$error":"#N/A"}}]
[null,"Rater 37",{"$f":"'A) Temp'!B132","v":0},{"$f":"'A) Temp'!C132","v":""},{"$f":"IF(D133<>\"\",D158, #N/A)","v":{"$error":"#N/A"}}]
[null,"Rater 38",{"$f":"'A) Temp'!B133","v":0},{"$f":"'A) Temp'!C133","v":""},{"$f":"IF(D134<>\"\",D158, #N/A)","v":{"$error":"#N/A"}}]
[null,"Rater 39",{"$f":"'A) Temp'!B134","v":0},{"$f":"'A) Temp'!C134","v":""},{"$f":"IF(D135<>\"\",D158, #N/A)","v":{"$error":"#N/A"}}]
[null,"Rater 40",{"$f":"'A) Temp'!B135","v":0},{"$f":"'A) Temp'!C135","v":""},{"$f":"IF(D136<>\"\",D158, #N/A)","v":{"$error":"#N/A"}}]
[null,"Rater 41",{"$f":"'A) Temp'!B136","v":0},{"$f":"'A) Temp'!C136","v":""},{"$f":"IF(D137<>\"\",D158, #N/A)","v":{"$error":"#N/A"}}]
[null,"Rater 42",{"$f":"'A) Temp'!B137","v":0},{"$f":"'A) Temp'!C137","v":""},{"$f":"IF(D138<>\"\",D158, #N/A)","v":{"$error":"#N/A"}}]
[null,"Rater 43",{"$f":"'A) Temp'!B138","v":0},{"$f":"'A) Temp'!C138","v":""},{"$f":"IF(D139<>\"\",D158, #N/A)","v":{"$error":"#N/A"}}]
[null,"Rater 44",{"$f":"'A) Temp'!B139","v":0},{"$f":"'A) Temp'!C139","v":""},{"$f":"IF(D140<>\"\",D158, #N/A)","v":{"$error":"#N/A"}}]
[null,"Rater 45",{"$f":"'A) Temp'!B140","v":0},{"$f":"'A) Temp'!C140","v":""},{"$f":"IF(D141<>\"\",D158, #N/A)","v":{"$error":"#N/A"}}]
[null,"Rater 46",{"$f":"'A) Temp'!B141","v":0},{"$f":"'A) Temp'!C141","v":""},{"$f":"IF(D142<>\"\",D158, #N/A)","v":{"$error":"#N/A"}}]
[null,"Rater 47",{"$f":"'A) Temp'!B142","v":0},{"$f":"'A) Temp'!C142","v":""},{"$f":"IF(D143<>\"\",D158, #N/A)","v":{"$error":"#N/A"}}]
[null,"Rater 48",{"$f":"'A) Temp'!B143","v":0},{"$f":"'A) Temp'!C143","v":""},{"$f":"IF(D144<>\"\",D158, #N/A)","v":{"$error":"#N/A"}}]
[null,"Rater 49",{"$f":"'A) Temp'!B144","v":0},{"$f":"'A) Temp'!C144","v":""},{"$f":"IF(D145<>\"\",D158, #N/A)","v":{"$error":"#N/A"}}]
[null,"Rater 50",{"$f":"'A) Temp'!B145","v":0},{"$f":"'A) Temp'!C145","v":""},{"$f":"IF(D146<>\"\",D158, #N/A)","v":{"$error":"#N/A"}}]
[null,"Rater 51",{"$f":"'A) Temp'!B146","v":0},{"$f":"'A) Temp'!C146","v":""},{"$f":"IF(D147<>\"\",D158, #N/A)","v":{"$error":"#N/A"}}]
[null,"Rater 52",{"$f":"'A) Temp'!B147","v":0},{"$f":"'A) Temp'!C147","v":""},{"$f":"IF(D148<>\"\",D158, #N/A)","v":{"$error":"#N/A"}}]
[null,"Rater 53",{"$f":"'A) Temp'!B148","v":0},{"$f":"'A) Temp'!C148","v":""},{"$f":"IF(D149<>\"\",D158, #N/A)","v":{"$error":"#N/A"}}]
[null,"Rater 54",{"$f":"'A) Temp'!B149","v":0},{"$f":"'A) Temp'!C149","v":""},{"$f":"IF(D150<>\"\",D158, #N/A)","v":{"$error":"#N/A"}}]
[null,"Rater 55",{"$f":"'A) Temp'!B150","v":0},{"$f":"'A) Temp'!C150","v":""},{"$f":"IF(D151<>\"\",D158, #N/A)","v":{"$error":"#N/A"}}]
[null,"Rater 56",{"$f":"'A) Temp'!B151","v":0},{"$f":"'A) Temp'!C151","v":""},{"$f":"IF(D152<>\"\",D158, #N/A)","v":{"$error":"#N/A"}}]
[null,"Rater 57",{"$f":"'A) Temp'!B152","v":0},{"$f":"'A) Temp'!C152","v":""},{"$f":"IF(D153<>\"\",D158, #N/A)","v":{"$error":"#N/A"}}]
[null,"Rater 58",{"$f":"'A) Temp'!B153","v":85},{"$f":"'A) Temp'!C153","v":"Koll2"},{"$f":"IF(D154<>\"\",D158, #N/A)","v":{"$error":"#DIV/0!"}}]
[null,"Rater 59",{"$f":"'A) Temp'!B154","v":85},{"$f":"'A) Temp'!C154","v":"Kollege1"},{"$f":"IF(D155<>\"\",D158, #N/A)","v":{"$error":"#DIV/0!"}}]
[null,"Rater 60",{"$f":"'A) Temp'!B155","v":85},{"$f":"'A) Temp'!C155","v":"Lehrer"},{"$f":"IF(D156<>\"\",D158, #N/A)","v":{"$error":"#DIV/0!"}}]
[null,"Rater 61",{"$f":"'A) Temp'!B156","v":""},{"$f":"'A) Temp'!C156","v":""},{"$f":"IF(D157<>\"\",D158, #N/A)","v":{"$error":"#N/A"}}]
[null,null,"MW aller",{"$f":"AVERAGE(D97:D157)","v":{"$error":"#DIV/0!"}}]
[null,null,null,{"$f":"IF(D97<>\"\",D97, #N/A)","v":{"$error":"#N/A"}}]
[null,null,null,{"$f":"IF(D98<>\"\",D98, #N/A)","v":{"$error":"#N/A"}}]
[null,null,null,{"$error":"#N/A"}]
[null,null,null,{"$error":"#N/A"}]
[null,null,null,{"$error":"#N/A"}]
[null,null,null,{"$error":"#N/A"}]
[null,null,null,{"$error":"#N/A"}]
[null,null,null,{"$error":"#N/A"}]
[null,null,null,{"$error":"#N/A"}]
[null,null,null,{"$error":"#N/A"}]
[null,null,null,{"$error":"#N/A"}]
[null,null,null,{"$error":"#N/A"}]
[null,null,null,{"$error":"#N/A"}]
[null,null,null,{"$error":"#N/A"}]
[null,null,null,{"$error":"#N/A"}]
[null,null,null,{"$error":"#N/A"}]
[null,null,null,{"$error":"#N/A"}]
[null,null,null,{"$error":"#N/A"}]
[null,null,null,{"$error":"#N/A"}]
[null,null,null,{"$error":"#N/A"}]
[null,null,null,{"$error":"#N/A"}]
[null,null,null,{"$error":"#N/A"}]
[null,null,null,{"$error":"#N/A"}]
[null,null,null,{"$error":"#N/A"}]
[null,null,null,{"$error":"#N/A"}]
[null,null,null,{"$error":"#N/A"}]
[null,null,null,{"$error":"#N/A"}]
[null,null,null,{"$error":"#N/A"}]
[null,null,null,{"$error":"#N/A"}]
[null,null,null,{"$error":"#N/A"}]
[null,null,null,{"$error":"#N/A"}]
[null,null,null,{"$error":"#N/A"}]
[null,null,null,{"$error":"#N/A"}]
[null,null,null,{"$error":"#N/A"}]
[null,null,null,{"$error":"#N/A"}]
[null,null,null,{"$error":"#N/A"}]
[null,null,null,{"$error":"#N/A"}]
[null,null,null,{"$error":"#N/A"}]
[null,null,null,{"$error":"#N/A"}]
[null,null,null,{"$error":"#N/A"}]
[null,null,null,{"$error":"#N/A"}]
[null,null,null,{"$error":"#N/A"}]
[null,null,null,{"$error":"#N/A"}]
[null,null,null,{"$error":"#N/A"}]
[null,null,null,{"$error":"#N/A"}]
[null,null,null,{"$error":"#N/A"}]
[null,null,null,{"$error":"#N/A"}]
[null,null,null,{"$error":"#N/A"}]
[null,null,null,{"$error":"#N/A"}]
[null,null,null,{"$error":"#N/A"}]
[null,null,null,{"$error":"#N/A"}]
[null,null,null,{"$error":"#N/A"}]
[null,null,null,{"$error":"#N/A"}]
[null,null,null,{"$error":"#N/A"}]
[null,null,null,{"$error":"#N/A"}]
[null,null,null,{"$error":"#N/A"}]
[null,null,null,{"$error":"#N/A"}]
[null,null,null,"Koll2"]
[null,null,null,"Kollege1"]
[null,null,null,"Lehrer"]
[null,null,null,{"$error":"#N/A"}]
[null,"Item 30 Kollegen"]
[null,null,1,2,3,4,5,6,7,8,9,10,11,12,13,14,15,16,17,18,19,20,21,22,23,24,25,26,27,28,29,30,31,32,33,34,35,36,37,38,39,40,41,42,43,44,45,46,47,48,49,50,51,52,53,54,55,56,57,58,59,60,{"$error":"#N/A"},"Summe","N","MW","%"]
[]
["zu leicht","zu leicht"]
["etwas zu leicht","etwas zu leicht"]
["genau richtig","genau richtig"]
["etwas zu schwierig","etwas zu schwierig"]
["zu schwierig","zu schwierig"]
["fehlende Angaben","fehlende Angaben"]

{"sheet":"A) Temp","index":33,"n_rows":156,"n_cols":62,"rows_kept":156,"cut":false,"hidden":true,"merged":[]}
["Beurteilungstendenzen",1,2,3,4,5,6,7,8,9,10,11,12,13,14,15,16,17,18,19,20,21,22,23,24,25,26,27,28,29,30,31,32,33,34,35,36,37,38,39,40,41,42,43,44,45,46,47,48,49,50,51,52,53,54,55,56,57,58,59,60,61]
["ID",{"$f":" IF(#REF!=\"\", \"\",#REF!)","v":{"$error":"#REF!"}},{"$f":" IF(#REF!=\"\", \"\",#REF!)","v":{"$error":"#REF!"}},{"$f":" IF(#REF!=\"\", \"\",#REF!)","v":{"$error":"#REF!"}},{"$f":" IF(#REF!=\"\", \"\",#REF!)","v":{"$error":"#REF!"}},{"$f":" IF(#REF!=\"\", \"\",#REF!)","v":{"$error":"#REF!"}},{"$f":" IF(#REF!=\"\", \"\",#REF!)","v":{"$error":"#REF!"}},{"$f":" IF(#REF!=\"\", \"\",#REF!)","v":{"$error":"#REF!"}},{"$f":" IF(#REF!=\"\", \"\",#REF!)","v":{"$error":"#REF!"}},{"$f":" IF(#REF!=\"\", \"\",#REF!)","v":{"$error":"#REF!"}},{"$f":" IF(#REF!=\"\", \"\",#REF!)","v":{"$error":"#REF!"}},{"$f":" IF(#REF!=\"\", \"\",#REF!)","v":{"$error":"#REF!"}},{"$f":" IF(#REF!=\"\", \"\",#REF!)","v":{"$error":"#REF!"}},{"$f":" IF(#REF!=\"\", \"\",#REF!)","v":{"$error":"#REF!"}},{"$f":" IF(#REF!=\"\", \"\",#REF!)","v":{"$error":"#REF!"}},{"$f":" IF(#REF!=\"\", \"\",#REF!)","v":{"$error":"#REF!"}},{"$f":" IF(#REF!=\"\", \"\",#REF!)","v":{"$error":"#REF!"}},{"$f":" IF(#REF!=\"\", \"\",#REF!)","v":{"$error":"#REF!"}},{"$f":" IF(#REF!=\"\", \"\",#REF!)","v":{"$error":"#REF!"}},{"$f":" IF(#REF!=\"\", \"\",#REF!)","v":{"$error":"#REF!"}},{"$f":" IF(#REF!=\"\", \"\",#REF!)","v":{"$error":"#REF!"}},{"$f":" IF(#REF!=\"\", \"\",#REF!)","v":{"$error":"#REF!"}},{"$f":" IF(#REF!=\"\", \"\",#REF!)","v":{"$error":"#REF!"}},{"$f":" IF(#REF!=\"\", \"\",#REF!)","v":{"$error":"#REF!"}},{"$f":" IF(#REF!=\"\", \"\",#REF!)","v":{"$error":"#REF!"}},{"$f":" IF(#REF!=\"\", \"\",#REF!)","v":{"$error":"#REF!"}},{"$f":" IF(#REF!=\"\", \"\",#REF!)","v":{"$error":"#REF!"}},{"$f":" IF(#REF!=\"\", \"\",#REF!)","v":{"$error":"#REF!"}},{"$f":" IF(#REF!=\"\", \"\",#REF!)","v":{"$error":"#REF!"}},{"$f":" IF(#REF!=\"\", \"\",#REF!)","v":{"$error":"#REF!"}},{"$f":" IF(#REF!=\"\", \"\",#REF!)","v":{"$error":"#REF!"}},{"$f":" IF(#REF!=\"\", \"\",#REF!)","v":{"$error":"#REF!"}},{"$f":" IF(#REF!=\"\", \"\",#REF!)","v":{"$error":"#REF!"}},{"$f":" IF(#REF!=\"\", \"\",#REF!)","v":{"$error":"#REF!"}},{"$f":" IF(#REF!=\"\", \"\",#REF!)","v":{"$error":"#REF!"}},{"$f":" IF(#REF!=\"\", \"\",#REF!)","v":{"$error":"#REF!"}},{"$f":" IF(#REF!=\"\", \"\",#REF!)","v":{"$error":"#REF!"}},{"$f":" IF(#REF!=\"\", \"\",#REF!)","v":{"$error":"#REF!"}},{"$f":" IF(#REF!=\"\", \"\",#REF!)","v":{"$error":"#REF!"}},{"$f":" IF(#REF!=\"\", \"\",#REF!)","v":{"$error":"#REF!"}},{"$f":" IF(#REF!=\"\", \"\",#REF!)","v":{"$error":"#REF!"}},{"$f":" IF(#REF!=\"\", \"\",#REF!)","v":{"$error":"#REF!"}},{"$f":" IF(#REF!=\"\", \"\",#REF!)","v":{"$error":"#REF!"}},{"$f":" IF(#REF!=\"\", \"\",#REF!)","v":{"$error":"#REF!"}},{"$f":" IF(#REF!=\"\", \"\",#REF!)","v":{"$error":"#REF!"}},{"$f":" IF(#REF!=\"\", \"\",#REF!)","v":{"$error":"#REF!"}},{"$f":" IF(#REF!=\"\", \"\",#REF!)","v":{"$error":"#REF!"}},{"$f":" IF(#REF!=\"\", \"\",#REF!)","v":{"$error":"#REF!"}},{"$f":" IF(#REF!=\"\", \"\",#REF!)","v":{"$error":"#REF!"}},{"$f":" IF(#REF!=\"\", \"\",#REF!)","v":{"$error":"#REF!"}},{"$f":" IF(#REF!=\"\", \"\",#REF!)","v":{"$error":"#REF!"}},{"$f":" IF(#REF!=\"\", \"\",#REF!)","v":{"$error":"#REF!"}},{"$f":" IF(#REF!=\"\", \"\",#REF!)","v":{"$error":"#REF!"}},{"$f":" IF(#REF!=\"\", \"\",#REF!)","v":{"$error":"#REF!"}},{"$f":" IF(#REF!=\"\", \"\",#REF!)","v":{"$error":"#REF!"}},{"$f":" IF(#REF!=\"\", \"\",#REF!)","v":{"$error":"#REF!"}},{"$f":" IF(#REF!=\"\", \"\",#REF!)","v":{"$error":"#REF!"}},{"$f":" IF(#REF!=\"\", \"\",#REF!)","v":{"$error":"#REF!"}},{"$f":" IF(#REF!=\"\", \"\",#REF!)","v":{"$error":"#REF!"}},{"$f":" IF(#REF!=\"\", \"\",#REF!)","v":{"$error":"#REF!"}},{"$f":" IF(#REF!=\"\", \"\",#REF!)","v":{"$error":"#REF!"}},{"$f":" IF(#REF!=\"\", \"\",#REF!)","v":{"$error":"#REF!"}}]
["Item 1",{"$f":"IF(#REF!=\"\", \"\",#REF!)","v":{"$error":"#REF!"}},{"$f":"IF(#REF!=\"\", \"\",#REF!)","v":{"$error":"#REF!"}},{"$f":"IF(#REF!=\"\", \"\",#REF!)","v":{"$error":"#REF!"}},{"$f":"IF(#REF!=\"\", \"\",#REF!)","v":{"$error":"#REF!"}},{"$f":"IF(#REF!=\"\", \"\",#REF!)","v":{"$error":"#REF!"}},{"$f":"IF(#REF!=\"\", \"\",#REF!)","v":{"$error":"#REF!"}},{"$f":"IF(#REF!=\"\", \"\",#REF!)","v":{"$error":"#REF!"}},{"$f":"IF(#REF!=\"\", \"\",#REF!)","v":{"$error":"#REF!"}},{"$f":"IF(#REF!=\"\", \"\",#REF!)","v":{"$error":"#REF!"}},{"$f":"IF(#REF!=\"\", \"\",#REF!)","v":{"$error":"#REF!"}},{"$f":"IF(#REF!=\"\", \"\",#REF!)","v":{"$error":"#REF!"}},{"$f":"IF(#REF!=\"\", \"\",#REF!)","v":{"$error":"#REF!"}},{"$f":"IF(#REF!=\"\", \"\",#REF!)","v":{"$error":"#REF!"}},{"$f":"IF(#REF!=\"\", \"\",#REF!)","v":{"$error":"#REF!"}},{"$f":"IF(#REF!=\"\", \"\",#REF!)","v":{"$error":"#REF!"}},{"$f":"IF(#REF!=\"\", \"\",#REF!)","v":{"$error":"#REF!"}},{"$f":"IF(#REF!=\"\", \"\",#REF!)","v":{"$error":"#REF!"}},{"$f":"IF(#REF!=\"\", \"\",#REF!)","v":{"$error":"#REF!"}},{"$f":"IF(#REF!=\"\", \"\",#REF!)","v":{"$error":"#REF!"}},{"$f":"IF(#REF!=\"\", \"\",#REF!)","v":{"$error":"#REF!"}},{"$f":"IF(#REF!=\"\", \"\",#REF!)","v":{"$error":"#REF!"}},{"$f":"IF(#REF!=\"\", \"\",#REF!)","v":{"$error":"#REF!"}},{"$f":"IF(#REF!=\"\", \"\",#REF!)","v":{"$error":"#REF!"}},{"$f":"IF(#REF!=\"\", \"\",#REF!)","v":{"$error":"#REF!"}},{"$f":"IF(#REF!=\"\", \"\",#REF!)","v":{"$error":"#REF!"}},{"$f":"IF(#REF!=\"\", \"\",#REF!)","v":{"$error":"#REF!"}},{"$f":"IF(#REF!=\"\", \"\",#REF!)","v":{"$error":"#REF!"}},{"$f":"IF(#REF!=\"\", \"\",#REF!)","v":{"$error":"#REF!"}},{"$f":"IF(#REF!=\"\", \"\",#REF!)","v":{"$error":"#REF!"}},{"$f":"IF(#REF!=\"\", \"\",#REF!)","v":{"$error":"#REF!"}},{"$f":"IF(#REF!=\"\", \"\",#REF!)","v":{"$error":"#REF!"}},{"$f":"IF(#REF!=\"\", \"\",#REF!)","v":{"$error":"#REF!"}},{"$f":"IF(#REF!=\"\", \"\",#REF!)","v":{"$error":"#REF!"}},{"$f":"IF(#REF!=\"\", \"\",#REF!)","v":{"$error":"#REF!"}},{"$f":"IF(#REF!=\"\", \"\",#REF!)","v":{"$error":"#REF!"}},{"$f":"IF(#REF!=\"\", \"\",#REF!)","v":{"$error":"#REF!"}},{"$f":"IF(#REF!=\"\", \"\",#REF!)","v":{"$error":"#REF!"}},{"$f":"IF(#REF!=\"\", \"\",#REF!)","v":{"$error":"#REF!"}},{"$f":"IF(#REF!=\"\", \"\",#REF!)","v":{"$error":"#REF!"}},{"$f":"IF(#REF!=\"\", \"\",#REF!)","v":{"$error":"#REF!"}},{"$f":"IF(#REF!=\"\", \"\",#REF!)","v":{"$error":"#REF!"}},{"$f":"IF(#REF!=\"\", \"\",#REF!)","v":{"$error":"#REF!"}},{"$f":"IF(#REF!=\"\", \"\",#REF!)","v":{"$error":"#REF!"}},{"$f":"IF(#REF!=\"\", \"\",#REF!)","v":{"$error":"#REF!"}},{"$f":"IF(#REF!=\"\", \"\",#REF!)","v":{"$error":"#REF!"}},{"$f":"IF(#REF!=\"\", \"\",#REF!)","v":{"$error":"#REF!"}},{"$f":"IF(#REF!=\"\", \"\",#REF!)","v":{"$error":"#REF!"}},{"$f":"IF(#REF!=\"\", \"\",#REF!)","v":{"$error":"#REF!"}},{"$f":"IF(#REF!=\"\", \"\",#REF!)","v":{"$error":"#REF!"}},{"$f":"IF(#REF!=\"\", \"\",#REF!)","v":{"$error":"#REF!"}},{"$f":"IF(#REF!=\"\", \"\",#REF!)","v":{"$error":"#REF!"}},{"$f":"IF(#REF!=\"\", \"\",#REF!)","v":{"$error":"#REF!"}},{"$f":"IF(#REF!=\"\", \"\",#REF!)","v":{"$error":"#REF!"}},{"$f":"IF(#REF!=\"\", \"\",#REF!)","v":{"$error":"#REF!"}},{"$f":"IF(#REF!=\"\", \"\",#REF!)","v":{"$error":"#REF!"}},{"$f":"IF(#REF!=\"\", \"\",#REF!)","v":{"$error":"#REF!"}},{"$f":"IF(#REF!=\"\", \"\",#REF!)","v":{"$error":"#REF!"}},{"$f":"IF(#REF!=\"\", \"\",#REF!)","v":{"$error":"#REF!"}},{"$f":"IF(#REF!=\"\", \"\",#REF!)","v":{"$error":"#REF!"}},{"$f":"IF(#REF!=\"\", \"\",#REF!)","v":{"$error":"#REF!"}},{"$f":"IF(#REF!=\"\", \"\",#REF!)","v":{"$error":"#REF!"}}]
["Item 2",{"$f":"IF(#REF!=\"\", \"\",#REF!)","v":{"$error":"#REF!"}},{"$f":"IF(#REF!=\"\", \"\",#REF!)","v":{"$error":"#REF!"}},{"$f":"IF(#REF!=\"\", \"\",#REF!)","v":{"$error":"#REF!"}},{"$f":"IF(#REF!=\"\", \"\",#REF!)","v":{"$error":"#REF!"}},{"$f":"IF(#REF!=\"\", \"\",#REF!)","v":{"$error":"#REF!"}},{"$f":"IF(#REF!=\"\", \"\",#REF!)","v":{"$error":"#REF!"}},{"$f":"IF(#REF!=\"\", \"\",#REF!)","v":{"$error":"#REF!"}},{"$f":"IF(#REF!=\"\", \"\",#REF!)","v":{"$error":"#REF!"}},{"$f":"IF(#REF!=\"\", \"\",#REF!)","v":{"$error":"#REF!"}},{"$f":"IF(#REF!=\"\", \"\",#REF!)","v":{"$error":"#REF!"}},{"$f":"IF(#REF!=\"\", \"\",#REF!)","v":{"$error":"#REF!"}},{"$f":"IF(#REF!=\"\", \"\",#REF!)","v":{"$error":"#REF!"}},{"$f":"IF(#REF!=\"\", \"\",#REF!)","v":{"$error":"#REF!"}},{"$f":"IF(#REF!=\"\", \"\",#REF!)","v":{"$error":"#REF!"}},{"$f":"IF(#REF!=\"\", \"\",#REF!)","v":{"$error":"#REF!"}},{"$f":"IF(#REF!=\"\", \"\",#REF!)","v":{"$error":"#REF!"}},{"$f":"IF(#REF!=\"\", \"\",#REF!)","v":{"$error":"#REF!"}},{"$f":"IF(#REF!=\"\", \"\",#REF!)","v":{"$error":"#REF!"}},{"$f":"IF(#REF!=\"\", \"\",#REF!)","v":{"$error":"#REF!"}},{"$f":"IF(#REF!=\"\", \"\",#REF!)","v":{"$error":"#REF!"}},{"$f":"IF(#REF!=\"\", \"\",#REF!)","v":{"$error":"#REF!"}},{"$f":"IF(#REF!=\"\", \"\",#REF!)","v":{"$error":"#REF!"}},{"$f":"IF(#REF!=\"\", \"\",#REF!)","v":{"$error":"#REF!"}},{"$f":"IF(#REF!=\"\", \"\",#REF!)","v":{"$error":"#REF!"}},{"$f":"IF(#REF!=\"\", \"\",#REF!)","v":{"$error":"#REF!"}},{"$f":"IF(#REF!=\"\", \"\",#REF!)","v":{"$error":"#REF!"}},{"$f":"IF(#REF!=\"\", \"\",#REF!)","v":{"$error":"#REF!"}},{"$f":"IF(#REF!=\"\", \"\",#REF!)","v":{"$error":"#REF!"}},{"$f":"IF(#REF!=\"\", \"\",#REF!)","v":{"$error":"#REF!"}},{"$f":"IF(#REF!=\"\", \"\",#REF!)","v":{"$error":"#REF!"}},{"$f":"IF(#REF!=\"\", \"\",#REF!)","v":{"$error":"#REF!"}},{"$f":"IF(#REF!=\"\", \"\",#REF!)","v":{"$error":"#REF!"}},{"$f":"IF(#REF!=\"\", \"\",#REF!)","v":{"$error":"#REF!"}},{"$f":"IF(#REF!=\"\", \"\",#REF!)","v":{"$error":"#REF!"}},{"$f":"IF(#REF!=\"\", \"\",#REF!)","v":{"$error":"#REF!"}},{"$f":"IF(#REF!=\"\", \"\",#REF!)","v":{"$error":"#REF!"}},{"$f":"IF(#REF!=\"\", \"\",#REF!)","v":{"$error":"#REF!"}},{"$f":"IF(#REF!=\"\", \"\",#REF!)","v":{"$error":"#REF!"}},{"$f":"IF(#REF!=\"\", \"\",#REF!)","v":{"$error":"#REF!"}},{"$f":"IF(#REF!=\"\", \"\",#REF!)","v":{"$error":"#REF!"}},{"$f":"IF(#REF!=\"\", \"\",#REF!)","v":{"$error":"#REF!"}},{"$f":"IF(#REF!=\"\", \"\",#REF!)","v":{"$error":"#REF!"}},{"$f":"IF(#REF!=\"\", \"\",#REF!)","v":{"$error":"#REF!"}},{"$f":"IF(#REF!=\"\", \"\",#REF!)","v":{"$error":"#REF!"}},{"$f":"IF(#REF!=\"\", \"\",#REF!)","v":{"$error":"#REF!"}},{"$f":"IF(#REF!=\"\", \"\",#REF!)","v":{"$error":"#REF!"}},{"$f":"IF(#REF!=\"\", \"\",#REF!)","v":{"$error":"#REF!"}},{"$f":"IF(#REF!=\"\", \"\",#REF!)","v":{"$error":"#REF!"}},{"$f":"IF(#REF!=\"\", \"\",#REF!)","v":{"$error":"#REF!"}},{"$f":"IF(#REF!=\"\", \"\",#REF!)","v":{"$error":"#REF!"}},{"$f":"IF(#REF!=\"\", \"\",#REF!)","v":{"$error":"#REF!"}},{"$f":"IF(#REF!=\"\", \"\",#REF!)","v":{"$error":"#REF!"}},{"$f":"IF(#REF!=\"\", \"\",#REF!)","v":{"$error":"#REF!"}},{"$f":"IF(#REF!=\"\", \"\",#REF!)","v":{"$error":"#REF!"}},{"$f":"IF(#REF!=\"\", \"\",#REF!)","v":{"$error":"#REF!"}},{"$f":"IF(#REF!=\"\", \"\",#REF!)","v":{"$error":"#REF!"}},{"$f":"IF(#REF!=\"\", \"\",#REF!)","v":{"$error":"#REF!"}},{"$f":"IF(#REF!=\"\", \"\",#REF!)","v":{"$error":"#REF!"}},{"$f":"IF(#REF!=\"\", \"\",#REF!)","v":{"$error":"#REF!"}},{"$f":"IF(#REF!=\"\", \"\",#REF!)","v":{"$error":"#REF!"}},{"$f":"IF(#REF!=\"\", \"\",#REF!)","v":{"$error":"#REF!"}}]
["Item 3",{"$f":"IF(#REF!=\"\", \"\",#REF!)","v":{"$error":"#REF!"}},{"$f":"IF(#REF!=\"\", \"\",#REF!)","v":{"$error":"#REF!"}},{"$f":"IF(#REF!=\"\", \"\",#REF!)","v":{"$error":"#REF!"}},{"$f":"IF(#REF!=\"\", \"\",#REF!)","v":{"$error":"#REF!"}},{"$f":"IF(#REF!=\"\", \"\",#REF!)","v":{"$error":"#REF!"}},{"$f":"IF(#REF!=\"\", \"\",#REF!)","v":{"$error":"#REF!"}},{"$f":"IF(#REF!=\"\", \"\",#REF!)","v":{"$error":"#REF!"}},{"$f":"IF(#REF!=\"\", \"\",#REF!)","v":{"$error":"#REF!"}},{"$f":"IF(#REF!=\"\", \"\",#REF!)","v":{"$error":"#REF!"}},{"$f":"IF(#REF!=\"\", \"\",#REF!)","v":{"$error":"#REF!"}},{"$f":"IF(#REF!=\"\", \"\",#REF!)","v":{"$error":"#REF!"}},{"$f":"IF(#REF!=\"\", \"\",#REF!)","v":{"$error":"#REF!"}},{"$f":"IF(#REF!=\"\", \"\",#REF!)","v":{"$error":"#REF!"}},{"$f":"IF(#REF!=\"\", \"\",#REF!)","v":{"$error":"#REF!"}},{"$f":"IF(#REF!=\"\", \"\",#REF!)","v":{"$error":"#REF!"}},{"$f":"IF(#REF!=\"\", \"\",#REF!)","v":{"$error":"#REF!"}},{"$f":"IF(#REF!=\"\", \"\",#REF!)","v":{"$error":"#REF!"}},{"$f":"IF(#REF!=\"\", \"\",#REF!)","v":{"$error":"#REF!"}},{"$f":"IF(#REF!=\"\", \"\",#REF!)","v":{"$error":"#REF!"}},{"$f":"IF(#REF!=\"\", \"\",#REF!)","v":{"$error":"#REF!"}},{"$f":"IF(#REF!=\"\", \"\",#REF!)","v":{"$error":"#REF!"}},{"$f":"IF(#REF!=\"\", \"\",#REF!)","v":{"$error":"#REF!"}},{"$f":"IF(#REF!=\"\", \"\",#REF!)","v":{"$error":"#REF!"}},{"$f":"IF(#REF!=\"\", \"\",#REF!)","v":{"$error":"#REF!"}},{"$f":"IF(#REF!=\"\", \"\",#REF!)","v":{"$error":"#REF!"}},{"$f":"IF(#REF!=\"\", \"\",#REF!)","v":{"$error":"#REF!"}},{"$f":"IF(#REF!=\"\", \"\",#REF!)","v":{"$error":"#REF!"}},{"$f":"IF(#REF!=\"\", \"\",#REF!)","v":{"$error":"#REF!"}},{"$f":"IF(#REF!=\"\", \"\",#REF!)","v":{"$error":"#REF!"}},{"$f":"IF(#REF!=\"\", \"\",#REF!)","v":{"$error":"#REF!"}},{"$f":"IF(#REF!=\"\", \"\",#REF!)","v":{"$error":"#REF!"}},{"$f":"IF(#REF!=\"\", \"\",#REF!)","v":{"$error":"#REF!"}},{"$f":"IF(#REF!=\"\", \"\",#REF!)","v":{"$error":"#REF!"}},{"$f":"IF(#REF!=\"\", \"\",#REF!)","v":{"$error":"#REF!"}},{"$f":"IF(#REF!=\"\", \"\",#REF!)","v":{"$error":"#REF!"}},{"$f":"IF(#REF!=\"\", \"\",#REF!)","v":{"$error":"#REF!"}},{"$f":"IF(#REF!=\"\", \"\",#REF!)","v":{"$error":"#REF!"}},{"$f":"IF(#REF!=\"\", \"\",#REF!)","v":{"$error":"#REF!"}},{"$f":"IF(#REF!=\"\", \"\",#REF!)","v":{"$error":"#REF!"}},{"$f":"IF(#REF!=\"\", \"\",#REF!)","v":{"$error":"#REF!"}},{"$f":"IF(#REF!=\"\", \"\",#REF!)","v":{"$error":"#REF!"}},{"$f":"IF(#REF!=\"\", \"\",#REF!)","v":{"$error":"#REF!"}},{"$f":"IF(#REF!=\"\", \"\",#REF!)","v":{"$error":"#REF!"}},{"$f":"IF(#REF!=\"\", \"\",#REF!)","v":{"$error":"#REF!"}},{"$f":"IF(#REF!=\"\", \"\",#REF!)","v":{"$error":"#REF!"}},{"$f":"IF(#REF!=\"\", \"\",#REF!)","v":{"$error":"#REF!"}},{"$f":"IF(#REF!=\"\", \"\",#REF!)","v":{"$error":"#REF!"}},{"$f":"IF(#REF!=\"\", \"\",#REF!)","v":{"$error":"#REF!"}},{"$f":"IF(#REF!=\"\", \"\",#REF!)","v":{"$error":"#REF!"}},{"$f":"IF(#REF!=\"\", \"\",#REF!)","v":{"$error":"#REF!"}},{"$f":"IF(#REF!=\"\", \"\",#REF!)","v":{"$error":"#REF!"}},{"$f":"IF(#REF!=\"\", \"\",#REF!)","v":{"$error":"#REF!"}},{"$f":"IF(#REF!=\"\", \"\",#REF!)","v":{"$error":"#REF!"}},{"$f":"IF(#REF!=\"\", \"\",#REF!)","v":{"$error":"#REF!"}},{"$f":"IF(#REF!=\"\", \"\",#REF!)","v":{"$error":"#REF!"}},{"$f":"IF(#REF!=\"\", \"\",#REF!)","v":{"$error":"#REF!"}},{"$f":"IF(#REF!=\"\", \"\",#REF!)","v":{"$error":"#REF!"}},{"$f":"IF(#REF!=\"\", \"\",#REF!)","v":{"$error":"#REF!"}},{"$f":"IF(#REF!=\"\", \"\",#REF!)","v":{"$error":"#REF!"}},{"$f":"IF(#REF!=\"\", \"\",#REF!)","v":{"$error":"#REF!"}},{"$f":"IF(#REF!=\"\", \"\",#REF!)","v":{"$error":"#REF!"}}]
["Item 4",{"$f":"IF(#REF!=\"\", \"\",#REF!)","v":{"$error":"#REF!"}},{"$f":"IF(#REF!=\"\", \"\",#REF!)","v":{"$error":"#REF!"}},{"$f":"IF(#REF!=\"\", \"\",#REF!)","v":{"$error":"#REF!"}},{"$f":"IF(#REF!=\"\", \"\",#REF!)","v":{"$error":"#REF!"}},{"$f":"IF(#REF!=\"\", \"\",#REF!)","v":{"$error":"#REF!"}},{"$f":"IF(#REF!=\"\", \"\",#REF!)","v":{"$error":"#REF!"}},{"$f":"IF(#REF!=\"\", \"\",#REF!)","v":{"$error":"#REF!"}},{"$f":"IF(#REF!=\"\", \"\",#REF!)","v":{"$error":"#REF!"}},{"$f":"IF(#REF!=\"\", \"\",#REF!)","v":{"$error":"#REF!"}},{"$f":"IF(#REF!=\"\", \"\",#REF!)","v":{"$error":"#REF!"}},{"$f":"IF(#REF!=\"\", \"\",#REF!)","v":{"$error":"#REF!"}},{"$f":"IF(#REF!=\"\", \"\",#REF!)","v":{"$error":"#REF!"}},{"$f":"IF(#REF!=\"\", \"\",#REF!)","v":{"$error":"#REF!"}},{"$f":"IF(#REF!=\"\", \"\",#REF!)","v":{"$error":"#REF!"}},{"$f":"IF(#REF!=\"\", \"\",#REF!)","v":{"$error":"#REF!"}},{"$f":"IF(#REF!=\"\", \"\",#REF!)","v":{"$error":"#REF!"}},{"$f":"IF(#REF!=\"\", \"\",#REF!)","v":{"$error":"#REF!"}},{"$f":"IF(#REF!=\"\", \"\",#REF!)","v":{"$error":"#REF!"}},{"$f":"IF(#REF!=\"\", \"\",#REF!)","v":{"$error":"#REF!"}},{"$f":"IF(#REF!=\"\", \"\",#REF!)","v":{"$error":"#REF!"}},{"$f":"IF(#REF!=\"\", \"\",#REF!)","v":{"$error":"#REF!"}},{"$f":"IF(#REF!=\"\", \"\",#REF!)","v":{"$error":"#REF!"}},{"$f":"IF(#REF!=\"\", \"\",#REF!)","v":{"$error":"#REF!"}},{"$f":"IF(#REF!=\"\", \"\",#REF!)","v":{"$error":"#REF!"}},{"$f":"IF(#REF!=\"\", \"\",#REF!)","v":{"$error":"#REF!"}},{"$f":"IF(#REF!=\"\", \"\",#REF!)","v":{"$error":"#REF!"}},{"$f":"IF(#REF!=\"\", \"\",#REF!)","v":{"$error":"#REF!"}},{"$f":"IF(#REF!=\"\", \"\",#REF!)","v":{"$error":"#REF!"}},{"$f":"IF(#REF!=\"\", \"\",#REF!)","v":{"$error":"#REF!"}},{"$f":"IF(#REF!=\"\", \"\",#REF!)","v":{"$error":"#REF!"}},{"$f":"IF(#REF!=\"\", \"\",#REF!)","v":{"$error":"#REF!"}},{"$f":"IF(#REF!=\"\", \"\",#REF!)","v":{"$error":"#REF!"}},{"$f":"IF(#REF!=\"\", \"\",#REF!)","v":{"$error":"#REF!"}},{"$f":"IF(#REF!=\"\", \"\",#REF!)","v":{"$error":"#REF!"}},{"$f":"IF(#REF!=\"\", \"\",#REF!)","v":{"$error":"#REF!"}},{"$f":"IF(#REF!=\"\", \"\",#REF!)","v":{"$error":"#REF!"}},{"$f":"IF(#REF!=\"\", \"\",#REF!)","v":{"$error":"#REF!"}},{"$f":"IF(#REF!=\"\", \"\",#REF!)","v":{"$error":"#REF!"}},{"$f":"IF(#REF!=\"\", \"\",#REF!)","v":{"$error":"#REF!"}},{"$f":"IF(#REF!=\"\", \"\",#REF!)","v":{"$error":"#REF!"}},{"$f":"IF(#REF!=\"\", \"\",#REF!)","v":{"$error":"#REF!"}},{"$f":"IF(#REF!=\"\", \"\",#REF!)","v":{"$error":"#REF!"}},{"$f":"IF(#REF!=\"\", \"\",#REF!)","v":{"$error":"#REF!"}},{"$f":"IF(#REF!=\"\", \"\",#REF!)","v":{"$error":"#REF!"}},{"$f":"IF(#REF!=\"\", \"\",#REF!)","v":{"$error":"#REF!"}},{"$f":"IF(#REF!=\"\", \"\",#REF!)","v":{"$error":"#REF!"}},{"$f":"IF(#REF!=\"\", \"\",#REF!)","v":{"$error":"#REF!"}},{"$f":"IF(#REF!=\"\", \"\",#REF!)","v":{"$error":"#REF!"}},{"$f":"IF(#REF!=\"\", \"\",#REF!)","v":{"$error":"#REF!"}},{"$f":"IF(#REF!=\"\", \"\",#REF!)","v":{"$error":"#REF!"}},{"$f":"IF(#REF!=\"\", \"\",#REF!)","v":{"$error":"#REF!"}},{"$f":"IF(#REF!=\"\", \"\",#REF!)","v":{"$error":"#REF!"}},{"$f":"IF(#REF!=\"\", \"\",#REF!)","v":{"$error":"#REF!"}},{"$f":"IF(#REF!=\"\", \"\",#REF!)","v":{"$error":"#REF!"}},{"$f":"IF(#REF!=\"\", \"\",#REF!)","v":{"$error":"#REF!"}},{"$f":"IF(#REF!=\"\", \"\",#REF!)","v":{"$error":"#REF!"}},{"$f":"IF(#REF!=\"\", \"\",#REF!)","v":{"$error":"#REF!"}},{"$f":"IF(#REF!=\"\", \"\",#REF!)","v":{"$error":"#REF!"}},{"$f":"IF(#REF!=\"\", \"\",#REF!)","v":{"$error":"#REF!"}},{"$f":"IF(#REF!=\"\", \"\",#REF!)","v":{"$error":"#REF!"}},{"$f":"IF(#REF!=\"\", \"\",#REF!)","v":{"$error":"#REF!"}}]
["Item 5",{"$f":"IF(#REF!=\"\", \"\",#REF!)","v":{"$error":"#REF!"}},{"$f":"IF(#REF!=\"\", \"\",#REF!)","v":{"$error":"#REF!"}},{"$f":"IF(#REF!=\"\", \"\",#REF!)","v":{"$error":"#REF!"}},{"$f":"IF(#REF!=\"\", \"\",#REF!)","v":{"$error":"#REF!"}},{"$f":"IF(#REF!=\"\", \"\",#REF!)","v":{"$error":"#REF!"}},{"$f":"IF(#REF!=\"\", \"\",#REF!)","v":{"$error":"#REF!"}},{"$f":"IF(#REF!=\"\", \"\",#REF!)","v":{"$error":"#REF!"}},{"$f":"IF(#REF!=\"\", \"\",#REF!)","v":{"$error":"#REF!"}},{"$f":"IF(#REF!=\"\", \"\",#REF!)","v":{"$error":"#REF!"}},{"$f":"IF(#REF!=\"\", \"\",#REF!)","v":{"$error":"#REF!"}},{"$f":"IF(#REF!=\"\", \"\",#REF!)","v":{"$error":"#REF!"}},{"$f":"IF(#REF!=\"\", \"\",#REF!)","v":{"$error":"#REF!"}},{"$f":"IF(#REF!=\"\", \"\",#REF!)","v":{"$error":"#REF!"}},{"$f":"IF(#REF!=\"\", \"\",#REF!)","v":{"$error":"#REF!"}},{"$f":"IF(#REF!=\"\", \"\",#REF!)","v":{"$error":"#REF!"}},{"$f":"IF(#REF!=\"\", \"\",#REF!)","v":{"$error":"#REF!"}},{"$f":"IF(#REF!=\"\", \"\",#REF!)","v":{"$error":"#REF!"}},{"$f":"IF(#REF!=\"\", \"\",#REF!)","v":{"$error":"#REF!"}},{"$f":"IF(#REF!=\"\", \"\",#REF!)","v":{"$error":"#REF!"}},{"$f":"IF(#REF!=\"\", \"\",#REF!)","v":{"$error":"#REF!"}},{"$f":"IF(#REF!=\"\", \"\",#REF!)","v":{"$error":"#REF!"}},{"$f":"IF(#REF!=\"\", \"\",#REF!)","v":{"$error":"#REF!"}},{"$f":"IF(#REF!=\"\", \"\",#REF!)","v":{"$error":"#REF!"}},{"$f":"IF(#REF!=\"\", \"\",#REF!)","v":{"$error":"#REF!"}},{"$f":"IF(#REF!=\"\", \"\",#REF!)","v":{"$error":"#REF!"}},{"$f":"IF(#REF!=\"\", \"\",#REF!)","v":{"$error":"#REF!"}},{"$f":"IF(#REF!=\"\", \"\",#REF!)","v":{"$error":"#REF!"}},{"$f":"IF(#REF!=\"\", \"\",#REF!)","v":{"$error":"#REF!"}},{"$f":"IF(#REF!=\"\", \"\",#REF!)","v":{"$error":"#REF!"}},{"$f":"IF(#REF!=\"\", \"\",#REF!)","v":{"$error":"#REF!"}},{"$f":"IF(#REF!=\"\", \"\",#REF!)","v":{"$error":"#REF!"}},{"$f":"IF(#REF!=\"\", \"\",#REF!)","v":{"$error":"#REF!"}},{"$f":"IF(#REF!=\"\", \"\",#REF!)","v":{"$error":"#REF!"}},{"$f":"IF(#REF!=\"\", \"\",#REF!)","v":{"$error":"#REF!"}},{"$f":"IF(#REF!=\"\", \"\",#REF!)","v":{"$error":"#REF!"}},{"$f":"IF(#REF!=\"\", \"\",#REF!)","v":{"$error":"#REF!"}},{"$f":"IF(#REF!=\"\", \"\",#REF!)","v":{"$error":"#REF!"}},{"$f":"IF(#REF!=\"\", \"\",#REF!)","v":{"$error":"#REF!"}},{"$f":"IF(#REF!=\"\", \"\",#REF!)","v":{"$error":"#REF!"}},{"$f":"IF(#REF!=\"\", \"\",#REF!)","v":{"$error":"#REF!"}},{"$f":"IF(#REF!=\"\", \"\",#REF!)","v":{"$error":"#REF!"}},{"$f":"IF(#REF!=\"\", \"\",#REF!)","v":{"$error":"#REF!"}},{"$f":"IF(#REF!=\"\", \"\",#REF!)","v":{"$error":"#REF!"}},{"$f":"IF(#REF!=\"\", \"\",#REF!)","v":{"$error":"#REF!"}},{"$f":"IF(#REF!=\"\", \"\",#REF!)","v":{"$error":"#REF!"}},{"$f":"IF(#REF!=\"\", \"\",#REF!)","v":{"$error":"#REF!"}},{"$f":"IF(#REF!=\"\", \"\",#REF!)","v":{"$error":"#REF!"}},{"$f":"IF(#REF!=\"\", \"\",#REF!)","v":{"$error":"#REF!"}},{"$f":"IF(#REF!=\"\", \"\",#REF!)","v":{"$error":"#REF!"}},{"$f":"IF(#REF!=\"\", \"\",#REF!)","v":{"$error":"#REF!"}},{"$f":"IF(#REF!=\"\", \"\",#REF!)","v":{"$error":"#REF!"}},{"$f":"IF(#REF!=\"\", \"\",#REF!)","v":{"$error":"#REF!"}},{"$f":"IF(#REF!=\"\", \"\",#REF!)","v":{"$error":"#REF!"}},{"$f":"IF(#REF!=\"\", \"\",#REF!)","v":{"$error":"#REF!"}},{"$f":"IF(#REF!=\"\", \"\",#REF!)","v":{"$error":"#REF!"}},{"$f":"IF(#REF!=\"\", \"\",#REF!)","v":{"$error":"#REF!"}},{"$f":"IF(#REF!=\"\", \"\",#REF!)","v":{"$error":"#REF!"}},{"$f":"IF(#REF!=\"\", \"\",#REF!)","v":{"$error":"#REF!"}},{"$f":"IF(#REF!=\"\", \"\",#REF!)","v":{"$error":"#REF!"}},{"$f":"IF(#REF!=\"\", \"\",#REF!)","v":{"$error":"#REF!"}},{"$f":"IF(#REF!=\"\", \"\",#REF!)","v":{"$error":"#REF!"}}]
["Item 6",{"$f":"IF(#REF!=\"\", \"\",#REF!)","v":{"$error":"#REF!"}},{"$f":"IF(#REF!=\"\", \"\",#REF!)","v":{"$error":"#REF!"}},{"$f":"IF(#REF!=\"\", \"\",#REF!)","v":{"$error":"#REF!"}},{"$f":"IF(#REF!=\"\", \"\",#REF!)","v":{"$error":"#REF!"}},{"$f":"IF(#REF!=\"\", \"\",#REF!)","v":{"$error":"#REF!"}},{"$f":"IF(#REF!=\"\", \"\",#REF!)","v":{"$error":"#REF!"}},{"$f":"IF(#REF!=\"\", \"\",#REF!)","v":{"$error":"#REF!"}},{"$f":"IF(#REF!=\"\", \"\",#REF!)","v":{"$error":"#REF!"}},{"$f":"IF(#REF!=\"\", \"\",#REF!)","v":{"$error":"#REF!"}},{"$f":"IF(#REF!=\"\", \"\",#REF!)","v":{"$error":"#REF!"}},{"$f":"IF(#REF!=\"\", \"\",#REF!)","v":{"$error":"#REF!"}},{"$f":"IF(#REF!=\"\", \"\",#REF!)","v":{"$error":"#REF!"}},{"$f":"IF(#REF!=\"\", \"\",#REF!)","v":{"$error":"#REF!"}},{"$f":"IF(#REF!=\"\", \"\",#REF!)","v":{"$error":"#REF!"}},{"$f":"IF(#REF!=\"\", \"\",#REF!)","v":{"$error":"#REF!"}},{"$f":"IF(#REF!=\"\", \"\",#REF!)","v":{"$error":"#REF!"}},{"$f":"IF(#REF!=\"\", \"\",#REF!)","v":{"$error":"#REF!"}},{"$f":"IF(#REF!=\"\", \"\",#REF!)","v":{"$error":"#REF!"}},{"$f":"IF(#REF!=\"\", \"\",#REF!)","v":{"$error":"#REF!"}},{"$f":"IF(#REF!=\"\", \"\",#REF!)","v":{"$error":"#REF!"}},{"$f":"IF(#REF!=\"\", \"\",#REF!)","v":{"$error":"#REF!"}},{"$f":"IF(#REF!=\"\", \"\",#REF!)","v":{"$error":"#REF!"}},{"$f":"IF(#REF!=\"\", \"\",#REF!)","v":{"$error":"#REF!"}},{"$f":"IF(#REF!=\"\", \"\",#REF!)","v":{"$error":"#REF!"}},{"$f":"IF(#REF!=\"\", \"\",#REF!)","v":{"$error":"#REF!"}},{"$f":"IF(#REF!=\"\", \"\",#REF!)","v":{"$error":"#REF!"}},{"$f":"IF(#REF!=\"\", \"\",#REF!)","v":{"$error":"#REF!"}},{"$f":"IF(#REF!=\"\", \"\",#REF!)","v":{"$error":"#REF!"}},{"$f":"IF(#REF!=\"\", \"\",#REF!)","v":{"$error":"#REF!"}},{"$f":"IF(#REF!=\"\", \"\",#REF!)","v":{"$error":"#REF!"}},{"$f":"IF(#REF!=\"\", \"\",#REF!)","v":{"$error":"#REF!"}},{"$f":"IF(#REF!=\"\", \"\",#REF!)","v":{"$error":"#REF!"}},{"$f":"IF(#REF!=\"\", \"\",#REF!)","v":{"$error":"#REF!"}},{"$f":"IF(#REF!=\"\", \"\",#REF!)","v":{"$error":"#REF!"}},{"$f":"IF(#REF!=\"\", \"\",#REF!)","v":{"$error":"#REF!"}},{"$f":"IF(#REF!=\"\", \"\",#REF!)","v":{"$error":"#REF!"}},{"$f":"IF(#REF!=\"\", \"\",#REF!)","v":{"$error":"#REF!"}},{"$f":"IF(#REF!=\"\", \"\",#REF!)","v":{"$error":"#REF!"}},{"$f":"IF(#REF!=\"\", \"\",#REF!)","v":{"$error":"#REF!"}},{"$f":"IF(#REF!=\"\", \"\",#REF!)","v":{"$error":"#REF!"}},{"$f":"IF(#REF!=\"\", \"\",#REF!)","v":{"$error":"#REF!"}},{"$f":"IF(#REF!=\"\", \"\",#REF!)","v":{"$error":"#REF!"}},{"$f":"IF(#REF!=\"\", \"\",#REF!)","v":{"$error":"#REF!"}},{"$f":"IF(#REF!=\"\", \"\",#REF!)","v":{"$error":"#REF!"}},{"$f":"IF(#REF!=\"\", \"\",#REF!)","v":{"$error":"#REF!"}},{"$f":"IF(#REF!=\"\", \"\",#REF!)","v":{"$error":"#REF!"}},{"$f":"IF(#REF!=\"\", \"\",#REF!)","v":{"$error":"#REF!"}},{"$f":"IF(#REF!=\"\", \"\",#REF!)","v":{"$error":"#REF!"}},{"$f":"IF(#REF!=\"\", \"\",#REF!)","v":{"$error":"#REF!"}},{"$f":"IF(#REF!=\"\", \"\",#REF!)","v":{"$error":"#REF!"}},{"$f":"IF(#REF!=\"\", \"\",#REF!)","v":{"$error":"#REF!"}},{"$f":"IF(#REF!=\"\", \"\",#REF!)","v":{"$error":"#REF!"}},{"$f":"IF(#REF!=\"\", \"\",#REF!)","v":{"$error":"#REF!"}},{"$f":"IF(#REF!=\"\", \"\",#REF!)","v":{"$error":"#REF!"}},{"$f":"IF(#REF!=\"\", \"\",#REF!)","v":{"$error":"#REF!"}},{"$f":"IF(#REF!=\"\", \"\",#REF!)","v":{"$error":"#REF!"}},{"$f":"IF(#REF!=\"\", \"\",#REF!)","v":{"$error":"#REF!"}},{"$f":"IF(#REF!=\"\", \"\",#REF!)","v":{"$error":"#REF!"}},{"$f":"IF(#REF!=\"\", \"\",#REF!)","v":{"$error":"#REF!"}},{"$f":"IF(#REF!=\"\", \"\",#REF!)","v":{"$error":"#REF!"}},{"$f":"IF(#REF!=\"\", \"\",#REF!)","v":{"$error":"#REF!"}}]
["Item 7",{"$f":"IF(#REF!=\"\", \"\",#REF!)","v":{"$error":"#REF!"}},{"$f":"IF(#REF!=\"\", \"\",#REF!)","v":{"$error":"#REF!"}},{"$f":"IF(#REF!=\"\", \"\",#REF!)","v":{"$error":"#REF!"}},{"$f":"IF(#REF!=\"\", \"\",#REF!)","v":{"$error":"#REF!"}},{"$f":"IF(#REF!=\"\", \"\",#REF!)","v":{"$error":"#REF!"}},{"$f":"IF(#REF!=\"\", \"\",#REF!)","v":{"$error":"#REF!"}},{"$f":"IF(#REF!=\"\", \"\",#REF!)","v":{"$error":"#REF!"}},{"$f":"IF(#REF!=\"\", \"\",#REF!)","v":{"$error":"#REF!"}},{"$f":"IF(#REF!=\"\", \"\",#REF!)","v":{"$error":"#REF!"}},{"$f":"IF(#REF!=\"\", \"\",#REF!)","v":{"$error":"#REF!"}},{"$f":"IF(#REF!=\"\", \"\",#REF!)","v":{"$error":"#REF!"}},{"$f":"IF(#REF!=\"\", \"\",#REF!)","v":{"$error":"#REF!"}},{"$f":"IF(#REF!=\"\", \"\",#REF!)","v":{"$error":"#REF!"}},{"$f":"IF(#REF!=\"\", \"\",#REF!)","v":{"$error":"#REF!"}},{"$f":"IF(#REF!=\"\", \"\",#REF!)","v":{"$error":"#REF!"}},{"$f":"IF(#REF!=\"\", \"\",#REF!)","v":{"$error":"#REF!"}},{"$f":"IF(#REF!=\"\", \"\",#REF!)","v":{"$error":"#REF!"}},{"$f":"IF(#REF!=\"\", \"\",#REF!)","v":{"$error":"#REF!"}},{"$f":"IF(#REF!=\"\", \"\",#REF!)","v":{"$error":"#REF!"}},{"$f":"IF(#REF!=\"\", \"\",#REF!)","v":{"$error":"#REF!"}},{"$f":"IF(#REF!=\"\", \"\",#REF!)","v":{"$error":"#REF!"}},{"$f":"IF(#REF!=\"\", \"\",#REF!)","v":{"$error":"#REF!"}},{"$f":"IF(#REF!=\"\", \"\",#REF!)","v":{"$error":"#REF!"}},{"$f":"IF(#REF!=\"\", \"\",#REF!)","v":{"$error":"#REF!"}},{"$f":"IF(#REF!=\"\", \"\",#REF!)","v":{"$error":"#REF!"}},{"$f":"IF(#REF!=\"\", \"\",#REF!)","v":{"$error":"#REF!"}},{"$f":"IF(#REF!=\"\", \"\",#REF!)","v":{"$error":"#REF!"}},{"$f":"IF(#REF!=\"\", \"\",#REF!)","v":{"$error":"#REF!"}},{"$f":"IF(#REF!=\"\", \"\",#REF!)","v":{"$error":"#REF!"}},{"$f":"IF(#REF!=\"\", \"\",#REF!)","v":{"$error":"#REF!"}},{"$f":"IF(#REF!=\"\", \"\",#REF!)","v":{"$error":"#REF!"}},{"$f":"IF(#REF!=\"\", \"\",#REF!)","v":{"$error":"#REF!"}},{"$f":"IF(#REF!=\"\", \"\",#REF!)","v":{"$error":"#REF!"}},{"$f":"IF(#REF!=\"\", \"\",#REF!)","v":{"$error":"#REF!"}},{"$f":"IF(#REF!=\"\", \"\",#REF!)","v":{"$error":"#REF!"}},{"$f":"IF(#REF!=\"\", \"\",#REF!)","v":{"$error":"#REF!"}},{"$f":"IF(#REF!=\"\", \"\",#REF!)","v":{"$error":"#REF!"}},{"$f":"IF(#REF!=\"\", \"\",#REF!)","v":{"$error":"#REF!"}},{"$f":"IF(#REF!=\"\", \"\",#REF!)","v":{"$error":"#REF!"}},{"$f":"IF(#REF!=\"\", \"\",#REF!)","v":{"$error":"#REF!"}},{"$f":"IF(#REF!=\"\", \"\",#REF!)","v":{"$error":"#REF!"}},{"$f":"IF(#REF!=\"\", \"\",#REF!)","v":{"$error":"#REF!"}},{"$f":"IF(#REF!=\"\", \"\",#REF!)","v":{"$error":"#REF!"}},{"$f":"IF(#REF!=\"\", \"\",#REF!)","v":{"$error":"#REF!"}},{"$f":"IF(#REF!=\"\", \"\",#REF!)","v":{"$error":"#REF!"}},{"$f":"IF(#REF!=\"\", \"\",#REF!)","v":{"$error":"#REF!"}},{"$f":"IF(#REF!=\"\", \"\",#REF!)","v":{"$error":"#REF!"}},{"$f":"IF(#REF!=\"\", \"\",#REF!)","v":{"$error":"#REF!"}},{"$f":"IF(#REF!=\"\", \"\",#REF!)","v":{"$error":"#REF!"}},{"$f":"IF(#REF!=\"\", \"\",#REF!)","v":{"$error":"#REF!"}},{"$f":"IF(#REF!=\"\", \"\",#REF!)","v":{"$error":"#REF!"}},{"$f":"IF(#REF!=\"\", \"\",#REF!)","v":{"$error":"#REF!"}},{"$f":"IF(#REF!=\"\", \"\",#REF!)","v":{"$error":"#REF!"}},{"$f":"IF(#REF!=\"\", \"\",#REF!)","v":{"$error":"#REF!"}},{"$f":"IF(#REF!=\"\", \"\",#REF!)","v":{"$error":"#REF!"}},{"$f":"IF(#REF!=\"\", \"\",#REF!)","v":{"$error":"#REF!"}},{"$f":"IF(#REF!=\"\", \"\",#REF!)","v":{"$error":"#REF!"}},{"$f":"IF(#REF!=\"\", \"\",#REF!)","v":{"$error":"#REF!"}},{"$f":"IF(#REF!=\"\", \"\",#REF!)","v":{"$error":"#REF!"}},{"$f":"IF(#REF!=\"\", \"\",#REF!)","v":{"$error":"#REF!"}},{"$f":"IF(#REF!=\"\", \"\",#REF!)","v":{"$error":"#REF!"}}]
["Item 8",{"$f":"IF(#REF!=\"\", \"\",#REF!)","v":{"$error":"#REF!"}},{"$f":"IF(#REF!=\"\", \"\",#REF!)","v":{"$error":"#REF!"}},{"$f":"IF(#REF!=\"\", \"\",#REF!)","v":{"$error":"#REF!"}},{"$f":"IF(#REF!=\"\", \"\",#REF!)","v":{"$error":"#REF!"}},{"$f":"IF(#REF!=\"\", \"\",#REF!)","v":{"$error":"#REF!"}},{"$f":"IF(#REF!=\"\", \"\",#REF!)","v":{"$error":"#REF!"}},{"$f":"IF(#REF!=\"\", \"\",#REF!)","v":{"$error":"#REF!"}},{"$f":"IF(#REF!=\"\", \"\",#REF!)","v":{"$error":"#REF!"}},{"$f":"IF(#REF!=\"\", \"\",#REF!)","v":{"$error":"#REF!"}},{"$f":"IF(#REF!=\"\", \"\",#REF!)","v":{"$error":"#REF!"}},{"$f":"IF(#REF!=\"\", \"\",#REF!)","v":{"$error":"#REF!"}},{"$f":"IF(#REF!=\"\", \"\",#REF!)","v":{"$error":"#REF!"}},{"$f":"IF(#REF!=\"\", \"\",#REF!)","v":{"$error":"#REF!"}},{"$f":"IF(#REF!=\"\", \"\",#REF!)","v":{"$error":"#REF!"}},{"$f":"IF(#REF!=\"\", \"\",#REF!)","v":{"$error":"#REF!"}},{"$f":"IF(#REF!=\"\", \"\",#REF!)","v":{"$error":"#REF!"}},{"$f":"IF(#REF!=\"\", \"\",#REF!)","v":{"$error":"#REF!"}},{"$f":"IF(#REF!=\"\", \"\",#REF!)","v":{"$error":"#REF!"}},{"$f":"IF(#REF!=\"\", \"\",#REF!)","v":{"$error":"#REF!"}},{"$f":"IF(#REF!=\"\", \"\",#REF!)","v":{"$error":"#REF!"}},{"$f":"IF(#REF!=\"\", \"\",#REF!)","v":{"$error":"#REF!"}},{"$f":"IF(#REF!=\"\", \"\",#REF!)","v":{"$error":"#REF!"}},{"$f":"IF(#REF!=\"\", \"\",#REF!)","v":{"$error":"#REF!"}},{"$f":"IF(#REF!=\"\", \"\",#REF!)","v":{"$error":"#REF!"}},{"$f":"IF(#REF!=\"\", \"\",#REF!)","v":{"$error":"#REF!"}},{"$f":"IF(#REF!=\"\", \"\",#REF!)","v":{"$error":"#REF!"}},{"$f":"IF(#REF!=\"\", \"\",#REF!)","v":{"$error":"#REF!"}},{"$f":"IF(#REF!=\"\", \"\",#REF!)","v":{"$error":"#REF!"}},{"$f":"IF(#REF!=\"\", \"\",#REF!)","v":{"$error":"#REF!"}},{"$f":"IF(#REF!=\"\", \"\",#REF!)","v":{"$error":"#REF!"}},{"$f":"IF(#REF!=\"\", \"\",#REF!)","v":{"$error":"#REF!"}},{"$f":"IF(#REF!=\"\", \"\",#REF!)","v":{"$error":"#REF!"}},{"$f":"IF(#REF!=\"\", \"\",#REF!)","v":{"$error":"#REF!"}},{"$f":"IF(#REF!=\"\", \"\",#REF!)","v":{"$error":"#REF!"}},{"$f":"IF(#REF!=\"\", \"\",#REF!)","v":{"$error":"#REF!"}},{"$f":"IF(#REF!=\"\", \"\",#REF!)","v":{"$error":"#REF!"}},{"$f":"IF(#REF!=\"\", \"\",#REF!)","v":{"$error":"#REF!"}},{"$f":"IF(#REF!=\"\", \"\",#REF!)","v":{"$error":"#REF!"}},{"$f":"IF(#REF!=\"\", \"\",#REF!)","v":{"$error":"#REF!"}},{"$f":"IF(#REF!=\"\", \"\",#REF!)","v":{"$error":"#REF!"}},{"$f":"IF(#REF!=\"\", \"\",#REF!)","v":{"$error":"#REF!"}},{"$f":"IF(#REF!=\"\", \"\",#REF!)","v":{"$error":"#REF!"}},{"$f":"IF(#REF!=\"\", \"\",#REF!)","v":{"$error":"#REF!"}},{"$f":"IF(#REF!=\"\", \"\",#REF!)","v":{"$error":"#REF!"}},{"$f":"IF(#REF!=\"\", \"\",#REF!)","v":{"$error":"#REF!"}},{"$f":"IF(#REF!=\"\", \"\",#REF!)","v":{"$error":"#REF!"}},{"$f":"IF(#REF!=\"\", \"\",#REF!)","v":{"$error":"#REF!"}},{"$f":"IF(#REF!=\"\", \"\",#REF!)","v":{"$error":"#REF!"}},{"$f":"IF(#REF!=\"\", \"\",#REF!)","v":{"$error":"#REF!"}},{"$f":"IF(#REF!=\"\", \"\",#REF!)","v":{"$error":"#REF!"}},{"$f":"IF(#REF!=\"\", \"\",#REF!)","v":{"$error":"#REF!"}},{"$f":"IF(#REF!=\"\", \"\",#REF!)","v":{"$error":"#REF!"}},{"$f":"IF(#REF!=\"\", \"\",#REF!)","v":{"$error":"#REF!"}},{"$f":"IF(#REF!=\"\", \"\",#REF!)","v":{"$error":"#REF!"}},{"$f":"IF(#REF!=\"\", \"\",#REF!)","v":{"$error":"#REF!"}},{"$f":"IF(#REF!=\"\", \"\",#REF!)","v":{"$error":"#REF!"}},{"$f":"IF(#REF!=\"\", \"\",#REF!)","v":{"$error":"#REF!"}},{"$f":"IF(#REF!=\"\", \"\",#REF!)","v":{"$error":"#REF!"}},{"$f":"IF(#REF!=\"\", \"\",#REF!)","v":{"$error":"#REF!"}},{"$f":"IF(#REF!=\"\", \"\",#REF!)","v":{"$error":"#REF!"}},{"$f":"IF(#REF!=\"\", \"\",#REF!)","v":{"$error":"#REF!"}}]
["Item 9",{"$f":"IF(#REF!=\"\", \"\",#REF!)","v":{"$error":"#REF!"}},{"$f":"IF(#REF!=\"\", \"\",#REF!)","v":{"$error":"#REF!"}},{"$f":"IF(#REF!=\"\", \"\",#REF!)","v":{"$error":"#REF!"}},{"$f":"IF(#REF!=\"\", \"\",#REF!)","v":{"$error":"#REF!"}},{"$f":"IF(#REF!=\"\", \"\",#REF!)","v":{"$error":"#REF!"}},{"$f":"IF(#REF!=\"\", \"\",#REF!)","v":{"$error":"#REF!"}},{"$f":"IF(#REF!=\"\", \"\",#REF!)","v":{"$error":"#REF!"}},{"$f":"IF(#REF!=\"\", \"\",#REF!)","v":{"$error":"#REF!"}},{"$f":"IF(#REF!=\"\", \"\",#REF!)","v":{"$error":"#REF!"}},{"$f":"IF(#REF!=\"\", \"\",#REF!)","v":{"$error":"#REF!"}},{"$f":"IF(#REF!=\"\", \"\",#REF!)","v":{"$error":"#REF!"}},{"$f":"IF(#REF!=\"\", \"\",#REF!)","v":{"$error":"#REF!"}},{"$f":"IF(#REF!=\"\", \"\",#REF!)","v":{"$error":"#REF!"}},{"$f":"IF(#REF!=\"\", \"\",#REF!)","v":{"$error":"#REF!"}},{"$f":"IF(#REF!=\"\", \"\",#REF!)","v":{"$error":"#REF!"}},{"$f":"IF(#REF!=\"\", \"\",#REF!)","v":{"$error":"#REF!"}},{"$f":"IF(#REF!=\"\", \"\",#REF!)","v":{"$error":"#REF!"}},{"$f":"IF(#REF!=\"\", \"\",#REF!)","v":{"$error":"#REF!"}},{"$f":"IF(#REF!=\"\", \"\",#REF!)","v":{"$error":"#REF!"}},{"$f":"IF(#REF!=\"\", \"\",#REF!)","v":{"$error":"#REF!"}},{"$f":"IF(#REF!=\"\", \"\",#REF!)","v":{"$error":"#REF!"}},{"$f":"IF(#REF!=\"\", \"\",#REF!)","v":{"$error":"#REF!"}},{"$f":"IF(#REF!=\"\", \"\",#REF!)","v":{"$error":"#REF!"}},{"$f":"IF(#REF!=\"\", \"\",#REF!)","v":{"$error":"#REF!"}},{"$f":"IF(#REF!=\"\", \"\",#REF!)","v":{"$error":"#REF!"}},{"$f":"IF(#REF!=\"\", \"\",#REF!)","v":{"$error":"#REF!"}},{"$f":"IF(#REF!=\"\", \"\",#REF!)","v":{"$error":"#REF!"}},{"$f":"IF(#REF!=\"\", \"\",#REF!)","v":{"$error":"#REF!"}},{"$f":"IF(#REF!=\"\", \"\",#REF!)","v":{"$error":"#REF!"}},{"$f":"IF(#REF!=\"\", \"\",#REF!)","v":{"$error":"#REF!"}},{"$f":"IF(#REF!=\"\", \"\",#REF!)","v":{"$error":"#REF!"}},{"$f":"IF(#REF!=\"\", \"\",#REF!)","v":{"$error":"#REF!"}},{"$f":"IF(#REF!=\"\", \"\",#REF!)","v":{"$error":"#REF!"}},{"$f":"IF(#REF!=\"\", \"\",#REF!)","v":{"$error":"#REF!"}},{"$f":"IF(#REF!=\"\", \"\",#REF!)","v":{"$error":"#REF!"}},{"$f":"IF(#REF!=\"\", \"\",#REF!)","v":{"$error":"#REF!"}},{"$f":"IF(#REF!=\"\", \"\",#REF!)","v":{"$error":"#REF!"}},{"$f":"IF(#REF!=\"\", \"\",#REF!)","v":{"$error":"#REF!"}},{"$f":"IF(#REF!=\"\", \"\",#REF!)","v":{"$error":"#REF!"}},{"$f":"IF(#REF!=\"\", \"\",#REF!)","v":{"$error":"#REF!"}},{"$f":"IF(#REF!=\"\", \"\",#REF!)","v":{"$error":"#REF!"}},{"$f":"IF(#REF!=\"\", \"\",#REF!)","v":{"$error":"#REF!"}},{"$f":"IF(#REF!=\"\", \"\",#REF!)","v":{"$error":"#REF!"}},{"$f":"IF(#REF!=\"\", \"\",#REF!)","v":{"$error":"#REF!"}},{"$f":"IF(#REF!=\"\", \"\",#REF!)","v":{"$error":"#REF!"}},{"$f":"IF(#REF!=\"\", \"\",#REF!)","v":{"$error":"#REF!"}},{"$f":"IF(#REF!=\"\", \"\",#REF!)","v":{"$error":"#REF!"}},{"$f":"IF(#REF!=\"\", \"\",#REF!)","v":{"$error":"#REF!"}},{"$f":"IF(#REF!=\"\", \"\",#REF!)","v":{"$error":"#REF!"}},{"$f":"IF(#REF!=\"\", \"\",#REF!)","v":{"$error":"#REF!"}},{"$f":"IF(#REF!=\"\", \"\",#REF!)","v":{"$error":"#REF!"}},{"$f":"IF(#REF!=\"\", \"\",#REF!)","v":{"$error":"#REF!"}},{"$f":"IF(#REF!=\"\", \"\",#REF!)","v":{"$error":"#REF!"}},{"$f":"IF(#REF!=\"\", \"\",#REF!)","v":{"$error":"#REF!"}},{"$f":"IF(#REF!=\"\", \"\",#REF!)","v":{"$error":"#REF!"}},{"$f":"IF(#REF!=\"\", \"\",#REF!)","v":{"$error":"#REF!"}},{"$f":"IF(#REF!=\"\", \"\",#REF!)","v":{"$error":"#REF!"}},{"$f":"IF(#REF!=\"\", \"\",#REF!)","v":{"$error":"#REF!"}},{"$f":"IF(#REF!=\"\", \"\",#REF!)","v":{"$error":"#REF!"}},{"$f":"IF(#REF!=\"\", \"\",#REF!)","v":{"$error":"#REF!"}},{"$f":"IF(#REF!=\"\", \"\",#REF!)","v":{"$error":"#REF!"}}]
["Item 10",{"$f":"IF(#REF!=\"\", \"\",#REF!)","v":{"$error":"#REF!"}},{"$f":"IF(#REF!=\"\", \"\",#REF!)","v":{"$error":"#REF!"}},{"$f":"IF(#REF!=\"\", \"\",#REF!)","v":{"$error":"#REF!"}},{"$f":"IF(#REF!=\"\", \"\",#REF!)","v":{"$error":"#REF!"}},{"$f":"IF(#REF!=\"\", \"\",#REF!)","v":{"$error":"#REF!"}},{"$f":"IF(#REF!=\"\", \"\",#REF!)","v":{"$error":"#REF!"}},{"$f":"IF(#REF!=\"\", \"\",#REF!)","v":{"$error":"#REF!"}},{"$f":"IF(#REF!=\"\", \"\",#REF!)","v":{"$error":"#REF!"}},{"$f":"IF(#REF!=\"\", \"\",#REF!)","v":{"$error":"#REF!"}},{"$f":"IF(#REF!=\"\", \"\",#REF!)","v":{"$error":"#REF!"}},{"$f":"IF(#REF!=\"\", \"\",#REF!)","v":{"$error":"#REF!"}},{"$f":"IF(#REF!=\"\", \"\",#REF!)","v":{"$error":"#REF!"}},{"$f":"IF(#REF!=\"\", \"\",#REF!)","v":{"$error":"#REF!"}},{"$f":"IF(#REF!=\"\", \"\",#REF!)","v":{"$error":"#REF!"}},{"$f":"IF(#REF!=\"\", \"\",#REF!)","v":{"$error":"#REF!"}},{"$f":"IF(#REF!=\"\", \"\",#REF!)","v":{"$error":"#REF!"}},{"$f":"IF(#REF!=\"\", \"\",#REF!)","v":{"$error":"#REF!"}},{"$f":"IF(#REF!=\"\", \"\",#REF!)","v":{"$error":"#REF!"}},{"$f":"IF(#REF!=\"\", \"\",#REF!)","v":{"$error":"#REF!"}},{"$f":"IF(#REF!=\"\", \"\",#REF!)","v":{"$error":"#REF!"}},{"$f":"IF(#REF!=\"\", \"\",#REF!)","v":{"$error":"#REF!"}},{"$f":"IF(#REF!=\"\", \"\",#REF!)","v":{"$error":"#REF!"}},{"$f":"IF(#REF!=\"\", \"\",#REF!)","v":{"$error":"#REF!"}},{"$f":"IF(#REF!=\"\", \"\",#REF!)","v":{"$error":"#REF!"}},{"$f":"IF(#REF!=\"\", \"\",#REF!)","v":{"$error":"#REF!"}},{"$f":"IF(#REF!=\"\", \"\",#REF!)","v":{"$error":"#REF!"}},{"$f":"IF(#REF!=\"\", \"\",#REF!)","v":{"$error":"#REF!"}},{"$f":"IF(#REF!=\"\", \"\",#REF!)","v":{"$error":"#REF!"}},{"$f":"IF(#REF!=\"\", \"\",#REF!)","v":{"$error":"#REF!"}},{"$f":"IF(#REF!=\"\", \"\",#REF!)","v":{"$error":"#REF!"}},{"$f":"IF(#REF!=\"\", \"\",#REF!)","v":{"$error":"#REF!"}},{"$f":"IF(#REF!=\"\", \"\",#REF!)","v":{"$error":"#REF!"}},{"$f":"IF(#REF!=\"\", \"\",#REF!)","v":{"$error":"#REF!"}},{"$f":"IF(#REF!=\"\", \"\",#REF!)","v":{"$error":"#REF!"}},{"$f":"IF(#REF!=\"\", \"\",#REF!)","v":{"$error":"#REF!"}},{"$f":"IF(#REF!=\"\", \"\",#REF!)","v":{"$error":"#REF!"}},{"$f":"IF(#REF!=\"\", \"\",#REF!)","v":{"$error":"#REF!"}},{"$f":"IF(#REF!=\"\", \"\",#REF!)","v":{"$error":"#REF!"}},{"$f":"IF(#REF!=\"\", \"\",#REF!)","v":{"$error":"#REF!"}},{"$f":"IF(#REF!=\"\", \"\",#REF!)","v":{"$error":"#REF!"}},{"$f":"IF(#REF!=\"\", \"\",#REF!)","v":{"$error":"#REF!"}},{"$f":"IF(#REF!=\"\", \"\",#REF!)","v":{"$error":"#REF!"}},{"$f":"IF(#REF!=\"\", \"\",#REF!)","v":{"$error":"#REF!"}},{"$f":"IF(#REF!=\"\", \"\",#REF!)","v":{"$error":"#REF!"}},{"$f":"IF(#REF!=\"\", \"\",#REF!)","v":{"$error":"#REF!"}},{"$f":"IF(#REF!=\"\", \"\",#REF!)","v":{"$error":"#REF!"}},{"$f":"IF(#REF!=\"\", \"\",#REF!)","v":{"$error":"#REF!"}},{"$f":"IF(#REF!=\"\", \"\",#REF!)","v":{"$error":"#REF!"}},{"$f":"IF(#REF!=\"\", \"\",#REF!)","v":{"$error":"#REF!"}},{"$f":"IF(#REF!=\"\", \"\",#REF!)","v":{"$error":"#REF!"}},{"$f":"IF(#REF!=\"\", \"\",#REF!)","v":{"$error":"#REF!"}},{"$f":"IF(#REF!=\"\", \"\",#REF!)","v":{"$error":"#REF!"}},{"$f":"IF(#REF!=\"\", \"\",#REF!)","v":{"$error":"#REF!"}},{"$f":"IF(#REF!=\"\", \"\",#REF!)","v":{"$error":"#REF!"}},{"$f":"IF(#REF!=\"\", \"\",#REF!)","v":{"$error":"#REF!"}},{"$f":"IF(#REF!=\"\", \"\",#REF!)","v":{"$error":"#REF!"}},{"$f":"IF(#REF!=\"\", \"\",#REF!)","v":{"$error":"#REF!"}},{"$f":"IF(#REF!=\"\", \"\",#REF!)","v":{"$error":"#REF!"}},{"$f":"IF(#REF!=\"\", \"\",#REF!)","v":{"$error":"#REF!"}},{"$f":"IF(#REF!=\"\", \"\",#REF!)","v":{"$error":"#REF!"}},{"$f":"IF(#REF!=\"\", \"\",#REF!)","v":{"$error":"#REF!"}}]
["Item 11",{"$f":"IF(#REF!=\"\", \"\",#REF!)","v":{"$error":"#REF!"}},{"$f":"IF(#REF!=\"\", \"\",#REF!)","v":{"$error":"#REF!"}},{"$f":"IF(#REF!=\"\", \"\",#REF!)","v":{"$error":"#REF!"}},{"$f":"IF(#REF!=\"\", \"\",#REF!)","v":{"$error":"#REF!"}},{"$f":"IF(#REF!=\"\", \"\",#REF!)","v":{"$error":"#REF!"}},{"$f":"IF(#REF!=\"\", \"\",#REF!)","v":{"$error":"#REF!"}},{"$f":"IF(#REF!=\"\", \"\",#REF!)","v":{"$error":"#REF!"}},{"$f":"IF(#REF!=\"\", \"\",#REF!)","v":{"$error":"#REF!"}},{"$f":"IF(#REF!=\"\", \"\",#REF!)","v":{"$error":"#REF!"}},{"$f":"IF(#REF!=\"\", \"\",#REF!)","v":{"$error":"#REF!"}},{"$f":"IF(#REF!=\"\", \"\",#REF!)","v":{"$error":"#REF!"}},{"$f":"IF(#REF!=\"\", \"\",#REF!)","v":{"$error":"#REF!"}},{"$f":"IF(#REF!=\"\", \"\",#REF!)","v":{"$error":"#REF!"}},{"$f":"IF(#REF!=\"\", \"\",#REF!)","v":{"$error":"#REF!"}},{"$f":"IF(#REF!=\"\", \"\",#REF!)","v":{"$error":"#REF!"}},{"$f":"IF(#REF!=\"\", \"\",#REF!)","v":{"$error":"#REF!"}},{"$f":"IF(#REF!=\"\", \"\",#REF!)","v":{"$error":"#REF!"}},{"$f":"IF(#REF!=\"\", \"\",#REF!)","v":{"$error":"#REF!"}},{"$f":"IF(#REF!=\"\", \"\",#REF!)","v":{"$error":"#REF!"}},{"$f":"IF(#REF!=\"\", \"\",#REF!)","v":{"$error":"#REF!"}},{"$f":"IF(#REF!=\"\", \"\",#REF!)","v":{"$error":"#REF!"}},{"$f":"IF(#REF!=\"\", \"\",#REF!)","v":{"$error":"#REF!"}},{"$f":"IF(#REF!=\"\", \"\",#REF!)","v":{"$error":"#REF!"}},{"$f":"IF(#REF!=\"\", \"\",#REF!)","v":{"$error":"#REF!"}},{"$f":"IF(#REF!=\"\", \"\",#REF!)","v":{"$error":"#REF!"}},{"$f":"IF(#REF!=\"\", \"\",#REF!)","v":{"$error":"#REF!"}},{"$f":"IF(#REF!=\"\", \"\",#REF!)","v":{"$error":"#REF!"}},{"$f":"IF(#REF!=\"\", \"\",#REF!)","v":{"$error":"#REF!"}},{"$f":"IF(#REF!=\"\", \"\",#REF!)","v":{"$error":"#REF!"}},{"$f":"IF(#REF!=\"\", \"\",#REF!)","v":{"$error":"#REF!"}},{"$f":"IF(#REF!=\"\", \"\",#REF!)","v":{"$error":"#REF!"}},{"$f":"IF(#REF!=\"\", \"\",#REF!)","v":{"$error":"#REF!"}},{"$f":"IF(#REF!=\"\", \"\",#REF!)","v":{"$error":"#REF!"}},{"$f":"IF(#REF!=\"\", \"\",#REF!)","v":{"$error":"#REF!"}},{"$f":"IF(#REF!=\"\", \"\",#REF!)","v":{"$error":"#REF!"}},{"$f":"IF(#REF!=\"\", \"\",#REF!)","v":{"$error":"#REF!"}},{"$f":"IF(#REF!=\"\", \"\",#REF!)","v":{"$error":"#REF!"}},{"$f":"IF(#REF!=\"\", \"\",#REF!)","v":{"$error":"#REF!"}},{"$f":"IF(#REF!=\"\", \"\",#REF!)","v":{"$error":"#REF!"}},{"$f":"IF(#REF!=\"\", \"\",#REF!)","v":{"$error":"#REF!"}},{"$f":"IF(#REF!=\"\", \"\",#REF!)","v":{"$error":"#REF!"}},{"$f":"IF(#REF!=\"\", \"\",#REF!)","v":{"$error":"#REF!"}},{"$f":"IF(#REF!=\"\", \"\",#REF!)","v":{"$error":"#REF!"}},{"$f":"IF(#REF!=\"\", \"\",#REF!)","v":{"$error":"#REF!"}},{"$f":"IF(#REF!=\"\", \"\",#REF!)","v":{"$error":"#REF!"}},{"$f":"IF(#REF!=\"\", \"\",#REF!)","v":{"$error":"#REF!"}},{"$f":"IF(#REF!=\"\", \"\",#REF!)","v":{"$error":"#REF!"}},{"$f":"IF(#REF!=\"\", \"\",#REF!)","v":{"$error":"#REF!"}},{"$f":"IF(#REF!=\"\", \"\",#REF!)","v":{"$error":"#REF!"}},{"$f":"IF(#REF!=\"\", \"\",#REF!)","v":{"$error":"#REF!"}},{"$f":"IF(#REF!=\"\", \"\",#REF!)","v":{"$error":"#REF!"}},{"$f":"IF(#REF!=\"\", \"\",#REF!)","v":{"$error":"#REF!"}},{"$f":"IF(#REF!=\"\", \"\",#REF!)","v":{"$error":"#REF!"}},{"$f":"IF(#REF!=\"\", \"\",#REF!)","v":{"$error":"#REF!"}},{"$f":"IF(#REF!=\"\", \"\",#REF!)","v":{"$error":"#REF!"}},{"$f":"IF(#REF!=\"\", \"\",#REF!)","v":{"$error":"#REF!"}},{"$f":"IF(#REF!=\"\", \"\",#REF!)","v":{"$error":"#REF!"}},{"$f":"IF(#REF!=\"\", \"\",#REF!)","v":{"$error":"#REF!"}},{"$f":"IF(#REF!=\"\", \"\",#REF!)","v":{"$error":"#REF!"}},{"$f":"IF(#REF!=\"\", \"\",#REF!)","v":{"$error":"#REF!"}},{"$f":"IF(#REF!=\"\", \"\",#REF!)","v":{"$error":"#REF!"}}]
["Item 12",{"$f":"IF(#REF!=\"\", \"\",#REF!)","v":{"$error":"#REF!"}},{"$f":"IF(#REF!=\"\", \"\",#REF!)","v":{"$error":"#REF!"}},{"$f":"IF(#REF!=\"\", \"\",#REF!)","v":{"$error":"#REF!"}},{"$f":"IF(#REF!=\"\", \"\",#REF!)","v":{"$error":"#REF!"}},{"$f":"IF(#REF!=\"\", \"\",#REF!)","v":{"$error":"#REF!"}},{"$f":"IF(#REF!=\"\", \"\",#REF!)","v":{"$error":"#REF!"}},{"$f":"IF(#REF!=\"\", \"\",#REF!)","v":{"$error":"#REF!"}},{"$f":"IF(#REF!=\"\", \"\",#REF!)","v":{"$error":"#REF!"}},{"$f":"IF(#REF!=\"\", \"\",#REF!)","v":{"$error":"#REF!"}},{"$f":"IF(#REF!=\"\", \"\",#REF!)","v":{"$error":"#REF!"}},{"$f":"IF(#REF!=\"\", \"\",#REF!)","v":{"$error":"#REF!"}},{"$f":"IF(#REF!=\"\", \"\",#REF!)","v":{"$error":"#REF!"}},{"$f":"IF(#REF!=\"\", \"\",#REF!)","v":{"$error":"#REF!"}},{"$f":"IF(#REF!=\"\", \"\",#REF!)","v":{"$error":"#REF!"}},{"$f":"IF(#REF!=\"\", \"\",#REF!)","v":{"$error":"#REF!"}},{"$f":"IF(#REF!=\"\", \"\",#REF!)","v":{"$error":"#REF!"}},{"$f":"IF(#REF!=\"\", \"\",#REF!)","v":{"$error":"#REF!"}},{"$f":"IF(#REF!=\"\", \"\",#REF!)","v":{"$error":"#REF!"}},{"$f":"IF(#REF!=\"\", \"\",#REF!)","v":{"$error":"#REF!"}},{"$f":"IF(#REF!=\"\", \"\",#REF!)","v":{"$error":"#REF!"}},{"$f":"IF(#REF!=\"\", \"\",#REF!)","v":{"$error":"#REF!"}},{"$f":"IF(#REF!=\"\", \"\",#REF!)","v":{"$error":"#REF!"}},{"$f":"IF(#REF!=\"\", \"\",#REF!)","v":{"$error":"#REF!"}},{"$f":"IF(#REF!=\"\", \"\",#REF!)","v":{"$error":"#REF!"}},{"$f":"IF(#REF!=\"\", \"\",#REF!)","v":{"$error":"#REF!"}},{"$f":"IF(#REF!=\"\", \"\",#REF!)","v":{"$error":"#REF!"}},{"$f":"IF(#REF!=\"\", \"\",#REF!)","v":{"$error":"#REF!"}},{"$f":"IF(#REF!=\"\", \"\",#REF!)","v":{"$error":"#REF!"}},{"$f":"IF(#REF!=\"\", \"\",#REF!)","v":{"$error":"#REF!"}},{"$f":"IF(#REF!=\"\", \"\",#REF!)","v":{"$error":"#REF!"}},{"$f":"IF(#REF!=\"\", \"\",#REF!)","v":{"$error":"#REF!"}},{"$f":"IF(#REF!=\"\", \"\",#REF!)","v":{"$error":"#REF!"}},{"$f":"IF(#REF!=\"\", \"\",#REF!)","v":{"$error":"#REF!"}},{"$f":"IF(#REF!=\"\", \"\",#REF!)","v":{"$error":"#REF!"}},{"$f":"IF(#REF!=\"\", \"\",#REF!)","v":{"$error":"#REF!"}},{"$f":"IF(#REF!=\"\", \"\",#REF!)","v":{"$error":"#REF!"}},{"$f":"IF(#REF!=\"\", \"\",#REF!)","v":{"$error":"#REF!"}},{"$f":"IF(#REF!=\"\", \"\",#REF!)","v":{"$error":"#REF!"}},{"$f":"IF(#REF!=\"\", \"\",#REF!)","v":{"$error":"#REF!"}},{"$f":"IF(#REF!=\"\", \"\",#REF!)","v":{"$error":"#REF!"}},{"$f":"IF(#REF!=\"\", \"\",#REF!)","v":{"$error":"#REF!"}},{"$f":"IF(#REF!=\"\", \"\",#REF!)","v":{"$error":"#REF!"}},{"$f":"IF(#REF!=\"\", \"\",#REF!)","v":{"$error":"#REF!"}},{"$f":"IF(#REF!=\"\", \"\",#REF!)","v":{"$error":"#REF!"}},{"$f":"IF(#REF!=\"\", \"\",#REF!)","v":{"$error":"#REF!"}},{"$f":"IF(#REF!=\"\", \"\",#REF!)","v":{"$error":"#REF!"}},{"$f":"IF(#REF!=\"\", \"\",#REF!)","v":{"$error":"#REF!"}},{"$f":"IF(#REF!=\"\", \"\",#REF!)","v":{"$error":"#REF!"}},{"$f":"IF(#REF!=\"\", \"\",#REF!)","v":{"$error":"#REF!"}},{"$f":"IF(#REF!=\"\", \"\",#REF!)","v":{"$error":"#REF!"}},{"$f":"IF(#REF!=\"\", \"\",#REF!)","v":{"$error":"#REF!"}},{"$f":"IF(#REF!=\"\", \"\",#REF!)","v":{"$error":"#REF!"}},{"$f":"IF(#REF!=\"\", \"\",#REF!)","v":{"$error":"#REF!"}},{"$f":"IF(#REF!=\"\", \"\",#REF!)","v":{"$error":"#REF!"}},{"$f":"IF(#REF!=\"\", \"\",#REF!)","v":{"$error":"#REF!"}},{"$f":"IF(#REF!=\"\", \"\",#REF!)","v":{"$error":"#REF!"}},{"$f":"IF(#REF!=\"\", \"\",#REF!)","v":{"$error":"#REF!"}},{"$f":"IF(#REF!=\"\", \"\",#REF!)","v":{"$error":"#REF!"}},{"$f":"IF(#REF!=\"\", \"\",#REF!)","v":{"$error":"#REF!"}},{"$f":"IF(#REF!=\"\", \"\",#REF!)","v":{"$error":"#REF!"}},{"$f":"IF(#REF!=\"\", \"\",#REF!)","v":{"$error":"#REF!"}}]
["Item 13",{"$f":"IF(#REF!=\"\", \"\",#REF!)","v":{"$error":"#REF!"}},{"$f":"IF(#REF!=\"\", \"\",#REF!)","v":{"$error":"#REF!"}},{"$f":"IF(#REF!=\"\", \"\",#REF!)","v":{"$error":"#REF!"}},{"$f":"IF(#REF!=\"\", \"\",#REF!)","v":{"$error":"#REF!"}},{"$f":"IF(#REF!=\"\", \"\",#REF!)","v":{"$error":"#REF!"}},{"$f":"IF(#REF!=\"\", \"\",#REF!)","v":{"$error":"#REF!"}},{"$f":"IF(#REF!=\"\", \"\",#REF!)","v":{"$error":"#REF!"}},{"$f":"IF(#REF!=\"\", \"\",#REF!)","v":{"$error":"#REF!"}},{"$f":"IF(#REF!=\"\", \"\",#REF!)","v":{"$error":"#REF!"}},{"$f":"IF(#REF!=\"\", \"\",#REF!)","v":{"$error":"#REF!"}},{"$f":"IF(#REF!=\"\", \"\",#REF!)","v":{"$error":"#REF!"}},{"$f":"IF(#REF!=\"\", \"\",#REF!)","v":{"$error":"#REF!"}},{"$f":"IF(#REF!=\"\", \"\",#REF!)","v":{"$error":"#REF!"}},{"$f":"IF(#REF!=\"\", \"\",#REF!)","v":{"$error":"#REF!"}},{"$f":"IF(#REF!=\"\", \"\",#REF!)","v":{"$error":"#REF!"}},{"$f":"IF(#REF!=\"\", \"\",#REF!)","v":{"$error":"#REF!"}},{"$f":"IF(#REF!=\"\", \"\",#REF!)","v":{"$error":"#REF!"}},{"$f":"IF(#REF!=\"\", \"\",#REF!)","v":{"$error":"#REF!"}},{"$f":"IF(#REF!=\"\", \"\",#REF!)","v":{"$error":"#REF!"}},{"$f":"IF(#REF!=\"\", \"\",#REF!)","v":{"$error":"#REF!"}},{"$f":"IF(#REF!=\"\", \"\",#REF!)","v":{"$error":"#REF!"}},{"$f":"IF(#REF!=\"\", \"\",#REF!)","v":{"$error":"#REF!"}},{"$f":"IF(#REF!=\"\", \"\",#REF!)","v":{"$error":"#REF!"}},{"$f":"IF(#REF!=\"\", \"\",#REF!)","v":{"$error":"#REF!"}},{"$f":"IF(#REF!=\"\", \"\",#REF!)","v":{"$error":"#REF!"}},{"$f":"IF(#REF!=\"\", \"\",#REF!)","v":{"$error":"#REF!"}},{"$f":"IF(#REF!=\"\", \"\",#REF!)","v":{"$error":"#REF!"}},{"$f":"IF(#REF!=\"\", \"\",#REF!)","v":{"$error":"#REF!"}},{"$f":"IF(#REF!=\"\", \"\",#REF!)","v":{"$error":"#REF!"}},{"$f":"IF(#REF!=\"\", \"\",#REF!)","v":{"$error":"#REF!"}},{"$f":"IF(#REF!=\"\", \"\",#REF!)","v":{"$error":"#REF!"}},{"$f":"IF(#REF!=\"\", \"\",#REF!)","v":{"$error":"#REF!"}},{"$f":"IF(#REF!=\"\", \"\",#REF!)","v":{"$error":"#REF!"}},{"$f":"IF(#REF!=\"\", \"\",#REF!)","v":{"$error":"#REF!"}},{"$f":"IF(#REF!=\"\", \"\",#REF!)","v":{"$error":"#REF!"}},{"$f":"IF(#REF!=\"\", \"\",#REF!)","v":{"$error":"#REF!"}},{"$f":"IF(#REF!=\"\", \"\",#REF!)","v":{"$error":"#REF!"}},{"$f":"IF(#REF!=\"\", \"\",#REF!)","v":{"$error":"#REF!"}},{"$f":"IF(#REF!=\"\", \"\",#REF!)","v":{"$error":"#REF!"}},{"$f":"IF(#REF!=\"\", \"\",#REF!)","v":{"$error":"#REF!"}},{"$f":"IF(#REF!=\"\", \"\",#REF!)","v":{"$error":"#REF!"}},{"$f":"IF(#REF!=\"\", \"\",#REF!)","v":{"$error":"#REF!"}},{"$f":"IF(#REF!=\"\", \"\",#REF!)","v":{"$error":"#REF!"}},{"$f":"IF(#REF!=\"\", \"\",#REF!)","v":{"$error":"#REF!"}},{"$f":"IF(#REF!=\"\", \"\",#REF!)","v":{"$error":"#REF!"}},{"$f":"IF(#REF!=\"\", \"\",#REF!)","v":{"$error":"#REF!"}},{"$f":"IF(#REF!=\"\", \"\",#REF!)","v":{"$error":"#REF!"}},{"$f":"IF(#REF!=\"\", \"\",#REF!)","v":{"$error":"#REF!"}},{"$f":"IF(#REF!=\"\", \"\",#REF!)","v":{"$error":"#REF!"}},{"$f":"IF(#REF!=\"\", \"\",#REF!)","v":{"$error":"#REF!"}},{"$f":"IF(#REF!=\"\", \"\",#REF!)","v":{"$error":"#REF!"}},{"$f":"IF(#REF!=\"\", \"\",#REF!)","v":{"$error":"#REF!"}},{"$f":"IF(#REF!=\"\", \"\",#REF!)","v":{"$error":"#REF!"}},{"$f":"IF(#REF!=\"\", \"\",#REF!)","v":{"$error":"#REF!"}},{"$f":"IF(#REF!=\"\", \"\",#REF!)","v":{"$error":"#REF!"}},{"$f":"IF(#REF!=\"\", \"\",#REF!)","v":{"$error":"#REF!"}},{"$f":"IF(#REF!=\"\", \"\",#REF!)","v":{"$error":"#REF!"}},{"$f":"IF(#REF!=\"\", \"\",#REF!)","v":{"$error":"#REF!"}},{"$f":"IF(#REF!=\"\", \"\",#REF!)","v":{"$error":"#REF!"}},{"$f":"IF(#REF!=\"\", \"\",#REF!)","v":{"$error":"#REF!"}},{"$f":"IF(#REF!=\"\", \"\",#REF!)","v":{"$error":"#REF!"}}]
["Item 14",{"$f":"IF(#REF!=\"\", \"\",#REF!)","v":{"$error":"#REF!"}},{"$f":"IF(#REF!=\"\", \"\",#REF!)","v":{"$error":"#REF!"}},{"$f":"IF(#REF!=\"\", \"\",#REF!)","v":{"$error":"#REF!"}},{"$f":"IF(#REF!=\"\", \"\",#REF!)","v":{"$error":"#REF!"}},{"$f":"IF(#REF!=\"\", \"\",#REF!)","v":{"$error":"#REF!"}},{"$f":"IF(#REF!=\"\", \"\",#REF!)","v":{"$error":"#REF!"}},{"$f":"IF(#REF!=\"\", \"\",#REF!)","v":{"$error":"#REF!"}},{"$f":"IF(#REF!=\"\", \"\",#REF!)","v":{"$error":"#REF!"}},{"$f":"IF(#REF!=\"\", \"\",#REF!)","v":{"$error":"#REF!"}},{"$f":"IF(#REF!=\"\", \"\",#REF!)","v":{"$error":"#REF!"}},{"$f":"IF(#REF!=\"\", \"\",#REF!)","v":{"$error":"#REF!"}},{"$f":"IF(#REF!=\"\", \"\",#REF!)","v":{"$error":"#REF!"}},{"$f":"IF(#REF!=\"\", \"\",#REF!)","v":{"$error":"#REF!"}},{"$f":"IF(#REF!=\"\", \"\",#REF!)","v":{"$error":"#REF!"}},{"$f":"IF(#REF!=\"\", \"\",#REF!)","v":{"$error":"#REF!"}},{"$f":"IF(#REF!=\"\", \"\",#REF!)","v":{"$error":"#REF!"}},{"$f":"IF(#REF!=\"\", \"\",#REF!)","v":{"$error":"#REF!"}},{"$f":"IF(#REF!=\"\", \"\",#REF!)","v":{"$error":"#REF!"}},{"$f":"IF(#REF!=\"\", \"\",#REF!)","v":{"$error":"#REF!"}},{"$f":"IF(#REF!=\"\", \"\",#REF!)","v":{"$error":"#REF!"}},{"$f":"IF(#REF!=\"\", \"\",#REF!)","v":{"$error":"#REF!"}},{"$f":"IF(#REF!=\"\", \"\",#REF!)","v":{"$error":"#REF!"}},{"$f":"IF(#REF!=\"\", \"\",#REF!)","v":{"$error":"#REF!"}},{"$f":"IF(#REF!=\"\", \"\",#REF!)","v":{"$error":"#REF!"}},{"$f":"IF(#REF!=\"\", \"\",#REF!)","v":{"$error":"#REF!"}},{"$f":"IF(#REF!=\"\", \"\",#REF!)","v":{"$error":"#REF!"}},{"$f":"IF(#REF!=\"\", \"\",#REF!)","v":{"$error":"#REF!"}},{"$f":"IF(#REF!=\"\", \"\",#REF!)","v":{"$error":"#REF!"}},{"$f":"IF(#REF!=\"\", \"\",#REF!)","v":{"$error":"#REF!"}},{"$f":"IF(#REF!=\"\", \"\",#REF!)","v":{"$error":"#REF!"}},{"$f":"IF(#REF!=\"\", \"\",#REF!)","v":{"$error":"#REF!"}},{"$f":"IF(#REF!=\"\", \"\",#REF!)","v":{"$error":"#REF!"}},{"$f":"IF(#REF!=\"\", \"\",#REF!)","v":{"$error":"#REF!"}},{"$f":"IF(#REF!=\"\", \"\",#REF!)","v":{"$error":"#REF!"}},{"$f":"IF(#REF!=\"\", \"\",#REF!)","v":{"$error":"#REF!"}},{"$f":"IF(#REF!=\"\", \"\",#REF!)","v":{"$error":"#REF!"}},{"$f":"IF(#REF!=\"\", \"\",#REF!)","v":{"$error":"#REF!"}},{"$f":"IF(#REF!=\"\", \"\",#REF!)","v":{"$error":"#REF!"}},{"$f":"IF(#REF!=\"\", \"\",#REF!)","v":{"$error":"#REF!"}},{"$f":"IF(#REF!=\"\", \"\",#REF!)","v":{"$error":"#REF!"}},{"$f":"IF(#REF!=\"\", \"\",#REF!)","v":{"$error":"#REF!"}},{"$f":"IF(#REF!=\"\", \"\",#REF!)","v":{"$error":"#REF!"}},{"$f":"IF(#REF!=\"\", \"\",#REF!)","v":{"$error":"#REF!"}},{"$f":"IF(#REF!=\"\", \"\",#REF!)","v":{"$error":"#REF!"}},{"$f":"IF(#REF!=\"\", \"\",#REF!)","v":{"$error":"#REF!"}},{"$f":"IF(#REF!=\"\", \"\",#REF!)","v":{"$error":"#REF!"}},{"$f":"IF(#REF!=\"\", \"\",#REF!)","v":{"$error":"#REF!"}},{"$f":"IF(#REF!=\"\", \"\",#REF!)","v":{"$error":"#REF!"}},{"$f":"IF(#REF!=\"\", \"\",#REF!)","v":{"$error":"#REF!"}},{"$f":"IF(#REF!=\"\", \"\",#REF!)","v":{"$error":"#REF!"}},{"$f":"IF(#REF!=\"\", \"\",#REF!)","v":{"$error":"#REF!"}},{"$f":"IF(#REF!=\"\", \"\",#REF!)","v":{"$error":"#REF!"}},{"$f":"IF(#REF!=\"\", \"\",#REF!)","v":{"$error":"#REF!"}},{"$f":"IF(#REF!=\"\", \"\",#REF!)","v":{"$error":"#REF!"}},{"$f":"IF(#REF!=\"\", \"\",#REF!)","v":{"$error":"#REF!"}},{"$f":"IF(#REF!=\"\", \"\",#REF!)","v":{"$error":"#REF!"}},{"$f":"IF(#REF!=\"\", \"\",#REF!)","v":{"$error":"#REF!"}},{"$f":"IF(#REF!=\"\", \"\",#REF!)","v":{"$error":"#REF!"}},{"$f":"IF(#REF!=\"\", \"\",#REF!)","v":{"$error":"#REF!"}},{"$f":"IF(#REF!=\"\", \"\",#REF!)","v":{"$error":"#REF!"}},{"$f":"IF(#REF!=\"\", \"\",#REF!)","v":{"$error":"#REF!"}}]
["Item 15",{"$f":"IF(#REF!=\"\", \"\",#REF!)","v":{"$error":"#REF!"}},{"$f":"IF(#REF!=\"\", \"\",#REF!)","v":{"$error":"#REF!"}},{"$f":"IF(#REF!=\"\", \"\",#REF!)","v":{"$error":"#REF!"}},{"$f":"IF(#REF!=\"\", \"\",#REF!)","v":{"$error":"#REF!"}},{"$f":"IF(#REF!=\"\", \"\",#REF!)","v":{"$error":"#REF!"}},{"$f":"IF(#REF!=\"\", \"\",#REF!)","v":{"$error":"#REF!"}},{"$f":"IF(#REF!=\"\", \"\",#REF!)","v":{"$error":"#REF!"}},{"$f":"IF(#REF!=\"\", \"\",#REF!)","v":{"$error":"#REF!"}},{"$f":"IF(#REF!=\"\", \"\",#REF!)","v":{"$error":"#REF!"}},{"$f":"IF(#REF!=\"\", \"\",#REF!)","v":{"$error":"#REF!"}},{"$f":"IF(#REF!=\"\", \"\",#REF!)","v":{"$error":"#REF!"}},{"$f":"IF(#REF!=\"\", \"\",#REF!)","v":{"$error":"#REF!"}},{"$f":"IF(#REF!=\"\", \"\",#REF!)","v":{"$error":"#REF!"}},{"$f":"IF(#REF!=\"\", \"\",#REF!)","v":{"$error":"#REF!"}},{"$f":"IF(#REF!=\"\", \"\",#REF!)","v":{"$error":"#REF!"}},{"$f":"IF(#REF!=\"\", \"\",#REF!)","v":{"$error":"#REF!"}},{"$f":"IF(#REF!=\"\", \"\",#REF!)","v":{"$error":"#REF!"}},{"$f":"IF(#REF!=\"\", \"\",#REF!)","v":{"$error":"#REF!"}},{"$f":"IF(#REF!=\"\", \"\",#REF!)","v":{"$error":"#REF!"}},{"$f":"IF(#REF!=\"\", \"\",#REF!)","v":{"$error":"#REF!"}},{"$f":"IF(#REF!=\"\", \"\",#REF!)","v":{"$error":"#REF!"}},{"$f":"IF(#REF!=\"\", \"\",#REF!)","v":{"$error":"#REF!"}},{"$f":"IF(#REF!=\"\", \"\",#REF!)","v":{"$error":"#REF!"}},{"$f":"IF(#REF!=\"\", \"\",#REF!)","v":{"$error":"#REF!"}},{"$f":"IF(#REF!=\"\", \"\",#REF!)","v":{"$error":"#REF!"}},{"$f":"IF(#REF!=\"\", \"\",#REF!)","v":{"$error":"#REF!"}},{"$f":"IF(#REF!=\"\", \"\",#REF!)","v":{"$error":"#REF!"}},{"$f":"IF(#REF!=\"\", \"\",#REF!)","v":{"$error":"#REF!"}},{"$f":"IF(#REF!=\"\", \"\",#REF!)","v":{"$error":"#REF!"}},{"$f":"IF(#REF!=\"\", \"\",#REF!)","v":{"$error":"#REF!"}},{"$f":"IF(#REF!=\"\", \"\",#REF!)","v":{"$error":"#REF!"}},{"$f":"IF(#REF!=\"\", \"\",#REF!)","v":{"$error":"#REF!"}},{"$f":"IF(#REF!=\"\", \"\",#REF!)","v":{"$error":"#REF!"}},{"$f":"IF(#REF!=\"\", \"\",#REF!)","v":{"$error":"#REF!"}},{"$f":"IF(#REF!=\"\", \"\",#REF!)","v":{"$error":"#REF!"}},{"$f":"IF(#REF!=\"\", \"\",#REF!)","v":{"$error":"#REF!"}},{"$f":"IF(#REF!=\"\", \"\",#REF!)","v":{"$error":"#REF!"}},{"$f":"IF(#REF!=\"\", \"\",#REF!)","v":{"$error":"#REF!"}},{"$f":"IF(#REF!=\"\", \"\",#REF!)","v":{"$error":"#REF!"}},{"$f":"IF(#REF!=\"\", \"\",#REF!)","v":{"$error":"#REF!"}},{"$f":"IF(#REF!=\"\", \"\",#REF!)","v":{"$error":"#REF!"}},{"$f":"IF(#REF!=\"\", \"\",#REF!)","v":{"$error":"#REF!"}},{"$f":"IF(#REF!=\"\", \"\",#REF!)","v":{"$error":"#REF!"}},{"$f":"IF(#REF!=\"\", \"\",#REF!)","v":{"$error":"#REF!"}},{"$f":"IF(#REF!=\"\", \"\",#REF!)","v":{"$error":"#REF!"}},{"$f":"IF(#REF!=\"\", \"\",#REF!)","v":{"$error":"#REF!"}},{"$f":"IF(#REF!=\"\", \"\",#REF!)","v":{"$error":"#REF!"}},{"$f":"IF(#REF!=\"\", \"\",#REF!)","v":{"$error":"#REF!"}},{"$f":"IF(#REF!=\"\", \"\",#REF!)","v":{"$error":"#REF!"}},{"$f":"IF(#REF!=\"\", \"\",#REF!)","v":{"$error":"#REF!"}},{"$f":"IF(#REF!=\"\", \"\",#REF!)","v":{"$error":"#REF!"}},{"$f":"IF(#REF!=\"\", \"\",#REF!)","v":{"$error":"#REF!"}},{"$f":"IF(#REF!=\"\", \"\",#REF!)","v":{"$error":"#REF!"}},{"$f":"IF(#REF!=\"\", \"\",#REF!)","v":{"$error":"#REF!"}},{"$f":"IF(#REF!=\"\", \"\",#REF!)","v":{"$error":"#REF!"}},{"$f":"IF(#REF!=\"\", \"\",#REF!)","v":{"$error":"#REF!"}},{"$f":"IF(#REF!=\"\", \"\",#REF!)","v":{"$error":"#REF!"}},{"$f":"IF(#REF!=\"\", \"\",#REF!)","v":{"$error":"#REF!"}},{"$f":"IF(#REF!=\"\", \"\",#REF!)","v":{"$error":"#REF!"}},{"$f":"IF(#REF!=\"\", \"\",#REF!)","v":{"$error":"#REF!"}},{"$f":"IF(#REF!=\"\", \"\",#REF!)","v":{"$error":"#REF!"}}]
["Item 16",{"$f":"IF(#REF!=\"\", \"\",#REF!)","v":{"$error":"#REF!"}},{"$f":"IF(#REF!=\"\", \"\",#REF!)","v":{"$error":"#REF!"}},{"$f":"IF(#REF!=\"\", \"\",#REF!)","v":{"$error":"#REF!"}},{"$f":"IF(#REF!=\"\", \"\",#REF!)","v":{"$error":"#REF!"}},{"$f":"IF(#REF!=\"\", \"\",#REF!)","v":{"$error":"#REF!"}},{"$f":"IF(#REF!=\"\", \"\",#REF!)","v":{"$error":"#REF!"}},{"$f":"IF(#REF!=\"\", \"\",#REF!)","v":{"$error":"#REF!"}},{"$f":"IF(#REF!=\"\", \"\",#REF!)","v":{"$error":"#REF!"}},{"$f":"IF(#REF!=\"\", \"\",#REF!)","v":{"$error":"#REF!"}},{"$f":"IF(#REF!=\"\", \"\",#REF!)","v":{"$error":"#REF!"}},{"$f":"IF(#REF!=\"\", \"\",#REF!)","v":{"$error":"#REF!"}},{"$f":"IF(#REF!=\"\", \"\",#REF!)","v":{"$error":"#REF!"}},{"$f":"IF(#REF!=\"\", \"\",#REF!)","v":{"$error":"#REF!"}},{"$f":"IF(#REF!=\"\", \"\",#REF!)","v":{"$error":"#REF!"}},{"$f":"IF(#REF!=\"\", \"\",#REF!)","v":{"$error":"#REF!"}},{"$f":"IF(#REF!=\"\", \"\",#REF!)","v":{"$error":"#REF!"}},{"$f":"IF(#REF!=\"\", \"\",#REF!)","v":{"$error":"#REF!"}},{"$f":"IF(#REF!=\"\", \"\",#REF!)","v":{"$error":"#REF!"}},{"$f":"IF(#REF!=\"\", \"\",#REF!)","v":{"$error":"#REF!"}},{"$f":"IF(#REF!=\"\", \"\",#REF!)","v":{"$error":"#REF!"}},{"$f":"IF(#REF!=\"\", \"\",#REF!)","v":{"$error":"#REF!"}},{"$f":"IF(#REF!=\"\", \"\",#REF!)","v":{"$error":"#REF!"}},{"$f":"IF(#REF!=\"\", \"\",#REF!)","v":{"$error":"#REF!"}},{"$f":"IF(#REF!=\"\", \"\",#REF!)","v":{"$error":"#REF!"}},{"$f":"IF(#REF!=\"\", \"\",#REF!)","v":{"$error":"#REF!"}},{"$f":"IF(#REF!=\"\", \"\",#REF!)","v":{"$error":"#REF!"}},{"$f":"IF(#REF!=\"\", \"\",#REF!)","v":{"$error":"#REF!"}},{"$f":"IF(#REF!=\"\", \"\",#REF!)","v":{"$error":"#REF!"}},{"$f":"IF(#REF!=\"\", \"\",#REF!)","v":{"$error":"#REF!"}},{"$f":"IF(#REF!=\"\", \"\",#REF!)","v":{"$error":"#REF!"}},{"$f":"IF(#REF!=\"\", \"\",#REF!)","v":{"$error":"#REF!"}},{"$f":"IF(#REF!=\"\", \"\",#REF!)","v":{"$error":"#REF!"}},{"$f":"IF(#REF!=\"\", \"\",#REF!)","v":{"$error":"#REF!"}},{"$f":"IF(#REF!=\"\", \"\",#REF!)","v":{"$error":"#REF!"}},{"$f":"IF(#REF!=\"\", \"\",#REF!)","v":{"$error":"#REF!"}},{"$f":"IF(#REF!=\"\", \"\",#REF!)","v":{"$error":"#REF!"}},{"$f":"IF(#REF!=\"\", \"\",#REF!)","v":{"$error":"#REF!"}},{"$f":"IF(#REF!=\"\", \"\",#REF!)","v":{"$error":"#REF!"}},{"$f":"IF(#REF!=\"\", \"\",#REF!)","v":{"$error":"#REF!"}},{"$f":"IF(#REF!=\"\", \"\",#REF!)","v":{"$error":"#REF!"}},{"$f":"IF(#REF!=\"\", \"\",#REF!)","v":{"$error":"#REF!"}},{"$f":"IF(#REF!=\"\", \"\",#REF!)","v":{"$error":"#REF!"}},{"$f":"IF(#REF!=\"\", \"\",#REF!)","v":{"$error":"#REF!"}},{"$f":"IF(#REF!=\"\", \"\",#REF!)","v":{"$error":"#REF!"}},{"$f":"IF(#REF!=\"\", \"\",#REF!)","v":{"$error":"#REF!"}},{"$f":"IF(#REF!=\"\", \"\",#REF!)","v":{"$error":"#REF!"}},{"$f":"IF(#REF!=\"\", \"\",#REF!)","v":{"$error":"#REF!"}},{"$f":"IF(#REF!=\"\", \"\",#REF!)","v":{"$error":"#REF!"}},{"$f":"IF(#REF!=\"\", \"\",#REF!)","v":{"$error":"#REF!"}},{"$f":"IF(#REF!=\"\", \"\",#REF!)","v":{"$error":"#REF!"}},{"$f":"IF(#REF!=\"\", \"\",#REF!)","v":{"$error":"#REF!"}},{"$f":"IF(#REF!=\"\", \"\",#REF!)","v":{"$error":"#REF!"}},{"$f":"IF(#REF!=\"\", \"\",#REF!)","v":{"$error":"#REF!"}},{"$f":"IF(#REF!=\"\", \"\",#REF!)","v":{"$error":"#REF!"}},{"$f":"IF(#REF!=\"\", \"\",#REF!)","v":{"$error":"#REF!"}},{"$f":"IF(#REF!=\"\", \"\",#REF!)","v":{"$error":"#REF!"}},{"$f":"IF(#REF!=\"\", \"\",#REF!)","v":{"$error":"#REF!"}},{"$f":"IF(#REF!=\"\", \"\",#REF!)","v":{"$error":"#REF!"}},{"$f":"IF(#REF!=\"\", \"\",#REF!)","v":{"$error":"#REF!"}},{"$f":"IF(#REF!=\"\", \"\",#REF!)","v":{"$error":"#REF!"}},{"$f":"IF(#REF!=\"\", \"\",#REF!)","v":{"$error":"#REF!"}}]
["Item 17",{"$f":"IF(#REF!=\"\", \"\",#REF!)","v":{"$error":"#REF!"}},{"$f":"IF(#REF!=\"\", \"\",#REF!)","v":{"$error":"#REF!"}},{"$f":"IF(#REF!=\"\", \"\",#REF!)","v":{"$error":"#REF!"}},{"$f":"IF(#REF!=\"\", \"\",#REF!)","v":{"$error":"#REF!"}},{"$f":"IF(#REF!=\"\", \"\",#REF!)","v":{"$error":"#REF!"}},{"$f":"IF(#REF!=\"\", \"\",#REF!)","v":{"$error":"#REF!"}},{"$f":"IF(#REF!=\"\", \"\",#REF!)","v":{"$error":"#REF!"}},{"$f":"IF(#REF!=\"\", \"\",#REF!)","v":{"$error":"#REF!"}},{"$f":"IF(#REF!=\"\", \"\",#REF!)","v":{"$error":"#REF!"}},{"$f":"IF(#REF!=\"\", \"\",#REF!)","v":{"$error":"#REF!"}},{"$f":"IF(#REF!=\"\", \"\",#REF!)","v":{"$error":"#REF!"}},{"$f":"IF(#REF!=\"\", \"\",#REF!)","v":{"$error":"#REF!"}},{"$f":"IF(#REF!=\"\", \"\",#REF!)","v":{"$error":"#REF!"}},{"$f":"IF(#REF!=\"\", \"\",#REF!)","v":{"$error":"#REF!"}},{"$f":"IF(#REF!=\"\", \"\",#REF!)","v":{"$error":"#REF!"}},{"$f":"IF(#REF!=\"\", \"\",#REF!)","v":{"$error":"#REF!"}},{"$f":"IF(#REF!=\"\", \"\",#REF!)","v":{"$error":"#REF!"}},{"$f":"IF(#REF!=\"\", \"\",#REF!)","v":{"$error":"#REF!"}},{"$f":"IF(#REF!=\"\", \"\",#REF!)","v":{"$error":"#REF!"}},{"$f":"IF(#REF!=\"\", \"\",#REF!)","v":{"$error":"#REF!"}},{"$f":"IF(#REF!=\"\", \"\",#REF!)","v":{"$error":"#REF!"}},{"$f":"IF(#REF!=\"\", \"\",#REF!)","v":{"$error":"#REF!"}},{"$f":"IF(#REF!=\"\", \"\",#REF!)","v":{"$error":"#REF!"}},{"$f":"IF(#REF!=\"\", \"\",#REF!)","v":{"$error":"#REF!"}},{"$f":"IF(#REF!=\"\", \"\",#REF!)","v":{"$error":"#REF!"}},{"$f":"IF(#REF!=\"\", \"\",#REF!)","v":{"$error":"#REF!"}},{"$f":"IF(#REF!=\"\", \"\",#REF!)","v":{"$error":"#REF!"}},{"$f":"IF(#REF!=\"\", \"\",#REF!)","v":{"$error":"#REF!"}},{"$f":"IF(#REF!=\"\", \"\",#REF!)","v":{"$error":"#REF!"}},{"$f":"IF(#REF!=\"\", \"\",#REF!)","v":{"$error":"#REF!"}},{"$f":"IF(#REF!=\"\", \"\",#REF!)","v":{"$error":"#REF!"}},{"$f":"IF(#REF!=\"\", \"\",#REF!)","v":{"$error":"#REF!"}},{"$f":"IF(#REF!=\"\", \"\",#REF!)","v":{"$error":"#REF!"}},{"$f":"IF(#REF!=\"\", \"\",#REF!)","v":{"$error":"#REF!"}},{"$f":"IF(#REF!=\"\", \"\",#REF!)","v":{"$error":"#REF!"}},{"$f":"IF(#REF!=\"\", \"\",#REF!)","v":{"$error":"#REF!"}},{"$f":"IF(#REF!=\"\", \"\",#REF!)","v":{"$error":"#REF!"}},{"$f":"IF(#REF!=\"\", \"\",#REF!)","v":{"$error":"#REF!"}},{"$f":"IF(#REF!=\"\", \"\",#REF!)","v":{"$error":"#REF!"}},{"$f":"IF(#REF!=\"\", \"\",#REF!)","v":{"$error":"#REF!"}},{"$f":"IF(#REF!=\"\", \"\",#REF!)","v":{"$error":"#REF!"}},{"$f":"IF(#REF!=\"\", \"\",#REF!)","v":{"$error":"#REF!"}},{"$f":"IF(#REF!=\"\", \"\",#REF!)","v":{"$error":"#REF!"}},{"$f":"IF(#REF!=\"\", \"\",#REF!)","v":{"$error":"#REF!"}},{"$f":"IF(#REF!=\"\", \"\",#REF!)","v":{"$error":"#REF!"}},{"$f":"IF(#REF!=\"\", \"\",#REF!)","v":{"$error":"#REF!"}},{"$f":"IF(#REF!=\"\", \"\",#REF!)","v":{"$error":"#REF!"}},{"$f":"IF(#REF!=\"\", \"\",#REF!)","v":{"$error":"#REF!"}},{"$f":"IF(#REF!=\"\", \"\",#REF!)","v":{"$error":"#REF!"}},{"$f":"IF(#REF!=\"\", \"\",#REF!)","v":{"$error":"#REF!"}},{"$f":"IF(#REF!=\"\", \"\",#REF!)","v":{"$error":"#REF!"}},{"$f":"IF(#REF!=\"\", \"\",#REF!)","v":{"$error":"#REF!"}},{"$f":"IF(#REF!=\"\", \"\",#REF!)","v":{"$error":"#REF!"}},{"$f":"IF(#REF!=\"\", \"\",#REF!)","v":{"$error":"#REF!"}},{"$f":"IF(#REF!=\"\", \"\",#REF!)","v":{"$error":"#REF!"}},{"$f":"IF(#REF!=\"\", \"\",#REF!)","v":{"$error":"#REF!"}},{"$f":"IF(#REF!=\"\", \"\",#REF!)","v":{"$error":"#REF!"}},{"$f":"IF(#REF!=\"\", \"\",#REF!)","v":{"$error":"#REF!"}},{"$f":"IF(#REF!=\"\", \"\",#REF!)","v":{"$error":"#REF!"}},{"$f":"IF(#REF!=\"\", \"\",#REF!)","v":{"$error":"#REF!"}},{"$f":"IF(#REF!=\"\", \"\",#REF!)","v":{"$error":"#REF!"}}]
["Item 18",{"$f":"IF(#REF!=\"\", \"\",#REF!)","v":{"$error":"#REF!"}},{"$f":"IF(#REF!=\"\", \"\",#REF!)","v":{"$error":"#REF!"}},{"$f":"IF(#REF!=\"\", \"\",#REF!)","v":{"$error":"#REF!"}},{"$f":"IF(#REF!=\"\", \"\",#REF!)","v":{"$error":"#REF!"}},{"$f":"IF(#REF!=\"\", \"\",#REF!)","v":{"$error":"#REF!"}},{"$f":"IF(#REF!=\"\", \"\",#REF!)","v":{"$error":"#REF!"}},{"$f":"IF(#REF!=\"\", \"\",#REF!)","v":{"$error":"#REF!"}},{"$f":"IF(#REF!=\"\", \"\",#REF!)","v":{"$error":"#REF!"}},{"$f":"IF(#REF!=\"\", \"\",#REF!)","v":{"$error":"#REF!"}},{"$f":"IF(#REF!=\"\", \"\",#REF!)","v":{"$error":"#REF!"}},{"$f":"IF(#REF!=\"\", \"\",#REF!)","v":{"$error":"#REF!"}},{"$f":"IF(#REF!=\"\", \"\",#REF!)","v":{"$error":"#REF!"}},{"$f":"IF(#REF!=\"\", \"\",#REF!)","v":{"$error":"#REF!"}},{"$f":"IF(#REF!=\"\", \"\",#REF!)","v":{"$error":"#REF!"}},{"$f":"IF(#REF!=\"\", \"\",#REF!)","v":{"$error":"#REF!"}},{"$f":"IF(#REF!=\"\", \"\",#REF!)","v":{"$error":"#REF!"}},{"$f":"IF(#REF!=\"\", \"\",#REF!)","v":{"$error":"#REF!"}},{"$f":"IF(#REF!=\"\", \"\",#REF!)","v":{"$error":"#REF!"}},{"$f":"IF(#REF!=\"\", \"\",#REF!)","v":{"$error":"#REF!"}},{"$f":"IF(#REF!=\"\", \"\",#REF!)","v":{"$error":"#REF!"}},{"$f":"IF(#REF!=\"\", \"\",#REF!)","v":{"$error":"#REF!"}},{"$f":"IF(#REF!=\"\", \"\",#REF!)","v":{"$error":"#REF!"}},{"$f":"IF(#REF!=\"\", \"\",#REF!)","v":{"$error":"#REF!"}},{"$f":"IF(#REF!=\"\", \"\",#REF!)","v":{"$error":"#REF!"}},{"$f":"IF(#REF!=\"\", \"\",#REF!)","v":{"$error":"#REF!"}},{"$f":"IF(#REF!=\"\", \"\",#REF!)","v":{"$error":"#REF!"}},{"$f":"IF(#REF!=\"\", \"\",#REF!)","v":{"$error":"#REF!"}},{"$f":"IF(#REF!=\"\", \"\",#REF!)","v":{"$error":"#REF!"}},{"$f":"IF(#REF!=\"\", \"\",#REF!)","v":{"$error":"#REF!"}},{"$f":"IF(#REF!=\"\", \"\",#REF!)","v":{"$error":"#REF!"}},{"$f":"IF(#REF!=\"\", \"\",#REF!)","v":{"$error":"#REF!"}},{"$f":"IF(#REF!=\"\", \"\",#REF!)","v":{"$error":"#REF!"}},{"$f":"IF(#REF!=\"\", \"\",#REF!)","v":{"$error":"#REF!"}},{"$f":"IF(#REF!=\"\", \"\",#REF!)","v":{"$error":"#REF!"}},{"$f":"IF(#REF!=\"\", \"\",#REF!)","v":{"$error":"#REF!"}},{"$f":"IF(#REF!=\"\", \"\",#REF!)","v":{"$error":"#REF!"}},{"$f":"IF(#REF!=\"\", \"\",#REF!)","v":{"$error":"#REF!"}},{"$f":"IF(#REF!=\"\", \"\",#REF!)","v":{"$error":"#REF!"}},{"$f":"IF(#REF!=\"\", \"\",#REF!)","v":{"$error":"#REF!"}},{"$f":"IF(#REF!=\"\", \"\",#REF!)","v":{"$error":"#REF!"}},{"$f":"IF(#REF!=\"\", \"\",#REF!)","v":{"$error":"#REF!"}},{"$f":"IF(#REF!=\"\", \"\",#REF!)","v":{"$error":"#REF!"}},{"$f":"IF(#REF!=\"\", \"\",#REF!)","v":{"$error":"#REF!"}},{"$f":"IF(#REF!=\"\", \"\",#REF!)","v":{"$error":"#REF!"}},{"$f":"IF(#REF!=\"\", \"\",#REF!)","v":{"$error":"#REF!"}},{"$f":"IF(#REF!=\"\", \"\",#REF!)","v":{"$error":"#REF!"}},{"$f":"IF(#REF!=\"\", \"\",#REF!)","v":{"$error":"#REF!"}},{"$f":"IF(#REF!=\"\", \"\",#REF!)","v":{"$error":"#REF!"}},{"$f":"IF(#REF!=\"\", \"\",#REF!)","v":{"$error":"#REF!"}},{"$f":"IF(#REF!=\"\", \"\",#REF!)","v":{"$error":"#REF!"}},{"$f":"IF(#REF!=\"\", \"\",#REF!)","v":{"$error":"#REF!"}},{"$f":"IF(#REF!=\"\", \"\",#REF!)","v":{"$error":"#REF!"}},{"$f":"IF(#REF!=\"\", \"\",#REF!)","v":{"$error":"#REF!"}},{"$f":"IF(#REF!=\"\", \"\",#REF!)","v":{"$error":"#REF!"}},{"$f":"IF(#REF!=\"\", \"\",#REF!)","v":{"$error":"#REF!"}},{"$f":"IF(#REF!=\"\", \"\",#REF!)","v":{"$error":"#REF!"}},{"$f":"IF(#REF!=\"\", \"\",#REF!)","v":{"$error":"#REF!"}},{"$f":"IF(#REF!=\"\", \"\",#REF!)","v":{"$error":"#REF!"}},{"$f":"IF(#REF!=\"\", \"\",#REF!)","v":{"$error":"#REF!"}},{"$f":"IF(#REF!=\"\", \"\",#REF!)","v":{"$error":"#REF!"}},{"$f":"IF(#REF!=\"\", \"\",#REF!)","v":{"$error":"#REF!"}}]
["Item 19",{"$f":"IF(#REF!=\"\", \"\",#REF!)","v":{"$error":"#REF!"}},{"$f":"IF(#REF!=\"\", \"\",#REF!)","v":{"$error":"#REF!"}},{"$f":"IF(#REF!=\"\", \"\",#REF!)","v":{"$error":"#REF!"}},{"$f":"IF(#REF!=\"\", \"\",#REF!)","v":{"$error":"#REF!"}},{"$f":"IF(#REF!=\"\", \"\",#REF!)","v":{"$error":"#REF!"}},{"$f":"IF(#REF!=\"\", \"\",#REF!)","v":{"$error":"#REF!"}},{"$f":"IF(#REF!=\"\", \"\",#REF!)","v":{"$error":"#REF!"}},{"$f":"IF(#REF!=\"\", \"\",#REF!)","v":{"$error":"#REF!"}},{"$f":"IF(#REF!=\"\", \"\",#REF!)","v":{"$error":"#REF!"}},{"$f":"IF(#REF!=\"\", \"\",#REF!)","v":{"$error":"#REF!"}},{"$f":"IF(#REF!=\"\", \"\",#REF!)","v":{"$error":"#REF!"}},{"$f":"IF(#REF!=\"\", \"\",#REF!)","v":{"$error":"#REF!"}},{"$f":"IF(#REF!=\"\", \"\",#REF!)","v":{"$error":"#REF!"}},{"$f":"IF(#REF!=\"\", \"\",#REF!)","v":{"$error":"#REF!"}},{"$f":"IF(#REF!=\"\", \"\",#REF!)","v":{"$error":"#REF!"}},{"$f":"IF(#REF!=\"\", \"\",#REF!)","v":{"$error":"#REF!"}},{"$f":"IF(#REF!=\"\", \"\",#REF!)","v":{"$error":"#REF!"}},{"$f":"IF(#REF!=\"\", \"\",#REF!)","v":{"$error":"#REF!"}},{"$f":"IF(#REF!=\"\", \"\",#REF!)","v":{"$error":"#REF!"}},{"$f":"IF(#REF!=\"\", \"\",#REF!)","v":{"$error":"#REF!"}},{"$f":"IF(#REF!=\"\", \"\",#REF!)","v":{"$error":"#REF!"}},{"$f":"IF(#REF!=\"\", \"\",#REF!)","v":{"$error":"#REF!"}},{"$f":"IF(#REF!=\"\", \"\",#REF!)","v":{"$error":"#REF!"}},{"$f":"IF(#REF!=\"\", \"\",#REF!)","v":{"$error":"#REF!"}},{"$f":"IF(#REF!=\"\", \"\",#REF!)","v":{"$error":"#REF!"}},{"$f":"IF(#REF!=\"\", \"\",#REF!)","v":{"$error":"#REF!"}},{"$f":"IF(#REF!=\"\", \"\",#REF!)","v":{"$error":"#REF!"}},{"$f":"IF(#REF!=\"\", \"\",#REF!)","v":{"$error":"#REF!"}},{"$f":"IF(#REF!=\"\", \"\",#REF!)","v":{"$error":"#REF!"}},{"$f":"IF(#REF!=\"\", \"\",#REF!)","v":{"$error":"#REF!"}},{"$f":"IF(#REF!=\"\", \"\",#REF!)","v":{"$error":"#REF!"}},{"$f":"IF(#REF!=\"\", \"\",#REF!)","v":{"$error":"#REF!"}},{"$f":"IF(#REF!=\"\", \"\",#REF!)","v":{"$error":"#REF!"}},{"$f":"IF(#REF!=\"\", \"\",#REF!)","v":{"$error":"#REF!"}},{"$f":"IF(#REF!=\"\", \"\",#REF!)","v":{"$error":"#REF!"}},{"$f":"IF(#REF!=\"\", \"\",#REF!)","v":{"$error":"#REF!"}},{"$f":"IF(#REF!=\"\", \"\",#REF!)","v":{"$error":"#REF!"}},{"$f":"IF(#REF!=\"\", \"\",#REF!)","v":{"$error":"#REF!"}},{"$f":"IF(#REF!=\"\", \"\",#REF!)","v":{"$error":"#REF!"}},{"$f":"IF(#REF!=\"\", \"\",#REF!)","v":{"$error":"#REF!"}},{"$f":"IF(#REF!=\"\", \"\",#REF!)","v":{"$error":"#REF!"}},{"$f":"IF(#REF!=\"\", \"\",#REF!)","v":{"$error":"#REF!"}},{"$f":"IF(#REF!=\"\", \"\",#REF!)","v":{"$error":"#REF!"}},{"$f":"IF(#REF!=\"\", \"\",#REF!)","v":{"$error":"#REF!"}},{"$f":"IF(#REF!=\"\", \"\",#REF!)","v":{"$error":"#REF!"}},{"$f":"IF(#REF!=\"\", \"\",#REF!)","v":{"$error":"#REF!"}},{"$f":"IF(#REF!=\"\", \"\",#REF!)","v":{"$error":"#REF!"}},{"$f":"IF(#REF!=\"\", \"\",#REF!)","v":{"$error":"#REF!"}},{"$f":"IF(#REF!=\"\", \"\",#REF!)","v":{"$error":"#REF!"}},{"$f":"IF(#REF!=\"\", \"\",#REF!)","v":{"$error":"#REF!"}},{"$f":"IF(#REF!=\"\", \"\",#REF!)","v":{"$error":"#REF!"}},{"$f":"IF(#REF!=\"\", \"\",#REF!)","v":{"$error":"#REF!"}},{"$f":"IF(#REF!=\"\", \"\",#REF!)","v":{"$error":"#REF!"}},{"$f":"IF(#REF!=\"\", \"\",#REF!)","v":{"$error":"#REF!"}},{"$f":"IF(#REF!=\"\", \"\",#REF!)","v":{"$error":"#REF!"}},{"$f":"IF(#REF!=\"\", \"\",#REF!)","v":{"$error":"#REF!"}},{"$f":"IF(#REF!=\"\", \"\",#REF!)","v":{"$error":"#REF!"}},{"$f":"IF(#REF!=\"\", \"\",#REF!)","v":{"$error":"#REF!"}},{"$f":"IF(#REF!=\"\", \"\",#REF!)","v":{"$error":"#REF!"}},{"$f":"IF(#REF!=\"\", \"\",#REF!)","v":{"$error":"#REF!"}},{"$f":"IF(#REF!=\"\", \"\",#REF!)","v":{"$error":"#REF!"}}]
["Item 20",{"$f":"IF(#REF!=\"\", \"\",#REF!)","v":{"$error":"#REF!"}},{"$f":"IF(#REF!=\"\", \"\",#REF!)","v":{"$error":"#REF!"}},{"$f":"IF(#REF!=\"\", \"\",#REF!)","v":{"$error":"#REF!"}},{"$f":"IF(#REF!=\"\", \"\",#REF!)","v":{"$error":"#REF!"}},{"$f":"IF(#REF!=\"\", \"\",#REF!)","v":{"$error":"#REF!"}},{"$f":"IF(#REF!=\"\", \"\",#REF!)","v":{"$error":"#REF!"}},{"$f":"IF(#REF!=\"\", \"\",#REF!)","v":{"$error":"#REF!"}},{"$f":"IF(#REF!=\"\", \"\",#REF!)","v":{"$error":"#REF!"}},{"$f":"IF(#REF!=\"\", \"\",#REF!)","v":{"$error":"#REF!"}},{"$f":"IF(#REF!=\"\", \"\",#REF!)","v":{"$error":"#REF!"}},{"$f":"IF(#REF!=\"\", \"\",#REF!)","v":{"$error":"#REF!"}},{"$f":"IF(#REF!=\"\", \"\",#REF!)","v":{"$error":"#REF!"}},{"$f":"IF(#REF!=\"\", \"\",#REF!)","v":{"$error":"#REF!"}},{"$f":"IF(#REF!=\"\", \"\",#REF!)","v":{"$error":"#REF!"}},{"$f":"IF(#REF!=\"\", \"\",#REF!)","v":{"$error":"#REF!"}},{"$f":"IF(#REF!=\"\", \"\",#REF!)","v":{"$error":"#REF!"}},{"$f":"IF(#REF!=\"\", \"\",#REF!)","v":{"$error":"#REF!"}},{"$f":"IF(#REF!=\"\", \"\",#REF!)","v":{"$error":"#REF!"}},{"$f":"IF(#REF!=\"\", \"\",#REF!)","v":{"$error":"#REF!"}},{"$f":"IF(#REF!=\"\", \"\",#REF!)","v":{"$error":"#REF!"}},{"$f":"IF(#REF!=\"\", \"\",#REF!)","v":{"$error":"#REF!"}},{"$f":"IF(#REF!=\"\", \"\",#REF!)","v":{"$error":"#REF!"}},{"$f":"IF(#REF!=\"\", \"\",#REF!)","v":{"$error":"#REF!"}},{"$f":"IF(#REF!=\"\", \"\",#REF!)","v":{"$error":"#REF!"}},{"$f":"IF(#REF!=\"\", \"\",#REF!)","v":{"$error":"#REF!"}},{"$f":"IF(#REF!=\"\", \"\",#REF!)","v":{"$error":"#REF!"}},{"$f":"IF(#REF!=\"\", \"\",#REF!)","v":{"$error":"#REF!"}},{"$f":"IF(#REF!=\"\", \"\",#REF!)","v":{"$error":"#REF!"}},{"$f":"IF(#REF!=\"\", \"\",#REF!)","v":{"$error":"#REF!"}},{"$f":"IF(#REF!=\"\", \"\",#REF!)","v":{"$error":"#REF!"}},{"$f":"IF(#REF!=\"\", \"\",#REF!)","v":{"$error":"#REF!"}},{"$f":"IF(#REF!=\"\", \"\",#REF!)","v":{"$error":"#REF!"}},{"$f":"IF(#REF!=\"\", \"\",#REF!)","v":{"$error":"#REF!"}},{"$f":"IF(#REF!=\"\", \"\",#REF!)","v":{"$error":"#REF!"}},{"$f":"IF(#REF!=\"\", \"\",#REF!)","v":{"$error":"#REF!"}},{"$f":"IF(#REF!=\"\", \"\",#REF!)","v":{"$error":"#REF!"}},{"$f":"IF(#REF!=\"\", \"\",#REF!)","v":{"$error":"#REF!"}},{"$f":"IF(#REF!=\"\", \"\",#REF!)","v":{"$error":"#REF!"}},{"$f":"IF(#REF!=\"\", \"\",#REF!)","v":{"$error":"#REF!"}},{"$f":"IF(#REF!=\"\", \"\",#REF!)","v":{"$error":"#REF!"}},{"$f":"IF(#REF!=\"\", \"\",#REF!)","v":{"$error":"#REF!"}},{"$f":"IF(#REF!=\"\", \"\",#REF!)","v":{"$error":"#REF!"}},{"$f":"IF(#REF!=\"\", \"\",#REF!)","v":{"$error":"#REF!"}},{"$f":"IF(#REF!=\"\", \"\",#REF!)","v":{"$error":"#REF!"}},{"$f":"IF(#REF!=\"\", \"\",#REF!)","v":{"$error":"#REF!"}},{"$f":"IF(#REF!=\"\", \"\",#REF!)","v":{"$error":"#REF!"}},{"$f":"IF(#REF!=\"\", \"\",#REF!)","v":{"$error":"#REF!"}},{"$f":"IF(#REF!=\"\", \"\",#REF!)","v":{"$error":"#REF!"}},{"$f":"IF(#REF!=\"\", \"\",#REF!)","v":{"$error":"#REF!"}},{"$f":"IF(#REF!=\"\", \"\",#REF!)","v":{"$error":"#REF!"}},{"$f":"IF(#REF!=\"\", \"\",#REF!)","v":{"$error":"#REF!"}},{"$f":"IF(#REF!=\"\", \"\",#REF!)","v":{"$error":"#REF!"}},{"$f":"IF(#REF!=\"\", \"\",#REF!)","v":{"$error":"#REF!"}},{"$f":"IF(#REF!=\"\", \"\",#REF!)","v":{"$error":"#REF!"}},{"$f":"IF(#REF!=\"\", \"\",#REF!)","v":{"$error":"#REF!"}},{"$f":"IF(#REF!=\"\", \"\",#REF!)","v":{"$error":"#REF!"}},{"$f":"IF(#REF!=\"\", \"\",#REF!)","v":{"$error":"#REF!"}},{"$f":"IF(#REF!=\"\", \"\",#REF!)","v":{"$error":"#REF!"}},{"$f":"IF(#REF!=\"\", \"\",#REF!)","v":{"$error":"#REF!"}},{"$f":"IF(#REF!=\"\", \"\",#REF!)","v":{"$error":"#REF!"}},{"$f":"IF(#REF!=\"\", \"\",#REF!)","v":{"$error":"#REF!"}}]
["Item 21",{"$f":"IF(#REF!=\"\", \"\",#REF!)","v":{"$error":"#REF!"}},{"$f":"IF(#REF!=\"\", \"\",#REF!)","v":{"$error":"#REF!"}},{"$f":"IF(#REF!=\"\", \"\",#REF!)","v":{"$error":"#REF!"}},{"$f":"IF(#REF!=\"\", \"\",#REF!)","v":{"$error":"#REF!"}},{"$f":"IF(#REF!=\"\", \"\",#REF!)","v":{"$error":"#REF!"}},{"$f":"IF(#REF!=\"\", \"\",#REF!)","v":{"$error":"#REF!"}},{"$f":"IF(#REF!=\"\", \"\",#REF!)","v":{"$error":"#REF!"}},{"$f":"IF(#REF!=\"\", \"\",#REF!)","v":{"$error":"#REF!"}},{"$f":"IF(#REF!=\"\", \"\",#REF!)","v":{"$error":"#REF!"}},{"$f":"IF(#REF!=\"\", \"\",#REF!)","v":{"$error":"#REF!"}},{"$f":"IF(#REF!=\"\", \"\",#REF!)","v":{"$error":"#REF!"}},{"$f":"IF(#REF!=\"\", \"\",#REF!)","v":{"$error":"#REF!"}},{"$f":"IF(#REF!=\"\", \"\",#REF!)","v":{"$error":"#REF!"}},{"$f":"IF(#REF!=\"\", \"\",#REF!)","v":{"$error":"#REF!"}},{"$f":"IF(#REF!=\"\", \"\",#REF!)","v":{"$error":"#REF!"}},{"$f":"IF(#REF!=\"\", \"\",#REF!)","v":{"$error":"#REF!"}},{"$f":"IF(#REF!=\"\", \"\",#REF!)","v":{"$error":"#REF!"}},{"$f":"IF(#REF!=\"\", \"\",#REF!)","v":{"$error":"#REF!"}},{"$f":"IF(#REF!=\"\", \"\",#REF!)","v":{"$error":"#REF!"}},{"$f":"IF(#REF!=\"\", \"\",#REF!)","v":{"$error":"#REF!"}},{"$f":"IF(#REF!=\"\", \"\",#REF!)","v":{"$error":"#REF!"}},{"$f":"IF(#REF!=\"\", \"\",#REF!)","v":{"$error":"#REF!"}},{"$f":"IF(#REF!=\"\", \"\",#REF!)","v":{"$error":"#REF!"}},{"$f":"IF(#REF!=\"\", \"\",#REF!)","v":{"$error":"#REF!"}},{"$f":"IF(#REF!=\"\", \"\",#REF!)","v":{"$error":"#REF!"}},{"$f":"IF(#REF!=\"\", \"\",#REF!)","v":{"$error":"#REF!"}},{"$f":"IF(#REF!=\"\", \"\",#REF!)","v":{"$error":"#REF!"}},{"$f":"IF(#REF!=\"\", \"\",#REF!)","v":{"$error":"#REF!"}},{"$f":"IF(#REF!=\"\", \"\",#REF!)","v":{"$error":"#REF!"}},{"$f":"IF(#REF!=\"\", \"\",#REF!)","v":{"$error":"#REF!"}},{"$f":"IF(#REF!=\"\", \"\",#REF!)","v":{"$error":"#REF!"}},{"$f":"IF(#REF!=\"\", \"\",#REF!)","v":{"$error":"#REF!"}},{"$f":"IF(#REF!=\"\", \"\",#REF!)","v":{"$error":"#REF!"}},{"$f":"IF(#REF!=\"\", \"\",#REF!)","v":{"$error":"#REF!"}},{"$f":"IF(#REF!=\"\", \"\",#REF!)","v":{"$error":"#REF!"}},{"$f":"IF(#REF!=\"\", \"\",#REF!)","v":{"$error":"#REF!"}},{"$f":"IF(#REF!=\"\", \"\",#REF!)","v":{"$error":"#REF!"}},{"$f":"IF(#REF!=\"\", \"\",#REF!)","v":{"$error":"#REF!"}},{"$f":"IF(#REF!=\"\", \"\",#REF!)","v":{"$error":"#REF!"}},{"$f":"IF(#REF!=\"\", \"\",#REF!)","v":{"$error":"#REF!"}},{"$f":"IF(#REF!=\"\", \"\",#REF!)","v":{"$error":"#REF!"}},{"$f":"IF(#REF!=\"\", \"\",#REF!)","v":{"$error":"#REF!"}},{"$f":"IF(#REF!=\"\", \"\",#REF!)","v":{"$error":"#REF!"}},{"$f":"IF(#REF!=\"\", \"\",#REF!)","v":{"$error":"#REF!"}},{"$f":"IF(#REF!=\"\", \"\",#REF!)","v":{"$error":"#REF!"}},{"$f":"IF(#REF!=\"\", \"\",#REF!)","v":{"$error":"#REF!"}},{"$f":"IF(#REF!=\"\", \"\",#REF!)","v":{"$error":"#REF!"}},{"$f":"IF(#REF!=\"\", \"\",#REF!)","v":{"$error":"#REF!"}},{"$f":"IF(#REF!=\"\", \"\",#REF!)","v":{"$error":"#REF!"}},{"$f":"IF(#REF!=\"\", \"\",#REF!)","v":{"$error":"#REF!"}},{"$f":"IF(#REF!=\"\", \"\",#REF!)","v":{"$error":"#REF!"}},{"$f":"IF(#REF!=\"\", \"\",#REF!)","v":{"$error":"#REF!"}},{"$f":"IF(#REF!=\"\", \"\",#REF!)","v":{"$error":"#REF!"}},{"$f":"IF(#REF!=\"\", \"\",#REF!)","v":{"$error":"#REF!"}},{"$f":"IF(#REF!=\"\", \"\",#REF!)","v":{"$error":"#REF!"}},{"$f":"IF(#REF!=\"\", \"\",#REF!)","v":{"$error":"#REF!"}},{"$f":"IF(#REF!=\"\", \"\",#REF!)","v":{"$error":"#REF!"}},{"$f":"IF(#REF!=\"\", \"\",#REF!)","v":{"$error":"#REF!"}},{"$f":"IF(#REF!=\"\", \"\",#REF!)","v":{"$error":"#REF!"}},{"$f":"IF(#REF!=\"\", \"\",#REF!)","v":{"$error":"#REF!"}},{"$f":"IF(#REF!=\"\", \"\",#REF!)","v":{"$error":"#REF!"}}]
["Item 22",{"$f":"IF(#REF!=\"\", \"\",#REF!)","v":{"$error":"#REF!"}},{"$f":"IF(#REF!=\"\", \"\",#REF!)","v":{"$error":"#REF!"}},{"$f":"IF(#REF!=\"\", \"\",#REF!)","v":{"$error":"#REF!"}},{"$f":"IF(#REF!=\"\", \"\",#REF!)","v":{"$error":"#REF!"}},{"$f":"IF(#REF!=\"\", \"\",#REF!)","v":{"$error":"#REF!"}},{"$f":"IF(#REF!=\"\", \"\",#REF!)","v":{"$error":"#REF!"}},{"$f":"IF(#REF!=\"\", \"\",#REF!)","v":{"$error":"#REF!"}},{"$f":"IF(#REF!=\"\", \"\",#REF!)","v":{"$error":"#REF!"}},{"$f":"IF(#REF!=\"\", \"\",#REF!)","v":{"$error":"#REF!"}},{"$f":"IF(#REF!=\"\", \"\",#REF!)","v":{"$error":"#REF!"}},{"$f":"IF(#REF!=\"\", \"\",#REF!)","v":{"$error":"#REF!"}},{"$f":"IF(#REF!=\"\", \"\",#REF!)","v":{"$error":"#REF!"}},{"$f":"IF(#REF!=\"\", \"\",#REF!)","v":{"$error":"#REF!"}},{"$f":"IF(#REF!=\"\", \"\",#REF!)","v":{"$error":"#REF!"}},{"$f":"IF(#REF!=\"\", \"\",#REF!)","v":{"$error":"#REF!"}},{"$f":"IF(#REF!=\"\", \"\",#REF!)","v":{"$error":"#REF!"}},{"$f":"IF(#REF!=\"\", \"\",#REF!)","v":{"$error":"#REF!"}},{"$f":"IF(#REF!=\"\", \"\",#REF!)","v":{"$error":"#REF!"}},{"$f":"IF(#REF!=\"\", \"\",#REF!)","v":{"$error":"#REF!"}},{"$f":"IF(#REF!=\"\", \"\",#REF!)","v":{"$error":"#REF!"}},{"$f":"IF(#REF!=\"\", \"\",#REF!)","v":{"$error":"#REF!"}},{"$f":"IF(#REF!=\"\", \"\",#REF!)","v":{"$error":"#REF!"}},{"$f":"IF(#REF!=\"\", \"\",#REF!)","v":{"$error":"#REF!"}},{"$f":"IF(#REF!=\"\", \"\",#REF!)","v":{"$error":"#REF!"}},{"$f":"IF(#REF!=\"\", \"\",#REF!)","v":{"$error":"#REF!"}},{"$f":"IF(#REF!=\"\", \"\",#REF!)","v":{"$error":"#REF!"}},{"$f":"IF(#REF!=\"\", \"\",#REF!)","v":{"$error":"#REF!"}},{"$f":"IF(#REF!=\"\", \"\",#REF!)","v":{"$error":"#REF!"}},{"$f":"IF(#REF!=\"\", \"\",#REF!)","v":{"$error":"#REF!"}},{"$f":"IF(#REF!=\"\", \"\",#REF!)","v":{"$error":"#REF!"}},{"$f":"IF(#REF!=\"\", \"\",#REF!)","v":{"$error":"#REF!"}},{"$f":"IF(#REF!=\"\", \"\",#REF!)","v":{"$error":"#REF!"}},{"$f":"IF(#REF!=\"\", \"\",#REF!)","v":{"$error":"#REF!"}},{"$f":"IF(#REF!=\"\", \"\",#REF!)","v":{"$error":"#REF!"}},{"$f":"IF(#REF!=\"\", \"\",#REF!)","v":{"$error":"#REF!"}},{"$f":"IF(#REF!=\"\", \"\",#REF!)","v":{"$error":"#REF!"}},{"$f":"IF(#REF!=\"\", \"\",#REF!)","v":{"$error":"#REF!"}},{"$f":"IF(#REF!=\"\", \"\",#REF!)","v":{"$error":"#REF!"}},{"$f":"IF(#REF!=\"\", \"\",#REF!)","v":{"$error":"#REF!"}},{"$f":"IF(#REF!=\"\", \"\",#REF!)","v":{"$error":"#REF!"}},{"$f":"IF(#REF!=\"\", \"\",#REF!)","v":{"$error":"#REF!"}},{"$f":"IF(#REF!=\"\", \"\",#REF!)","v":{"$error":"#REF!"}},{"$f":"IF(#REF!=\"\", \"\",#REF!)","v":{"$error":"#REF!"}},{"$f":"IF(#REF!=\"\", \"\",#REF!)","v":{"$error":"#REF!"}},{"$f":"IF(#REF!=\"\", \"\",#REF!)","v":{"$error":"#REF!"}},{"$f":"IF(#REF!=\"\", \"\",#REF!)","v":{"$error":"#REF!"}},{"$f":"IF(#REF!=\"\", \"\",#REF!)","v":{"$error":"#REF!"}},{"$f":"IF(#REF!=\"\", \"\",#REF!)","v":{"$error":"#REF!"}},{"$f":"IF(#REF!=\"\", \"\",#REF!)","v":{"$error":"#REF!"}},{"$f":"IF(#REF!=\"\", \"\",#REF!)","v":{"$error":"#REF!"}},{"$f":"IF(#REF!=\"\", \"\",#REF!)","v":{"$error":"#REF!"}},{"$f":"IF(#REF!=\"\", \"\",#REF!)","v":{"$error":"#REF!"}},{"$f":"IF(#REF!=\"\", \"\",#REF!)","v":{"$error":"#REF!"}},{"$f":"IF(#REF!=\"\", \"\",#REF!)","v":{"$error":"#REF!"}},{"$f":"IF(#REF!=\"\", \"\",#REF!)","v":{"$error":"#REF!"}},{"$f":"IF(#REF!=\"\", \"\",#REF!)","v":{"$error":"#REF!"}},{"$f":"IF(#REF!=\"\", \"\",#REF!)","v":{"$error":"#REF!"}},{"$f":"IF(#REF!=\"\", \"\",#REF!)","v":{"$error":"#REF!"}},{"$f":"IF(#REF!=\"\", \"\",#REF!)","v":{"$error":"#REF!"}},{"$f":"IF(#REF!=\"\", \"\",#REF!)","v":{"$error":"#REF!"}},{"$f":"IF(#REF!=\"\", \"\",#REF!)","v":{"$error":"#REF!"}}]
["Item 23",{"$f":"IF(#REF!=\"\", \"\",#REF!)","v":{"$error":"#REF!"}},{"$f":"IF(#REF!=\"\", \"\",#REF!)","v":{"$error":"#REF!"}},{"$f":"IF(#REF!=\"\", \"\",#REF!)","v":{"$error":"#REF!"}},{"$f":"IF(#REF!=\"\", \"\",#REF!)","v":{"$error":"#REF!"}},{"$f":"IF(#REF!=\"\", \"\",#REF!)","v":{"$error":"#REF!"}},{"$f":"IF(#REF!=\"\", \"\",#REF!)","v":{"$error":"#REF!"}},{"$f":"IF(#REF!=\"\", \"\",#REF!)","v":{"$error":"#REF!"}},{"$f":"IF(#REF!=\"\", \"\",#REF!)","v":{"$error":"#REF!"}},{"$f":"IF(#REF!=\"\", \"\",#REF!)","v":{"$error":"#REF!"}},{"$f":"IF(#REF!=\"\", \"\",#REF!)","v":{"$error":"#REF!"}},{"$f":"IF(#REF!=\"\", \"\",#REF!)","v":{"$error":"#REF!"}},{"$f":"IF(#REF!=\"\", \"\",#REF!)","v":{"$error":"#REF!"}},{"$f":"IF(#REF!=\"\", \"\",#REF!)","v":{"$error":"#REF!"}},{"$f":"IF(#REF!=\"\", \"\",#REF!)","v":{"$error":"#REF!"}},{"$f":"IF(#REF!=\"\", \"\",#REF!)","v":{"$error":"#REF!"}},{"$f":"IF(#REF!=\"\", \"\",#REF!)","v":{"$error":"#REF!"}},{"$f":"IF(#REF!=\"\", \"\",#REF!)","v":{"$error":"#REF!"}},{"$f":"IF(#REF!=\"\", \"\",#REF!)","v":{"$error":"#REF!"}},{"$f":"IF(#REF!=\"\", \"\",#REF!)","v":{"$error":"#REF!"}},{"$f":"IF(#REF!=\"\", \"\",#REF!)","v":{"$error":"#REF!"}},{"$f":"IF(#REF!=\"\", \"\",#REF!)","v":{"$error":"#REF!"}},{"$f":"IF(#REF!=\"\", \"\",#REF!)","v":{"$error":"#REF!"}},{"$f":"IF(#REF!=\"\", \"\",#REF!)","v":{"$error":"#REF!"}},{"$f":"IF(#REF!=\"\", \"\",#REF!)","v":{"$error":"#REF!"}},{"$f":"IF(#REF!=\"\", \"\",#REF!)","v":{"$error":"#REF!"}},{"$f":"IF(#REF!=\"\", \"\",#REF!)","v":{"$error":"#REF!"}},{"$f":"IF(#REF!=\"\", \"\",#REF!)","v":{"$error":"#REF!"}},{"$f":"IF(#REF!=\"\", \"\",#REF!)","v":{"$error":"#REF!"}},{"$f":"IF(#REF!=\"\", \"\",#REF!)","v":{"$error":"#REF!"}},{"$f":"IF(#REF!=\"\", \"\",#REF!)","v":{"$error":"#REF!"}},{"$f":"IF(#REF!=\"\", \"\",#REF!)","v":{"$error":"#REF!"}},{"$f":"IF(#REF!=\"\", \"\",#REF!)","v":{"$error":"#REF!"}},{"$f":"IF(#REF!=\"\", \"\",#REF!)","v":{"$error":"#REF!"}},{"$f":"IF(#REF!=\"\", \"\",#REF!)","v":{"$error":"#REF!"}},{"$f":"IF(#REF!=\"\", \"\",#REF!)","v":{"$error":"#REF!"}},{"$f":"IF(#REF!=\"\", \"\",#REF!)","v":{"$error":"#REF!"}},{"$f":"IF(#REF!=\"\", \"\",#REF!)","v":{"$error":"#REF!"}},{"$f":"IF(#REF!=\"\", \"\",#REF!)","v":{"$error":"#REF!"}},{"$f":"IF(#REF!=\"\", \"\",#REF!)","v":{"$error":"#REF!"}},{"$f":"IF(#REF!=\"\", \"\",#REF!)","v":{"$error":"#REF!"}},{"$f":"IF(#REF!=\"\", \"\",#REF!)","v":{"$error":"#REF!"}},{"$f":"IF(#REF!=\"\", \"\",#REF!)","v":{"$error":"#REF!"}},{"$f":"IF(#REF!=\"\", \"\",#REF!)","v":{"$error":"#REF!"}},{"$f":"IF(#REF!=\"\", \"\",#REF!)","v":{"$error":"#REF!"}},{"$f":"IF(#REF!=\"\", \"\",#REF!)","v":{"$error":"#REF!"}},{"$f":"IF(#REF!=\"\", \"\",#REF!)","v":{"$error":"#REF!"}},{"$f":"IF(#REF!=\"\", \"\",#REF!)","v":{"$error":"#REF!"}},{"$f":"IF(#REF!=\"\", \"\",#REF!)","v":{"$error":"#REF!"}},{"$f":"IF(#REF!=\"\", \"\",#REF!)","v":{"$error":"#REF!"}},{"$f":"IF(#REF!=\"\", \"\",#REF!)","v":{"$error":"#REF!"}},{"$f":"IF(#REF!=\"\", \"\",#REF!)","v":{"$error":"#REF!"}},{"$f":"IF(#REF!=\"\", \"\",#REF!)","v":{"$error":"#REF!"}},{"$f":"IF(#REF!=\"\", \"\",#REF!)","v":{"$error":"#REF!"}},{"$f":"IF(#REF!=\"\", \"\",#REF!)","v":{"$error":"#REF!"}},{"$f":"IF(#REF!=\"\", \"\",#REF!)","v":{"$error":"#REF!"}},{"$f":"IF(#REF!=\"\", \"\",#REF!)","v":{"$error":"#REF!"}},{"$f":"IF(#REF!=\"\", \"\",#REF!)","v":{"$error":"#REF!"}},{"$f":"IF(#REF!=\"\", \"\",#REF!)","v":{"$error":"#REF!"}},{"$f":"IF(#REF!=\"\", \"\",#REF!)","v":{"$error":"#REF!"}},{"$f":"IF(#REF!=\"\", \"\",#REF!)","v":{"$error":"#REF!"}},{"$f":"IF(#REF!=\"\", \"\",#REF!)","v":{"$error":"#REF!"}}]
["Item 24",{"$f":"IF(#REF!=\"\", \"\",#REF!)","v":{"$error":"#REF!"}},{"$f":"IF(#REF!=\"\", \"\",#REF!)","v":{"$error":"#REF!"}},{"$f":"IF(#REF!=\"\", \"\",#REF!)","v":{"$error":"#REF!"}},{"$f":"IF(#REF!=\"\", \"\",#REF!)","v":{"$error":"#REF!"}},{"$f":"IF(#REF!=\"\", \"\",#REF!)","v":{"$error":"#REF!"}},{"$f":"IF(#REF!=\"\", \"\",#REF!)","v":{"$error":"#REF!"}},{"$f":"IF(#REF!=\"\", \"\",#REF!)","v":{"$error":"#REF!"}},{"$f":"IF(#REF!=\"\", \"\",#REF!)","v":{"$error":"#REF!"}},{"$f":"IF(#REF!=\"\", \"\",#REF!)","v":{"$error":"#REF!"}},{"$f":"IF(#REF!=\"\", \"\",#REF!)","v":{"$error":"#REF!"}},{"$f":"IF(#REF!=\"\", \"\",#REF!)","v":{"$error":"#REF!"}},{"$f":"IF(#REF!=\"\", \"\",#REF!)","v":{"$error":"#REF!"}},{"$f":"IF(#REF!=\"\", \"\",#REF!)","v":{"$error":"#REF!"}},{"$f":"IF(#REF!=\"\", \"\",#REF!)","v":{"$error":"#REF!"}},{"$f":"IF(#REF!=\"\", \"\",#REF!)","v":{"$error":"#REF!"}},{"$f":"IF(#REF!=\"\", \"\",#REF!)","v":{"$error":"#REF!"}},{"$f":"IF(#REF!=\"\", \"\",#REF!)","v":{"$error":"#REF!"}},{"$f":"IF(#REF!=\"\", \"\",#REF!)","v":{"$error":"#REF!"}},{"$f":"IF(#REF!=\"\", \"\",#REF!)","v":{"$error":"#REF!"}},{"$f":"IF(#REF!=\"\", \"\",#REF!)","v":{"$error":"#REF!"}},{"$f":"IF(#REF!=\"\", \"\",#REF!)","v":{"$error":"#REF!"}},{"$f":"IF(#REF!=\"\", \"\",#REF!)","v":{"$error":"#REF!"}},{"$f":"IF(#REF!=\"\", \"\",#REF!)","v":{"$error":"#REF!"}},{"$f":"IF(#REF!=\"\", \"\",#REF!)","v":{"$error":"#REF!"}},{"$f":"IF(#REF!=\"\", \"\",#REF!)","v":{"$error":"#REF!"}},{"$f":"IF(#REF!=\"\", \"\",#REF!)","v":{"$error":"#REF!"}},{"$f":"IF(#REF!=\"\", \"\",#REF!)","v":{"$error":"#REF!"}},{"$f":"IF(#REF!=\"\", \"\",#REF!)","v":{"$error":"#REF!"}},{"$f":"IF(#REF!=\"\", \"\",#REF!)","v":{"$error":"#REF!"}},{"$f":"IF(#REF!=\"\", \"\",#REF!)","v":{"$error":"#REF!"}},{"$f":"IF(#REF!=\"\", \"\",#REF!)","v":{"$error":"#REF!"}},{"$f":"IF(#REF!=\"\", \"\",#REF!)","v":{"$error":"#REF!"}},{"$f":"IF(#REF!=\"\", \"\",#REF!)","v":{"$error":"#REF!"}},{"$f":"IF(#REF!=\"\", \"\",#REF!)","v":{"$error":"#REF!"}},{"$f":"IF(#REF!=\"\", \"\",#REF!)","v":{"$error":"#REF!"}},{"$f":"IF(#REF!=\"\", \"\",#REF!)","v":{"$error":"#REF!"}},{"$f":"IF(#REF!=\"\", \"\",#REF!)","v":{"$error":"#REF!"}},{"$f":"IF(#REF!=\"\", \"\",#REF!)","v":{"$error":"#REF!"}},{"$f":"IF(#REF!=\"\", \"\",#REF!)","v":{"$error":"#REF!"}},{"$f":"IF(#REF!=\"\", \"\",#REF!)","v":{"$error":"#REF!"}},{"$f":"IF(#REF!=\"\", \"\",#REF!)","v":{"$error":"#REF!"}},{"$f":"IF(#REF!=\"\", \"\",#REF!)","v":{"$error":"#REF!"}},{"$f":"IF(#REF!=\"\", \"\",#REF!)","v":{"$error":"#REF!"}},{"$f":"IF(#REF!=\"\", \"\",#REF!)","v":{"$error":"#REF!"}},{"$f":"IF(#REF!=\"\", \"\",#REF!)","v":{"$error":"#REF!"}},{"$f":"IF(#REF!=\"\", \"\",#REF!)","v":{"$error":"#REF!"}},{"$f":"IF(#REF!=\"\", \"\",#REF!)","v":{"$error":"#REF!"}},{"$f":"IF(#REF!=\"\", \"\",#REF!)","v":{"$error":"#REF!"}},{"$f":"IF(#REF!=\"\", \"\",#REF!)","v":{"$error":"#REF!"}},{"$f":"IF(#REF!=\"\", \"\",#REF!)","v":{"$error":"#REF!"}},{"$f":"IF(#REF!=\"\", \"\",#REF!)","v":{"$error":"#REF!"}},{"$f":"IF(#REF!=\"\", \"\",#REF!)","v":{"$error":"#REF!"}},{"$f":"IF(#REF!=\"\", \"\",#REF!)","v":{"$error":"#REF!"}},{"$f":"IF(#REF!=\"\", \"\",#REF!)","v":{"$error":"#REF!"}},{"$f":"IF(#REF!=\"\", \"\",#REF!)","v":{"$error":"#REF!"}},{"$f":"IF(#REF!=\"\", \"\",#REF!)","v":{"$error":"#REF!"}},{"$f":"IF(#REF!=\"\", \"\",#REF!)","v":{"$error":"#REF!"}},{"$f":"IF(#REF!=\"\", \"\",#REF!)","v":{"$error":"#REF!"}},{"$f":"IF(#REF!=\"\", \"\",#REF!)","v":{"$error":"#REF!"}},{"$f":"IF(#REF!=\"\", \"\",#REF!)","v":{"$error":"#REF!"}},{"$f":"IF(#REF!=\"\", \"\",#REF!)","v":{"$error":"#REF!"}}]
["Item 25",{"$f":"IF(#REF!=\"\", \"\",#REF!)","v":{"$error":"#REF!"}},{"$f":"IF(#REF!=\"\", \"\",#REF!)","v":{"$error":"#REF!"}},{"$f":"IF(#REF!=\"\", \"\",#REF!)","v":{"$error":"#REF!"}},{"$f":"IF(#REF!=\"\", \"\",#REF!)","v":{"$error":"#REF!"}},{"$f":"IF(#REF!=\"\", \"\",#REF!)","v":{"$error":"#REF!"}},{"$f":"IF(#REF!=\"\", \"\",#REF!)","v":{"$error":"#REF!"}},{"$f":"IF(#REF!=\"\", \"\",#REF!)","v":{"$error":"#REF!"}},{"$f":"IF(#REF!=\"\", \"\",#REF!)","v":{"$error":"#REF!"}},{"$f":"IF(#REF!=\"\", \"\",#REF!)","v":{"$error":"#REF!"}},{"$f":"IF(#REF!=\"\", \"\",#REF!)","v":{"$error":"#REF!"}},{"$f":"IF(#REF!=\"\", \"\",#REF!)","v":{"$error":"#REF!"}},{"$f":"IF(#REF!=\"\", \"\",#REF!)","v":{"$error":"#REF!"}},{"$f":"IF(#REF!=\"\", \"\",#REF!)","v":{"$error":"#REF!"}},{"$f":"IF(#REF!=\"\", \"\",#REF!)","v":{"$error":"#REF!"}},{"$f":"IF(#REF!=\"\", \"\",#REF!)","v":{"$error":"#REF!"}},{"$f":"IF(#REF!=\"\", \"\",#REF!)","v":{"$error":"#REF!"}},{"$f":"IF(#REF!=\"\", \"\",#REF!)","v":{"$error":"#REF!"}},{"$f":"IF(#REF!=\"\", \"\",#REF!)","v":{"$error":"#REF!"}},{"$f":"IF(#REF!=\"\", \"\",#REF!)","v":{"$error":"#REF!"}},{"$f":"IF(#REF!=\"\", \"\",#REF!)","v":{"$error":"#REF!"}},{"$f":"IF(#REF!=\"\", \"\",#REF!)","v":{"$error":"#REF!"}},{"$f":"IF(#REF!=\"\", \"\",#REF!)","v":{"$error":"#REF!"}},{"$f":"IF(#REF!=\"\", \"\",#REF!)","v":{"$error":"#REF!"}},{"$f":"IF(#REF!=\"\", \"\",#REF!)","v":{"$error":"#REF!"}},{"$f":"IF(#REF!=\"\", \"\",#REF!)","v":{"$error":"#REF!"}},{"$f":"IF(#REF!=\"\", \"\",#REF!)","v":{"$error":"#REF!"}},{"$f":"IF(#REF!=\"\", \"\",#REF!)","v":{"$error":"#REF!"}},{"$f":"IF(#REF!=\"\", \"\",#REF!)","v":{"$error":"#REF!"}},{"$f":"IF(#REF!=\"\", \"\",#REF!)","v":{"$error":"#REF!"}},{"$f":"IF(#REF!=\"\", \"\",#REF!)","v":{"$error":"#REF!"}},{"$f":"IF(#REF!=\"\", \"\",#REF!)","v":{"$error":"#REF!"}},{"$f":"IF(#REF!=\"\", \"\",#REF!)","v":{"$error":"#REF!"}},{"$f":"IF(#REF!=\"\", \"\",#REF!)","v":{"$error":"#REF!"}},{"$f":"IF(#REF!=\"\", \"\",#REF!)","v":{"$error":"#REF!"}},{"$f":"IF(#REF!=\"\", \"\",#REF!)","v":{"$error":"#REF!"}},{"$f":"IF(#REF!=\"\", \"\",#REF!)","v":{"$error":"#REF!"}},{"$f":"IF(#REF!=\"\", \"\",#REF!)","v":{"$error":"#REF!"}},{"$f":"IF(#REF!=\"\", \"\",#REF!)","v":{"$error":"#REF!"}},{"$f":"IF(#REF!=\"\", \"\",#REF!)","v":{"$error":"#REF!"}},{"$f":"IF(#REF!=\"\", \"\",#REF!)","v":{"$error":"#REF!"}},{"$f":"IF(#REF!=\"\", \"\",#REF!)","v":{"$error":"#REF!"}},{"$f":"IF(#REF!=\"\", \"\",#REF!)","v":{"$error":"#REF!"}},{"$f":"IF(#REF!=\"\", \"\",#REF!)","v":{"$error":"#REF!"}},{"$f":"IF(#REF!=\"\", \"\",#REF!)","v":{"$error":"#REF!"}},{"$f":"IF(#REF!=\"\", \"\",#REF!)","v":{"$error":"#REF!"}},{"$f":"IF(#REF!=\"\", \"\",#REF!)","v":{"$error":"#REF!"}},{"$f":"IF(#REF!=\"\", \"\",#REF!)","v":{"$error":"#REF!"}},{"$f":"IF(#REF!=\"\", \"\",#REF!)","v":{"$error":"#REF!"}},{"$f":"IF(#REF!=\"\", \"\",#REF!)","v":{"$error":"#REF!"}},{"$f":"IF(#REF!=\"\", \"\",#REF!)","v":{"$error":"#REF!"}},{"$f":"IF(#REF!=\"\", \"\",#REF!)","v":{"$error":"#REF!"}},{"$f":"IF(#REF!=\"\", \"\",#REF!)","v":{"$error":"#REF!"}},{"$f":"IF(#REF!=\"\", \"\",#REF!)","v":{"$error":"#REF!"}},{"$f":"IF(#REF!=\"\", \"\",#REF!)","v":{"$error":"#REF!"}},{"$f":"IF(#REF!=\"\", \"\",#REF!)","v":{"$error":"#REF!"}},{"$f":"IF(#REF!=\"\", \"\",#REF!)","v":{"$error":"#REF!"}},{"$f":"IF(#REF!=\"\", \"\",#REF!)","v":{"$error":"#REF!"}},{"$f":"IF(#REF!=\"\", \"\",#REF!)","v":{"$error":"#REF!"}},{"$f":"IF(#REF!=\"\", \"\",#REF!)","v":{"$error":"#REF!"}},{"$f":"IF(#REF!=\"\", \"\",#REF!)","v":{"$error":"#REF!"}},{"$f":"IF(#REF!=\"\", \"\",#REF!)","v":{"$error":"#REF!"}}]
["Item 26",{"$f":"IF(#REF!=\"\", \"\",#REF!)","v":{"$error":"#REF!"}},{"$f":"IF(#REF!=\"\", \"\",#REF!)","v":{"$error":"#REF!"}},{"$f":"IF(#REF!=\"\", \"\",#REF!)","v":{"$error":"#REF!"}},{"$f":"IF(#REF!=\"\", \"\",#REF!)","v":{"$error":"#REF!"}},{"$f":"IF(#REF!=\"\", \"\",#REF!)","v":{"$error":"#REF!"}},{"$f":"IF(#REF!=\"\", \"\",#REF!)","v":{"$error":"#REF!"}},{"$f":"IF(#REF!=\"\", \"\",#REF!)","v":{"$error":"#REF!"}},{"$f":"IF(#REF!=\"\", \"\",#REF!)","v":{"$error":"#REF!"}},{"$f":"IF(#REF!=\"\", \"\",#REF!)","v":{"$error":"#REF!"}},{"$f":"IF(#REF!=\"\", \"\",#REF!)","v":{"$error":"#REF!"}},{"$f":"IF(#REF!=\"\", \"\",#REF!)","v":{"$error":"#REF!"}},{"$f":"IF(#REF!=\"\", \"\",#REF!)","v":{"$error":"#REF!"}},{"$f":"IF(#REF!=\"\", \"\",#REF!)","v":{"$error":"#REF!"}},{"$f":"IF(#REF!=\"\", \"\",#REF!)","v":{"$error":"#REF!"}},{"$f":"IF(#REF!=\"\", \"\",#REF!)","v":{"$error":"#REF!"}},{"$f":"IF(#REF!=\"\", \"\",#REF!)","v":{"$error":"#REF!"}},{"$f":"IF(#REF!=\"\", \"\",#REF!)","v":{"$error":"#REF!"}},{"$f":"IF(#REF!=\"\", \"\",#REF!)","v":{"$error":"#REF!"}},{"$f":"IF(#REF!=\"\", \"\",#REF!)","v":{"$error":"#REF!"}},{"$f":"IF(#REF!=\"\", \"\",#REF!)","v":{"$error":"#REF!"}},{"$f":"IF(#REF!=\"\", \"\",#REF!)","v":{"$error":"#REF!"}},{"$f":"IF(#REF!=\"\", \"\",#REF!)","v":{"$error":"#REF!"}},{"$f":"IF(#REF!=\"\", \"\",#REF!)","v":{"$error":"#REF!"}},{"$f":"IF(#REF!=\"\", \"\",#REF!)","v":{"$error":"#REF!"}},{"$f":"IF(#REF!=\"\", \"\",#REF!)","v":{"$error":"#REF!"}},{"$f":"IF(#REF!=\"\", \"\",#REF!)","v":{"$error":"#REF!"}},{"$f":"IF(#REF!=\"\", \"\",#REF!)","v":{"$error":"#REF!"}},{"$f":"IF(#REF!=\"\", \"\",#REF!)","v":{"$error":"#REF!"}},{"$f":"IF(#REF!=\"\", \"\",#REF!)","v":{"$error":"#REF!"}},{"$f":"IF(#REF!=\"\", \"\",#REF!)","v":{"$error":"#REF!"}},{"$f":"IF(#REF!=\"\", \"\",#REF!)","v":{"$error":"#REF!"}},{"$f":"IF(#REF!=\"\", \"\",#REF!)","v":{"$error":"#REF!"}},{"$f":"IF(#REF!=\"\", \"\",#REF!)","v":{"$error":"#REF!"}},{"$f":"IF(#REF!=\"\", \"\",#REF!)","v":{"$error":"#REF!"}},{"$f":"IF(#REF!=\"\", \"\",#REF!)","v":{"$error":"#REF!"}},{"$f":"IF(#REF!=\"\", \"\",#REF!)","v":{"$error":"#REF!"}},{"$f":"IF(#REF!=\"\", \"\",#REF!)","v":{"$error":"#REF!"}},{"$f":"IF(#REF!=\"\", \"\",#REF!)","v":{"$error":"#REF!"}},{"$f":"IF(#REF!=\"\", \"\",#REF!)","v":{"$error":"#REF!"}},{"$f":"IF(#REF!=\"\", \"\",#REF!)","v":{"$error":"#REF!"}},{"$f":"IF(#REF!=\"\", \"\",#REF!)","v":{"$error":"#REF!"}},{"$f":"IF(#REF!=\"\", \"\",#REF!)","v":{"$error":"#REF!"}},{"$f":"IF(#REF!=\"\", \"\",#REF!)","v":{"$error":"#REF!"}},{"$f":"IF(#REF!=\"\", \"\",#REF!)","v":{"$error":"#REF!"}},{"$f":"IF(#REF!=\"\", \"\",#REF!)","v":{"$error":"#REF!"}},{"$f":"IF(#REF!=\"\", \"\",#REF!)","v":{"$error":"#REF!"}},{"$f":"IF(#REF!=\"\", \"\",#REF!)","v":{"$error":"#REF!"}},{"$f":"IF(#REF!=\"\", \"\",#REF!)","v":{"$error":"#REF!"}},{"$f":"IF(#REF!=\"\", \"\",#REF!)","v":{"$error":"#REF!"}},{"$f":"IF(#REF!=\"\", \"\",#REF!)","v":{"$error":"#REF!"}},{"$f":"IF(#REF!=\"\", \"\",#REF!)","v":{"$error":"#REF!"}},{"$f":"IF(#REF!=\"\", \"\",#REF!)","v":{"$error":"#REF!"}},{"$f":"IF(#REF!=\"\", \"\",#REF!)","v":{"$error":"#REF!"}},{"$f":"IF(#REF!=\"\", \"\",#REF!)","v":{"$error":"#REF!"}},{"$f":"IF(#REF!=\"\", \"\",#REF!)","v":{"$error":"#REF!"}},{"$f":"IF(#REF!=\"\", \"\",#REF!)","v":{"$error":"#REF!"}},{"$f":"IF(#REF!=\"\", \"\",#REF!)","v":{"$error":"#REF!"}},{"$f":"IF(#REF!=\"\", \"\",#REF!)","v":{"$error":"#REF!"}},{"$f":"IF(#REF!=\"\", \"\",#REF!)","v":{"$error":"#REF!"}},{"$f":"IF(#REF!=\"\", \"\",#REF!)","v":{"$error":"#REF!"}},{"$f":"IF(#REF!=\"\", \"\",#REF!)","v":{"$error":"#REF!"}}]
["Item 27",{"$f":"IF(#REF!=\"\", \"\",#REF!)","v":{"$error":"#REF!"}},{"$f":"IF(#REF!=\"\", \"\",#REF!)","v":{"$error":"#REF!"}},{"$f":"IF(#REF!=\"\", \"\",#REF!)","v":{"$error":"#REF!"}},{"$f":"IF(#REF!=\"\", \"\",#REF!)","v":{"$error":"#REF!"}},{"$f":"IF(#REF!=\"\", \"\",#REF!)","v":{"$error":"#REF!"}},{"$f":"IF(#REF!=\"\", \"\",#REF!)","v":{"$error":"#REF!"}},{"$f":"IF(#REF!=\"\", \"\",#REF!)","v":{"$error":"#REF!"}},{"$f":"IF(#REF!=\"\", \"\",#REF!)","v":{"$error":"#REF!"}},{"$f":"IF(#REF!=\"\", \"\",#REF!)","v":{"$error":"#REF!"}},{"$f":"IF(#REF!=\"\", \"\",#REF!)","v":{"$error":"#REF!"}},{"$f":"IF(#REF!=\"\", \"\",#REF!)","v":{"$error":"#REF!"}},{"$f":"IF(#REF!=\"\", \"\",#REF!)","v":{"$error":"#REF!"}},{"$f":"IF(#REF!=\"\", \"\",#REF!)","v":{"$error":"#REF!"}},{"$f":"IF(#REF!=\"\", \"\",#REF!)","v":{"$error":"#REF!"}},{"$f":"IF(#REF!=\"\", \"\",#REF!)","v":{"$error":"#REF!"}},{"$f":"IF(#REF!=\"\", \"\",#REF!)","v":{"$error":"#REF!"}},{"$f":"IF(#REF!=\"\", \"\",#REF!)","v":{"$error":"#REF!"}},{"$f":"IF(#REF!=\"\", \"\",#REF!)","v":{"$error":"#REF!"}},{"$f":"IF(#REF!=\"\", \"\",#REF!)","v":{"$error":"#REF!"}},{"$f":"IF(#REF!=\"\", \"\",#REF!)","v":{"$error":"#REF!"}},{"$f":"IF(#REF!=\"\", \"\",#REF!)","v":{"$error":"#REF!"}},{"$f":"IF(#REF!=\"\", \"\",#REF!)","v":{"$error":"#REF!"}},{"$f":"IF(#REF!=\"\", \"\",#REF!)","v":{"$error":"#REF!"}},{"$f":"IF(#REF!=\"\", \"\",#REF!)","v":{"$error":"#REF!"}},{"$f":"IF(#REF!=\"\", \"\",#REF!)","v":{"$error":"#REF!"}},{"$f":"IF(#REF!=\"\", \"\",#REF!)","v":{"$error":"#REF!"}},{"$f":"IF(#REF!=\"\", \"\",#REF!)","v":{"$error":"#REF!"}},{"$f":"IF(#REF!=\"\", \"\",#REF!)","v":{"$error":"#REF!"}},{"$f":"IF(#REF!=\"\", \"\",#REF!)","v":{"$error":"#REF!"}},{"$f":"IF(#REF!=\"\", \"\",#REF!)","v":{"$error":"#REF!"}},{"$f":"IF(#REF!=\"\", \"\",#REF!)","v":{"$error":"#REF!"}},{"$f":"IF(#REF!=\"\", \"\",#REF!)","v":{"$error":"#REF!"}},{"$f":"IF(#REF!=\"\", \"\",#REF!)","v":{"$error":"#REF!"}},{"$f":"IF(#REF!=\"\", \"\",#REF!)","v":{"$error":"#REF!"}},{"$f":"IF(#REF!=\"\", \"\",#REF!)","v":{"$error":"#REF!"}},{"$f":"IF(#REF!=\"\", \"\",#REF!)","v":{"$error":"#REF!"}},{"$f":"IF(#REF!=\"\", \"\",#REF!)","v":{"$error":"#REF!"}},{"$f":"IF(#REF!=\"\", \"\",#REF!)","v":{"$error":"#REF!"}},{"$f":"IF(#REF!=\"\", \"\",#REF!)","v":{"$error":"#REF!"}},{"$f":"IF(#REF!=\"\", \"\",#REF!)","v":{"$error":"#REF!"}},{"$f":"IF(#REF!=\"\", \"\",#REF!)","v":{"$error":"#REF!"}},{"$f":"IF(#REF!=\"\", \"\",#REF!)","v":{"$error":"#REF!"}},{"$f":"IF(#REF!=\"\", \"\",#REF!)","v":{"$error":"#REF!"}},{"$f":"IF(#REF!=\"\", \"\",#REF!)","v":{"$error":"#REF!"}},{"$f":"IF(#REF!=\"\", \"\",#REF!)","v":{"$error":"#REF!"}},{"$f":"IF(#REF!=\"\", \"\",#REF!)","v":{"$error":"#REF!"}},{"$f":"IF(#REF!=\"\", \"\",#REF!)","v":{"$error":"#REF!"}},{"$f":"IF(#REF!=\"\", \"\",#REF!)","v":{"$error":"#REF!"}},{"$f":"IF(#REF!=\"\", \"\",#REF!)","v":{"$error":"#REF!"}},{"$f":"IF(#REF!=\"\", \"\",#REF!)","v":{"$error":"#REF!"}},{"$f":"IF(#REF!=\"\", \"\",#REF!)","v":{"$error":"#REF!"}},{"$f":"IF(#REF!=\"\", \"\",#REF!)","v":{"$error":"#REF!"}},{"$f":"IF(#REF!=\"\", \"\",#REF!)","v":{"$error":"#REF!"}},{"$f":"IF(#REF!=\"\", \"\",#REF!)","v":{"$error":"#REF!"}},{"$f":"IF(#REF!=\"\", \"\",#REF!)","v":{"$error":"#REF!"}},{"$f":"IF(#REF!=\"\", \"\",#REF!)","v":{"$error":"#REF!"}},{"$f":"IF(#REF!=\"\", \"\",#REF!)","v":{"$error":"#REF!"}},{"$f":"IF(#REF!=\"\", \"\",#REF!)","v":{"$error":"#REF!"}},{"$f":"IF(#REF!=\"\", \"\",#REF!)","v":{"$error":"#REF!"}},{"$f":"IF(#REF!=\"\", \"\",#REF!)","v":{"$error":"#REF!"}},{"$f":"IF(#REF!=\"\", \"\",#REF!)","v":{"$error":"#REF!"}}]
["Item 28",{"$f":"IF(#REF!=\"\", \"\",#REF!)","v":{"$error":"#REF!"}},{"$f":"IF(#REF!=\"\", \"\",#REF!)","v":{"$error":"#REF!"}},{"$f":"IF(#REF!=\"\", \"\",#REF!)","v":{"$error":"#REF!"}},{"$f":"IF(#REF!=\"\", \"\",#REF!)","v":{"$error":"#REF!"}},{"$f":"IF(#REF!=\"\", \"\",#REF!)","v":{"$error":"#REF!"}},{"$f":"IF(#REF!=\"\", \"\",#REF!)","v":{"$error":"#REF!"}},{"$f":"IF(#REF!=\"\", \"\",#REF!)","v":{"$error":"#REF!"}},{"$f":"IF(#REF!=\"\", \"\",#REF!)","v":{"$error":"#REF!"}},{"$f":"IF(#REF!=\"\", \"\",#REF!)","v":{"$error":"#REF!"}},{"$f":"IF(#REF!=\"\", \"\",#REF!)","v":{"$error":"#REF!"}},{"$f":"IF(#REF!=\"\", \"\",#REF!)","v":{"$error":"#REF!"}},{"$f":"IF(#REF!=\"\", \"\",#REF!)","v":{"$error":"#REF!"}},{"$f":"IF(#REF!=\"\", \"\",#REF!)","v":{"$error":"#REF!"}},{"$f":"IF(#REF!=\"\", \"\",#REF!)","v":{"$error":"#REF!"}},{"$f":"IF(#REF!=\"\", \"\",#REF!)","v":{"$error":"#REF!"}},{"$f":"IF(#REF!=\"\", \"\",#REF!)","v":{"$error":"#REF!"}},{"$f":"IF(#REF!=\"\", \"\",#REF!)","v":{"$error":"#REF!"}},{"$f":"IF(#REF!=\"\", \"\",#REF!)","v":{"$error":"#REF!"}},{"$f":"IF(#REF!=\"\", \"\",#REF!)","v":{"$error":"#REF!"}},{"$f":"IF(#REF!=\"\", \"\",#REF!)","v":{"$error":"#REF!"}},{"$f":"IF(#REF!=\"\", \"\",#REF!)","v":{"$error":"#REF!"}},{"$f":"IF(#REF!=\"\", \"\",#REF!)","v":{"$error":"#REF!"}},{"$f":"IF(#REF!=\"\", \"\",#REF!)","v":{"$error":"#REF!"}},{"$f":"IF(#REF!=\"\", \"\",#REF!)","v":{"$error":"#REF!"}},{"$f":"IF(#REF!=\"\", \"\",#REF!)","v":{"$error":"#REF!"}},{"$f":"IF(#REF!=\"\", \"\",#REF!)","v":{"$error":"#REF!"}},{"$f":"IF(#REF!=\"\", \"\",#REF!)","v":{"$error":"#REF!"}},{"$f":"IF(#REF!=\"\", \"\",#REF!)","v":{"$error":"#REF!"}},{"$f":"IF(#REF!=\"\", \"\",#REF!)","v":{"$error":"#REF!"}},{"$f":"IF(#REF!=\"\", \"\",#REF!)","v":{"$error":"#REF!"}},{"$f":"IF(#REF!=\"\", \"\",#REF!)","v":{"$error":"#REF!"}},{"$f":"IF(#REF!=\"\", \"\",#REF!)","v":{"$error":"#REF!"}},{"$f":"IF(#REF!=\"\", \"\",#REF!)","v":{"$error":"#REF!"}},{"$f":"IF(#REF!=\"\", \"\",#REF!)","v":{"$error":"#REF!"}},{"$f":"IF(#REF!=\"\", \"\",#REF!)","v":{"$error":"#REF!"}},{"$f":"IF(#REF!=\"\", \"\",#REF!)","v":{"$error":"#REF!"}},{"$f":"IF(#REF!=\"\", \"\",#REF!)","v":{"$error":"#REF!"}},{"$f":"IF(#REF!=\"\", \"\",#REF!)","v":{"$error":"#REF!"}},{"$f":"IF(#REF!=\"\", \"\",#REF!)","v":{"$error":"#REF!"}},{"$f":"IF(#REF!=\"\", \"\",#REF!)","v":{"$error":"#REF!"}},{"$f":"IF(#REF!=\"\", \"\",#REF!)","v":{"$error":"#REF!"}},{"$f":"IF(#REF!=\"\", \"\",#REF!)","v":{"$error":"#REF!"}},{"$f":"IF(#REF!=\"\", \"\",#REF!)","v":{"$error":"#REF!"}},{"$f":"IF(#REF!=\"\", \"\",#REF!)","v":{"$error":"#REF!"}},{"$f":"IF(#REF!=\"\", \"\",#REF!)","v":{"$error":"#REF!"}},{"$f":"IF(#REF!=\"\", \"\",#REF!)","v":{"$error":"#REF!"}},{"$f":"IF(#REF!=\"\", \"\",#REF!)","v":{"$error":"#REF!"}},{"$f":"IF(#REF!=\"\", \"\",#REF!)","v":{"$error":"#REF!"}},{"$f":"IF(#REF!=\"\", \"\",#REF!)","v":{"$error":"#REF!"}},{"$f":"IF(#REF!=\"\", \"\",#REF!)","v":{"$error":"#REF!"}},{"$f":"IF(#REF!=\"\", \"\",#REF!)","v":{"$error":"#REF!"}},{"$f":"IF(#REF!=\"\", \"\",#REF!)","v":{"$error":"#REF!"}},{"$f":"IF(#REF!=\"\", \"\",#REF!)","v":{"$error":"#REF!"}},{"$f":"IF(#REF!=\"\", \"\",#REF!)","v":{"$error":"#REF!"}},{"$f":"IF(#REF!=\"\", \"\",#REF!)","v":{"$error":"#REF!"}},{"$f":"IF(#REF!=\"\", \"\",#REF!)","v":{"$error":"#REF!"}},{"$f":"IF(#REF!=\"\", \"\",#REF!)","v":{"$error":"#REF!"}},{"$f":"IF(#REF!=\"\", \"\",#REF!)","v":{"$error":"#REF!"}},{"$f":"IF(#REF!=\"\", \"\",#REF!)","v":{"$error":"#REF!"}},{"$f":"IF(#REF!=\"\", \"\",#REF!)","v":{"$error":"#REF!"}},{"$f":"IF(#REF!=\"\", \"\",#REF!)","v":{"$error":"#REF!"}}]
["Item 29",{"$f":"IF(#REF!=\"\", \"\",#REF!)","v":{"$error":"#REF!"}},{"$f":"IF(#REF!=\"\", \"\",#REF!)","v":{"$error":"#REF!"}},{"$f":"IF(#REF!=\"\", \"\",#REF!)","v":{"$error":"#REF!"}},{"$f":"IF(#REF!=\"\", \"\",#REF!)","v":{"$error":"#REF!"}},{"$f":"IF(#REF!=\"\", \"\",#REF!)","v":{"$error":"#REF!"}},{"$f":"IF(#REF!=\"\", \"\",#REF!)","v":{"$error":"#REF!"}},{"$f":"IF(#REF!=\"\", \"\",#REF!)","v":{"$error":"#REF!"}},{"$f":"IF(#REF!=\"\", \"\",#REF!)","v":{"$error":"#REF!"}},{"$f":"IF(#REF!=\"\", \"\",#REF!)","v":{"$error":"#REF!"}},{"$f":"IF(#REF!=\"\", \"\",#REF!)","v":{"$error":"#REF!"}},{"$f":"IF(#REF!=\"\", \"\",#REF!)","v":{"$error":"#REF!"}},{"$f":"IF(#REF!=\"\", \"\",#REF!)","v":{"$error":"#REF!"}},{"$f":"IF(#REF!=\"\", \"\",#REF!)","v":{"$error":"#REF!"}},{"$f":"IF(#REF!=\"\", \"\",#REF!)","v":{"$error":"#REF!"}},{"$f":"IF(#REF!=\"\", \"\",#REF!)","v":{"$error":"#REF!"}},{"$f":"IF(#REF!=\"\", \"\",#REF!)","v":{"$error":"#REF!"}},{"$f":"IF(#REF!=\"\", \"\",#REF!)","v":{"$error":"#REF!"}},{"$f":"IF(#REF!=\"\", \"\",#REF!)","v":{"$error":"#REF!"}},{"$f":"IF(#REF!=\"\", \"\",#REF!)","v":{"$error":"#REF!"}},{"$f":"IF(#REF!=\"\", \"\",#REF!)","v":{"$error":"#REF!"}},{"$f":"IF(#REF!=\"\", \"\",#REF!)","v":{"$error":"#REF!"}},{"$f":"IF(#REF!=\"\", \"\",#REF!)","v":{"$error":"#REF!"}},{"$f":"IF(#REF!=\"\", \"\",#REF!)","v":{"$error":"#REF!"}},{"$f":"IF(#REF!=\"\", \"\",#REF!)","v":{"$error":"#REF!"}},{"$f":"IF(#REF!=\"\", \"\",#REF!)","v":{"$error":"#REF!"}},{"$f":"IF(#REF!=\"\", \"\",#REF!)","v":{"$error":"#REF!"}},{"$f":"IF(#REF!=\"\", \"\",#REF!)","v":{"$error":"#REF!"}},{"$f":"IF(#REF!=\"\", \"\",#REF!)","v":{"$error":"#REF!"}},{"$f":"IF(#REF!=\"\", \"\",#REF!)","v":{"$error":"#REF!"}},{"$f":"IF(#REF!=\"\", \"\",#REF!)","v":{"$error":"#REF!"}},{"$f":"IF(#REF!=\"\", \"\",#REF!)","v":{"$error":"#REF!"}},{"$f":"IF(#REF!=\"\", \"\",#REF!)","v":{"$error":"#REF!"}},{"$f":"IF(#REF!=\"\", \"\",#REF!)","v":{"$error":"#REF!"}},{"$f":"IF(#REF!=\"\", \"\",#REF!)","v":{"$error":"#REF!"}},{"$f":"IF(#REF!=\"\", \"\",#REF!)","v":{"$error":"#REF!"}},{"$f":"IF(#REF!=\"\", \"\",#REF!)","v":{"$error":"#REF!"}},{"$f":"IF(#REF!=\"\", \"\",#REF!)","v":{"$error":"#REF!"}},{"$f":"IF(#REF!=\"\", \"\",#REF!)","v":{"$error":"#REF!"}},{"$f":"IF(#REF!=\"\", \"\",#REF!)","v":{"$error":"#REF!"}},{"$f":"IF(#REF!=\"\", \"\",#REF!)","v":{"$error":"#REF!"}},{"$f":"IF(#REF!=\"\", \"\",#REF!)","v":{"$error":"#REF!"}},{"$f":"IF(#REF!=\"\", \"\",#REF!)","v":{"$error":"#REF!"}},{"$f":"IF(#REF!=\"\", \"\",#REF!)","v":{"$error":"#REF!"}},{"$f":"IF(#REF!=\"\", \"\",#REF!)","v":{"$error":"#REF!"}},{"$f":"IF(#REF!=\"\", \"\",#REF!)","v":{"$error":"#REF!"}},{"$f":"IF(#REF!=\"\", \"\",#REF!)","v":{"$error":"#REF!"}},{"$f":"IF(#REF!=\"\", \"\",#REF!)","v":{"$error":"#REF!"}},{"$f":"IF(#REF!=\"\", \"\",#REF!)","v":{"$error":"#REF!"}},{"$f":"IF(#REF!=\"\", \"\",#REF!)","v":{"$error":"#REF!"}},{"$f":"IF(#REF!=\"\", \"\",#REF!)","v":{"$error":"#REF!"}},{"$f":"IF(#REF!=\"\", \"\",#REF!)","v":{"$error":"#REF!"}},{"$f":"IF(#REF!=\"\", \"\",#REF!)","v":{"$error":"#REF!"}},{"$f":"IF(#REF!=\"\", \"\",#REF!)","v":{"$error":"#REF!"}},{"$f":"IF(#REF!=\"\", \"\",#REF!)","v":{"$error":"#REF!"}},{"$f":"IF(#REF!=\"\", \"\",#REF!)","v":{"$error":"#REF!"}},{"$f":"IF(#REF!=\"\", \"\",#REF!)","v":{"$error":"#REF!"}},{"$f":"IF(#REF!=\"\", \"\",#REF!)","v":{"$error":"#REF!"}},{"$f":"IF(#REF!=\"\", \"\",#REF!)","v":{"$error":"#REF!"}},{"$f":"IF(#REF!=\"\", \"\",#REF!)","v":{"$error":"#REF!"}},{"$f":"IF(#REF!=\"\", \"\",#REF!)","v":{"$error":"#REF!"}},{"$f":"IF(#REF!=\"\", \"\",#REF!)","v":{"$error":"#REF!"}}]
["Item 30",{"$f":"IF(#REF!=\"\", \"\",#REF!)","v":{"$error":"#REF!"}},{"$f":"IF(#REF!=\"\", \"\",#REF!)","v":{"$error":"#REF!"}},{"$f":"IF(#REF!=\"\", \"\",#REF!)","v":{"$error":"#REF!"}},{"$f":"IF(#REF!=\"\", \"\",#REF!)","v":{"$error":"#REF!"}},{"$f":"IF(#REF!=\"\", \"\",#REF!)","v":{"$error":"#REF!"}},{"$f":"IF(#REF!=\"\", \"\",#REF!)","v":{"$error":"#REF!"}},{"$f":"IF(#REF!=\"\", \"\",#REF!)","v":{"$error":"#REF!"}},{"$f":"IF(#REF!=\"\", \"\",#REF!)","v":{"$error":"#REF!"}},{"$f":"IF(#REF!=\"\", \"\",#REF!)","v":{"$error":"#REF!"}},{"$f":"IF(#REF!=\"\", \"\",#REF!)","v":{"$error":"#REF!"}},{"$f":"IF(#REF!=\"\", \"\",#REF!)","v":{"$error":"#REF!"}},{"$f":"IF(#REF!=\"\", \"\",#REF!)","v":{"$error":"#REF!"}},{"$f":"IF(#REF!=\"\", \"\",#REF!)","v":{"$error":"#REF!"}},{"$f":"IF(#REF!=\"\", \"\",#REF!)","v":{"$error":"#REF!"}},{"$f":"IF(#REF!=\"\", \"\",#REF!)","v":{"$error":"#REF!"}},{"$f":"IF(#REF!=\"\", \"\",#REF!)","v":{"$error":"#REF!"}},{"$f":"IF(#REF!=\"\", \"\",#REF!)","v":{"$error":"#REF!"}},{"$f":"IF(#REF!=\"\", \"\",#REF!)","v":{"$error":"#REF!"}},{"$f":"IF(#REF!=\"\", \"\",#REF!)","v":{"$error":"#REF!"}},{"$f":"IF(#REF!=\"\", \"\",#REF!)","v":{"$error":"#REF!"}},{"$f":"IF(#REF!=\"\", \"\",#REF!)","v":{"$error":"#REF!"}},{"$f":"IF(#REF!=\"\", \"\",#REF!)","v":{"$error":"#REF!"}},{"$f":"IF(#REF!=\"\", \"\",#REF!)","v":{"$error":"#REF!"}},{"$f":"IF(#REF!=\"\", \"\",#REF!)","v":{"$error":"#REF!"}},{"$f":"IF(#REF!=\"\", \"\",#REF!)","v":{"$error":"#REF!"}},{"$f":"IF(#REF!=\"\", \"\",#REF!)","v":{"$error":"#REF!"}},{"$f":"IF(#REF!=\"\", \"\",#REF!)","v":{"$error":"#REF!"}},{"$f":"IF(#REF!=\"\", \"\",#REF!)","v":{"$error":"#REF!"}},{"$f":"IF(#REF!=\"\", \"\",#REF!)","v":{"$error":"#REF!"}},{"$f":"IF(#REF!=\"\", \"\",#REF!)","v":{"$error":"#REF!"}},{"$f":"IF(#REF!=\"\", \"\",#REF!)","v":{"$error":"#REF!"}},{"$f":"IF(#REF!=\"\", \"\",#REF!)","v":{"$error":"#REF!"}},{"$f":"IF(#REF!=\"\", \"\",#REF!)","v":{"$error":"#REF!"}},{"$f":"IF(#REF!=\"\", \"\",#REF!)","v":{"$error":"#REF!"}},{"$f":"IF(#REF!=\"\", \"\",#REF!)","v":{"$error":"#REF!"}},{"$f":"IF(#REF!=\"\", \"\",#REF!)","v":{"$error":"#REF!"}},{"$f":"IF(#REF!=\"\", \"\",#REF!)","v":{"$error":"#REF!"}},{"$f":"IF(#REF!=\"\", \"\",#REF!)","v":{"$error":"#REF!"}},{"$f":"IF(#REF!=\"\", \"\",#REF!)","v":{"$error":"#REF!"}},{"$f":"IF(#REF!=\"\", \"\",#REF!)","v":{"$error":"#REF!"}},{"$f":"IF(#REF!=\"\", \"\",#REF!)","v":{"$error":"#REF!"}},{"$f":"IF(#REF!=\"\", \"\",#REF!)","v":{"$error":"#REF!"}},{"$f":"IF(#REF!=\"\", \"\",#REF!)","v":{"$error":"#REF!"}},{"$f":"IF(#REF!=\"\", \"\",#REF!)","v":{"$error":"#REF!"}},{"$f":"IF(#REF!=\"\", \"\",#REF!)","v":{"$error":"#REF!"}},{"$f":"IF(#REF!=\"\", \"\",#REF!)","v":{"$error":"#REF!"}},{"$f":"IF(#REF!=\"\", \"\",#REF!)","v":{"$error":"#REF!"}},{"$f":"IF(#REF!=\"\", \"\",#REF!)","v":{"$error":"#REF!"}},{"$f":"IF(#REF!=\"\", \"\",#REF!)","v":{"$error":"#REF!"}},{"$f":"IF(#REF!=\"\", \"\",#REF!)","v":{"$error":"#REF!"}},{"$f":"IF(#REF!=\"\", \"\",#REF!)","v":{"$error":"#REF!"}},{"$f":"IF(#REF!=\"\", \"\",#REF!)","v":{"$error":"#REF!"}},{"$f":"IF(#REF!=\"\", \"\",#REF!)","v":{"$error":"#REF!"}},{"$f":"IF(#REF!=\"\", \"\",#REF!)","v":{"$error":"#REF!"}},{"$f":"IF(#REF!=\"\", \"\",#REF!)","v":{"$error":"#REF!"}},{"$f":"IF(#REF!=\"\", \"\",#REF!)","v":{"$error":"#REF!"}},{"$f":"IF(#REF!=\"\", \"\",#REF!)","v":{"$error":"#REF!"}},{"$f":"IF(#REF!=\"\", \"\",#REF!)","v":{"$error":"#REF!"}},{"$f":"IF(#REF!=\"\", \"\",#REF!)","v":{"$error":"#REF!"}},{"$f":"IF(#REF!=\"\", \"\",#REF!)","v":{"$error":"#REF!"}},{"$f":"IF(#REF!=\"\", \"\",#REF!)","v":{"$error":"#REF!"}}]
["Item 31",{"$f":"IF(#REF!=\"\", \"\",#REF!)","v":{"$error":"#REF!"}},{"$f":"IF(#REF!=\"\", \"\",#REF!)","v":{"$error":"#REF!"}},{"$f":"IF(#REF!=\"\", \"\",#REF!)","v":{"$error":"#REF!"}},{"$f":"IF(#REF!=\"\", \"\",#REF!)","v":{"$error":"#REF!"}},{"$f":"IF(#REF!=\"\", \"\",#REF!)","v":{"$error":"#REF!"}},{"$f":"IF(#REF!=\"\", \"\",#REF!)","v":{"$error":"#REF!"}},{"$f":"IF(#REF!=\"\", \"\",#REF!)","v":{"$error":"#REF!"}},{"$f":"IF(#REF!=\"\", \"\",#REF!)","v":{"$error":"#REF!"}},{"$f":"IF(#REF!=\"\", \"\",#REF!)","v":{"$error":"#REF!"}},{"$f":"IF(#REF!=\"\", \"\",#REF!)","v":{"$error":"#REF!"}},{"$f":"IF(#REF!=\"\", \"\",#REF!)","v":{"$error":"#REF!"}},{"$f":"IF(#REF!=\"\", \"\",#REF!)","v":{"$error":"#REF!"}},{"$f":"IF(#REF!=\"\", \"\",#REF!)","v":{"$error":"#REF!"}},{"$f":"IF(#REF!=\"\", \"\",#REF!)","v":{"$error":"#REF!"}},{"$f":"IF(#REF!=\"\", \"\",#REF!)","v":{"$error":"#REF!"}},{"$f":"IF(#REF!=\"\", \"\",#REF!)","v":{"$error":"#REF!"}},{"$f":"IF(#REF!=\"\", \"\",#REF!)","v":{"$error":"#REF!"}},{"$f":"IF(#REF!=\"\", \"\",#REF!)","v":{"$error":"#REF!"}},{"$f":"IF(#REF!=\"\", \"\",#REF!)","v":{"$error":"#REF!"}},{"$f":"IF(#REF!=\"\", \"\",#REF!)","v":{"$error":"#REF!"}},{"$f":"IF(#REF!=\"\", \"\",#REF!)","v":{"$error":"#REF!"}},{"$f":"IF(#REF!=\"\", \"\",#REF!)","v":{"$error":"#REF!"}},{"$f":"IF(#REF!=\"\", \"\",#REF!)","v":{"$error":"#REF!"}},{"$f":"IF(#REF!=\"\", \"\",#REF!)","v":{"$error":"#REF!"}},{"$f":"IF(#REF!=\"\", \"\",#REF!)","v":{"$error":"#REF!"}},{"$f":"IF(#REF!=\"\", \"\",#REF!)","v":{"$error":"#REF!"}},{"$f":"IF(#REF!=\"\", \"\",#REF!)","v":{"$error":"#REF!"}},{"$f":"IF(#REF!=\"\", \"\",#REF!)","v":{"$error":"#REF!"}},{"$f":"IF(#REF!=\"\", \"\",#REF!)","v":{"$error":"#REF!"}},{"$f":"IF(#REF!=\"\", \"\",#REF!)","v":{"$error":"#REF!"}},{"$f":"IF(#REF!=\"\", \"\",#REF!)","v":{"$error":"#REF!"}},{"$f":"IF(#REF!=\"\", \"\",#REF!)","v":{"$error":"#REF!"}},{"$f":"IF(#REF!=\"\", \"\",#REF!)","v":{"$error":"#REF!"}},{"$f":"IF(#REF!=\"\", \"\",#REF!)","v":{"$error":"#REF!"}},{"$f":"IF(#REF!=\"\", \"\",#REF!)","v":{"$error":"#REF!"}},{"$f":"IF(#REF!=\"\", \"\",#REF!)","v":{"$error":"#REF!"}},{"$f":"IF(#REF!=\"\", \"\",#REF!)","v":{"$error":"#REF!"}},{"$f":"IF(#REF!=\"\", \"\",#REF!)","v":{"$error":"#REF!"}},{"$f":"IF(#REF!=\"\", \"\",#REF!)","v":{"$error":"#REF!"}},{"$f":"IF(#REF!=\"\", \"\",#REF!)","v":{"$error":"#REF!"}},{"$f":"IF(#REF!=\"\", \"\",#REF!)","v":{"$error":"#REF!"}},{"$f":"IF(#REF!=\"\", \"\",#REF!)","v":{"$error":"#REF!"}},{"$f":"IF(#REF!=\"\", \"\",#REF!)","v":{"$error":"#REF!"}},{"$f":"IF(#REF!=\"\", \"\",#REF!)","v":{"$error":"#REF!"}},{"$f":"IF(#REF!=\"\", \"\",#REF!)","v":{"$error":"#REF!"}},{"$f":"IF(#REF!=\"\", \"\",#REF!)","v":{"$error":"#REF!"}},{"$f":"IF(#REF!=\"\", \"\",#REF!)","v":{"$error":"#REF!"}},{"$f":"IF(#REF!=\"\", \"\",#REF!)","v":{"$error":"#REF!"}},{"$f":"IF(#REF!=\"\", \"\",#REF!)","v":{"$error":"#REF!"}},{"$f":"IF(#REF!=\"\", \"\",#REF!)","v":{"$error":"#REF!"}},{"$f":"IF(#REF!=\"\", \"\",#REF!)","v":{"$error":"#REF!"}},{"$f":"IF(#REF!=\"\", \"\",#REF!)","v":{"$error":"#REF!"}},{"$f":"IF(#REF!=\"\", \"\",#REF!)","v":{"$error":"#REF!"}},{"$f":"IF(#REF!=\"\", \"\",#REF!)","v":{"$error":"#REF!"}},{"$f":"IF(#REF!=\"\", \"\",#REF!)","v":{"$error":"#REF!"}},{"$f":"IF(#REF!=\"\", \"\",#REF!)","v":{"$error":"#REF!"}},{"$f":"IF(#REF!=\"\", \"\",#REF!)","v":{"$error":"#REF!"}},{"$f":"IF(#REF!=\"\", \"\",#REF!)","v":{"$error":"#REF!"}},{"$f":"IF(#REF!=\"\", \"\",#REF!)","v":{"$error":"#REF!"}},{"$f":"IF(#REF!=\"\", \"\",#REF!)","v":{"$error":"#REF!"}},{"$f":"IF(#REF!=\"\", \"\",#REF!)","v":{"$error":"#REF!"}}]
["Item 32",{"$f":"IF(#REF!=\"\", \"\",#REF!)","v":{"$error":"#REF!"}},{"$f":"IF(#REF!=\"\", \"\",#REF!)","v":{"$error":"#REF!"}},{"$f":"IF(#REF!=\"\", \"\",#REF!)","v":{"$error":"#REF!"}},{"$f":"IF(#REF!=\"\", \"\",#REF!)","v":{"$error":"#REF!"}},{"$f":"IF(#REF!=\"\", \"\",#REF!)","v":{"$error":"#REF!"}},{"$f":"IF(#REF!=\"\", \"\",#REF!)","v":{"$error":"#REF!"}},{"$f":"IF(#REF!=\"\", \"\",#REF!)","v":{"$error":"#REF!"}},{"$f":"IF(#REF!=\"\", \"\",#REF!)","v":{"$error":"#REF!"}},{"$f":"IF(#REF!=\"\", \"\",#REF!)","v":{"$error":"#REF!"}},{"$f":"IF(#REF!=\"\", \"\",#REF!)","v":{"$error":"#REF!"}},{"$f":"IF(#REF!=\"\", \"\",#REF!)","v":{"$error":"#REF!"}},{"$f":"IF(#REF!=\"\", \"\",#REF!)","v":{"$error":"#REF!"}},{"$f":"IF(#REF!=\"\", \"\",#REF!)","v":{"$error":"#REF!"}},{"$f":"IF(#REF!=\"\", \"\",#REF!)","v":{"$error":"#REF!"}},{"$f":"IF(#REF!=\"\", \"\",#REF!)","v":{"$error":"#REF!"}},{"$f":"IF(#REF!=\"\", \"\",#REF!)","v":{"$error":"#REF!"}},{"$f":"IF(#REF!=\"\", \"\",#REF!)","v":{"$error":"#REF!"}},{"$f":"IF(#REF!=\"\", \"\",#REF!)","v":{"$error":"#REF!"}},{"$f":"IF(#REF!=\"\", \"\",#REF!)","v":{"$error":"#REF!"}},{"$f":"IF(#REF!=\"\", \"\",#REF!)","v":{"$error":"#REF!"}},{"$f":"IF(#REF!=\"\", \"\",#REF!)","v":{"$error":"#REF!"}},{"$f":"IF(#REF!=\"\", \"\",#REF!)","v":{"$error":"#REF!"}},{"$f":"IF(#REF!=\"\", \"\",#REF!)","v":{"$error":"#REF!"}},{"$f":"IF(#REF!=\"\", \"\",#REF!)","v":{"$error":"#REF!"}},{"$f":"IF(#REF!=\"\", \"\",#REF!)","v":{"$error":"#REF!"}},{"$f":"IF(#REF!=\"\", \"\",#REF!)","v":{"$error":"#REF!"}},{"$f":"IF(#REF!=\"\", \"\",#REF!)","v":{"$error":"#REF!"}},{"$f":"IF(#REF!=\"\", \"\",#REF!)","v":{"$error":"#REF!"}},{"$f":"IF(#REF!=\"\", \"\",#REF!)","v":{"$error":"#REF!"}},{"$f":"IF(#REF!=\"\", \"\",#REF!)","v":{"$error":"#REF!"}},{"$f":"IF(#REF!=\"\", \"\",#REF!)","v":{"$error":"#REF!"}},{"$f":"IF(#REF!=\"\", \"\",#REF!)","v":{"$error":"#REF!"}},{"$f":"IF(#REF!=\"\", \"\",#REF!)","v":{"$error":"#REF!"}},{"$f":"IF(#REF!=\"\", \"\",#REF!)","v":{"$error":"#REF!"}},{"$f":"IF(#REF!=\"\", \"\",#REF!)","v":{"$error":"#REF!"}},{"$f":"IF(#REF!=\"\", \"\",#REF!)","v":{"$error":"#REF!"}},{"$f":"IF(#REF!=\"\", \"\",#REF!)","v":{"$error":"#REF!"}},{"$f":"IF(#REF!=\"\", \"\",#REF!)","v":{"$error":"#REF!"}},{"$f":"IF(#REF!=\"\", \"\",#REF!)","v":{"$error":"#REF!"}},{"$f":"IF(#REF!=\"\", \"\",#REF!)","v":{"$error":"#REF!"}},{"$f":"IF(#REF!=\"\", \"\",#REF!)","v":{"$error":"#REF!"}},{"$f":"IF(#REF!=\"\", \"\",#REF!)","v":{"$error":"#REF!"}},{"$f":"IF(#REF!=\"\", \"\",#REF!)","v":{"$error":"#REF!"}},{"$f":"IF(#REF!=\"\", \"\",#REF!)","v":{"$error":"#REF!"}},{"$f":"IF(#REF!=\"\", \"\",#REF!)","v":{"$error":"#REF!"}},{"$f":"IF(#REF!=\"\", \"\",#REF!)","v":{"$error":"#REF!"}},{"$f":"IF(#REF!=\"\", \"\",#REF!)","v":{"$error":"#REF!"}},{"$f":"IF(#REF!=\"\", \"\",#REF!)","v":{"$error":"#REF!"}},{"$f":"IF(#REF!=\"\", \"\",#REF!)","v":{"$error":"#REF!"}},{"$f":"IF(#REF!=\"\", \"\",#REF!)","v":{"$error":"#REF!"}},{"$f":"IF(#REF!=\"\", \"\",#REF!)","v":{"$error":"#REF!"}},{"$f":"IF(#REF!=\"\", \"\",#REF!)","v":{"$error":"#REF!"}},{"$f":"IF(#REF!=\"\", \"\",#REF!)","v":{"$error":"#REF!"}},{"$f":"IF(#REF!=\"\", \"\",#REF!)","v":{"$error":"#REF!"}},{"$f":"IF(#REF!=\"\", \"\",#REF!)","v":{"$error":"#REF!"}},{"$f":"IF(#REF!=\"\", \"\",#REF!)","v":{"$error":"#REF!"}},{"$f":"IF(#REF!=\"\", \"\",#REF!)","v":{"$error":"#REF!"}},{"$f":"IF(#REF!=\"\", \"\",#REF!)","v":{"$error":"#REF!"}},{"$f":"IF(#REF!=\"\", \"\",#REF!)","v":{"$error":"#REF!"}},{"$f":"IF(#REF!=\"\", \"\",#REF!)","v":{"$error":"#REF!"}},{"$f":"IF(#REF!=\"\", \"\",#REF!)","v":{"$error":"#REF!"}}]
["Item 33",{"$f":"IF(#REF!=\"\", \"\",#REF!)","v":{"$error":"#REF!"}},{"$f":"IF(#REF!=\"\", \"\",#REF!)","v":{"$error":"#REF!"}},{"$f":"IF(#REF!=\"\", \"\",#REF!)","v":{"$error":"#REF!"}},{"$f":"IF(#REF!=\"\", \"\",#REF!)","v":{"$error":"#REF!"}},{"$f":"IF(#REF!=\"\", \"\",#REF!)","v":{"$error":"#REF!"}},{"$f":"IF(#REF!=\"\", \"\",#REF!)","v":{"$error":"#REF!"}},{"$f":"IF(#REF!=\"\", \"\",#REF!)","v":{"$error":"#REF!"}},{"$f":"IF(#REF!=\"\", \"\",#REF!)","v":{"$error":"#REF!"}},{"$f":"IF(#REF!=\"\", \"\",#REF!)","v":{"$error":"#REF!"}},{"$f":"IF(#REF!=\"\", \"\",#REF!)","v":{"$error":"#REF!"}},{"$f":"IF(#REF!=\"\", \"\",#REF!)","v":{"$error":"#REF!"}},{"$f":"IF(#REF!=\"\", \"\",#REF!)","v":{"$error":"#REF!"}},{"$f":"IF(#REF!=\"\", \"\",#REF!)","v":{"$error":"#REF!"}},{"$f":"IF(#REF!=\"\", \"\",#REF!)","v":{"$error":"#REF!"}},{"$f":"IF(#REF!=\"\", \"\",#REF!)","v":{"$error":"#REF!"}},{"$f":"IF(#REF!=\"\", \"\",#REF!)","v":{"$error":"#REF!"}},{"$f":"IF(#REF!=\"\", \"\",#REF!)","v":{"$error":"#REF!"}},{"$f":"IF(#REF!=\"\", \"\",#REF!)","v":{"$error":"#REF!"}},{"$f":"IF(#REF!=\"\", \"\",#REF!)","v":{"$error":"#REF!"}},{"$f":"IF(#REF!=\"\", \"\",#REF!)","v":{"$error":"#REF!"}},{"$f":"IF(#REF!=\"\", \"\",#REF!)","v":{"$error":"#REF!"}},{"$f":"IF(#REF!=\"\", \"\",#REF!)","v":{"$error":"#REF!"}},{"$f":"IF(#REF!=\"\", \"\",#REF!)","v":{"$error":"#REF!"}},{"$f":"IF(#REF!=\"\", \"\",#REF!)","v":{"$error":"#REF!"}},{"$f":"IF(#REF!=\"\", \"\",#REF!)","v":{"$error":"#REF!"}},{"$f":"IF(#REF!=\"\", \"\",#REF!)","v":{"$error":"#REF!"}},{"$f":"IF(#REF!=\"\", \"\",#REF!)","v":{"$error":"#REF!"}},{"$f":"IF(#REF!=\"\", \"\",#REF!)","v":{"$error":"#REF!"}},{"$f":"IF(#REF!=\"\", \"\",#REF!)","v":{"$error":"#REF!"}},{"$f":"IF(#REF!=\"\", \"\",#REF!)","v":{"$error":"#REF!"}},{"$f":"IF(#REF!=\"\", \"\",#REF!)","v":{"$error":"#REF!"}},{"$f":"IF(#REF!=\"\", \"\",#REF!)","v":{"$error":"#REF!"}},{"$f":"IF(#REF!=\"\", \"\",#REF!)","v":{"$error":"#REF!"}},{"$f":"IF(#REF!=\"\", \"\",#REF!)","v":{"$error":"#REF!"}},{"$f":"IF(#REF!=\"\", \"\",#REF!)","v":{"$error":"#REF!"}},{"$f":"IF(#REF!=\"\", \"\",#REF!)","v":{"$error":"#REF!"}},{"$f":"IF(#REF!=\"\", \"\",#REF!)","v":{"$error":"#REF!"}},{"$f":"IF(#REF!=\"\", \"\",#REF!)","v":{"$error":"#REF!"}},{"$f":"IF(#REF!=\"\", \"\",#REF!)","v":{"$error":"#REF!"}},{"$f":"IF(#REF!=\"\", \"\",#REF!)","v":{"$error":"#REF!"}},{"$f":"IF(#REF!=\"\", \"\",#REF!)","v":{"$error":"#REF!"}},{"$f":"IF(#REF!=\"\", \"\",#REF!)","v":{"$error":"#REF!"}},{"$f":"IF(#REF!=\"\", \"\",#REF!)","v":{"$error":"#REF!"}},{"$f":"IF(#REF!=\"\", \"\",#REF!)","v":{"$error":"#REF!"}},{"$f":"IF(#REF!=\"\", \"\",#REF!)","v":{"$error":"#REF!"}},{"$f":"IF(#REF!=\"\", \"\",#REF!)","v":{"$error":"#REF!"}},{"$f":"IF(#REF!=\"\", \"\",#REF!)","v":{"$error":"#REF!"}},{"$f":"IF(#REF!=\"\", \"\",#REF!)","v":{"$error":"#REF!"}},{"$f":"IF(#REF!=\"\", \"\",#REF!)","v":{"$error":"#REF!"}},{"$f":"IF(#REF!=\"\", \"\",#REF!)","v":{"$error":"#REF!"}},{"$f":"IF(#REF!=\"\", \"\",#REF!)","v":{"$error":"#REF!"}},{"$f":"IF(#REF!=\"\", \"\",#REF!)","v":{"$error":"#REF!"}},{"$f":"IF(#REF!=\"\", \"\",#REF!)","v":{"$error":"#REF!"}},{"$f":"IF(#REF!=\"\", \"\",#REF!)","v":{"$error":"#REF!"}},{"$f":"IF(#REF!=\"\", \"\",#REF!)","v":{"$error":"#REF!"}},{"$f":"IF(#REF!=\"\", \"\",#REF!)","v":{"$error":"#REF!"}},{"$f":"IF(#REF!=\"\", \"\",#REF!)","v":{"$error":"#REF!"}},{"$f":"IF(#REF!=\"\", \"\",#REF!)","v":{"$error":"#REF!"}},{"$f":"IF(#REF!=\"\", \"\",#REF!)","v":{"$error":"#REF!"}},{"$f":"IF(#REF!=\"\", \"\",#REF!)","v":{"$error":"#REF!"}},{"$f":"IF(#REF!=\"\", \"\",#REF!)","v":{"$error":"#REF!"}}]
["Item 34",{"$f":"IF(#REF!=\"\", \"\",#REF!)","v":{"$error":"#REF!"}},{"$f":"IF(#REF!=\"\", \"\",#REF!)","v":{"$error":"#REF!"}},{"$f":"IF(#REF!=\"\", \"\",#REF!)","v":{"$error":"#REF!"}},{"$f":"IF(#REF!=\"\", \"\",#REF!)","v":{"$error":"#REF!"}},{"$f":"IF(#REF!=\"\", \"\",#REF!)","v":{"$error":"#REF!"}},{"$f":"IF(#REF!=\"\", \"\",#REF!)","v":{"$error":"#REF!"}},{"$f":"IF(#REF!=\"\", \"\",#REF!)","v":{"$error":"#REF!"}},{"$f":"IF(#REF!=\"\", \"\",#REF!)","v":{"$error":"#REF!"}},{"$f":"IF(#REF!=\"\", \"\",#REF!)","v":{"$error":"#REF!"}},{"$f":"IF(#REF!=\"\", \"\",#REF!)","v":{"$error":"#REF!"}},{"$f":"IF(#REF!=\"\", \"\",#REF!)","v":{"$error":"#REF!"}},{"$f":"IF(#REF!=\"\", \"\",#REF!)","v":{"$error":"#REF!"}},{"$f":"IF(#REF!=\"\", \"\",#REF!)","v":{"$error":"#REF!"}},{"$f":"IF(#REF!=\"\", \"\",#REF!)","v":{"$error":"#REF!"}},{"$f":"IF(#REF!=\"\", \"\",#REF!)","v":{"$error":"#REF!"}},{"$f":"IF(#REF!=\"\", \"\",#REF!)","v":{"$error":"#REF!"}},{"$f":"IF(#REF!=\"\", \"\",#REF!)","v":{"$error":"#REF!"}},{"$f":"IF(#REF!=\"\", \"\",#REF!)","v":{"$error":"#REF!"}},{"$f":"IF(#REF!=\"\", \"\",#REF!)","v":{"$error":"#REF!"}},{"$f":"IF(#REF!=\"\", \"\",#REF!)","v":{"$error":"#REF!"}},{"$f":"IF(#REF!=\"\", \"\",#REF!)","v":{"$error":"#REF!"}},{"$f":"IF(#REF!=\"\", \"\",#REF!)","v":{"$error":"#REF!"}},{"$f":"IF(#REF!=\"\", \"\",#REF!)","v":{"$error":"#REF!"}},{"$f":"IF(#REF!=\"\", \"\",#REF!)","v":{"$error":"#REF!"}},{"$f":"IF(#REF!=\"\", \"\",#REF!)","v":{"$error":"#REF!"}},{"$f":"IF(#REF!=\"\", \"\",#REF!)","v":{"$error":"#REF!"}},{"$f":"IF(#REF!=\"\", \"\",#REF!)","v":{"$error":"#REF!"}},{"$f":"IF(#REF!=\"\", \"\",#REF!)","v":{"$error":"#REF!"}},{"$f":"IF(#REF!=\"\", \"\",#REF!)","v":{"$error":"#REF!"}},{"$f":"IF(#REF!=\"\", \"\",#REF!)","v":{"$error":"#REF!"}},{"$f":"IF(#REF!=\"\", \"\",#REF!)","v":{"$error":"#REF!"}},{"$f":"IF(#REF!=\"\", \"\",#REF!)","v":{"$error":"#REF!"}},{"$f":"IF(#REF!=\"\", \"\",#REF!)","v":{"$error":"#REF!"}},{"$f":"IF(#REF!=\"\", \"\",#REF!)","v":{"$error":"#REF!"}},{"$f":"IF(#REF!=\"\", \"\",#REF!)","v":{"$error":"#REF!"}},{"$f":"IF(#REF!=\"\", \"\",#REF!)","v":{"$error":"#REF!"}},{"$f":"IF(#REF!=\"\", \"\",#REF!)","v":{"$error":"#REF!"}},{"$f":"IF(#REF!=\"\", \"\",#REF!)","v":{"$error":"#REF!"}},{"$f":"IF(#REF!=\"\", \"\",#REF!)","v":{"$error":"#REF!"}},{"$f":"IF(#REF!=\"\", \"\",#REF!)","v":{"$error":"#REF!"}},{"$f":"IF(#REF!=\"\", \"\",#REF!)","v":{"$error":"#REF!"}},{"$f":"IF(#REF!=\"\", \"\",#REF!)","v":{"$error":"#REF!"}},{"$f":"IF(#REF!=\"\", \"\",#REF!)","v":{"$error":"#REF!"}},{"$f":"IF(#REF!=\"\", \"\",#REF!)","v":{"$error":"#REF!"}},{"$f":"IF(#REF!=\"\", \"\",#REF!)","v":{"$error":"#REF!"}},{"$f":"IF(#REF!=\"\", \"\",#REF!)","v":{"$error":"#REF!"}},{"$f":"IF(#REF!=\"\", \"\",#REF!)","v":{"$error":"#REF!"}},{"$f":"IF(#REF!=\"\", \"\",#REF!)","v":{"$error":"#REF!"}},{"$f":"IF(#REF!=\"\", \"\",#REF!)","v":{"$error":"#REF!"}},{"$f":"IF(#REF!=\"\", \"\",#REF!)","v":{"$error":"#REF!"}},{"$f":"IF(#REF!=\"\", \"\",#REF!)","v":{"$error":"#REF!"}},{"$f":"IF(#REF!=\"\", \"\",#REF!)","v":{"$error":"#REF!"}},{"$f":"IF(#REF!=\"\", \"\",#REF!)","v":{"$error":"#REF!"}},{"$f":"IF(#REF!=\"\", \"\",#REF!)","v":{"$error":"#REF!"}},{"$f":"IF(#REF!=\"\", \"\",#REF!)","v":{"$error":"#REF!"}},{"$f":"IF(#REF!=\"\", \"\",#REF!)","v":{"$error":"#REF!"}},{"$f":"IF(#REF!=\"\", \"\",#REF!)","v":{"$error":"#REF!"}},{"$f":"IF(#REF!=\"\", \"\",#REF!)","v":{"$error":"#REF!"}},{"$f":"IF(#REF!=\"\", \"\",#REF!)","v":{"$error":"#REF!"}},{"$f":"IF(#REF!=\"\", \"\",#REF!)","v":{"$error":"#REF!"}},{"$f":"IF(#REF!=\"\", \"\",#REF!)","v":{"$error":"#REF!"}}]
["Item 35",{"$f":"IF(#REF!=\"\", \"\",#REF!)","v":{"$error":"#REF!"}},{"$f":"IF(#REF!=\"\", \"\",#REF!)","v":{"$error":"#REF!"}},{"$f":"IF(#REF!=\"\", \"\",#REF!)","v":{"$error":"#REF!"}},{"$f":"IF(#REF!=\"\", \"\",#REF!)","v":{"$error":"#REF!"}},{"$f":"IF(#REF!=\"\", \"\",#REF!)","v":{"$error":"#REF!"}},{"$f":"IF(#REF!=\"\", \"\",#REF!)","v":{"$error":"#REF!"}},{"$f":"IF(#REF!=\"\", \"\",#REF!)","v":{"$error":"#REF!"}},{"$f":"IF(#REF!=\"\", \"\",#REF!)","v":{"$error":"#REF!"}},{"$f":"IF(#REF!=\"\", \"\",#REF!)","v":{"$error":"#REF!"}},{"$f":"IF(#REF!=\"\", \"\",#REF!)","v":{"$error":"#REF!"}},{"$f":"IF(#REF!=\"\", \"\",#REF!)","v":{"$error":"#REF!"}},{"$f":"IF(#REF!=\"\", \"\",#REF!)","v":{"$error":"#REF!"}},{"$f":"IF(#REF!=\"\", \"\",#REF!)","v":{"$error":"#REF!"}},{"$f":"IF(#REF!=\"\", \"\",#REF!)","v":{"$error":"#REF!"}},{"$f":"IF(#REF!=\"\", \"\",#REF!)","v":{"$error":"#REF!"}},{"$f":"IF(#REF!=\"\", \"\",#REF!)","v":{"$error":"#REF!"}},{"$f":"IF(#REF!=\"\", \"\",#REF!)","v":{"$error":"#REF!"}},{"$f":"IF(#REF!=\"\", \"\",#REF!)","v":{"$error":"#REF!"}},{"$f":"IF(#REF!=\"\", \"\",#REF!)","v":{"$error":"#REF!"}},{"$f":"IF(#REF!=\"\", \"\",#REF!)","v":{"$error":"#REF!"}},{"$f":"IF(#REF!=\"\", \"\",#REF!)","v":{"$error":"#REF!"}},{"$f":"IF(#REF!=\"\", \"\",#REF!)","v":{"$error":"#REF!"}},{"$f":"IF(#REF!=\"\", \"\",#REF!)","v":{"$error":"#REF!"}},{"$f":"IF(#REF!=\"\", \"\",#REF!)","v":{"$error":"#REF!"}},{"$f":"IF(#REF!=\"\", \"\",#REF!)","v":{"$error":"#REF!"}},{"$f":"IF(#REF!=\"\", \"\",#REF!)","v":{"$error":"#REF!"}},{"$f":"IF(#REF!=\"\", \"\",#REF!)","v":{"$error":"#REF!"}},{"$f":"IF(#REF!=\"\", \"\",#REF!)","v":{"$error":"#REF!"}},{"$f":"IF(#REF!=\"\", \"\",#REF!)","v":{"$error":"#REF!"}},{"$f":"IF(#REF!=\"\", \"\",#REF!)","v":{"$error":"#REF!"}},{"$f":"IF(#REF!=\"\", \"\",#REF!)","v":{"$error":"#REF!"}},{"$f":"IF(#REF!=\"\", \"\",#REF!)","v":{"$error":"#REF!"}},{"$f":"IF(#REF!=\"\", \"\",#REF!)","v":{"$error":"#REF!"}},{"$f":"IF(#REF!=\"\", \"\",#REF!)","v":{"$error":"#REF!"}},{"$f":"IF(#REF!=\"\", \"\",#REF!)","v":{"$error":"#REF!"}},{"$f":"IF(#REF!=\"\", \"\",#REF!)","v":{"$error":"#REF!"}},{"$f":"IF(#REF!=\"\", \"\",#REF!)","v":{"$error":"#REF!"}},{"$f":"IF(#REF!=\"\", \"\",#REF!)","v":{"$error":"#REF!"}},{"$f":"IF(#REF!=\"\", \"\",#REF!)","v":{"$error":"#REF!"}},{"$f":"IF(#REF!=\"\", \"\",#REF!)","v":{"$error":"#REF!"}},{"$f":"IF(#REF!=\"\", \"\",#REF!)","v":{"$error":"#REF!"}},{"$f":"IF(#REF!=\"\", \"\",#REF!)","v":{"$error":"#REF!"}},{"$f":"IF(#REF!=\"\", \"\",#REF!)","v":{"$error":"#REF!"}},{"$f":"IF(#REF!=\"\", \"\",#REF!)","v":{"$error":"#REF!"}},{"$f":"IF(#REF!=\"\", \"\",#REF!)","v":{"$error":"#REF!"}},{"$f":"IF(#REF!=\"\", \"\",#REF!)","v":{"$error":"#REF!"}},{"$f":"IF(#REF!=\"\", \"\",#REF!)","v":{"$error":"#REF!"}},{"$f":"IF(#REF!=\"\", \"\",#REF!)","v":{"$error":"#REF!"}},{"$f":"IF(#REF!=\"\", \"\",#REF!)","v":{"$error":"#REF!"}},{"$f":"IF(#REF!=\"\", \"\",#REF!)","v":{"$error":"#REF!"}},{"$f":"IF(#REF!=\"\", \"\",#REF!)","v":{"$error":"#REF!"}},{"$f":"IF(#REF!=\"\", \"\",#REF!)","v":{"$error":"#REF!"}},{"$f":"IF(#REF!=\"\", \"\",#REF!)","v":{"$error":"#REF!"}},{"$f":"IF(#REF!=\"\", \"\",#REF!)","v":{"$error":"#REF!"}},{"$f":"IF(#REF!=\"\", \"\",#REF!)","v":{"$error":"#REF!"}},{"$f":"IF(#REF!=\"\", \"\",#REF!)","v":{"$error":"#REF!"}},{"$f":"IF(#REF!=\"\", \"\",#REF!)","v":{"$error":"#REF!"}},{"$f":"IF(#REF!=\"\", \"\",#REF!)","v":{"$error":"#REF!"}},{"$f":"IF(#REF!=\"\", \"\",#REF!)","v":{"$error":"#REF!"}},{"$f":"IF(#REF!=\"\", \"\",#REF!)","v":{"$error":"#REF!"}},{"$f":"IF(#REF!=\"\", \"\",#REF!)","v":{"$error":"#REF!"}}]
["Item 36",{"$f":"IF(#REF!=\"\", \"\",#REF!)","v":{"$error":"#REF!"}},{"$f":"IF(#REF!=\"\", \"\",#REF!)","v":{"$error":"#REF!"}},{"$f":"IF(#REF!=\"\", \"\",#REF!)","v":{"$error":"#REF!"}},{"$f":"IF(#REF!=\"\", \"\",#REF!)","v":{"$error":"#REF!"}},{"$f":"IF(#REF!=\"\", \"\",#REF!)","v":{"$error":"#REF!"}},{"$f":"IF(#REF!=\"\", \"\",#REF!)","v":{"$error":"#REF!"}},{"$f":"IF(#REF!=\"\", \"\",#REF!)","v":{"$error":"#REF!"}},{"$f":"IF(#REF!=\"\", \"\",#REF!)","v":{"$error":"#REF!"}},{"$f":"IF(#REF!=\"\", \"\",#REF!)","v":{"$error":"#REF!"}},{"$f":"IF(#REF!=\"\", \"\",#REF!)","v":{"$error":"#REF!"}},{"$f":"IF(#REF!=\"\", \"\",#REF!)","v":{"$error":"#REF!"}},{"$f":"IF(#REF!=\"\", \"\",#REF!)","v":{"$error":"#REF!"}},{"$f":"IF(#REF!=\"\", \"\",#REF!)","v":{"$error":"#REF!"}},{"$f":"IF(#REF!=\"\", \"\",#REF!)","v":{"$error":"#REF!"}},{"$f":"IF(#REF!=\"\", \"\",#REF!)","v":{"$error":"#REF!"}},{"$f":"IF(#REF!=\"\", \"\",#REF!)","v":{"$error":"#REF!"}},{"$f":"IF(#REF!=\"\", \"\",#REF!)","v":{"$error":"#REF!"}},{"$f":"IF(#REF!=\"\", \"\",#REF!)","v":{"$error":"#REF!"}},{"$f":"IF(#REF!=\"\", \"\",#REF!)","v":{"$error":"#REF!"}},{"$f":"IF(#REF!=\"\", \"\",#REF!)","v":{"$error":"#REF!"}},{"$f":"IF(#REF!=\"\", \"\",#REF!)","v":{"$error":"#REF!"}},{"$f":"IF(#REF!=\"\", \"\",#REF!)","v":{"$error":"#REF!"}},{"$f":"IF(#REF!=\"\", \"\",#REF!)","v":{"$error":"#REF!"}},{"$f":"IF(#REF!=\"\", \"\",#REF!)","v":{"$error":"#REF!"}},{"$f":"IF(#REF!=\"\", \"\",#REF!)","v":{"$error":"#REF!"}},{"$f":"IF(#REF!=\"\", \"\",#REF!)","v":{"$error":"#REF!"}},{"$f":"IF(#REF!=\"\", \"\",#REF!)","v":{"$error":"#REF!"}},{"$f":"IF(#REF!=\"\", \"\",#REF!)","v":{"$error":"#REF!"}},{"$f":"IF(#REF!=\"\", \"\",#REF!)","v":{"$error":"#REF!"}},{"$f":"IF(#REF!=\"\", \"\",#REF!)","v":{"$error":"#REF!"}},{"$f":"IF(#REF!=\"\", \"\",#REF!)","v":{"$error":"#REF!"}},{"$f":"IF(#REF!=\"\", \"\",#REF!)","v":{"$error":"#REF!"}},{"$f":"IF(#REF!=\"\", \"\",#REF!)","v":{"$error":"#REF!"}},{"$f":"IF(#REF!=\"\", \"\",#REF!)","v":{"$error":"#REF!"}},{"$f":"IF(#REF!=\"\", \"\",#REF!)","v":{"$error":"#REF!"}},{"$f":"IF(#REF!=\"\", \"\",#REF!)","v":{"$error":"#REF!"}},{"$f":"IF(#REF!=\"\", \"\",#REF!)","v":{"$error":"#REF!"}},{"$f":"IF(#REF!=\"\", \"\",#REF!)","v":{"$error":"#REF!"}},{"$f":"IF(#REF!=\"\", \"\",#REF!)","v":{"$error":"#REF!"}},{"$f":"IF(#REF!=\"\", \"\",#REF!)","v":{"$error":"#REF!"}},{"$f":"IF(#REF!=\"\", \"\",#REF!)","v":{"$error":"#REF!"}},{"$f":"IF(#REF!=\"\", \"\",#REF!)","v":{"$error":"#REF!"}},{"$f":"IF(#REF!=\"\", \"\",#REF!)","v":{"$error":"#REF!"}},{"$f":"IF(#REF!=\"\", \"\",#REF!)","v":{"$error":"#REF!"}},{"$f":"IF(#REF!=\"\", \"\",#REF!)","v":{"$error":"#REF!"}},{"$f":"IF(#REF!=\"\", \"\",#REF!)","v":{"$error":"#REF!"}},{"$f":"IF(#REF!=\"\", \"\",#REF!)","v":{"$error":"#REF!"}},{"$f":"IF(#REF!=\"\", \"\",#REF!)","v":{"$error":"#REF!"}},{"$f":"IF(#REF!=\"\", \"\",#REF!)","v":{"$error":"#REF!"}},{"$f":"IF(#REF!=\"\", \"\",#REF!)","v":{"$error":"#REF!"}},{"$f":"IF(#REF!=\"\", \"\",#REF!)","v":{"$error":"#REF!"}},{"$f":"IF(#REF!=\"\", \"\",#REF!)","v":{"$error":"#REF!"}},{"$f":"IF(#REF!=\"\", \"\",#REF!)","v":{"$error":"#REF!"}},{"$f":"IF(#REF!=\"\", \"\",#REF!)","v":{"$error":"#REF!"}},{"$f":"IF(#REF!=\"\", \"\",#REF!)","v":{"$error":"#REF!"}},{"$f":"IF(#REF!=\"\", \"\",#REF!)","v":{"$error":"#REF!"}},{"$f":"IF(#REF!=\"\", \"\",#REF!)","v":{"$error":"#REF!"}},{"$f":"IF(#REF!=\"\", \"\",#REF!)","v":{"$error":"#REF!"}},{"$f":"IF(#REF!=\"\", \"\",#REF!)","v":{"$error":"#REF!"}},{"$f":"IF(#REF!=\"\", \"\",#REF!)","v":{"$error":"#REF!"}},{"$f":"IF(#REF!=\"\", \"\",#REF!)","v":{"$error":"#REF!"}}]
["Item 37",{"$f":"IF(#REF!=\"\", \"\",#REF!)","v":{"$error":"#REF!"}},{"$f":"IF(#REF!=\"\", \"\",#REF!)","v":{"$error":"#REF!"}},{"$f":"IF(#REF!=\"\", \"\",#REF!)","v":{"$error":"#REF!"}},{"$f":"IF(#REF!=\"\", \"\",#REF!)","v":{"$error":"#REF!"}},{"$f":"IF(#REF!=\"\", \"\",#REF!)","v":{"$error":"#REF!"}},{"$f":"IF(#REF!=\"\", \"\",#REF!)","v":{"$error":"#REF!"}},{"$f":"IF(#REF!=\"\", \"\",#REF!)","v":{"$error":"#REF!"}},{"$f":"IF(#REF!=\"\", \"\",#REF!)","v":{"$error":"#REF!"}},{"$f":"IF(#REF!=\"\", \"\",#REF!)","v":{"$error":"#REF!"}},{"$f":"IF(#REF!=\"\", \"\",#REF!)","v":{"$error":"#REF!"}},{"$f":"IF(#REF!=\"\", \"\",#REF!)","v":{"$error":"#REF!"}},{"$f":"IF(#REF!=\"\", \"\",#REF!)","v":{"$error":"#REF!"}},{"$f":"IF(#REF!=\"\", \"\",#REF!)","v":{"$error":"#REF!"}},{"$f":"IF(#REF!=\"\", \"\",#REF!)","v":{"$error":"#REF!"}},{"$f":"IF(#REF!=\"\", \"\",#REF!)","v":{"$error":"#REF!"}},{"$f":"IF(#REF!=\"\", \"\",#REF!)","v":{"$error":"#REF!"}},{"$f":"IF(#REF!=\"\", \"\",#REF!)","v":{"$error":"#REF!"}},{"$f":"IF(#REF!=\"\", \"\",#REF!)","v":{"$error":"#REF!"}},{"$f":"IF(#REF!=\"\", \"\",#REF!)","v":{"$error":"#REF!"}},{"$f":"IF(#REF!=\"\", \"\",#REF!)","v":{"$error":"#REF!"}},{"$f":"IF(#REF!=\"\", \"\",#REF!)","v":{"$error":"#REF!"}},{"$f":"IF(#REF!=\"\", \"\",#REF!)","v":{"$error":"#REF!"}},{"$f":"IF(#REF!=\"\", \"\",#REF!)","v":{"$error":"#REF!"}},{"$f":"IF(#REF!=\"\", \"\",#REF!)","v":{"$error":"#REF!"}},{"$f":"IF(#REF!=\"\", \"\",#REF!)","v":{"$error":"#REF!"}},{"$f":"IF(#REF!=\"\", \"\",#REF!)","v":{"$error":"#REF!"}},{"$f":"IF(#REF!=\"\", \"\",#REF!)","v":{"$error":"#REF!"}},{"$f":"IF(#REF!=\"\", \"\",#REF!)","v":{"$error":"#REF!"}},{"$f":"IF(#REF!=\"\", \"\",#REF!)","v":{"$error":"#REF!"}},{"$f":"IF(#REF!=\"\", \"\",#REF!)","v":{"$error":"#REF!"}},{"$f":"IF(#REF!=\"\", \"\",#REF!)","v":{"$error":"#REF!"}},{"$f":"IF(#REF!=\"\", \"\",#REF!)","v":{"$error":"#REF!"}},{"$f":"IF(#REF!=\"\", \"\",#REF!)","v":{"$error":"#REF!"}},{"$f":"IF(#REF!=\"\", \"\",#REF!)","v":{"$error":"#REF!"}},{"$f":"IF(#REF!=\"\", \"\",#REF!)","v":{"$error":"#REF!"}},{"$f":"IF(#REF!=\"\", \"\",#REF!)","v":{"$error":"#REF!"}},{"$f":"IF(#REF!=\"\", \"\",#REF!)","v":{"$error":"#REF!"}},{"$f":"IF(#REF!=\"\", \"\",#REF!)","v":{"$error":"#REF!"}},{"$f":"IF(#REF!=\"\", \"\",#REF!)","v":{"$error":"#REF!"}},{"$f":"IF(#REF!=\"\", \"\",#REF!)","v":{"$error":"#REF!"}},{"$f":"IF(#REF!=\"\", \"\",#REF!)","v":{"$error":"#REF!"}},{"$f":"IF(#REF!=\"\", \"\",#REF!)","v":{"$error":"#REF!"}},{"$f":"IF(#REF!=\"\", \"\",#REF!)","v":{"$error":"#REF!"}},{"$f":"IF(#REF!=\"\", \"\",#REF!)","v":{"$error":"#REF!"}},{"$f":"IF(#REF!=\"\", \"\",#REF!)","v":{"$error":"#REF!"}},{"$f":"IF(#REF!=\"\", \"\",#REF!)","v":{"$error":"#REF!"}},{"$f":"IF(#REF!=\"\", \"\",#REF!)","v":{"$error":"#REF!"}},{"$f":"IF(#REF!=\"\", \"\",#REF!)","v":{"$error":"#REF!"}},{"$f":"IF(#REF!=\"\", \"\",#REF!)","v":{"$error":"#REF!"}},{"$f":"IF(#REF!=\"\", \"\",#REF!)","v":{"$error":"#REF!"}},{"$f":"IF(#REF!=\"\", \"\",#REF!)","v":{"$error":"#REF!"}},{"$f":"IF(#REF!=\"\", \"\",#REF!)","v":{"$error":"#REF!"}},{"$f":"IF(#REF!=\"\", \"\",#REF!)","v":{"$error":"#REF!"}},{"$f":"IF(#REF!=\"\", \"\",#REF!)","v":{"$error":"#REF!"}},{"$f":"IF(#REF!=\"\", \"\",#REF!)","v":{"$error":"#REF!"}},{"$f":"IF(#REF!=\"\", \"\",#REF!)","v":{"$error":"#REF!"}},{"$f":"IF(#REF!=\"\", \"\",#REF!)","v":{"$error":"#REF!"}},{"$f":"IF(#REF!=\"\", \"\",#REF!)","v":{"$error":"#REF!"}},{"$f":"IF(#REF!=\"\", \"\",#REF!)","v":{"$error":"#REF!"}},{"$f":"IF(#REF!=\"\", \"\",#REF!)","v":{"$error":"#REF!"}},{"$f":"IF(#REF!=\"\", \"\",#REF!)","v":{"$error":"#REF!"}}]
["Item 38",{"$f":"IF(#REF!=\"\", \"\",#REF!)","v":{"$error":"#REF!"}},{"$f":"IF(#REF!=\"\", \"\",#REF!)","v":{"$error":"#REF!"}},{"$f":"IF(#REF!=\"\", \"\",#REF!)","v":{"$error":"#REF!"}},{"$f":"IF(#REF!=\"\", \"\",#REF!)","v":{"$error":"#REF!"}},{"$f":"IF(#REF!=\"\", \"\",#REF!)","v":{"$error":"#REF!"}},{"$f":"IF(#REF!=\"\", \"\",#REF!)","v":{"$error":"#REF!"}},{"$f":"IF(#REF!=\"\", \"\",#REF!)","v":{"$error":"#REF!"}},{"$f":"IF(#REF!=\"\", \"\",#REF!)","v":{"$error":"#REF!"}},{"$f":"IF(#REF!=\"\", \"\",#REF!)","v":{"$error":"#REF!"}},{"$f":"IF(#REF!=\"\", \"\",#REF!)","v":{"$error":"#REF!"}},{"$f":"IF(#REF!=\"\", \"\",#REF!)","v":{"$error":"#REF!"}},{"$f":"IF(#REF!=\"\", \"\",#REF!)","v":{"$error":"#REF!"}},{"$f":"IF(#REF!=\"\", \"\",#REF!)","v":{"$error":"#REF!"}},{"$f":"IF(#REF!=\"\", \"\",#REF!)","v":{"$error":"#REF!"}},{"$f":"IF(#REF!=\"\", \"\",#REF!)","v":{"$error":"#REF!"}},{"$f":"IF(#REF!=\"\", \"\",#REF!)","v":{"$error":"#REF!"}},{"$f":"IF(#REF!=\"\", \"\",#REF!)","v":{"$error":"#REF!"}},{"$f":"IF(#REF!=\"\", \"\",#REF!)","v":{"$error":"#REF!"}},{"$f":"IF(#REF!=\"\", \"\",#REF!)","v":{"$error":"#REF!"}},{"$f":"IF(#REF!=\"\", \"\",#REF!)","v":{"$error":"#REF!"}},{"$f":"IF(#REF!=\"\", \"\",#REF!)","v":{"$error":"#REF!"}},{"$f":"IF(#REF!=\"\", \"\",#REF!)","v":{"$error":"#REF!"}},{"$f":"IF(#REF!=\"\", \"\",#REF!)","v":{"$error":"#REF!"}},{"$f":"IF(#REF!=\"\", \"\",#REF!)","v":{"$error":"#REF!"}},{"$f":"IF(#REF!=\"\", \"\",#REF!)","v":{"$error":"#REF!"}},{"$f":"IF(#REF!=\"\", \"\",#REF!)","v":{"$error":"#REF!"}},{"$f":"IF(#REF!=\"\", \"\",#REF!)","v":{"$error":"#REF!"}},{"$f":"IF(#REF!=\"\", \"\",#REF!)","v":{"$error":"#REF!"}},{"$f":"IF(#REF!=\"\", \"\",#REF!)","v":{"$error":"#REF!"}},{"$f":"IF(#REF!=\"\", \"\",#REF!)","v":{"$error":"#REF!"}},{"$f":"IF(#REF!=\"\", \"\",#REF!)","v":{"$error":"#REF!"}},{"$f":"IF(#REF!=\"\", \"\",#REF!)","v":{"$error":"#REF!"}},{"$f":"IF(#REF!=\"\", \"\",#REF!)","v":{"$error":"#REF!"}},{"$f":"IF(#REF!=\"\", \"\",#REF!)","v":{"$error":"#REF!"}},{"$f":"IF(#REF!=\"\", \"\",#REF!)","v":{"$error":"#REF!"}},{"$f":"IF(#REF!=\"\", \"\",#REF!)","v":{"$error":"#REF!"}},{"$f":"IF(#REF!=\"\", \"\",#REF!)","v":{"$error":"#REF!"}},{"$f":"IF(#REF!=\"\", \"\",#REF!)","v":{"$error":"#REF!"}},{"$f":"IF(#REF!=\"\", \"\",#REF!)","v":{"$error":"#REF!"}},{"$f":"IF(#REF!=\"\", \"\",#REF!)","v":{"$error":"#REF!"}},{"$f":"IF(#REF!=\"\", \"\",#REF!)","v":{"$error":"#REF!"}},{"$f":"IF(#REF!=\"\", \"\",#REF!)","v":{"$error":"#REF!"}},{"$f":"IF(#REF!=\"\", \"\",#REF!)","v":{"$error":"#REF!"}},{"$f":"IF(#REF!=\"\", \"\",#REF!)","v":{"$error":"#REF!"}},{"$f":"IF(#REF!=\"\", \"\",#REF!)","v":{"$error":"#REF!"}},{"$f":"IF(#REF!=\"\", \"\",#REF!)","v":{"$error":"#REF!"}},{"$f":"IF(#REF!=\"\", \"\",#REF!)","v":{"$error":"#REF!"}},{"$f":"IF(#REF!=\"\", \"\",#REF!)","v":{"$error":"#REF!"}},{"$f":"IF(#REF!=\"\", \"\",#REF!)","v":{"$error":"#REF!"}},{"$f":"IF(#REF!=\"\", \"\",#REF!)","v":{"$error":"#REF!"}},{"$f":"IF(#REF!=\"\", \"\",#REF!)","v":{"$error":"#REF!"}},{"$f":"IF(#REF!=\"\", \"\",#REF!)","v":{"$error":"#REF!"}},{"$f":"IF(#REF!=\"\", \"\",#REF!)","v":{"$error":"#REF!"}},{"$f":"IF(#REF!=\"\", \"\",#REF!)","v":{"$error":"#REF!"}},{"$f":"IF(#REF!=\"\", \"\",#REF!)","v":{"$error":"#REF!"}},{"$f":"IF(#REF!=\"\", \"\",#REF!)","v":{"$error":"#REF!"}},{"$f":"IF(#REF!=\"\", \"\",#REF!)","v":{"$error":"#REF!"}},{"$f":"IF(#REF!=\"\", \"\",#REF!)","v":{"$error":"#REF!"}},{"$f":"IF(#REF!=\"\", \"\",#REF!)","v":{"$error":"#REF!"}},{"$f":"IF(#REF!=\"\", \"\",#REF!)","v":{"$error":"#REF!"}},{"$f":"IF(#REF!=\"\", \"\",#REF!)","v":{"$error":"#REF!"}}]
["Item 39",{"$f":"IF(#REF!=\"\", \"\",#REF!)","v":{"$error":"#REF!"}},{"$f":"IF(#REF!=\"\", \"\",#REF!)","v":{"$error":"#REF!"}},{"$f":"IF(#REF!=\"\", \"\",#REF!)","v":{"$error":"#REF!"}},{"$f":"IF(#REF!=\"\", \"\",#REF!)","v":{"$error":"#REF!"}},{"$f":"IF(#REF!=\"\", \"\",#REF!)","v":{"$error":"#REF!"}},{"$f":"IF(#REF!=\"\", \"\",#REF!)","v":{"$error":"#REF!"}},{"$f":"IF(#REF!=\"\", \"\",#REF!)","v":{"$error":"#REF!"}},{"$f":"IF(#REF!=\"\", \"\",#REF!)","v":{"$error":"#REF!"}},{"$f":"IF(#REF!=\"\", \"\",#REF!)","v":{"$error":"#REF!"}},{"$f":"IF(#REF!=\"\", \"\",#REF!)","v":{"$error":"#REF!"}},{"$f":"IF(#REF!=\"\", \"\",#REF!)","v":{"$error":"#REF!"}},{"$f":"IF(#REF!=\"\", \"\",#REF!)","v":{"$error":"#REF!"}},{"$f":"IF(#REF!=\"\", \"\",#REF!)","v":{"$error":"#REF!"}},{"$f":"IF(#REF!=\"\", \"\",#REF!)","v":{"$error":"#REF!"}},{"$f":"IF(#REF!=\"\", \"\",#REF!)","v":{"$error":"#REF!"}},{"$f":"IF(#REF!=\"\", \"\",#REF!)","v":{"$error":"#REF!"}},{"$f":"IF(#REF!=\"\", \"\",#REF!)","v":{"$error":"#REF!"}},{"$f":"IF(#REF!=\"\", \"\",#REF!)","v":{"$error":"#REF!"}},{"$f":"IF(#REF!=\"\", \"\",#REF!)","v":{"$error":"#REF!"}},{"$f":"IF(#REF!=\"\", \"\",#REF!)","v":{"$error":"#REF!"}},{"$f":"IF(#REF!=\"\", \"\",#REF!)","v":{"$error":"#REF!"}},{"$f":"IF(#REF!=\"\", \"\",#REF!)","v":{"$error":"#REF!"}},{"$f":"IF(#REF!=\"\", \"\",#REF!)","v":{"$error":"#REF!"}},{"$f":"IF(#REF!=\"\", \"\",#REF!)","v":{"$error":"#REF!"}},{"$f":"IF(#REF!=\"\", \"\",#REF!)","v":{"$error":"#REF!"}},{"$f":"IF(#REF!=\"\", \"\",#REF!)","v":{"$error":"#REF!"}},{"$f":"IF(#REF!=\"\", \"\",#REF!)","v":{"$error":"#REF!"}},{"$f":"IF(#REF!=\"\", \"\",#REF!)","v":{"$error":"#REF!"}},{"$f":"IF(#REF!=\"\", \"\",#REF!)","v":{"$error":"#REF!"}},{"$f":"IF(#REF!=\"\", \"\",#REF!)","v":{"$error":"#REF!"}},{"$f":"IF(#REF!=\"\", \"\",#REF!)","v":{"$error":"#REF!"}},{"$f":"IF(#REF!=\"\", \"\",#REF!)","v":{"$error":"#REF!"}},{"$f":"IF(#REF!=\"\", \"\",#REF!)","v":{"$error":"#REF!"}},{"$f":"IF(#REF!=\"\", \"\",#REF!)","v":{"$error":"#REF!"}},{"$f":"IF(#REF!=\"\", \"\",#REF!)","v":{"$error":"#REF!"}},{"$f":"IF(#REF!=\"\", \"\",#REF!)","v":{"$error":"#REF!"}},{"$f":"IF(#REF!=\"\", \"\",#REF!)","v":{"$error":"#REF!"}},{"$f":"IF(#REF!=\"\", \"\",#REF!)","v":{"$error":"#REF!"}},{"$f":"IF(#REF!=\"\", \"\",#REF!)","v":{"$error":"#REF!"}},{"$f":"IF(#REF!=\"\", \"\",#REF!)","v":{"$error":"#REF!"}},{"$f":"IF(#REF!=\"\", \"\",#REF!)","v":{"$error":"#REF!"}},{"$f":"IF(#REF!=\"\", \"\",#REF!)","v":{"$error":"#REF!"}},{"$f":"IF(#REF!=\"\", \"\",#REF!)","v":{"$error":"#REF!"}},{"$f":"IF(#REF!=\"\", \"\",#REF!)","v":{"$error":"#REF!"}},{"$f":"IF(#REF!=\"\", \"\",#REF!)","v":{"$error":"#REF!"}},{"$f":"IF(#REF!=\"\", \"\",#REF!)","v":{"$error":"#REF!"}},{"$f":"IF(#REF!=\"\", \"\",#REF!)","v":{"$error":"#REF!"}},{"$f":"IF(#REF!=\"\", \"\",#REF!)","v":{"$error":"#REF!"}},{"$f":"IF(#REF!=\"\", \"\",#REF!)","v":{"$error":"#REF!"}},{"$f":"IF(#REF!=\"\", \"\",#REF!)","v":{"$error":"#REF!"}},{"$f":"IF(#REF!=\"\", \"\",#REF!)","v":{"$error":"#REF!"}},{"$f":"IF(#REF!=\"\", \"\",#REF!)","v":{"$error":"#REF!"}},{"$f":"IF(#REF!=\"\", \"\",#REF!)","v":{"$error":"#REF!"}},{"$f":"IF(#REF!=\"\", \"\",#REF!)","v":{"$error":"#REF!"}},{"$f":"IF(#REF!=\"\", \"\",#REF!)","v":{"$error":"#REF!"}},{"$f":"IF(#REF!=\"\", \"\",#REF!)","v":{"$error":"#REF!"}},{"$f":"IF(#REF!=\"\", \"\",#REF!)","v":{"$error":"#REF!"}},{"$f":"IF(#REF!=\"\", \"\",#REF!)","v":{"$error":"#REF!"}},{"$f":"IF(#REF!=\"\", \"\",#REF!)","v":{"$error":"#REF!"}},{"$f":"IF(#REF!=\"\", \"\",#REF!)","v":{"$error":"#REF!"}},{"$f":"IF(#REF!=\"\", \"\",#REF!)","v":{"$error":"#REF!"}}]
["Item 40",{"$f":"IF(#REF!=\"\", \"\",#REF!)","v":{"$error":"#REF!"}},{"$f":"IF(#REF!=\"\", \"\",#REF!)","v":{"$error":"#REF!"}},{"$f":"IF(#REF!=\"\", \"\",#REF!)","v":{"$error":"#REF!"}},{"$f":"IF(#REF!=\"\", \"\",#REF!)","v":{"$error":"#REF!"}},{"$f":"IF(#REF!=\"\", \"\",#REF!)","v":{"$error":"#REF!"}},{"$f":"IF(#REF!=\"\", \"\",#REF!)","v":{"$error":"#REF!"}},{"$f":"IF(#REF!=\"\", \"\",#REF!)","v":{"$error":"#REF!"}},{"$f":"IF(#REF!=\"\", \"\",#REF!)","v":{"$error":"#REF!"}},{"$f":"IF(#REF!=\"\", \"\",#REF!)","v":{"$error":"#REF!"}},{"$f":"IF(#REF!=\"\", \"\",#REF!)","v":{"$error":"#REF!"}},{"$f":"IF(#REF!=\"\", \"\",#REF!)","v":{"$error":"#REF!"}},{"$f":"IF(#REF!=\"\", \"\",#REF!)","v":{"$error":"#REF!"}},{"$f":"IF(#REF!=\"\", \"\",#REF!)","v":{"$error":"#REF!"}},{"$f":"IF(#REF!=\"\", \"\",#REF!)","v":{"$error":"#REF!"}},{"$f":"IF(#REF!=\"\", \"\",#REF!)","v":{"$error":"#REF!"}},{"$f":"IF(#REF!=\"\", \"\",#REF!)","v":{"$error":"#REF!"}},{"$f":"IF(#REF!=\"\", \"\",#REF!)","v":{"$error":"#REF!"}},{"$f":"IF(#REF!=\"\", \"\",#REF!)","v":{"$error":"#REF!"}},{"$f":"IF(#REF!=\"\", \"\",#REF!)","v":{"$error":"#REF!"}},{"$f":"IF(#REF!=\"\", \"\",#REF!)","v":{"$error":"#REF!"}},{"$f":"IF(#REF!=\"\", \"\",#REF!)","v":{"$error":"#REF!"}},{"$f":"IF(#REF!=\"\", \"\",#REF!)","v":{"$error":"#REF!"}},{"$f":"IF(#REF!=\"\", \"\",#REF!)","v":{"$error":"#REF!"}},{"$f":"IF(#REF!=\"\", \"\",#REF!)","v":{"$error":"#REF!"}},{"$f":"IF(#REF!=\"\", \"\",#REF!)","v":{"$error":"#REF!"}},{"$f":"IF(#REF!=\"\", \"\",#REF!)","v":{"$error":"#REF!"}},{"$f":"IF(#REF!=\"\", \"\",#REF!)","v":{"$error":"#REF!"}},{"$f":"IF(#REF!=\"\", \"\",#REF!)","v":{"$error":"#REF!"}},{"$f":"IF(#REF!=\"\", \"\",#REF!)","v":{"$error":"#REF!"}},{"$f":"IF(#REF!=\"\", \"\",#REF!)","v":{"$error":"#REF!"}},{"$f":"IF(#REF!=\"\", \"\",#REF!)","v":{"$error":"#REF!"}},{"$f":"IF(#REF!=\"\", \"\",#REF!)","v":{"$error":"#REF!"}},{"$f":"IF(#REF!=\"\", \"\",#REF!)","v":{"$error":"#REF!"}},{"$f":"IF(#REF!=\"\", \"\",#REF!)","v":{"$error":"#REF!"}},{"$f":"IF(#REF!=\"\", \"\",#REF!)","v":{"$error":"#REF!"}},{"$f":"IF(#REF!=\"\", \"\",#REF!)","v":{"$error":"#REF!"}},{"$f":"IF(#REF!=\"\", \"\",#REF!)","v":{"$error":"#REF!"}},{"$f":"IF(#REF!=\"\", \"\",#REF!)","v":{"$error":"#REF!"}},{"$f":"IF(#REF!=\"\", \"\",#REF!)","v":{"$error":"#REF!"}},{"$f":"IF(#REF!=\"\", \"\",#REF!)","v":{"$error":"#REF!"}},{"$f":"IF(#REF!=\"\", \"\",#REF!)","v":{"$error":"#REF!"}},{"$f":"IF(#REF!=\"\", \"\",#REF!)","v":{"$error":"#REF!"}},{"$f":"IF(#REF!=\"\", \"\",#REF!)","v":{"$error":"#REF!"}},{"$f":"IF(#REF!=\"\", \"\",#REF!)","v":{"$error":"#REF!"}},{"$f":"IF(#REF!=\"\", \"\",#REF!)","v":{"$error":"#REF!"}},{"$f":"IF(#REF!=\"\", \"\",#REF!)","v":{"$error":"#REF!"}},{"$f":"IF(#REF!=\"\", \"\",#REF!)","v":{"$error":"#REF!"}},{"$f":"IF(#REF!=\"\", \"\",#REF!)","v":{"$error":"#REF!"}},{"$f":"IF(#REF!=\"\", \"\",#REF!)","v":{"$error":"#REF!"}},{"$f":"IF(#REF!=\"\", \"\",#REF!)","v":{"$error":"#REF!"}},{"$f":"IF(#REF!=\"\", \"\",#REF!)","v":{"$error":"#REF!"}},{"$f":"IF(#REF!=\"\", \"\",#REF!)","v":{"$error":"#REF!"}},{"$f":"IF(#REF!=\"\", \"\",#REF!)","v":{"$error":"#REF!"}},{"$f":"IF(#REF!=\"\", \"\",#REF!)","v":{"$error":"#REF!"}},{"$f":"IF(#REF!=\"\", \"\",#REF!)","v":{"$error":"#REF!"}},{"$f":"IF(#REF!=\"\", \"\",#REF!)","v":{"$error":"#REF!"}},{"$f":"IF(#REF!=\"\", \"\",#REF!)","v":{"$error":"#REF!"}},{"$f":"IF(#REF!=\"\", \"\",#REF!)","v":{"$error":"#REF!"}},{"$f":"IF(#REF!=\"\", \"\",#REF!)","v":{"$error":"#REF!"}},{"$f":"IF(#REF!=\"\", \"\",#REF!)","v":{"$error":"#REF!"}},{"$f":"IF(#REF!=\"\", \"\",#REF!)","v":{"$error":"#REF!"}}]
["Item 41",{"$f":"IF(#REF!=\"\", \"\",#REF!)","v":{"$error":"#REF!"}},{"$f":"IF(#REF!=\"\", \"\",#REF!)","v":{"$error":"#REF!"}},{"$f":"IF(#REF!=\"\", \"\",#REF!)","v":{"$error":"#REF!"}},{"$f":"IF(#REF!=\"\", \"\",#REF!)","v":{"$error":"#REF!"}},{"$f":"IF(#REF!=\"\", \"\",#REF!)","v":{"$error":"#REF!"}},{"$f":"IF(#REF!=\"\", \"\",#REF!)","v":{"$error":"#REF!"}},{"$f":"IF(#REF!=\"\", \"\",#REF!)","v":{"$error":"#REF!"}},{"$f":"IF(#REF!=\"\", \"\",#REF!)","v":{"$error":"#REF!"}},{"$f":"IF(#REF!=\"\", \"\",#REF!)","v":{"$error":"#REF!"}},{"$f":"IF(#REF!=\"\", \"\",#REF!)","v":{"$error":"#REF!"}},{"$f":"IF(#REF!=\"\", \"\",#REF!)","v":{"$error":"#REF!"}},{"$f":"IF(#REF!=\"\", \"\",#REF!)","v":{"$error":"#REF!"}},{"$f":"IF(#REF!=\"\", \"\",#REF!)","v":{"$error":"#REF!"}},{"$f":"IF(#REF!=\"\", \"\",#REF!)","v":{"$error":"#REF!"}},{"$f":"IF(#REF!=\"\", \"\",#REF!)","v":{"$error":"#REF!"}},{"$f":"IF(#REF!=\"\", \"\",#REF!)","v":{"$error":"#REF!"}},{"$f":"IF(#REF!=\"\", \"\",#REF!)","v":{"$error":"#REF!"}},{"$f":"IF(#REF!=\"\", \"\",#REF!)","v":{"$error":"#REF!"}},{"$f":"IF(#REF!=\"\", \"\",#REF!)","v":{"$error":"#REF!"}},{"$f":"IF(#REF!=\"\", \"\",#REF!)","v":{"$error":"#REF!"}},{"$f":"IF(#REF!=\"\", \"\",#REF!)","v":{"$error":"#REF!"}},{"$f":"IF(#REF!=\"\", \"\",#REF!)","v":{"$error":"#REF!"}},{"$f":"IF(#REF!=\"\", \"\",#REF!)","v":{"$error":"#REF!"}},{"$f":"IF(#REF!=\"\", \"\",#REF!)","v":{"$error":"#REF!"}},{"$f":"IF(#REF!=\"\", \"\",#REF!)","v":{"$error":"#REF!"}},{"$f":"IF(#REF!=\"\", \"\",#REF!)","v":{"$error":"#REF!"}},{"$f":"IF(#REF!=\"\", \"\",#REF!)","v":{"$error":"#REF!"}},{"$f":"IF(#REF!=\"\", \"\",#REF!)","v":{"$error":"#REF!"}},{"$f":"IF(#REF!=\"\", \"\",#REF!)","v":{"$error":"#REF!"}},{"$f":"IF(#REF!=\"\", \"\",#REF!)","v":{"$error":"#REF!"}},{"$f":"IF(#REF!=\"\", \"\",#REF!)","v":{"$error":"#REF!"}},{"$f":"IF(#REF!=\"\", \"\",#REF!)","v":{"$error":"#REF!"}},{"$f":"IF(#REF!=\"\", \"\",#REF!)","v":{"$error":"#REF!"}},{"$f":"IF(#REF!=\"\", \"\",#REF!)","v":{"$error":"#REF!"}},{"$f":"IF(#REF!=\"\", \"\",#REF!)","v":{"$error":"#REF!"}},{"$f":"IF(#REF!=\"\", \"\",#REF!)","v":{"$error":"#REF!"}},{"$f":"IF(#REF!=\"\", \"\",#REF!)","v":{"$error":"#REF!"}},{"$f":"IF(#REF!=\"\", \"\",#REF!)","v":{"$error":"#REF!"}},{"$f":"IF(#REF!=\"\", \"\",#REF!)","v":{"$error":"#REF!"}},{"$f":"IF(#REF!=\"\", \"\",#REF!)","v":{"$error":"#REF!"}},{"$f":"IF(#REF!=\"\", \"\",#REF!)","v":{"$error":"#REF!"}},{"$f":"IF(#REF!=\"\", \"\",#REF!)","v":{"$error":"#REF!"}},{"$f":"IF(#REF!=\"\", \"\",#REF!)","v":{"$error":"#REF!"}},{"$f":"IF(#REF!=\"\", \"\",#REF!)","v":{"$error":"#REF!"}},{"$f":"IF(#REF!=\"\", \"\",#REF!)","v":{"$error":"#REF!"}},{"$f":"IF(#REF!=\"\", \"\",#REF!)","v":{"$error":"#REF!"}},{"$f":"IF(#REF!=\"\", \"\",#REF!)","v":{"$error":"#REF!"}},{"$f":"IF(#REF!=\"\", \"\",#REF!)","v":{"$error":"#REF!"}},{"$f":"IF(#REF!=\"\", \"\",#REF!)","v":{"$error":"#REF!"}},{"$f":"IF(#REF!=\"\", \"\",#REF!)","v":{"$error":"#REF!"}},{"$f":"IF(#REF!=\"\", \"\",#REF!)","v":{"$error":"#REF!"}},{"$f":"IF(#REF!=\"\", \"\",#REF!)","v":{"$error":"#REF!"}},{"$f":"IF(#REF!=\"\", \"\",#REF!)","v":{"$error":"#REF!"}},{"$f":"IF(#REF!=\"\", \"\",#REF!)","v":{"$error":"#REF!"}},{"$f":"IF(#REF!=\"\", \"\",#REF!)","v":{"$error":"#REF!"}},{"$f":"IF(#REF!=\"\", \"\",#REF!)","v":{"$error":"#REF!"}},{"$f":"IF(#REF!=\"\", \"\",#REF!)","v":{"$error":"#REF!"}},{"$f":"IF(#REF!=\"\", \"\",#REF!)","v":{"$error":"#REF!"}},{"$f":"IF(#REF!=\"\", \"\",#REF!)","v":{"$error":"#REF!"}},{"$f":"IF(#REF!=\"\", \"\",#REF!)","v":{"$error":"#REF!"}},{"$f":"IF(#REF!=\"\", \"\",#REF!)","v":{"$error":"#REF!"}}]
["Item 42",{"$f":"IF(#REF!=\"\", \"\",#REF!)","v":{"$error":"#REF!"}},{"$f":"IF(#REF!=\"\", \"\",#REF!)","v":{"$error":"#REF!"}},{"$f":"IF(#REF!=\"\", \"\",#REF!)","v":{"$error":"#REF!"}},{"$f":"IF(#REF!=\"\", \"\",#REF!)","v":{"$error":"#REF!"}},{"$f":"IF(#REF!=\"\", \"\",#REF!)","v":{"$error":"#REF!"}},{"$f":"IF(#REF!=\"\", \"\",#REF!)","v":{"$error":"#REF!"}},{"$f":"IF(#REF!=\"\", \"\",#REF!)","v":{"$error":"#REF!"}},{"$f":"IF(#REF!=\"\", \"\",#REF!)","v":{"$error":"#REF!"}},{"$f":"IF(#REF!=\"\", \"\",#REF!)","v":{"$error":"#REF!"}},{"$f":"IF(#REF!=\"\", \"\",#REF!)","v":{"$error":"#REF!"}},{"$f":"IF(#REF!=\"\", \"\",#REF!)","v":{"$error":"#REF!"}},{"$f":"IF(#REF!=\"\", \"\",#REF!)","v":{"$error":"#REF!"}},{"$f":"IF(#REF!=\"\", \"\",#REF!)","v":{"$error":"#REF!"}},{"$f":"IF(#REF!=\"\", \"\",#REF!)","v":{"$error":"#REF!"}},{"$f":"IF(#REF!=\"\", \"\",#REF!)","v":{"$error":"#REF!"}},{"$f":"IF(#REF!=\"\", \"\",#REF!)","v":{"$error":"#REF!"}},{"$f":"IF(#REF!=\"\", \"\",#REF!)","v":{"$error":"#REF!"}},{"$f":"IF(#REF!=\"\", \"\",#REF!)","v":{"$error":"#REF!"}},{"$f":"IF(#REF!=\"\", \"\",#REF!)","v":{"$error":"#REF!"}},{"$f":"IF(#REF!=\"\", \"\",#REF!)","v":{"$error":"#REF!"}},{"$f":"IF(#REF!=\"\", \"\",#REF!)","v":{"$error":"#REF!"}},{"$f":"IF(#REF!=\"\", \"\",#REF!)","v":{"$error":"#REF!"}},{"$f":"IF(#REF!=\"\", \"\",#REF!)","v":{"$error":"#REF!"}},{"$f":"IF(#REF!=\"\", \"\",#REF!)","v":{"$error":"#REF!"}},{"$f":"IF(#REF!=\"\", \"\",#REF!)","v":{"$error":"#REF!"}},{"$f":"IF(#REF!=\"\", \"\",#REF!)","v":{"$error":"#REF!"}},{"$f":"IF(#REF!=\"\", \"\",#REF!)","v":{"$error":"#REF!"}},{"$f":"IF(#REF!=\"\", \"\",#REF!)","v":{"$error":"#REF!"}},{"$f":"IF(#REF!=\"\", \"\",#REF!)","v":{"$error":"#REF!"}},{"$f":"IF(#REF!=\"\", \"\",#REF!)","v":{"$error":"#REF!"}},{"$f":"IF(#REF!=\"\", \"\",#REF!)","v":{"$error":"#REF!"}},{"$f":"IF(#REF!=\"\", \"\",#REF!)","v":{"$error":"#REF!"}},{"$f":"IF(#REF!=\"\", \"\",#REF!)","v":{"$error":"#REF!"}},{"$f":"IF(#REF!=\"\", \"\",#REF!)","v":{"$error":"#REF!"}},{"$f":"IF(#REF!=\"\", \"\",#REF!)","v":{"$error":"#REF!"}},{"$f":"IF(#REF!=\"\", \"\",#REF!)","v":{"$error":"#REF!"}},{"$f":"IF(#REF!=\"\", \"\",#REF!)","v":{"$error":"#REF!"}},{"$f":"IF(#REF!=\"\", \"\",#REF!)","v":{"$error":"#REF!"}},{"$f":"IF(#REF!=\"\", \"\",#REF!)","v":{"$error":"#REF!"}},{"$f":"IF(#REF!=\"\", \"\",#REF!)","v":{"$error":"#REF!"}},{"$f":"IF(#REF!=\"\", \"\",#REF!)","v":{"$error":"#REF!"}},{"$f":"IF(#REF!=\"\", \"\",#REF!)","v":{"$error":"#REF!"}},{"$f":"IF(#REF!=\"\", \"\",#REF!)","v":{"$error":"#REF!"}},{"$f":"IF(#REF!=\"\", \"\",#REF!)","v":{"$error":"#REF!"}},{"$f":"IF(#REF!=\"\", \"\",#REF!)","v":{"$error":"#REF!"}},{"$f":"IF(#REF!=\"\", \"\",#REF!)","v":{"$error":"#REF!"}},{"$f":"IF(#REF!=\"\", \"\",#REF!)","v":{"$error":"#REF!"}},{"$f":"IF(#REF!=\"\", \"\",#REF!)","v":{"$error":"#REF!"}},{"$f":"IF(#REF!=\"\", \"\",#REF!)","v":{"$error":"#REF!"}},{"$f":"IF(#REF!=\"\", \"\",#REF!)","v":{"$error":"#REF!"}},{"$f":"IF(#REF!=\"\", \"\",#REF!)","v":{"$error":"#REF!"}},{"$f":"IF(#REF!=\"\", \"\",#REF!)","v":{"$error":"#REF!"}},{"$f":"IF(#REF!=\"\", \"\",#REF!)","v":{"$error":"#REF!"}},{"$f":"IF(#REF!=\"\", \"\",#REF!)","v":{"$error":"#REF!"}},{"$f":"IF(#REF!=\"\", \"\",#REF!)","v":{"$error":"#REF!"}},{"$f":"IF(#REF!=\"\", \"\",#REF!)","v":{"$error":"#REF!"}},{"$f":"IF(#REF!=\"\", \"\",#REF!)","v":{"$error":"#REF!"}},{"$f":"IF(#REF!=\"\", \"\",#REF!)","v":{"$error":"#REF!"}},{"$f":"IF(#REF!=\"\", \"\",#REF!)","v":{"$error":"#REF!"}},{"$f":"IF(#REF!=\"\", \"\",#REF!)","v":{"$error":"#REF!"}},{"$f":"IF(#REF!=\"\", \"\",#REF!)","v":{"$error":"#REF!"}}]
["Item 43",{"$f":"IF(#REF!=\"\", \"\",#REF!)","v":{"$error":"#REF!"}},{"$f":"IF(#REF!=\"\", \"\",#REF!)","v":{"$error":"#REF!"}},{"$f":"IF(#REF!=\"\", \"\",#REF!)","v":{"$error":"#REF!"}},{"$f":"IF(#REF!=\"\", \"\",#REF!)","v":{"$error":"#REF!"}},{"$f":"IF(#REF!=\"\", \"\",#REF!)","v":{"$error":"#REF!"}},{"$f":"IF(#REF!=\"\", \"\",#REF!)","v":{"$error":"#REF!"}},{"$f":"IF(#REF!=\"\", \"\",#REF!)","v":{"$error":"#REF!"}},{"$f":"IF(#REF!=\"\", \"\",#REF!)","v":{"$error":"#REF!"}},{"$f":"IF(#REF!=\"\", \"\",#REF!)","v":{"$error":"#REF!"}},{"$f":"IF(#REF!=\"\", \"\",#REF!)","v":{"$error":"#REF!"}},{"$f":"IF(#REF!=\"\", \"\",#REF!)","v":{"$error":"#REF!"}},{"$f":"IF(#REF!=\"\", \"\",#REF!)","v":{"$error":"#REF!"}},{"$f":"IF(#REF!=\"\", \"\",#REF!)","v":{"$error":"#REF!"}},{"$f":"IF(#REF!=\"\", \"\",#REF!)","v":{"$error":"#REF!"}},{"$f":"IF(#REF!=\"\", \"\",#REF!)","v":{"$error":"#REF!"}},{"$f":"IF(#REF!=\"\", \"\",#REF!)","v":{"$error":"#REF!"}},{"$f":"IF(#REF!=\"\", \"\",#REF!)","v":{"$error":"#REF!"}},{"$f":"IF(#REF!=\"\", \"\",#REF!)","v":{"$error":"#REF!"}},{"$f":"IF(#REF!=\"\", \"\",#REF!)","v":{"$error":"#REF!"}},{"$f":"IF(#REF!=\"\", \"\",#REF!)","v":{"$error":"#REF!"}},{"$f":"IF(#REF!=\"\", \"\",#REF!)","v":{"$error":"#REF!"}},{"$f":"IF(#REF!=\"\", \"\",#REF!)","v":{"$error":"#REF!"}},{"$f":"IF(#REF!=\"\", \"\",#REF!)","v":{"$error":"#REF!"}},{"$f":"IF(#REF!=\"\", \"\",#REF!)","v":{"$error":"#REF!"}},{"$f":"IF(#REF!=\"\", \"\",#REF!)","v":{"$error":"#REF!"}},{"$f":"IF(#REF!=\"\", \"\",#REF!)","v":{"$error":"#REF!"}},{"$f":"IF(#REF!=\"\", \"\",#REF!)","v":{"$error":"#REF!"}},{"$f":"IF(#REF!=\"\", \"\",#REF!)","v":{"$error":"#REF!"}},{"$f":"IF(#REF!=\"\", \"\",#REF!)","v":{"$error":"#REF!"}},{"$f":"IF(#REF!=\"\", \"\",#REF!)","v":{"$error":"#REF!"}},{"$f":"IF(#REF!=\"\", \"\",#REF!)","v":{"$error":"#REF!"}},{"$f":"IF(#REF!=\"\", \"\",#REF!)","v":{"$error":"#REF!"}},{"$f":"IF(#REF!=\"\", \"\",#REF!)","v":{"$error":"#REF!"}},{"$f":"IF(#REF!=\"\", \"\",#REF!)","v":{"$error":"#REF!"}},{"$f":"IF(#REF!=\"\", \"\",#REF!)","v":{"$error":"#REF!"}},{"$f":"IF(#REF!=\"\", \"\",#REF!)","v":{"$error":"#REF!"}},{"$f":"IF(#REF!=\"\", \"\",#REF!)","v":{"$error":"#REF!"}},{"$f":"IF(#REF!=\"\", \"\",#REF!)","v":{"$error":"#REF!"}},{"$f":"IF(#REF!=\"\", \"\",#REF!)","v":{"$error":"#REF!"}},{"$f":"IF(#REF!=\"\", \"\",#REF!)","v":{"$error":"#REF!"}},{"$f":"IF(#REF!=\"\", \"\",#REF!)","v":{"$error":"#REF!"}},{"$f":"IF(#REF!=\"\", \"\",#REF!)","v":{"$error":"#REF!"}},{"$f":"IF(#REF!=\"\", \"\",#REF!)","v":{"$error":"#REF!"}},{"$f":"IF(#REF!=\"\", \"\",#REF!)","v":{"$error":"#REF!"}},{"$f":"IF(#REF!=\"\", \"\",#REF!)","v":{"$error":"#REF!"}},{"$f":"IF(#REF!=\"\", \"\",#REF!)","v":{"$error":"#REF!"}},{"$f":"IF(#REF!=\"\", \"\",#REF!)","v":{"$error":"#REF!"}},{"$f":"IF(#REF!=\"\", \"\",#REF!)","v":{"$error":"#REF!"}},{"$f":"IF(#REF!=\"\", \"\",#REF!)","v":{"$error":"#REF!"}},{"$f":"IF(#REF!=\"\", \"\",#REF!)","v":{"$error":"#REF!"}},{"$f":"IF(#REF!=\"\", \"\",#REF!)","v":{"$error":"#REF!"}},{"$f":"IF(#REF!=\"\", \"\",#REF!)","v":{"$error":"#REF!"}},{"$f":"IF(#REF!=\"\", \"\",#REF!)","v":{"$error":"#REF!"}},{"$f":"IF(#REF!=\"\", \"\",#REF!)","v":{"$error":"#REF!"}},{"$f":"IF(#REF!=\"\", \"\",#REF!)","v":{"$error":"#REF!"}},{"$f":"IF(#REF!=\"\", \"\",#REF!)","v":{"$error":"#REF!"}},{"$f":"IF(#REF!=\"\", \"\",#REF!)","v":{"$error":"#REF!"}},{"$f":"IF(#REF!=\"\", \"\",#REF!)","v":{"$error":"#REF!"}},{"$f":"IF(#REF!=\"\", \"\",#REF!)","v":{"$error":"#REF!"}},{"$f":"IF(#REF!=\"\", \"\",#REF!)","v":{"$error":"#REF!"}},{"$f":"IF(#REF!=\"\", \"\",#REF!)","v":{"$error":"#REF!"}}]
["Item 44",{"$f":"IF(#REF!=\"\", \"\",#REF!)","v":{"$error":"#REF!"}},{"$f":"IF(#REF!=\"\", \"\",#REF!)","v":{"$error":"#REF!"}},{"$f":"IF(#REF!=\"\", \"\",#REF!)","v":{"$error":"#REF!"}},{"$f":"IF(#REF!=\"\", \"\",#REF!)","v":{"$error":"#REF!"}},{"$f":"IF(#REF!=\"\", \"\",#REF!)","v":{"$error":"#REF!"}},{"$f":"IF(#REF!=\"\", \"\",#REF!)","v":{"$error":"#REF!"}},{"$f":"IF(#REF!=\"\", \"\",#REF!)","v":{"$error":"#REF!"}},{"$f":"IF(#REF!=\"\", \"\",#REF!)","v":{"$error":"#REF!"}},{"$f":"IF(#REF!=\"\", \"\",#REF!)","v":{"$error":"#REF!"}},{"$f":"IF(#REF!=\"\", \"\",#REF!)","v":{"$error":"#REF!"}},{"$f":"IF(#REF!=\"\", \"\",#REF!)","v":{"$error":"#REF!"}},{"$f":"IF(#REF!=\"\", \"\",#REF!)","v":{"$error":"#REF!"}},{"$f":"IF(#REF!=\"\", \"\",#REF!)","v":{"$error":"#REF!"}},{"$f":"IF(#REF!=\"\", \"\",#REF!)","v":{"$error":"#REF!"}},{"$f":"IF(#REF!=\"\", \"\",#REF!)","v":{"$error":"#REF!"}},{"$f":"IF(#REF!=\"\", \"\",#REF!)","v":{"$error":"#REF!"}},{"$f":"IF(#REF!=\"\", \"\",#REF!)","v":{"$error":"#REF!"}},{"$f":"IF(#REF!=\"\", \"\",#REF!)","v":{"$error":"#REF!"}},{"$f":"IF(#REF!=\"\", \"\",#REF!)","v":{"$error":"#REF!"}},{"$f":"IF(#REF!=\"\", \"\",#REF!)","v":{"$error":"#REF!"}},{"$f":"IF(#REF!=\"\", \"\",#REF!)","v":{"$error":"#REF!"}},{"$f":"IF(#REF!=\"\", \"\",#REF!)","v":{"$error":"#REF!"}},{"$f":"IF(#REF!=\"\", \"\",#REF!)","v":{"$error":"#REF!"}},{"$f":"IF(#REF!=\"\", \"\",#REF!)","v":{"$error":"#REF!"}},{"$f":"IF(#REF!=\"\", \"\",#REF!)","v":{"$error":"#REF!"}},{"$f":"IF(#REF!=\"\", \"\",#REF!)","v":{"$error":"#REF!"}},{"$f":"IF(#REF!=\"\", \"\",#REF!)","v":{"$error":"#REF!"}},{"$f":"IF(#REF!=\"\", \"\",#REF!)","v":{"$error":"#REF!"}},{"$f":"IF(#REF!=\"\", \"\",#REF!)","v":{"$error":"#REF!"}},{"$f":"IF(#REF!=\"\", \"\",#REF!)","v":{"$error":"#REF!"}},{"$f":"IF(#REF!=\"\", \"\",#REF!)","v":{"$error":"#REF!"}},{"$f":"IF(#REF!=\"\", \"\",#REF!)","v":{"$error":"#REF!"}},{"$f":"IF(#REF!=\"\", \"\",#REF!)","v":{"$error":"#REF!"}},{"$f":"IF(#REF!=\"\", \"\",#REF!)","v":{"$error":"#REF!"}},{"$f":"IF(#REF!=\"\", \"\",#REF!)","v":{"$error":"#REF!"}},{"$f":"IF(#REF!=\"\", \"\",#REF!)","v":{"$error":"#REF!"}},{"$f":"IF(#REF!=\"\", \"\",#REF!)","v":{"$error":"#REF!"}},{"$f":"IF(#REF!=\"\", \"\",#REF!)","v":{"$error":"#REF!"}},{"$f":"IF(#REF!=\"\", \"\",#REF!)","v":{"$error":"#REF!"}},{"$f":"IF(#REF!=\"\", \"\",#REF!)","v":{"$error":"#REF!"}},{"$f":"IF(#REF!=\"\", \"\",#REF!)","v":{"$error":"#REF!"}},{"$f":"IF(#REF!=\"\", \"\",#REF!)","v":{"$error":"#REF!"}},{"$f":"IF(#REF!=\"\", \"\",#REF!)","v":{"$error":"#REF!"}},{"$f":"IF(#REF!=\"\", \"\",#REF!)","v":{"$error":"#REF!"}},{"$f":"IF(#REF!=\"\", \"\",#REF!)","v":{"$error":"#REF!"}},{"$f":"IF(#REF!=\"\", \"\",#REF!)","v":{"$error":"#REF!"}},{"$f":"IF(#REF!=\"\", \"\",#REF!)","v":{"$error":"#REF!"}},{"$f":"IF(#REF!=\"\", \"\",#REF!)","v":{"$error":"#REF!"}},{"$f":"IF(#REF!=\"\", \"\",#REF!)","v":{"$error":"#REF!"}},{"$f":"IF(#REF!=\"\", \"\",#REF!)","v":{"$error":"#REF!"}},{"$f":"IF(#REF!=\"\", \"\",#REF!)","v":{"$error":"#REF!"}},{"$f":"IF(#REF!=\"\", \"\",#REF!)","v":{"$error":"#REF!"}},{"$f":"IF(#REF!=\"\", \"\",#REF!)","v":{"$error":"#REF!"}},{"$f":"IF(#REF!=\"\", \"\",#REF!)","v":{"$error":"#REF!"}},{"$f":"IF(#REF!=\"\", \"\",#REF!)","v":{"$error":"#REF!"}},{"$f":"IF(#REF!=\"\", \"\",#REF!)","v":{"$error":"#REF!"}},{"$f":"IF(#REF!=\"\", \"\",#REF!)","v":{"$error":"#REF!"}},{"$f":"IF(#REF!=\"\", \"\",#REF!)","v":{"$error":"#REF!"}},{"$f":"IF(#REF!=\"\", \"\",#REF!)","v":{"$error":"#REF!"}},{"$f":"IF(#REF!=\"\", \"\",#REF!)","v":{"$error":"#REF!"}},{"$f":"IF(#REF!=\"\", \"\",#REF!)","v":{"$error":"#REF!"}}]
["Item 45",{"$f":"IF(#REF!=\"\", \"\",#REF!)","v":{"$error":"#REF!"}},{"$f":"IF(#REF!=\"\", \"\",#REF!)","v":{"$error":"#REF!"}},{"$f":"IF(#REF!=\"\", \"\",#REF!)","v":{"$error":"#REF!"}},{"$f":"IF(#REF!=\"\", \"\",#REF!)","v":{"$error":"#REF!"}},{"$f":"IF(#REF!=\"\", \"\",#REF!)","v":{"$error":"#REF!"}},{"$f":"IF(#REF!=\"\", \"\",#REF!)","v":{"$error":"#REF!"}},{"$f":"IF(#REF!=\"\", \"\",#REF!)","v":{"$error":"#REF!"}},{"$f":"IF(#REF!=\"\", \"\",#REF!)","v":{"$error":"#REF!"}},{"$f":"IF(#REF!=\"\", \"\",#REF!)","v":{"$error":"#REF!"}},{"$f":"IF(#REF!=\"\", \"\",#REF!)","v":{"$error":"#REF!"}},{"$f":"IF(#REF!=\"\", \"\",#REF!)","v":{"$error":"#REF!"}},{"$f":"IF(#REF!=\"\", \"\",#REF!)","v":{"$error":"#REF!"}},{"$f":"IF(#REF!=\"\", \"\",#REF!)","v":{"$error":"#REF!"}},{"$f":"IF(#REF!=\"\", \"\",#REF!)","v":{"$error":"#REF!"}},{"$f":"IF(#REF!=\"\", \"\",#REF!)","v":{"$error":"#REF!"}},{"$f":"IF(#REF!=\"\", \"\",#REF!)","v":{"$error":"#REF!"}},{"$f":"IF(#REF!=\"\", \"\",#REF!)","v":{"$error":"#REF!"}},{"$f":"IF(#REF!=\"\", \"\",#REF!)","v":{"$error":"#REF!"}},{"$f":"IF(#REF!=\"\", \"\",#REF!)","v":{"$error":"#REF!"}},{"$f":"IF(#REF!=\"\", \"\",#REF!)","v":{"$error":"#REF!"}},{"$f":"IF(#REF!=\"\", \"\",#REF!)","v":{"$error":"#REF!"}},{"$f":"IF(#REF!=\"\", \"\",#REF!)","v":{"$error":"#REF!"}},{"$f":"IF(#REF!=\"\", \"\",#REF!)","v":{"$error":"#REF!"}},{"$f":"IF(#REF!=\"\", \"\",#REF!)","v":{"$error":"#REF!"}},{"$f":"IF(#REF!=\"\", \"\",#REF!)","v":{"$error":"#REF!"}},{"$f":"IF(#REF!=\"\", \"\",#REF!)","v":{"$error":"#REF!"}},{"$f":"IF(#REF!=\"\", \"\",#REF!)","v":{"$error":"#REF!"}},{"$f":"IF(#REF!=\"\", \"\",#REF!)","v":{"$error":"#REF!"}},{"$f":"IF(#REF!=\"\", \"\",#REF!)","v":{"$error":"#REF!"}},{"$f":"IF(#REF!=\"\", \"\",#REF!)","v":{"$error":"#REF!"}},{"$f":"IF(#REF!=\"\", \"\",#REF!)","v":{"$error":"#REF!"}},{"$f":"IF(#REF!=\"\", \"\",#REF!)","v":{"$error":"#REF!"}},{"$f":"IF(#REF!=\"\", \"\",#REF!)","v":{"$error":"#REF!"}},{"$f":"IF(#REF!=\"\", \"\",#REF!)","v":{"$error":"#REF!"}},{"$f":"IF(#REF!=\"\", \"\",#REF!)","v":{"$error":"#REF!"}},{"$f":"IF(#REF!=\"\", \"\",#REF!)","v":{"$error":"#REF!"}},{"$f":"IF(#REF!=\"\", \"\",#REF!)","v":{"$error":"#REF!"}},{"$f":"IF(#REF!=\"\", \"\",#REF!)","v":{"$error":"#REF!"}},{"$f":"IF(#REF!=\"\", \"\",#REF!)","v":{"$error":"#REF!"}},{"$f":"IF(#REF!=\"\", \"\",#REF!)","v":{"$error":"#REF!"}},{"$f":"IF(#REF!=\"\", \"\",#REF!)","v":{"$error":"#REF!"}},{"$f":"IF(#REF!=\"\", \"\",#REF!)","v":{"$error":"#REF!"}},{"$f":"IF(#REF!=\"\", \"\",#REF!)","v":{"$error":"#REF!"}},{"$f":"IF(#REF!=\"\", \"\",#REF!)","v":{"$error":"#REF!"}},{"$f":"IF(#REF!=\"\", \"\",#REF!)","v":{"$error":"#REF!"}},{"$f":"IF(#REF!=\"\", \"\",#REF!)","v":{"$error":"#REF!"}},{"$f":"IF(#REF!=\"\", \"\",#REF!)","v":{"$error":"#REF!"}},{"$f":"IF(#REF!=\"\", \"\",#REF!)","v":{"$error":"#REF!"}},{"$f":"IF(#REF!=\"\", \"\",#REF!)","v":{"$error":"#REF!"}},{"$f":"IF(#REF!=\"\", \"\",#REF!)","v":{"$error":"#REF!"}},{"$f":"IF(#REF!=\"\", \"\",#REF!)","v":{"$error":"#REF!"}},{"$f":"IF(#REF!=\"\", \"\",#REF!)","v":{"$error":"#REF!"}},{"$f":"IF(#REF!=\"\", \"\",#REF!)","v":{"$error":"#REF!"}},{"$f":"IF(#REF!=\"\", \"\",#REF!)","v":{"$error":"#REF!"}},{"$f":"IF(#REF!=\"\", \"\",#REF!)","v":{"$error":"#REF!"}},{"$f":"IF(#REF!=\"\", \"\",#REF!)","v":{"$error":"#REF!"}},{"$f":"IF(#REF!=\"\", \"\",#REF!)","v":{"$error":"#REF!"}},{"$f":"IF(#REF!=\"\", \"\",#REF!)","v":{"$error":"#REF!"}},{"$f":"IF(#REF!=\"\", \"\",#REF!)","v":{"$error":"#REF!"}},{"$f":"IF(#REF!=\"\", \"\",#REF!)","v":{"$error":"#REF!"}},{"$f":"IF(#REF!=\"\", \"\",#REF!)","v":{"$error":"#REF!"}}]
["Item 46",{"$f":"IF(#REF!=\"\", \"\",#REF!)","v":{"$error":"#REF!"}},{"$f":"IF(#REF!=\"\", \"\",#REF!)","v":{"$error":"#REF!"}},{"$f":"IF(#REF!=\"\", \"\",#REF!)","v":{"$error":"#REF!"}},{"$f":"IF(#REF!=\"\", \"\",#REF!)","v":{"$error":"#REF!"}},{"$f":"IF(#REF!=\"\", \"\",#REF!)","v":{"$error":"#REF!"}},{"$f":"IF(#REF!=\"\", \"\",#REF!)","v":{"$error":"#REF!"}},{"$f":"IF(#REF!=\"\", \"\",#REF!)","v":{"$error":"#REF!"}},{"$f":"IF(#REF!=\"\", \"\",#REF!)","v":{"$error":"#REF!"}},{"$f":"IF(#REF!=\"\", \"\",#REF!)","v":{"$error":"#REF!"}},{"$f":"IF(#REF!=\"\", \"\",#REF!)","v":{"$error":"#REF!"}},{"$f":"IF(#REF!=\"\", \"\",#REF!)","v":{"$error":"#REF!"}},{"$f":"IF(#REF!=\"\", \"\",#REF!)","v":{"$error":"#REF!"}},{"$f":"IF(#REF!=\"\", \"\",#REF!)","v":{"$error":"#REF!"}},{"$f":"IF(#REF!=\"\", \"\",#REF!)","v":{"$error":"#REF!"}},{"$f":"IF(#REF!=\"\", \"\",#REF!)","v":{"$error":"#REF!"}},{"$f":"IF(#REF!=\"\", \"\",#REF!)","v":{"$error":"#REF!"}},{"$f":"IF(#REF!=\"\", \"\",#REF!)","v":{"$error":"#REF!"}},{"$f":"IF(#REF!=\"\", \"\",#REF!)","v":{"$error":"#REF!"}},{"$f":"IF(#REF!=\"\", \"\",#REF!)","v":{"$error":"#REF!"}},{"$f":"IF(#REF!=\"\", \"\",#REF!)","v":{"$error":"#REF!"}},{"$f":"IF(#REF!=\"\", \"\",#REF!)","v":{"$error":"#REF!"}},{"$f":"IF(#REF!=\"\", \"\",#REF!)","v":{"$error":"#REF!"}},{"$f":"IF(#REF!=\"\", \"\",#REF!)","v":{"$error":"#REF!"}},{"$f":"IF(#REF!=\"\", \"\",#REF!)","v":{"$error":"#REF!"}},{"$f":"IF(#REF!=\"\", \"\",#REF!)","v":{"$error":"#REF!"}},{"$f":"IF(#REF!=\"\", \"\",#REF!)","v":{"$error":"#REF!"}},{"$f":"IF(#REF!=\"\", \"\",#REF!)","v":{"$error":"#REF!"}},{"$f":"IF(#REF!=\"\", \"\",#REF!)","v":{"$error":"#REF!"}},{"$f":"IF(#REF!=\"\", \"\",#REF!)","v":{"$error":"#REF!"}},{"$f":"IF(#REF!=\"\", \"\",#REF!)","v":{"$error":"#REF!"}},{"$f":"IF(#REF!=\"\", \"\",#REF!)","v":{"$error":"#REF!"}},{"$f":"IF(#REF!=\"\", \"\",#REF!)","v":{"$error":"#REF!"}},{"$f":"IF(#REF!=\"\", \"\",#REF!)","v":{"$error":"#REF!"}},{"$f":"IF(#REF!=\"\", \"\",#REF!)","v":{"$error":"#REF!"}},{"$f":"IF(#REF!=\"\", \"\",#REF!)","v":{"$error":"#REF!"}},{"$f":"IF(#REF!=\"\", \"\",#REF!)","v":{"$error":"#REF!"}},{"$f":"IF(#REF!=\"\", \"\",#REF!)","v":{"$error":"#REF!"}},{"$f":"IF(#REF!=\"\", \"\",#REF!)","v":{"$error":"#REF!"}},{"$f":"IF(#REF!=\"\", \"\",#REF!)","v":{"$error":"#REF!"}},{"$f":"IF(#REF!=\"\", \"\",#REF!)","v":{"$error":"#REF!"}},{"$f":"IF(#REF!=\"\", \"\",#REF!)","v":{"$error":"#REF!"}},{"$f":"IF(#REF!=\"\", \"\",#REF!)","v":{"$error":"#REF!"}},{"$f":"IF(#REF!=\"\", \"\",#REF!)","v":{"$error":"#REF!"}},{"$f":"IF(#REF!=\"\", \"\",#REF!)","v":{"$error":"#REF!"}},{"$f":"IF(#REF!=\"\", \"\",#REF!)","v":{"$error":"#REF!"}},{"$f":"IF(#REF!=\"\", \"\",#REF!)","v":{"$error":"#REF!"}},{"$f":"IF(#REF!=\"\", \"\",#REF!)","v":{"$error":"#REF!"}},{"$f":"IF(#REF!=\"\", \"\",#REF!)","v":{"$error":"#REF!"}},{"$f":"IF(#REF!=\"\", \"\",#REF!)","v":{"$error":"#REF!"}},{"$f":"IF(#REF!=\"\", \"\",#REF!)","v":{"$error":"#REF!"}},{"$f":"IF(#REF!=\"\", \"\",#REF!)","v":{"$error":"#REF!"}},{"$f":"IF(#REF!=\"\", \"\",#REF!)","v":{"$error":"#REF!"}},{"$f":"IF(#REF!=\"\", \"\",#REF!)","v":{"$error":"#REF!"}},{"$f":"IF(#REF!=\"\", \"\",#REF!)","v":{"$error":"#REF!"}},{"$f":"IF(#REF!=\"\", \"\",#REF!)","v":{"$error":"#REF!"}},{"$f":"IF(#REF!=\"\", \"\",#REF!)","v":{"$error":"#REF!"}},{"$f":"IF(#REF!=\"\", \"\",#REF!)","v":{"$error":"#REF!"}},{"$f":"IF(#REF!=\"\", \"\",#REF!)","v":{"$error":"#REF!"}},{"$f":"IF(#REF!=\"\", \"\",#REF!)","v":{"$error":"#REF!"}},{"$f":"IF(#REF!=\"\", \"\",#REF!)","v":{"$error":"#REF!"}},{"$f":"IF(#REF!=\"\", \"\",#REF!)","v":{"$error":"#REF!"}}]
["Item 47",{"$f":"IF(#REF!=\"\", \"\",#REF!)","v":{"$error":"#REF!"}},{"$f":"IF(#REF!=\"\", \"\",#REF!)","v":{"$error":"#REF!"}},{"$f":"IF(#REF!=\"\", \"\",#REF!)","v":{"$error":"#REF!"}},{"$f":"IF(#REF!=\"\", \"\",#REF!)","v":{"$error":"#REF!"}},{"$f":"IF(#REF!=\"\", \"\",#REF!)","v":{"$error":"#REF!"}},{"$f":"IF(#REF!=\"\", \"\",#REF!)","v":{"$error":"#REF!"}},{"$f":"IF(#REF!=\"\", \"\",#REF!)","v":{"$error":"#REF!"}},{"$f":"IF(#REF!=\"\", \"\",#REF!)","v":{"$error":"#REF!"}},{"$f":"IF(#REF!=\"\", \"\",#REF!)","v":{"$error":"#REF!"}},{"$f":"IF(#REF!=\"\", \"\",#REF!)","v":{"$error":"#REF!"}},{"$f":"IF(#REF!=\"\", \"\",#REF!)","v":{"$error":"#REF!"}},{"$f":"IF(#REF!=\"\", \"\",#REF!)","v":{"$error":"#REF!"}},{"$f":"IF(#REF!=\"\", \"\",#REF!)","v":{"$error":"#REF!"}},{"$f":"IF(#REF!=\"\", \"\",#REF!)","v":{"$error":"#REF!"}},{"$f":"IF(#REF!=\"\", \"\",#REF!)","v":{"$error":"#REF!"}},{"$f":"IF(#REF!=\"\", \"\",#REF!)","v":{"$error":"#REF!"}},{"$f":"IF(#REF!=\"\", \"\",#REF!)","v":{"$error":"#REF!"}},{"$f":"IF(#REF!=\"\", \"\",#REF!)","v":{"$error":"#REF!"}},{"$f":"IF(#REF!=\"\", \"\",#REF!)","v":{"$error":"#REF!"}},{"$f":"IF(#REF!=\"\", \"\",#REF!)","v":{"$error":"#REF!"}},{"$f":"IF(#REF!=\"\", \"\",#REF!)","v":{"$error":"#REF!"}},{"$f":"IF(#REF!=\"\", \"\",#REF!)","v":{"$error":"#REF!"}},{"$f":"IF(#REF!=\"\", \"\",#REF!)","v":{"$error":"#REF!"}},{"$f":"IF(#REF!=\"\", \"\",#REF!)","v":{"$error":"#REF!"}},{"$f":"IF(#REF!=\"\", \"\",#REF!)","v":{"$error":"#REF!"}},{"$f":"IF(#REF!=\"\", \"\",#REF!)","v":{"$error":"#REF!"}},{"$f":"IF(#REF!=\"\", \"\",#REF!)","v":{"$error":"#REF!"}},{"$f":"IF(#REF!=\"\", \"\",#REF!)","v":{"$error":"#REF!"}},{"$f":"IF(#REF!=\"\", \"\",#REF!)","v":{"$error":"#REF!"}},{"$f":"IF(#REF!=\"\", \"\",#REF!)","v":{"$error":"#REF!"}},{"$f":"IF(#REF!=\"\", \"\",#REF!)","v":{"$error":"#REF!"}},{"$f":"IF(#REF!=\"\", \"\",#REF!)","v":{"$error":"#REF!"}},{"$f":"IF(#REF!=\"\", \"\",#REF!)","v":{"$error":"#REF!"}},{"$f":"IF(#REF!=\"\", \"\",#REF!)","v":{"$error":"#REF!"}},{"$f":"IF(#REF!=\"\", \"\",#REF!)","v":{"$error":"#REF!"}},{"$f":"IF(#REF!=\"\", \"\",#REF!)","v":{"$error":"#REF!"}},{"$f":"IF(#REF!=\"\", \"\",#REF!)","v":{"$error":"#REF!"}},{"$f":"IF(#REF!=\"\", \"\",#REF!)","v":{"$error":"#REF!"}},{"$f":"IF(#REF!=\"\", \"\",#REF!)","v":{"$error":"#REF!"}},{"$f":"IF(#REF!=\"\", \"\",#REF!)","v":{"$error":"#REF!"}},{"$f":"IF(#REF!=\"\", \"\",#REF!)","v":{"$error":"#REF!"}},{"$f":"IF(#REF!=\"\", \"\",#REF!)","v":{"$error":"#REF!"}},{"$f":"IF(#REF!=\"\", \"\",#REF!)","v":{"$error":"#REF!"}},{"$f":"IF(#REF!=\"\", \"\",#REF!)","v":{"$error":"#REF!"}},{"$f":"IF(#REF!=\"\", \"\",#REF!)","v":{"$error":"#REF!"}},{"$f":"IF(#REF!=\"\", \"\",#REF!)","v":{"$error":"#REF!"}},{"$f":"IF(#REF!=\"\", \"\",#REF!)","v":{"$error":"#REF!"}},{"$f":"IF(#REF!=\"\", \"\",#REF!)","v":{"$error":"#REF!"}},{"$f":"IF(#REF!=\"\", \"\",#REF!)","v":{"$error":"#REF!"}},{"$f":"IF(#REF!=\"\", \"\",#REF!)","v":{"$error":"#REF!"}},{"$f":"IF(#REF!=\"\", \"\",#REF!)","v":{"$error":"#REF!"}},{"$f":"IF(#REF!=\"\", \"\",#REF!)","v":{"$error":"#REF!"}},{"$f":"IF(#REF!=\"\", \"\",#REF!)","v":{"$error":"#REF!"}},{"$f":"IF(#REF!=\"\", \"\",#REF!)","v":{"$error":"#REF!"}},{"$f":"IF(#REF!=\"\", \"\",#REF!)","v":{"$error":"#REF!"}},{"$f":"IF(#REF!=\"\", \"\",#REF!)","v":{"$error":"#REF!"}},{"$f":"IF(#REF!=\"\", \"\",#REF!)","v":{"$error":"#REF!"}},{"$f":"IF(#REF!=\"\", \"\",#REF!)","v":{"$error":"#REF!"}},{"$f":"IF(#REF!=\"\", \"\",#REF!)","v":{"$error":"#REF!"}},{"$f":"IF(#REF!=\"\", \"\",#REF!)","v":{"$error":"#REF!"}},{"$f":"IF(#REF!=\"\", \"\",#REF!)","v":{"$error":"#REF!"}}]
["Item 48",{"$f":"IF(#REF!=\"\", \"\",#REF!)","v":{"$error":"#REF!"}},{"$f":"IF(#REF!=\"\", \"\",#REF!)","v":{"$error":"#REF!"}},{"$f":"IF(#REF!=\"\", \"\",#REF!)","v":{"$error":"#REF!"}},{"$f":"IF(#REF!=\"\", \"\",#REF!)","v":{"$error":"#REF!"}},{"$f":"IF(#REF!=\"\", \"\",#REF!)","v":{"$error":"#REF!"}},{"$f":"IF(#REF!=\"\", \"\",#REF!)","v":{"$error":"#REF!"}},{"$f":"IF(#REF!=\"\", \"\",#REF!)","v":{"$error":"#REF!"}},{"$f":"IF(#REF!=\"\", \"\",#REF!)","v":{"$error":"#REF!"}},{"$f":"IF(#REF!=\"\", \"\",#REF!)","v":{"$error":"#REF!"}},{"$f":"IF(#REF!=\"\", \"\",#REF!)","v":{"$error":"#REF!"}},{"$f":"IF(#REF!=\"\", \"\",#REF!)","v":{"$error":"#REF!"}},{"$f":"IF(#REF!=\"\", \"\",#REF!)","v":{"$error":"#REF!"}},{"$f":"IF(#REF!=\"\", \"\",#REF!)","v":{"$error":"#REF!"}},{"$f":"IF(#REF!=\"\", \"\",#REF!)","v":{"$error":"#REF!"}},{"$f":"IF(#REF!=\"\", \"\",#REF!)","v":{"$error":"#REF!"}},{"$f":"IF(#REF!=\"\", \"\",#REF!)","v":{"$error":"#REF!"}},{"$f":"IF(#REF!=\"\", \"\",#REF!)","v":{"$error":"#REF!"}},{"$f":"IF(#REF!=\"\", \"\",#REF!)","v":{"$error":"#REF!"}},{"$f":"IF(#REF!=\"\", \"\",#REF!)","v":{"$error":"#REF!"}},{"$f":"IF(#REF!=\"\", \"\",#REF!)","v":{"$error":"#REF!"}},{"$f":"IF(#REF!=\"\", \"\",#REF!)","v":{"$error":"#REF!"}},{"$f":"IF(#REF!=\"\", \"\",#REF!)","v":{"$error":"#REF!"}},{"$f":"IF(#REF!=\"\", \"\",#REF!)","v":{"$error":"#REF!"}},{"$f":"IF(#REF!=\"\", \"\",#REF!)","v":{"$error":"#REF!"}},{"$f":"IF(#REF!=\"\", \"\",#REF!)","v":{"$error":"#REF!"}},{"$f":"IF(#REF!=\"\", \"\",#REF!)","v":{"$error":"#REF!"}},{"$f":"IF(#REF!=\"\", \"\",#REF!)","v":{"$error":"#REF!"}},{"$f":"IF(#REF!=\"\", \"\",#REF!)","v":{"$error":"#REF!"}},{"$f":"IF(#REF!=\"\", \"\",#REF!)","v":{"$error":"#REF!"}},{"$f":"IF(#REF!=\"\", \"\",#REF!)","v":{"$error":"#REF!"}},{"$f":"IF(#REF!=\"\", \"\",#REF!)","v":{"$error":"#REF!"}},{"$f":"IF(#REF!=\"\", \"\",#REF!)","v":{"$error":"#REF!"}},{"$f":"IF(#REF!=\"\", \"\",#REF!)","v":{"$error":"#REF!"}},{"$f":"IF(#REF!=\"\", \"\",#REF!)","v":{"$error":"#REF!"}},{"$f":"IF(#REF!=\"\", \"\",#REF!)","v":{"$error":"#REF!"}},{"$f":"IF(#REF!=\"\", \"\",#REF!)","v":{"$error":"#REF!"}},{"$f":"IF(#REF!=\"\", \"\",#REF!)","v":{"$error":"#REF!"}},{"$f":"IF(#REF!=\"\", \"\",#REF!)","v":{"$error":"#REF!"}},{"$f":"IF(#REF!=\"\", \"\",#REF!)","v":{"$error":"#REF!"}},{"$f":"IF(#REF!=\"\", \"\",#REF!)","v":{"$error":"#REF!"}},{"$f":"IF(#REF!=\"\", \"\",#REF!)","v":{"$error":"#REF!"}},{"$f":"IF(#REF!=\"\", \"\",#REF!)","v":{"$error":"#REF!"}},{"$f":"IF(#REF!=\"\", \"\",#REF!)","v":{"$error":"#REF!"}},{"$f":"IF(#REF!=\"\", \"\",#REF!)","v":{"$error":"#REF!"}},{"$f":"IF(#REF!=\"\", \"\",#REF!)","v":{"$error":"#REF!"}},{"$f":"IF(#REF!=\"\", \"\",#REF!)","v":{"$error":"#REF!"}},{"$f":"IF(#REF!=\"\", \"\",#REF!)","v":{"$error":"#REF!"}},{"$f":"IF(#REF!=\"\", \"\",#REF!)","v":{"$error":"#REF!"}},{"$f":"IF(#REF!=\"\", \"\",#REF!)","v":{"$error":"#REF!"}},{"$f":"IF(#REF!=\"\", \"\",#REF!)","v":{"$error":"#REF!"}},{"$f":"IF(#REF!=\"\", \"\",#REF!)","v":{"$error":"#REF!"}},{"$f":"IF(#REF!=\"\", \"\",#REF!)","v":{"$error":"#REF!"}},{"$f":"IF(#REF!=\"\", \"\",#REF!)","v":{"$error":"#REF!"}},{"$f":"IF(#REF!=\"\", \"\",#REF!)","v":{"$error":"#REF!"}},{"$f":"IF(#REF!=\"\", \"\",#REF!)","v":{"$error":"#REF!"}},{"$f":"IF(#REF!=\"\", \"\",#REF!)","v":{"$error":"#REF!"}},{"$f":"IF(#REF!=\"\", \"\",#REF!)","v":{"$error":"#REF!"}},{"$f":"IF(#REF!=\"\", \"\",#REF!)","v":{"$error":"#REF!"}},{"$f":"IF(#REF!=\"\", \"\",#REF!)","v":{"$error":"#REF!"}},{"$f":"IF(#REF!=\"\", \"\",#REF!)","v":{"$error":"#REF!"}},{"$f":"IF(#REF!=\"\", \"\",#REF!)","v":{"$error":"#REF!"}}]
["Item 49",{"$f":"IF(#REF!=\"\", \"\",#REF!)","v":{"$error":"#REF!"}},{"$f":"IF(#REF!=\"\", \"\",#REF!)","v":{"$error":"#REF!"}},{"$f":"IF(#REF!=\"\", \"\",#REF!)","v":{"$error":"#REF!"}},{"$f":"IF(#REF!=\"\", \"\",#REF!)","v":{"$error":"#REF!"}},{"$f":"IF(#REF!=\"\", \"\",#REF!)","v":{"$error":"#REF!"}},{"$f":"IF(#REF!=\"\", \"\",#REF!)","v":{"$error":"#REF!"}},{"$f":"IF(#REF!=\"\", \"\",#REF!)","v":{"$error":"#REF!"}},{"$f":"IF(#REF!=\"\", \"\",#REF!)","v":{"$error":"#REF!"}},{"$f":"IF(#REF!=\"\", \"\",#REF!)","v":{"$error":"#REF!"}},{"$f":"IF(#REF!=\"\", \"\",#REF!)","v":{"$error":"#REF!"}},{"$f":"IF(#REF!=\"\", \"\",#REF!)","v":{"$error":"#REF!"}},{"$f":"IF(#REF!=\"\", \"\",#REF!)","v":{"$error":"#REF!"}},{"$f":"IF(#REF!=\"\", \"\",#REF!)","v":{"$error":"#REF!"}},{"$f":"IF(#REF!=\"\", \"\",#REF!)","v":{"$error":"#REF!"}},{"$f":"IF(#REF!=\"\", \"\",#REF!)","v":{"$error":"#REF!"}},{"$f":"IF(#REF!=\"\", \"\",#REF!)","v":{"$error":"#REF!"}},{"$f":"IF(#REF!=\"\", \"\",#REF!)","v":{"$error":"#REF!"}},{"$f":"IF(#REF!=\"\", \"\",#REF!)","v":{"$error":"#REF!"}},{"$f":"IF(#REF!=\"\", \"\",#REF!)","v":{"$error":"#REF!"}},{"$f":"IF(#REF!=\"\", \"\",#REF!)","v":{"$error":"#REF!"}},{"$f":"IF(#REF!=\"\", \"\",#REF!)","v":{"$error":"#REF!"}},{"$f":"IF(#REF!=\"\", \"\",#REF!)","v":{"$error":"#REF!"}},{"$f":"IF(#REF!=\"\", \"\",#REF!)","v":{"$error":"#REF!"}},{"$f":"IF(#REF!=\"\", \"\",#REF!)","v":{"$error":"#REF!"}},{"$f":"IF(#REF!=\"\", \"\",#REF!)","v":{"$error":"#REF!"}},{"$f":"IF(#REF!=\"\", \"\",#REF!)","v":{"$error":"#REF!"}},{"$f":"IF(#REF!=\"\", \"\",#REF!)","v":{"$error":"#REF!"}},{"$f":"IF(#REF!=\"\", \"\",#REF!)","v":{"$error":"#REF!"}},{"$f":"IF(#REF!=\"\", \"\",#REF!)","v":{"$error":"#REF!"}},{"$f":"IF(#REF!=\"\", \"\",#REF!)","v":{"$error":"#REF!"}},{"$f":"IF(#REF!=\"\", \"\",#REF!)","v":{"$error":"#REF!"}},{"$f":"IF(#REF!=\"\", \"\",#REF!)","v":{"$error":"#REF!"}},{"$f":"IF(#REF!=\"\", \"\",#REF!)","v":{"$error":"#REF!"}},{"$f":"IF(#REF!=\"\", \"\",#REF!)","v":{"$error":"#REF!"}},{"$f":"IF(#REF!=\"\", \"\",#REF!)","v":{"$error":"#REF!"}},{"$f":"IF(#REF!=\"\", \"\",#REF!)","v":{"$error":"#REF!"}},{"$f":"IF(#REF!=\"\", \"\",#REF!)","v":{"$error":"#REF!"}},{"$f":"IF(#REF!=\"\", \"\",#REF!)","v":{"$error":"#REF!"}},{"$f":"IF(#REF!=\"\", \"\",#REF!)","v":{"$error":"#REF!"}},{"$f":"IF(#REF!=\"\", \"\",#REF!)","v":{"$error":"#REF!"}},{"$f":"IF(#REF!=\"\", \"\",#REF!)","v":{"$error":"#REF!"}},{"$f":"IF(#REF!=\"\", \"\",#REF!)","v":{"$error":"#REF!"}},{"$f":"IF(#REF!=\"\", \"\",#REF!)","v":{"$error":"#REF!"}},{"$f":"IF(#REF!=\"\", \"\",#REF!)","v":{"$error":"#REF!"}},{"$f":"IF(#REF!=\"\", \"\",#REF!)","v":{"$error":"#REF!"}},{"$f":"IF(#REF!=\"\", \"\",#REF!)","v":{"$error":"#REF!"}},{"$f":"IF(#REF!=\"\", \"\",#REF!)","v":{"$error":"#REF!"}},{"$f":"IF(#REF!=\"\", \"\",#REF!)","v":{"$error":"#REF!"}},{"$f":"IF(#REF!=\"\", \"\",#REF!)","v":{"$error":"#REF!"}},{"$f":"IF(#REF!=\"\", \"\",#REF!)","v":{"$error":"#REF!"}},{"$f":"IF(#REF!=\"\", \"\",#REF!)","v":{"$error":"#REF!"}},{"$f":"IF(#REF!=\"\", \"\",#REF!)","v":{"$error":"#REF!"}},{"$f":"IF(#REF!=\"\", \"\",#REF!)","v":{"$error":"#REF!"}},{"$f":"IF(#REF!=\"\", \"\",#REF!)","v":{"$error":"#REF!"}},{"$f":"IF(#REF!=\"\", \"\",#REF!)","v":{"$error":"#REF!"}},{"$f":"IF(#REF!=\"\", \"\",#REF!)","v":{"$error":"#REF!"}},{"$f":"IF(#REF!=\"\", \"\",#REF!)","v":{"$error":"#REF!"}},{"$f":"IF(#REF!=\"\", \"\",#REF!)","v":{"$error":"#REF!"}},{"$f":"IF(#REF!=\"\", \"\",#REF!)","v":{"$error":"#REF!"}},{"$f":"IF(#REF!=\"\", \"\",#REF!)","v":{"$error":"#REF!"}},{"$f":"IF(#REF!=\"\", \"\",#REF!)","v":{"$error":"#REF!"}}]
["Item 50",{"$f":"IF(#REF!=\"\", \"\",#REF!)","v":{"$error":"#REF!"}},{"$f":"IF(#REF!=\"\", \"\",#REF!)","v":{"$error":"#REF!"}},{"$f":"IF(#REF!=\"\", \"\",#REF!)","v":{"$error":"#REF!"}},{"$f":"IF(#REF!=\"\", \"\",#REF!)","v":{"$error":"#REF!"}},{"$f":"IF(#REF!=\"\", \"\",#REF!)","v":{"$error":"#REF!"}},{"$f":"IF(#REF!=\"\", \"\",#REF!)","v":{"$error":"#REF!"}},{"$f":"IF(#REF!=\"\", \"\",#REF!)","v":{"$error":"#REF!"}},{"$f":"IF(#REF!=\"\", \"\",#REF!)","v":{"$error":"#REF!"}},{"$f":"IF(#REF!=\"\", \"\",#REF!)","v":{"$error":"#REF!"}},{"$f":"IF(#REF!=\"\", \"\",#REF!)","v":{"$error":"#REF!"}},{"$f":"IF(#REF!=\"\", \"\",#REF!)","v":{"$error":"#REF!"}},{"$f":"IF(#REF!=\"\", \"\",#REF!)","v":{"$error":"#REF!"}},{"$f":"IF(#REF!=\"\", \"\",#REF!)","v":{"$error":"#REF!"}},{"$f":"IF(#REF!=\"\", \"\",#REF!)","v":{"$error":"#REF!"}},{"$f":"IF(#REF!=\"\", \"\",#REF!)","v":{"$error":"#REF!"}},{"$f":"IF(#REF!=\"\", \"\",#REF!)","v":{"$error":"#REF!"}},{"$f":"IF(#REF!=\"\", \"\",#REF!)","v":{"$error":"#REF!"}},{"$f":"IF(#REF!=\"\", \"\",#REF!)","v":{"$error":"#REF!"}},{"$f":"IF(#REF!=\"\", \"\",#REF!)","v":{"$error":"#REF!"}},{"$f":"IF(#REF!=\"\", \"\",#REF!)","v":{"$error":"#REF!"}},{"$f":"IF(#REF!=\"\", \"\",#REF!)","v":{"$error":"#REF!"}},{"$f":"IF(#REF!=\"\", \"\",#REF!)","v":{"$error":"#REF!"}},{"$f":"IF(#REF!=\"\", \"\",#REF!)","v":{"$error":"#REF!"}},{"$f":"IF(#REF!=\"\", \"\",#REF!)","v":{"$error":"#REF!"}},{"$f":"IF(#REF!=\"\", \"\",#REF!)","v":{"$error":"#REF!"}},{"$f":"IF(#REF!=\"\", \"\",#REF!)","v":{"$error":"#REF!"}},{"$f":"IF(#REF!=\"\", \"\",#REF!)","v":{"$error":"#REF!"}},{"$f":"IF(#REF!=\"\", \"\",#REF!)","v":{"$error":"#REF!"}},{"$f":"IF(#REF!=\"\", \"\",#REF!)","v":{"$error":"#REF!"}},{"$f":"IF(#REF!=\"\", \"\",#REF!)","v":{"$error":"#REF!"}},{"$f":"IF(#REF!=\"\", \"\",#REF!)","v":{"$error":"#REF!"}},{"$f":"IF(#REF!=\"\", \"\",#REF!)","v":{"$error":"#REF!"}},{"$f":"IF(#REF!=\"\", \"\",#REF!)","v":{"$error":"#REF!"}},{"$f":"IF(#REF!=\"\", \"\",#REF!)","v":{"$error":"#REF!"}},{"$f":"IF(#REF!=\"\", \"\",#REF!)","v":{"$error":"#REF!"}},{"$f":"IF(#REF!=\"\", \"\",#REF!)","v":{"$error":"#REF!"}},{"$f":"IF(#REF!=\"\", \"\",#REF!)","v":{"$error":"#REF!"}},{"$f":"IF(#REF!=\"\", \"\",#REF!)","v":{"$error":"#REF!"}},{"$f":"IF(#REF!=\"\", \"\",#REF!)","v":{"$error":"#REF!"}},{"$f":"IF(#REF!=\"\", \"\",#REF!)","v":{"$error":"#REF!"}},{"$f":"IF(#REF!=\"\", \"\",#REF!)","v":{"$error":"#REF!"}},{"$f":"IF(#REF!=\"\", \"\",#REF!)","v":{"$error":"#REF!"}},{"$f":"IF(#REF!=\"\", \"\",#REF!)","v":{"$error":"#REF!"}},{"$f":"IF(#REF!=\"\", \"\",#REF!)","v":{"$error":"#REF!"}},{"$f":"IF(#REF!=\"\", \"\",#REF!)","v":{"$error":"#REF!"}},{"$f":"IF(#REF!=\"\", \"\",#REF!)","v":{"$error":"#REF!"}},{"$f":"IF(#REF!=\"\", \"\",#REF!)","v":{"$error":"#REF!"}},{"$f":"IF(#REF!=\"\", \"\",#REF!)","v":{"$error":"#REF!"}},{"$f":"IF(#REF!=\"\", \"\",#REF!)","v":{"$error":"#REF!"}},{"$f":"IF(#REF!=\"\", \"\",#REF!)","v":{"$error":"#REF!"}},{"$f":"IF(#REF!=\"\", \"\",#REF!)","v":{"$error":"#REF!"}},{"$f":"IF(#REF!=\"\", \"\",#REF!)","v":{"$error":"#REF!"}},{"$f":"IF(#REF!=\"\", \"\",#REF!)","v":{"$error":"#REF!"}},{"$f":"IF(#REF!=\"\", \"\",#REF!)","v":{"$error":"#REF!"}},{"$f":"IF(#REF!=\"\", \"\",#REF!)","v":{"$error":"#REF!"}},{"$f":"IF(#REF!=\"\", \"\",#REF!)","v":{"$error":"#REF!"}},{"$f":"IF(#REF!=\"\", \"\",#REF!)","v":{"$error":"#REF!"}},{"$f":"IF(#REF!=\"\", \"\",#REF!)","v":{"$error":"#REF!"}},{"$f":"IF(#REF!=\"\", \"\",#REF!)","v":{"$error":"#REF!"}},{"$f":"IF(#REF!=\"\", \"\",#REF!)","v":{"$error":"#REF!"}},{"$f":"IF(#REF!=\"\", \"\",#REF!)","v":{"$error":"#REF!"}}]
["Item 51",{"$f":"IF(#REF!=\"\", \"\",#REF!)","v":{"$error":"#REF!"}},{"$f":"IF(#REF!=\"\", \"\",#REF!)","v":{"$error":"#REF!"}},{"$f":"IF(#REF!=\"\", \"\",#REF!)","v":{"$error":"#REF!"}},{"$f":"IF(#REF!=\"\", \"\",#REF!)","v":{"$error":"#REF!"}},{"$f":"IF(#REF!=\"\", \"\",#REF!)","v":{"$error":"#REF!"}},{"$f":"IF(#REF!=\"\", \"\",#REF!)","v":{"$error":"#REF!"}},{"$f":"IF(#REF!=\"\", \"\",#REF!)","v":{"$error":"#REF!"}},{"$f":"IF(#REF!=\"\", \"\",#REF!)","v":{"$error":"#REF!"}},{"$f":"IF(#REF!=\"\", \"\",#REF!)","v":{"$error":"#REF!"}},{"$f":"IF(#REF!=\"\", \"\",#REF!)","v":{"$error":"#REF!"}},{"$f":"IF(#REF!=\"\", \"\",#REF!)","v":{"$error":"#REF!"}},{"$f":"IF(#REF!=\"\", \"\",#REF!)","v":{"$error":"#REF!"}},{"$f":"IF(#REF!=\"\", \"\",#REF!)","v":{"$error":"#REF!"}},{"$f":"IF(#REF!=\"\", \"\",#REF!)","v":{"$error":"#REF!"}},{"$f":"IF(#REF!=\"\", \"\",#REF!)","v":{"$error":"#REF!"}},{"$f":"IF(#REF!=\"\", \"\",#REF!)","v":{"$error":"#REF!"}},{"$f":"IF(#REF!=\"\", \"\",#REF!)","v":{"$error":"#REF!"}},{"$f":"IF(#REF!=\"\", \"\",#REF!)","v":{"$error":"#REF!"}},{"$f":"IF(#REF!=\"\", \"\",#REF!)","v":{"$error":"#REF!"}},{"$f":"IF(#REF!=\"\", \"\",#REF!)","v":{"$error":"#REF!"}},{"$f":"IF(#REF!=\"\", \"\",#REF!)","v":{"$error":"#REF!"}},{"$f":"IF(#REF!=\"\", \"\",#REF!)","v":{"$error":"#REF!"}},{"$f":"IF(#REF!=\"\", \"\",#REF!)","v":{"$error":"#REF!"}},{"$f":"IF(#REF!=\"\", \"\",#REF!)","v":{"$error":"#REF!"}},{"$f":"IF(#REF!=\"\", \"\",#REF!)","v":{"$error":"#REF!"}},{"$f":"IF(#REF!=\"\", \"\",#REF!)","v":{"$error":"#REF!"}},{"$f":"IF(#REF!=\"\", \"\",#REF!)","v":{"$error":"#REF!"}},{"$f":"IF(#REF!=\"\", \"\",#REF!)","v":{"$error":"#REF!"}},{"$f":"IF(#REF!=\"\", \"\",#REF!)","v":{"$error":"#REF!"}},{"$f":"IF(#REF!=\"\", \"\",#REF!)","v":{"$error":"#REF!"}},{"$f":"IF(#REF!=\"\", \"\",#REF!)","v":{"$error":"#REF!"}},{"$f":"IF(#REF!=\"\", \"\",#REF!)","v":{"$error":"#REF!"}},{"$f":"IF(#REF!=\"\", \"\",#REF!)","v":{"$error":"#REF!"}},{"$f":"IF(#REF!=\"\", \"\",#REF!)","v":{"$error":"#REF!"}},{"$f":"IF(#REF!=\"\", \"\",#REF!)","v":{"$error":"#REF!"}},{"$f":"IF(#REF!=\"\", \"\",#REF!)","v":{"$error":"#REF!"}},{"$f":"IF(#REF!=\"\", \"\",#REF!)","v":{"$error":"#REF!"}},{"$f":"IF(#REF!=\"\", \"\",#REF!)","v":{"$error":"#REF!"}},{"$f":"IF(#REF!=\"\", \"\",#REF!)","v":{"$error":"#REF!"}},{"$f":"IF(#REF!=\"\", \"\",#REF!)","v":{"$error":"#REF!"}},{"$f":"IF(#REF!=\"\", \"\",#REF!)","v":{"$error":"#REF!"}},{"$f":"IF(#REF!=\"\", \"\",#REF!)","v":{"$error":"#REF!"}},{"$f":"IF(#REF!=\"\", \"\",#REF!)","v":{"$error":"#REF!"}},{"$f":"IF(#REF!=\"\", \"\",#REF!)","v":{"$error":"#REF!"}},{"$f":"IF(#REF!=\"\", \"\",#REF!)","v":{"$error":"#REF!"}},{"$f":"IF(#REF!=\"\", \"\",#REF!)","v":{"$error":"#REF!"}},{"$f":"IF(#REF!=\"\", \"\",#REF!)","v":{"$error":"#REF!"}},{"$f":"IF(#REF!=\"\", \"\",#REF!)","v":{"$error":"#REF!"}},{"$f":"IF(#REF!=\"\", \"\",#REF!)","v":{"$error":"#REF!"}},{"$f":"IF(#REF!=\"\", \"\",#REF!)","v":{"$error":"#REF!"}},{"$f":"IF(#REF!=\"\", \"\",#REF!)","v":{"$error":"#REF!"}},{"$f":"IF(#REF!=\"\", \"\",#REF!)","v":{"$error":"#REF!"}},{"$f":"IF(#REF!=\"\", \"\",#REF!)","v":{"$error":"#REF!"}},{"$f":"IF(#REF!=\"\", \"\",#REF!)","v":{"$error":"#REF!"}},{"$f":"IF(#REF!=\"\", \"\",#REF!)","v":{"$error":"#REF!"}},{"$f":"IF(#REF!=\"\", \"\",#REF!)","v":{"$error":"#REF!"}},{"$f":"IF(#REF!=\"\", \"\",#REF!)","v":{"$error":"#REF!"}},{"$f":"IF(#REF!=\"\", \"\",#REF!)","v":{"$error":"#REF!"}},{"$f":"IF(#REF!=\"\", \"\",#REF!)","v":{"$error":"#REF!"}},{"$f":"IF(#REF!=\"\", \"\",#REF!)","v":{"$error":"#REF!"}},{"$f":"IF(#REF!=\"\", \"\",#REF!)","v":{"$error":"#REF!"}}]
["Item 52",{"$f":"IF(#REF!=\"\", \"\",#REF!)","v":{"$error":"#REF!"}},{"$f":"IF(#REF!=\"\", \"\",#REF!)","v":{"$error":"#REF!"}},{"$f":"IF(#REF!=\"\", \"\",#REF!)","v":{"$error":"#REF!"}},{"$f":"IF(#REF!=\"\", \"\",#REF!)","v":{"$error":"#REF!"}},{"$f":"IF(#REF!=\"\", \"\",#REF!)","v":{"$error":"#REF!"}},{"$f":"IF(#REF!=\"\", \"\",#REF!)","v":{"$error":"#REF!"}},{"$f":"IF(#REF!=\"\", \"\",#REF!)","v":{"$error":"#REF!"}},{"$f":"IF(#REF!=\"\", \"\",#REF!)","v":{"$error":"#REF!"}},{"$f":"IF(#REF!=\"\", \"\",#REF!)","v":{"$error":"#REF!"}},{"$f":"IF(#REF!=\"\", \"\",#REF!)","v":{"$error":"#REF!"}},{"$f":"IF(#REF!=\"\", \"\",#REF!)","v":{"$error":"#REF!"}},{"$f":"IF(#REF!=\"\", \"\",#REF!)","v":{"$error":"#REF!"}},{"$f":"IF(#REF!=\"\", \"\",#REF!)","v":{"$error":"#REF!"}},{"$f":"IF(#REF!=\"\", \"\",#REF!)","v":{"$error":"#REF!"}},{"$f":"IF(#REF!=\"\", \"\",#REF!)","v":{"$error":"#REF!"}},{"$f":"IF(#REF!=\"\", \"\",#REF!)","v":{"$error":"#REF!"}},{"$f":"IF(#REF!=\"\", \"\",#REF!)","v":{"$error":"#REF!"}},{"$f":"IF(#REF!=\"\", \"\",#REF!)","v":{"$error":"#REF!"}},{"$f":"IF(#REF!=\"\", \"\",#REF!)","v":{"$error":"#REF!"}},{"$f":"IF(#REF!=\"\", \"\",#REF!)","v":{"$error":"#REF!"}},{"$f":"IF(#REF!=\"\", \"\",#REF!)","v":{"$error":"#REF!"}},{"$f":"IF(#REF!=\"\", \"\",#REF!)","v":{"$error":"#REF!"}},{"$f":"IF(#REF!=\"\", \"\",#REF!)","v":{"$error":"#REF!"}},{"$f":"IF(#REF!=\"\", \"\",#REF!)","v":{"$error":"#REF!"}},{"$f":"IF(#REF!=\"\", \"\",#REF!)","v":{"$error":"#REF!"}},{"$f":"IF(#REF!=\"\", \"\",#REF!)","v":{"$error":"#REF!"}},{"$f":"IF(#REF!=\"\", \"\",#REF!)","v":{"$error":"#REF!"}},{"$f":"IF(#REF!=\"\", \"\",#REF!)","v":{"$error":"#REF!"}},{"$f":"IF(#REF!=\"\", \"\",#REF!)","v":{"$error":"#REF!"}},{"$f":"IF(#REF!=\"\", \"\",#REF!)","v":{"$error":"#REF!"}},{"$f":"IF(#REF!=\"\", \"\",#REF!)","v":{"$error":"#REF!"}},{"$f":"IF(#REF!=\"\", \"\",#REF!)","v":{"$error":"#REF!"}},{"$f":"IF(#REF!=\"\", \"\",#REF!)","v":{"$error":"#REF!"}},{"$f":"IF(#REF!=\"\", \"\",#REF!)","v":{"$error":"#REF!"}},{"$f":"IF(#REF!=\"\", \"\",#REF!)","v":{"$error":"#REF!"}},{"$f":"IF(#REF!=\"\", \"\",#REF!)","v":{"$error":"#REF!"}},{"$f":"IF(#REF!=\"\", \"\",#REF!)","v":{"$error":"#REF!"}},{"$f":"IF(#REF!=\"\", \"\",#REF!)","v":{"$error":"#REF!"}},{"$f":"IF(#REF!=\"\", \"\",#REF!)","v":{"$error":"#REF!"}},{"$f":"IF(#REF!=\"\", \"\",#REF!)","v":{"$error":"#REF!"}},{"$f":"IF(#REF!=\"\", \"\",#REF!)","v":{"$error":"#REF!"}},{"$f":"IF(#REF!=\"\", \"\",#REF!)","v":{"$error":"#REF!"}},{"$f":"IF(#REF!=\"\", \"\",#REF!)","v":{"$error":"#REF!"}},{"$f":"IF(#REF!=\"\", \"\",#REF!)","v":{"$error":"#REF!"}},{"$f":"IF(#REF!=\"\", \"\",#REF!)","v":{"$error":"#REF!"}},{"$f":"IF(#REF!=\"\", \"\",#REF!)","v":{"$error":"#REF!"}},{"$f":"IF(#REF!=\"\", \"\",#REF!)","v":{"$error":"#REF!"}},{"$f":"IF(#REF!=\"\", \"\",#REF!)","v":{"$error":"#REF!"}},{"$f":"IF(#REF!=\"\", \"\",#REF!)","v":{"$error":"#REF!"}},{"$f":"IF(#REF!=\"\", \"\",#REF!)","v":{"$error":"#REF!"}},{"$f":"IF(#REF!=\"\", \"\",#REF!)","v":{"$error":"#REF!"}},{"$f":"IF(#REF!=\"\", \"\",#REF!)","v":{"$error":"#REF!"}},{"$f":"IF(#REF!=\"\", \"\",#REF!)","v":{"$error":"#REF!"}},{"$f":"IF(#REF!=\"\", \"\",#REF!)","v":{"$error":"#REF!"}},{"$f":"IF(#REF!=\"\", \"\",#REF!)","v":{"$error":"#REF!"}},{"$f":"IF(#REF!=\"\", \"\",#REF!)","v":{"$error":"#REF!"}},{"$f":"IF(#REF!=\"\", \"\",#REF!)","v":{"$error":"#REF!"}},{"$f":"IF(#REF!=\"\", \"\",#REF!)","v":{"$error":"#REF!"}},{"$f":"IF(#REF!=\"\", \"\",#REF!)","v":{"$error":"#REF!"}},{"$f":"IF(#REF!=\"\", \"\",#REF!)","v":{"$error":"#REF!"}},{"$f":"IF(#REF!=\"\", \"\",#REF!)","v":{"$error":"#REF!"}}]
["Item 53",{"$f":"IF(#REF!=\"\", \"\",#REF!)","v":{"$error":"#REF!"}},{"$f":"IF(#REF!=\"\", \"\",#REF!)","v":{"$error":"#REF!"}},{"$f":"IF(#REF!=\"\", \"\",#REF!)","v":{"$error":"#REF!"}},{"$f":"IF(#REF!=\"\", \"\",#REF!)","v":{"$error":"#REF!"}},{"$f":"IF(#REF!=\"\", \"\",#REF!)","v":{"$error":"#REF!"}},{"$f":"IF(#REF!=\"\", \"\",#REF!)","v":{"$error":"#REF!"}},{"$f":"IF(#REF!=\"\", \"\",#REF!)","v":{"$error":"#REF!"}},{"$f":"IF(#REF!=\"\", \"\",#REF!)","v":{"$error":"#REF!"}},{"$f":"IF(#REF!=\"\", \"\",#REF!)","v":{"$error":"#REF!"}},{"$f":"IF(#REF!=\"\", \"\",#REF!)","v":{"$error":"#REF!"}},{"$f":"IF(#REF!=\"\", \"\",#REF!)","v":{"$error":"#REF!"}},{"$f":"IF(#REF!=\"\", \"\",#REF!)","v":{"$error":"#REF!"}},{"$f":"IF(#REF!=\"\", \"\",#REF!)","v":{"$error":"#REF!"}},{"$f":"IF(#REF!=\"\", \"\",#REF!)","v":{"$error":"#REF!"}},{"$f":"IF(#REF!=\"\", \"\",#REF!)","v":{"$error":"#REF!"}},{"$f":"IF(#REF!=\"\", \"\",#REF!)","v":{"$error":"#REF!"}},{"$f":"IF(#REF!=\"\", \"\",#REF!)","v":{"$error":"#REF!"}},{"$f":"IF(#REF!=\"\", \"\",#REF!)","v":{"$error":"#REF!"}},{"$f":"IF(#REF!=\"\", \"\",#REF!)","v":{"$error":"#REF!"}},{"$f":"IF(#REF!=\"\", \"\",#REF!)","v":{"$error":"#REF!"}},{"$f":"IF(#REF!=\"\", \"\",#REF!)","v":{"$error":"#REF!"}},{"$f":"IF(#REF!=\"\", \"\",#REF!)","v":{"$error":"#REF!"}},{"$f":"IF(#REF!=\"\", \"\",#REF!)","v":{"$error":"#REF!"}},{"$f":"IF(#REF!=\"\", \"\",#REF!)","v":{"$error":"#REF!"}},{"$f":"IF(#REF!=\"\", \"\",#REF!)","v":{"$error":"#REF!"}},{"$f":"IF(#REF!=\"\", \"\",#REF!)","v":{"$error":"#REF!"}},{"$f":"IF(#REF!=\"\", \"\",#REF!)","v":{"$error":"#REF!"}},{"$f":"IF(#REF!=\"\", \"\",#REF!)","v":{"$error":"#REF!"}},{"$f":"IF(#REF!=\"\", \"\",#REF!)","v":{"$error":"#REF!"}},{"$f":"IF(#REF!=\"\", \"\",#REF!)","v":{"$error":"#REF!"}},{"$f":"IF(#REF!=\"\", \"\",#REF!)","v":{"$error":"#REF!"}},{"$f":"IF(#REF!=\"\", \"\",#REF!)","v":{"$error":"#REF!"}},{"$f":"IF(#REF!=\"\", \"\",#REF!)","v":{"$error":"#REF!"}},{"$f":"IF(#REF!=\"\", \"\",#REF!)","v":{"$error":"#REF!"}},{"$f":"IF(#REF!=\"\", \"\",#REF!)","v":{"$error":"#REF!"}},{"$f":"IF(#REF!=\"\", \"\",#REF!)","v":{"$error":"#REF!"}},{"$f":"IF(#REF!=\"\", \"\",#REF!)","v":{"$error":"#REF!"}},{"$f":"IF(#REF!=\"\", \"\",#REF!)","v":{"$error":"#REF!"}},{"$f":"IF(#REF!=\"\", \"\",#REF!)","v":{"$error":"#REF!"}},{"$f":"IF(#REF!=\"\", \"\",#REF!)","v":{"$error":"#REF!"}},{"$f":"IF(#REF!=\"\", \"\",#REF!)","v":{"$error":"#REF!"}},{"$f":"IF(#REF!=\"\", \"\",#REF!)","v":{"$error":"#REF!"}},{"$f":"IF(#REF!=\"\", \"\",#REF!)","v":{"$error":"#REF!"}},{"$f":"IF(#REF!=\"\", \"\",#REF!)","v":{"$error":"#REF!"}},{"$f":"IF(#REF!=\"\", \"\",#REF!)","v":{"$error":"#REF!"}},{"$f":"IF(#REF!=\"\", \"\",#REF!)","v":{"$error":"#REF!"}},{"$f":"IF(#REF!=\"\", \"\",#REF!)","v":{"$error":"#REF!"}},{"$f":"IF(#REF!=\"\", \"\",#REF!)","v":{"$error":"#REF!"}},{"$f":"IF(#REF!=\"\", \"\",#REF!)","v":{"$error":"#REF!"}},{"$f":"IF(#REF!=\"\", \"\",#REF!)","v":{"$error":"#REF!"}},{"$f":"IF(#REF!=\"\", \"\",#REF!)","v":{"$error":"#REF!"}},{"$f":"IF(#REF!=\"\", \"\",#REF!)","v":{"$error":"#REF!"}},{"$f":"IF(#REF!=\"\", \"\",#REF!)","v":{"$error":"#REF!"}},{"$f":"IF(#REF!=\"\", \"\",#REF!)","v":{"$error":"#REF!"}},{"$f":"IF(#REF!=\"\", \"\",#REF!)","v":{"$error":"#REF!"}},{"$f":"IF(#REF!=\"\", \"\",#REF!)","v":{"$error":"#REF!"}},{"$f":"IF(#REF!=\"\", \"\",#REF!)","v":{"$error":"#REF!"}},{"$f":"IF(#REF!=\"\", \"\",#REF!)","v":{"$error":"#REF!"}},{"$f":"IF(#REF!=\"\", \"\",#REF!)","v":{"$error":"#REF!"}},{"$f":"IF(#REF!=\"\", \"\",#REF!)","v":{"$error":"#REF!"}},{"$f":"IF(#REF!=\"\", \"\",#REF!)","v":{"$error":"#REF!"}}]
["Item 54",{"$f":"IF(#REF!=\"\", \"\",#REF!)","v":{"$error":"#REF!"}},{"$f":"IF(#REF!=\"\", \"\",#REF!)","v":{"$error":"#REF!"}},{"$f":"IF(#REF!=\"\", \"\",#REF!)","v":{"$error":"#REF!"}},{"$f":"IF(#REF!=\"\", \"\",#REF!)","v":{"$error":"#REF!"}},{"$f":"IF(#REF!=\"\", \"\",#REF!)","v":{"$error":"#REF!"}},{"$f":"IF(#REF!=\"\", \"\",#REF!)","v":{"$error":"#REF!"}},{"$f":"IF(#REF!=\"\", \"\",#REF!)","v":{"$error":"#REF!"}},{"$f":"IF(#REF!=\"\", \"\",#REF!)","v":{"$error":"#REF!"}},{"$f":"IF(#REF!=\"\", \"\",#REF!)","v":{"$error":"#REF!"}},{"$f":"IF(#REF!=\"\", \"\",#REF!)","v":{"$error":"#REF!"}},{"$f":"IF(#REF!=\"\", \"\",#REF!)","v":{"$error":"#REF!"}},{"$f":"IF(#REF!=\"\", \"\",#REF!)","v":{"$error":"#REF!"}},{"$f":"IF(#REF!=\"\", \"\",#REF!)","v":{"$error":"#REF!"}},{"$f":"IF(#REF!=\"\", \"\",#REF!)","v":{"$error":"#REF!"}},{"$f":"IF(#REF!=\"\", \"\",#REF!)","v":{"$error":"#REF!"}},{"$f":"IF(#REF!=\"\", \"\",#REF!)","v":{"$error":"#REF!"}},{"$f":"IF(#REF!=\"\", \"\",#REF!)","v":{"$error":"#REF!"}},{"$f":"IF(#REF!=\"\", \"\",#REF!)","v":{"$error":"#REF!"}},{"$f":"IF(#REF!=\"\", \"\",#REF!)","v":{"$error":"#REF!"}},{"$f":"IF(#REF!=\"\", \"\",#REF!)","v":{"$error":"#REF!"}},{"$f":"IF(#REF!=\"\", \"\",#REF!)","v":{"$error":"#REF!"}},{"$f":"IF(#REF!=\"\", \"\",#REF!)","v":{"$error":"#REF!"}},{"$f":"IF(#REF!=\"\", \"\",#REF!)","v":{"$error":"#REF!"}},{"$f":"IF(#REF!=\"\", \"\",#REF!)","v":{"$error":"#REF!"}},{"$f":"IF(#REF!=\"\", \"\",#REF!)","v":{"$error":"#REF!"}},{"$f":"IF(#REF!=\"\", \"\",#REF!)","v":{"$error":"#REF!"}},{"$f":"IF(#REF!=\"\", \"\",#REF!)","v":{"$error":"#REF!"}},{"$f":"IF(#REF!=\"\", \"\",#REF!)","v":{"$error":"#REF!"}},{"$f":"IF(#REF!=\"\", \"\",#REF!)","v":{"$error":"#REF!"}},{"$f":"IF(#REF!=\"\", \"\",#REF!)","v":{"$error":"#REF!"}},{"$f":"IF(#REF!=\"\", \"\",#REF!)","v":{"$error":"#REF!"}},{"$f":"IF(#REF!=\"\", \"\",#REF!)","v":{"$error":"#REF!"}},{"$f":"IF(#REF!=\"\", \"\",#REF!)","v":{"$error":"#REF!"}},{"$f":"IF(#REF!=\"\", \"\",#REF!)","v":{"$error":"#REF!"}},{"$f":"IF(#REF!=\"\", \"\",#REF!)","v":{"$error":"#REF!"}},{"$f":"IF(#REF!=\"\", \"\",#REF!)","v":{"$error":"#REF!"}},{"$f":"IF(#REF!=\"\", \"\",#REF!)","v":{"$error":"#REF!"}},{"$f":"IF(#REF!=\"\", \"\",#REF!)","v":{"$error":"#REF!"}},{"$f":"IF(#REF!=\"\", \"\",#REF!)","v":{"$error":"#REF!"}},{"$f":"IF(#REF!=\"\", \"\",#REF!)","v":{"$error":"#REF!"}},{"$f":"IF(#REF!=\"\", \"\",#REF!)","v":{"$error":"#REF!"}},{"$f":"IF(#REF!=\"\", \"\",#REF!)","v":{"$error":"#REF!"}},{"$f":"IF(#REF!=\"\", \"\",#REF!)","v":{"$error":"#REF!"}},{"$f":"IF(#REF!=\"\", \"\",#REF!)","v":{"$error":"#REF!"}},{"$f":"IF(#REF!=\"\", \"\",#REF!)","v":{"$error":"#REF!"}},{"$f":"IF(#REF!=\"\", \"\",#REF!)","v":{"$error":"#REF!"}},{"$f":"IF(#REF!=\"\", \"\",#REF!)","v":{"$error":"#REF!"}},{"$f":"IF(#REF!=\"\", \"\",#REF!)","v":{"$error":"#REF!"}},{"$f":"IF(#REF!=\"\", \"\",#REF!)","v":{"$error":"#REF!"}},{"$f":"IF(#REF!=\"\", \"\",#REF!)","v":{"$error":"#REF!"}},{"$f":"IF(#REF!=\"\", \"\",#REF!)","v":{"$error":"#REF!"}},{"$f":"IF(#REF!=\"\", \"\",#REF!)","v":{"$error":"#REF!"}},{"$f":"IF(#REF!=\"\", \"\",#REF!)","v":{"$error":"#REF!"}},{"$f":"IF(#REF!=\"\", \"\",#REF!)","v":{"$error":"#REF!"}},{"$f":"IF(#REF!=\"\", \"\",#REF!)","v":{"$error":"#REF!"}},{"$f":"IF(#REF!=\"\", \"\",#REF!)","v":{"$error":"#REF!"}},{"$f":"IF(#REF!=\"\", \"\",#REF!)","v":{"$error":"#REF!"}},{"$f":"IF(#REF!=\"\", \"\",#REF!)","v":{"$error":"#REF!"}},{"$f":"IF(#REF!=\"\", \"\",#REF!)","v":{"$error":"#REF!"}},{"$f":"IF(#REF!=\"\", \"\",#REF!)","v":{"$error":"#REF!"}},{"$f":"IF(#REF!=\"\", \"\",#REF!)","v":{"$error":"#REF!"}}]
["Item 55",{"$f":"IF(#REF!=\"\", \"\",#REF!)","v":{"$error":"#REF!"}},{"$f":"IF(#REF!=\"\", \"\",#REF!)","v":{"$error":"#REF!"}},{"$f":"IF(#REF!=\"\", \"\",#REF!)","v":{"$error":"#REF!"}},{"$f":"IF(#REF!=\"\", \"\",#REF!)","v":{"$error":"#REF!"}},{"$f":"IF(#REF!=\"\", \"\",#REF!)","v":{"$error":"#REF!"}},{"$f":"IF(#REF!=\"\", \"\",#REF!)","v":{"$error":"#REF!"}},{"$f":"IF(#REF!=\"\", \"\",#REF!)","v":{"$error":"#REF!"}},{"$f":"IF(#REF!=\"\", \"\",#REF!)","v":{"$error":"#REF!"}},{"$f":"IF(#REF!=\"\", \"\",#REF!)","v":{"$error":"#REF!"}},{"$f":"IF(#REF!=\"\", \"\",#REF!)","v":{"$error":"#REF!"}},{"$f":"IF(#REF!=\"\", \"\",#REF!)","v":{"$error":"#REF!"}},{"$f":"IF(#REF!=\"\", \"\",#REF!)","v":{"$error":"#REF!"}},{"$f":"IF(#REF!=\"\", \"\",#REF!)","v":{"$error":"#REF!"}},{"$f":"IF(#REF!=\"\", \"\",#REF!)","v":{"$error":"#REF!"}},{"$f":"IF(#REF!=\"\", \"\",#REF!)","v":{"$error":"#REF!"}},{"$f":"IF(#REF!=\"\", \"\",#REF!)","v":{"$error":"#REF!"}},{"$f":"IF(#REF!=\"\", \"\",#REF!)","v":{"$error":"#REF!"}},{"$f":"IF(#REF!=\"\", \"\",#REF!)","v":{"$error":"#REF!"}},{"$f":"IF(#REF!=\"\", \"\",#REF!)","v":{"$error":"#REF!"}},{"$f":"IF(#REF!=\"\", \"\",#REF!)","v":{"$error":"#REF!"}},{"$f":"IF(#REF!=\"\", \"\",#REF!)","v":{"$error":"#REF!"}},{"$f":"IF(#REF!=\"\", \"\",#REF!)","v":{"$error":"#REF!"}},{"$f":"IF(#REF!=\"\", \"\",#REF!)","v":{"$error":"#REF!"}},{"$f":"IF(#REF!=\"\", \"\",#REF!)","v":{"$error":"#REF!"}},{"$f":"IF(#REF!=\"\", \"\",#REF!)","v":{"$error":"#REF!"}},{"$f":"IF(#REF!=\"\", \"\",#REF!)","v":{"$error":"#REF!"}},{"$f":"IF(#REF!=\"\", \"\",#REF!)","v":{"$error":"#REF!"}},{"$f":"IF(#REF!=\"\", \"\",#REF!)","v":{"$error":"#REF!"}},{"$f":"IF(#REF!=\"\", \"\",#REF!)","v":{"$error":"#REF!"}},{"$f":"IF(#REF!=\"\", \"\",#REF!)","v":{"$error":"#REF!"}},{"$f":"IF(#REF!=\"\", \"\",#REF!)","v":{"$error":"#REF!"}},{"$f":"IF(#REF!=\"\", \"\",#REF!)","v":{"$error":"#REF!"}},{"$f":"IF(#REF!=\"\", \"\",#REF!)","v":{"$error":"#REF!"}},{"$f":"IF(#REF!=\"\", \"\",#REF!)","v":{"$error":"#REF!"}},{"$f":"IF(#REF!=\"\", \"\",#REF!)","v":{"$error":"#REF!"}},{"$f":"IF(#REF!=\"\", \"\",#REF!)","v":{"$error":"#REF!"}},{"$f":"IF(#REF!=\"\", \"\",#REF!)","v":{"$error":"#REF!"}},{"$f":"IF(#REF!=\"\", \"\",#REF!)","v":{"$error":"#REF!"}},{"$f":"IF(#REF!=\"\", \"\",#REF!)","v":{"$error":"#REF!"}},{"$f":"IF(#REF!=\"\", \"\",#REF!)","v":{"$error":"#REF!"}},{"$f":"IF(#REF!=\"\", \"\",#REF!)","v":{"$error":"#REF!"}},{"$f":"IF(#REF!=\"\", \"\",#REF!)","v":{"$error":"#REF!"}},{"$f":"IF(#REF!=\"\", \"\",#REF!)","v":{"$error":"#REF!"}},{"$f":"IF(#REF!=\"\", \"\",#REF!)","v":{"$error":"#REF!"}},{"$f":"IF(#REF!=\"\", \"\",#REF!)","v":{"$error":"#REF!"}},{"$f":"IF(#REF!=\"\", \"\",#REF!)","v":{"$error":"#REF!"}},{"$f":"IF(#REF!=\"\", \"\",#REF!)","v":{"$error":"#REF!"}},{"$f":"IF(#REF!=\"\", \"\",#REF!)","v":{"$error":"#REF!"}},{"$f":"IF(#REF!=\"\", \"\",#REF!)","v":{"$error":"#REF!"}},{"$f":"IF(#REF!=\"\", \"\",#REF!)","v":{"$error":"#REF!"}},{"$f":"IF(#REF!=\"\", \"\",#REF!)","v":{"$error":"#REF!"}},{"$f":"IF(#REF!=\"\", \"\",#REF!)","v":{"$error":"#REF!"}},{"$f":"IF(#REF!=\"\", \"\",#REF!)","v":{"$error":"#REF!"}},{"$f":"IF(#REF!=\"\", \"\",#REF!)","v":{"$error":"#REF!"}},{"$f":"IF(#REF!=\"\", \"\",#REF!)","v":{"$error":"#REF!"}},{"$f":"IF(#REF!=\"\", \"\",#REF!)","v":{"$error":"#REF!"}},{"$f":"IF(#REF!=\"\", \"\",#REF!)","v":{"$error":"#REF!"}},{"$f":"IF(#REF!=\"\", \"\",#REF!)","v":{"$error":"#REF!"}},{"$f":"IF(#REF!=\"\", \"\",#REF!)","v":{"$error":"#REF!"}},{"$f":"IF(#REF!=\"\", \"\",#REF!)","v":{"$error":"#REF!"}},{"$f":"IF(#REF!=\"\", \"\",#REF!)","v":{"$error":"#REF!"}}]
["Item 56",{"$f":"IF(#REF!=\"\", \"\",#REF!)","v":{"$error":"#REF!"}},{"$f":"IF(#REF!=\"\", \"\",#REF!)","v":{"$error":"#REF!"}},{"$f":"IF(#REF!=\"\", \"\",#REF!)","v":{"$error":"#REF!"}},{"$f":"IF(#REF!=\"\", \"\",#REF!)","v":{"$error":"#REF!"}},{"$f":"IF(#REF!=\"\", \"\",#REF!)","v":{"$error":"#REF!"}},{"$f":"IF(#REF!=\"\", \"\",#REF!)","v":{"$error":"#REF!"}},{"$f":"IF(#REF!=\"\", \"\",#REF!)","v":{"$error":"#REF!"}},{"$f":"IF(#REF!=\"\", \"\",#REF!)","v":{"$error":"#REF!"}},{"$f":"IF(#REF!=\"\", \"\",#REF!)","v":{"$error":"#REF!"}},{"$f":"IF(#REF!=\"\", \"\",#REF!)","v":{"$error":"#REF!"}},{"$f":"IF(#REF!=\"\", \"\",#REF!)","v":{"$error":"#REF!"}},{"$f":"IF(#REF!=\"\", \"\",#REF!)","v":{"$error":"#REF!"}},{"$f":"IF(#REF!=\"\", \"\",#REF!)","v":{"$error":"#REF!"}},{"$f":"IF(#REF!=\"\", \"\",#REF!)","v":{"$error":"#REF!"}},{"$f":"IF(#REF!=\"\", \"\",#REF!)","v":{"$error":"#REF!"}},{"$f":"IF(#REF!=\"\", \"\",#REF!)","v":{"$error":"#REF!"}},{"$f":"IF(#REF!=\"\", \"\",#REF!)","v":{"$error":"#REF!"}},{"$f":"IF(#REF!=\"\", \"\",#REF!)","v":{"$error":"#REF!"}},{"$f":"IF(#REF!=\"\", \"\",#REF!)","v":{"$error":"#REF!"}},{"$f":"IF(#REF!=\"\", \"\",#REF!)","v":{"$error":"#REF!"}},{"$f":"IF(#REF!=\"\", \"\",#REF!)","v":{"$error":"#REF!"}},{"$f":"IF(#REF!=\"\", \"\",#REF!)","v":{"$error":"#REF!"}},{"$f":"IF(#REF!=\"\", \"\",#REF!)","v":{"$error":"#REF!"}},{"$f":"IF(#REF!=\"\", \"\",#REF!)","v":{"$error":"#REF!"}},{"$f":"IF(#REF!=\"\", \"\",#REF!)","v":{"$error":"#REF!"}},{"$f":"IF(#REF!=\"\", \"\",#REF!)","v":{"$error":"#REF!"}},{"$f":"IF(#REF!=\"\", \"\",#REF!)","v":{"$error":"#REF!"}},{"$f":"IF(#REF!=\"\", \"\",#REF!)","v":{"$error":"#REF!"}},{"$f":"IF(#REF!=\"\", \"\",#REF!)","v":{"$error":"#REF!"}},{"$f":"IF(#REF!=\"\", \"\",#REF!)","v":{"$error":"#REF!"}},{"$f":"IF(#REF!=\"\", \"\",#REF!)","v":{"$error":"#REF!"}},{"$f":"IF(#REF!=\"\", \"\",#REF!)","v":{"$error":"#REF!"}},{"$f":"IF(#REF!=\"\", \"\",#REF!)","v":{"$error":"#REF!"}},{"$f":"IF(#REF!=\"\", \"\",#REF!)","v":{"$error":"#REF!"}},{"$f":"IF(#REF!=\"\", \"\",#REF!)","v":{"$error":"#REF!"}},{"$f":"IF(#REF!=\"\", \"\",#REF!)","v":{"$error":"#REF!"}},{"$f":"IF(#REF!=\"\", \"\",#REF!)","v":{"$error":"#REF!"}},{"$f":"IF(#REF!=\"\", \"\",#REF!)","v":{"$error":"#REF!"}},{"$f":"IF(#REF!=\"\", \"\",#REF!)","v":{"$error":"#REF!"}},{"$f":"IF(#REF!=\"\", \"\",#REF!)","v":{"$error":"#REF!"}},{"$f":"IF(#REF!=\"\", \"\",#REF!)","v":{"$error":"#REF!"}},{"$f":"IF(#REF!=\"\", \"\",#REF!)","v":{"$error":"#REF!"}},{"$f":"IF(#REF!=\"\", \"\",#REF!)","v":{"$error":"#REF!"}},{"$f":"IF(#REF!=\"\", \"\",#REF!)","v":{"$error":"#REF!"}},{"$f":"IF(#REF!=\"\", \"\",#REF!)","v":{"$error":"#REF!"}},{"$f":"IF(#REF!=\"\", \"\",#REF!)","v":{"$error":"#REF!"}},{"$f":"IF(#REF!=\"\", \"\",#REF!)","v":{"$error":"#REF!"}},{"$f":"IF(#REF!=\"\", \"\",#REF!)","v":{"$error":"#REF!"}},{"$f":"IF(#REF!=\"\", \"\",#REF!)","v":{"$error":"#REF!"}},{"$f":"IF(#REF!=\"\", \"\",#REF!)","v":{"$error":"#REF!"}},{"$f":"IF(#REF!=\"\", \"\",#REF!)","v":{"$error":"#REF!"}},{"$f":"IF(#REF!=\"\", \"\",#REF!)","v":{"$error":"#REF!"}},{"$f":"IF(#REF!=\"\", \"\",#REF!)","v":{"$error":"#REF!"}},{"$f":"IF(#REF!=\"\", \"\",#REF!)","v":{"$error":"#REF!"}},{"$f":"IF(#REF!=\"\", \"\",#REF!)","v":{"$error":"#REF!"}},{"$f":"IF(#REF!=\"\", \"\",#REF!)","v":{"$error":"#REF!"}},{"$f":"IF(#REF!=\"\", \"\",#REF!)","v":{"$error":"#REF!"}},{"$f":"IF(#REF!=\"\", \"\",#REF!)","v":{"$error":"#REF!"}},{"$f":"IF(#REF!=\"\", \"\",#REF!)","v":{"$error":"#REF!"}},{"$f":"IF(#REF!=\"\", \"\",#REF!)","v":{"$error":"#REF!"}},{"$f":"IF(#REF!=\"\", \"\",#REF!)","v":{"$error":"#REF!"}}]
["Item 57",{"$f":"IF(#REF!=\"\", \"\",#REF!)","v":{"$error":"#REF!"}},{"$f":"IF(#REF!=\"\", \"\",#REF!)","v":{"$error":"#REF!"}},{"$f":"IF(#REF!=\"\", \"\",#REF!)","v":{"$error":"#REF!"}},{"$f":"IF(#REF!=\"\", \"\",#REF!)","v":{"$error":"#REF!"}},{"$f":"IF(#REF!=\"\", \"\",#REF!)","v":{"$error":"#REF!"}},{"$f":"IF(#REF!=\"\", \"\",#REF!)","v":{"$error":"#REF!"}},{"$f":"IF(#REF!=\"\", \"\",#REF!)","v":{"$error":"#REF!"}},{"$f":"IF(#REF!=\"\", \"\",#REF!)","v":{"$error":"#REF!"}},{"$f":"IF(#REF!=\"\", \"\",#REF!)","v":{"$error":"#REF!"}},{"$f":"IF(#REF!=\"\", \"\",#REF!)","v":{"$error":"#REF!"}},{"$f":"IF(#REF!=\"\", \"\",#REF!)","v":{"$error":"#REF!"}},{"$f":"IF(#REF!=\"\", \"\",#REF!)","v":{"$error":"#REF!"}},{"$f":"IF(#REF!=\"\", \"\",#REF!)","v":{"$error":"#REF!"}},{"$f":"IF(#REF!=\"\", \"\",#REF!)","v":{"$error":"#REF!"}},{"$f":"IF(#REF!=\"\", \"\",#REF!)","v":{"$error":"#REF!"}},{"$f":"IF(#REF!=\"\", \"\",#REF!)","v":{"$error":"#REF!"}},{"$f":"IF(#REF!=\"\", \"\",#REF!)","v":{"$error":"#REF!"}},{"$f":"IF(#REF!=\"\", \"\",#REF!)","v":{"$error":"#REF!"}},{"$f":"IF(#REF!=\"\", \"\",#REF!)","v":{"$error":"#REF!"}},{"$f":"IF(#REF!=\"\", \"\",#REF!)","v":{"$error":"#REF!"}},{"$f":"IF(#REF!=\"\", \"\",#REF!)","v":{"$error":"#REF!"}},{"$f":"IF(#REF!=\"\", \"\",#REF!)","v":{"$error":"#REF!"}},{"$f":"IF(#REF!=\"\", \"\",#REF!)","v":{"$error":"#REF!"}},{"$f":"IF(#REF!=\"\", \"\",#REF!)","v":{"$error":"#REF!"}},{"$f":"IF(#REF!=\"\", \"\",#REF!)","v":{"$error":"#REF!"}},{"$f":"IF(#REF!=\"\", \"\",#REF!)","v":{"$error":"#REF!"}},{"$f":"IF(#REF!=\"\", \"\",#REF!)","v":{"$error":"#REF!"}},{"$f":"IF(#REF!=\"\", \"\",#REF!)","v":{"$error":"#REF!"}},{"$f":"IF(#REF!=\"\", \"\",#REF!)","v":{"$error":"#REF!"}},{"$f":"IF(#REF!=\"\", \"\",#REF!)","v":{"$error":"#REF!"}},{"$f":"IF(#REF!=\"\", \"\",#REF!)","v":{"$error":"#REF!"}},{"$f":"IF(#REF!=\"\", \"\",#REF!)","v":{"$error":"#REF!"}},{"$f":"IF(#REF!=\"\", \"\",#REF!)","v":{"$error":"#REF!"}},{"$f":"IF(#REF!=\"\", \"\",#REF!)","v":{"$error":"#REF!"}},{"$f":"IF(#REF!=\"\", \"\",#REF!)","v":{"$error":"#REF!"}},{"$f":"IF(#REF!=\"\", \"\",#REF!)","v":{"$error":"#REF!"}},{"$f":"IF(#REF!=\"\", \"\",#REF!)","v":{"$error":"#REF!"}},{"$f":"IF(#REF!=\"\", \"\",#REF!)","v":{"$error":"#REF!"}},{"$f":"IF(#REF!=\"\", \"\",#REF!)","v":{"$error":"#REF!"}},{"$f":"IF(#REF!=\"\", \"\",#REF!)","v":{"$error":"#REF!"}},{"$f":"IF(#REF!=\"\", \"\",#REF!)","v":{"$error":"#REF!"}},{"$f":"IF(#REF!=\"\", \"\",#REF!)","v":{"$error":"#REF!"}},{"$f":"IF(#REF!=\"\", \"\",#REF!)","v":{"$error":"#REF!"}},{"$f":"IF(#REF!=\"\", \"\",#REF!)","v":{"$error":"#REF!"}},{"$f":"IF(#REF!=\"\", \"\",#REF!)","v":{"$error":"#REF!"}},{"$f":"IF(#REF!=\"\", \"\",#REF!)","v":{"$error":"#REF!"}},{"$f":"IF(#REF!=\"\", \"\",#REF!)","v":{"$error":"#REF!"}},{"$f":"IF(#REF!=\"\", \"\",#REF!)","v":{"$error":"#REF!"}},{"$f":"IF(#REF!=\"\", \"\",#REF!)","v":{"$error":"#REF!"}},{"$f":"IF(#REF!=\"\", \"\",#REF!)","v":{"$error":"#REF!"}},{"$f":"IF(#REF!=\"\", \"\",#REF!)","v":{"$error":"#REF!"}},{"$f":"IF(#REF!=\"\", \"\",#REF!)","v":{"$error":"#REF!"}},{"$f":"IF(#REF!=\"\", \"\",#REF!)","v":{"$error":"#REF!"}},{"$f":"IF(#REF!=\"\", \"\",#REF!)","v":{"$error":"#REF!"}},{"$f":"IF(#REF!=\"\", \"\",#REF!)","v":{"$error":"#REF!"}},{"$f":"IF(#REF!=\"\", \"\",#REF!)","v":{"$error":"#REF!"}},{"$f":"IF(#REF!=\"\", \"\",#REF!)","v":{"$error":"#REF!"}},{"$f":"IF(#REF!=\"\", \"\",#REF!)","v":{"$error":"#REF!"}},{"$f":"IF(#REF!=\"\", \"\",#REF!)","v":{"$error":"#REF!"}},{"$f":"IF(#REF!=\"\", \"\",#REF!)","v":{"$error":"#REF!"}},{"$f":"IF(#REF!=\"\", \"\",#REF!)","v":{"$error":"#REF!"}}]
["Item 58",{"$f":"IF(#REF!=\"\", \"\",#REF!)","v":{"$error":"#REF!"}},{"$f":"IF(#REF!=\"\", \"\",#REF!)","v":{"$error":"#REF!"}},{"$f":"IF(#REF!=\"\", \"\",#REF!)","v":{"$error":"#REF!"}},{"$f":"IF(#REF!=\"\", \"\",#REF!)","v":{"$error":"#REF!"}},{"$f":"IF(#REF!=\"\", \"\",#REF!)","v":{"$error":"#REF!"}},{"$f":"IF(#REF!=\"\", \"\",#REF!)","v":{"$error":"#REF!"}},{"$f":"IF(#REF!=\"\", \"\",#REF!)","v":{"$error":"#REF!"}},{"$f":"IF(#REF!=\"\", \"\",#REF!)","v":{"$error":"#REF!"}},{"$f":"IF(#REF!=\"\", \"\",#REF!)","v":{"$error":"#REF!"}},{"$f":"IF(#REF!=\"\", \"\",#REF!)","v":{"$error":"#REF!"}},{"$f":"IF(#REF!=\"\", \"\",#REF!)","v":{"$error":"#REF!"}},{"$f":"IF(#REF!=\"\", \"\",#REF!)","v":{"$error":"#REF!"}},{"$f":"IF(#REF!=\"\", \"\",#REF!)","v":{"$error":"#REF!"}},{"$f":"IF(#REF!=\"\", \"\",#REF!)","v":{"$error":"#REF!"}},{"$f":"IF(#REF!=\"\", \"\",#REF!)","v":{"$error":"#REF!"}},{"$f":"IF(#REF!=\"\", \"\",#REF!)","v":{"$error":"#REF!"}},{"$f":"IF(#REF!=\"\", \"\",#REF!)","v":{"$error":"#REF!"}},{"$f":"IF(#REF!=\"\", \"\",#REF!)","v":{"$error":"#REF!"}},{"$f":"IF(#REF!=\"\", \"\",#REF!)","v":{"$error":"#REF!"}},{"$f":"IF(#REF!=\"\", \"\",#REF!)","v":{"$error":"#REF!"}},{"$f":"IF(#REF!=\"\", \"\",#REF!)","v":{"$error":"#REF!"}},{"$f":"IF(#REF!=\"\", \"\",#REF!)","v":{"$error":"#REF!"}},{"$f":"IF(#REF!=\"\", \"\",#REF!)","v":{"$error":"#REF!"}},{"$f":"IF(#REF!=\"\", \"\",#REF!)","v":{"$error":"#REF!"}},{"$f":"IF(#REF!=\"\", \"\",#REF!)","v":{"$error":"#REF!"}},{"$f":"IF(#REF!=\"\", \"\",#REF!)","v":{"$error":"#REF!"}},{"$f":"IF(#REF!=\"\", \"\",#REF!)","v":{"$error":"#REF!"}},{"$f":"IF(#REF!=\"\", \"\",#REF!)","v":{"$error":"#REF!"}},{"$f":"IF(#REF!=\"\", \"\",#REF!)","v":{"$error":"#REF!"}},{"$f":"IF(#REF!=\"\", \"\",#REF!)","v":{"$error":"#REF!"}},{"$f":"IF(#REF!=\"\", \"\",#REF!)","v":{"$error":"#REF!"}},{"$f":"IF(#REF!=\"\", \"\",#REF!)","v":{"$error":"#REF!"}},{"$f":"IF(#REF!=\"\", \"\",#REF!)","v":{"$error":"#REF!"}},{"$f":"IF(#REF!=\"\", \"\",#REF!)","v":{"$error":"#REF!"}},{"$f":"IF(#REF!=\"\", \"\",#REF!)","v":{"$error":"#REF!"}},{"$f":"IF(#REF!=\"\", \"\",#REF!)","v":{"$error":"#REF!"}},{"$f":"IF(#REF!=\"\", \"\",#REF!)","v":{"$error":"#REF!"}},{"$f":"IF(#REF!=\"\", \"\",#REF!)","v":{"$error":"#REF!"}},{"$f":"IF(#REF!=\"\", \"\",#REF!)","v":{"$error":"#REF!"}},{"$f":"IF(#REF!=\"\", \"\",#REF!)","v":{"$error":"#REF!"}},{"$f":"IF(#REF!=\"\", \"\",#REF!)","v":{"$error":"#REF!"}},{"$f":"IF(#REF!=\"\", \"\",#REF!)","v":{"$error":"#REF!"}},{"$f":"IF(#REF!=\"\", \"\",#REF!)","v":{"$error":"#REF!"}},{"$f":"IF(#REF!=\"\", \"\",#REF!)","v":{"$error":"#REF!"}},{"$f":"IF(#REF!=\"\", \"\",#REF!)","v":{"$error":"#REF!"}},{"$f":"IF(#REF!=\"\", \"\",#REF!)","v":{"$error":"#REF!"}},{"$f":"IF(#REF!=\"\", \"\",#REF!)","v":{"$error":"#REF!"}},{"$f":"IF(#REF!=\"\", \"\",#REF!)","v":{"$error":"#REF!"}},{"$f":"IF(#REF!=\"\", \"\",#REF!)","v":{"$error":"#REF!"}},{"$f":"IF(#REF!=\"\", \"\",#REF!)","v":{"$error":"#REF!"}},{"$f":"IF(#REF!=\"\", \"\",#REF!)","v":{"$error":"#REF!"}},{"$f":"IF(#REF!=\"\", \"\",#REF!)","v":{"$error":"#REF!"}},{"$f":"IF(#REF!=\"\", \"\",#REF!)","v":{"$error":"#REF!"}},{"$f":"IF(#REF!=\"\", \"\",#REF!)","v":{"$error":"#REF!"}},{"$f":"IF(#REF!=\"\", \"\",#REF!)","v":{"$error":"#REF!"}},{"$f":"IF(#REF!=\"\", \"\",#REF!)","v":{"$error":"#REF!"}},{"$f":"IF(#REF!=\"\", \"\",#REF!)","v":{"$error":"#REF!"}},{"$f":"IF(#REF!=\"\", \"\",#REF!)","v":{"$error":"#REF!"}},{"$f":"IF(#REF!=\"\", \"\",#REF!)","v":{"$error":"#REF!"}},{"$f":"IF(#REF!=\"\", \"\",#REF!)","v":{"$error":"#REF!"}},{"$f":"IF(#REF!=\"\", \"\",#REF!)","v":{"$error":"#REF!"}}]
["Item 59",{"$f":"IF(#REF!=\"\", \"\",#REF!)","v":{"$error":"#REF!"}},{"$f":"IF(#REF!=\"\", \"\",#REF!)","v":{"$error":"#REF!"}},{"$f":"IF(#REF!=\"\", \"\",#REF!)","v":{"$error":"#REF!"}},{"$f":"IF(#REF!=\"\", \"\",#REF!)","v":{"$error":"#REF!"}},{"$f":"IF(#REF!=\"\", \"\",#REF!)","v":{"$error":"#REF!"}},{"$f":"IF(#REF!=\"\", \"\",#REF!)","v":{"$error":"#REF!"}},{"$f":"IF(#REF!=\"\", \"\",#REF!)","v":{"$error":"#REF!"}},{"$f":"IF(#REF!=\"\", \"\",#REF!)","v":{"$error":"#REF!"}},{"$f":"IF(#REF!=\"\", \"\",#REF!)","v":{"$error":"#REF!"}},{"$f":"IF(#REF!=\"\", \"\",#REF!)","v":{"$error":"#REF!"}},{"$f":"IF(#REF!=\"\", \"\",#REF!)","v":{"$error":"#REF!"}},{"$f":"IF(#REF!=\"\", \"\",#REF!)","v":{"$error":"#REF!"}},{"$f":"IF(#REF!=\"\", \"\",#REF!)","v":{"$error":"#REF!"}},{"$f":"IF(#REF!=\"\", \"\",#REF!)","v":{"$error":"#REF!"}},{"$f":"IF(#REF!=\"\", \"\",#REF!)","v":{"$error":"#REF!"}},{"$f":"IF(#REF!=\"\", \"\",#REF!)","v":{"$error":"#REF!"}},{"$f":"IF(#REF!=\"\", \"\",#REF!)","v":{"$error":"#REF!"}},{"$f":"IF(#REF!=\"\", \"\",#REF!)","v":{"$error":"#REF!"}},{"$f":"IF(#REF!=\"\", \"\",#REF!)","v":{"$error":"#REF!"}},{"$f":"IF(#REF!=\"\", \"\",#REF!)","v":{"$error":"#REF!"}},{"$f":"IF(#REF!=\"\", \"\",#REF!)","v":{"$error":"#REF!"}},{"$f":"IF(#REF!=\"\", \"\",#REF!)","v":{"$error":"#REF!"}},{"$f":"IF(#REF!=\"\", \"\",#REF!)","v":{"$error":"#REF!"}},{"$f":"IF(#REF!=\"\", \"\",#REF!)","v":{"$error":"#REF!"}},{"$f":"IF(#REF!=\"\", \"\",#REF!)","v":{"$error":"#REF!"}},{"$f":"IF(#REF!=\"\", \"\",#REF!)","v":{"$error":"#REF!"}},{"$f":"IF(#REF!=\"\", \"\",#REF!)","v":{"$error":"#REF!"}},{"$f":"IF(#REF!=\"\", \"\",#REF!)","v":{"$error":"#REF!"}},{"$f":"IF(#REF!=\"\", \"\",#REF!)","v":{"$error":"#REF!"}},{"$f":"IF(#REF!=\"\", \"\",#REF!)","v":{"$error":"#REF!"}},{"$f":"IF(#REF!=\"\", \"\",#REF!)","v":{"$error":"#REF!"}},{"$f":"IF(#REF!=\"\", \"\",#REF!)","v":{"$error":"#REF!"}},{"$f":"IF(#REF!=\"\", \"\",#REF!)","v":{"$error":"#REF!"}},{"$f":"IF(#REF!=\"\", \"\",#REF!)","v":{"$error":"#REF!"}},{"$f":"IF(#REF!=\"\", \"\",#REF!)","v":{"$error":"#REF!"}},{"$f":"IF(#REF!=\"\", \"\",#REF!)","v":{"$error":"#REF!"}},{"$f":"IF(#REF!=\"\", \"\",#REF!)","v":{"$error":"#REF!"}},{"$f":"IF(#REF!=\"\", \"\",#REF!)","v":{"$error":"#REF!"}},{"$f":"IF(#REF!=\"\", \"\",#REF!)","v":{"$error":"#REF!"}},{"$f":"IF(#REF!=\"\", \"\",#REF!)","v":{"$error":"#REF!"}},{"$f":"IF(#REF!=\"\", \"\",#REF!)","v":{"$error":"#REF!"}},{"$f":"IF(#REF!=\"\", \"\",#REF!)","v":{"$error":"#REF!"}},{"$f":"IF(#REF!=\"\", \"\",#REF!)","v":{"$error":"#REF!"}},{"$f":"IF(#REF!=\"\", \"\",#REF!)","v":{"$error":"#REF!"}},{"$f":"IF(#REF!=\"\", \"\",#REF!)","v":{"$error":"#REF!"}},{"$f":"IF(#REF!=\"\", \"\",#REF!)","v":{"$error":"#REF!"}},{"$f":"IF(#REF!=\"\", \"\",#REF!)","v":{"$error":"#REF!"}},{"$f":"IF(#REF!=\"\", \"\",#REF!)","v":{"$error":"#REF!"}},{"$f":"IF(#REF!=\"\", \"\",#REF!)","v":{"$error":"#REF!"}},{"$f":"IF(#REF!=\"\", \"\",#REF!)","v":{"$error":"#REF!"}},{"$f":"IF(#REF!=\"\", \"\",#REF!)","v":{"$error":"#REF!"}},{"$f":"IF(#REF!=\"\", \"\",#REF!)","v":{"$error":"#REF!"}},{"$f":"IF(#REF!=\"\", \"\",#REF!)","v":{"$error":"#REF!"}},{"$f":"IF(#REF!=\"\", \"\",#REF!)","v":{"$error":"#REF!"}},{"$f":"IF(#REF!=\"\", \"\",#REF!)","v":{"$error":"#REF!"}},{"$f":"IF(#REF!=\"\", \"\",#REF!)","v":{"$error":"#REF!"}},{"$f":"IF(#REF!=\"\", \"\",#REF!)","v":{"$error":"#REF!"}},{"$f":"IF(#REF!=\"\", \"\",#REF!)","v":{"$error":"#REF!"}},{"$f":"IF(#REF!=\"\", \"\",#REF!)","v":{"$error":"#REF!"}},{"$f":"IF(#REF!=\"\", \"\",#REF!)","v":{"$error":"#REF!"}},{"$f":"IF(#REF!=\"\", \"\",#REF!)","v":{"$error":"#REF!"}}]
["Item 60",{"$f":"IF(#REF!=\"\", \"\",#REF!)","v":{"$error":"#REF!"}},{"$f":"IF(#REF!=\"\", \"\",#REF!)","v":{"$error":"#REF!"}},{"$f":"IF(#REF!=\"\", \"\",#REF!)","v":{"$error":"#REF!"}},{"$f":"IF(#REF!=\"\", \"\",#REF!)","v":{"$error":"#REF!"}},{"$f":"IF(#REF!=\"\", \"\",#REF!)","v":{"$error":"#REF!"}},{"$f":"IF(#REF!=\"\", \"\",#REF!)","v":{"$error":"#REF!"}},{"$f":"IF(#REF!=\"\", \"\",#REF!)","v":{"$error":"#REF!"}},{"$f":"IF(#REF!=\"\", \"\",#REF!)","v":{"$error":"#REF!"}},{"$f":"IF(#REF!=\"\", \"\",#REF!)","v":{"$error":"#REF!"}},{"$f":"IF(#REF!=\"\", \"\",#REF!)","v":{"$error":"#REF!"}},{"$f":"IF(#REF!=\"\", \"\",#REF!)","v":{"$error":"#REF!"}},{"$f":"IF(#REF!=\"\", \"\",#REF!)","v":{"$error":"#REF!"}},{"$f":"IF(#REF!=\"\", \"\",#REF!)","v":{"$error":"#REF!"}},{"$f":"IF(#REF!=\"\", \"\",#REF!)","v":{"$error":"#REF!"}},{"$f":"IF(#REF!=\"\", \"\",#REF!)","v":{"$error":"#REF!"}},{"$f":"IF(#REF!=\"\", \"\",#REF!)","v":{"$error":"#REF!"}},{"$f":"IF(#REF!=\"\", \"\",#REF!)","v":{"$error":"#REF!"}},{"$f":"IF(#REF!=\"\", \"\",#REF!)","v":{"$error":"#REF!"}},{"$f":"IF(#REF!=\"\", \"\",#REF!)","v":{"$error":"#REF!"}},{"$f":"IF(#REF!=\"\", \"\",#REF!)","v":{"$error":"#REF!"}},{"$f":"IF(#REF!=\"\", \"\",#REF!)","v":{"$error":"#REF!"}},{"$f":"IF(#REF!=\"\", \"\",#REF!)","v":{"$error":"#REF!"}},{"$f":"IF(#REF!=\"\", \"\",#REF!)","v":{"$error":"#REF!"}},{"$f":"IF(#REF!=\"\", \"\",#REF!)","v":{"$error":"#REF!"}},{"$f":"IF(#REF!=\"\", \"\",#REF!)","v":{"$error":"#REF!"}},{"$f":"IF(#REF!=\"\", \"\",#REF!)","v":{"$error":"#REF!"}},{"$f":"IF(#REF!=\"\", \"\",#REF!)","v":{"$error":"#REF!"}},{"$f":"IF(#REF!=\"\", \"\",#REF!)","v":{"$error":"#REF!"}},{"$f":"IF(#REF!=\"\", \"\",#REF!)","v":{"$error":"#REF!"}},{"$f":"IF(#REF!=\"\", \"\",#REF!)","v":{"$error":"#REF!"}},{"$f":"IF(#REF!=\"\", \"\",#REF!)","v":{"$error":"#REF!"}},{"$f":"IF(#REF!=\"\", \"\",#REF!)","v":{"$error":"#REF!"}},{"$f":"IF(#REF!=\"\", \"\",#REF!)","v":{"$error":"#REF!"}},{"$f":"IF(#REF!=\"\", \"\",#REF!)","v":{"$error":"#REF!"}},{"$f":"IF(#REF!=\"\", \"\",#REF!)","v":{"$error":"#REF!"}},{"$f":"IF(#REF!=\"\", \"\",#REF!)","v":{"$error":"#REF!"}},{"$f":"IF(#REF!=\"\", \"\",#REF!)","v":{"$error":"#REF!"}},{"$f":"IF(#REF!=\"\", \"\",#REF!)","v":{"$error":"#REF!"}},{"$f":"IF(#REF!=\"\", \"\",#REF!)","v":{"$error":"#REF!"}},{"$f":"IF(#REF!=\"\", \"\",#REF!)","v":{"$error":"#REF!"}},{"$f":"IF(#REF!=\"\", \"\",#REF!)","v":{"$error":"#REF!"}},{"$f":"IF(#REF!=\"\", \"\",#REF!)","v":{"$error":"#REF!"}},{"$f":"IF(#REF!=\"\", \"\",#REF!)","v":{"$error":"#REF!"}},{"$f":"IF(#REF!=\"\", \"\",#REF!)","v":{"$error":"#REF!"}},{"$f":"IF(#REF!=\"\", \"\",#REF!)","v":{"$error":"#REF!"}},{"$f":"IF(#REF!=\"\", \"\",#REF!)","v":{"$error":"#REF!"}},{"$f":"IF(#REF!=\"\", \"\",#REF!)","v":{"$error":"#REF!"}},{"$f":"IF(#REF!=\"\", \"\",#REF!)","v":{"$error":"#REF!"}},{"$f":"IF(#REF!=\"\", \"\",#REF!)","v":{"$error":"#REF!"}},{"$f":"IF(#REF!=\"\", \"\",#REF!)","v":{"$error":"#REF!"}},{"$f":"IF(#REF!=\"\", \"\",#REF!)","v":{"$error":"#REF!"}},{"$f":"IF(#REF!=\"\", \"\",#REF!)","v":{"$error":"#REF!"}},{"$f":"IF(#REF!=\"\", \"\",#REF!)","v":{"$error":"#REF!"}},{"$f":"IF(#REF!=\"\", \"\",#REF!)","v":{"$error":"#REF!"}},{"$f":"IF(#REF!=\"\", \"\",#REF!)","v":{"$error":"#REF!"}},{"$f":"IF(#REF!=\"\", \"\",#REF!)","v":{"$error":"#REF!"}},{"$f":"IF(#REF!=\"\", \"\",#REF!)","v":{"$error":"#REF!"}},{"$f":"IF(#REF!=\"\", \"\",#REF!)","v":{"$error":"#REF!"}},{"$f":"IF(#REF!=\"\", \"\",#REF!)","v":{"$error":"#REF!"}},{"$f":"IF(#REF!=\"\", \"\",#REF!)","v":{"$error":"#REF!"}},{"$f":"IF(#REF!=\"\", \"\",#REF!)","v":{"$error":"#REF!"}}]
["Item 61",{"$f":"IF(#REF!=\"\", \"\",#REF!)","v":{"$error":"#REF!"}},{"$f":"IF(#REF!=\"\", \"\",#REF!)","v":{"$error":"#REF!"}},{"$f":"IF(#REF!=\"\", \"\",#REF!)","v":{"$error":"#REF!"}},{"$f":"IF(#REF!=\"\", \"\",#REF!)","v":{"$error":"#REF!"}},{"$f":"IF(#REF!=\"\", \"\",#REF!)","v":{"$error":"#REF!"}},{"$f":"IF(#REF!=\"\", \"\",#REF!)","v":{"$error":"#REF!"}},{"$f":"IF(#REF!=\"\", \"\",#REF!)","v":{"$error":"#REF!"}},{"$f":"IF(#REF!=\"\", \"\",#REF!)","v":{"$error":"#REF!"}},{"$f":"IF(#REF!=\"\", \"\",#REF!)","v":{"$error":"#REF!"}},{"$f":"IF(#REF!=\"\", \"\",#REF!)","v":{"$error":"#REF!"}},{"$f":"IF(#REF!=\"\", \"\",#REF!)","v":{"$error":"#REF!"}},{"$f":"IF(#REF!=\"\", \"\",#REF!)","v":{"$error":"#REF!"}},{"$f":"IF(#REF!=\"\", \"\",#REF!)","v":{"$error":"#REF!"}},{"$f":"IF(#REF!=\"\", \"\",#REF!)","v":{"$error":"#REF!"}},{"$f":"IF(#REF!=\"\", \"\",#REF!)","v":{"$error":"#REF!"}},{"$f":"IF(#REF!=\"\", \"\",#REF!)","v":{"$error":"#REF!"}},{"$f":"IF(#REF!=\"\", \"\",#REF!)","v":{"$error":"#REF!"}},{"$f":"IF(#REF!=\"\", \"\",#REF!)","v":{"$error":"#REF!"}},{"$f":"IF(#REF!=\"\", \"\",#REF!)","v":{"$error":"#REF!"}},{"$f":"IF(#REF!=\"\", \"\",#REF!)","v":{"$error":"#REF!"}},{"$f":"IF(#REF!=\"\", \"\",#REF!)","v":{"$error":"#REF!"}},{"$f":"IF(#REF!=\"\", \"\",#REF!)","v":{"$error":"#REF!"}},{"$f":"IF(#REF!=\"\", \"\",#REF!)","v":{"$error":"#REF!"}},{"$f":"IF(#REF!=\"\", \"\",#REF!)","v":{"$error":"#REF!"}},{"$f":"IF(#REF!=\"\", \"\",#REF!)","v":{"$error":"#REF!"}},{"$f":"IF(#REF!=\"\", \"\",#REF!)","v":{"$error":"#REF!"}},{"$f":"IF(#REF!=\"\", \"\",#REF!)","v":{"$error":"#REF!"}},{"$f":"IF(#REF!=\"\", \"\",#REF!)","v":{"$error":"#REF!"}},{"$f":"IF(#REF!=\"\", \"\",#REF!)","v":{"$error":"#REF!"}},{"$f":"IF(#REF!=\"\", \"\",#REF!)","v":{"$error":"#REF!"}},{"$f":"IF(#REF!=\"\", \"\",#REF!)","v":{"$error":"#REF!"}},{"$f":"IF(#REF!=\"\", \"\",#REF!)","v":{"$error":"#REF!"}},{"$f":"IF(#REF!=\"\", \"\",#REF!)","v":{"$error":"#REF!"}},{"$f":"IF(#REF!=\"\", \"\",#REF!)","v":{"$error":"#REF!"}},{"$f":"IF(#REF!=\"\", \"\",#REF!)","v":{"$error":"#REF!"}},{"$f":"IF(#REF!=\"\", \"\",#REF!)","v":{"$error":"#REF!"}},{"$f":"IF(#REF!=\"\", \"\",#REF!)","v":{"$error":"#REF!"}},{"$f":"IF(#REF!=\"\", \"\",#REF!)","v":{"$error":"#REF!"}},{"$f":"IF(#REF!=\"\", \"\",#REF!)","v":{"$error":"#REF!"}},{"$f":"IF(#REF!=\"\", \"\",#REF!)","v":{"$error":"#REF!"}},{"$f":"IF(#REF!=\"\", \"\",#REF!)","v":{"$error":"#REF!"}},{"$f":"IF(#REF!=\"\", \"\",#REF!)","v":{"$error":"#REF!"}},{"$f":"IF(#REF!=\"\", \"\",#REF!)","v":{"$error":"#REF!"}},{"$f":"IF(#REF!=\"\", \"\",#REF!)","v":{"$error":"#REF!"}},{"$f":"IF(#REF!=\"\", \"\",#REF!)","v":{"$error":"#REF!"}},{"$f":"IF(#REF!=\"\", \"\",#REF!)","v":{"$error":"#REF!"}},{"$f":"IF(#REF!=\"\", \"\",#REF!)","v":{"$error":"#REF!"}},{"$f":"IF(#REF!=\"\", \"\",#REF!)","v":{"$error":"#REF!"}},{"$f":"IF(#REF!=\"\", \"\",#REF!)","v":{"$error":"#REF!"}},{"$f":"IF(#REF!=\"\", \"\",#REF!)","v":{"$error":"#REF!"}},{"$f":"IF(#REF!=\"\", \"\",#REF!)","v":{"$error":"#REF!"}},{"$f":"IF(#REF!=\"\", \"\",#REF!)","v":{"$error":"#REF!"}},{"$f":"IF(#REF!=\"\", \"\",#REF!)","v":{"$error":"#REF!"}},{"$f":"IF(#REF!=\"\", \"\",#REF!)","v":{"$error":"#REF!"}},{"$f":"IF(#REF!=\"\", \"\",#REF!)","v":{"$error":"#REF!"}},{"$f":"IF(#REF!=\"\", \"\",#REF!)","v":{"$error":"#REF!"}},{"$f":"IF(#REF!=\"\", \"\",#REF!)","v":{"$error":"#REF!"}},{"$f":"IF(#REF!=\"\", \"\",#REF!)","v":{"$error":"#REF!"}},{"$f":"IF(#REF!=\"\", \"\",#REF!)","v":{"$error":"#REF!"}},{"$f":"IF(#REF!=\"\", \"\",#REF!)","v":{"$error":"#REF!"}},{"$f":"IF(#REF!=\"\", \"\",#REF!)","v":{"$error":"#REF!"}}]
["Item 62",{"$f":"IF(#REF!=\"\", \"\",#REF!)","v":{"$error":"#REF!"}},{"$f":"IF(#REF!=\"\", \"\",#REF!)","v":{"$error":"#REF!"}},{"$f":"IF(#REF!=\"\", \"\",#REF!)","v":{"$error":"#REF!"}},{"$f":"IF(#REF!=\"\", \"\",#REF!)","v":{"$error":"#REF!"}},{"$f":"IF(#REF!=\"\", \"\",#REF!)","v":{"$error":"#REF!"}},{"$f":"IF(#REF!=\"\", \"\",#REF!)","v":{"$error":"#REF!"}},{"$f":"IF(#REF!=\"\", \"\",#REF!)","v":{"$error":"#REF!"}},{"$f":"IF(#REF!=\"\", \"\",#REF!)","v":{"$error":"#REF!"}},{"$f":"IF(#REF!=\"\", \"\",#REF!)","v":{"$error":"#REF!"}},{"$f":"IF(#REF!=\"\", \"\",#REF!)","v":{"$error":"#REF!"}},{"$f":"IF(#REF!=\"\", \"\",#REF!)","v":{"$error":"#REF!"}},{"$f":"IF(#REF!=\"\", \"\",#REF!)","v":{"$error":"#REF!"}},{"$f":"IF(#REF!=\"\", \"\",#REF!)","v":{"$error":"#REF!"}},{"$f":"IF(#REF!=\"\", \"\",#REF!)","v":{"$error":"#REF!"}},{"$f":"IF(#REF!=\"\", \"\",#REF!)","v":{"$error":"#REF!"}},{"$f":"IF(#REF!=\"\", \"\",#REF!)","v":{"$error":"#REF!"}},{"$f":"IF(#REF!=\"\", \"\",#REF!)","v":{"$error":"#REF!"}},{"$f":"IF(#REF!=\"\", \"\",#REF!)","v":{"$error":"#REF!"}},{"$f":"IF(#REF!=\"\", \"\",#REF!)","v":{"$error":"#REF!"}},{"$f":"IF(#REF!=\"\", \"\",#REF!)","v":{"$error":"#REF!"}},{"$f":"IF(#REF!=\"\", \"\",#REF!)","v":{"$error":"#REF!"}},{"$f":"IF(#REF!=\"\", \"\",#REF!)","v":{"$error":"#REF!"}},{"$f":"IF(#REF!=\"\", \"\",#REF!)","v":{"$error":"#REF!"}},{"$f":"IF(#REF!=\"\", \"\",#REF!)","v":{"$error":"#REF!"}},{"$f":"IF(#REF!=\"\", \"\",#REF!)","v":{"$error":"#REF!"}},{"$f":"IF(#REF!=\"\", \"\",#REF!)","v":{"$error":"#REF!"}},{"$f":"IF(#REF!=\"\", \"\",#REF!)","v":{"$error":"#REF!"}},{"$f":"IF(#REF!=\"\", \"\",#REF!)","v":{"$error":"#REF!"}},{"$f":"IF(#REF!=\"\", \"\",#REF!)","v":{"$error":"#REF!"}},{"$f":"IF(#REF!=\"\", \"\",#REF!)","v":{"$error":"#REF!"}},{"$f":"IF(#REF!=\"\", \"\",#REF!)","v":{"$error":"#REF!"}},{"$f":"IF(#REF!=\"\", \"\",#REF!)","v":{"$error":"#REF!"}},{"$f":"IF(#REF!=\"\", \"\",#REF!)","v":{"$error":"#REF!"}},{"$f":"IF(#REF!=\"\", \"\",#REF!)","v":{"$error":"#REF!"}},{"$f":"IF(#REF!=\"\", \"\",#REF!)","v":{"$error":"#REF!"}},{"$f":"IF(#REF!=\"\", \"\",#REF!)","v":{"$error":"#REF!"}},{"$f":"IF(#REF!=\"\", \"\",#REF!)","v":{"$error":"#REF!"}},{"$f":"IF(#REF!=\"\", \"\",#REF!)","v":{"$error":"#REF!"}},{"$f":"IF(#REF!=\"\", \"\",#REF!)","v":{"$error":"#REF!"}},{"$f":"IF(#REF!=\"\", \"\",#REF!)","v":{"$error":"#REF!"}},{"$f":"IF(#REF!=\"\", \"\",#REF!)","v":{"$error":"#REF!"}},{"$f":"IF(#REF!=\"\", \"\",#REF!)","v":{"$error":"#REF!"}},{"$f":"IF(#REF!=\"\", \"\",#REF!)","v":{"$error":"#REF!"}},{"$f":"IF(#REF!=\"\", \"\",#REF!)","v":{"$error":"#REF!"}},{"$f":"IF(#REF!=\"\", \"\",#REF!)","v":{"$error":"#REF!"}},{"$f":"IF(#REF!=\"\", \"\",#REF!)","v":{"$error":"#REF!"}},{"$f":"IF(#REF!=\"\", \"\",#REF!)","v":{"$error":"#REF!"}},{"$f":"IF(#REF!=\"\", \"\",#REF!)","v":{"$error":"#REF!"}},{"$f":"IF(#REF!=\"\", \"\",#REF!)","v":{"$error":"#REF!"}},{"$f":"IF(#REF!=\"\", \"\",#REF!)","v":{"$error":"#REF!"}},{"$f":"IF(#REF!=\"\", \"\",#REF!)","v":{"$error":"#REF!"}},{"$f":"IF(#REF!=\"\", \"\",#REF!)","v":{"$error":"#REF!"}},{"$f":"IF(#REF!=\"\", \"\",#REF!)","v":{"$error":"#REF!"}},{"$f":"IF(#REF!=\"\", \"\",#REF!)","v":{"$error":"#REF!"}},{"$f":"IF(#REF!=\"\", \"\",#REF!)","v":{"$error":"#REF!"}},{"$f":"IF(#REF!=\"\", \"\",#REF!)","v":{"$error":"#REF!"}},{"$f":"IF(#REF!=\"\", \"\",#REF!)","v":{"$error":"#REF!"}},{"$f":"IF(#REF!=\"\", \"\",#REF!)","v":{"$error":"#REF!"}},{"$f":"IF(#REF!=\"\", \"\",#REF!)","v":{"$error":"#REF!"}},{"$f":"IF(#REF!=\"\", \"\",#REF!)","v":{"$error":"#REF!"}},{"$f":"IF(#REF!=\"\", \"\",#REF!)","v":{"$error":"#REF!"}}]
["Item 63",{"$f":"IF(#REF!=\"\", \"\",#REF!)","v":{"$error":"#REF!"}},{"$f":"IF(#REF!=\"\", \"\",#REF!)","v":{"$error":"#REF!"}},{"$f":"IF(#REF!=\"\", \"\",#REF!)","v":{"$error":"#REF!"}},{"$f":"IF(#REF!=\"\", \"\",#REF!)","v":{"$error":"#REF!"}},{"$f":"IF(#REF!=\"\", \"\",#REF!)","v":{"$error":"#REF!"}},{"$f":"IF(#REF!=\"\", \"\",#REF!)","v":{"$error":"#REF!"}},{"$f":"IF(#REF!=\"\", \"\",#REF!)","v":{"$error":"#REF!"}},{"$f":"IF(#REF!=\"\", \"\",#REF!)","v":{"$error":"#REF!"}},{"$f":"IF(#REF!=\"\", \"\",#REF!)","v":{"$error":"#REF!"}},{"$f":"IF(#REF!=\"\", \"\",#REF!)","v":{"$error":"#REF!"}},{"$f":"IF(#REF!=\"\", \"\",#REF!)","v":{"$error":"#REF!"}},{"$f":"IF(#REF!=\"\", \"\",#REF!)","v":{"$error":"#REF!"}},{"$f":"IF(#REF!=\"\", \"\",#REF!)","v":{"$error":"#REF!"}},{"$f":"IF(#REF!=\"\", \"\",#REF!)","v":{"$error":"#REF!"}},{"$f":"IF(#REF!=\"\", \"\",#REF!)","v":{"$error":"#REF!"}},{"$f":"IF(#REF!=\"\", \"\",#REF!)","v":{"$error":"#REF!"}},{"$f":"IF(#REF!=\"\", \"\",#REF!)","v":{"$error":"#REF!"}},{"$f":"IF(#REF!=\"\", \"\",#REF!)","v":{"$error":"#REF!"}},{"$f":"IF(#REF!=\"\", \"\",#REF!)","v":{"$error":"#REF!"}},{"$f":"IF(#REF!=\"\", \"\",#REF!)","v":{"$error":"#REF!"}},{"$f":"IF(#REF!=\"\", \"\",#REF!)","v":{"$error":"#REF!"}},{"$f":"IF(#REF!=\"\", \"\",#REF!)","v":{"$error":"#REF!"}},{"$f":"IF(#REF!=\"\", \"\",#REF!)","v":{"$error":"#REF!"}},{"$f":"IF(#REF!=\"\", \"\",#REF!)","v":{"$error":"#REF!"}},{"$f":"IF(#REF!=\"\", \"\",#REF!)","v":{"$error":"#REF!"}},{"$f":"IF(#REF!=\"\", \"\",#REF!)","v":{"$error":"#REF!"}},{"$f":"IF(#REF!=\"\", \"\",#REF!)","v":{"$error":"#REF!"}},{"$f":"IF(#REF!=\"\", \"\",#REF!)","v":{"$error":"#REF!"}},{"$f":"IF(#REF!=\"\", \"\",#REF!)","v":{"$error":"#REF!"}},{"$f":"IF(#REF!=\"\", \"\",#REF!)","v":{"$error":"#REF!"}},{"$f":"IF(#REF!=\"\", \"\",#REF!)","v":{"$error":"#REF!"}},{"$f":"IF(#REF!=\"\", \"\",#REF!)","v":{"$error":"#REF!"}},{"$f":"IF(#REF!=\"\", \"\",#REF!)","v":{"$error":"#REF!"}},{"$f":"IF(#REF!=\"\", \"\",#REF!)","v":{"$error":"#REF!"}},{"$f":"IF(#REF!=\"\", \"\",#REF!)","v":{"$error":"#REF!"}},{"$f":"IF(#REF!=\"\", \"\",#REF!)","v":{"$error":"#REF!"}},{"$f":"IF(#REF!=\"\", \"\",#REF!)","v":{"$error":"#REF!"}},{"$f":"IF(#REF!=\"\", \"\",#REF!)","v":{"$error":"#REF!"}},{"$f":"IF(#REF!=\"\", \"\",#REF!)","v":{"$error":"#REF!"}},{"$f":"IF(#REF!=\"\", \"\",#REF!)","v":{"$error":"#REF!"}},{"$f":"IF(#REF!=\"\", \"\",#REF!)","v":{"$error":"#REF!"}},{"$f":"IF(#REF!=\"\", \"\",#REF!)","v":{"$error":"#REF!"}},{"$f":"IF(#REF!=\"\", \"\",#REF!)","v":{"$error":"#REF!"}},{"$f":"IF(#REF!=\"\", \"\",#REF!)","v":{"$error":"#REF!"}},{"$f":"IF(#REF!=\"\", \"\",#REF!)","v":{"$error":"#REF!"}},{"$f":"IF(#REF!=\"\", \"\",#REF!)","v":{"$error":"#REF!"}},{"$f":"IF(#REF!=\"\", \"\",#REF!)","v":{"$error":"#REF!"}},{"$f":"IF(#REF!=\"\", \"\",#REF!)","v":{"$error":"#REF!"}},{"$f":"IF(#REF!=\"\", \"\",#REF!)","v":{"$error":"#REF!"}},{"$f":"IF(#REF!=\"\", \"\",#REF!)","v":{"$error":"#REF!"}},{"$f":"IF(#REF!=\"\", \"\",#REF!)","v":{"$error":"#REF!"}},{"$f":"IF(#REF!=\"\", \"\",#REF!)","v":{"$error":"#REF!"}},{"$f":"IF(#REF!=\"\", \"\",#REF!)","v":{"$error":"#REF!"}},{"$f":"IF(#REF!=\"\", \"\",#REF!)","v":{"$error":"#REF!"}},{"$f":"IF(#REF!=\"\", \"\",#REF!)","v":{"$error":"#REF!"}},{"$f":"IF(#REF!=\"\", \"\",#REF!)","v":{"$error":"#REF!"}},{"$f":"IF(#REF!=\"\", \"\",#REF!)","v":{"$error":"#REF!"}},{"$f":"IF(#REF!=\"\", \"\",#REF!)","v":{"$error":"#REF!"}},{"$f":"IF(#REF!=\"\", \"\",#REF!)","v":{"$error":"#REF!"}},{"$f":"IF(#REF!=\"\", \"\",#REF!)","v":{"$error":"#REF!"}},{"$f":"IF(#REF!=\"\", \"\",#REF!)","v":{"$error":"#REF!"}}]
["Item 64",{"$f":"IF(#REF!=\"\", \"\",#REF!)","v":{"$error":"#REF!"}},{"$f":"IF(#REF!=\"\", \"\",#REF!)","v":{"$error":"#REF!"}},{"$f":"IF(#REF!=\"\", \"\",#REF!)","v":{"$error":"#REF!"}},{"$f":"IF(#REF!=\"\", \"\",#REF!)","v":{"$error":"#REF!"}},{"$f":"IF(#REF!=\"\", \"\",#REF!)","v":{"$error":"#REF!"}},{"$f":"IF(#REF!=\"\", \"\",#REF!)","v":{"$error":"#REF!"}},{"$f":"IF(#REF!=\"\", \"\",#REF!)","v":{"$error":"#REF!"}},{"$f":"IF(#REF!=\"\", \"\",#REF!)","v":{"$error":"#REF!"}},{"$f":"IF(#REF!=\"\", \"\",#REF!)","v":{"$error":"#REF!"}},{"$f":"IF(#REF!=\"\", \"\",#REF!)","v":{"$error":"#REF!"}},{"$f":"IF(#REF!=\"\", \"\",#REF!)","v":{"$error":"#REF!"}},{"$f":"IF(#REF!=\"\", \"\",#REF!)","v":{"$error":"#REF!"}},{"$f":"IF(#REF!=\"\", \"\",#REF!)","v":{"$error":"#REF!"}},{"$f":"IF(#REF!=\"\", \"\",#REF!)","v":{"$error":"#REF!"}},{"$f":"IF(#REF!=\"\", \"\",#REF!)","v":{"$error":"#REF!"}},{"$f":"IF(#REF!=\"\", \"\",#REF!)","v":{"$error":"#REF!"}},{"$f":"IF(#REF!=\"\", \"\",#REF!)","v":{"$error":"#REF!"}},{"$f":"IF(#REF!=\"\", \"\",#REF!)","v":{"$error":"#REF!"}},{"$f":"IF(#REF!=\"\", \"\",#REF!)","v":{"$error":"#REF!"}},{"$f":"IF(#REF!=\"\", \"\",#REF!)","v":{"$error":"#REF!"}},{"$f":"IF(#REF!=\"\", \"\",#REF!)","v":{"$error":"#REF!"}},{"$f":"IF(#REF!=\"\", \"\",#REF!)","v":{"$error":"#REF!"}},{"$f":"IF(#REF!=\"\", \"\",#REF!)","v":{"$error":"#REF!"}},{"$f":"IF(#REF!=\"\", \"\",#REF!)","v":{"$error":"#REF!"}},{"$f":"IF(#REF!=\"\", \"\",#REF!)","v":{"$error":"#REF!"}},{"$f":"IF(#REF!=\"\", \"\",#REF!)","v":{"$error":"#REF!"}},{"$f":"IF(#REF!=\"\", \"\",#REF!)","v":{"$error":"#REF!"}},{"$f":"IF(#REF!=\"\", \"\",#REF!)","v":{"$error":"#REF!"}},{"$f":"IF(#REF!=\"\", \"\",#REF!)","v":{"$error":"#REF!"}},{"$f":"IF(#REF!=\"\", \"\",#REF!)","v":{"$error":"#REF!"}},{"$f":"IF(#REF!=\"\", \"\",#REF!)","v":{"$error":"#REF!"}},{"$f":"IF(#REF!=\"\", \"\",#REF!)","v":{"$error":"#REF!"}},{"$f":"IF(#REF!=\"\", \"\",#REF!)","v":{"$error":"#REF!"}},{"$f":"IF(#REF!=\"\", \"\",#REF!)","v":{"$error":"#REF!"}},{"$f":"IF(#REF!=\"\", \"\",#REF!)","v":{"$error":"#REF!"}},{"$f":"IF(#REF!=\"\", \"\",#REF!)","v":{"$error":"#REF!"}},{"$f":"IF(#REF!=\"\", \"\",#REF!)","v":{"$error":"#REF!"}},{"$f":"IF(#REF!=\"\", \"\",#REF!)","v":{"$error":"#REF!"}},{"$f":"IF(#REF!=\"\", \"\",#REF!)","v":{"$error":"#REF!"}},{"$f":"IF(#REF!=\"\", \"\",#REF!)","v":{"$error":"#REF!"}},{"$f":"IF(#REF!=\"\", \"\",#REF!)","v":{"$error":"#REF!"}},{"$f":"IF(#REF!=\"\", \"\",#REF!)","v":{"$error":"#REF!"}},{"$f":"IF(#REF!=\"\", \"\",#REF!)","v":{"$error":"#REF!"}},{"$f":"IF(#REF!=\"\", \"\",#REF!)","v":{"$error":"#REF!"}},{"$f":"IF(#REF!=\"\", \"\",#REF!)","v":{"$error":"#REF!"}},{"$f":"IF(#REF!=\"\", \"\",#REF!)","v":{"$error":"#REF!"}},{"$f":"IF(#REF!=\"\", \"\",#REF!)","v":{"$error":"#REF!"}},{"$f":"IF(#REF!=\"\", \"\",#REF!)","v":{"$error":"#REF!"}},{"$f":"IF(#REF!=\"\", \"\",#REF!)","v":{"$error":"#REF!"}},{"$f":"IF(#REF!=\"\", \"\",#REF!)","v":{"$error":"#REF!"}},{"$f":"IF(#REF!=\"\", \"\",#REF!)","v":{"$error":"#REF!"}},{"$f":"IF(#REF!=\"\", \"\",#REF!)","v":{"$error":"#REF!"}},{"$f":"IF(#REF!=\"\", \"\",#REF!)","v":{"$error":"#REF!"}},{"$f":"IF(#REF!=\"\", \"\",#REF!)","v":{"$error":"#REF!"}},{"$f":"IF(#REF!=\"\", \"\",#REF!)","v":{"$error":"#REF!"}},{"$f":"IF(#REF!=\"\", \"\",#REF!)","v":{"$error":"#REF!"}},{"$f":"IF(#REF!=\"\", \"\",#REF!)","v":{"$error":"#REF!"}},{"$f":"IF(#REF!=\"\", \"\",#REF!)","v":{"$error":"#REF!"}},{"$f":"IF(#REF!=\"\", \"\",#REF!)","v":{"$error":"#REF!"}},{"$f":"IF(#REF!=\"\", \"\",#REF!)","v":{"$error":"#REF!"}},{"$f":"IF(#REF!=\"\", \"\",#REF!)","v":{"$error":"#REF!"}}]
["Item 65",{"$f":"IF(#REF!=\"\", \"\",#REF!)","v":{"$error":"#REF!"}},{"$f":"IF(#REF!=\"\", \"\",#REF!)","v":{"$error":"#REF!"}},{"$f":"IF(#REF!=\"\", \"\",#REF!)","v":{"$error":"#REF!"}},{"$f":"IF(#REF!=\"\", \"\",#REF!)","v":{"$error":"#REF!"}},{"$f":"IF(#REF!=\"\", \"\",#REF!)","v":{"$error":"#REF!"}},{"$f":"IF(#REF!=\"\", \"\",#REF!)","v":{"$error":"#REF!"}},{"$f":"IF(#REF!=\"\", \"\",#REF!)","v":{"$error":"#REF!"}},{"$f":"IF(#REF!=\"\", \"\",#REF!)","v":{"$error":"#REF!"}},{"$f":"IF(#REF!=\"\", \"\",#REF!)","v":{"$error":"#REF!"}},{"$f":"IF(#REF!=\"\", \"\",#REF!)","v":{"$error":"#REF!"}},{"$f":"IF(#REF!=\"\", \"\",#REF!)","v":{"$error":"#REF!"}},{"$f":"IF(#REF!=\"\", \"\",#REF!)","v":{"$error":"#REF!"}},{"$f":"IF(#REF!=\"\", \"\",#REF!)","v":{"$error":"#REF!"}},{"$f":"IF(#REF!=\"\", \"\",#REF!)","v":{"$error":"#REF!"}},{"$f":"IF(#REF!=\"\", \"\",#REF!)","v":{"$error":"#REF!"}},{"$f":"IF(#REF!=\"\", \"\",#REF!)","v":{"$error":"#REF!"}},{"$f":"IF(#REF!=\"\", \"\",#REF!)","v":{"$error":"#REF!"}},{"$f":"IF(#REF!=\"\", \"\",#REF!)","v":{"$error":"#REF!"}},{"$f":"IF(#REF!=\"\", \"\",#REF!)","v":{"$error":"#REF!"}},{"$f":"IF(#REF!=\"\", \"\",#REF!)","v":{"$error":"#REF!"}},{"$f":"IF(#REF!=\"\", \"\",#REF!)","v":{"$error":"#REF!"}},{"$f":"IF(#REF!=\"\", \"\",#REF!)","v":{"$error":"#REF!"}},{"$f":"IF(#REF!=\"\", \"\",#REF!)","v":{"$error":"#REF!"}},{"$f":"IF(#REF!=\"\", \"\",#REF!)","v":{"$error":"#REF!"}},{"$f":"IF(#REF!=\"\", \"\",#REF!)","v":{"$error":"#REF!"}},{"$f":"IF(#REF!=\"\", \"\",#REF!)","v":{"$error":"#REF!"}},{"$f":"IF(#REF!=\"\", \"\",#REF!)","v":{"$error":"#REF!"}},{"$f":"IF(#REF!=\"\", \"\",#REF!)","v":{"$error":"#REF!"}},{"$f":"IF(#REF!=\"\", \"\",#REF!)","v":{"$error":"#REF!"}},{"$f":"IF(#REF!=\"\", \"\",#REF!)","v":{"$error":"#REF!"}},{"$f":"IF(#REF!=\"\", \"\",#REF!)","v":{"$error":"#REF!"}},{"$f":"IF(#REF!=\"\", \"\",#REF!)","v":{"$error":"#REF!"}},{"$f":"IF(#REF!=\"\", \"\",#REF!)","v":{"$error":"#REF!"}},{"$f":"IF(#REF!=\"\", \"\",#REF!)","v":{"$error":"#REF!"}},{"$f":"IF(#REF!=\"\", \"\",#REF!)","v":{"$error":"#REF!"}},{"$f":"IF(#REF!=\"\", \"\",#REF!)","v":{"$error":"#REF!"}},{"$f":"IF(#REF!=\"\", \"\",#REF!)","v":{"$error":"#REF!"}},{"$f":"IF(#REF!=\"\", \"\",#REF!)","v":{"$error":"#REF!"}},{"$f":"IF(#REF!=\"\", \"\",#REF!)","v":{"$error":"#REF!"}},{"$f":"IF(#REF!=\"\", \"\",#REF!)","v":{"$error":"#REF!"}},{"$f":"IF(#REF!=\"\", \"\",#REF!)","v":{"$error":"#REF!"}},{"$f":"IF(#REF!=\"\", \"\",#REF!)","v":{"$error":"#REF!"}},{"$f":"IF(#REF!=\"\", \"\",#REF!)","v":{"$error":"#REF!"}},{"$f":"IF(#REF!=\"\", \"\",#REF!)","v":{"$error":"#REF!"}},{"$f":"IF(#REF!=\"\", \"\",#REF!)","v":{"$error":"#REF!"}},{"$f":"IF(#REF!=\"\", \"\",#REF!)","v":{"$error":"#REF!"}},{"$f":"IF(#REF!=\"\", \"\",#REF!)","v":{"$error":"#REF!"}},{"$f":"IF(#REF!=\"\", \"\",#REF!)","v":{"$error":"#REF!"}},{"$f":"IF(#REF!=\"\", \"\",#REF!)","v":{"$error":"#REF!"}},{"$f":"IF(#REF!=\"\", \"\",#REF!)","v":{"$error":"#REF!"}},{"$f":"IF(#REF!=\"\", \"\",#REF!)","v":{"$error":"#REF!"}},{"$f":"IF(#REF!=\"\", \"\",#REF!)","v":{"$error":"#REF!"}},{"$f":"IF(#REF!=\"\", \"\",#REF!)","v":{"$error":"#REF!"}},{"$f":"IF(#REF!=\"\", \"\",#REF!)","v":{"$error":"#REF!"}},{"$f":"IF(#REF!=\"\", \"\",#REF!)","v":{"$error":"#REF!"}},{"$f":"IF(#REF!=\"\", \"\",#REF!)","v":{"$error":"#REF!"}},{"$f":"IF(#REF!=\"\", \"\",#REF!)","v":{"$error":"#REF!"}},{"$f":"IF(#REF!=\"\", \"\",#REF!)","v":{"$error":"#REF!"}},{"$f":"IF(#REF!=\"\", \"\",#REF!)","v":{"$error":"#REF!"}},{"$f":"IF(#REF!=\"\", \"\",#REF!)","v":{"$error":"#REF!"}},{"$f":"IF(#REF!=\"\", \"\",#REF!)","v":{"$error":"#REF!"}}]
["Item 66",{"$f":"IF(#REF!=\"\", \"\",#REF!)","v":{"$error":"#REF!"}},{"$f":"IF(#REF!=\"\", \"\",#REF!)","v":{"$error":"#REF!"}},{"$f":"IF(#REF!=\"\", \"\",#REF!)","v":{"$error":"#REF!"}},{"$f":"IF(#REF!=\"\", \"\",#REF!)","v":{"$error":"#REF!"}},{"$f":"IF(#REF!=\"\", \"\",#REF!)","v":{"$error":"#REF!"}},{"$f":"IF(#REF!=\"\", \"\",#REF!)","v":{"$error":"#REF!"}},{"$f":"IF(#REF!=\"\", \"\",#REF!)","v":{"$error":"#REF!"}},{"$f":"IF(#REF!=\"\", \"\",#REF!)","v":{"$error":"#REF!"}},{"$f":"IF(#REF!=\"\", \"\",#REF!)","v":{"$error":"#REF!"}},{"$f":"IF(#REF!=\"\", \"\",#REF!)","v":{"$error":"#REF!"}},{"$f":"IF(#REF!=\"\", \"\",#REF!)","v":{"$error":"#REF!"}},{"$f":"IF(#REF!=\"\", \"\",#REF!)","v":{"$error":"#REF!"}},{"$f":"IF(#REF!=\"\", \"\",#REF!)","v":{"$error":"#REF!"}},{"$f":"IF(#REF!=\"\", \"\",#REF!)","v":{"$error":"#REF!"}},{"$f":"IF(#REF!=\"\", \"\",#REF!)","v":{"$error":"#REF!"}},{"$f":"IF(#REF!=\"\", \"\",#REF!)","v":{"$error":"#REF!"}},{"$f":"IF(#REF!=\"\", \"\",#REF!)","v":{"$error":"#REF!"}},{"$f":"IF(#REF!=\"\", \"\",#REF!)","v":{"$error":"#REF!"}},{"$f":"IF(#REF!=\"\", \"\",#REF!)","v":{"$error":"#REF!"}},{"$f":"IF(#REF!=\"\", \"\",#REF!)","v":{"$error":"#REF!"}},{"$f":"IF(#REF!=\"\", \"\",#REF!)","v":{"$error":"#REF!"}},{"$f":"IF(#REF!=\"\", \"\",#REF!)","v":{"$error":"#REF!"}},{"$f":"IF(#REF!=\"\", \"\",#REF!)","v":{"$error":"#REF!"}},{"$f":"IF(#REF!=\"\", \"\",#REF!)","v":{"$error":"#REF!"}},{"$f":"IF(#REF!=\"\", \"\",#REF!)","v":{"$error":"#REF!"}},{"$f":"IF(#REF!=\"\", \"\",#REF!)","v":{"$error":"#REF!"}},{"$f":"IF(#REF!=\"\", \"\",#REF!)","v":{"$error":"#REF!"}},{"$f":"IF(#REF!=\"\", \"\",#REF!)","v":{"$error":"#REF!"}},{"$f":"IF(#REF!=\"\", \"\",#REF!)","v":{"$error":"#REF!"}},{"$f":"IF(#REF!=\"\", \"\",#REF!)","v":{"$error":"#REF!"}},{"$f":"IF(#REF!=\"\", \"\",#REF!)","v":{"$error":"#REF!"}},{"$f":"IF(#REF!=\"\", \"\",#REF!)","v":{"$error":"#REF!"}},{"$f":"IF(#REF!=\"\", \"\",#REF!)","v":{"$error":"#REF!"}},{"$f":"IF(#REF!=\"\", \"\",#REF!)","v":{"$error":"#REF!"}},{"$f":"IF(#REF!=\"\", \"\",#REF!)","v":{"$error":"#REF!"}},{"$f":"IF(#REF!=\"\", \"\",#REF!)","v":{"$error":"#REF!"}},{"$f":"IF(#REF!=\"\", \"\",#REF!)","v":{"$error":"#REF!"}},{"$f":"IF(#REF!=\"\", \"\",#REF!)","v":{"$error":"#REF!"}},{"$f":"IF(#REF!=\"\", \"\",#REF!)","v":{"$error":"#REF!"}},{"$f":"IF(#REF!=\"\", \"\",#REF!)","v":{"$error":"#REF!"}},{"$f":"IF(#REF!=\"\", \"\",#REF!)","v":{"$error":"#REF!"}},{"$f":"IF(#REF!=\"\", \"\",#REF!)","v":{"$error":"#REF!"}},{"$f":"IF(#REF!=\"\", \"\",#REF!)","v":{"$error":"#REF!"}},{"$f":"IF(#REF!=\"\", \"\",#REF!)","v":{"$error":"#REF!"}},{"$f":"IF(#REF!=\"\", \"\",#REF!)","v":{"$error":"#REF!"}},{"$f":"IF(#REF!=\"\", \"\",#REF!)","v":{"$error":"#REF!"}},{"$f":"IF(#REF!=\"\", \"\",#REF!)","v":{"$error":"#REF!"}},{"$f":"IF(#REF!=\"\", \"\",#REF!)","v":{"$error":"#REF!"}},{"$f":"IF(#REF!=\"\", \"\",#REF!)","v":{"$error":"#REF!"}},{"$f":"IF(#REF!=\"\", \"\",#REF!)","v":{"$error":"#REF!"}},{"$f":"IF(#REF!=\"\", \"\",#REF!)","v":{"$error":"#REF!"}},{"$f":"IF(#REF!=\"\", \"\",#REF!)","v":{"$error":"#REF!"}},{"$f":"IF(#REF!=\"\", \"\",#REF!)","v":{"$error":"#REF!"}},{"$f":"IF(#REF!=\"\", \"\",#REF!)","v":{"$error":"#REF!"}},{"$f":"IF(#REF!=\"\", \"\",#REF!)","v":{"$error":"#REF!"}},{"$f":"IF(#REF!=\"\", \"\",#REF!)","v":{"$error":"#REF!"}},{"$f":"IF(#REF!=\"\", \"\",#REF!)","v":{"$error":"#REF!"}},{"$f":"IF(#REF!=\"\", \"\",#REF!)","v":{"$error":"#REF!"}},{"$f":"IF(#REF!=\"\", \"\",#REF!)","v":{"$error":"#REF!"}},{"$f":"IF(#REF!=\"\", \"\",#REF!)","v":{"$error":"#REF!"}},{"$f":"IF(#REF!=\"\", \"\",#REF!)","v":{"$error":"#REF!"}}]
["Item 67",{"$f":"IF(#REF!=\"\", \"\",#REF!)","v":{"$error":"#REF!"}},{"$f":"IF(#REF!=\"\", \"\",#REF!)","v":{"$error":"#REF!"}},{"$f":"IF(#REF!=\"\", \"\",#REF!)","v":{"$error":"#REF!"}},{"$f":"IF(#REF!=\"\", \"\",#REF!)","v":{"$error":"#REF!"}},{"$f":"IF(#REF!=\"\", \"\",#REF!)","v":{"$error":"#REF!"}},{"$f":"IF(#REF!=\"\", \"\",#REF!)","v":{"$error":"#REF!"}},{"$f":"IF(#REF!=\"\", \"\",#REF!)","v":{"$error":"#REF!"}},{"$f":"IF(#REF!=\"\", \"\",#REF!)","v":{"$error":"#REF!"}},{"$f":"IF(#REF!=\"\", \"\",#REF!)","v":{"$error":"#REF!"}},{"$f":"IF(#REF!=\"\", \"\",#REF!)","v":{"$error":"#REF!"}},{"$f":"IF(#REF!=\"\", \"\",#REF!)","v":{"$error":"#REF!"}},{"$f":"IF(#REF!=\"\", \"\",#REF!)","v":{"$error":"#REF!"}},{"$f":"IF(#REF!=\"\", \"\",#REF!)","v":{"$error":"#REF!"}},{"$f":"IF(#REF!=\"\", \"\",#REF!)","v":{"$error":"#REF!"}},{"$f":"IF(#REF!=\"\", \"\",#REF!)","v":{"$error":"#REF!"}},{"$f":"IF(#REF!=\"\", \"\",#REF!)","v":{"$error":"#REF!"}},{"$f":"IF(#REF!=\"\", \"\",#REF!)","v":{"$error":"#REF!"}},{"$f":"IF(#REF!=\"\", \"\",#REF!)","v":{"$error":"#REF!"}},{"$f":"IF(#REF!=\"\", \"\",#REF!)","v":{"$error":"#REF!"}},{"$f":"IF(#REF!=\"\", \"\",#REF!)","v":{"$error":"#REF!"}},{"$f":"IF(#REF!=\"\", \"\",#REF!)","v":{"$error":"#REF!"}},{"$f":"IF(#REF!=\"\", \"\",#REF!)","v":{"$error":"#REF!"}},{"$f":"IF(#REF!=\"\", \"\",#REF!)","v":{"$error":"#REF!"}},{"$f":"IF(#REF!=\"\", \"\",#REF!)","v":{"$error":"#REF!"}},{"$f":"IF(#REF!=\"\", \"\",#REF!)","v":{"$error":"#REF!"}},{"$f":"IF(#REF!=\"\", \"\",#REF!)","v":{"$error":"#REF!"}},{"$f":"IF(#REF!=\"\", \"\",#REF!)","v":{"$error":"#REF!"}},{"$f":"IF(#REF!=\"\", \"\",#REF!)","v":{"$error":"#REF!"}},{"$f":"IF(#REF!=\"\", \"\",#REF!)","v":{"$error":"#REF!"}},{"$f":"IF(#REF!=\"\", \"\",#REF!)","v":{"$error":"#REF!"}},{"$f":"IF(#REF!=\"\", \"\",#REF!)","v":{"$error":"#REF!"}},{"$f":"IF(#REF!=\"\", \"\",#REF!)","v":{"$error":"#REF!"}},{"$f":"IF(#REF!=\"\", \"\",#REF!)","v":{"$error":"#REF!"}},{"$f":"IF(#REF!=\"\", \"\",#REF!)","v":{"$error":"#REF!"}},{"$f":"IF(#REF!=\"\", \"\",#REF!)","v":{"$error":"#REF!"}},{"$f":"IF(#REF!=\"\", \"\",#REF!)","v":{"$error":"#REF!"}},{"$f":"IF(#REF!=\"\", \"\",#REF!)","v":{"$error":"#REF!"}},{"$f":"IF(#REF!=\"\", \"\",#REF!)","v":{"$error":"#REF!"}},{"$f":"IF(#REF!=\"\", \"\",#REF!)","v":{"$error":"#REF!"}},{"$f":"IF(#REF!=\"\", \"\",#REF!)","v":{"$error":"#REF!"}},{"$f":"IF(#REF!=\"\", \"\",#REF!)","v":{"$error":"#REF!"}},{"$f":"IF(#REF!=\"\", \"\",#REF!)","v":{"$error":"#REF!"}},{"$f":"IF(#REF!=\"\", \"\",#REF!)","v":{"$error":"#REF!"}},{"$f":"IF(#REF!=\"\", \"\",#REF!)","v":{"$error":"#REF!"}},{"$f":"IF(#REF!=\"\", \"\",#REF!)","v":{"$error":"#REF!"}},{"$f":"IF(#REF!=\"\", \"\",#REF!)","v":{"$error":"#REF!"}},{"$f":"IF(#REF!=\"\", \"\",#REF!)","v":{"$error":"#REF!"}},{"$f":"IF(#REF!=\"\", \"\",#REF!)","v":{"$error":"#REF!"}},{"$f":"IF(#REF!=\"\", \"\",#REF!)","v":{"$error":"#REF!"}},{"$f":"IF(#REF!=\"\", \"\",#REF!)","v":{"$error":"#REF!"}},{"$f":"IF(#REF!=\"\", \"\",#REF!)","v":{"$error":"#REF!"}},{"$f":"IF(#REF!=\"\", \"\",#REF!)","v":{"$error":"#REF!"}},{"$f":"IF(#REF!=\"\", \"\",#REF!)","v":{"$error":"#REF!"}},{"$f":"IF(#REF!=\"\", \"\",#REF!)","v":{"$error":"#REF!"}},{"$f":"IF(#REF!=\"\", \"\",#REF!)","v":{"$error":"#REF!"}},{"$f":"IF(#REF!=\"\", \"\",#REF!)","v":{"$error":"#REF!"}},{"$f":"IF(#REF!=\"\", \"\",#REF!)","v":{"$error":"#REF!"}},{"$f":"IF(#REF!=\"\", \"\",#REF!)","v":{"$error":"#REF!"}},{"$f":"IF(#REF!=\"\", \"\",#REF!)","v":{"$error":"#REF!"}},{"$f":"IF(#REF!=\"\", \"\",#REF!)","v":{"$error":"#REF!"}},{"$f":"IF(#REF!=\"\", \"\",#REF!)","v":{"$error":"#REF!"}}]
["Item 68",{"$f":"IF(#REF!=\"\", \"\",#REF!)","v":{"$error":"#REF!"}},{"$f":"IF(#REF!=\"\", \"\",#REF!)","v":{"$error":"#REF!"}},{"$f":"IF(#REF!=\"\", \"\",#REF!)","v":{"$error":"#REF!"}},{"$f":"IF(#REF!=\"\", \"\",#REF!)","v":{"$error":"#REF!"}},{"$f":"IF(#REF!=\"\", \"\",#REF!)","v":{"$error":"#REF!"}},{"$f":"IF(#REF!=\"\", \"\",#REF!)","v":{"$error":"#REF!"}},{"$f":"IF(#REF!=\"\", \"\",#REF!)","v":{"$error":"#REF!"}},{"$f":"IF(#REF!=\"\", \"\",#REF!)","v":{"$error":"#REF!"}},{"$f":"IF(#REF!=\"\", \"\",#REF!)","v":{"$error":"#REF!"}},{"$f":"IF(#REF!=\"\", \"\",#REF!)","v":{"$error":"#REF!"}},{"$f":"IF(#REF!=\"\", \"\",#REF!)","v":{"$error":"#REF!"}},{"$f":"IF(#REF!=\"\", \"\",#REF!)","v":{"$error":"#REF!"}},{"$f":"IF(#REF!=\"\", \"\",#REF!)","v":{"$error":"#REF!"}},{"$f":"IF(#REF!=\"\", \"\",#REF!)","v":{"$error":"#REF!"}},{"$f":"IF(#REF!=\"\", \"\",#REF!)","v":{"$error":"#REF!"}},{"$f":"IF(#REF!=\"\", \"\",#REF!)","v":{"$error":"#REF!"}},{"$f":"IF(#REF!=\"\", \"\",#REF!)","v":{"$error":"#REF!"}},{"$f":"IF(#REF!=\"\", \"\",#REF!)","v":{"$error":"#REF!"}},{"$f":"IF(#REF!=\"\", \"\",#REF!)","v":{"$error":"#REF!"}},{"$f":"IF(#REF!=\"\", \"\",#REF!)","v":{"$error":"#REF!"}},{"$f":"IF(#REF!=\"\", \"\",#REF!)","v":{"$error":"#REF!"}},{"$f":"IF(#REF!=\"\", \"\",#REF!)","v":{"$error":"#REF!"}},{"$f":"IF(#REF!=\"\", \"\",#REF!)","v":{"$error":"#REF!"}},{"$f":"IF(#REF!=\"\", \"\",#REF!)","v":{"$error":"#REF!"}},{"$f":"IF(#REF!=\"\", \"\",#REF!)","v":{"$error":"#REF!"}},{"$f":"IF(#REF!=\"\", \"\",#REF!)","v":{"$error":"#REF!"}},{"$f":"IF(#REF!=\"\", \"\",#REF!)","v":{"$error":"#REF!"}},{"$f":"IF(#REF!=\"\", \"\",#REF!)","v":{"$error":"#REF!"}},{"$f":"IF(#REF!=\"\", \"\",#REF!)","v":{"$error":"#REF!"}},{"$f":"IF(#REF!=\"\", \"\",#REF!)","v":{"$error":"#REF!"}},{"$f":"IF(#REF!=\"\", \"\",#REF!)","v":{"$error":"#REF!"}},{"$f":"IF(#REF!=\"\", \"\",#REF!)","v":{"$error":"#REF!"}},{"$f":"IF(#REF!=\"\", \"\",#REF!)","v":{"$error":"#REF!"}},{"$f":"IF(#REF!=\"\", \"\",#REF!)","v":{"$error":"#REF!"}},{"$f":"IF(#REF!=\"\", \"\",#REF!)","v":{"$error":"#REF!"}},{"$f":"IF(#REF!=\"\", \"\",#REF!)","v":{"$error":"#REF!"}},{"$f":"IF(#REF!=\"\", \"\",#REF!)","v":{"$error":"#REF!"}},{"$f":"IF(#REF!=\"\", \"\",#REF!)","v":{"$error":"#REF!"}},{"$f":"IF(#REF!=\"\", \"\",#REF!)","v":{"$error":"#REF!"}},{"$f":"IF(#REF!=\"\", \"\",#REF!)","v":{"$error":"#REF!"}},{"$f":"IF(#REF!=\"\", \"\",#REF!)","v":{"$error":"#REF!"}},{"$f":"IF(#REF!=\"\", \"\",#REF!)","v":{"$error":"#REF!"}},{"$f":"IF(#REF!=\"\", \"\",#REF!)","v":{"$error":"#REF!"}},{"$f":"IF(#REF!=\"\", \"\",#REF!)","v":{"$error":"#REF!"}},{"$f":"IF(#REF!=\"\", \"\",#REF!)","v":{"$error":"#REF!"}},{"$f":"IF(#REF!=\"\", \"\",#REF!)","v":{"$error":"#REF!"}},{"$f":"IF(#REF!=\"\", \"\",#REF!)","v":{"$error":"#REF!"}},{"$f":"IF(#REF!=\"\", \"\",#REF!)","v":{"$error":"#REF!"}},{"$f":"IF(#REF!=\"\", \"\",#REF!)","v":{"$error":"#REF!"}},{"$f":"IF(#REF!=\"\", \"\",#REF!)","v":{"$error":"#REF!"}},{"$f":"IF(#REF!=\"\", \"\",#REF!)","v":{"$error":"#REF!"}},{"$f":"IF(#REF!=\"\", \"\",#REF!)","v":{"$error":"#REF!"}},{"$f":"IF(#REF!=\"\", \"\",#REF!)","v":{"$error":"#REF!"}},{"$f":"IF(#REF!=\"\", \"\",#REF!)","v":{"$error":"#REF!"}},{"$f":"IF(#REF!=\"\", \"\",#REF!)","v":{"$error":"#REF!"}},{"$f":"IF(#REF!=\"\", \"\",#REF!)","v":{"$error":"#REF!"}},{"$f":"IF(#REF!=\"\", \"\",#REF!)","v":{"$error":"#REF!"}},{"$f":"IF(#REF!=\"\", \"\",#REF!)","v":{"$error":"#REF!"}},{"$f":"IF(#REF!=\"\", \"\",#REF!)","v":{"$error":"#REF!"}},{"$f":"IF(#REF!=\"\", \"\",#REF!)","v":{"$error":"#REF!"}},{"$f":"IF(#REF!=\"\", \"\",#REF!)","v":{"$error":"#REF!"}}]
["Item 69",{"$f":"IF(#REF!=\"\", \"\",#REF!)","v":{"$error":"#REF!"}},{"$f":"IF(#REF!=\"\", \"\",#REF!)","v":{"$error":"#REF!"}},{"$f":"IF(#REF!=\"\", \"\",#REF!)","v":{"$error":"#REF!"}},{"$f":"IF(#REF!=\"\", \"\",#REF!)","v":{"$error":"#REF!"}},{"$f":"IF(#REF!=\"\", \"\",#REF!)","v":{"$error":"#REF!"}},{"$f":"IF(#REF!=\"\", \"\",#REF!)","v":{"$error":"#REF!"}},{"$f":"IF(#REF!=\"\", \"\",#REF!)","v":{"$error":"#REF!"}},{"$f":"IF(#REF!=\"\", \"\",#REF!)","v":{"$error":"#REF!"}},{"$f":"IF(#REF!=\"\", \"\",#REF!)","v":{"$error":"#REF!"}},{"$f":"IF(#REF!=\"\", \"\",#REF!)","v":{"$error":"#REF!"}},{"$f":"IF(#REF!=\"\", \"\",#REF!)","v":{"$error":"#REF!"}},{"$f":"IF(#REF!=\"\", \"\",#REF!)","v":{"$error":"#REF!"}},{"$f":"IF(#REF!=\"\", \"\",#REF!)","v":{"$error":"#REF!"}},{"$f":"IF(#REF!=\"\", \"\",#REF!)","v":{"$error":"#REF!"}},{"$f":"IF(#REF!=\"\", \"\",#REF!)","v":{"$error":"#REF!"}},{"$f":"IF(#REF!=\"\", \"\",#REF!)","v":{"$error":"#REF!"}},{"$f":"IF(#REF!=\"\", \"\",#REF!)","v":{"$error":"#REF!"}},{"$f":"IF(#REF!=\"\", \"\",#REF!)","v":{"$error":"#REF!"}},{"$f":"IF(#REF!=\"\", \"\",#REF!)","v":{"$error":"#REF!"}},{"$f":"IF(#REF!=\"\", \"\",#REF!)","v":{"$error":"#REF!"}},{"$f":"IF(#REF!=\"\", \"\",#REF!)","v":{"$error":"#REF!"}},{"$f":"IF(#REF!=\"\", \"\",#REF!)","v":{"$error":"#REF!"}},{"$f":"IF(#REF!=\"\", \"\",#REF!)","v":{"$error":"#REF!"}},{"$f":"IF(#REF!=\"\", \"\",#REF!)","v":{"$error":"#REF!"}},{"$f":"IF(#REF!=\"\", \"\",#REF!)","v":{"$error":"#REF!"}},{"$f":"IF(#REF!=\"\", \"\",#REF!)","v":{"$error":"#REF!"}},{"$f":"IF(#REF!=\"\", \"\",#REF!)","v":{"$error":"#REF!"}},{"$f":"IF(#REF!=\"\", \"\",#REF!)","v":{"$error":"#REF!"}},{"$f":"IF(#REF!=\"\", \"\",#REF!)","v":{"$error":"#REF!"}},{"$f":"IF(#REF!=\"\", \"\",#REF!)","v":{"$error":"#REF!"}},{"$f":"IF(#REF!=\"\", \"\",#REF!)","v":{"$error":"#REF!"}},{"$f":"IF(#REF!=\"\", \"\",#REF!)","v":{"$error":"#REF!"}},{"$f":"IF(#REF!=\"\", \"\",#REF!)","v":{"$error":"#REF!"}},{"$f":"IF(#REF!=\"\", \"\",#REF!)","v":{"$error":"#REF!"}},{"$f":"IF(#REF!=\"\", \"\",#REF!)","v":{"$error":"#REF!"}},{"$f":"IF(#REF!=\"\", \"\",#REF!)","v":{"$error":"#REF!"}},{"$f":"IF(#REF!=\"\", \"\",#REF!)","v":{"$error":"#REF!"}},{"$f":"IF(#REF!=\"\", \"\",#REF!)","v":{"$error":"#REF!"}},{"$f":"IF(#REF!=\"\", \"\",#REF!)","v":{"$error":"#REF!"}},{"$f":"IF(#REF!=\"\", \"\",#REF!)","v":{"$error":"#REF!"}},{"$f":"IF(#REF!=\"\", \"\",#REF!)","v":{"$error":"#REF!"}},{"$f":"IF(#REF!=\"\", \"\",#REF!)","v":{"$error":"#REF!"}},{"$f":"IF(#REF!=\"\", \"\",#REF!)","v":{"$error":"#REF!"}},{"$f":"IF(#REF!=\"\", \"\",#REF!)","v":{"$error":"#REF!"}},{"$f":"IF(#REF!=\"\", \"\",#REF!)","v":{"$error":"#REF!"}},{"$f":"IF(#REF!=\"\", \"\",#REF!)","v":{"$error":"#REF!"}},{"$f":"IF(#REF!=\"\", \"\",#REF!)","v":{"$error":"#REF!"}},{"$f":"IF(#REF!=\"\", \"\",#REF!)","v":{"$error":"#REF!"}},{"$f":"IF(#REF!=\"\", \"\",#REF!)","v":{"$error":"#REF!"}},{"$f":"IF(#REF!=\"\", \"\",#REF!)","v":{"$error":"#REF!"}},{"$f":"IF(#REF!=\"\", \"\",#REF!)","v":{"$error":"#REF!"}},{"$f":"IF(#REF!=\"\", \"\",#REF!)","v":{"$error":"#REF!"}},{"$f":"IF(#REF!=\"\", \"\",#REF!)","v":{"$error":"#REF!"}},{"$f":"IF(#REF!=\"\", \"\",#REF!)","v":{"$error":"#REF!"}},{"$f":"IF(#REF!=\"\", \"\",#REF!)","v":{"$error":"#REF!"}},{"$f":"IF(#REF!=\"\", \"\",#REF!)","v":{"$error":"#REF!"}},{"$f":"IF(#REF!=\"\", \"\",#REF!)","v":{"$error":"#REF!"}},{"$f":"IF(#REF!=\"\", \"\",#REF!)","v":{"$error":"#REF!"}},{"$f":"IF(#REF!=\"\", \"\",#REF!)","v":{"$error":"#REF!"}},{"$f":"IF(#REF!=\"\", \"\",#REF!)","v":{"$error":"#REF!"}},{"$f":"IF(#REF!=\"\", \"\",#REF!)","v":{"$error":"#REF!"}}]
["Item 70",{"$f":"IF(#REF!=\"\", \"\",#REF!)","v":{"$error":"#REF!"}},{"$f":"IF(#REF!=\"\", \"\",#REF!)","v":{"$error":"#REF!"}},{"$f":"IF(#REF!=\"\", \"\",#REF!)","v":{"$error":"#REF!"}},{"$f":"IF(#REF!=\"\", \"\",#REF!)","v":{"$error":"#REF!"}},{"$f":"IF(#REF!=\"\", \"\",#REF!)","v":{"$error":"#REF!"}},{"$f":"IF(#REF!=\"\", \"\",#REF!)","v":{"$error":"#REF!"}},{"$f":"IF(#REF!=\"\", \"\",#REF!)","v":{"$error":"#REF!"}},{"$f":"IF(#REF!=\"\", \"\",#REF!)","v":{"$error":"#REF!"}},{"$f":"IF(#REF!=\"\", \"\",#REF!)","v":{"$error":"#REF!"}},{"$f":"IF(#REF!=\"\", \"\",#REF!)","v":{"$error":"#REF!"}},{"$f":"IF(#REF!=\"\", \"\",#REF!)","v":{"$error":"#REF!"}},{"$f":"IF(#REF!=\"\", \"\",#REF!)","v":{"$error":"#REF!"}},{"$f":"IF(#REF!=\"\", \"\",#REF!)","v":{"$error":"#REF!"}},{"$f":"IF(#REF!=\"\", \"\",#REF!)","v":{"$error":"#REF!"}},{"$f":"IF(#REF!=\"\", \"\",#REF!)","v":{"$error":"#REF!"}},{"$f":"IF(#REF!=\"\", \"\",#REF!)","v":{"$error":"#REF!"}},{"$f":"IF(#REF!=\"\", \"\",#REF!)","v":{"$error":"#REF!"}},{"$f":"IF(#REF!=\"\", \"\",#REF!)","v":{"$error":"#REF!"}},{"$f":"IF(#REF!=\"\", \"\",#REF!)","v":{"$error":"#REF!"}},{"$f":"IF(#REF!=\"\", \"\",#REF!)","v":{"$error":"#REF!"}},{"$f":"IF(#REF!=\"\", \"\",#REF!)","v":{"$error":"#REF!"}},{"$f":"IF(#REF!=\"\", \"\",#REF!)","v":{"$error":"#REF!"}},{"$f":"IF(#REF!=\"\", \"\",#REF!)","v":{"$error":"#REF!"}},{"$f":"IF(#REF!=\"\", \"\",#REF!)","v":{"$error":"#REF!"}},{"$f":"IF(#REF!=\"\", \"\",#REF!)","v":{"$error":"#REF!"}},{"$f":"IF(#REF!=\"\", \"\",#REF!)","v":{"$error":"#REF!"}},{"$f":"IF(#REF!=\"\", \"\",#REF!)","v":{"$error":"#REF!"}},{"$f":"IF(#REF!=\"\", \"\",#REF!)","v":{"$error":"#REF!"}},{"$f":"IF(#REF!=\"\", \"\",#REF!)","v":{"$error":"#REF!"}},{"$f":"IF(#REF!=\"\", \"\",#REF!)","v":{"$error":"#REF!"}},{"$f":"IF(#REF!=\"\", \"\",#REF!)","v":{"$error":"#REF!"}},{"$f":"IF(#REF!=\"\", \"\",#REF!)","v":{"$error":"#REF!"}},{"$f":"IF(#REF!=\"\", \"\",#REF!)","v":{"$error":"#REF!"}},{"$f":"IF(#REF!=\"\", \"\",#REF!)","v":{"$error":"#REF!"}},{"$f":"IF(#REF!=\"\", \"\",#REF!)","v":{"$error":"#REF!"}},{"$f":"IF(#REF!=\"\", \"\",#REF!)","v":{"$error":"#REF!"}},{"$f":"IF(#REF!=\"\", \"\",#REF!)","v":{"$error":"#REF!"}},{"$f":"IF(#REF!=\"\", \"\",#REF!)","v":{"$error":"#REF!"}},{"$f":"IF(#REF!=\"\", \"\",#REF!)","v":{"$error":"#REF!"}},{"$f":"IF(#REF!=\"\", \"\",#REF!)","v":{"$error":"#REF!"}},{"$f":"IF(#REF!=\"\", \"\",#REF!)","v":{"$error":"#REF!"}},{"$f":"IF(#REF!=\"\", \"\",#REF!)","v":{"$error":"#REF!"}},{"$f":"IF(#REF!=\"\", \"\",#REF!)","v":{"$error":"#REF!"}},{"$f":"IF(#REF!=\"\", \"\",#REF!)","v":{"$error":"#REF!"}},{"$f":"IF(#REF!=\"\", \"\",#REF!)","v":{"$error":"#REF!"}},{"$f":"IF(#REF!=\"\", \"\",#REF!)","v":{"$error":"#REF!"}},{"$f":"IF(#REF!=\"\", \"\",#REF!)","v":{"$error":"#REF!"}},{"$f":"IF(#REF!=\"\", \"\",#REF!)","v":{"$error":"#REF!"}},{"$f":"IF(#REF!=\"\", \"\",#REF!)","v":{"$error":"#REF!"}},{"$f":"IF(#REF!=\"\", \"\",#REF!)","v":{"$error":"#REF!"}},{"$f":"IF(#REF!=\"\", \"\",#REF!)","v":{"$error":"#REF!"}},{"$f":"IF(#REF!=\"\", \"\",#REF!)","v":{"$error":"#REF!"}},{"$f":"IF(#REF!=\"\", \"\",#REF!)","v":{"$error":"#REF!"}},{"$f":"IF(#REF!=\"\", \"\",#REF!)","v":{"$error":"#REF!"}},{"$f":"IF(#REF!=\"\", \"\",#REF!)","v":{"$error":"#REF!"}},{"$f":"IF(#REF!=\"\", \"\",#REF!)","v":{"$error":"#REF!"}},{"$f":"IF(#REF!=\"\", \"\",#REF!)","v":{"$error":"#REF!"}},{"$f":"IF(#REF!=\"\", \"\",#REF!)","v":{"$error":"#REF!"}},{"$f":"IF(#REF!=\"\", \"\",#REF!)","v":{"$error":"#REF!"}},{"$f":"IF(#REF!=\"\", \"\",#REF!)","v":{"$error":"#REF!"}},{"$f":"IF(#REF!=\"\", \"\",#REF!)","v":{"$error":"#REF!"}}]
["Item 71",{"$f":"IF(#REF!=\"\", \"\",#REF!)","v":{"$error":"#REF!"}},{"$f":"IF(#REF!=\"\", \"\",#REF!)","v":{"$error":"#REF!"}},{"$f":"IF(#REF!=\"\", \"\",#REF!)","v":{"$error":"#REF!"}},{"$f":"IF(#REF!=\"\", \"\",#REF!)","v":{"$error":"#REF!"}},{"$f":"IF(#REF!=\"\", \"\",#REF!)","v":{"$error":"#REF!"}},{"$f":"IF(#REF!=\"\", \"\",#REF!)","v":{"$error":"#REF!"}},{"$f":"IF(#REF!=\"\", \"\",#REF!)","v":{"$error":"#REF!"}},{"$f":"IF(#REF!=\"\", \"\",#REF!)","v":{"$error":"#REF!"}},{"$f":"IF(#REF!=\"\", \"\",#REF!)","v":{"$error":"#REF!"}},{"$f":"IF(#REF!=\"\", \"\",#REF!)","v":{"$error":"#REF!"}},{"$f":"IF(#REF!=\"\", \"\",#REF!)","v":{"$error":"#REF!"}},{"$f":"IF(#REF!=\"\", \"\",#REF!)","v":{"$error":"#REF!"}},{"$f":"IF(#REF!=\"\", \"\",#REF!)","v":{"$error":"#REF!"}},{"$f":"IF(#REF!=\"\", \"\",#REF!)","v":{"$error":"#REF!"}},{"$f":"IF(#REF!=\"\", \"\",#REF!)","v":{"$error":"#REF!"}},{"$f":"IF(#REF!=\"\", \"\",#REF!)","v":{"$error":"#REF!"}},{"$f":"IF(#REF!=\"\", \"\",#REF!)","v":{"$error":"#REF!"}},{"$f":"IF(#REF!=\"\", \"\",#REF!)","v":{"$error":"#REF!"}},{"$f":"IF(#REF!=\"\", \"\",#REF!)","v":{"$error":"#REF!"}},{"$f":"IF(#REF!=\"\", \"\",#REF!)","v":{"$error":"#REF!"}},{"$f":"IF(#REF!=\"\", \"\",#REF!)","v":{"$error":"#REF!"}},{"$f":"IF(#REF!=\"\", \"\",#REF!)","v":{"$error":"#REF!"}},{"$f":"IF(#REF!=\"\", \"\",#REF!)","v":{"$error":"#REF!"}},{"$f":"IF(#REF!=\"\", \"\",#REF!)","v":{"$error":"#REF!"}},{"$f":"IF(#REF!=\"\", \"\",#REF!)","v":{"$error":"#REF!"}},{"$f":"IF(#REF!=\"\", \"\",#REF!)","v":{"$error":"#REF!"}},{"$f":"IF(#REF!=\"\", \"\",#REF!)","v":{"$error":"#REF!"}},{"$f":"IF(#REF!=\"\", \"\",#REF!)","v":{"$error":"#REF!"}},{"$f":"IF(#REF!=\"\", \"\",#REF!)","v":{"$error":"#REF!"}},{"$f":"IF(#REF!=\"\", \"\",#REF!)","v":{"$error":"#REF!"}},{"$f":"IF(#REF!=\"\", \"\",#REF!)","v":{"$error":"#REF!"}},{"$f":"IF(#REF!=\"\", \"\",#REF!)","v":{"$error":"#REF!"}},{"$f":"IF(#REF!=\"\", \"\",#REF!)","v":{"$error":"#REF!"}},{"$f":"IF(#REF!=\"\", \"\",#REF!)","v":{"$error":"#REF!"}},{"$f":"IF(#REF!=\"\", \"\",#REF!)","v":{"$error":"#REF!"}},{"$f":"IF(#REF!=\"\", \"\",#REF!)","v":{"$error":"#REF!"}},{"$f":"IF(#REF!=\"\", \"\",#REF!)","v":{"$error":"#REF!"}},{"$f":"IF(#REF!=\"\", \"\",#REF!)","v":{"$error":"#REF!"}},{"$f":"IF(#REF!=\"\", \"\",#REF!)","v":{"$error":"#REF!"}},{"$f":"IF(#REF!=\"\", \"\",#REF!)","v":{"$error":"#REF!"}},{"$f":"IF(#REF!=\"\", \"\",#REF!)","v":{"$error":"#REF!"}},{"$f":"IF(#REF!=\"\", \"\",#REF!)","v":{"$error":"#REF!"}},{"$f":"IF(#REF!=\"\", \"\",#REF!)","v":{"$error":"#REF!"}},{"$f":"IF(#REF!=\"\", \"\",#REF!)","v":{"$error":"#REF!"}},{"$f":"IF(#REF!=\"\", \"\",#REF!)","v":{"$error":"#REF!"}},{"$f":"IF(#REF!=\"\", \"\",#REF!)","v":{"$error":"#REF!"}},{"$f":"IF(#REF!=\"\", \"\",#REF!)","v":{"$error":"#REF!"}},{"$f":"IF(#REF!=\"\", \"\",#REF!)","v":{"$error":"#REF!"}},{"$f":"IF(#REF!=\"\", \"\",#REF!)","v":{"$error":"#REF!"}},{"$f":"IF(#REF!=\"\", \"\",#REF!)","v":{"$error":"#REF!"}},{"$f":"IF(#REF!=\"\", \"\",#REF!)","v":{"$error":"#REF!"}},{"$f":"IF(#REF!=\"\", \"\",#REF!)","v":{"$error":"#REF!"}},{"$f":"IF(#REF!=\"\", \"\",#REF!)","v":{"$error":"#REF!"}},{"$f":"IF(#REF!=\"\", \"\",#REF!)","v":{"$error":"#REF!"}},{"$f":"IF(#REF!=\"\", \"\",#REF!)","v":{"$error":"#REF!"}},{"$f":"IF(#REF!=\"\", \"\",#REF!)","v":{"$error":"#REF!"}},{"$f":"IF(#REF!=\"\", \"\",#REF!)","v":{"$error":"#REF!"}},{"$f":"IF(#REF!=\"\", \"\",#REF!)","v":{"$error":"#REF!"}},{"$f":"IF(#REF!=\"\", \"\",#REF!)","v":{"$error":"#REF!"}},{"$f":"IF(#REF!=\"\", \"\",#REF!)","v":{"$error":"#REF!"}},{"$f":"IF(#REF!=\"\", \"\",#REF!)","v":{"$error":"#REF!"}}]
["Item 72",{"$f":"IF(#REF!=\"\", \"\",#REF!)","v":{"$error":"#REF!"}},{"$f":"IF(#REF!=\"\", \"\",#REF!)","v":{"$error":"#REF!"}},{"$f":"IF(#REF!=\"\", \"\",#REF!)","v":{"$error":"#REF!"}},{"$f":"IF(#REF!=\"\", \"\",#REF!)","v":{"$error":"#REF!"}},{"$f":"IF(#REF!=\"\", \"\",#REF!)","v":{"$error":"#REF!"}},{"$f":"IF(#REF!=\"\", \"\",#REF!)","v":{"$error":"#REF!"}},{"$f":"IF(#REF!=\"\", \"\",#REF!)","v":{"$error":"#REF!"}},{"$f":"IF(#REF!=\"\", \"\",#REF!)","v":{"$error":"#REF!"}},{"$f":"IF(#REF!=\"\", \"\",#REF!)","v":{"$error":"#REF!"}},{"$f":"IF(#REF!=\"\", \"\",#REF!)","v":{"$error":"#REF!"}},{"$f":"IF(#REF!=\"\", \"\",#REF!)","v":{"$error":"#REF!"}},{"$f":"IF(#REF!=\"\", \"\",#REF!)","v":{"$error":"#REF!"}},{"$f":"IF(#REF!=\"\", \"\",#REF!)","v":{"$error":"#REF!"}},{"$f":"IF(#REF!=\"\", \"\",#REF!)","v":{"$error":"#REF!"}},{"$f":"IF(#REF!=\"\", \"\",#REF!)","v":{"$error":"#REF!"}},{"$f":"IF(#REF!=\"\", \"\",#REF!)","v":{"$error":"#REF!"}},{"$f":"IF(#REF!=\"\", \"\",#REF!)","v":{"$error":"#REF!"}},{"$f":"IF(#REF!=\"\", \"\",#REF!)","v":{"$error":"#REF!"}},{"$f":"IF(#REF!=\"\", \"\",#REF!)","v":{"$error":"#REF!"}},{"$f":"IF(#REF!=\"\", \"\",#REF!)","v":{"$error":"#REF!"}},{"$f":"IF(#REF!=\"\", \"\",#REF!)","v":{"$error":"#REF!"}},{"$f":"IF(#REF!=\"\", \"\",#REF!)","v":{"$error":"#REF!"}},{"$f":"IF(#REF!=\"\", \"\",#REF!)","v":{"$error":"#REF!"}},{"$f":"IF(#REF!=\"\", \"\",#REF!)","v":{"$error":"#REF!"}},{"$f":"IF(#REF!=\"\", \"\",#REF!)","v":{"$error":"#REF!"}},{"$f":"IF(#REF!=\"\", \"\",#REF!)","v":{"$error":"#REF!"}},{"$f":"IF(#REF!=\"\", \"\",#REF!)","v":{"$error":"#REF!"}},{"$f":"IF(#REF!=\"\", \"\",#REF!)","v":{"$error":"#REF!"}},{"$f":"IF(#REF!=\"\", \"\",#REF!)","v":{"$error":"#REF!"}},{"$f":"IF(#REF!=\"\", \"\",#REF!)","v":{"$error":"#REF!"}},{"$f":"IF(#REF!=\"\", \"\",#REF!)","v":{"$error":"#REF!"}},{"$f":"IF(#REF!=\"\", \"\",#REF!)","v":{"$error":"#REF!"}},{"$f":"IF(#REF!=\"\", \"\",#REF!)","v":{"$error":"#REF!"}},{"$f":"IF(#REF!=\"\", \"\",#REF!)","v":{"$error":"#REF!"}},{"$f":"IF(#REF!=\"\", \"\",#REF!)","v":{"$error":"#REF!"}},{"$f":"IF(#REF!=\"\", \"\",#REF!)","v":{"$error":"#REF!"}},{"$f":"IF(#REF!=\"\", \"\",#REF!)","v":{"$error":"#REF!"}},{"$f":"IF(#REF!=\"\", \"\",#REF!)","v":{"$error":"#REF!"}},{"$f":"IF(#REF!=\"\", \"\",#REF!)","v":{"$error":"#REF!"}},{"$f":"IF(#REF!=\"\", \"\",#REF!)","v":{"$error":"#REF!"}},{"$f":"IF(#REF!=\"\", \"\",#REF!)","v":{"$error":"#REF!"}},{"$f":"IF(#REF!=\"\", \"\",#REF!)","v":{"$error":"#REF!"}},{"$f":"IF(#REF!=\"\", \"\",#REF!)","v":{"$error":"#REF!"}},{"$f":"IF(#REF!=\"\", \"\",#REF!)","v":{"$error":"#REF!"}},{"$f":"IF(#REF!=\"\", \"\",#REF!)","v":{"$error":"#REF!"}},{"$f":"IF(#REF!=\"\", \"\",#REF!)","v":{"$error":"#REF!"}},{"$f":"IF(#REF!=\"\", \"\",#REF!)","v":{"$error":"#REF!"}},{"$f":"IF(#REF!=\"\", \"\",#REF!)","v":{"$error":"#REF!"}},{"$f":"IF(#REF!=\"\", \"\",#REF!)","v":{"$error":"#REF!"}},{"$f":"IF(#REF!=\"\", \"\",#REF!)","v":{"$error":"#REF!"}},{"$f":"IF(#REF!=\"\", \"\",#REF!)","v":{"$error":"#REF!"}},{"$f":"IF(#REF!=\"\", \"\",#REF!)","v":{"$error":"#REF!"}},{"$f":"IF(#REF!=\"\", \"\",#REF!)","v":{"$error":"#REF!"}},{"$f":"IF(#REF!=\"\", \"\",#REF!)","v":{"$error":"#REF!"}},{"$f":"IF(#REF!=\"\", \"\",#REF!)","v":{"$error":"#REF!"}},{"$f":"IF(#REF!=\"\", \"\",#REF!)","v":{"$error":"#REF!"}},{"$f":"IF(#REF!=\"\", \"\",#REF!)","v":{"$error":"#REF!"}},{"$f":"IF(#REF!=\"\", \"\",#REF!)","v":{"$error":"#REF!"}},{"$f":"IF(#REF!=\"\", \"\",#REF!)","v":{"$error":"#REF!"}},{"$f":"IF(#REF!=\"\", \"\",#REF!)","v":{"$error":"#REF!"}},{"$f":"IF(#REF!=\"\", \"\",#REF!)","v":{"$error":"#REF!"}}]
["Item 73",{"$f":"IF(#REF!=\"\", \"\",#REF!)","v":{"$error":"#REF!"}},{"$f":"IF(#REF!=\"\", \"\",#REF!)","v":{"$error":"#REF!"}},{"$f":"IF(#REF!=\"\", \"\",#REF!)","v":{"$error":"#REF!"}},{"$f":"IF(#REF!=\"\", \"\",#REF!)","v":{"$error":"#REF!"}},{"$f":"IF(#REF!=\"\", \"\",#REF!)","v":{"$error":"#REF!"}},{"$f":"IF(#REF!=\"\", \"\",#REF!)","v":{"$error":"#REF!"}},{"$f":"IF(#REF!=\"\", \"\",#REF!)","v":{"$error":"#REF!"}},{"$f":"IF(#REF!=\"\", \"\",#REF!)","v":{"$error":"#REF!"}},{"$f":"IF(#REF!=\"\", \"\",#REF!)","v":{"$error":"#REF!"}},{"$f":"IF(#REF!=\"\", \"\",#REF!)","v":{"$error":"#REF!"}},{"$f":"IF(#REF!=\"\", \"\",#REF!)","v":{"$error":"#REF!"}},{"$f":"IF(#REF!=\"\", \"\",#REF!)","v":{"$error":"#REF!"}},{"$f":"IF(#REF!=\"\", \"\",#REF!)","v":{"$error":"#REF!"}},{"$f":"IF(#REF!=\"\", \"\",#REF!)","v":{"$error":"#REF!"}},{"$f":"IF(#REF!=\"\", \"\",#REF!)","v":{"$error":"#REF!"}},{"$f":"IF(#REF!=\"\", \"\",#REF!)","v":{"$error":"#REF!"}},{"$f":"IF(#REF!=\"\", \"\",#REF!)","v":{"$error":"#REF!"}},{"$f":"IF(#REF!=\"\", \"\",#REF!)","v":{"$error":"#REF!"}},{"$f":"IF(#REF!=\"\", \"\",#REF!)","v":{"$error":"#REF!"}},{"$f":"IF(#REF!=\"\", \"\",#REF!)","v":{"$error":"#REF!"}},{"$f":"IF(#REF!=\"\", \"\",#REF!)","v":{"$error":"#REF!"}},{"$f":"IF(#REF!=\"\", \"\",#REF!)","v":{"$error":"#REF!"}},{"$f":"IF(#REF!=\"\", \"\",#REF!)","v":{"$error":"#REF!"}},{"$f":"IF(#REF!=\"\", \"\",#REF!)","v":{"$error":"#REF!"}},{"$f":"IF(#REF!=\"\", \"\",#REF!)","v":{"$error":"#REF!"}},{"$f":"IF(#REF!=\"\", \"\",#REF!)","v":{"$error":"#REF!"}},{"$f":"IF(#REF!=\"\", \"\",#REF!)","v":{"$error":"#REF!"}},{"$f":"IF(#REF!=\"\", \"\",#REF!)","v":{"$error":"#REF!"}},{"$f":"IF(#REF!=\"\", \"\",#REF!)","v":{"$error":"#REF!"}},{"$f":"IF(#REF!=\"\", \"\",#REF!)","v":{"$error":"#REF!"}},{"$f":"IF(#REF!=\"\", \"\",#REF!)","v":{"$error":"#REF!"}},{"$f":"IF(#REF!=\"\", \"\",#REF!)","v":{"$error":"#REF!"}},{"$f":"IF(#REF!=\"\", \"\",#REF!)","v":{"$error":"#REF!"}},{"$f":"IF(#REF!=\"\", \"\",#REF!)","v":{"$error":"#REF!"}},{"$f":"IF(#REF!=\"\", \"\",#REF!)","v":{"$error":"#REF!"}},{"$f":"IF(#REF!=\"\", \"\",#REF!)","v":{"$error":"#REF!"}},{"$f":"IF(#REF!=\"\", \"\",#REF!)","v":{"$error":"#REF!"}},{"$f":"IF(#REF!=\"\", \"\",#REF!)","v":{"$error":"#REF!"}},{"$f":"IF(#REF!=\"\", \"\",#REF!)","v":{"$error":"#REF!"}},{"$f":"IF(#REF!=\"\", \"\",#REF!)","v":{"$error":"#REF!"}},{"$f":"IF(#REF!=\"\", \"\",#REF!)","v":{"$error":"#REF!"}},{"$f":"IF(#REF!=\"\", \"\",#REF!)","v":{"$error":"#REF!"}},{"$f":"IF(#REF!=\"\", \"\",#REF!)","v":{"$error":"#REF!"}},{"$f":"IF(#REF!=\"\", \"\",#REF!)","v":{"$error":"#REF!"}},{"$f":"IF(#REF!=\"\", \"\",#REF!)","v":{"$error":"#REF!"}},{"$f":"IF(#REF!=\"\", \"\",#REF!)","v":{"$error":"#REF!"}},{"$f":"IF(#REF!=\"\", \"\",#REF!)","v":{"$error":"#REF!"}},{"$f":"IF(#REF!=\"\", \"\",#REF!)","v":{"$error":"#REF!"}},{"$f":"IF(#REF!=\"\", \"\",#REF!)","v":{"$error":"#REF!"}},{"$f":"IF(#REF!=\"\", \"\",#REF!)","v":{"$error":"#REF!"}},{"$f":"IF(#REF!=\"\", \"\",#REF!)","v":{"$error":"#REF!"}},{"$f":"IF(#REF!=\"\", \"\",#REF!)","v":{"$error":"#REF!"}},{"$f":"IF(#REF!=\"\", \"\",#REF!)","v":{"$error":"#REF!"}},{"$f":"IF(#REF!=\"\", \"\",#REF!)","v":{"$error":"#REF!"}},{"$f":"IF(#REF!=\"\", \"\",#REF!)","v":{"$error":"#REF!"}},{"$f":"IF(#REF!=\"\", \"\",#REF!)","v":{"$error":"#REF!"}},{"$f":"IF(#REF!=\"\", \"\",#REF!)","v":{"$error":"#REF!"}},{"$f":"IF(#REF!=\"\", \"\",#REF!)","v":{"$error":"#REF!"}},{"$f":"IF(#REF!=\"\", \"\",#REF!)","v":{"$error":"#REF!"}},{"$f":"IF(#REF!=\"\", \"\",#REF!)","v":{"$error":"#REF!"}},{"$f":"IF(#REF!=\"\", \"\",#REF!)","v":{"$error":"#REF!"}}]
["Item 74",{"$f":"IF(#REF!=\"\", \"\",#REF!)","v":{"$error":"#REF!"}},{"$f":"IF(#REF!=\"\", \"\",#REF!)","v":{"$error":"#REF!"}},{"$f":"IF(#REF!=\"\", \"\",#REF!)","v":{"$error":"#REF!"}},{"$f":"IF(#REF!=\"\", \"\",#REF!)","v":{"$error":"#REF!"}},{"$f":"IF(#REF!=\"\", \"\",#REF!)","v":{"$error":"#REF!"}},{"$f":"IF(#REF!=\"\", \"\",#REF!)","v":{"$error":"#REF!"}},{"$f":"IF(#REF!=\"\", \"\",#REF!)","v":{"$error":"#REF!"}},{"$f":"IF(#REF!=\"\", \"\",#REF!)","v":{"$error":"#REF!"}},{"$f":"IF(#REF!=\"\", \"\",#REF!)","v":{"$error":"#REF!"}},{"$f":"IF(#REF!=\"\", \"\",#REF!)","v":{"$error":"#REF!"}},{"$f":"IF(#REF!=\"\", \"\",#REF!)","v":{"$error":"#REF!"}},{"$f":"IF(#REF!=\"\", \"\",#REF!)","v":{"$error":"#REF!"}},{"$f":"IF(#REF!=\"\", \"\",#REF!)","v":{"$error":"#REF!"}},{"$f":"IF(#REF!=\"\", \"\",#REF!)","v":{"$error":"#REF!"}},{"$f":"IF(#REF!=\"\", \"\",#REF!)","v":{"$error":"#REF!"}},{"$f":"IF(#REF!=\"\", \"\",#REF!)","v":{"$error":"#REF!"}},{"$f":"IF(#REF!=\"\", \"\",#REF!)","v":{"$error":"#REF!"}},{"$f":"IF(#REF!=\"\", \"\",#REF!)","v":{"$error":"#REF!"}},{"$f":"IF(#REF!=\"\", \"\",#REF!)","v":{"$error":"#REF!"}},{"$f":"IF(#REF!=\"\", \"\",#REF!)","v":{"$error":"#REF!"}},{"$f":"IF(#REF!=\"\", \"\",#REF!)","v":{"$error":"#REF!"}},{"$f":"IF(#REF!=\"\", \"\",#REF!)","v":{"$error":"#REF!"}},{"$f":"IF(#REF!=\"\", \"\",#REF!)","v":{"$error":"#REF!"}},{"$f":"IF(#REF!=\"\", \"\",#REF!)","v":{"$error":"#REF!"}},{"$f":"IF(#REF!=\"\", \"\",#REF!)","v":{"$error":"#REF!"}},{"$f":"IF(#REF!=\"\", \"\",#REF!)","v":{"$error":"#REF!"}},{"$f":"IF(#REF!=\"\", \"\",#REF!)","v":{"$error":"#REF!"}},{"$f":"IF(#REF!=\"\", \"\",#REF!)","v":{"$error":"#REF!"}},{"$f":"IF(#REF!=\"\", \"\",#REF!)","v":{"$error":"#REF!"}},{"$f":"IF(#REF!=\"\", \"\",#REF!)","v":{"$error":"#REF!"}},{"$f":"IF(#REF!=\"\", \"\",#REF!)","v":{"$error":"#REF!"}},{"$f":"IF(#REF!=\"\", \"\",#REF!)","v":{"$error":"#REF!"}},{"$f":"IF(#REF!=\"\", \"\",#REF!)","v":{"$error":"#REF!"}},{"$f":"IF(#REF!=\"\", \"\",#REF!)","v":{"$error":"#REF!"}},{"$f":"IF(#REF!=\"\", \"\",#REF!)","v":{"$error":"#REF!"}},{"$f":"IF(#REF!=\"\", \"\",#REF!)","v":{"$error":"#REF!"}},{"$f":"IF(#REF!=\"\", \"\",#REF!)","v":{"$error":"#REF!"}},{"$f":"IF(#REF!=\"\", \"\",#REF!)","v":{"$error":"#REF!"}},{"$f":"IF(#REF!=\"\", \"\",#REF!)","v":{"$error":"#REF!"}},{"$f":"IF(#REF!=\"\", \"\",#REF!)","v":{"$error":"#REF!"}},{"$f":"IF(#REF!=\"\", \"\",#REF!)","v":{"$error":"#REF!"}},{"$f":"IF(#REF!=\"\", \"\",#REF!)","v":{"$error":"#REF!"}},{"$f":"IF(#REF!=\"\", \"\",#REF!)","v":{"$error":"#REF!"}},{"$f":"IF(#REF!=\"\", \"\",#REF!)","v":{"$error":"#REF!"}},{"$f":"IF(#REF!=\"\", \"\",#REF!)","v":{"$error":"#REF!"}},{"$f":"IF(#REF!=\"\", \"\",#REF!)","v":{"$error":"#REF!"}},{"$f":"IF(#REF!=\"\", \"\",#REF!)","v":{"$error":"#REF!"}},{"$f":"IF(#REF!=\"\", \"\",#REF!)","v":{"$error":"#REF!"}},{"$f":"IF(#REF!=\"\", \"\",#REF!)","v":{"$error":"#REF!"}},{"$f":"IF(#REF!=\"\", \"\",#REF!)","v":{"$error":"#REF!"}},{"$f":"IF(#REF!=\"\", \"\",#REF!)","v":{"$error":"#REF!"}},{"$f":"IF(#REF!=\"\", \"\",#REF!)","v":{"$error":"#REF!"}},{"$f":"IF(#REF!=\"\", \"\",#REF!)","v":{"$error":"#REF!"}},{"$f":"IF(#REF!=\"\", \"\",#REF!)","v":{"$error":"#REF!"}},{"$f":"IF(#REF!=\"\", \"\",#REF!)","v":{"$error":"#REF!"}},{"$f":"IF(#REF!=\"\", \"\",#REF!)","v":{"$error":"#REF!"}},{"$f":"IF(#REF!=\"\", \"\",#REF!)","v":{"$error":"#REF!"}},{"$f":"IF(#REF!=\"\", \"\",#REF!)","v":{"$error":"#REF!"}},{"$f":"IF(#REF!=\"\", \"\",#REF!)","v":{"$error":"#REF!"}},{"$f":"IF(#REF!=\"\", \"\",#REF!)","v":{"$error":"#REF!"}},{"$f":"IF(#REF!=\"\", \"\",#REF!)","v":{"$error":"#REF!"}}]
["Item 75",{"$f":"IF(#REF!=\"\", \"\",#REF!)","v":{"$error":"#REF!"}},{"$f":"IF(#REF!=\"\", \"\",#REF!)","v":{"$error":"#REF!"}},{"$f":"IF(#REF!=\"\", \"\",#REF!)","v":{"$error":"#REF!"}},{"$f":"IF(#REF!=\"\", \"\",#REF!)","v":{"$error":"#REF!"}},{"$f":"IF(#REF!=\"\", \"\",#REF!)","v":{"$error":"#REF!"}},{"$f":"IF(#REF!=\"\", \"\",#REF!)","v":{"$error":"#REF!"}},{"$f":"IF(#REF!=\"\", \"\",#REF!)","v":{"$error":"#REF!"}},{"$f":"IF(#REF!=\"\", \"\",#REF!)","v":{"$error":"#REF!"}},{"$f":"IF(#REF!=\"\", \"\",#REF!)","v":{"$error":"#REF!"}},{"$f":"IF(#REF!=\"\", \"\",#REF!)","v":{"$error":"#REF!"}},{"$f":"IF(#REF!=\"\", \"\",#REF!)","v":{"$error":"#REF!"}},{"$f":"IF(#REF!=\"\", \"\",#REF!)","v":{"$error":"#REF!"}},{"$f":"IF(#REF!=\"\", \"\",#REF!)","v":{"$error":"#REF!"}},{"$f":"IF(#REF!=\"\", \"\",#REF!)","v":{"$error":"#REF!"}},{"$f":"IF(#REF!=\"\", \"\",#REF!)","v":{"$error":"#REF!"}},{"$f":"IF(#REF!=\"\", \"\",#REF!)","v":{"$error":"#REF!"}},{"$f":"IF(#REF!=\"\", \"\",#REF!)","v":{"$error":"#REF!"}},{"$f":"IF(#REF!=\"\", \"\",#REF!)","v":{"$error":"#REF!"}},{"$f":"IF(#REF!=\"\", \"\",#REF!)","v":{"$error":"#REF!"}},{"$f":"IF(#REF!=\"\", \"\",#REF!)","v":{"$error":"#REF!"}},{"$f":"IF(#REF!=\"\", \"\",#REF!)","v":{"$error":"#REF!"}},{"$f":"IF(#REF!=\"\", \"\",#REF!)","v":{"$error":"#REF!"}},{"$f":"IF(#REF!=\"\", \"\",#REF!)","v":{"$error":"#REF!"}},{"$f":"IF(#REF!=\"\", \"\",#REF!)","v":{"$error":"#REF!"}},{"$f":"IF(#REF!=\"\", \"\",#REF!)","v":{"$error":"#REF!"}},{"$f":"IF(#REF!=\"\", \"\",#REF!)","v":{"$error":"#REF!"}},{"$f":"IF(#REF!=\"\", \"\",#REF!)","v":{"$error":"#REF!"}},{"$f":"IF(#REF!=\"\", \"\",#REF!)","v":{"$error":"#REF!"}},{"$f":"IF(#REF!=\"\", \"\",#REF!)","v":{"$error":"#REF!"}},{"$f":"IF(#REF!=\"\", \"\",#REF!)","v":{"$error":"#REF!"}},{"$f":"IF(#REF!=\"\", \"\",#REF!)","v":{"$error":"#REF!"}},{"$f":"IF(#REF!=\"\", \"\",#REF!)","v":{"$error":"#REF!"}},{"$f":"IF(#REF!=\"\", \"\",#REF!)","v":{"$error":"#REF!"}},{"$f":"IF(#REF!=\"\", \"\",#REF!)","v":{"$error":"#REF!"}},{"$f":"IF(#REF!=\"\", \"\",#REF!)","v":{"$error":"#REF!"}},{"$f":"IF(#REF!=\"\", \"\",#REF!)","v":{"$error":"#REF!"}},{"$f":"IF(#REF!=\"\", \"\",#REF!)","v":{"$error":"#REF!"}},{"$f":"IF(#REF!=\"\", \"\",#REF!)","v":{"$error":"#REF!"}},{"$f":"IF(#REF!=\"\", \"\",#REF!)","v":{"$error":"#REF!"}},{"$f":"IF(#REF!=\"\", \"\",#REF!)","v":{"$error":"#REF!"}},{"$f":"IF(#REF!=\"\", \"\",#REF!)","v":{"$error":"#REF!"}},{"$f":"IF(#REF!=\"\", \"\",#REF!)","v":{"$error":"#REF!"}},{"$f":"IF(#REF!=\"\", \"\",#REF!)","v":{"$error":"#REF!"}},{"$f":"IF(#REF!=\"\", \"\",#REF!)","v":{"$error":"#REF!"}},{"$f":"IF(#REF!=\"\", \"\",#REF!)","v":{"$error":"#REF!"}},{"$f":"IF(#REF!=\"\", \"\",#REF!)","v":{"$error":"#REF!"}},{"$f":"IF(#REF!=\"\", \"\",#REF!)","v":{"$error":"#REF!"}},{"$f":"IF(#REF!=\"\", \"\",#REF!)","v":{"$error":"#REF!"}},{"$f":"IF(#REF!=\"\", \"\",#REF!)","v":{"$error":"#REF!"}},{"$f":"IF(#REF!=\"\", \"\",#REF!)","v":{"$error":"#REF!"}},{"$f":"IF(#REF!=\"\", \"\",#REF!)","v":{"$error":"#REF!"}},{"$f":"IF(#REF!=\"\", \"\",#REF!)","v":{"$error":"#REF!"}},{"$f":"IF(#REF!=\"\", \"\",#REF!)","v":{"$error":"#REF!"}},{"$f":"IF(#REF!=\"\", \"\",#REF!)","v":{"$error":"#REF!"}},{"$f":"IF(#REF!=\"\", \"\",#REF!)","v":{"$error":"#REF!"}},{"$f":"IF(#REF!=\"\", \"\",#REF!)","v":{"$error":"#REF!"}},{"$f":"IF(#REF!=\"\", \"\",#REF!)","v":{"$error":"#REF!"}},{"$f":"IF(#REF!=\"\", \"\",#REF!)","v":{"$error":"#REF!"}},{"$f":"IF(#REF!=\"\", \"\",#REF!)","v":{"$error":"#REF!"}},{"$f":"IF(#REF!=\"\", \"\",#REF!)","v":{"$error":"#REF!"}},{"$f":"IF(#REF!=\"\", \"\",#REF!)","v":{"$error":"#REF!"}}]
["Item 76",{"$f":"IF(#REF!=\"\", \"\",#REF!)","v":{"$error":"#REF!"}},{"$f":"IF(#REF!=\"\", \"\",#REF!)","v":{"$error":"#REF!"}},{"$f":"IF(#REF!=\"\", \"\",#REF!)","v":{"$error":"#REF!"}},{"$f":"IF(#REF!=\"\", \"\",#REF!)","v":{"$error":"#REF!"}},{"$f":"IF(#REF!=\"\", \"\",#REF!)","v":{"$error":"#REF!"}},{"$f":"IF(#REF!=\"\", \"\",#REF!)","v":{"$error":"#REF!"}},{"$f":"IF(#REF!=\"\", \"\",#REF!)","v":{"$error":"#REF!"}},{"$f":"IF(#REF!=\"\", \"\",#REF!)","v":{"$error":"#REF!"}},{"$f":"IF(#REF!=\"\", \"\",#REF!)","v":{"$error":"#REF!"}},{"$f":"IF(#REF!=\"\", \"\",#REF!)","v":{"$error":"#REF!"}},{"$f":"IF(#REF!=\"\", \"\",#REF!)","v":{"$error":"#REF!"}},{"$f":"IF(#REF!=\"\", \"\",#REF!)","v":{"$error":"#REF!"}},{"$f":"IF(#REF!=\"\", \"\",#REF!)","v":{"$error":"#REF!"}},{"$f":"IF(#REF!=\"\", \"\",#REF!)","v":{"$error":"#REF!"}},{"$f":"IF(#REF!=\"\", \"\",#REF!)","v":{"$error":"#REF!"}},{"$f":"IF(#REF!=\"\", \"\",#REF!)","v":{"$error":"#REF!"}},{"$f":"IF(#REF!=\"\", \"\",#REF!)","v":{"$error":"#REF!"}},{"$f":"IF(#REF!=\"\", \"\",#REF!)","v":{"$error":"#REF!"}},{"$f":"IF(#REF!=\"\", \"\",#REF!)","v":{"$error":"#REF!"}},{"$f":"IF(#REF!=\"\", \"\",#REF!)","v":{"$error":"#REF!"}},{"$f":"IF(#REF!=\"\", \"\",#REF!)","v":{"$error":"#REF!"}},{"$f":"IF(#REF!=\"\", \"\",#REF!)","v":{"$error":"#REF!"}},{"$f":"IF(#REF!=\"\", \"\",#REF!)","v":{"$error":"#REF!"}},{"$f":"IF(#REF!=\"\", \"\",#REF!)","v":{"$error":"#REF!"}},{"$f":"IF(#REF!=\"\", \"\",#REF!)","v":{"$error":"#REF!"}},{"$f":"IF(#REF!=\"\", \"\",#REF!)","v":{"$error":"#REF!"}},{"$f":"IF(#REF!=\"\", \"\",#REF!)","v":{"$error":"#REF!"}},{"$f":"IF(#REF!=\"\", \"\",#REF!)","v":{"$error":"#REF!"}},{"$f":"IF(#REF!=\"\", \"\",#REF!)","v":{"$error":"#REF!"}},{"$f":"IF(#REF!=\"\", \"\",#REF!)","v":{"$error":"#REF!"}},{"$f":"IF(#REF!=\"\", \"\",#REF!)","v":{"$error":"#REF!"}},{"$f":"IF(#REF!=\"\", \"\",#REF!)","v":{"$error":"#REF!"}},{"$f":"IF(#REF!=\"\", \"\",#REF!)","v":{"$error":"#REF!"}},{"$f":"IF(#REF!=\"\", \"\",#REF!)","v":{"$error":"#REF!"}},{"$f":"IF(#REF!=\"\", \"\",#REF!)","v":{"$error":"#REF!"}},{"$f":"IF(#REF!=\"\", \"\",#REF!)","v":{"$error":"#REF!"}},{"$f":"IF(#REF!=\"\", \"\",#REF!)","v":{"$error":"#REF!"}},{"$f":"IF(#REF!=\"\", \"\",#REF!)","v":{"$error":"#REF!"}},{"$f":"IF(#REF!=\"\", \"\",#REF!)","v":{"$error":"#REF!"}},{"$f":"IF(#REF!=\"\", \"\",#REF!)","v":{"$error":"#REF!"}},{"$f":"IF(#REF!=\"\", \"\",#REF!)","v":{"$error":"#REF!"}},{"$f":"IF(#REF!=\"\", \"\",#REF!)","v":{"$error":"#REF!"}},{"$f":"IF(#REF!=\"\", \"\",#REF!)","v":{"$error":"#REF!"}},{"$f":"IF(#REF!=\"\", \"\",#REF!)","v":{"$error":"#REF!"}},{"$f":"IF(#REF!=\"\", \"\",#REF!)","v":{"$error":"#REF!"}},{"$f":"IF(#REF!=\"\", \"\",#REF!)","v":{"$error":"#REF!"}},{"$f":"IF(#REF!=\"\", \"\",#REF!)","v":{"$error":"#REF!"}},{"$f":"IF(#REF!=\"\", \"\",#REF!)","v":{"$error":"#REF!"}},{"$f":"IF(#REF!=\"\", \"\",#REF!)","v":{"$error":"#REF!"}},{"$f":"IF(#REF!=\"\", \"\",#REF!)","v":{"$error":"#REF!"}},{"$f":"IF(#REF!=\"\", \"\",#REF!)","v":{"$error":"#REF!"}},{"$f":"IF(#REF!=\"\", \"\",#REF!)","v":{"$error":"#REF!"}},{"$f":"IF(#REF!=\"\", \"\",#REF!)","v":{"$error":"#REF!"}},{"$f":"IF(#REF!=\"\", \"\",#REF!)","v":{"$error":"#REF!"}},{"$f":"IF(#REF!=\"\", \"\",#REF!)","v":{"$error":"#REF!"}},{"$f":"IF(#REF!=\"\", \"\",#REF!)","v":{"$error":"#REF!"}},{"$f":"IF(#REF!=\"\", \"\",#REF!)","v":{"$error":"#REF!"}},{"$f":"IF(#REF!=\"\", \"\",#REF!)","v":{"$error":"#REF!"}},{"$f":"IF(#REF!=\"\", \"\",#REF!)","v":{"$error":"#REF!"}},{"$f":"IF(#REF!=\"\", \"\",#REF!)","v":{"$error":"#REF!"}},{"$f":"IF(#REF!=\"\", \"\",#REF!)","v":{"$error":"#REF!"}}]
["Item 77",{"$f":"IF(#REF!=\"\", \"\",#REF!)","v":{"$error":"#REF!"}},{"$f":"IF(#REF!=\"\", \"\",#REF!)","v":{"$error":"#REF!"}},{"$f":"IF(#REF!=\"\", \"\",#REF!)","v":{"$error":"#REF!"}},{"$f":"IF(#REF!=\"\", \"\",#REF!)","v":{"$error":"#REF!"}},{"$f":"IF(#REF!=\"\", \"\",#REF!)","v":{"$error":"#REF!"}},{"$f":"IF(#REF!=\"\", \"\",#REF!)","v":{"$error":"#REF!"}},{"$f":"IF(#REF!=\"\", \"\",#REF!)","v":{"$error":"#REF!"}},{"$f":"IF(#REF!=\"\", \"\",#REF!)","v":{"$error":"#REF!"}},{"$f":"IF(#REF!=\"\", \"\",#REF!)","v":{"$error":"#REF!"}},{"$f":"IF(#REF!=\"\", \"\",#REF!)","v":{"$error":"#REF!"}},{"$f":"IF(#REF!=\"\", \"\",#REF!)","v":{"$error":"#REF!"}},{"$f":"IF(#REF!=\"\", \"\",#REF!)","v":{"$error":"#REF!"}},{"$f":"IF(#REF!=\"\", \"\",#REF!)","v":{"$error":"#REF!"}},{"$f":"IF(#REF!=\"\", \"\",#REF!)","v":{"$error":"#REF!"}},{"$f":"IF(#REF!=\"\", \"\",#REF!)","v":{"$error":"#REF!"}},{"$f":"IF(#REF!=\"\", \"\",#REF!)","v":{"$error":"#REF!"}},{"$f":"IF(#REF!=\"\", \"\",#REF!)","v":{"$error":"#REF!"}},{"$f":"IF(#REF!=\"\", \"\",#REF!)","v":{"$error":"#REF!"}},{"$f":"IF(#REF!=\"\", \"\",#REF!)","v":{"$error":"#REF!"}},{"$f":"IF(#REF!=\"\", \"\",#REF!)","v":{"$error":"#REF!"}},{"$f":"IF(#REF!=\"\", \"\",#REF!)","v":{"$error":"#REF!"}},{"$f":"IF(#REF!=\"\", \"\",#REF!)","v":{"$error":"#REF!"}},{"$f":"IF(#REF!=\"\", \"\",#REF!)","v":{"$error":"#REF!"}},{"$f":"IF(#REF!=\"\", \"\",#REF!)","v":{"$error":"#REF!"}},{"$f":"IF(#REF!=\"\", \"\",#REF!)","v":{"$error":"#REF!"}},{"$f":"IF(#REF!=\"\", \"\",#REF!)","v":{"$error":"#REF!"}},{"$f":"IF(#REF!=\"\", \"\",#REF!)","v":{"$error":"#REF!"}},{"$f":"IF(#REF!=\"\", \"\",#REF!)","v":{"$error":"#REF!"}},{"$f":"IF(#REF!=\"\", \"\",#REF!)","v":{"$error":"#REF!"}},{"$f":"IF(#REF!=\"\", \"\",#REF!)","v":{"$error":"#REF!"}},{"$f":"IF(#REF!=\"\", \"\",#REF!)","v":{"$error":"#REF!"}},{"$f":"IF(#REF!=\"\", \"\",#REF!)","v":{"$error":"#REF!"}},{"$f":"IF(#REF!=\"\", \"\",#REF!)","v":{"$error":"#REF!"}},{"$f":"IF(#REF!=\"\", \"\",#REF!)","v":{"$error":"#REF!"}},{"$f":"IF(#REF!=\"\", \"\",#REF!)","v":{"$error":"#REF!"}},{"$f":"IF(#REF!=\"\", \"\",#REF!)","v":{"$error":"#REF!"}},{"$f":"IF(#REF!=\"\", \"\",#REF!)","v":{"$error":"#REF!"}},{"$f":"IF(#REF!=\"\", \"\",#REF!)","v":{"$error":"#REF!"}},{"$f":"IF(#REF!=\"\", \"\",#REF!)","v":{"$error":"#REF!"}},{"$f":"IF(#REF!=\"\", \"\",#REF!)","v":{"$error":"#REF!"}},{"$f":"IF(#REF!=\"\", \"\",#REF!)","v":{"$error":"#REF!"}},{"$f":"IF(#REF!=\"\", \"\",#REF!)","v":{"$error":"#REF!"}},{"$f":"IF(#REF!=\"\", \"\",#REF!)","v":{"$error":"#REF!"}},{"$f":"IF(#REF!=\"\", \"\",#REF!)","v":{"$error":"#REF!"}},{"$f":"IF(#REF!=\"\", \"\",#REF!)","v":{"$error":"#REF!"}},{"$f":"IF(#REF!=\"\", \"\",#REF!)","v":{"$error":"#REF!"}},{"$f":"IF(#REF!=\"\", \"\",#REF!)","v":{"$error":"#REF!"}},{"$f":"IF(#REF!=\"\", \"\",#REF!)","v":{"$error":"#REF!"}},{"$f":"IF(#REF!=\"\", \"\",#REF!)","v":{"$error":"#REF!"}},{"$f":"IF(#REF!=\"\", \"\",#REF!)","v":{"$error":"#REF!"}},{"$f":"IF(#REF!=\"\", \"\",#REF!)","v":{"$error":"#REF!"}},{"$f":"IF(#REF!=\"\", \"\",#REF!)","v":{"$error":"#REF!"}},{"$f":"IF(#REF!=\"\", \"\",#REF!)","v":{"$error":"#REF!"}},{"$f":"IF(#REF!=\"\", \"\",#REF!)","v":{"$error":"#REF!"}},{"$f":"IF(#REF!=\"\", \"\",#REF!)","v":{"$error":"#REF!"}},{"$f":"IF(#REF!=\"\", \"\",#REF!)","v":{"$error":"#REF!"}},{"$f":"IF(#REF!=\"\", \"\",#REF!)","v":{"$error":"#REF!"}},{"$f":"IF(#REF!=\"\", \"\",#REF!)","v":{"$error":"#REF!"}},{"$f":"IF(#REF!=\"\", \"\",#REF!)","v":{"$error":"#REF!"}},{"$f":"IF(#REF!=\"\", \"\",#REF!)","v":{"$error":"#REF!"}},{"$f":"IF(#REF!=\"\", \"\",#REF!)","v":{"$error":"#REF!"}}]
["Item 78",{"$f":"IF(#REF!=\"\", \"\",#REF!)","v":{"$error":"#REF!"}},{"$f":"IF(#REF!=\"\", \"\",#REF!)","v":{"$error":"#REF!"}},{"$f":"IF(#REF!=\"\", \"\",#REF!)","v":{"$error":"#REF!"}},{"$f":"IF(#REF!=\"\", \"\",#REF!)","v":{"$error":"#REF!"}},{"$f":"IF(#REF!=\"\", \"\",#REF!)","v":{"$error":"#REF!"}},{"$f":"IF(#REF!=\"\", \"\",#REF!)","v":{"$error":"#REF!"}},{"$f":"IF(#REF!=\"\", \"\",#REF!)","v":{"$error":"#REF!"}},{"$f":"IF(#REF!=\"\", \"\",#REF!)","v":{"$error":"#REF!"}},{"$f":"IF(#REF!=\"\", \"\",#REF!)","v":{"$error":"#REF!"}},{"$f":"IF(#REF!=\"\", \"\",#REF!)","v":{"$error":"#REF!"}},{"$f":"IF(#REF!=\"\", \"\",#REF!)","v":{"$error":"#REF!"}},{"$f":"IF(#REF!=\"\", \"\",#REF!)","v":{"$error":"#REF!"}},{"$f":"IF(#REF!=\"\", \"\",#REF!)","v":{"$error":"#REF!"}},{"$f":"IF(#REF!=\"\", \"\",#REF!)","v":{"$error":"#REF!"}},{"$f":"IF(#REF!=\"\", \"\",#REF!)","v":{"$error":"#REF!"}},{"$f":"IF(#REF!=\"\", \"\",#REF!)","v":{"$error":"#REF!"}},{"$f":"IF(#REF!=\"\", \"\",#REF!)","v":{"$error":"#REF!"}},{"$f":"IF(#REF!=\"\", \"\",#REF!)","v":{"$error":"#REF!"}},{"$f":"IF(#REF!=\"\", \"\",#REF!)","v":{"$error":"#REF!"}},{"$f":"IF(#REF!=\"\", \"\",#REF!)","v":{"$error":"#REF!"}},{"$f":"IF(#REF!=\"\", \"\",#REF!)","v":{"$error":"#REF!"}},{"$f":"IF(#REF!=\"\", \"\",#REF!)","v":{"$error":"#REF!"}},{"$f":"IF(#REF!=\"\", \"\",#REF!)","v":{"$error":"#REF!"}},{"$f":"IF(#REF!=\"\", \"\",#REF!)","v":{"$error":"#REF!"}},{"$f":"IF(#REF!=\"\", \"\",#REF!)","v":{"$error":"#REF!"}},{"$f":"IF(#REF!=\"\", \"\",#REF!)","v":{"$error":"#REF!"}},{"$f":"IF(#REF!=\"\", \"\",#REF!)","v":{"$error":"#REF!"}},{"$f":"IF(#REF!=\"\", \"\",#REF!)","v":{"$error":"#REF!"}},{"$f":"IF(#REF!=\"\", \"\",#REF!)","v":{"$error":"#REF!"}},{"$f":"IF(#REF!=\"\", \"\",#REF!)","v":{"$error":"#REF!"}},{"$f":"IF(#REF!=\"\", \"\",#REF!)","v":{"$error":"#REF!"}},{"$f":"IF(#REF!=\"\", \"\",#REF!)","v":{"$error":"#REF!"}},{"$f":"IF(#REF!=\"\", \"\",#REF!)","v":{"$error":"#REF!"}},{"$f":"IF(#REF!=\"\", \"\",#REF!)","v":{"$error":"#REF!"}},{"$f":"IF(#REF!=\"\", \"\",#REF!)","v":{"$error":"#REF!"}},{"$f":"IF(#REF!=\"\", \"\",#REF!)","v":{"$error":"#REF!"}},{"$f":"IF(#REF!=\"\", \"\",#REF!)","v":{"$error":"#REF!"}},{"$f":"IF(#REF!=\"\", \"\",#REF!)","v":{"$error":"#REF!"}},{"$f":"IF(#REF!=\"\", \"\",#REF!)","v":{"$error":"#REF!"}},{"$f":"IF(#REF!=\"\", \"\",#REF!)","v":{"$error":"#REF!"}},{"$f":"IF(#REF!=\"\", \"\",#REF!)","v":{"$error":"#REF!"}},{"$f":"IF(#REF!=\"\", \"\",#REF!)","v":{"$error":"#REF!"}},{"$f":"IF(#REF!=\"\", \"\",#REF!)","v":{"$error":"#REF!"}},{"$f":"IF(#REF!=\"\", \"\",#REF!)","v":{"$error":"#REF!"}},{"$f":"IF(#REF!=\"\", \"\",#REF!)","v":{"$error":"#REF!"}},{"$f":"IF(#REF!=\"\", \"\",#REF!)","v":{"$error":"#REF!"}},{"$f":"IF(#REF!=\"\", \"\",#REF!)","v":{"$error":"#REF!"}},{"$f":"IF(#REF!=\"\", \"\",#REF!)","v":{"$error":"#REF!"}},{"$f":"IF(#REF!=\"\", \"\",#REF!)","v":{"$error":"#REF!"}},{"$f":"IF(#REF!=\"\", \"\",#REF!)","v":{"$error":"#REF!"}},{"$f":"IF(#REF!=\"\", \"\",#REF!)","v":{"$error":"#REF!"}},{"$f":"IF(#REF!=\"\", \"\",#REF!)","v":{"$error":"#REF!"}},{"$f":"IF(#REF!=\"\", \"\",#REF!)","v":{"$error":"#REF!"}},{"$f":"IF(#REF!=\"\", \"\",#REF!)","v":{"$error":"#REF!"}},{"$f":"IF(#REF!=\"\", \"\",#REF!)","v":{"$error":"#REF!"}},{"$f":"IF(#REF!=\"\", \"\",#REF!)","v":{"$error":"#REF!"}},{"$f":"IF(#REF!=\"\", \"\",#REF!)","v":{"$error":"#REF!"}},{"$f":"IF(#REF!=\"\", \"\",#REF!)","v":{"$error":"#REF!"}},{"$f":"IF(#REF!=\"\", \"\",#REF!)","v":{"$error":"#REF!"}},{"$f":"IF(#REF!=\"\", \"\",#REF!)","v":{"$error":"#REF!"}},{"$f":"IF(#REF!=\"\", \"\",#REF!)","v":{"$error":"#REF!"}}]
["Item 79",{"$f":"IF(#REF!=\"\", \"\",#REF!)","v":{"$error":"#REF!"}},{"$f":"IF(#REF!=\"\", \"\",#REF!)","v":{"$error":"#REF!"}},{"$f":"IF(#REF!=\"\", \"\",#REF!)","v":{"$error":"#REF!"}},{"$f":"IF(#REF!=\"\", \"\",#REF!)","v":{"$error":"#REF!"}},{"$f":"IF(#REF!=\"\", \"\",#REF!)","v":{"$error":"#REF!"}},{"$f":"IF(#REF!=\"\", \"\",#REF!)","v":{"$error":"#REF!"}},{"$f":"IF(#REF!=\"\", \"\",#REF!)","v":{"$error":"#REF!"}},{"$f":"IF(#REF!=\"\", \"\",#REF!)","v":{"$error":"#REF!"}},{"$f":"IF(#REF!=\"\", \"\",#REF!)","v":{"$error":"#REF!"}},{"$f":"IF(#REF!=\"\", \"\",#REF!)","v":{"$error":"#REF!"}},{"$f":"IF(#REF!=\"\", \"\",#REF!)","v":{"$error":"#REF!"}},{"$f":"IF(#REF!=\"\", \"\",#REF!)","v":{"$error":"#REF!"}},{"$f":"IF(#REF!=\"\", \"\",#REF!)","v":{"$error":"#REF!"}},{"$f":"IF(#REF!=\"\", \"\",#REF!)","v":{"$error":"#REF!"}},{"$f":"IF(#REF!=\"\", \"\",#REF!)","v":{"$error":"#REF!"}},{"$f":"IF(#REF!=\"\", \"\",#REF!)","v":{"$error":"#REF!"}},{"$f":"IF(#REF!=\"\", \"\",#REF!)","v":{"$error":"#REF!"}},{"$f":"IF(#REF!=\"\", \"\",#REF!)","v":{"$error":"#REF!"}},{"$f":"IF(#REF!=\"\", \"\",#REF!)","v":{"$error":"#REF!"}},{"$f":"IF(#REF!=\"\", \"\",#REF!)","v":{"$error":"#REF!"}},{"$f":"IF(#REF!=\"\", \"\",#REF!)","v":{"$error":"#REF!"}},{"$f":"IF(#REF!=\"\", \"\",#REF!)","v":{"$error":"#REF!"}},{"$f":"IF(#REF!=\"\", \"\",#REF!)","v":{"$error":"#REF!"}},{"$f":"IF(#REF!=\"\", \"\",#REF!)","v":{"$error":"#REF!"}},{"$f":"IF(#REF!=\"\", \"\",#REF!)","v":{"$error":"#REF!"}},{"$f":"IF(#REF!=\"\", \"\",#REF!)","v":{"$error":"#REF!"}},{"$f":"IF(#REF!=\"\", \"\",#REF!)","v":{"$error":"#REF!"}},{"$f":"IF(#REF!=\"\", \"\",#REF!)","v":{"$error":"#REF!"}},{"$f":"IF(#REF!=\"\", \"\",#REF!)","v":{"$error":"#REF!"}},{"$f":"IF(#REF!=\"\", \"\",#REF!)","v":{"$error":"#REF!"}},{"$f":"IF(#REF!=\"\", \"\",#REF!)","v":{"$error":"#REF!"}},{"$f":"IF(#REF!=\"\", \"\",#REF!)","v":{"$error":"#REF!"}},{"$f":"IF(#REF!=\"\", \"\",#REF!)","v":{"$error":"#REF!"}},{"$f":"IF(#REF!=\"\", \"\",#REF!)","v":{"$error":"#REF!"}},{"$f":"IF(#REF!=\"\", \"\",#REF!)","v":{"$error":"#REF!"}},{"$f":"IF(#REF!=\"\", \"\",#REF!)","v":{"$error":"#REF!"}},{"$f":"IF(#REF!=\"\", \"\",#REF!)","v":{"$error":"#REF!"}},{"$f":"IF(#REF!=\"\", \"\",#REF!)","v":{"$error":"#REF!"}},{"$f":"IF(#REF!=\"\", \"\",#REF!)","v":{"$error":"#REF!"}},{"$f":"IF(#REF!=\"\", \"\",#REF!)","v":{"$error":"#REF!"}},{"$f":"IF(#REF!=\"\", \"\",#REF!)","v":{"$error":"#REF!"}},{"$f":"IF(#REF!=\"\", \"\",#REF!)","v":{"$error":"#REF!"}},{"$f":"IF(#REF!=\"\", \"\",#REF!)","v":{"$error":"#REF!"}},{"$f":"IF(#REF!=\"\", \"\",#REF!)","v":{"$error":"#REF!"}},{"$f":"IF(#REF!=\"\", \"\",#REF!)","v":{"$error":"#REF!"}},{"$f":"IF(#REF!=\"\", \"\",#REF!)","v":{"$error":"#REF!"}},{"$f":"IF(#REF!=\"\", \"\",#REF!)","v":{"$error":"#REF!"}},{"$f":"IF(#REF!=\"\", \"\",#REF!)","v":{"$error":"#REF!"}},{"$f":"IF(#REF!=\"\", \"\",#REF!)","v":{"$error":"#REF!"}},{"$f":"IF(#REF!=\"\", \"\",#REF!)","v":{"$error":"#REF!"}},{"$f":"IF(#REF!=\"\", \"\",#REF!)","v":{"$error":"#REF!"}},{"$f":"IF(#REF!=\"\", \"\",#REF!)","v":{"$error":"#REF!"}},{"$f":"IF(#REF!=\"\", \"\",#REF!)","v":{"$error":"#REF!"}},{"$f":"IF(#REF!=\"\", \"\",#REF!)","v":{"$error":"#REF!"}},{"$f":"IF(#REF!=\"\", \"\",#REF!)","v":{"$error":"#REF!"}},{"$f":"IF(#REF!=\"\", \"\",#REF!)","v":{"$error":"#REF!"}},{"$f":"IF(#REF!=\"\", \"\",#REF!)","v":{"$error":"#REF!"}},{"$f":"IF(#REF!=\"\", \"\",#REF!)","v":{"$error":"#REF!"}},{"$f":"IF(#REF!=\"\", \"\",#REF!)","v":{"$error":"#REF!"}},{"$f":"IF(#REF!=\"\", \"\",#REF!)","v":{"$error":"#REF!"}},{"$f":"IF(#REF!=\"\", \"\",#REF!)","v":{"$error":"#REF!"}}]
["Item 80",{"$f":"IF(#REF!=\"\", \"\",#REF!)","v":{"$error":"#REF!"}},{"$f":"IF(#REF!=\"\", \"\",#REF!)","v":{"$error":"#REF!"}},{"$f":"IF(#REF!=\"\", \"\",#REF!)","v":{"$error":"#REF!"}},{"$f":"IF(#REF!=\"\", \"\",#REF!)","v":{"$error":"#REF!"}},{"$f":"IF(#REF!=\"\", \"\",#REF!)","v":{"$error":"#REF!"}},{"$f":"IF(#REF!=\"\", \"\",#REF!)","v":{"$error":"#REF!"}},{"$f":"IF(#REF!=\"\", \"\",#REF!)","v":{"$error":"#REF!"}},{"$f":"IF(#REF!=\"\", \"\",#REF!)","v":{"$error":"#REF!"}},{"$f":"IF(#REF!=\"\", \"\",#REF!)","v":{"$error":"#REF!"}},{"$f":"IF(#REF!=\"\", \"\",#REF!)","v":{"$error":"#REF!"}},{"$f":"IF(#REF!=\"\", \"\",#REF!)","v":{"$error":"#REF!"}},{"$f":"IF(#REF!=\"\", \"\",#REF!)","v":{"$error":"#REF!"}},{"$f":"IF(#REF!=\"\", \"\",#REF!)","v":{"$error":"#REF!"}},{"$f":"IF(#REF!=\"\", \"\",#REF!)","v":{"$error":"#REF!"}},{"$f":"IF(#REF!=\"\", \"\",#REF!)","v":{"$error":"#REF!"}},{"$f":"IF(#REF!=\"\", \"\",#REF!)","v":{"$error":"#REF!"}},{"$f":"IF(#REF!=\"\", \"\",#REF!)","v":{"$error":"#REF!"}},{"$f":"IF(#REF!=\"\", \"\",#REF!)","v":{"$error":"#REF!"}},{"$f":"IF(#REF!=\"\", \"\",#REF!)","v":{"$error":"#REF!"}},{"$f":"IF(#REF!=\"\", \"\",#REF!)","v":{"$error":"#REF!"}},{"$f":"IF(#REF!=\"\", \"\",#REF!)","v":{"$error":"#REF!"}},{"$f":"IF(#REF!=\"\", \"\",#REF!)","v":{"$error":"#REF!"}},{"$f":"IF(#REF!=\"\", \"\",#REF!)","v":{"$error":"#REF!"}},{"$f":"IF(#REF!=\"\", \"\",#REF!)","v":{"$error":"#REF!"}},{"$f":"IF(#REF!=\"\", \"\",#REF!)","v":{"$error":"#REF!"}},{"$f":"IF(#REF!=\"\", \"\",#REF!)","v":{"$error":"#REF!"}},{"$f":"IF(#REF!=\"\", \"\",#REF!)","v":{"$error":"#REF!"}},{"$f":"IF(#REF!=\"\", \"\",#REF!)","v":{"$error":"#REF!"}},{"$f":"IF(#REF!=\"\", \"\",#REF!)","v":{"$error":"#REF!"}},{"$f":"IF(#REF!=\"\", \"\",#REF!)","v":{"$error":"#REF!"}},{"$f":"IF(#REF!=\"\", \"\",#REF!)","v":{"$error":"#REF!"}},{"$f":"IF(#REF!=\"\", \"\",#REF!)","v":{"$error":"#REF!"}},{"$f":"IF(#REF!=\"\", \"\",#REF!)","v":{"$error":"#REF!"}},{"$f":"IF(#REF!=\"\", \"\",#REF!)","v":{"$error":"#REF!"}},{"$f":"IF(#REF!=\"\", \"\",#REF!)","v":{"$error":"#REF!"}},{"$f":"IF(#REF!=\"\", \"\",#REF!)","v":{"$error":"#REF!"}},{"$f":"IF(#REF!=\"\", \"\",#REF!)","v":{"$error":"#REF!"}},{"$f":"IF(#REF!=\"\", \"\",#REF!)","v":{"$error":"#REF!"}},{"$f":"IF(#REF!=\"\", \"\",#REF!)","v":{"$error":"#REF!"}},{"$f":"IF(#REF!=\"\", \"\",#REF!)","v":{"$error":"#REF!"}},{"$f":"IF(#REF!=\"\", \"\",#REF!)","v":{"$error":"#REF!"}},{"$f":"IF(#REF!=\"\", \"\",#REF!)","v":{"$error":"#REF!"}},{"$f":"IF(#REF!=\"\", \"\",#REF!)","v":{"$error":"#REF!"}},{"$f":"IF(#REF!=\"\", \"\",#REF!)","v":{"$error":"#REF!"}},{"$f":"IF(#REF!=\"\", \"\",#REF!)","v":{"$error":"#REF!"}},{"$f":"IF(#REF!=\"\", \"\",#REF!)","v":{"$error":"#REF!"}},{"$f":"IF(#REF!=\"\", \"\",#REF!)","v":{"$error":"#REF!"}},{"$f":"IF(#REF!=\"\", \"\",#REF!)","v":{"$error":"#REF!"}},{"$f":"IF(#REF!=\"\", \"\",#REF!)","v":{"$error":"#REF!"}},{"$f":"IF(#REF!=\"\", \"\",#REF!)","v":{"$error":"#REF!"}},{"$f":"IF(#REF!=\"\", \"\",#REF!)","v":{"$error":"#REF!"}},{"$f":"IF(#REF!=\"\", \"\",#REF!)","v":{"$error":"#REF!"}},{"$f":"IF(#REF!=\"\", \"\",#REF!)","v":{"$error":"#REF!"}},{"$f":"IF(#REF!=\"\", \"\",#REF!)","v":{"$error":"#REF!"}},{"$f":"IF(#REF!=\"\", \"\",#REF!)","v":{"$error":"#REF!"}},{"$f":"IF(#REF!=\"\", \"\",#REF!)","v":{"$error":"#REF!"}},{"$f":"IF(#REF!=\"\", \"\",#REF!)","v":{"$error":"#REF!"}},{"$f":"IF(#REF!=\"\", \"\",#REF!)","v":{"$error":"#REF!"}},{"$f":"IF(#REF!=\"\", \"\",#REF!)","v":{"$error":"#REF!"}},{"$f":"IF(#REF!=\"\", \"\",#REF!)","v":{"$error":"#REF!"}},{"$f":"IF(#REF!=\"\", \"\",#REF!)","v":{"$error":"#REF!"}}]
["Item 81",{"$f":"IF(#REF!=\"\", \"\",#REF!)","v":{"$error":"#REF!"}},{"$f":"IF(#REF!=\"\", \"\",#REF!)","v":{"$error":"#REF!"}},{"$f":"IF(#REF!=\"\", \"\",#REF!)","v":{"$error":"#REF!"}},{"$f":"IF(#REF!=\"\", \"\",#REF!)","v":{"$error":"#REF!"}},{"$f":"IF(#REF!=\"\", \"\",#REF!)","v":{"$error":"#REF!"}},{"$f":"IF(#REF!=\"\", \"\",#REF!)","v":{"$error":"#REF!"}},{"$f":"IF(#REF!=\"\", \"\",#REF!)","v":{"$error":"#REF!"}},{"$f":"IF(#REF!=\"\", \"\",#REF!)","v":{"$error":"#REF!"}},{"$f":"IF(#REF!=\"\", \"\",#REF!)","v":{"$error":"#REF!"}},{"$f":"IF(#REF!=\"\", \"\",#REF!)","v":{"$error":"#REF!"}},{"$f":"IF(#REF!=\"\", \"\",#REF!)","v":{"$error":"#REF!"}},{"$f":"IF(#REF!=\"\", \"\",#REF!)","v":{"$error":"#REF!"}},{"$f":"IF(#REF!=\"\", \"\",#REF!)","v":{"$error":"#REF!"}},{"$f":"IF(#REF!=\"\", \"\",#REF!)","v":{"$error":"#REF!"}},{"$f":"IF(#REF!=\"\", \"\",#REF!)","v":{"$error":"#REF!"}},{"$f":"IF(#REF!=\"\", \"\",#REF!)","v":{"$error":"#REF!"}},{"$f":"IF(#REF!=\"\", \"\",#REF!)","v":{"$error":"#REF!"}},{"$f":"IF(#REF!=\"\", \"\",#REF!)","v":{"$error":"#REF!"}},{"$f":"IF(#REF!=\"\", \"\",#REF!)","v":{"$error":"#REF!"}},{"$f":"IF(#REF!=\"\", \"\",#REF!)","v":{"$error":"#REF!"}},{"$f":"IF(#REF!=\"\", \"\",#REF!)","v":{"$error":"#REF!"}},{"$f":"IF(#REF!=\"\", \"\",#REF!)","v":{"$error":"#REF!"}},{"$f":"IF(#REF!=\"\", \"\",#REF!)","v":{"$error":"#REF!"}},{"$f":"IF(#REF!=\"\", \"\",#REF!)","v":{"$error":"#REF!"}},{"$f":"IF(#REF!=\"\", \"\",#REF!)","v":{"$error":"#REF!"}},{"$f":"IF(#REF!=\"\", \"\",#REF!)","v":{"$error":"#REF!"}},{"$f":"IF(#REF!=\"\", \"\",#REF!)","v":{"$error":"#REF!"}},{"$f":"IF(#REF!=\"\", \"\",#REF!)","v":{"$error":"#REF!"}},{"$f":"IF(#REF!=\"\", \"\",#REF!)","v":{"$error":"#REF!"}},{"$f":"IF(#REF!=\"\", \"\",#REF!)","v":{"$error":"#REF!"}},{"$f":"IF(#REF!=\"\", \"\",#REF!)","v":{"$error":"#REF!"}},{"$f":"IF(#REF!=\"\", \"\",#REF!)","v":{"$error":"#REF!"}},{"$f":"IF(#REF!=\"\", \"\",#REF!)","v":{"$error":"#REF!"}},{"$f":"IF(#REF!=\"\", \"\",#REF!)","v":{"$error":"#REF!"}},{"$f":"IF(#REF!=\"\", \"\",#REF!)","v":{"$error":"#REF!"}},{"$f":"IF(#REF!=\"\", \"\",#REF!)","v":{"$error":"#REF!"}},{"$f":"IF(#REF!=\"\", \"\",#REF!)","v":{"$error":"#REF!"}},{"$f":"IF(#REF!=\"\", \"\",#REF!)","v":{"$error":"#REF!"}},{"$f":"IF(#REF!=\"\", \"\",#REF!)","v":{"$error":"#REF!"}},{"$f":"IF(#REF!=\"\", \"\",#REF!)","v":{"$error":"#REF!"}},{"$f":"IF(#REF!=\"\", \"\",#REF!)","v":{"$error":"#REF!"}},{"$f":"IF(#REF!=\"\", \"\",#REF!)","v":{"$error":"#REF!"}},{"$f":"IF(#REF!=\"\", \"\",#REF!)","v":{"$error":"#REF!"}},{"$f":"IF(#REF!=\"\", \"\",#REF!)","v":{"$error":"#REF!"}},{"$f":"IF(#REF!=\"\", \"\",#REF!)","v":{"$error":"#REF!"}},{"$f":"IF(#REF!=\"\", \"\",#REF!)","v":{"$error":"#REF!"}},{"$f":"IF(#REF!=\"\", \"\",#REF!)","v":{"$error":"#REF!"}},{"$f":"IF(#REF!=\"\", \"\",#REF!)","v":{"$error":"#REF!"}},{"$f":"IF(#REF!=\"\", \"\",#REF!)","v":{"$error":"#REF!"}},{"$f":"IF(#REF!=\"\", \"\",#REF!)","v":{"$error":"#REF!"}},{"$f":"IF(#REF!=\"\", \"\",#REF!)","v":{"$error":"#REF!"}},{"$f":"IF(#REF!=\"\", \"\",#REF!)","v":{"$error":"#REF!"}},{"$f":"IF(#REF!=\"\", \"\",#REF!)","v":{"$error":"#REF!"}},{"$f":"IF(#REF!=\"\", \"\",#REF!)","v":{"$error":"#REF!"}},{"$f":"IF(#REF!=\"\", \"\",#REF!)","v":{"$error":"#REF!"}},{"$f":"IF(#REF!=\"\", \"\",#REF!)","v":{"$error":"#REF!"}},{"$f":"IF(#REF!=\"\", \"\",#REF!)","v":{"$error":"#REF!"}},{"$f":"IF(#REF!=\"\", \"\",#REF!)","v":{"$error":"#REF!"}},{"$f":"IF(#REF!=\"\", \"\",#REF!)","v":{"$error":"#REF!"}},{"$f":"IF(#REF!=\"\", \"\",#REF!)","v":{"$error":"#REF!"}},{"$f":"IF(#REF!=\"\", \"\",#REF!)","v":{"$error":"#REF!"}}]
["Item 82",{"$f":"IF(#REF!=\"\", \"\",#REF!)","v":{"$error":"#REF!"}},{"$f":"IF(#REF!=\"\", \"\",#REF!)","v":{"$error":"#REF!"}},{"$f":"IF(#REF!=\"\", \"\",#REF!)","v":{"$error":"#REF!"}},{"$f":"IF(#REF!=\"\", \"\",#REF!)","v":{"$error":"#REF!"}},{"$f":"IF(#REF!=\"\", \"\",#REF!)","v":{"$error":"#REF!"}},{"$f":"IF(#REF!=\"\", \"\",#REF!)","v":{"$error":"#REF!"}},{"$f":"IF(#REF!=\"\", \"\",#REF!)","v":{"$error":"#REF!"}},{"$f":"IF(#REF!=\"\", \"\",#REF!)","v":{"$error":"#REF!"}},{"$f":"IF(#REF!=\"\", \"\",#REF!)","v":{"$error":"#REF!"}},{"$f":"IF(#REF!=\"\", \"\",#REF!)","v":{"$error":"#REF!"}},{"$f":"IF(#REF!=\"\", \"\",#REF!)","v":{"$error":"#REF!"}},{"$f":"IF(#REF!=\"\", \"\",#REF!)","v":{"$error":"#REF!"}},{"$f":"IF(#REF!=\"\", \"\",#REF!)","v":{"$error":"#REF!"}},{"$f":"IF(#REF!=\"\", \"\",#REF!)","v":{"$error":"#REF!"}},{"$f":"IF(#REF!=\"\", \"\",#REF!)","v":{"$error":"#REF!"}},{"$f":"IF(#REF!=\"\", \"\",#REF!)","v":{"$error":"#REF!"}},{"$f":"IF(#REF!=\"\", \"\",#REF!)","v":{"$error":"#REF!"}},{"$f":"IF(#REF!=\"\", \"\",#REF!)","v":{"$error":"#REF!"}},{"$f":"IF(#REF!=\"\", \"\",#REF!)","v":{"$error":"#REF!"}},{"$f":"IF(#REF!=\"\", \"\",#REF!)","v":{"$error":"#REF!"}},{"$f":"IF(#REF!=\"\", \"\",#REF!)","v":{"$error":"#REF!"}},{"$f":"IF(#REF!=\"\", \"\",#REF!)","v":{"$error":"#REF!"}},{"$f":"IF(#REF!=\"\", \"\",#REF!)","v":{"$error":"#REF!"}},{"$f":"IF(#REF!=\"\", \"\",#REF!)","v":{"$error":"#REF!"}},{"$f":"IF(#REF!=\"\", \"\",#REF!)","v":{"$error":"#REF!"}},{"$f":"IF(#REF!=\"\", \"\",#REF!)","v":{"$error":"#REF!"}},{"$f":"IF(#REF!=\"\", \"\",#REF!)","v":{"$error":"#REF!"}},{"$f":"IF(#REF!=\"\", \"\",#REF!)","v":{"$error":"#REF!"}},{"$f":"IF(#REF!=\"\", \"\",#REF!)","v":{"$error":"#REF!"}},{"$f":"IF(#REF!=\"\", \"\",#REF!)","v":{"$error":"#REF!"}},{"$f":"IF(#REF!=\"\", \"\",#REF!)","v":{"$error":"#REF!"}},{"$f":"IF(#REF!=\"\", \"\",#REF!)","v":{"$error":"#REF!"}},{"$f":"IF(#REF!=\"\", \"\",#REF!)","v":{"$error":"#REF!"}},{"$f":"IF(#REF!=\"\", \"\",#REF!)","v":{"$error":"#REF!"}},{"$f":"IF(#REF!=\"\", \"\",#REF!)","v":{"$error":"#REF!"}},{"$f":"IF(#REF!=\"\", \"\",#REF!)","v":{"$error":"#REF!"}},{"$f":"IF(#REF!=\"\", \"\",#REF!)","v":{"$error":"#REF!"}},{"$f":"IF(#REF!=\"\", \"\",#REF!)","v":{"$error":"#REF!"}},{"$f":"IF(#REF!=\"\", \"\",#REF!)","v":{"$error":"#REF!"}},{"$f":"IF(#REF!=\"\", \"\",#REF!)","v":{"$error":"#REF!"}},{"$f":"IF(#REF!=\"\", \"\",#REF!)","v":{"$error":"#REF!"}},{"$f":"IF(#REF!=\"\", \"\",#REF!)","v":{"$error":"#REF!"}},{"$f":"IF(#REF!=\"\", \"\",#REF!)","v":{"$error":"#REF!"}},{"$f":"IF(#REF!=\"\", \"\",#REF!)","v":{"$error":"#REF!"}},{"$f":"IF(#REF!=\"\", \"\",#REF!)","v":{"$error":"#REF!"}},{"$f":"IF(#REF!=\"\", \"\",#REF!)","v":{"$error":"#REF!"}},{"$f":"IF(#REF!=\"\", \"\",#REF!)","v":{"$error":"#REF!"}},{"$f":"IF(#REF!=\"\", \"\",#REF!)","v":{"$error":"#REF!"}},{"$f":"IF(#REF!=\"\", \"\",#REF!)","v":{"$error":"#REF!"}},{"$f":"IF(#REF!=\"\", \"\",#REF!)","v":{"$error":"#REF!"}},{"$f":"IF(#REF!=\"\", \"\",#REF!)","v":{"$error":"#REF!"}},{"$f":"IF(#REF!=\"\", \"\",#REF!)","v":{"$error":"#REF!"}},{"$f":"IF(#REF!=\"\", \"\",#REF!)","v":{"$error":"#REF!"}},{"$f":"IF(#REF!=\"\", \"\",#REF!)","v":{"$error":"#REF!"}},{"$f":"IF(#REF!=\"\", \"\",#REF!)","v":{"$error":"#REF!"}},{"$f":"IF(#REF!=\"\", \"\",#REF!)","v":{"$error":"#REF!"}},{"$f":"IF(#REF!=\"\", \"\",#REF!)","v":{"$error":"#REF!"}},{"$f":"IF(#REF!=\"\", \"\",#REF!)","v":{"$error":"#REF!"}},{"$f":"IF(#REF!=\"\", \"\",#REF!)","v":{"$error":"#REF!"}},{"$f":"IF(#REF!=\"\", \"\",#REF!)","v":{"$error":"#REF!"}},{"$f":"IF(#REF!=\"\", \"\",#REF!)","v":{"$error":"#REF!"}}]
["Item 83",{"$f":"IF(#REF!=\"\", \"\",#REF!)","v":{"$error":"#REF!"}},{"$f":"IF(#REF!=\"\", \"\",#REF!)","v":{"$error":"#REF!"}},{"$f":"IF(#REF!=\"\", \"\",#REF!)","v":{"$error":"#REF!"}},{"$f":"IF(#REF!=\"\", \"\",#REF!)","v":{"$error":"#REF!"}},{"$f":"IF(#REF!=\"\", \"\",#REF!)","v":{"$error":"#REF!"}},{"$f":"IF(#REF!=\"\", \"\",#REF!)","v":{"$error":"#REF!"}},{"$f":"IF(#REF!=\"\", \"\",#REF!)","v":{"$error":"#REF!"}},{"$f":"IF(#REF!=\"\", \"\",#REF!)","v":{"$error":"#REF!"}},{"$f":"IF(#REF!=\"\", \"\",#REF!)","v":{"$error":"#REF!"}},{"$f":"IF(#REF!=\"\", \"\",#REF!)","v":{"$error":"#REF!"}},{"$f":"IF(#REF!=\"\", \"\",#REF!)","v":{"$error":"#REF!"}},{"$f":"IF(#REF!=\"\", \"\",#REF!)","v":{"$error":"#REF!"}},{"$f":"IF(#REF!=\"\", \"\",#REF!)","v":{"$error":"#REF!"}},{"$f":"IF(#REF!=\"\", \"\",#REF!)","v":{"$error":"#REF!"}},{"$f":"IF(#REF!=\"\", \"\",#REF!)","v":{"$error":"#REF!"}},{"$f":"IF(#REF!=\"\", \"\",#REF!)","v":{"$error":"#REF!"}},{"$f":"IF(#REF!=\"\", \"\",#REF!)","v":{"$error":"#REF!"}},{"$f":"IF(#REF!=\"\", \"\",#REF!)","v":{"$error":"#REF!"}},{"$f":"IF(#REF!=\"\", \"\",#REF!)","v":{"$error":"#REF!"}},{"$f":"IF(#REF!=\"\", \"\",#REF!)","v":{"$error":"#REF!"}},{"$f":"IF(#REF!=\"\", \"\",#REF!)","v":{"$error":"#REF!"}},{"$f":"IF(#REF!=\"\", \"\",#REF!)","v":{"$error":"#REF!"}},{"$f":"IF(#REF!=\"\", \"\",#REF!)","v":{"$error":"#REF!"}},{"$f":"IF(#REF!=\"\", \"\",#REF!)","v":{"$error":"#REF!"}},{"$f":"IF(#REF!=\"\", \"\",#REF!)","v":{"$error":"#REF!"}},{"$f":"IF(#REF!=\"\", \"\",#REF!)","v":{"$error":"#REF!"}},{"$f":"IF(#REF!=\"\", \"\",#REF!)","v":{"$error":"#REF!"}},{"$f":"IF(#REF!=\"\", \"\",#REF!)","v":{"$error":"#REF!"}},{"$f":"IF(#REF!=\"\", \"\",#REF!)","v":{"$error":"#REF!"}},{"$f":"IF(#REF!=\"\", \"\",#REF!)","v":{"$error":"#REF!"}},{"$f":"IF(#REF!=\"\", \"\",#REF!)","v":{"$error":"#REF!"}},{"$f":"IF(#REF!=\"\", \"\",#REF!)","v":{"$error":"#REF!"}},{"$f":"IF(#REF!=\"\", \"\",#REF!)","v":{"$error":"#REF!"}},{"$f":"IF(#REF!=\"\", \"\",#REF!)","v":{"$error":"#REF!"}},{"$f":"IF(#REF!=\"\", \"\",#REF!)","v":{"$error":"#REF!"}},{"$f":"IF(#REF!=\"\", \"\",#REF!)","v":{"$error":"#REF!"}},{"$f":"IF(#REF!=\"\", \"\",#REF!)","v":{"$error":"#REF!"}},{"$f":"IF(#REF!=\"\", \"\",#REF!)","v":{"$error":"#REF!"}},{"$f":"IF(#REF!=\"\", \"\",#REF!)","v":{"$error":"#REF!"}},{"$f":"IF(#REF!=\"\", \"\",#REF!)","v":{"$error":"#REF!"}},{"$f":"IF(#REF!=\"\", \"\",#REF!)","v":{"$error":"#REF!"}},{"$f":"IF(#REF!=\"\", \"\",#REF!)","v":{"$error":"#REF!"}},{"$f":"IF(#REF!=\"\", \"\",#REF!)","v":{"$error":"#REF!"}},{"$f":"IF(#REF!=\"\", \"\",#REF!)","v":{"$error":"#REF!"}},{"$f":"IF(#REF!=\"\", \"\",#REF!)","v":{"$error":"#REF!"}},{"$f":"IF(#REF!=\"\", \"\",#REF!)","v":{"$error":"#REF!"}},{"$f":"IF(#REF!=\"\", \"\",#REF!)","v":{"$error":"#REF!"}},{"$f":"IF(#REF!=\"\", \"\",#REF!)","v":{"$error":"#REF!"}},{"$f":"IF(#REF!=\"\", \"\",#REF!)","v":{"$error":"#REF!"}},{"$f":"IF(#REF!=\"\", \"\",#REF!)","v":{"$error":"#REF!"}},{"$f":"IF(#REF!=\"\", \"\",#REF!)","v":{"$error":"#REF!"}},{"$f":"IF(#REF!=\"\", \"\",#REF!)","v":{"$error":"#REF!"}},{"$f":"IF(#REF!=\"\", \"\",#REF!)","v":{"$error":"#REF!"}},{"$f":"IF(#REF!=\"\", \"\",#REF!)","v":{"$error":"#REF!"}},{"$f":"IF(#REF!=\"\", \"\",#REF!)","v":{"$error":"#REF!"}},{"$f":"IF(#REF!=\"\", \"\",#REF!)","v":{"$error":"#REF!"}},{"$f":"IF(#REF!=\"\", \"\",#REF!)","v":{"$error":"#REF!"}},{"$f":"IF(#REF!=\"\", \"\",#REF!)","v":{"$error":"#REF!"}},{"$f":"IF(#REF!=\"\", \"\",#REF!)","v":{"$error":"#REF!"}},{"$f":"IF(#REF!=\"\", \"\",#REF!)","v":{"$error":"#REF!"}},{"$f":"IF(#REF!=\"\", \"\",#REF!)","v":{"$error":"#REF!"}}]
["Item 84",{"$f":"IF(#REF!=\"\", \"\",#REF!)","v":{"$error":"#REF!"}},{"$f":"IF(#REF!=\"\", \"\",#REF!)","v":{"$error":"#REF!"}},{"$f":"IF(#REF!=\"\", \"\",#REF!)","v":{"$error":"#REF!"}},{"$f":"IF(#REF!=\"\", \"\",#REF!)","v":{"$error":"#REF!"}},{"$f":"IF(#REF!=\"\", \"\",#REF!)","v":{"$error":"#REF!"}},{"$f":"IF(#REF!=\"\", \"\",#REF!)","v":{"$error":"#REF!"}},{"$f":"IF(#REF!=\"\", \"\",#REF!)","v":{"$error":"#REF!"}},{"$f":"IF(#REF!=\"\", \"\",#REF!)","v":{"$error":"#REF!"}},{"$f":"IF(#REF!=\"\", \"\",#REF!)","v":{"$error":"#REF!"}},{"$f":"IF(#REF!=\"\", \"\",#REF!)","v":{"$error":"#REF!"}},{"$f":"IF(#REF!=\"\", \"\",#REF!)","v":{"$error":"#REF!"}},{"$f":"IF(#REF!=\"\", \"\",#REF!)","v":{"$error":"#REF!"}},{"$f":"IF(#REF!=\"\", \"\",#REF!)","v":{"$error":"#REF!"}},{"$f":"IF(#REF!=\"\", \"\",#REF!)","v":{"$error":"#REF!"}},{"$f":"IF(#REF!=\"\", \"\",#REF!)","v":{"$error":"#REF!"}},{"$f":"IF(#REF!=\"\", \"\",#REF!)","v":{"$error":"#REF!"}},{"$f":"IF(#REF!=\"\", \"\",#REF!)","v":{"$error":"#REF!"}},{"$f":"IF(#REF!=\"\", \"\",#REF!)","v":{"$error":"#REF!"}},{"$f":"IF(#REF!=\"\", \"\",#REF!)","v":{"$error":"#REF!"}},{"$f":"IF(#REF!=\"\", \"\",#REF!)","v":{"$error":"#REF!"}},{"$f":"IF(#REF!=\"\", \"\",#REF!)","v":{"$error":"#REF!"}},{"$f":"IF(#REF!=\"\", \"\",#REF!)","v":{"$error":"#REF!"}},{"$f":"IF(#REF!=\"\", \"\",#REF!)","v":{"$error":"#REF!"}},{"$f":"IF(#REF!=\"\", \"\",#REF!)","v":{"$error":"#REF!"}},{"$f":"IF(#REF!=\"\", \"\",#REF!)","v":{"$error":"#REF!"}},{"$f":"IF(#REF!=\"\", \"\",#REF!)","v":{"$error":"#REF!"}},{"$f":"IF(#REF!=\"\", \"\",#REF!)","v":{"$error":"#REF!"}},{"$f":"IF(#REF!=\"\", \"\",#REF!)","v":{"$error":"#REF!"}},{"$f":"IF(#REF!=\"\", \"\",#REF!)","v":{"$error":"#REF!"}},{"$f":"IF(#REF!=\"\", \"\",#REF!)","v":{"$error":"#REF!"}},{"$f":"IF(#REF!=\"\", \"\",#REF!)","v":{"$error":"#REF!"}},{"$f":"IF(#REF!=\"\", \"\",#REF!)","v":{"$error":"#REF!"}},{"$f":"IF(#REF!=\"\", \"\",#REF!)","v":{"$error":"#REF!"}},{"$f":"IF(#REF!=\"\", \"\",#REF!)","v":{"$error":"#REF!"}},{"$f":"IF(#REF!=\"\", \"\",#REF!)","v":{"$error":"#REF!"}},{"$f":"IF(#REF!=\"\", \"\",#REF!)","v":{"$error":"#REF!"}},{"$f":"IF(#REF!=\"\", \"\",#REF!)","v":{"$error":"#REF!"}},{"$f":"IF(#REF!=\"\", \"\",#REF!)","v":{"$error":"#REF!"}},{"$f":"IF(#REF!=\"\", \"\",#REF!)","v":{"$error":"#REF!"}},{"$f":"IF(#REF!=\"\", \"\",#REF!)","v":{"$error":"#REF!"}},{"$f":"IF(#REF!=\"\", \"\",#REF!)","v":{"$error":"#REF!"}},{"$f":"IF(#REF!=\"\", \"\",#REF!)","v":{"$error":"#REF!"}},{"$f":"IF(#REF!=\"\", \"\",#REF!)","v":{"$error":"#REF!"}},{"$f":"IF(#REF!=\"\", \"\",#REF!)","v":{"$error":"#REF!"}},{"$f":"IF(#REF!=\"\", \"\",#REF!)","v":{"$error":"#REF!"}},{"$f":"IF(#REF!=\"\", \"\",#REF!)","v":{"$error":"#REF!"}},{"$f":"IF(#REF!=\"\", \"\",#REF!)","v":{"$error":"#REF!"}},{"$f":"IF(#REF!=\"\", \"\",#REF!)","v":{"$error":"#REF!"}},{"$f":"IF(#REF!=\"\", \"\",#REF!)","v":{"$error":"#REF!"}},{"$f":"IF(#REF!=\"\", \"\",#REF!)","v":{"$error":"#REF!"}},{"$f":"IF(#REF!=\"\", \"\",#REF!)","v":{"$error":"#REF!"}},{"$f":"IF(#REF!=\"\", \"\",#REF!)","v":{"$error":"#REF!"}},{"$f":"IF(#REF!=\"\", \"\",#REF!)","v":{"$error":"#REF!"}},{"$f":"IF(#REF!=\"\", \"\",#REF!)","v":{"$error":"#REF!"}},{"$f":"IF(#REF!=\"\", \"\",#REF!)","v":{"$error":"#REF!"}},{"$f":"IF(#REF!=\"\", \"\",#REF!)","v":{"$error":"#REF!"}},{"$f":"IF(#REF!=\"\", \"\",#REF!)","v":{"$error":"#REF!"}},{"$f":"IF(#REF!=\"\", \"\",#REF!)","v":{"$error":"#REF!"}},{"$f":"IF(#REF!=\"\", \"\",#REF!)","v":{"$error":"#REF!"}},{"$f":"IF(#REF!=\"\", \"\",#REF!)","v":{"$error":"#REF!"}},{"$f":"IF(#REF!=\"\", \"\",#REF!)","v":{"$error":"#REF!"}}]
["Item 85",{"$f":"IF(#REF!=\"\", \"\",#REF!)","v":{"$error":"#REF!"}},{"$f":"IF(#REF!=\"\", \"\",#REF!)","v":{"$error":"#REF!"}},{"$f":"IF(#REF!=\"\", \"\",#REF!)","v":{"$error":"#REF!"}},{"$f":"IF(#REF!=\"\", \"\",#REF!)","v":{"$error":"#REF!"}},{"$f":"IF(#REF!=\"\", \"\",#REF!)","v":{"$error":"#REF!"}},{"$f":"IF(#REF!=\"\", \"\",#REF!)","v":{"$error":"#REF!"}},{"$f":"IF(#REF!=\"\", \"\",#REF!)","v":{"$error":"#REF!"}},{"$f":"IF(#REF!=\"\", \"\",#REF!)","v":{"$error":"#REF!"}},{"$f":"IF(#REF!=\"\", \"\",#REF!)","v":{"$error":"#REF!"}},{"$f":"IF(#REF!=\"\", \"\",#REF!)","v":{"$error":"#REF!"}},{"$f":"IF(#REF!=\"\", \"\",#REF!)","v":{"$error":"#REF!"}},{"$f":"IF(#REF!=\"\", \"\",#REF!)","v":{"$error":"#REF!"}},{"$f":"IF(#REF!=\"\", \"\",#REF!)","v":{"$error":"#REF!"}},{"$f":"IF(#REF!=\"\", \"\",#REF!)","v":{"$error":"#REF!"}},{"$f":"IF(#REF!=\"\", \"\",#REF!)","v":{"$error":"#REF!"}},{"$f":"IF(#REF!=\"\", \"\",#REF!)","v":{"$error":"#REF!"}},{"$f":"IF(#REF!=\"\", \"\",#REF!)","v":{"$error":"#REF!"}},{"$f":"IF(#REF!=\"\", \"\",#REF!)","v":{"$error":"#REF!"}},{"$f":"IF(#REF!=\"\", \"\",#REF!)","v":{"$error":"#REF!"}},{"$f":"IF(#REF!=\"\", \"\",#REF!)","v":{"$error":"#REF!"}},{"$f":"IF(#REF!=\"\", \"\",#REF!)","v":{"$error":"#REF!"}},{"$f":"IF(#REF!=\"\", \"\",#REF!)","v":{"$error":"#REF!"}},{"$f":"IF(#REF!=\"\", \"\",#REF!)","v":{"$error":"#REF!"}},{"$f":"IF(#REF!=\"\", \"\",#REF!)","v":{"$error":"#REF!"}},{"$f":"IF(#REF!=\"\", \"\",#REF!)","v":{"$error":"#REF!"}},{"$f":"IF(#REF!=\"\", \"\",#REF!)","v":{"$error":"#REF!"}},{"$f":"IF(#REF!=\"\", \"\",#REF!)","v":{"$error":"#REF!"}},{"$f":"IF(#REF!=\"\", \"\",#REF!)","v":{"$error":"#REF!"}},{"$f":"IF(#REF!=\"\", \"\",#REF!)","v":{"$error":"#REF!"}},{"$f":"IF(#REF!=\"\", \"\",#REF!)","v":{"$error":"#REF!"}},{"$f":"IF(#REF!=\"\", \"\",#REF!)","v":{"$error":"#REF!"}},{"$f":"IF(#REF!=\"\", \"\",#REF!)","v":{"$error":"#REF!"}},{"$f":"IF(#REF!=\"\", \"\",#REF!)","v":{"$error":"#REF!"}},{"$f":"IF(#REF!=\"\", \"\",#REF!)","v":{"$error":"#REF!"}},{"$f":"IF(#REF!=\"\", \"\",#REF!)","v":{"$error":"#REF!"}},{"$f":"IF(#REF!=\"\", \"\",#REF!)","v":{"$error":"#REF!"}},{"$f":"IF(#REF!=\"\", \"\",#REF!)","v":{"$error":"#REF!"}},{"$f":"IF(#REF!=\"\", \"\",#REF!)","v":{"$error":"#REF!"}},{"$f":"IF(#REF!=\"\", \"\",#REF!)","v":{"$error":"#REF!"}},{"$f":"IF(#REF!=\"\", \"\",#REF!)","v":{"$error":"#REF!"}},{"$f":"IF(#REF!=\"\", \"\",#REF!)","v":{"$error":"#REF!"}},{"$f":"IF(#REF!=\"\", \"\",#REF!)","v":{"$error":"#REF!"}},{"$f":"IF(#REF!=\"\", \"\",#REF!)","v":{"$error":"#REF!"}},{"$f":"IF(#REF!=\"\", \"\",#REF!)","v":{"$error":"#REF!"}},{"$f":"IF(#REF!=\"\", \"\",#REF!)","v":{"$error":"#REF!"}},{"$f":"IF(#REF!=\"\", \"\",#REF!)","v":{"$error":"#REF!"}},{"$f":"IF(#REF!=\"\", \"\",#REF!)","v":{"$error":"#REF!"}},{"$f":"IF(#REF!=\"\", \"\",#REF!)","v":{"$error":"#REF!"}},{"$f":"IF(#REF!=\"\", \"\",#REF!)","v":{"$error":"#REF!"}},{"$f":"IF(#REF!=\"\", \"\",#REF!)","v":{"$error":"#REF!"}},{"$f":"IF(#REF!=\"\", \"\",#REF!)","v":{"$error":"#REF!"}},{"$f":"IF(#REF!=\"\", \"\",#REF!)","v":{"$error":"#REF!"}},{"$f":"IF(#REF!=\"\", \"\",#REF!)","v":{"$error":"#REF!"}},{"$f":"IF(#REF!=\"\", \"\",#REF!)","v":{"$error":"#REF!"}},{"$f":"IF(#REF!=\"\", \"\",#REF!)","v":{"$error":"#REF!"}},{"$f":"IF(#REF!=\"\", \"\",#REF!)","v":{"$error":"#REF!"}},{"$f":"IF(#REF!=\"\", \"\",#REF!)","v":{"$error":"#REF!"}},{"$f":"IF(#REF!=\"\", \"\",#REF!)","v":{"$error":"#REF!"}},{"$f":"IF(#REF!=\"\", \"\",#REF!)","v":{"$error":"#REF!"}},{"$f":"IF(#REF!=\"\", \"\",#REF!)","v":{"$error":"#REF!"}},{"$f":"IF(#REF!=\"\", \"\",#REF!)","v":{"$error":"#REF!"}}]
["Item 86",{"$f":"IF(#REF!=\"\", \"\",#REF!)","v":{"$error":"#REF!"}},{"$f":"IF(#REF!=\"\", \"\",#REF!)","v":{"$error":"#REF!"}},{"$f":"IF(#REF!=\"\", \"\",#REF!)","v":{"$error":"#REF!"}},{"$f":"IF(#REF!=\"\", \"\",#REF!)","v":{"$error":"#REF!"}},{"$f":"IF(#REF!=\"\", \"\",#REF!)","v":{"$error":"#REF!"}},{"$f":"IF(#REF!=\"\", \"\",#REF!)","v":{"$error":"#REF!"}},{"$f":"IF(#REF!=\"\", \"\",#REF!)","v":{"$error":"#REF!"}},{"$f":"IF(#REF!=\"\", \"\",#REF!)","v":{"$error":"#REF!"}},{"$f":"IF(#REF!=\"\", \"\",#REF!)","v":{"$error":"#REF!"}},{"$f":"IF(#REF!=\"\", \"\",#REF!)","v":{"$error":"#REF!"}},{"$f":"IF(#REF!=\"\", \"\",#REF!)","v":{"$error":"#REF!"}},{"$f":"IF(#REF!=\"\", \"\",#REF!)","v":{"$error":"#REF!"}},{"$f":"IF(#REF!=\"\", \"\",#REF!)","v":{"$error":"#REF!"}},{"$f":"IF(#REF!=\"\", \"\",#REF!)","v":{"$error":"#REF!"}},{"$f":"IF(#REF!=\"\", \"\",#REF!)","v":{"$error":"#REF!"}},{"$f":"IF(#REF!=\"\", \"\",#REF!)","v":{"$error":"#REF!"}},{"$f":"IF(#REF!=\"\", \"\",#REF!)","v":{"$error":"#REF!"}},{"$f":"IF(#REF!=\"\", \"\",#REF!)","v":{"$error":"#REF!"}},{"$f":"IF(#REF!=\"\", \"\",#REF!)","v":{"$error":"#REF!"}},{"$f":"IF(#REF!=\"\", \"\",#REF!)","v":{"$error":"#REF!"}},{"$f":"IF(#REF!=\"\", \"\",#REF!)","v":{"$error":"#REF!"}},{"$f":"IF(#REF!=\"\", \"\",#REF!)","v":{"$error":"#REF!"}},{"$f":"IF(#REF!=\"\", \"\",#REF!)","v":{"$error":"#REF!"}},{"$f":"IF(#REF!=\"\", \"\",#REF!)","v":{"$error":"#REF!"}},{"$f":"IF(#REF!=\"\", \"\",#REF!)","v":{"$error":"#REF!"}},{"$f":"IF(#REF!=\"\", \"\",#REF!)","v":{"$error":"#REF!"}},{"$f":"IF(#REF!=\"\", \"\",#REF!)","v":{"$error":"#REF!"}},{"$f":"IF(#REF!=\"\", \"\",#REF!)","v":{"$error":"#REF!"}},{"$f":"IF(#REF!=\"\", \"\",#REF!)","v":{"$error":"#REF!"}},{"$f":"IF(#REF!=\"\", \"\",#REF!)","v":{"$error":"#REF!"}},{"$f":"IF(#REF!=\"\", \"\",#REF!)","v":{"$error":"#REF!"}},{"$f":"IF(#REF!=\"\", \"\",#REF!)","v":{"$error":"#REF!"}},{"$f":"IF(#REF!=\"\", \"\",#REF!)","v":{"$error":"#REF!"}},{"$f":"IF(#REF!=\"\", \"\",#REF!)","v":{"$error":"#REF!"}},{"$f":"IF(#REF!=\"\", \"\",#REF!)","v":{"$error":"#REF!"}},{"$f":"IF(#REF!=\"\", \"\",#REF!)","v":{"$error":"#REF!"}},{"$f":"IF(#REF!=\"\", \"\",#REF!)","v":{"$error":"#REF!"}},{"$f":"IF(#REF!=\"\", \"\",#REF!)","v":{"$error":"#REF!"}},{"$f":"IF(#REF!=\"\", \"\",#REF!)","v":{"$error":"#REF!"}},{"$f":"IF(#REF!=\"\", \"\",#REF!)","v":{"$error":"#REF!"}},{"$f":"IF(#REF!=\"\", \"\",#REF!)","v":{"$error":"#REF!"}},{"$f":"IF(#REF!=\"\", \"\",#REF!)","v":{"$error":"#REF!"}},{"$f":"IF(#REF!=\"\", \"\",#REF!)","v":{"$error":"#REF!"}},{"$f":"IF(#REF!=\"\", \"\",#REF!)","v":{"$error":"#REF!"}},{"$f":"IF(#REF!=\"\", \"\",#REF!)","v":{"$error":"#REF!"}},{"$f":"IF(#REF!=\"\", \"\",#REF!)","v":{"$error":"#REF!"}},{"$f":"IF(#REF!=\"\", \"\",#REF!)","v":{"$error":"#REF!"}},{"$f":"IF(#REF!=\"\", \"\",#REF!)","v":{"$error":"#REF!"}},{"$f":"IF(#REF!=\"\", \"\",#REF!)","v":{"$error":"#REF!"}},{"$f":"IF(#REF!=\"\", \"\",#REF!)","v":{"$error":"#REF!"}},{"$f":"IF(#REF!=\"\", \"\",#REF!)","v":{"$error":"#REF!"}},{"$f":"IF(#REF!=\"\", \"\",#REF!)","v":{"$error":"#REF!"}},{"$f":"IF(#REF!=\"\", \"\",#REF!)","v":{"$error":"#REF!"}},{"$f":"IF(#REF!=\"\", \"\",#REF!)","v":{"$error":"#REF!"}},{"$f":"IF(#REF!=\"\", \"\",#REF!)","v":{"$error":"#REF!"}},{"$f":"IF(#REF!=\"\", \"\",#REF!)","v":{"$error":"#REF!"}},{"$f":"IF(#REF!=\"\", \"\",#REF!)","v":{"$error":"#REF!"}},{"$f":"IF(#REF!=\"\", \"\",#REF!)","v":{"$error":"#REF!"}},{"$f":"IF(#REF!=\"\", \"\",#REF!)","v":{"$error":"#REF!"}},{"$f":"IF(#REF!=\"\", \"\",#REF!)","v":{"$error":"#REF!"}},{"$f":"IF(#REF!=\"\", \"\",#REF!)","v":{"$error":"#REF!"}}]
["Item 87",{"$f":"IF(#REF!=\"\", \"\",#REF!)","v":{"$error":"#REF!"}},{"$f":"IF(#REF!=\"\", \"\",#REF!)","v":{"$error":"#REF!"}},{"$f":"IF(#REF!=\"\", \"\",#REF!)","v":{"$error":"#REF!"}},{"$f":"IF(#REF!=\"\", \"\",#REF!)","v":{"$error":"#REF!"}},{"$f":"IF(#REF!=\"\", \"\",#REF!)","v":{"$error":"#REF!"}},{"$f":"IF(#REF!=\"\", \"\",#REF!)","v":{"$error":"#REF!"}},{"$f":"IF(#REF!=\"\", \"\",#REF!)","v":{"$error":"#REF!"}},{"$f":"IF(#REF!=\"\", \"\",#REF!)","v":{"$error":"#REF!"}},{"$f":"IF(#REF!=\"\", \"\",#REF!)","v":{"$error":"#REF!"}},{"$f":"IF(#REF!=\"\", \"\",#REF!)","v":{"$error":"#REF!"}},{"$f":"IF(#REF!=\"\", \"\",#REF!)","v":{"$error":"#REF!"}},{"$f":"IF(#REF!=\"\", \"\",#REF!)","v":{"$error":"#REF!"}},{"$f":"IF(#REF!=\"\", \"\",#REF!)","v":{"$error":"#REF!"}},{"$f":"IF(#REF!=\"\", \"\",#REF!)","v":{"$error":"#REF!"}},{"$f":"IF(#REF!=\"\", \"\",#REF!)","v":{"$error":"#REF!"}},{"$f":"IF(#REF!=\"\", \"\",#REF!)","v":{"$error":"#REF!"}},{"$f":"IF(#REF!=\"\", \"\",#REF!)","v":{"$error":"#REF!"}},{"$f":"IF(#REF!=\"\", \"\",#REF!)","v":{"$error":"#REF!"}},{"$f":"IF(#REF!=\"\", \"\",#REF!)","v":{"$error":"#REF!"}},{"$f":"IF(#REF!=\"\", \"\",#REF!)","v":{"$error":"#REF!"}},{"$f":"IF(#REF!=\"\", \"\",#REF!)","v":{"$error":"#REF!"}},{"$f":"IF(#REF!=\"\", \"\",#REF!)","v":{"$error":"#REF!"}},{"$f":"IF(#REF!=\"\", \"\",#REF!)","v":{"$error":"#REF!"}},{"$f":"IF(#REF!=\"\", \"\",#REF!)","v":{"$error":"#REF!"}},{"$f":"IF(#REF!=\"\", \"\",#REF!)","v":{"$error":"#REF!"}},{"$f":"IF(#REF!=\"\", \"\",#REF!)","v":{"$error":"#REF!"}},{"$f":"IF(#REF!=\"\", \"\",#REF!)","v":{"$error":"#REF!"}},{"$f":"IF(#REF!=\"\", \"\",#REF!)","v":{"$error":"#REF!"}},{"$f":"IF(#REF!=\"\", \"\",#REF!)","v":{"$error":"#REF!"}},{"$f":"IF(#REF!=\"\", \"\",#REF!)","v":{"$error":"#REF!"}},{"$f":"IF(#REF!=\"\", \"\",#REF!)","v":{"$error":"#REF!"}},{"$f":"IF(#REF!=\"\", \"\",#REF!)","v":{"$error":"#REF!"}},{"$f":"IF(#REF!=\"\", \"\",#REF!)","v":{"$error":"#REF!"}},{"$f":"IF(#REF!=\"\", \"\",#REF!)","v":{"$error":"#REF!"}},{"$f":"IF(#REF!=\"\", \"\",#REF!)","v":{"$error":"#REF!"}},{"$f":"IF(#REF!=\"\", \"\",#REF!)","v":{"$error":"#REF!"}},{"$f":"IF(#REF!=\"\", \"\",#REF!)","v":{"$error":"#REF!"}},{"$f":"IF(#REF!=\"\", \"\",#REF!)","v":{"$error":"#REF!"}},{"$f":"IF(#REF!=\"\", \"\",#REF!)","v":{"$error":"#REF!"}},{"$f":"IF(#REF!=\"\", \"\",#REF!)","v":{"$error":"#REF!"}},{"$f":"IF(#REF!=\"\", \"\",#REF!)","v":{"$error":"#REF!"}},{"$f":"IF(#REF!=\"\", \"\",#REF!)","v":{"$error":"#REF!"}},{"$f":"IF(#REF!=\"\", \"\",#REF!)","v":{"$error":"#REF!"}},{"$f":"IF(#REF!=\"\", \"\",#REF!)","v":{"$error":"#REF!"}},{"$f":"IF(#REF!=\"\", \"\",#REF!)","v":{"$error":"#REF!"}},{"$f":"IF(#REF!=\"\", \"\",#REF!)","v":{"$error":"#REF!"}},{"$f":"IF(#REF!=\"\", \"\",#REF!)","v":{"$error":"#REF!"}},{"$f":"IF(#REF!=\"\", \"\",#REF!)","v":{"$error":"#REF!"}},{"$f":"IF(#REF!=\"\", \"\",#REF!)","v":{"$error":"#REF!"}},{"$f":"IF(#REF!=\"\", \"\",#REF!)","v":{"$error":"#REF!"}},{"$f":"IF(#REF!=\"\", \"\",#REF!)","v":{"$error":"#REF!"}},{"$f":"IF(#REF!=\"\", \"\",#REF!)","v":{"$error":"#REF!"}},{"$f":"IF(#REF!=\"\", \"\",#REF!)","v":{"$error":"#REF!"}},{"$f":"IF(#REF!=\"\", \"\",#REF!)","v":{"$error":"#REF!"}},{"$f":"IF(#REF!=\"\", \"\",#REF!)","v":{"$error":"#REF!"}},{"$f":"IF(#REF!=\"\", \"\",#REF!)","v":{"$error":"#REF!"}},{"$f":"IF(#REF!=\"\", \"\",#REF!)","v":{"$error":"#REF!"}},{"$f":"IF(#REF!=\"\", \"\",#REF!)","v":{"$error":"#REF!"}},{"$f":"IF(#REF!=\"\", \"\",#REF!)","v":{"$error":"#REF!"}},{"$f":"IF(#REF!=\"\", \"\",#REF!)","v":{"$error":"#REF!"}},{"$f":"IF(#REF!=\"\", \"\",#REF!)","v":{"$error":"#REF!"}}]
[]
["N",{"$f":"COUNT(B3:B87)","v":0},0,0,0,0,0,0,0,0,0,0,0,0,0,0,0,0,0,0,0,0,0,0,0,0,0,0,0,0,0,0,0,{"$f":"COUNT(AH3:AH87)","v":0},0,0,0,0,0,0,0,0,0,0,0,0,0,0,0,0,0,0,0,0,0,0,0,0,0,0,0,0]
["ID",{"$f":"B2","v":{"$error":"#REF!"}},{"$f":"C2","v":{"$error":"#REF!"}},{"$f":"D2","v":{"$error":"#REF!"}},{"$f":"E2","v":{"$error":"#REF!"}},{"$error":"#REF!"},{"$error":"#REF!"},{"$error":"#REF!"},{"$error":"#REF!"},{"$error":"#REF!"},{"$error":"#REF!"},{"$error":"#REF!"},{"$error":"#REF!"},{"$error":"#REF!"},{"$error":"#REF!"},{"$error":"#REF!"},{"$error":"#REF!"},{"$error":"#REF!"},{"$error":"#REF!"},{"$error":"#REF!"},{"$error":"#REF!"},{"$error":"#REF!"},{"$error":"#REF!"},{"$error":"#REF!"},{"$error":"#REF!"},{"$error":"#REF!"},{"$error":"#REF!"},{"$error":"#REF!"},{"$error":"#REF!"},{"$error":"#REF!"},{"$error":"#REF!"},{"$error":"#REF!"},{"$error":"#REF!"},{"$error":"#REF!"},{"$error":"#REF!"},{"$error":"#REF!"},{"$error":"#REF!"},{"$error":"#REF!"},{"$error":"#REF!"},{"$error":"#REF!"},{"$error":"#REF!"},{"$error":"#REF!"},{"$error":"#REF!"},{"$error":"#REF!"},{"$error":"#REF!"},{"$error":"#REF!"},{"$error":"#REF!"},{"$error":"#REF!"},{"$error":"#REF!"},{"$error":"#REF!"},{"$error":"#REF!"},{"$error":"#REF!"},{"$error":"#REF!"},{"$error":"#REF!"},{"$error":"#REF!"},{"$error":"#REF!"},{"$error":"#REF!"},{"$error":"#REF!"},{"$error":"#REF!"},{"$error":"#REF!"},{"$error":"#REF!"},{"$f":"BJ2","v":{"$error":"#REF!"}}]
["MW",{"$f":"IF(B91=0, \"\", AVERAGE(B3:B89))","v":""},"","","","","","","","","","","","","","","","","","","","","","","","","","","","","","","",{"$f":"IF(AH91=0, \"\", AVERAGE(AH3:AH89))","v":""},"","","","","","","","","","","","","","","","","","","","","","","","","","","",""]
[]
[null,0,""]
[null,0,""]
[null,0,""]
[null,0,""]
[null,0,""]
[null,0,""]
[null,0,""]
[null,0,""]
[null,0,""]
[null,0,""]
[null,0,""]
[null,0,""]
[null,0,""]
[null,0,""]
[null,0,""]
[null,0,""]
[null,0,""]
[null,0,""]
[null,0,""]
[null,0,""]
[null,0,""]
[null,0,""]
[null,0,""]
[null,0,""]
[null,0,""]
[null,0,""]
[null,0,""]
[null,0,""]
[null,0,""]
[null,0,""]
[null,0,""]
[null,0,""]
[null,0,""]
[null,0,""]
[null,0,""]
[null,0,""]
[null,0,""]
[null,0,""]
[null,0,""]
[null,0,""]
[null,0,""]
[null,0,""]
[null,0,""]
[null,0,""]
[null,0,""]
[null,0,""]
[null,0,""]
[null,0,""]
[null,0,""]
[null,0,""]
[null,0,""]
[null,0,""]
[null,0,""]
[null,0,""]
[null,0,""]
[null,0,""]
[null,0,""]
[null,0,""]
[null,85,"Koll2"]
[null,85,"Kollege1"]
[null,85,"Lehrer"]
[null,"",""]

{"sheet":"A) Alle Ergebnisse","index":34,"n_rows":65,"n_cols":9,"rows_kept":65,"cut":false,"hidden":true,"merged":[[2,0,2,5],[3,6,4,6],[3,4,3,5],[3,2,3,3]]}
[]
[null,"Ergebnisse der Erhebung 1"]
[null,null,null,null,null,null,"Mittelwertsprofil"]
[null,null,"Schüler",null,"Lehrer"]
[".","Erhebung 1","Verteilung der Antworten\n(1,     2,     3,     4)","N","Verteilung der Antworten\n(1,     2,     3,     4)","N"]
[1,{"$f":"IF(FragenErstellen!B7=\"\",\"\",FragenErstellen!B7)","v":"Klassenführung"},null,{"$f":"'A) Daten'!E3","v":0},null,{"$f":"'A) Daten'!N3","v":0},null,null,1.5]
[2,{"$f":"IF(FragenErstellen!B8=\"\",\"\",FragenErstellen!B8)","v":"Der Unterricht hat pünktlich begonnen."},null,{"$f":"'A) Daten'!E4","v":0},null,{"$f":"'A) Daten'!N4","v":0},null,null,2.5]
[3,{"$f":"IF(FragenErstellen!B9=\"\",\"\",FragenErstellen!B9)","v":"Die Klassenregeln waren den Schüler/innen klar."},null,{"$f":"'A) Daten'!E5","v":0},null,{"$f":"'A) Daten'!N5","v":0},null,null,3.5]
[4,{"$f":"IF(FragenErstellen!B10=\"\",\"\",FragenErstellen!B10)","v":"Die Schüler/innen konnten ungestört arbeiten."},null,{"$f":"'A) Daten'!E6","v":0},null,{"$f":"'A) Daten'!N6","v":0},null,null,4.5]
[5,{"$f":"IF(FragenErstellen!B11=\"\",\"\",FragenErstellen!B11)","v":"Den Schüler/innen war im Laufe der Unterrichtsstunde jederzeit klar, was sie tun sollten."},null,{"$f":"'A) Daten'!E7","v":0},null,{"$f":"'A) Daten'!N7","v":0},null,null,5.5]
[6,{"$f":"IF(FragenErstellen!B12=\"\",\"\",FragenErstellen!B12)","v":"Die gesamte Unterrichtsstunde wurde für den Lernstoff verwendet."},null,{"$f":"'A) Daten'!E8","v":0},null,{"$f":"'A) Daten'!N8","v":0},null,null,6.5]
[7,{"$f":"IF(FragenErstellen!B13=\"\",\"\",FragenErstellen!B13)","v":"Lernförderliches Klima und Motivierung"},null,{"$f":"'A) Daten'!E9","v":0},null,{"$f":"'A) Daten'!N9","v":0},null,null,7.5]
[8,{"$f":"IF(FragenErstellen!B14=\"\",\"\",FragenErstellen!B14)","v":"Mit Schülerbeiträgen ist die Lehrperson wertschätzend umgegangen."},null,{"$f":"'A) Daten'!E10","v":0},null,{"$f":"'A) Daten'!N10","v":0},null,null,8.5]
[9,{"$f":"IF(FragenErstellen!B15=\"\",\"\",FragenErstellen!B15)","v":"Die Lehrperson war freundlich zu den Schüler/innen."},null,{"$f":"'A) Daten'!E11","v":0},null,{"$f":"'A) Daten'!N11","v":0},null,null,9.5]
[10,{"$f":"IF(FragenErstellen!B16=\"\",\"\",FragenErstellen!B16)","v":"Die Lehrperson hat die Schüler/innen ausreden lassen, wenn sie dran waren."},null,{"$f":"'A) Daten'!E12","v":0},null,{"$f":"'A) Daten'!N12","v":0},null,null,10.5]
[11,{"$f":"IF(FragenErstellen!B17=\"\",\"\",FragenErstellen!B17)","v":"Wenn die Lehrperson eine Frage gestellt hat, hatten die Schüler/innen ausreichend Zeit zum Nachdenken."},null,{"$f":"'A) Daten'!E13","v":0},null,{"$f":"'A) Daten'!N13","v":0},null,null,11.5]
[12,{"$f":"IF(FragenErstellen!B18=\"\",\"\",FragenErstellen!B18)","v":"Die Lehrperson hat auflockernde Bemerkung gemacht."},null,{"$f":"'A) Daten'!E14","v":0},null,{"$f":"'A) Daten'!N14","v":0},null,null,12.5]
[13,{"$f":"IF(FragenErstellen!B19=\"\",\"\",FragenErstellen!B19)","v":"Die Lehrperson hat die Schüler/innen für Beiträge zum Unterricht angemessen gelobt."},null,{"$f":"'A) Daten'!E15","v":0},null,{"$f":"'A) Daten'!N15","v":0},null,null,13.5]
[14,{"$f":"IF(FragenErstellen!B20=\"\",\"\",FragenErstellen!B20)","v":"Klarheit und Strukturiertheit "},null,{"$f":"'A) Daten'!E16","v":0},null,{"$f":"'A) Daten'!N16","v":0},null,null,14.5]
[15,{"$f":"IF(FragenErstellen!B21=\"\",\"\",FragenErstellen!B21)","v":"Die Lehrperson har klar auf früher unterrichteten Stoff hingewiesen."},null,{"$f":"'A) Daten'!E17","v":0},null,{"$f":"'A) Daten'!N17","v":0},null,null,15.5]
[16,{"$f":"IF(FragenErstellen!B22=\"\",\"\",FragenErstellen!B22)","v":"Es gab anschauliche Beispiele."},null,{"$f":"'A) Daten'!E18","v":0},null,{"$f":"'A) Daten'!N18","v":0},null,null,16.5]
[17,{"$f":"IF(FragenErstellen!B23=\"\",\"\",FragenErstellen!B23)","v":"Die wichtigsten Punkte wurden zusammengefasst."},null,{"$f":"'A) Daten'!E19","v":0},null,{"$f":"'A) Daten'!N19","v":0},null,null,17.5]
[18,{"$f":"IF(FragenErstellen!B24=\"\",\"\",FragenErstellen!B24)","v":"Die Lehrperson hat darauf geachtet, dass die Schüler/innen sich klar ausdrücken."},null,{"$f":"'A) Daten'!E20","v":0},null,{"$f":"'A) Daten'!N20","v":0},null,null,18.5]
[19,{"$f":"IF(FragenErstellen!B25=\"\",\"\",FragenErstellen!B25)","v":"Den Schüler/innen war klar, was sie in dieser Stunde lernen sollten."},null,{"$f":"'A) Daten'!E21","v":0},null,{"$f":"'A) Daten'!N21","v":0},null,null,19.5]
[20,{"$f":"IF(FragenErstellen!B26=\"\",\"\",FragenErstellen!B26)","v":"Aktivierung"},null,{"$f":"'A) Daten'!E22","v":0},null,{"$f":"'A) Daten'!N22","v":0},null,null,20.5]
[21,{"$f":"IF(FragenErstellen!B27=\"\",\"\",FragenErstellen!B27)","v":"Die Schüler/innen haben sich mit eigenen Beiträgen am Unterrichtsgespräche beteiligt."},null,{"$f":"'A) Daten'!E23","v":0},null,{"$f":"'A) Daten'!N23","v":0},null,null,21.5]
[22,{"$f":"IF(FragenErstellen!B28=\"\",\"\",FragenErstellen!B28)","v":"Die Schüler/innen haben Aufgaben alleine bearbeitet."},null,{"$f":"'A) Daten'!E24","v":0},null,{"$f":"'A) Daten'!N24","v":0},null,null,22.5]
[23,{"$f":"IF(FragenErstellen!B29=\"\",\"\",FragenErstellen!B29)","v":"Die Schüler/innen haben etwas vor anderen präsentiert."},null,{"$f":"'A) Daten'!E25","v":0},null,{"$f":"'A) Daten'!N25","v":0},null,null,23.5]
[24,{"$f":"IF(FragenErstellen!B30=\"\",\"\",FragenErstellen!B30)","v":"Die Schüler/innen haben ihre eigenen Arbeitsergebnisse selbst kontrolliert."},null,{"$f":"'A) Daten'!E26","v":0},null,{"$f":"'A) Daten'!N26","v":0},null,null,24.5]
[25,{"$f":"IF(FragenErstellen!B31=\"\",\"\",FragenErstellen!B31)","v":"Die Schüler/innen waren die ganze Stunde über aktiv bei der Sache."},null,{"$f":"'A) Daten'!E27","v":0},null,{"$f":"'A) Daten'!N27","v":0},null,null,25.5]
[26,{"$f":"IF(FragenErstellen!B32=\"\",\"\",FragenErstellen!B32)","v":"Bilanz/ Ertrag"},null,{"$f":"'A) Daten'!E28","v":0},null,{"$f":"'A) Daten'!N28","v":0},null,null,26.5]
[27,{"$f":"IF(FragenErstellen!B33=\"\",\"\",FragenErstellen!B33)","v":"Die Schüler/innen haben etwas dazu gelernt."},null,{"$f":"'A) Daten'!E29","v":0},null,{"$f":"'A) Daten'!N29","v":0},null,null,27.5]
[28,{"$f":"IF(FragenErstellen!B34=\"\",\"\",FragenErstellen!B34)","v":"Die Unterrichtsstunde war für die Schüler/innen interessant."},null,{"$f":"'A) Daten'!E30","v":0},null,{"$f":"'A) Daten'!N30","v":0},null,null,28.5]
[29,{"$f":"IF(FragenErstellen!B35=\"\",\"\",FragenErstellen!B35)","v":"Die Schüler/innen haben sich in dieser Stunde wohl gefühlt."},null,{"$f":"'A) Daten'!E31","v":0},null,{"$f":"'A) Daten'!N31","v":0},null,null,29.5]
[30,{"$f":"IF(FragenErstellen!B36=\"\",\"\",FragenErstellen!B36)","v":"Die Lehrperson hat sich in dieser Stunde an den Bildungsstandards dieses Faches orientiert."},null,{"$f":"'A) Daten'!E32","v":0},null,{"$f":"'A) Daten'!N32","v":0},null,null,30.5]
[31,{"$f":"IF(FragenErstellen!B37=\"\",\"\",FragenErstellen!B37)","v":"Im Hinblick auf die unterschiedlichen Lernvoraussetzungen der Schüler/innen war das Unterrichtsangebot angemessen."},null,{"$f":"'A) Daten'!E33","v":0},null,{"$f":"'A) Daten'!N33","v":0},null,null,31.5]
[32,{"$f":"IF(FragenErstellen!B38=\"\",\"\",FragenErstellen!B38)","v":"Zusatzbereich:"},null,{"$f":"'A) Daten'!E34","v":0},null,{"$f":"'A) Daten'!N34","v":0},null,null,32.5]
[33,{"$f":"IF(FragenErstellen!B39=\"\",\"\",FragenErstellen!B39)","v":""},null,{"$f":"'A) Daten'!E35","v":0},null,{"$f":"'A) Daten'!N35","v":0},null,null,33.5]
[34,{"$f":"IF(FragenErstellen!B40=\"\",\"\",FragenErstellen!B40)","v":""},null,{"$f":"'A) Daten'!E36","v":0},null,{"$f":"'A) Daten'!N36","v":0},null,null,34.5]
[35,{"$f":"IF(FragenErstellen!B41=\"\",\"\",FragenErstellen!B41)","v":""},null,{"$f":"'A) Daten'!E37","v":0},null,{"$f":"'A) Daten'!N37","v":0},null,null,35.5]
[36,{"$f":"IF(FragenErstellen!B42=\"\",\"\",FragenErstellen!B42)","v":""},null,{"$f":"'A) Daten'!E38","v":0},null,{"$f":"'A) Daten'!N38","v":0},null,null,36.5]
[37,{"$f":"IF(FragenErstellen!B43=\"\",\"\",FragenErstellen!B43)","v":""},null,{"$f":"'A) Daten'!E39","v":0},null,{"$f":"'A) Daten'!N39","v":0},null,null,37.5]
[38,{"$f":"IF(FragenErstellen!B44=\"\",\"\",FragenErstellen!B44)","v":""},null,{"$f":"'A) Daten'!E40","v":0},null,{"$f":"'A) Daten'!N40","v":0},null,null,38.5]
[39,{"$f":"IF(FragenErstellen!B45=\"\",\"\",FragenErstellen!B45)","v":""},null,{"$f":"'A) Daten'!E41","v":0},null,{"$f":"'A) Daten'!N41","v":0},null,null,39.5]
[40,{"$f":"IF(FragenErstellen!B46=\"\",\"\",FragenErstellen!B46)","v":""},null,{"$f":"'A) Daten'!E42","v":0},null,{"$f":"'A) Daten'!N42","v":0},null,null,40.5]
[41,{"$f":"IF(FragenErstellen!B47=\"\",\"\",FragenErstellen!B47)","v":""},null,{"$f":"'A) Daten'!E43","v":0},null,{"$f":"'A) Daten'!N43","v":0},null,null,41.5]
[42,{"$f":"IF(FragenErstellen!B48=\"\",\"\",FragenErstellen!B48)","v":""},null,{"$f":"'A) Daten'!E44","v":0},null,{"$f":"'A) Daten'!N44","v":0},null,null,42.5]
[43,{"$f":"IF(FragenErstellen!B49=\"\",\"\",FragenErstellen!B49)","v":""},null,{"$f":"'A) Daten'!E45","v":0},null,{"$f":"'A) Daten'!N45","v":0},null,null,43.5]
[44,{"$f":"IF(FragenErstellen!B50=\"\",\"\",FragenErstellen!B50)","v":""},null,{"$f":"'A) Daten'!E46","v":0},null,{"$f":"'A) Daten'!N46","v":0},null,null,44.5]
[45,{"$f":"IF(FragenErstellen!B51=\"\",\"\",FragenErstellen!B51)","v":""},null,{"$f":"'A) Daten'!E47","v":0},null,{"$f":"'A) Daten'!N47","v":0},null,null,45.5]
[46,{"$f":"IF(FragenErstellen!B52=\"\",\"\",FragenErstellen!B52)","v":""},null,{"$f":"'A) Daten'!E48","v":0},null,{"$f":"'A) Daten'!N48","v":0},null,null,46.5]
[47,{"$f":"IF(FragenErstellen!B53=\"\",\"\",FragenErstellen!B53)","v":""},null,{"$f":"'A) Daten'!E49","v":0},null,{"$f":"'A) Daten'!N49","v":0},null,null,47.5]
[48,{"$f":"IF(FragenErstellen!B54=\"\",\"\",FragenErstellen!B54)","v":""},null,{"$f":"'A) Daten'!E50","v":0},null,{"$f":"'A) Daten'!N50","v":0},null,null,48.5]
[49,{"$f":"IF(FragenErstellen!B55=\"\",\"\",FragenErstellen!B55)","v":""},null,{"$f":"'A) Daten'!E51","v":0},null,{"$f":"'A) Daten'!N51","v":0},null,null,49.5]
[50,{"$f":"IF(FragenErstellen!B56=\"\",\"\",FragenErstellen!B56)","v":""},null,{"$f":"'A) Daten'!E52","v":0},null,{"$f":"'A) Daten'!N52","v":0},null,null,50.5]
[51,{"$f":"IF(FragenErstellen!B57=\"\",\"\",FragenErstellen!B57)","v":""},null,{"$f":"'A) Daten'!E53","v":0},null,{"$f":"'A) Daten'!N53","v":0},null,null,51.5]
[52,{"$f":"IF(FragenErstellen!B58=\"\",\"\",FragenErstellen!B58)","v":""},null,{"$f":"'A) Daten'!E54","v":0},null,{"$f":"'A) Daten'!N54","v":0},null,null,52.5]
[53,{"$f":"IF(FragenErstellen!B59=\"\",\"\",FragenErstellen!B59)","v":""},null,{"$f":"'A) Daten'!E55","v":0},null,{"$f":"'A) Daten'!N55","v":0},null,null,53.5]
[54,{"$f":"IF(FragenErstellen!B60=\"\",\"\",FragenErstellen!B60)","v":""},null,{"$f":"'A) Daten'!E56","v":0},null,{"$f":"'A) Daten'!N56","v":0},null,null,54.5]
[55,{"$f":"IF(FragenErstellen!B61=\"\",\"\",FragenErstellen!B61)","v":""},null,{"$f":"'A) Daten'!E57","v":0},null,{"$f":"'A) Daten'!N57","v":0},null,null,55.5]
[56,{"$f":"IF(FragenErstellen!B62=\"\",\"\",FragenErstellen!B62)","v":""},null,{"$f":"'A) Daten'!E58","v":0},null,{"$f":"'A) Daten'!N58","v":0},null,null,56.5]
[57,{"$f":"IF(FragenErstellen!B63=\"\",\"\",FragenErstellen!B63)","v":""},null,{"$f":"'A) Daten'!E59","v":0},null,{"$f":"'A) Daten'!N59","v":0},null,null,57.5]
[58,{"$f":"IF(FragenErstellen!B64=\"\",\"\",FragenErstellen!B64)","v":""},null,{"$f":"'A) Daten'!E60","v":0},null,{"$f":"'A) Daten'!N60","v":0},null,null,58.5]
[59,{"$f":"IF(FragenErstellen!B65=\"\",\"\",FragenErstellen!B65)","v":""},null,{"$f":"'A) Daten'!E61","v":0},null,{"$f":"'A) Daten'!N61","v":0},null,null,59.5]
[60,{"$f":"IF(FragenErstellen!B66=\"\",\"\",FragenErstellen!B66)","v":""},null,{"$f":"'A) Daten'!E62","v":0},null,{"$f":"'A) Daten'!N62","v":0},null,null,60.5]

{"sheet":"B) Temp","index":35,"n_rows":156,"n_cols":62,"rows_kept":156,"cut":false,"hidden":true,"merged":[]}
["Beurteilungstendenzen",1,2,3,4,5,6,7,8,9,10,11,12,13,14,15,16,17,18,19,20,21,22,23,24,25,26,27,28,29,30,31,32,33,34,35,36,37,38,39,40,41,42,43,44,45,46,47,48,49,50,51,52,53,54,55,56,57,58,59,60,61]
["ID",{"$f":" IF(#REF!=\"\", \"\",#REF!)","v":{"$error":"#REF!"}},{"$f":" IF(#REF!=\"\", \"\",#REF!)","v":{"$error":"#REF!"}},{"$f":" IF(#REF!=\"\", \"\",#REF!)","v":{"$error":"#REF!"}},{"$f":" IF(#REF!=\"\", \"\",#REF!)","v":{"$error":"#REF!"}},{"$f":" IF(#REF!=\"\", \"\",#REF!)","v":{"$error":"#REF!"}},{"$f":" IF(#REF!=\"\", \"\",#REF!)","v":{"$error":"#REF!"}},{"$f":" IF(#REF!=\"\", \"\",#REF!)","v":{"$error":"#REF!"}},{"$f":" IF(#REF!=\"\", \"\",#REF!)","v":{"$error":"#REF!"}},{"$f":" IF(#REF!=\"\", \"\",#REF!)","v":{"$error":"#REF!"}},{"$f":" IF(#REF!=\"\", \"\",#REF!)","v":{"$error":"#REF!"}},{"$f":" IF(#REF!=\"\", \"\",#REF!)","v":{"$error":"#REF!"}},{"$f":" IF(#REF!=\"\", \"\",#REF!)","v":{"$error":"#REF!"}},{"$f":" IF(#REF!=\"\", \"\",#REF!)","v":{"$error":"#REF!"}},{"$f":" IF(#REF!=\"\", \"\",#REF!)","v":{"$error":"#REF!"}},{"$f":" IF(#REF!=\"\", \"\",#REF!)","v":{"$error":"#REF!"}},{"$f":" IF(#REF!=\"\", \"\",#REF!)","v":{"$error":"#REF!"}},{"$f":" IF(#REF!=\"\", \"\",#REF!)","v":{"$error":"#REF!"}},{"$f":" IF(#REF!=\"\", \"\",#REF!)","v":{"$error":"#REF!"}},{"$f":" IF(#REF!=\"\", \"\",#REF!)","v":{"$error":"#REF!"}},{"$f":" IF(#REF!=\"\", \"\",#REF!)","v":{"$error":"#REF!"}},{"$f":" IF(#REF!=\"\", \"\",#REF!)","v":{"$error":"#REF!"}},{"$f":" IF(#REF!=\"\", \"\",#REF!)","v":{"$error":"#REF!"}},{"$f":" IF(#REF!=\"\", \"\",#REF!)","v":{"$error":"#REF!"}},{"$f":" IF(#REF!=\"\", \"\",#REF!)","v":{"$error":"#REF!"}},{"$f":" IF(#REF!=\"\", \"\",#REF!)","v":{"$error":"#REF!"}},{"$f":" IF(#REF!=\"\", \"\",#REF!)","v":{"$error":"#REF!"}},{"$f":" IF(#REF!=\"\", \"\",#REF!)","v":{"$error":"#REF!"}},{"$f":" IF(#REF!=\"\", \"\",#REF!)","v":{"$error":"#REF!"}},{"$f":" IF(#REF!=\"\", \"\",#REF!)","v":{"$error":"#REF!"}},{"$f":" IF(#REF!=\"\", \"\",#REF!)","v":{"$error":"#REF!"}},{"$f":" IF(#REF!=\"\", \"\",#REF!)","v":{"$error":"#REF!"}},{"$f":" IF(#REF!=\"\", \"\",#REF!)","v":{"$error":"#REF!"}},{"$f":" IF(#REF!=\"\", \"\",#REF!)","v":{"$error":"#REF!"}},{"$f":" IF(#REF!=\"\", \"\",#REF!)","v":{"$error":"#REF!"}},{"$f":" IF(#REF!=\"\", \"\",#REF!)","v":{"$error":"#REF!"}},{"$f":" IF(#REF!=\"\", \"\",#REF!)","v":{"$error":"#REF!"}},{"$f":" IF(#REF!=\"\", \"\",#REF!)","v":{"$error":"#REF!"}},{"$f":" IF(#REF!=\"\", \"\",#REF!)","v":{"$error":"#REF!"}},{"$f":" IF(#REF!=\"\", \"\",#REF!)","v":{"$error":"#REF!"}},{"$f":" IF(#REF!=\"\", \"\",#REF!)","v":{"$error":"#REF!"}},{"$f":" IF(#REF!=\"\", \"\",#REF!)","v":{"$error":"#REF!"}},{"$f":" IF(#REF!=\"\", \"\",#REF!)","v":{"$error":"#REF!"}},{"$f":" IF(#REF!=\"\", \"\",#REF!)","v":{"$error":"#REF!"}},{"$f":" IF(#REF!=\"\", \"\",#REF!)","v":{"$error":"#REF!"}},{"$f":" IF(#REF!=\"\", \"\",#REF!)","v":{"$error":"#REF!"}},{"$f":" IF(#REF!=\"\", \"\",#REF!)","v":{"$error":"#REF!"}},{"$f":" IF(#REF!=\"\", \"\",#REF!)","v":{"$error":"#REF!"}},{"$f":" IF(#REF!=\"\", \"\",#REF!)","v":{"$error":"#REF!"}},{"$f":" IF(#REF!=\"\", \"\",#REF!)","v":{"$error":"#REF!"}},{"$f":" IF(#REF!=\"\", \"\",#REF!)","v":{"$error":"#REF!"}},{"$f":" IF(#REF!=\"\", \"\",#REF!)","v":{"$error":"#REF!"}},{"$f":" IF(#REF!=\"\", \"\",#REF!)","v":{"$error":"#REF!"}},{"$f":" IF(#REF!=\"\", \"\",#REF!)","v":{"$error":"#REF!"}},{"$f":" IF(#REF!=\"\", \"\",#REF!)","v":{"$error":"#REF!"}},{"$f":" IF(#REF!=\"\", \"\",#REF!)","v":{"$error":"#REF!"}},{"$f":" IF(#REF!=\"\", \"\",#REF!)","v":{"$error":"#REF!"}},{"$f":" IF(#REF!=\"\", \"\",#REF!)","v":{"$error":"#REF!"}},{"$f":" IF(#REF!=\"\", \"\",#REF!)","v":{"$error":"#REF!"}},{"$f":" IF(#REF!=\"\", \"\",#REF!)","v":{"$error":"#REF!"}},{"$f":" IF(#REF!=\"\", \"\",#REF!)","v":{"$error":"#REF!"}},{"$f":" IF(#REF!=\"\", \"\",#REF!)","v":{"$error":"#REF!"}}]
["Item 1",{"$f":"IF(#REF!=\"\", \"\",#REF!)","v":{"$error":"#REF!"}},{"$f":"IF(#REF!=\"\", \"\",#REF!)","v":{"$error":"#REF!"}},{"$f":"IF(#REF!=\"\", \"\",#REF!)","v":{"$error":"#REF!"}},{"$f":"IF(#REF!=\"\", \"\",#REF!)","v":{"$error":"#REF!"}},{"$f":"IF(#REF!=\"\", \"\",#REF!)","v":{"$error":"#REF!"}},{"$f":"IF(#REF!=\"\", \"\",#REF!)","v":{"$error":"#REF!"}},{"$f":"IF(#REF!=\"\", \"\",#REF!)","v":{"$error":"#REF!"}},{"$f":"IF(#REF!=\"\", \"\",#REF!)","v":{"$error":"#REF!"}},{"$f":"IF(#REF!=\"\", \"\",#REF!)","v":{"$error":"#REF!"}},{"$f":"IF(#REF!=\"\", \"\",#REF!)","v":{"$error":"#REF!"}},{"$f":"IF(#REF!=\"\", \"\",#REF!)","v":{"$error":"#REF!"}},{"$f":"IF(#REF!=\"\", \"\",#REF!)","v":{"$error":"#REF!"}},{"$f":"IF(#REF!=\"\", \"\",#REF!)","v":{"$error":"#REF!"}},{"$f":"IF(#REF!=\"\", \"\",#REF!)","v":{"$error":"#REF!"}},{"$f":"IF(#REF!=\"\", \"\",#REF!)","v":{"$error":"#REF!"}},{"$f":"IF(#REF!=\"\", \"\",#REF!)","v":{"$error":"#REF!"}},{"$f":"IF(#REF!=\"\", \"\",#REF!)","v":{"$error":"#REF!"}},{"$f":"IF(#REF!=\"\", \"\",#REF!)","v":{"$error":"#REF!"}},{"$f":"IF(#REF!=\"\", \"\",#REF!)","v":{"$error":"#REF!"}},{"$f":"IF(#REF!=\"\", \"\",#REF!)","v":{"$error":"#REF!"}},{"$f":"IF(#REF!=\"\", \"\",#REF!)","v":{"$error":"#REF!"}},{"$f":"IF(#REF!=\"\", \"\",#REF!)","v":{"$error":"#REF!"}},{"$f":"IF(#REF!=\"\", \"\",#REF!)","v":{"$error":"#REF!"}},{"$f":"IF(#REF!=\"\", \"\",#REF!)","v":{"$error":"#REF!"}},{"$f":"IF(#REF!=\"\", \"\",#REF!)","v":{"$error":"#REF!"}},{"$f":"IF(#REF!=\"\", \"\",#REF!)","v":{"$error":"#REF!"}},{"$f":"IF(#REF!=\"\", \"\",#REF!)","v":{"$error":"#REF!"}},{"$f":"IF(#REF!=\"\", \"\",#REF!)","v":{"$error":"#REF!"}},{"$f":"IF(#REF!=\"\", \"\",#REF!)","v":{"$error":"#REF!"}},{"$f":"IF(#REF!=\"\", \"\",#REF!)","v":{"$error":"#REF!"}},{"$f":"IF(#REF!=\"\", \"\",#REF!)","v":{"$error":"#REF!"}},{"$f":"IF(#REF!=\"\", \"\",#REF!)","v":{"$error":"#REF!"}},{"$f":"IF(#REF!=\"\", \"\",#REF!)","v":{"$error":"#REF!"}},{"$f":"IF(#REF!=\"\", \"\",#REF!)","v":{"$error":"#REF!"}},{"$f":"IF(#REF!=\"\", \"\",#REF!)","v":{"$error":"#REF!"}},{"$f":"IF(#REF!=\"\", \"\",#REF!)","v":{"$error":"#REF!"}},{"$f":"IF(#REF!=\"\", \"\",#REF!)","v":{"$error":"#REF!"}},{"$f":"IF(#REF!=\"\", \"\",#REF!)","v":{"$error":"#REF!"}},{"$f":"IF(#REF!=\"\", \"\",#REF!)","v":{"$error":"#REF!"}},{"$f":"IF(#REF!=\"\", \"\",#REF!)","v":{"$error":"#REF!"}},{"$f":"IF(#REF!=\"\", \"\",#REF!)","v":{"$error":"#REF!"}},{"$f":"IF(#REF!=\"\", \"\",#REF!)","v":{"$error":"#REF!"}},{"$f":"IF(#REF!=\"\", \"\",#REF!)","v":{"$error":"#REF!"}},{"$f":"IF(#REF!=\"\", \"\",#REF!)","v":{"$error":"#REF!"}},{"$f":"IF(#REF!=\"\", \"\",#REF!)","v":{"$error":"#REF!"}},{"$f":"IF(#REF!=\"\", \"\",#REF!)","v":{"$error":"#REF!"}},{"$f":"IF(#REF!=\"\", \"\",#REF!)","v":{"$error":"#REF!"}},{"$f":"IF(#REF!=\"\", \"\",#REF!)","v":{"$error":"#REF!"}},{"$f":"IF(#REF!=\"\", \"\",#REF!)","v":{"$error":"#REF!"}},{"$f":"IF(#REF!=\"\", \"\",#REF!)","v":{"$error":"#REF!"}},{"$f":"IF(#REF!=\"\", \"\",#REF!)","v":{"$error":"#REF!"}},{"$f":"IF(#REF!=\"\", \"\",#REF!)","v":{"$error":"#REF!"}},{"$f":"IF(#REF!=\"\", \"\",#REF!)","v":{"$error":"#REF!"}},{"$f":"IF(#REF!=\"\", \"\",#REF!)","v":{"$error":"#REF!"}},{"$f":"IF(#REF!=\"\", \"\",#REF!)","v":{"$error":"#REF!"}},{"$f":"IF(#REF!=\"\", \"\",#REF!)","v":{"$error":"#REF!"}},{"$f":"IF(#REF!=\"\", \"\",#REF!)","v":{"$error":"#REF!"}},{"$f":"IF(#REF!=\"\", \"\",#REF!)","v":{"$error":"#REF!"}},{"$f":"IF(#REF!=\"\", \"\",#REF!)","v":{"$error":"#REF!"}},{"$f":"IF(#REF!=\"\", \"\",#REF!)","v":{"$error":"#REF!"}},{"$f":"IF(#REF!=\"\", \"\",#REF!)","v":{"$error":"#REF!"}}]
["Item 2",{"$f":"IF(#REF!=\"\", \"\",#REF!)","v":{"$error":"#REF!"}},{"$f":"IF(#REF!=\"\", \"\",#REF!)","v":{"$error":"#REF!"}},{"$f":"IF(#REF!=\"\", \"\",#REF!)","v":{"$error":"#REF!"}},{"$f":"IF(#REF!=\"\", \"\",#REF!)","v":{"$error":"#REF!"}},{"$f":"IF(#REF!=\"\", \"\",#REF!)","v":{"$error":"#REF!"}},{"$f":"IF(#REF!=\"\", \"\",#REF!)","v":{"$error":"#REF!"}},{"$f":"IF(#REF!=\"\", \"\",#REF!)","v":{"$error":"#REF!"}},{"$f":"IF(#REF!=\"\", \"\",#REF!)","v":{"$error":"#REF!"}},{"$f":"IF(#REF!=\"\", \"\",#REF!)","v":{"$error":"#REF!"}},{"$f":"IF(#REF!=\"\", \"\",#REF!)","v":{"$error":"#REF!"}},{"$f":"IF(#REF!=\"\", \"\",#REF!)","v":{"$error":"#REF!"}},{"$f":"IF(#REF!=\"\", \"\",#REF!)","v":{"$error":"#REF!"}},{"$f":"IF(#REF!=\"\", \"\",#REF!)","v":{"$error":"#REF!"}},{"$f":"IF(#REF!=\"\", \"\",#REF!)","v":{"$error":"#REF!"}},{"$f":"IF(#REF!=\"\", \"\",#REF!)","v":{"$error":"#REF!"}},{"$f":"IF(#REF!=\"\", \"\",#REF!)","v":{"$error":"#REF!"}},{"$f":"IF(#REF!=\"\", \"\",#REF!)","v":{"$error":"#REF!"}},{"$f":"IF(#REF!=\"\", \"\",#REF!)","v":{"$error":"#REF!"}},{"$f":"IF(#REF!=\"\", \"\",#REF!)","v":{"$error":"#REF!"}},{"$f":"IF(#REF!=\"\", \"\",#REF!)","v":{"$error":"#REF!"}},{"$f":"IF(#REF!=\"\", \"\",#REF!)","v":{"$error":"#REF!"}},{"$f":"IF(#REF!=\"\", \"\",#REF!)","v":{"$error":"#REF!"}},{"$f":"IF(#REF!=\"\", \"\",#REF!)","v":{"$error":"#REF!"}},{"$f":"IF(#REF!=\"\", \"\",#REF!)","v":{"$error":"#REF!"}},{"$f":"IF(#REF!=\"\", \"\",#REF!)","v":{"$error":"#REF!"}},{"$f":"IF(#REF!=\"\", \"\",#REF!)","v":{"$error":"#REF!"}},{"$f":"IF(#REF!=\"\", \"\",#REF!)","v":{"$error":"#REF!"}},{"$f":"IF(#REF!=\"\", \"\",#REF!)","v":{"$error":"#REF!"}},{"$f":"IF(#REF!=\"\", \"\",#REF!)","v":{"$error":"#REF!"}},{"$f":"IF(#REF!=\"\", \"\",#REF!)","v":{"$error":"#REF!"}},{"$f":"IF(#REF!=\"\", \"\",#REF!)","v":{"$error":"#REF!"}},{"$f":"IF(#REF!=\"\", \"\",#REF!)","v":{"$error":"#REF!"}},{"$f":"IF(#REF!=\"\", \"\",#REF!)","v":{"$error":"#REF!"}},{"$f":"IF(#REF!=\"\", \"\",#REF!)","v":{"$error":"#REF!"}},{"$f":"IF(#REF!=\"\", \"\",#REF!)","v":{"$error":"#REF!"}},{"$f":"IF(#REF!=\"\", \"\",#REF!)","v":{"$error":"#REF!"}},{"$f":"IF(#REF!=\"\", \"\",#REF!)","v":{"$error":"#REF!"}},{"$f":"IF(#REF!=\"\", \"\",#REF!)","v":{"$error":"#REF!"}},{"$f":"IF(#REF!=\"\", \"\",#REF!)","v":{"$error":"#REF!"}},{"$f":"IF(#REF!=\"\", \"\",#REF!)","v":{"$error":"#REF!"}},{"$f":"IF(#REF!=\"\", \"\",#REF!)","v":{"$error":"#REF!"}},{"$f":"IF(#REF!=\"\", \"\",#REF!)","v":{"$error":"#REF!"}},{"$f":"IF(#REF!=\"\", \"\",#REF!)","v":{"$error":"#REF!"}},{"$f":"IF(#REF!=\"\", \"\",#REF!)","v":{"$error":"#REF!"}},{"$f":"IF(#REF!=\"\", \"\",#REF!)","v":{"$error":"#REF!"}},{"$f":"IF(#REF!=\"\", \"\",#REF!)","v":{"$error":"#REF!"}},{"$f":"IF(#REF!=\"\", \"\",#REF!)","v":{"$error":"#REF!"}},{"$f":"IF(#REF!=\"\", \"\",#REF!)","v":{"$error":"#REF!"}},{"$f":"IF(#REF!=\"\", \"\",#REF!)","v":{"$error":"#REF!"}},{"$f":"IF(#REF!=\"\", \"\",#REF!)","v":{"$error":"#REF!"}},{"$f":"IF(#REF!=\"\", \"\",#REF!)","v":{"$error":"#REF!"}},{"$f":"IF(#REF!=\"\", \"\",#REF!)","v":{"$error":"#REF!"}},{"$f":"IF(#REF!=\"\", \"\",#REF!)","v":{"$error":"#REF!"}},{"$f":"IF(#REF!=\"\", \"\",#REF!)","v":{"$error":"#REF!"}},{"$f":"IF(#REF!=\"\", \"\",#REF!)","v":{"$error":"#REF!"}},{"$f":"IF(#REF!=\"\", \"\",#REF!)","v":{"$error":"#REF!"}},{"$f":"IF(#REF!=\"\", \"\",#REF!)","v":{"$error":"#REF!"}},{"$f":"IF(#REF!=\"\", \"\",#REF!)","v":{"$error":"#REF!"}},{"$f":"IF(#REF!=\"\", \"\",#REF!)","v":{"$error":"#REF!"}},{"$f":"IF(#REF!=\"\", \"\",#REF!)","v":{"$error":"#REF!"}},{"$f":"IF(#REF!=\"\", \"\",#REF!)","v":{"$error":"#REF!"}}]
["Item 3",{"$f":"IF(#REF!=\"\", \"\",#REF!)","v":{"$error":"#REF!"}},{"$f":"IF(#REF!=\"\", \"\",#REF!)","v":{"$error":"#REF!"}},{"$f":"IF(#REF!=\"\", \"\",#REF!)","v":{"$error":"#REF!"}},{"$f":"IF(#REF!=\"\", \"\",#REF!)","v":{"$error":"#REF!"}},{"$f":"IF(#REF!=\"\", \"\",#REF!)","v":{"$error":"#REF!"}},{"$f":"IF(#REF!=\"\", \"\",#REF!)","v":{"$error":"#REF!"}},{"$f":"IF(#REF!=\"\", \"\",#REF!)","v":{"$error":"#REF!"}},{"$f":"IF(#REF!=\"\", \"\",#REF!)","v":{"$error":"#REF!"}},{"$f":"IF(#REF!=\"\", \"\",#REF!)","v":{"$error":"#REF!"}},{"$f":"IF(#REF!=\"\", \"\",#REF!)","v":{"$error":"#REF!"}},{"$f":"IF(#REF!=\"\", \"\",#REF!)","v":{"$error":"#REF!"}},{"$f":"IF(#REF!=\"\", \"\",#REF!)","v":{"$error":"#REF!"}},{"$f":"IF(#REF!=\"\", \"\",#REF!)","v":{"$error":"#REF!"}},{"$f":"IF(#REF!=\"\", \"\",#REF!)","v":{"$error":"#REF!"}},{"$f":"IF(#REF!=\"\", \"\",#REF!)","v":{"$error":"#REF!"}},{"$f":"IF(#REF!=\"\", \"\",#REF!)","v":{"$error":"#REF!"}},{"$f":"IF(#REF!=\"\", \"\",#REF!)","v":{"$error":"#REF!"}},{"$f":"IF(#REF!=\"\", \"\",#REF!)","v":{"$error":"#REF!"}},{"$f":"IF(#REF!=\"\", \"\",#REF!)","v":{"$error":"#REF!"}},{"$f":"IF(#REF!=\"\", \"\",#REF!)","v":{"$error":"#REF!"}},{"$f":"IF(#REF!=\"\", \"\",#REF!)","v":{"$error":"#REF!"}},{"$f":"IF(#REF!=\"\", \"\",#REF!)","v":{"$error":"#REF!"}},{"$f":"IF(#REF!=\"\", \"\",#REF!)","v":{"$error":"#REF!"}},{"$f":"IF(#REF!=\"\", \"\",#REF!)","v":{"$error":"#REF!"}},{"$f":"IF(#REF!=\"\", \"\",#REF!)","v":{"$error":"#REF!"}},{"$f":"IF(#REF!=\"\", \"\",#REF!)","v":{"$error":"#REF!"}},{"$f":"IF(#REF!=\"\", \"\",#REF!)","v":{"$error":"#REF!"}},{"$f":"IF(#REF!=\"\", \"\",#REF!)","v":{"$error":"#REF!"}},{"$f":"IF(#REF!=\"\", \"\",#REF!)","v":{"$error":"#REF!"}},{"$f":"IF(#REF!=\"\", \"\",#REF!)","v":{"$error":"#REF!"}},{"$f":"IF(#REF!=\"\", \"\",#REF!)","v":{"$error":"#REF!"}},{"$f":"IF(#REF!=\"\", \"\",#REF!)","v":{"$error":"#REF!"}},{"$f":"IF(#REF!=\"\", \"\",#REF!)","v":{"$error":"#REF!"}},{"$f":"IF(#REF!=\"\", \"\",#REF!)","v":{"$error":"#REF!"}},{"$f":"IF(#REF!=\"\", \"\",#REF!)","v":{"$error":"#REF!"}},{"$f":"IF(#REF!=\"\", \"\",#REF!)","v":{"$error":"#REF!"}},{"$f":"IF(#REF!=\"\", \"\",#REF!)","v":{"$error":"#REF!"}},{"$f":"IF(#REF!=\"\", \"\",#REF!)","v":{"$error":"#REF!"}},{"$f":"IF(#REF!=\"\", \"\",#REF!)","v":{"$error":"#REF!"}},{"$f":"IF(#REF!=\"\", \"\",#REF!)","v":{"$error":"#REF!"}},{"$f":"IF(#REF!=\"\", \"\",#REF!)","v":{"$error":"#REF!"}},{"$f":"IF(#REF!=\"\", \"\",#REF!)","v":{"$error":"#REF!"}},{"$f":"IF(#REF!=\"\", \"\",#REF!)","v":{"$error":"#REF!"}},{"$f":"IF(#REF!=\"\", \"\",#REF!)","v":{"$error":"#REF!"}},{"$f":"IF(#REF!=\"\", \"\",#REF!)","v":{"$error":"#REF!"}},{"$f":"IF(#REF!=\"\", \"\",#REF!)","v":{"$error":"#REF!"}},{"$f":"IF(#REF!=\"\", \"\",#REF!)","v":{"$error":"#REF!"}},{"$f":"IF(#REF!=\"\", \"\",#REF!)","v":{"$error":"#REF!"}},{"$f":"IF(#REF!=\"\", \"\",#REF!)","v":{"$error":"#REF!"}},{"$f":"IF(#REF!=\"\", \"\",#REF!)","v":{"$error":"#REF!"}},{"$f":"IF(#REF!=\"\", \"\",#REF!)","v":{"$error":"#REF!"}},{"$f":"IF(#REF!=\"\", \"\",#REF!)","v":{"$error":"#REF!"}},{"$f":"IF(#REF!=\"\", \"\",#REF!)","v":{"$error":"#REF!"}},{"$f":"IF(#REF!=\"\", \"\",#REF!)","v":{"$error":"#REF!"}},{"$f":"IF(#REF!=\"\", \"\",#REF!)","v":{"$error":"#REF!"}},{"$f":"IF(#REF!=\"\", \"\",#REF!)","v":{"$error":"#REF!"}},{"$f":"IF(#REF!=\"\", \"\",#REF!)","v":{"$error":"#REF!"}},{"$f":"IF(#REF!=\"\", \"\",#REF!)","v":{"$error":"#REF!"}},{"$f":"IF(#REF!=\"\", \"\",#REF!)","v":{"$error":"#REF!"}},{"$f":"IF(#REF!=\"\", \"\",#REF!)","v":{"$error":"#REF!"}},{"$f":"IF(#REF!=\"\", \"\",#REF!)","v":{"$error":"#REF!"}}]
["Item 4",{"$f":"IF(#REF!=\"\", \"\",#REF!)","v":{"$error":"#REF!"}},{"$f":"IF(#REF!=\"\", \"\",#REF!)","v":{"$error":"#REF!"}},{"$f":"IF(#REF!=\"\", \"\",#REF!)","v":{"$error":"#REF!"}},{"$f":"IF(#REF!=\"\", \"\",#REF!)","v":{"$error":"#REF!"}},{"$f":"IF(#REF!=\"\", \"\",#REF!)","v":{"$error":"#REF!"}},{"$f":"IF(#REF!=\"\", \"\",#REF!)","v":{"$error":"#REF!"}},{"$f":"IF(#REF!=\"\", \"\",#REF!)","v":{"$error":"#REF!"}},{"$f":"IF(#REF!=\"\", \"\",#REF!)","v":{"$error":"#REF!"}},{"$f":"IF(#REF!=\"\", \"\",#REF!)","v":{"$error":"#REF!"}},{"$f":"IF(#REF!=\"\", \"\",#REF!)","v":{"$error":"#REF!"}},{"$f":"IF(#REF!=\"\", \"\",#REF!)","v":{"$error":"#REF!"}},{"$f":"IF(#REF!=\"\", \"\",#REF!)","v":{"$error":"#REF!"}},{"$f":"IF(#REF!=\"\", \"\",#REF!)","v":{"$error":"#REF!"}},{"$f":"IF(#REF!=\"\", \"\",#REF!)","v":{"$error":"#REF!"}},{"$f":"IF(#REF!=\"\", \"\",#REF!)","v":{"$error":"#REF!"}},{"$f":"IF(#REF!=\"\", \"\",#REF!)","v":{"$error":"#REF!"}},{"$f":"IF(#REF!=\"\", \"\",#REF!)","v":{"$error":"#REF!"}},{"$f":"IF(#REF!=\"\", \"\",#REF!)","v":{"$error":"#REF!"}},{"$f":"IF(#REF!=\"\", \"\",#REF!)","v":{"$error":"#REF!"}},{"$f":"IF(#REF!=\"\", \"\",#REF!)","v":{"$error":"#REF!"}},{"$f":"IF(#REF!=\"\", \"\",#REF!)","v":{"$error":"#REF!"}},{"$f":"IF(#REF!=\"\", \"\",#REF!)","v":{"$error":"#REF!"}},{"$f":"IF(#REF!=\"\", \"\",#REF!)","v":{"$error":"#REF!"}},{"$f":"IF(#REF!=\"\", \"\",#REF!)","v":{"$error":"#REF!"}},{"$f":"IF(#REF!=\"\", \"\",#REF!)","v":{"$error":"#REF!"}},{"$f":"IF(#REF!=\"\", \"\",#REF!)","v":{"$error":"#REF!"}},{"$f":"IF(#REF!=\"\", \"\",#REF!)","v":{"$error":"#REF!"}},{"$f":"IF(#REF!=\"\", \"\",#REF!)","v":{"$error":"#REF!"}},{"$f":"IF(#REF!=\"\", \"\",#REF!)","v":{"$error":"#REF!"}},{"$f":"IF(#REF!=\"\", \"\",#REF!)","v":{"$error":"#REF!"}},{"$f":"IF(#REF!=\"\", \"\",#REF!)","v":{"$error":"#REF!"}},{"$f":"IF(#REF!=\"\", \"\",#REF!)","v":{"$error":"#REF!"}},{"$f":"IF(#REF!=\"\", \"\",#REF!)","v":{"$error":"#REF!"}},{"$f":"IF(#REF!=\"\", \"\",#REF!)","v":{"$error":"#REF!"}},{"$f":"IF(#REF!=\"\", \"\",#REF!)","v":{"$error":"#REF!"}},{"$f":"IF(#REF!=\"\", \"\",#REF!)","v":{"$error":"#REF!"}},{"$f":"IF(#REF!=\"\", \"\",#REF!)","v":{"$error":"#REF!"}},{"$f":"IF(#REF!=\"\", \"\",#REF!)","v":{"$error":"#REF!"}},{"$f":"IF(#REF!=\"\", \"\",#REF!)","v":{"$error":"#REF!"}},{"$f":"IF(#REF!=\"\", \"\",#REF!)","v":{"$error":"#REF!"}},{"$f":"IF(#REF!=\"\", \"\",#REF!)","v":{"$error":"#REF!"}},{"$f":"IF(#REF!=\"\", \"\",#REF!)","v":{"$error":"#REF!"}},{"$f":"IF(#REF!=\"\", \"\",#REF!)","v":{"$error":"#REF!"}},{"$f":"IF(#REF!=\"\", \"\",#REF!)","v":{"$error":"#REF!"}},{"$f":"IF(#REF!=\"\", \"\",#REF!)","v":{"$error":"#REF!"}},{"$f":"IF(#REF!=\"\", \"\",#REF!)","v":{"$error":"#REF!"}},{"$f":"IF(#REF!=\"\", \"\",#REF!)","v":{"$error":"#REF!"}},{"$f":"IF(#REF!=\"\", \"\",#REF!)","v":{"$error":"#REF!"}},{"$f":"IF(#REF!=\"\", \"\",#REF!)","v":{"$error":"#REF!"}},{"$f":"IF(#REF!=\"\", \"\",#REF!)","v":{"$error":"#REF!"}},{"$f":"IF(#REF!=\"\", \"\",#REF!)","v":{"$error":"#REF!"}},{"$f":"IF(#REF!=\"\", \"\",#REF!)","v":{"$error":"#REF!"}},{"$f":"IF(#REF!=\"\", \"\",#REF!)","v":{"$error":"#REF!"}},{"$f":"IF(#REF!=\"\", \"\",#REF!)","v":{"$error":"#REF!"}},{"$f":"IF(#REF!=\"\", \"\",#REF!)","v":{"$error":"#REF!"}},{"$f":"IF(#REF!=\"\", \"\",#REF!)","v":{"$error":"#REF!"}},{"$f":"IF(#REF!=\"\", \"\",#REF!)","v":{"$error":"#REF!"}},{"$f":"IF(#REF!=\"\", \"\",#REF!)","v":{"$error":"#REF!"}},{"$f":"IF(#REF!=\"\", \"\",#REF!)","v":{"$error":"#REF!"}},{"$f":"IF(#REF!=\"\", \"\",#REF!)","v":{"$error":"#REF!"}},{"$f":"IF(#REF!=\"\", \"\",#REF!)","v":{"$error":"#REF!"}}]
["Item 5",{"$f":"IF(#REF!=\"\", \"\",#REF!)","v":{"$error":"#REF!"}},{"$f":"IF(#REF!=\"\", \"\",#REF!)","v":{"$error":"#REF!"}},{"$f":"IF(#REF!=\"\", \"\",#REF!)","v":{"$error":"#REF!"}},{"$f":"IF(#REF!=\"\", \"\",#REF!)","v":{"$error":"#REF!"}},{"$f":"IF(#REF!=\"\", \"\",#REF!)","v":{"$error":"#REF!"}},{"$f":"IF(#REF!=\"\", \"\",#REF!)","v":{"$error":"#REF!"}},{"$f":"IF(#REF!=\"\", \"\",#REF!)","v":{"$error":"#REF!"}},{"$f":"IF(#REF!=\"\", \"\",#REF!)","v":{"$error":"#REF!"}},{"$f":"IF(#REF!=\"\", \"\",#REF!)","v":{"$error":"#REF!"}},{"$f":"IF(#REF!=\"\", \"\",#REF!)","v":{"$error":"#REF!"}},{"$f":"IF(#REF!=\"\", \"\",#REF!)","v":{"$error":"#REF!"}},{"$f":"IF(#REF!=\"\", \"\",#REF!)","v":{"$error":"#REF!"}},{"$f":"IF(#REF!=\"\", \"\",#REF!)","v":{"$error":"#REF!"}},{"$f":"IF(#REF!=\"\", \"\",#REF!)","v":{"$error":"#REF!"}},{"$f":"IF(#REF!=\"\", \"\",#REF!)","v":{"$error":"#REF!"}},{"$f":"IF(#REF!=\"\", \"\",#REF!)","v":{"$error":"#REF!"}},{"$f":"IF(#REF!=\"\", \"\",#REF!)","v":{"$error":"#REF!"}},{"$f":"IF(#REF!=\"\", \"\",#REF!)","v":{"$error":"#REF!"}},{"$f":"IF(#REF!=\"\", \"\",#REF!)","v":{"$error":"#REF!"}},{"$f":"IF(#REF!=\"\", \"\",#REF!)","v":{"$error":"#REF!"}},{"$f":"IF(#REF!=\"\", \"\",#REF!)","v":{"$error":"#REF!"}},{"$f":"IF(#REF!=\"\", \"\",#REF!)","v":{"$error":"#REF!"}},{"$f":"IF(#REF!=\"\", \"\",#REF!)","v":{"$error":"#REF!"}},{"$f":"IF(#REF!=\"\", \"\",#REF!)","v":{"$error":"#REF!"}},{"$f":"IF(#REF!=\"\", \"\",#REF!)","v":{"$error":"#REF!"}},{"$f":"IF(#REF!=\"\", \"\",#REF!)","v":{"$error":"#REF!"}},{"$f":"IF(#REF!=\"\", \"\",#REF!)","v":{"$error":"#REF!"}},{"$f":"IF(#REF!=\"\", \"\",#REF!)","v":{"$error":"#REF!"}},{"$f":"IF(#REF!=\"\", \"\",#REF!)","v":{"$error":"#REF!"}},{"$f":"IF(#REF!=\"\", \"\",#REF!)","v":{"$error":"#REF!"}},{"$f":"IF(#REF!=\"\", \"\",#REF!)","v":{"$error":"#REF!"}},{"$f":"IF(#REF!=\"\", \"\",#REF!)","v":{"$error":"#REF!"}},{"$f":"IF(#REF!=\"\", \"\",#REF!)","v":{"$error":"#REF!"}},{"$f":"IF(#REF!=\"\", \"\",#REF!)","v":{"$error":"#REF!"}},{"$f":"IF(#REF!=\"\", \"\",#REF!)","v":{"$error":"#REF!"}},{"$f":"IF(#REF!=\"\", \"\",#REF!)","v":{"$error":"#REF!"}},{"$f":"IF(#REF!=\"\", \"\",#REF!)","v":{"$error":"#REF!"}},{"$f":"IF(#REF!=\"\", \"\",#REF!)","v":{"$error":"#REF!"}},{"$f":"IF(#REF!=\"\", \"\",#REF!)","v":{"$error":"#REF!"}},{"$f":"IF(#REF!=\"\", \"\",#REF!)","v":{"$error":"#REF!"}},{"$f":"IF(#REF!=\"\", \"\",#REF!)","v":{"$error":"#REF!"}},{"$f":"IF(#REF!=\"\", \"\",#REF!)","v":{"$error":"#REF!"}},{"$f":"IF(#REF!=\"\", \"\",#REF!)","v":{"$error":"#REF!"}},{"$f":"IF(#REF!=\"\", \"\",#REF!)","v":{"$error":"#REF!"}},{"$f":"IF(#REF!=\"\", \"\",#REF!)","v":{"$error":"#REF!"}},{"$f":"IF(#REF!=\"\", \"\",#REF!)","v":{"$error":"#REF!"}},{"$f":"IF(#REF!=\"\", \"\",#REF!)","v":{"$error":"#REF!"}},{"$f":"IF(#REF!=\"\", \"\",#REF!)","v":{"$error":"#REF!"}},{"$f":"IF(#REF!=\"\", \"\",#REF!)","v":{"$error":"#REF!"}},{"$f":"IF(#REF!=\"\", \"\",#REF!)","v":{"$error":"#REF!"}},{"$f":"IF(#REF!=\"\", \"\",#REF!)","v":{"$error":"#REF!"}},{"$f":"IF(#REF!=\"\", \"\",#REF!)","v":{"$error":"#REF!"}},{"$f":"IF(#REF!=\"\", \"\",#REF!)","v":{"$error":"#REF!"}},{"$f":"IF(#REF!=\"\", \"\",#REF!)","v":{"$error":"#REF!"}},{"$f":"IF(#REF!=\"\", \"\",#REF!)","v":{"$error":"#REF!"}},{"$f":"IF(#REF!=\"\", \"\",#REF!)","v":{"$error":"#REF!"}},{"$f":"IF(#REF!=\"\", \"\",#REF!)","v":{"$error":"#REF!"}},{"$f":"IF(#REF!=\"\", \"\",#REF!)","v":{"$error":"#REF!"}},{"$f":"IF(#REF!=\"\", \"\",#REF!)","v":{"$error":"#REF!"}},{"$f":"IF(#REF!=\"\", \"\",#REF!)","v":{"$error":"#REF!"}},{"$f":"IF(#REF!=\"\", \"\",#REF!)","v":{"$error":"#REF!"}}]
["Item 6",{"$f":"IF(#REF!=\"\", \"\",#REF!)","v":{"$error":"#REF!"}},{"$f":"IF(#REF!=\"\", \"\",#REF!)","v":{"$error":"#REF!"}},{"$f":"IF(#REF!=\"\", \"\",#REF!)","v":{"$error":"#REF!"}},{"$f":"IF(#REF!=\"\", \"\",#REF!)","v":{"$error":"#REF!"}},{"$f":"IF(#REF!=\"\", \"\",#REF!)","v":{"$error":"#REF!"}},{"$f":"IF(#REF!=\"\", \"\",#REF!)","v":{"$error":"#REF!"}},{"$f":"IF(#REF!=\"\", \"\",#REF!)","v":{"$error":"#REF!"}},{"$f":"IF(#REF!=\"\", \"\",#REF!)","v":{"$error":"#REF!"}},{"$f":"IF(#REF!=\"\", \"\",#REF!)","v":{"$error":"#REF!"}},{"$f":"IF(#REF!=\"\", \"\",#REF!)","v":{"$error":"#REF!"}},{"$f":"IF(#REF!=\"\", \"\",#REF!)","v":{"$error":"#REF!"}},{"$f":"IF(#REF!=\"\", \"\",#REF!)","v":{"$error":"#REF!"}},{"$f":"IF(#REF!=\"\", \"\",#REF!)","v":{"$error":"#REF!"}},{"$f":"IF(#REF!=\"\", \"\",#REF!)","v":{"$error":"#REF!"}},{"$f":"IF(#REF!=\"\", \"\",#REF!)","v":{"$error":"#REF!"}},{"$f":"IF(#REF!=\"\", \"\",#REF!)","v":{"$error":"#REF!"}},{"$f":"IF(#REF!=\"\", \"\",#REF!)","v":{"$error":"#REF!"}},{"$f":"IF(#REF!=\"\", \"\",#REF!)","v":{"$error":"#REF!"}},{"$f":"IF(#REF!=\"\", \"\",#REF!)","v":{"$error":"#REF!"}},{"$f":"IF(#REF!=\"\", \"\",#REF!)","v":{"$error":"#REF!"}},{"$f":"IF(#REF!=\"\", \"\",#REF!)","v":{"$error":"#REF!"}},{"$f":"IF(#REF!=\"\", \"\",#REF!)","v":{"$error":"#REF!"}},{"$f":"IF(#REF!=\"\", \"\",#REF!)","v":{"$error":"#REF!"}},{"$f":"IF(#REF!=\"\", \"\",#REF!)","v":{"$error":"#REF!"}},{"$f":"IF(#REF!=\"\", \"\",#REF!)","v":{"$error":"#REF!"}},{"$f":"IF(#REF!=\"\", \"\",#REF!)","v":{"$error":"#REF!"}},{"$f":"IF(#REF!=\"\", \"\",#REF!)","v":{"$error":"#REF!"}},{"$f":"IF(#REF!=\"\", \"\",#REF!)","v":{"$error":"#REF!"}},{"$f":"IF(#REF!=\"\", \"\",#REF!)","v":{"$error":"#REF!"}},{"$f":"IF(#REF!=\"\", \"\",#REF!)","v":{"$error":"#REF!"}},{"$f":"IF(#REF!=\"\", \"\",#REF!)","v":{"$error":"#REF!"}},{"$f":"IF(#REF!=\"\", \"\",#REF!)","v":{"$error":"#REF!"}},{"$f":"IF(#REF!=\"\", \"\",#REF!)","v":{"$error":"#REF!"}},{"$f":"IF(#REF!=\"\", \"\",#REF!)","v":{"$error":"#REF!"}},{"$f":"IF(#REF!=\"\", \"\",#REF!)","v":{"$error":"#REF!"}},{"$f":"IF(#REF!=\"\", \"\",#REF!)","v":{"$error":"#REF!"}},{"$f":"IF(#REF!=\"\", \"\",#REF!)","v":{"$error":"#REF!"}},{"$f":"IF(#REF!=\"\", \"\",#REF!)","v":{"$error":"#REF!"}},{"$f":"IF(#REF!=\"\", \"\",#REF!)","v":{"$error":"#REF!"}},{"$f":"IF(#REF!=\"\", \"\",#REF!)","v":{"$error":"#REF!"}},{"$f":"IF(#REF!=\"\", \"\",#REF!)","v":{"$error":"#REF!"}},{"$f":"IF(#REF!=\"\", \"\",#REF!)","v":{"$error":"#REF!"}},{"$f":"IF(#REF!=\"\", \"\",#REF!)","v":{"$error":"#REF!"}},{"$f":"IF(#REF!=\"\", \"\",#REF!)","v":{"$error":"#REF!"}},{"$f":"IF(#REF!=\"\", \"\",#REF!)","v":{"$error":"#REF!"}},{"$f":"IF(#REF!=\"\", \"\",#REF!)","v":{"$error":"#REF!"}},{"$f":"IF(#REF!=\"\", \"\",#REF!)","v":{"$error":"#REF!"}},{"$f":"IF(#REF!=\"\", \"\",#REF!)","v":{"$error":"#REF!"}},{"$f":"IF(#REF!=\"\", \"\",#REF!)","v":{"$error":"#REF!"}},{"$f":"IF(#REF!=\"\", \"\",#REF!)","v":{"$error":"#REF!"}},{"$f":"IF(#REF!=\"\", \"\",#REF!)","v":{"$error":"#REF!"}},{"$f":"IF(#REF!=\"\", \"\",#REF!)","v":{"$error":"#REF!"}},{"$f":"IF(#REF!=\"\", \"\",#REF!)","v":{"$error":"#REF!"}},{"$f":"IF(#REF!=\"\", \"\",#REF!)","v":{"$error":"#REF!"}},{"$f":"IF(#REF!=\"\", \"\",#REF!)","v":{"$error":"#REF!"}},{"$f":"IF(#REF!=\"\", \"\",#REF!)","v":{"$error":"#REF!"}},{"$f":"IF(#REF!=\"\", \"\",#REF!)","v":{"$error":"#REF!"}},{"$f":"IF(#REF!=\"\", \"\",#REF!)","v":{"$error":"#REF!"}},{"$f":"IF(#REF!=\"\", \"\",#REF!)","v":{"$error":"#REF!"}},{"$f":"IF(#REF!=\"\", \"\",#REF!)","v":{"$error":"#REF!"}},{"$f":"IF(#REF!=\"\", \"\",#REF!)","v":{"$error":"#REF!"}}]
["Item 7",{"$f":"IF(#REF!=\"\", \"\",#REF!)","v":{"$error":"#REF!"}},{"$f":"IF(#REF!=\"\", \"\",#REF!)","v":{"$error":"#REF!"}},{"$f":"IF(#REF!=\"\", \"\",#REF!)","v":{"$error":"#REF!"}},{"$f":"IF(#REF!=\"\", \"\",#REF!)","v":{"$error":"#REF!"}},{"$f":"IF(#REF!=\"\", \"\",#REF!)","v":{"$error":"#REF!"}},{"$f":"IF(#REF!=\"\", \"\",#REF!)","v":{"$error":"#REF!"}},{"$f":"IF(#REF!=\"\", \"\",#REF!)","v":{"$error":"#REF!"}},{"$f":"IF(#REF!=\"\", \"\",#REF!)","v":{"$error":"#REF!"}},{"$f":"IF(#REF!=\"\", \"\",#REF!)","v":{"$error":"#REF!"}},{"$f":"IF(#REF!=\"\", \"\",#REF!)","v":{"$error":"#REF!"}},{"$f":"IF(#REF!=\"\", \"\",#REF!)","v":{"$error":"#REF!"}},{"$f":"IF(#REF!=\"\", \"\",#REF!)","v":{"$error":"#REF!"}},{"$f":"IF(#REF!=\"\", \"\",#REF!)","v":{"$error":"#REF!"}},{"$f":"IF(#REF!=\"\", \"\",#REF!)","v":{"$error":"#REF!"}},{"$f":"IF(#REF!=\"\", \"\",#REF!)","v":{"$error":"#REF!"}},{"$f":"IF(#REF!=\"\", \"\",#REF!)","v":{"$error":"#REF!"}},{"$f":"IF(#REF!=\"\", \"\",#REF!)","v":{"$error":"#REF!"}},{"$f":"IF(#REF!=\"\", \"\",#REF!)","v":{"$error":"#REF!"}},{"$f":"IF(#REF!=\"\", \"\",#REF!)","v":{"$error":"#REF!"}},{"$f":"IF(#REF!=\"\", \"\",#REF!)","v":{"$error":"#REF!"}},{"$f":"IF(#REF!=\"\", \"\",#REF!)","v":{"$error":"#REF!"}},{"$f":"IF(#REF!=\"\", \"\",#REF!)","v":{"$error":"#REF!"}},{"$f":"IF(#REF!=\"\", \"\",#REF!)","v":{"$error":"#REF!"}},{"$f":"IF(#REF!=\"\", \"\",#REF!)","v":{"$error":"#REF!"}},{"$f":"IF(#REF!=\"\", \"\",#REF!)","v":{"$error":"#REF!"}},{"$f":"IF(#REF!=\"\", \"\",#REF!)","v":{"$error":"#REF!"}},{"$f":"IF(#REF!=\"\", \"\",#REF!)","v":{"$error":"#REF!"}},{"$f":"IF(#REF!=\"\", \"\",#REF!)","v":{"$error":"#REF!"}},{"$f":"IF(#REF!=\"\", \"\",#REF!)","v":{"$error":"#REF!"}},{"$f":"IF(#REF!=\"\", \"\",#REF!)","v":{"$error":"#REF!"}},{"$f":"IF(#REF!=\"\", \"\",#REF!)","v":{"$error":"#REF!"}},{"$f":"IF(#REF!=\"\", \"\",#REF!)","v":{"$error":"#REF!"}},{"$f":"IF(#REF!=\"\", \"\",#REF!)","v":{"$error":"#REF!"}},{"$f":"IF(#REF!=\"\", \"\",#REF!)","v":{"$error":"#REF!"}},{"$f":"IF(#REF!=\"\", \"\",#REF!)","v":{"$error":"#REF!"}},{"$f":"IF(#REF!=\"\", \"\",#REF!)","v":{"$error":"#REF!"}},{"$f":"IF(#REF!=\"\", \"\",#REF!)","v":{"$error":"#REF!"}},{"$f":"IF(#REF!=\"\", \"\",#REF!)","v":{"$error":"#REF!"}},{"$f":"IF(#REF!=\"\", \"\",#REF!)","v":{"$error":"#REF!"}},{"$f":"IF(#REF!=\"\", \"\",#REF!)","v":{"$error":"#REF!"}},{"$f":"IF(#REF!=\"\", \"\",#REF!)","v":{"$error":"#REF!"}},{"$f":"IF(#REF!=\"\", \"\",#REF!)","v":{"$error":"#REF!"}},{"$f":"IF(#REF!=\"\", \"\",#REF!)","v":{"$error":"#REF!"}},{"$f":"IF(#REF!=\"\", \"\",#REF!)","v":{"$error":"#REF!"}},{"$f":"IF(#REF!=\"\", \"\",#REF!)","v":{"$error":"#REF!"}},{"$f":"IF(#REF!=\"\", \"\",#REF!)","v":{"$error":"#REF!"}},{"$f":"IF(#REF!=\"\", \"\",#REF!)","v":{"$error":"#REF!"}},{"$f":"IF(#REF!=\"\", \"\",#REF!)","v":{"$error":"#REF!"}},{"$f":"IF(#REF!=\"\", \"\",#REF!)","v":{"$error":"#REF!"}},{"$f":"IF(#REF!=\"\", \"\",#REF!)","v":{"$error":"#REF!"}},{"$f":"IF(#REF!=\"\", \"\",#REF!)","v":{"$error":"#REF!"}},{"$f":"IF(#REF!=\"\", \"\",#REF!)","v":{"$error":"#REF!"}},{"$f":"IF(#REF!=\"\", \"\",#REF!)","v":{"$error":"#REF!"}},{"$f":"IF(#REF!=\"\", \"\",#REF!)","v":{"$error":"#REF!"}},{"$f":"IF(#REF!=\"\", \"\",#REF!)","v":{"$error":"#REF!"}},{"$f":"IF(#REF!=\"\", \"\",#REF!)","v":{"$error":"#REF!"}},{"$f":"IF(#REF!=\"\", \"\",#REF!)","v":{"$error":"#REF!"}},{"$f":"IF(#REF!=\"\", \"\",#REF!)","v":{"$error":"#REF!"}},{"$f":"IF(#REF!=\"\", \"\",#REF!)","v":{"$error":"#REF!"}},{"$f":"IF(#REF!=\"\", \"\",#REF!)","v":{"$error":"#REF!"}},{"$f":"IF(#REF!=\"\", \"\",#REF!)","v":{"$error":"#REF!"}}]
["Item 8",{"$f":"IF(#REF!=\"\", \"\",#REF!)","v":{"$error":"#REF!"}},{"$f":"IF(#REF!=\"\", \"\",#REF!)","v":{"$error":"#REF!"}},{"$f":"IF(#REF!=\"\", \"\",#REF!)","v":{"$error":"#REF!"}},{"$f":"IF(#REF!=\"\", \"\",#REF!)","v":{"$error":"#REF!"}},{"$f":"IF(#REF!=\"\", \"\",#REF!)","v":{"$error":"#REF!"}},{"$f":"IF(#REF!=\"\", \"\",#REF!)","v":{"$error":"#REF!"}},{"$f":"IF(#REF!=\"\", \"\",#REF!)","v":{"$error":"#REF!"}},{"$f":"IF(#REF!=\"\", \"\",#REF!)","v":{"$error":"#REF!"}},{"$f":"IF(#REF!=\"\", \"\",#REF!)","v":{"$error":"#REF!"}},{"$f":"IF(#REF!=\"\", \"\",#REF!)","v":{"$error":"#REF!"}},{"$f":"IF(#REF!=\"\", \"\",#REF!)","v":{"$error":"#REF!"}},{"$f":"IF(#REF!=\"\", \"\",#REF!)","v":{"$error":"#REF!"}},{"$f":"IF(#REF!=\"\", \"\",#REF!)","v":{"$error":"#REF!"}},{"$f":"IF(#REF!=\"\", \"\",#REF!)","v":{"$error":"#REF!"}},{"$f":"IF(#REF!=\"\", \"\",#REF!)","v":{"$error":"#REF!"}},{"$f":"IF(#REF!=\"\", \"\",#REF!)","v":{"$error":"#REF!"}},{"$f":"IF(#REF!=\"\", \"\",#REF!)","v":{"$error":"#REF!"}},{"$f":"IF(#REF!=\"\", \"\",#REF!)","v":{"$error":"#REF!"}},{"$f":"IF(#REF!=\"\", \"\",#REF!)","v":{"$error":"#REF!"}},{"$f":"IF(#REF!=\"\", \"\",#REF!)","v":{"$error":"#REF!"}},{"$f":"IF(#REF!=\"\", \"\",#REF!)","v":{"$error":"#REF!"}},{"$f":"IF(#REF!=\"\", \"\",#REF!)","v":{"$error":"#REF!"}},{"$f":"IF(#REF!=\"\", \"\",#REF!)","v":{"$error":"#REF!"}},{"$f":"IF(#REF!=\"\", \"\",#REF!)","v":{"$error":"#REF!"}},{"$f":"IF(#REF!=\"\", \"\",#REF!)","v":{"$error":"#REF!"}},{"$f":"IF(#REF!=\"\", \"\",#REF!)","v":{"$error":"#REF!"}},{"$f":"IF(#REF!=\"\", \"\",#REF!)","v":{"$error":"#REF!"}},{"$f":"IF(#REF!=\"\", \"\",#REF!)","v":{"$error":"#REF!"}},{"$f":"IF(#REF!=\"\", \"\",#REF!)","v":{"$error":"#REF!"}},{"$f":"IF(#REF!=\"\", \"\",#REF!)","v":{"$error":"#REF!"}},{"$f":"IF(#REF!=\"\", \"\",#REF!)","v":{"$error":"#REF!"}},{"$f":"IF(#REF!=\"\", \"\",#REF!)","v":{"$error":"#REF!"}},{"$f":"IF(#REF!=\"\", \"\",#REF!)","v":{"$error":"#REF!"}},{"$f":"IF(#REF!=\"\", \"\",#REF!)","v":{"$error":"#REF!"}},{"$f":"IF(#REF!=\"\", \"\",#REF!)","v":{"$error":"#REF!"}},{"$f":"IF(#REF!=\"\", \"\",#REF!)","v":{"$error":"#REF!"}},{"$f":"IF(#REF!=\"\", \"\",#REF!)","v":{"$error":"#REF!"}},{"$f":"IF(#REF!=\"\", \"\",#REF!)","v":{"$error":"#REF!"}},{"$f":"IF(#REF!=\"\", \"\",#REF!)","v":{"$error":"#REF!"}},{"$f":"IF(#REF!=\"\", \"\",#REF!)","v":{"$error":"#REF!"}},{"$f":"IF(#REF!=\"\", \"\",#REF!)","v":{"$error":"#REF!"}},{"$f":"IF(#REF!=\"\", \"\",#REF!)","v":{"$error":"#REF!"}},{"$f":"IF(#REF!=\"\", \"\",#REF!)","v":{"$error":"#REF!"}},{"$f":"IF(#REF!=\"\", \"\",#REF!)","v":{"$error":"#REF!"}},{"$f":"IF(#REF!=\"\", \"\",#REF!)","v":{"$error":"#REF!"}},{"$f":"IF(#REF!=\"\", \"\",#REF!)","v":{"$error":"#REF!"}},{"$f":"IF(#REF!=\"\", \"\",#REF!)","v":{"$error":"#REF!"}},{"$f":"IF(#REF!=\"\", \"\",#REF!)","v":{"$error":"#REF!"}},{"$f":"IF(#REF!=\"\", \"\",#REF!)","v":{"$error":"#REF!"}},{"$f":"IF(#REF!=\"\", \"\",#REF!)","v":{"$error":"#REF!"}},{"$f":"IF(#REF!=\"\", \"\",#REF!)","v":{"$error":"#REF!"}},{"$f":"IF(#REF!=\"\", \"\",#REF!)","v":{"$error":"#REF!"}},{"$f":"IF(#REF!=\"\", \"\",#REF!)","v":{"$error":"#REF!"}},{"$f":"IF(#REF!=\"\", \"\",#REF!)","v":{"$error":"#REF!"}},{"$f":"IF(#REF!=\"\", \"\",#REF!)","v":{"$error":"#REF!"}},{"$f":"IF(#REF!=\"\", \"\",#REF!)","v":{"$error":"#REF!"}},{"$f":"IF(#REF!=\"\", \"\",#REF!)","v":{"$error":"#REF!"}},{"$f":"IF(#REF!=\"\", \"\",#REF!)","v":{"$error":"#REF!"}},{"$f":"IF(#REF!=\"\", \"\",#REF!)","v":{"$error":"#REF!"}},{"$f":"IF(#REF!=\"\", \"\",#REF!)","v":{"$error":"#REF!"}},{"$f":"IF(#REF!=\"\", \"\",#REF!)","v":{"$error":"#REF!"}}]
["Item 9",{"$f":"IF(#REF!=\"\", \"\",#REF!)","v":{"$error":"#REF!"}},{"$f":"IF(#REF!=\"\", \"\",#REF!)","v":{"$error":"#REF!"}},{"$f":"IF(#REF!=\"\", \"\",#REF!)","v":{"$error":"#REF!"}},{"$f":"IF(#REF!=\"\", \"\",#REF!)","v":{"$error":"#REF!"}},{"$f":"IF(#REF!=\"\", \"\",#REF!)","v":{"$error":"#REF!"}},{"$f":"IF(#REF!=\"\", \"\",#REF!)","v":{"$error":"#REF!"}},{"$f":"IF(#REF!=\"\", \"\",#REF!)","v":{"$error":"#REF!"}},{"$f":"IF(#REF!=\"\", \"\",#REF!)","v":{"$error":"#REF!"}},{"$f":"IF(#REF!=\"\", \"\",#REF!)","v":{"$error":"#REF!"}},{"$f":"IF(#REF!=\"\", \"\",#REF!)","v":{"$error":"#REF!"}},{"$f":"IF(#REF!=\"\", \"\",#REF!)","v":{"$error":"#REF!"}},{"$f":"IF(#REF!=\"\", \"\",#REF!)","v":{"$error":"#REF!"}},{"$f":"IF(#REF!=\"\", \"\",#REF!)","v":{"$error":"#REF!"}},{"$f":"IF(#REF!=\"\", \"\",#REF!)","v":{"$error":"#REF!"}},{"$f":"IF(#REF!=\"\", \"\",#REF!)","v":{"$error":"#REF!"}},{"$f":"IF(#REF!=\"\", \"\",#REF!)","v":{"$error":"#REF!"}},{"$f":"IF(#REF!=\"\", \"\",#REF!)","v":{"$error":"#REF!"}},{"$f":"IF(#REF!=\"\", \"\",#REF!)","v":{"$error":"#REF!"}},{"$f":"IF(#REF!=\"\", \"\",#REF!)","v":{"$error":"#REF!"}},{"$f":"IF(#REF!=\"\", \"\",#REF!)","v":{"$error":"#REF!"}},{"$f":"IF(#REF!=\"\", \"\",#REF!)","v":{"$error":"#REF!"}},{"$f":"IF(#REF!=\"\", \"\",#REF!)","v":{"$error":"#REF!"}},{"$f":"IF(#REF!=\"\", \"\",#REF!)","v":{"$error":"#REF!"}},{"$f":"IF(#REF!=\"\", \"\",#REF!)","v":{"$error":"#REF!"}},{"$f":"IF(#REF!=\"\", \"\",#REF!)","v":{"$error":"#REF!"}},{"$f":"IF(#REF!=\"\", \"\",#REF!)","v":{"$error":"#REF!"}},{"$f":"IF(#REF!=\"\", \"\",#REF!)","v":{"$error":"#REF!"}},{"$f":"IF(#REF!=\"\", \"\",#REF!)","v":{"$error":"#REF!"}},{"$f":"IF(#REF!=\"\", \"\",#REF!)","v":{"$error":"#REF!"}},{"$f":"IF(#REF!=\"\", \"\",#REF!)","v":{"$error":"#REF!"}},{"$f":"IF(#REF!=\"\", \"\",#REF!)","v":{"$error":"#REF!"}},{"$f":"IF(#REF!=\"\", \"\",#REF!)","v":{"$error":"#REF!"}},{"$f":"IF(#REF!=\"\", \"\",#REF!)","v":{"$error":"#REF!"}},{"$f":"IF(#REF!=\"\", \"\",#REF!)","v":{"$error":"#REF!"}},{"$f":"IF(#REF!=\"\", \"\",#REF!)","v":{"$error":"#REF!"}},{"$f":"IF(#REF!=\"\", \"\",#REF!)","v":{"$error":"#REF!"}},{"$f":"IF(#REF!=\"\", \"\",#REF!)","v":{"$error":"#REF!"}},{"$f":"IF(#REF!=\"\", \"\",#REF!)","v":{"$error":"#REF!"}},{"$f":"IF(#REF!=\"\", \"\",#REF!)","v":{"$error":"#REF!"}},{"$f":"IF(#REF!=\"\", \"\",#REF!)","v":{"$error":"#REF!"}},{"$f":"IF(#REF!=\"\", \"\",#REF!)","v":{"$error":"#REF!"}},{"$f":"IF(#REF!=\"\", \"\",#REF!)","v":{"$error":"#REF!"}},{"$f":"IF(#REF!=\"\", \"\",#REF!)","v":{"$error":"#REF!"}},{"$f":"IF(#REF!=\"\", \"\",#REF!)","v":{"$error":"#REF!"}},{"$f":"IF(#REF!=\"\", \"\",#REF!)","v":{"$error":"#REF!"}},{"$f":"IF(#REF!=\"\", \"\",#REF!)","v":{"$error":"#REF!"}},{"$f":"IF(#REF!=\"\", \"\",#REF!)","v":{"$error":"#REF!"}},{"$f":"IF(#REF!=\"\", \"\",#REF!)","v":{"$error":"#REF!"}},{"$f":"IF(#REF!=\"\", \"\",#REF!)","v":{"$error":"#REF!"}},{"$f":"IF(#REF!=\"\", \"\",#REF!)","v":{"$error":"#REF!"}},{"$f":"IF(#REF!=\"\", \"\",#REF!)","v":{"$error":"#REF!"}},{"$f":"IF(#REF!=\"\", \"\",#REF!)","v":{"$error":"#REF!"}},{"$f":"IF(#REF!=\"\", \"\",#REF!)","v":{"$error":"#REF!"}},{"$f":"IF(#REF!=\"\", \"\",#REF!)","v":{"$error":"#REF!"}},{"$f":"IF(#REF!=\"\", \"\",#REF!)","v":{"$error":"#REF!"}},{"$f":"IF(#REF!=\"\", \"\",#REF!)","v":{"$error":"#REF!"}},{"$f":"IF(#REF!=\"\", \"\",#REF!)","v":{"$error":"#REF!"}},{"$f":"IF(#REF!=\"\", \"\",#REF!)","v":{"$error":"#REF!"}},{"$f":"IF(#REF!=\"\", \"\",#REF!)","v":{"$error":"#REF!"}},{"$f":"IF(#REF!=\"\", \"\",#REF!)","v":{"$error":"#REF!"}},{"$f":"IF(#REF!=\"\", \"\",#REF!)","v":{"$error":"#REF!"}}]
["Item 10",{"$f":"IF(#REF!=\"\", \"\",#REF!)","v":{"$error":"#REF!"}},{"$f":"IF(#REF!=\"\", \"\",#REF!)","v":{"$error":"#REF!"}},{"$f":"IF(#REF!=\"\", \"\",#REF!)","v":{"$error":"#REF!"}},{"$f":"IF(#REF!=\"\", \"\",#REF!)","v":{"$error":"#REF!"}},{"$f":"IF(#REF!=\"\", \"\",#REF!)","v":{"$error":"#REF!"}},{"$f":"IF(#REF!=\"\", \"\",#REF!)","v":{"$error":"#REF!"}},{"$f":"IF(#REF!=\"\", \"\",#REF!)","v":{"$error":"#REF!"}},{"$f":"IF(#REF!=\"\", \"\",#REF!)","v":{"$error":"#REF!"}},{"$f":"IF(#REF!=\"\", \"\",#REF!)","v":{"$error":"#REF!"}},{"$f":"IF(#REF!=\"\", \"\",#REF!)","v":{"$error":"#REF!"}},{"$f":"IF(#REF!=\"\", \"\",#REF!)","v":{"$error":"#REF!"}},{"$f":"IF(#REF!=\"\", \"\",#REF!)","v":{"$error":"#REF!"}},{"$f":"IF(#REF!=\"\", \"\",#REF!)","v":{"$error":"#REF!"}},{"$f":"IF(#REF!=\"\", \"\",#REF!)","v":{"$error":"#REF!"}},{"$f":"IF(#REF!=\"\", \"\",#REF!)","v":{"$error":"#REF!"}},{"$f":"IF(#REF!=\"\", \"\",#REF!)","v":{"$error":"#REF!"}},{"$f":"IF(#REF!=\"\", \"\",#REF!)","v":{"$error":"#REF!"}},{"$f":"IF(#REF!=\"\", \"\",#REF!)","v":{"$error":"#REF!"}},{"$f":"IF(#REF!=\"\", \"\",#REF!)","v":{"$error":"#REF!"}},{"$f":"IF(#REF!=\"\", \"\",#REF!)","v":{"$error":"#REF!"}},{"$f":"IF(#REF!=\"\", \"\",#REF!)","v":{"$error":"#REF!"}},{"$f":"IF(#REF!=\"\", \"\",#REF!)","v":{"$error":"#REF!"}},{"$f":"IF(#REF!=\"\", \"\",#REF!)","v":{"$error":"#REF!"}},{"$f":"IF(#REF!=\"\", \"\",#REF!)","v":{"$error":"#REF!"}},{"$f":"IF(#REF!=\"\", \"\",#REF!)","v":{"$error":"#REF!"}},{"$f":"IF(#REF!=\"\", \"\",#REF!)","v":{"$error":"#REF!"}},{"$f":"IF(#REF!=\"\", \"\",#REF!)","v":{"$error":"#REF!"}},{"$f":"IF(#REF!=\"\", \"\",#REF!)","v":{"$error":"#REF!"}},{"$f":"IF(#REF!=\"\", \"\",#REF!)","v":{"$error":"#REF!"}},{"$f":"IF(#REF!=\"\", \"\",#REF!)","v":{"$error":"#REF!"}},{"$f":"IF(#REF!=\"\", \"\",#REF!)","v":{"$error":"#REF!"}},{"$f":"IF(#REF!=\"\", \"\",#REF!)","v":{"$error":"#REF!"}},{"$f":"IF(#REF!=\"\", \"\",#REF!)","v":{"$error":"#REF!"}},{"$f":"IF(#REF!=\"\", \"\",#REF!)","v":{"$error":"#REF!"}},{"$f":"IF(#REF!=\"\", \"\",#REF!)","v":{"$error":"#REF!"}},{"$f":"IF(#REF!=\"\", \"\",#REF!)","v":{"$error":"#REF!"}},{"$f":"IF(#REF!=\"\", \"\",#REF!)","v":{"$error":"#REF!"}},{"$f":"IF(#REF!=\"\", \"\",#REF!)","v":{"$error":"#REF!"}},{"$f":"IF(#REF!=\"\", \"\",#REF!)","v":{"$error":"#REF!"}},{"$f":"IF(#REF!=\"\", \"\",#REF!)","v":{"$error":"#REF!"}},{"$f":"IF(#REF!=\"\", \"\",#REF!)","v":{"$error":"#REF!"}},{"$f":"IF(#REF!=\"\", \"\",#REF!)","v":{"$error":"#REF!"}},{"$f":"IF(#REF!=\"\", \"\",#REF!)","v":{"$error":"#REF!"}},{"$f":"IF(#REF!=\"\", \"\",#REF!)","v":{"$error":"#REF!"}},{"$f":"IF(#REF!=\"\", \"\",#REF!)","v":{"$error":"#REF!"}},{"$f":"IF(#REF!=\"\", \"\",#REF!)","v":{"$error":"#REF!"}},{"$f":"IF(#REF!=\"\", \"\",#REF!)","v":{"$error":"#REF!"}},{"$f":"IF(#REF!=\"\", \"\",#REF!)","v":{"$error":"#REF!"}},{"$f":"IF(#REF!=\"\", \"\",#REF!)","v":{"$error":"#REF!"}},{"$f":"IF(#REF!=\"\", \"\",#REF!)","v":{"$error":"#REF!"}},{"$f":"IF(#REF!=\"\", \"\",#REF!)","v":{"$error":"#REF!"}},{"$f":"IF(#REF!=\"\", \"\",#REF!)","v":{"$error":"#REF!"}},{"$f":"IF(#REF!=\"\", \"\",#REF!)","v":{"$error":"#REF!"}},{"$f":"IF(#REF!=\"\", \"\",#REF!)","v":{"$error":"#REF!"}},{"$f":"IF(#REF!=\"\", \"\",#REF!)","v":{"$error":"#REF!"}},{"$f":"IF(#REF!=\"\", \"\",#REF!)","v":{"$error":"#REF!"}},{"$f":"IF(#REF!=\"\", \"\",#REF!)","v":{"$error":"#REF!"}},{"$f":"IF(#REF!=\"\", \"\",#REF!)","v":{"$error":"#REF!"}},{"$f":"IF(#REF!=\"\", \"\",#REF!)","v":{"$error":"#REF!"}},{"$f":"IF(#REF!=\"\", \"\",#REF!)","v":{"$error":"#REF!"}},{"$f":"IF(#REF!=\"\", \"\",#REF!)","v":{"$error":"#REF!"}}]
["Item 11",{"$f":"IF(#REF!=\"\", \"\",#REF!)","v":{"$error":"#REF!"}},{"$f":"IF(#REF!=\"\", \"\",#REF!)","v":{"$error":"#REF!"}},{"$f":"IF(#REF!=\"\", \"\",#REF!)","v":{"$error":"#REF!"}},{"$f":"IF(#REF!=\"\", \"\",#REF!)","v":{"$error":"#REF!"}},{"$f":"IF(#REF!=\"\", \"\",#REF!)","v":{"$error":"#REF!"}},{"$f":"IF(#REF!=\"\", \"\",#REF!)","v":{"$error":"#REF!"}},{"$f":"IF(#REF!=\"\", \"\",#REF!)","v":{"$error":"#REF!"}},{"$f":"IF(#REF!=\"\", \"\",#REF!)","v":{"$error":"#REF!"}},{"$f":"IF(#REF!=\"\", \"\",#REF!)","v":{"$error":"#REF!"}},{"$f":"IF(#REF!=\"\", \"\",#REF!)","v":{"$error":"#REF!"}},{"$f":"IF(#REF!=\"\", \"\",#REF!)","v":{"$error":"#REF!"}},{"$f":"IF(#REF!=\"\", \"\",#REF!)","v":{"$error":"#REF!"}},{"$f":"IF(#REF!=\"\", \"\",#REF!)","v":{"$error":"#REF!"}},{"$f":"IF(#REF!=\"\", \"\",#REF!)","v":{"$error":"#REF!"}},{"$f":"IF(#REF!=\"\", \"\",#REF!)","v":{"$error":"#REF!"}},{"$f":"IF(#REF!=\"\", \"\",#REF!)","v":{"$error":"#REF!"}},{"$f":"IF(#REF!=\"\", \"\",#REF!)","v":{"$error":"#REF!"}},{"$f":"IF(#REF!=\"\", \"\",#REF!)","v":{"$error":"#REF!"}},{"$f":"IF(#REF!=\"\", \"\",#REF!)","v":{"$error":"#REF!"}},{"$f":"IF(#REF!=\"\", \"\",#REF!)","v":{"$error":"#REF!"}},{"$f":"IF(#REF!=\"\", \"\",#REF!)","v":{"$error":"#REF!"}},{"$f":"IF(#REF!=\"\", \"\",#REF!)","v":{"$error":"#REF!"}},{"$f":"IF(#REF!=\"\", \"\",#REF!)","v":{"$error":"#REF!"}},{"$f":"IF(#REF!=\"\", \"\",#REF!)","v":{"$error":"#REF!"}},{"$f":"IF(#REF!=\"\", \"\",#REF!)","v":{"$error":"#REF!"}},{"$f":"IF(#REF!=\"\", \"\",#REF!)","v":{"$error":"#REF!"}},{"$f":"IF(#REF!=\"\", \"\",#REF!)","v":{"$error":"#REF!"}},{"$f":"IF(#REF!=\"\", \"\",#REF!)","v":{"$error":"#REF!"}},{"$f":"IF(#REF!=\"\", \"\",#REF!)","v":{"$error":"#REF!"}},{"$f":"IF(#REF!=\"\", \"\",#REF!)","v":{"$error":"#REF!"}},{"$f":"IF(#REF!=\"\", \"\",#REF!)","v":{"$error":"#REF!"}},{"$f":"IF(#REF!=\"\", \"\",#REF!)","v":{"$error":"#REF!"}},{"$f":"IF(#REF!=\"\", \"\",#REF!)","v":{"$error":"#REF!"}},{"$f":"IF(#REF!=\"\", \"\",#REF!)","v":{"$error":"#REF!"}},{"$f":"IF(#REF!=\"\", \"\",#REF!)","v":{"$error":"#REF!"}},{"$f":"IF(#REF!=\"\", \"\",#REF!)","v":{"$error":"#REF!"}},{"$f":"IF(#REF!=\"\", \"\",#REF!)","v":{"$error":"#REF!"}},{"$f":"IF(#REF!=\"\", \"\",#REF!)","v":{"$error":"#REF!"}},{"$f":"IF(#REF!=\"\", \"\",#REF!)","v":{"$error":"#REF!"}},{"$f":"IF(#REF!=\"\", \"\",#REF!)","v":{"$error":"#REF!"}},{"$f":"IF(#REF!=\"\", \"\",#REF!)","v":{"$error":"#REF!"}},{"$f":"IF(#REF!=\"\", \"\",#REF!)","v":{"$error":"#REF!"}},{"$f":"IF(#REF!=\"\", \"\",#REF!)","v":{"$error":"#REF!"}},{"$f":"IF(#REF!=\"\", \"\",#REF!)","v":{"$error":"#REF!"}},{"$f":"IF(#REF!=\"\", \"\",#REF!)","v":{"$error":"#REF!"}},{"$f":"IF(#REF!=\"\", \"\",#REF!)","v":{"$error":"#REF!"}},{"$f":"IF(#REF!=\"\", \"\",#REF!)","v":{"$error":"#REF!"}},{"$f":"IF(#REF!=\"\", \"\",#REF!)","v":{"$error":"#REF!"}},{"$f":"IF(#REF!=\"\", \"\",#REF!)","v":{"$error":"#REF!"}},{"$f":"IF(#REF!=\"\", \"\",#REF!)","v":{"$error":"#REF!"}},{"$f":"IF(#REF!=\"\", \"\",#REF!)","v":{"$error":"#REF!"}},{"$f":"IF(#REF!=\"\", \"\",#REF!)","v":{"$error":"#REF!"}},{"$f":"IF(#REF!=\"\", \"\",#REF!)","v":{"$error":"#REF!"}},{"$f":"IF(#REF!=\"\", \"\",#REF!)","v":{"$error":"#REF!"}},{"$f":"IF(#REF!=\"\", \"\",#REF!)","v":{"$error":"#REF!"}},{"$f":"IF(#REF!=\"\", \"\",#REF!)","v":{"$error":"#REF!"}},{"$f":"IF(#REF!=\"\", \"\",#REF!)","v":{"$error":"#REF!"}},{"$f":"IF(#REF!=\"\", \"\",#REF!)","v":{"$error":"#REF!"}},{"$f":"IF(#REF!=\"\", \"\",#REF!)","v":{"$error":"#REF!"}},{"$f":"IF(#REF!=\"\", \"\",#REF!)","v":{"$error":"#REF!"}},{"$f":"IF(#REF!=\"\", \"\",#REF!)","v":{"$error":"#REF!"}}]
["Item 12",{"$f":"IF(#REF!=\"\", \"\",#REF!)","v":{"$error":"#REF!"}},{"$f":"IF(#REF!=\"\", \"\",#REF!)","v":{"$error":"#REF!"}},{"$f":"IF(#REF!=\"\", \"\",#REF!)","v":{"$error":"#REF!"}},{"$f":"IF(#REF!=\"\", \"\",#REF!)","v":{"$error":"#REF!"}},{"$f":"IF(#REF!=\"\", \"\",#REF!)","v":{"$error":"#REF!"}},{"$f":"IF(#REF!=\"\", \"\",#REF!)","v":{"$error":"#REF!"}},{"$f":"IF(#REF!=\"\", \"\",#REF!)","v":{"$error":"#REF!"}},{"$f":"IF(#REF!=\"\", \"\",#REF!)","v":{"$error":"#REF!"}},{"$f":"IF(#REF!=\"\", \"\",#REF!)","v":{"$error":"#REF!"}},{"$f":"IF(#REF!=\"\", \"\",#REF!)","v":{"$error":"#REF!"}},{"$f":"IF(#REF!=\"\", \"\",#REF!)","v":{"$error":"#REF!"}},{"$f":"IF(#REF!=\"\", \"\",#REF!)","v":{"$error":"#REF!"}},{"$f":"IF(#REF!=\"\", \"\",#REF!)","v":{"$error":"#REF!"}},{"$f":"IF(#REF!=\"\", \"\",#REF!)","v":{"$error":"#REF!"}},{"$f":"IF(#REF!=\"\", \"\",#REF!)","v":{"$error":"#REF!"}},{"$f":"IF(#REF!=\"\", \"\",#REF!)","v":{"$error":"#REF!"}},{"$f":"IF(#REF!=\"\", \"\",#REF!)","v":{"$error":"#REF!"}},{"$f":"IF(#REF!=\"\", \"\",#REF!)","v":{"$error":"#REF!"}},{"$f":"IF(#REF!=\"\", \"\",#REF!)","v":{"$error":"#REF!"}},{"$f":"IF(#REF!=\"\", \"\",#REF!)","v":{"$error":"#REF!"}},{"$f":"IF(#REF!=\"\", \"\",#REF!)","v":{"$error":"#REF!"}},{"$f":"IF(#REF!=\"\", \"\",#REF!)","v":{"$error":"#REF!"}},{"$f":"IF(#REF!=\"\", \"\",#REF!)","v":{"$error":"#REF!"}},{"$f":"IF(#REF!=\"\", \"\",#REF!)","v":{"$error":"#REF!"}},{"$f":"IF(#REF!=\"\", \"\",#REF!)","v":{"$error":"#REF!"}},{"$f":"IF(#REF!=\"\", \"\",#REF!)","v":{"$error":"#REF!"}},{"$f":"IF(#REF!=\"\", \"\",#REF!)","v":{"$error":"#REF!"}},{"$f":"IF(#REF!=\"\", \"\",#REF!)","v":{"$error":"#REF!"}},{"$f":"IF(#REF!=\"\", \"\",#REF!)","v":{"$error":"#REF!"}},{"$f":"IF(#REF!=\"\", \"\",#REF!)","v":{"$error":"#REF!"}},{"$f":"IF(#REF!=\"\", \"\",#REF!)","v":{"$error":"#REF!"}},{"$f":"IF(#REF!=\"\", \"\",#REF!)","v":{"$error":"#REF!"}},{"$f":"IF(#REF!=\"\", \"\",#REF!)","v":{"$error":"#REF!"}},{"$f":"IF(#REF!=\"\", \"\",#REF!)","v":{"$error":"#REF!"}},{"$f":"IF(#REF!=\"\", \"\",#REF!)","v":{"$error":"#REF!"}},{"$f":"IF(#REF!=\"\", \"\",#REF!)","v":{"$error":"#REF!"}},{"$f":"IF(#REF!=\"\", \"\",#REF!)","v":{"$error":"#REF!"}},{"$f":"IF(#REF!=\"\", \"\",#REF!)","v":{"$error":"#REF!"}},{"$f":"IF(#REF!=\"\", \"\",#REF!)","v":{"$error":"#REF!"}},{"$f":"IF(#REF!=\"\", \"\",#REF!)","v":{"$error":"#REF!"}},{"$f":"IF(#REF!=\"\", \"\",#REF!)","v":{"$error":"#REF!"}},{"$f":"IF(#REF!=\"\", \"\",#REF!)","v":{"$error":"#REF!"}},{"$f":"IF(#REF!=\"\", \"\",#REF!)","v":{"$error":"#REF!"}},{"$f":"IF(#REF!=\"\", \"\",#REF!)","v":{"$error":"#REF!"}},{"$f":"IF(#REF!=\"\", \"\",#REF!)","v":{"$error":"#REF!"}},{"$f":"IF(#REF!=\"\", \"\",#REF!)","v":{"$error":"#REF!"}},{"$f":"IF(#REF!=\"\", \"\",#REF!)","v":{"$error":"#REF!"}},{"$f":"IF(#REF!=\"\", \"\",#REF!)","v":{"$error":"#REF!"}},{"$f":"IF(#REF!=\"\", \"\",#REF!)","v":{"$error":"#REF!"}},{"$f":"IF(#REF!=\"\", \"\",#REF!)","v":{"$error":"#REF!"}},{"$f":"IF(#REF!=\"\", \"\",#REF!)","v":{"$error":"#REF!"}},{"$f":"IF(#REF!=\"\", \"\",#REF!)","v":{"$error":"#REF!"}},{"$f":"IF(#REF!=\"\", \"\",#REF!)","v":{"$error":"#REF!"}},{"$f":"IF(#REF!=\"\", \"\",#REF!)","v":{"$error":"#REF!"}},{"$f":"IF(#REF!=\"\", \"\",#REF!)","v":{"$error":"#REF!"}},{"$f":"IF(#REF!=\"\", \"\",#REF!)","v":{"$error":"#REF!"}},{"$f":"IF(#REF!=\"\", \"\",#REF!)","v":{"$error":"#REF!"}},{"$f":"IF(#REF!=\"\", \"\",#REF!)","v":{"$error":"#REF!"}},{"$f":"IF(#REF!=\"\", \"\",#REF!)","v":{"$error":"#REF!"}},{"$f":"IF(#REF!=\"\", \"\",#REF!)","v":{"$error":"#REF!"}},{"$f":"IF(#REF!=\"\", \"\",#REF!)","v":{"$error":"#REF!"}}]
["Item 13",{"$f":"IF(#REF!=\"\", \"\",#REF!)","v":{"$error":"#REF!"}},{"$f":"IF(#REF!=\"\", \"\",#REF!)","v":{"$error":"#REF!"}},{"$f":"IF(#REF!=\"\", \"\",#REF!)","v":{"$error":"#REF!"}},{"$f":"IF(#REF!=\"\", \"\",#REF!)","v":{"$error":"#REF!"}},{"$f":"IF(#REF!=\"\", \"\",#REF!)","v":{"$error":"#REF!"}},{"$f":"IF(#REF!=\"\", \"\",#REF!)","v":{"$error":"#REF!"}},{"$f":"IF(#REF!=\"\", \"\",#REF!)","v":{"$error":"#REF!"}},{"$f":"IF(#REF!=\"\", \"\",#REF!)","v":{"$error":"#REF!"}},{"$f":"IF(#REF!=\"\", \"\",#REF!)","v":{"$error":"#REF!"}},{"$f":"IF(#REF!=\"\", \"\",#REF!)","v":{"$error":"#REF!"}},{"$f":"IF(#REF!=\"\", \"\",#REF!)","v":{"$error":"#REF!"}},{"$f":"IF(#REF!=\"\", \"\",#REF!)","v":{"$error":"#REF!"}},{"$f":"IF(#REF!=\"\", \"\",#REF!)","v":{"$error":"#REF!"}},{"$f":"IF(#REF!=\"\", \"\",#REF!)","v":{"$error":"#REF!"}},{"$f":"IF(#REF!=\"\", \"\",#REF!)","v":{"$error":"#REF!"}},{"$f":"IF(#REF!=\"\", \"\",#REF!)","v":{"$error":"#REF!"}},{"$f":"IF(#REF!=\"\", \"\",#REF!)","v":{"$error":"#REF!"}},{"$f":"IF(#REF!=\"\", \"\",#REF!)","v":{"$error":"#REF!"}},{"$f":"IF(#REF!=\"\", \"\",#REF!)","v":{"$error":"#REF!"}},{"$f":"IF(#REF!=\"\", \"\",#REF!)","v":{"$error":"#REF!"}},{"$f":"IF(#REF!=\"\", \"\",#REF!)","v":{"$error":"#REF!"}},{"$f":"IF(#REF!=\"\", \"\",#REF!)","v":{"$error":"#REF!"}},{"$f":"IF(#REF!=\"\", \"\",#REF!)","v":{"$error":"#REF!"}},{"$f":"IF(#REF!=\"\", \"\",#REF!)","v":{"$error":"#REF!"}},{"$f":"IF(#REF!=\"\", \"\",#REF!)","v":{"$error":"#REF!"}},{"$f":"IF(#REF!=\"\", \"\",#REF!)","v":{"$error":"#REF!"}},{"$f":"IF(#REF!=\"\", \"\",#REF!)","v":{"$error":"#REF!"}},{"$f":"IF(#REF!=\"\", \"\",#REF!)","v":{"$error":"#REF!"}},{"$f":"IF(#REF!=\"\", \"\",#REF!)","v":{"$error":"#REF!"}},{"$f":"IF(#REF!=\"\", \"\",#REF!)","v":{"$error":"#REF!"}},{"$f":"IF(#REF!=\"\", \"\",#REF!)","v":{"$error":"#REF!"}},{"$f":"IF(#REF!=\"\", \"\",#REF!)","v":{"$error":"#REF!"}},{"$f":"IF(#REF!=\"\", \"\",#REF!)","v":{"$error":"#REF!"}},{"$f":"IF(#REF!=\"\", \"\",#REF!)","v":{"$error":"#REF!"}},{"$f":"IF(#REF!=\"\", \"\",#REF!)","v":{"$error":"#REF!"}},{"$f":"IF(#REF!=\"\", \"\",#REF!)","v":{"$error":"#REF!"}},{"$f":"IF(#REF!=\"\", \"\",#REF!)","v":{"$error":"#REF!"}},{"$f":"IF(#REF!=\"\", \"\",#REF!)","v":{"$error":"#REF!"}},{"$f":"IF(#REF!=\"\", \"\",#REF!)","v":{"$error":"#REF!"}},{"$f":"IF(#REF!=\"\", \"\",#REF!)","v":{"$error":"#REF!"}},{"$f":"IF(#REF!=\"\", \"\",#REF!)","v":{"$error":"#REF!"}},{"$f":"IF(#REF!=\"\", \"\",#REF!)","v":{"$error":"#REF!"}},{"$f":"IF(#REF!=\"\", \"\",#REF!)","v":{"$error":"#REF!"}},{"$f":"IF(#REF!=\"\", \"\",#REF!)","v":{"$error":"#REF!"}},{"$f":"IF(#REF!=\"\", \"\",#REF!)","v":{"$error":"#REF!"}},{"$f":"IF(#REF!=\"\", \"\",#REF!)","v":{"$error":"#REF!"}},{"$f":"IF(#REF!=\"\", \"\",#REF!)","v":{"$error":"#REF!"}},{"$f":"IF(#REF!=\"\", \"\",#REF!)","v":{"$error":"#REF!"}},{"$f":"IF(#REF!=\"\", \"\",#REF!)","v":{"$error":"#REF!"}},{"$f":"IF(#REF!=\"\", \"\",#REF!)","v":{"$error":"#REF!"}},{"$f":"IF(#REF!=\"\", \"\",#REF!)","v":{"$error":"#REF!"}},{"$f":"IF(#REF!=\"\", \"\",#REF!)","v":{"$error":"#REF!"}},{"$f":"IF(#REF!=\"\", \"\",#REF!)","v":{"$error":"#REF!"}},{"$f":"IF(#REF!=\"\", \"\",#REF!)","v":{"$error":"#REF!"}},{"$f":"IF(#REF!=\"\", \"\",#REF!)","v":{"$error":"#REF!"}},{"$f":"IF(#REF!=\"\", \"\",#REF!)","v":{"$error":"#REF!"}},{"$f":"IF(#REF!=\"\", \"\",#REF!)","v":{"$error":"#REF!"}},{"$f":"IF(#REF!=\"\", \"\",#REF!)","v":{"$error":"#REF!"}},{"$f":"IF(#REF!=\"\", \"\",#REF!)","v":{"$error":"#REF!"}},{"$f":"IF(#REF!=\"\", \"\",#REF!)","v":{"$error":"#REF!"}},{"$f":"IF(#REF!=\"\", \"\",#REF!)","v":{"$error":"#REF!"}}]
["Item 14",{"$f":"IF(#REF!=\"\", \"\",#REF!)","v":{"$error":"#REF!"}},{"$f":"IF(#REF!=\"\", \"\",#REF!)","v":{"$error":"#REF!"}},{"$f":"IF(#REF!=\"\", \"\",#REF!)","v":{"$error":"#REF!"}},{"$f":"IF(#REF!=\"\", \"\",#REF!)","v":{"$error":"#REF!"}},{"$f":"IF(#REF!=\"\", \"\",#REF!)","v":{"$error":"#REF!"}},{"$f":"IF(#REF!=\"\", \"\",#REF!)","v":{"$error":"#REF!"}},{"$f":"IF(#REF!=\"\", \"\",#REF!)","v":{"$error":"#REF!"}},{"$f":"IF(#REF!=\"\", \"\",#REF!)","v":{"$error":"#REF!"}},{"$f":"IF(#REF!=\"\", \"\",#REF!)","v":{"$error":"#REF!"}},{"$f":"IF(#REF!=\"\", \"\",#REF!)","v":{"$error":"#REF!"}},{"$f":"IF(#REF!=\"\", \"\",#REF!)","v":{"$error":"#REF!"}},{"$f":"IF(#REF!=\"\", \"\",#REF!)","v":{"$error":"#REF!"}},{"$f":"IF(#REF!=\"\", \"\",#REF!)","v":{"$error":"#REF!"}},{"$f":"IF(#REF!=\"\", \"\",#REF!)","v":{"$error":"#REF!"}},{"$f":"IF(#REF!=\"\", \"\",#REF!)","v":{"$error":"#REF!"}},{"$f":"IF(#REF!=\"\", \"\",#REF!)","v":{"$error":"#REF!"}},{"$f":"IF(#REF!=\"\", \"\",#REF!)","v":{"$error":"#REF!"}},{"$f":"IF(#REF!=\"\", \"\",#REF!)","v":{"$error":"#REF!"}},{"$f":"IF(#REF!=\"\", \"\",#REF!)","v":{"$error":"#REF!"}},{"$f":"IF(#REF!=\"\", \"\",#REF!)","v":{"$error":"#REF!"}},{"$f":"IF(#REF!=\"\", \"\",#REF!)","v":{"$error":"#REF!"}},{"$f":"IF(#REF!=\"\", \"\",#REF!)","v":{"$error":"#REF!"}},{"$f":"IF(#REF!=\"\", \"\",#REF!)","v":{"$error":"#REF!"}},{"$f":"IF(#REF!=\"\", \"\",#REF!)","v":{"$error":"#REF!"}},{"$f":"IF(#REF!=\"\", \"\",#REF!)","v":{"$error":"#REF!"}},{"$f":"IF(#REF!=\"\", \"\",#REF!)","v":{"$error":"#REF!"}},{"$f":"IF(#REF!=\"\", \"\",#REF!)","v":{"$error":"#REF!"}},{"$f":"IF(#REF!=\"\", \"\",#REF!)","v":{"$error":"#REF!"}},{"$f":"IF(#REF!=\"\", \"\",#REF!)","v":{"$error":"#REF!"}},{"$f":"IF(#REF!=\"\", \"\",#REF!)","v":{"$error":"#REF!"}},{"$f":"IF(#REF!=\"\", \"\",#REF!)","v":{"$error":"#REF!"}},{"$f":"IF(#REF!=\"\", \"\",#REF!)","v":{"$error":"#REF!"}},{"$f":"IF(#REF!=\"\", \"\",#REF!)","v":{"$error":"#REF!"}},{"$f":"IF(#REF!=\"\", \"\",#REF!)","v":{"$error":"#REF!"}},{"$f":"IF(#REF!=\"\", \"\",#REF!)","v":{"$error":"#REF!"}},{"$f":"IF(#REF!=\"\", \"\",#REF!)","v":{"$error":"#REF!"}},{"$f":"IF(#REF!=\"\", \"\",#REF!)","v":{"$error":"#REF!"}},{"$f":"IF(#REF!=\"\", \"\",#REF!)","v":{"$error":"#REF!"}},{"$f":"IF(#REF!=\"\", \"\",#REF!)","v":{"$error":"#REF!"}},{"$f":"IF(#REF!=\"\", \"\",#REF!)","v":{"$error":"#REF!"}},{"$f":"IF(#REF!=\"\", \"\",#REF!)","v":{"$error":"#REF!"}},{"$f":"IF(#REF!=\"\", \"\",#REF!)","v":{"$error":"#REF!"}},{"$f":"IF(#REF!=\"\", \"\",#REF!)","v":{"$error":"#REF!"}},{"$f":"IF(#REF!=\"\", \"\",#REF!)","v":{"$error":"#REF!"}},{"$f":"IF(#REF!=\"\", \"\",#REF!)","v":{"$error":"#REF!"}},{"$f":"IF(#REF!=\"\", \"\",#REF!)","v":{"$error":"#REF!"}},{"$f":"IF(#REF!=\"\", \"\",#REF!)","v":{"$error":"#REF!"}},{"$f":"IF(#REF!=\"\", \"\",#REF!)","v":{"$error":"#REF!"}},{"$f":"IF(#REF!=\"\", \"\",#REF!)","v":{"$error":"#REF!"}},{"$f":"IF(#REF!=\"\", \"\",#REF!)","v":{"$error":"#REF!"}},{"$f":"IF(#REF!=\"\", \"\",#REF!)","v":{"$error":"#REF!"}},{"$f":"IF(#REF!=\"\", \"\",#REF!)","v":{"$error":"#REF!"}},{"$f":"IF(#REF!=\"\", \"\",#REF!)","v":{"$error":"#REF!"}},{"$f":"IF(#REF!=\"\", \"\",#REF!)","v":{"$error":"#REF!"}},{"$f":"IF(#REF!=\"\", \"\",#REF!)","v":{"$error":"#REF!"}},{"$f":"IF(#REF!=\"\", \"\",#REF!)","v":{"$error":"#REF!"}},{"$f":"IF(#REF!=\"\", \"\",#REF!)","v":{"$error":"#REF!"}},{"$f":"IF(#REF!=\"\", \"\",#REF!)","v":{"$error":"#REF!"}},{"$f":"IF(#REF!=\"\", \"\",#REF!)","v":{"$error":"#REF!"}},{"$f":"IF(#REF!=\"\", \"\",#REF!)","v":{"$error":"#REF!"}},{"$f":"IF(#REF!=\"\", \"\",#REF!)","v":{"$error":"#REF!"}}]
["Item 15",{"$f":"IF(#REF!=\"\", \"\",#REF!)","v":{"$error":"#REF!"}},{"$f":"IF(#REF!=\"\", \"\",#REF!)","v":{"$error":"#REF!"}},{"$f":"IF(#REF!=\"\", \"\",#REF!)","v":{"$error":"#REF!"}},{"$f":"IF(#REF!=\"\", \"\",#REF!)","v":{"$error":"#REF!"}},{"$f":"IF(#REF!=\"\", \"\",#REF!)","v":{"$error":"#REF!"}},{"$f":"IF(#REF!=\"\", \"\",#REF!)","v":{"$error":"#REF!"}},{"$f":"IF(#REF!=\"\", \"\",#REF!)","v":{"$error":"#REF!"}},{"$f":"IF(#REF!=\"\", \"\",#REF!)","v":{"$error":"#REF!"}},{"$f":"IF(#REF!=\"\", \"\",#REF!)","v":{"$error":"#REF!"}},{"$f":"IF(#REF!=\"\", \"\",#REF!)","v":{"$error":"#REF!"}},{"$f":"IF(#REF!=\"\", \"\",#REF!)","v":{"$error":"#REF!"}},{"$f":"IF(#REF!=\"\", \"\",#REF!)","v":{"$error":"#REF!"}},{"$f":"IF(#REF!=\"\", \"\",#REF!)","v":{"$error":"#REF!"}},{"$f":"IF(#REF!=\"\", \"\",#REF!)","v":{"$error":"#REF!"}},{"$f":"IF(#REF!=\"\", \"\",#REF!)","v":{"$error":"#REF!"}},{"$f":"IF(#REF!=\"\", \"\",#REF!)","v":{"$error":"#REF!"}},{"$f":"IF(#REF!=\"\", \"\",#REF!)","v":{"$error":"#REF!"}},{"$f":"IF(#REF!=\"\", \"\",#REF!)","v":{"$error":"#REF!"}},{"$f":"IF(#REF!=\"\", \"\",#REF!)","v":{"$error":"#REF!"}},{"$f":"IF(#REF!=\"\", \"\",#REF!)","v":{"$error":"#REF!"}},{"$f":"IF(#REF!=\"\", \"\",#REF!)","v":{"$error":"#REF!"}},{"$f":"IF(#REF!=\"\", \"\",#REF!)","v":{"$error":"#REF!"}},{"$f":"IF(#REF!=\"\", \"\",#REF!)","v":{"$error":"#REF!"}},{"$f":"IF(#REF!=\"\", \"\",#REF!)","v":{"$error":"#REF!"}},{"$f":"IF(#REF!=\"\", \"\",#REF!)","v":{"$error":"#REF!"}},{"$f":"IF(#REF!=\"\", \"\",#REF!)","v":{"$error":"#REF!"}},{"$f":"IF(#REF!=\"\", \"\",#REF!)","v":{"$error":"#REF!"}},{"$f":"IF(#REF!=\"\", \"\",#REF!)","v":{"$error":"#REF!"}},{"$f":"IF(#REF!=\"\", \"\",#REF!)","v":{"$error":"#REF!"}},{"$f":"IF(#REF!=\"\", \"\",#REF!)","v":{"$error":"#REF!"}},{"$f":"IF(#REF!=\"\", \"\",#REF!)","v":{"$error":"#REF!"}},{"$f":"IF(#REF!=\"\", \"\",#REF!)","v":{"$error":"#REF!"}},{"$f":"IF(#REF!=\"\", \"\",#REF!)","v":{"$error":"#REF!"}},{"$f":"IF(#REF!=\"\", \"\",#REF!)","v":{"$error":"#REF!"}},{"$f":"IF(#REF!=\"\", \"\",#REF!)","v":{"$error":"#REF!"}},{"$f":"IF(#REF!=\"\", \"\",#REF!)","v":{"$error":"#REF!"}},{"$f":"IF(#REF!=\"\", \"\",#REF!)","v":{"$error":"#REF!"}},{"$f":"IF(#REF!=\"\", \"\",#REF!)","v":{"$error":"#REF!"}},{"$f":"IF(#REF!=\"\", \"\",#REF!)","v":{"$error":"#REF!"}},{"$f":"IF(#REF!=\"\", \"\",#REF!)","v":{"$error":"#REF!"}},{"$f":"IF(#REF!=\"\", \"\",#REF!)","v":{"$error":"#REF!"}},{"$f":"IF(#REF!=\"\", \"\",#REF!)","v":{"$error":"#REF!"}},{"$f":"IF(#REF!=\"\", \"\",#REF!)","v":{"$error":"#REF!"}},{"$f":"IF(#REF!=\"\", \"\",#REF!)","v":{"$error":"#REF!"}},{"$f":"IF(#REF!=\"\", \"\",#REF!)","v":{"$error":"#REF!"}},{"$f":"IF(#REF!=\"\", \"\",#REF!)","v":{"$error":"#REF!"}},{"$f":"IF(#REF!=\"\", \"\",#REF!)","v":{"$error":"#REF!"}},{"$f":"IF(#REF!=\"\", \"\",#REF!)","v":{"$error":"#REF!"}},{"$f":"IF(#REF!=\"\", \"\",#REF!)","v":{"$error":"#REF!"}},{"$f":"IF(#REF!=\"\", \"\",#REF!)","v":{"$error":"#REF!"}},{"$f":"IF(#REF!=\"\", \"\",#REF!)","v":{"$error":"#REF!"}},{"$f":"IF(#REF!=\"\", \"\",#REF!)","v":{"$error":"#REF!"}},{"$f":"IF(#REF!=\"\", \"\",#REF!)","v":{"$error":"#REF!"}},{"$f":"IF(#REF!=\"\", \"\",#REF!)","v":{"$error":"#REF!"}},{"$f":"IF(#REF!=\"\", \"\",#REF!)","v":{"$error":"#REF!"}},{"$f":"IF(#REF!=\"\", \"\",#REF!)","v":{"$error":"#REF!"}},{"$f":"IF(#REF!=\"\", \"\",#REF!)","v":{"$error":"#REF!"}},{"$f":"IF(#REF!=\"\", \"\",#REF!)","v":{"$error":"#REF!"}},{"$f":"IF(#REF!=\"\", \"\",#REF!)","v":{"$error":"#REF!"}},{"$f":"IF(#REF!=\"\", \"\",#REF!)","v":{"$error":"#REF!"}},{"$f":"IF(#REF!=\"\", \"\",#REF!)","v":{"$error":"#REF!"}}]
["Item 16",{"$f":"IF(#REF!=\"\", \"\",#REF!)","v":{"$error":"#REF!"}},{"$f":"IF(#REF!=\"\", \"\",#REF!)","v":{"$error":"#REF!"}},{"$f":"IF(#REF!=\"\", \"\",#REF!)","v":{"$error":"#REF!"}},{"$f":"IF(#REF!=\"\", \"\",#REF!)","v":{"$error":"#REF!"}},{"$f":"IF(#REF!=\"\", \"\",#REF!)","v":{"$error":"#REF!"}},{"$f":"IF(#REF!=\"\", \"\",#REF!)","v":{"$error":"#REF!"}},{"$f":"IF(#REF!=\"\", \"\",#REF!)","v":{"$error":"#REF!"}},{"$f":"IF(#REF!=\"\", \"\",#REF!)","v":{"$error":"#REF!"}},{"$f":"IF(#REF!=\"\", \"\",#REF!)","v":{"$error":"#REF!"}},{"$f":"IF(#REF!=\"\", \"\",#REF!)","v":{"$error":"#REF!"}},{"$f":"IF(#REF!=\"\", \"\",#REF!)","v":{"$error":"#REF!"}},{"$f":"IF(#REF!=\"\", \"\",#REF!)","v":{"$error":"#REF!"}},{"$f":"IF(#REF!=\"\", \"\",#REF!)","v":{"$error":"#REF!"}},{"$f":"IF(#REF!=\"\", \"\",#REF!)","v":{"$error":"#REF!"}},{"$f":"IF(#REF!=\"\", \"\",#REF!)","v":{"$error":"#REF!"}},{"$f":"IF(#REF!=\"\", \"\",#REF!)","v":{"$error":"#REF!"}},{"$f":"IF(#REF!=\"\", \"\",#REF!)","v":{"$error":"#REF!"}},{"$f":"IF(#REF!=\"\", \"\",#REF!)","v":{"$error":"#REF!"}},{"$f":"IF(#REF!=\"\", \"\",#REF!)","v":{"$error":"#REF!"}},{"$f":"IF(#REF!=\"\", \"\",#REF!)","v":{"$error":"#REF!"}},{"$f":"IF(#REF!=\"\", \"\",#REF!)","v":{"$error":"#REF!"}},{"$f":"IF(#REF!=\"\", \"\",#REF!)","v":{"$error":"#REF!"}},{"$f":"IF(#REF!=\"\", \"\",#REF!)","v":{"$error":"#REF!"}},{"$f":"IF(#REF!=\"\", \"\",#REF!)","v":{"$error":"#REF!"}},{"$f":"IF(#REF!=\"\", \"\",#REF!)","v":{"$error":"#REF!"}},{"$f":"IF(#REF!=\"\", \"\",#REF!)","v":{"$error":"#REF!"}},{"$f":"IF(#REF!=\"\", \"\",#REF!)","v":{"$error":"#REF!"}},{"$f":"IF(#REF!=\"\", \"\",#REF!)","v":{"$error":"#REF!"}},{"$f":"IF(#REF!=\"\", \"\",#REF!)","v":{"$error":"#REF!"}},{"$f":"IF(#REF!=\"\", \"\",#REF!)","v":{"$error":"#REF!"}},{"$f":"IF(#REF!=\"\", \"\",#REF!)","v":{"$error":"#REF!"}},{"$f":"IF(#REF!=\"\", \"\",#REF!)","v":{"$error":"#REF!"}},{"$f":"IF(#REF!=\"\", \"\",#REF!)","v":{"$error":"#REF!"}},{"$f":"IF(#REF!=\"\", \"\",#REF!)","v":{"$error":"#REF!"}},{"$f":"IF(#REF!=\"\", \"\",#REF!)","v":{"$error":"#REF!"}},{"$f":"IF(#REF!=\"\", \"\",#REF!)","v":{"$error":"#REF!"}},{"$f":"IF(#REF!=\"\", \"\",#REF!)","v":{"$error":"#REF!"}},{"$f":"IF(#REF!=\"\", \"\",#REF!)","v":{"$error":"#REF!"}},{"$f":"IF(#REF!=\"\", \"\",#REF!)","v":{"$error":"#REF!"}},{"$f":"IF(#REF!=\"\", \"\",#REF!)","v":{"$error":"#REF!"}},{"$f":"IF(#REF!=\"\", \"\",#REF!)","v":{"$error":"#REF!"}},{"$f":"IF(#REF!=\"\", \"\",#REF!)","v":{"$error":"#REF!"}},{"$f":"IF(#REF!=\"\", \"\",#REF!)","v":{"$error":"#REF!"}},{"$f":"IF(#REF!=\"\", \"\",#REF!)","v":{"$error":"#REF!"}},{"$f":"IF(#REF!=\"\", \"\",#REF!)","v":{"$error":"#REF!"}},{"$f":"IF(#REF!=\"\", \"\",#REF!)","v":{"$error":"#REF!"}},{"$f":"IF(#REF!=\"\", \"\",#REF!)","v":{"$error":"#REF!"}},{"$f":"IF(#REF!=\"\", \"\",#REF!)","v":{"$error":"#REF!"}},{"$f":"IF(#REF!=\"\", \"\",#REF!)","v":{"$error":"#REF!"}},{"$f":"IF(#REF!=\"\", \"\",#REF!)","v":{"$error":"#REF!"}},{"$f":"IF(#REF!=\"\", \"\",#REF!)","v":{"$error":"#REF!"}},{"$f":"IF(#REF!=\"\", \"\",#REF!)","v":{"$error":"#REF!"}},{"$f":"IF(#REF!=\"\", \"\",#REF!)","v":{"$error":"#REF!"}},{"$f":"IF(#REF!=\"\", \"\",#REF!)","v":{"$error":"#REF!"}},{"$f":"IF(#REF!=\"\", \"\",#REF!)","v":{"$error":"#REF!"}},{"$f":"IF(#REF!=\"\", \"\",#REF!)","v":{"$error":"#REF!"}},{"$f":"IF(#REF!=\"\", \"\",#REF!)","v":{"$error":"#REF!"}},{"$f":"IF(#REF!=\"\", \"\",#REF!)","v":{"$error":"#REF!"}},{"$f":"IF(#REF!=\"\", \"\",#REF!)","v":{"$error":"#REF!"}},{"$f":"IF(#REF!=\"\", \"\",#REF!)","v":{"$error":"#REF!"}},{"$f":"IF(#REF!=\"\", \"\",#REF!)","v":{"$error":"#REF!"}}]
["Item 17",{"$f":"IF(#REF!=\"\", \"\",#REF!)","v":{"$error":"#REF!"}},{"$f":"IF(#REF!=\"\", \"\",#REF!)","v":{"$error":"#REF!"}},{"$f":"IF(#REF!=\"\", \"\",#REF!)","v":{"$error":"#REF!"}},{"$f":"IF(#REF!=\"\", \"\",#REF!)","v":{"$error":"#REF!"}},{"$f":"IF(#REF!=\"\", \"\",#REF!)","v":{"$error":"#REF!"}},{"$f":"IF(#REF!=\"\", \"\",#REF!)","v":{"$error":"#REF!"}},{"$f":"IF(#REF!=\"\", \"\",#REF!)","v":{"$error":"#REF!"}},{"$f":"IF(#REF!=\"\", \"\",#REF!)","v":{"$error":"#REF!"}},{"$f":"IF(#REF!=\"\", \"\",#REF!)","v":{"$error":"#REF!"}},{"$f":"IF(#REF!=\"\", \"\",#REF!)","v":{"$error":"#REF!"}},{"$f":"IF(#REF!=\"\", \"\",#REF!)","v":{"$error":"#REF!"}},{"$f":"IF(#REF!=\"\", \"\",#REF!)","v":{"$error":"#REF!"}},{"$f":"IF(#REF!=\"\", \"\",#REF!)","v":{"$error":"#REF!"}},{"$f":"IF(#REF!=\"\", \"\",#REF!)","v":{"$error":"#REF!"}},{"$f":"IF(#REF!=\"\", \"\",#REF!)","v":{"$error":"#REF!"}},{"$f":"IF(#REF!=\"\", \"\",#REF!)","v":{"$error":"#REF!"}},{"$f":"IF(#REF!=\"\", \"\",#REF!)","v":{"$error":"#REF!"}},{"$f":"IF(#REF!=\"\", \"\",#REF!)","v":{"$error":"#REF!"}},{"$f":"IF(#REF!=\"\", \"\",#REF!)","v":{"$error":"#REF!"}},{"$f":"IF(#REF!=\"\", \"\",#REF!)","v":{"$error":"#REF!"}},{"$f":"IF(#REF!=\"\", \"\",#REF!)","v":{"$error":"#REF!"}},{"$f":"IF(#REF!=\"\", \"\",#REF!)","v":{"$error":"#REF!"}},{"$f":"IF(#REF!=\"\", \"\",#REF!)","v":{"$error":"#REF!"}},{"$f":"IF(#REF!=\"\", \"\",#REF!)","v":{"$error":"#REF!"}},{"$f":"IF(#REF!=\"\", \"\",#REF!)","v":{"$error":"#REF!"}},{"$f":"IF(#REF!=\"\", \"\",#REF!)","v":{"$error":"#REF!"}},{"$f":"IF(#REF!=\"\", \"\",#REF!)","v":{"$error":"#REF!"}},{"$f":"IF(#REF!=\"\", \"\",#REF!)","v":{"$error":"#REF!"}},{"$f":"IF(#REF!=\"\", \"\",#REF!)","v":{"$error":"#REF!"}},{"$f":"IF(#REF!=\"\", \"\",#REF!)","v":{"$error":"#REF!"}},{"$f":"IF(#REF!=\"\", \"\",#REF!)","v":{"$error":"#REF!"}},{"$f":"IF(#REF!=\"\", \"\",#REF!)","v":{"$error":"#REF!"}},{"$f":"IF(#REF!=\"\", \"\",#REF!)","v":{"$error":"#REF!"}},{"$f":"IF(#REF!=\"\", \"\",#REF!)","v":{"$error":"#REF!"}},{"$f":"IF(#REF!=\"\", \"\",#REF!)","v":{"$error":"#REF!"}},{"$f":"IF(#REF!=\"\", \"\",#REF!)","v":{"$error":"#REF!"}},{"$f":"IF(#REF!=\"\", \"\",#REF!)","v":{"$error":"#REF!"}},{"$f":"IF(#REF!=\"\", \"\",#REF!)","v":{"$error":"#REF!"}},{"$f":"IF(#REF!=\"\", \"\",#REF!)","v":{"$error":"#REF!"}},{"$f":"IF(#REF!=\"\", \"\",#REF!)","v":{"$error":"#REF!"}},{"$f":"IF(#REF!=\"\", \"\",#REF!)","v":{"$error":"#REF!"}},{"$f":"IF(#REF!=\"\", \"\",#REF!)","v":{"$error":"#REF!"}},{"$f":"IF(#REF!=\"\", \"\",#REF!)","v":{"$error":"#REF!"}},{"$f":"IF(#REF!=\"\", \"\",#REF!)","v":{"$error":"#REF!"}},{"$f":"IF(#REF!=\"\", \"\",#REF!)","v":{"$error":"#REF!"}},{"$f":"IF(#REF!=\"\", \"\",#REF!)","v":{"$error":"#REF!"}},{"$f":"IF(#REF!=\"\", \"\",#REF!)","v":{"$error":"#REF!"}},{"$f":"IF(#REF!=\"\", \"\",#REF!)","v":{"$error":"#REF!"}},{"$f":"IF(#REF!=\"\", \"\",#REF!)","v":{"$error":"#REF!"}},{"$f":"IF(#REF!=\"\", \"\",#REF!)","v":{"$error":"#REF!"}},{"$f":"IF(#REF!=\"\", \"\",#REF!)","v":{"$error":"#REF!"}},{"$f":"IF(#REF!=\"\", \"\",#REF!)","v":{"$error":"#REF!"}},{"$f":"IF(#REF!=\"\", \"\",#REF!)","v":{"$error":"#REF!"}},{"$f":"IF(#REF!=\"\", \"\",#REF!)","v":{"$error":"#REF!"}},{"$f":"IF(#REF!=\"\", \"\",#REF!)","v":{"$error":"#REF!"}},{"$f":"IF(#REF!=\"\", \"\",#REF!)","v":{"$error":"#REF!"}},{"$f":"IF(#REF!=\"\", \"\",#REF!)","v":{"$error":"#REF!"}},{"$f":"IF(#REF!=\"\", \"\",#REF!)","v":{"$error":"#REF!"}},{"$f":"IF(#REF!=\"\", \"\",#REF!)","v":{"$error":"#REF!"}},{"$f":"IF(#REF!=\"\", \"\",#REF!)","v":{"$error":"#REF!"}},{"$f":"IF(#REF!=\"\", \"\",#REF!)","v":{"$error":"#REF!"}}]
["Item 18",{"$f":"IF(#REF!=\"\", \"\",#REF!)","v":{"$error":"#REF!"}},{"$f":"IF(#REF!=\"\", \"\",#REF!)","v":{"$error":"#REF!"}},{"$f":"IF(#REF!=\"\", \"\",#REF!)","v":{"$error":"#REF!"}},{"$f":"IF(#REF!=\"\", \"\",#REF!)","v":{"$error":"#REF!"}},{"$f":"IF(#REF!=\"\", \"\",#REF!)","v":{"$error":"#REF!"}},{"$f":"IF(#REF!=\"\", \"\",#REF!)","v":{"$error":"#REF!"}},{"$f":"IF(#REF!=\"\", \"\",#REF!)","v":{"$error":"#REF!"}},{"$f":"IF(#REF!=\"\", \"\",#REF!)","v":{"$error":"#REF!"}},{"$f":"IF(#REF!=\"\", \"\",#REF!)","v":{"$error":"#REF!"}},{"$f":"IF(#REF!=\"\", \"\",#REF!)","v":{"$error":"#REF!"}},{"$f":"IF(#REF!=\"\", \"\",#REF!)","v":{"$error":"#REF!"}},{"$f":"IF(#REF!=\"\", \"\",#REF!)","v":{"$error":"#REF!"}},{"$f":"IF(#REF!=\"\", \"\",#REF!)","v":{"$error":"#REF!"}},{"$f":"IF(#REF!=\"\", \"\",#REF!)","v":{"$error":"#REF!"}},{"$f":"IF(#REF!=\"\", \"\",#REF!)","v":{"$error":"#REF!"}},{"$f":"IF(#REF!=\"\", \"\",#REF!)","v":{"$error":"#REF!"}},{"$f":"IF(#REF!=\"\", \"\",#REF!)","v":{"$error":"#REF!"}},{"$f":"IF(#REF!=\"\", \"\",#REF!)","v":{"$error":"#REF!"}},{"$f":"IF(#REF!=\"\", \"\",#REF!)","v":{"$error":"#REF!"}},{"$f":"IF(#REF!=\"\", \"\",#REF!)","v":{"$error":"#REF!"}},{"$f":"IF(#REF!=\"\", \"\",#REF!)","v":{"$error":"#REF!"}},{"$f":"IF(#REF!=\"\", \"\",#REF!)","v":{"$error":"#REF!"}},{"$f":"IF(#REF!=\"\", \"\",#REF!)","v":{"$error":"#REF!"}},{"$f":"IF(#REF!=\"\", \"\",#REF!)","v":{"$error":"#REF!"}},{"$f":"IF(#REF!=\"\", \"\",#REF!)","v":{"$error":"#REF!"}},{"$f":"IF(#REF!=\"\", \"\",#REF!)","v":{"$error":"#REF!"}},{"$f":"IF(#REF!=\"\", \"\",#REF!)","v":{"$error":"#REF!"}},{"$f":"IF(#REF!=\"\", \"\",#REF!)","v":{"$error":"#REF!"}},{"$f":"IF(#REF!=\"\", \"\",#REF!)","v":{"$error":"#REF!"}},{"$f":"IF(#REF!=\"\", \"\",#REF!)","v":{"$error":"#REF!"}},{"$f":"IF(#REF!=\"\", \"\",#REF!)","v":{"$error":"#REF!"}},{"$f":"IF(#REF!=\"\", \"\",#REF!)","v":{"$error":"#REF!"}},{"$f":"IF(#REF!=\"\", \"\",#REF!)","v":{"$error":"#REF!"}},{"$f":"IF(#REF!=\"\", \"\",#REF!)","v":{"$error":"#REF!"}},{"$f":"IF(#REF!=\"\", \"\",#REF!)","v":{"$error":"#REF!"}},{"$f":"IF(#REF!=\"\", \"\",#REF!)","v":{"$error":"#REF!"}},{"$f":"IF(#REF!=\"\", \"\",#REF!)","v":{"$error":"#REF!"}},{"$f":"IF(#REF!=\"\", \"\",#REF!)","v":{"$error":"#REF!"}},{"$f":"IF(#REF!=\"\", \"\",#REF!)","v":{"$error":"#REF!"}},{"$f":"IF(#REF!=\"\", \"\",#REF!)","v":{"$error":"#REF!"}},{"$f":"IF(#REF!=\"\", \"\",#REF!)","v":{"$error":"#REF!"}},{"$f":"IF(#REF!=\"\", \"\",#REF!)","v":{"$error":"#REF!"}},{"$f":"IF(#REF!=\"\", \"\",#REF!)","v":{"$error":"#REF!"}},{"$f":"IF(#REF!=\"\", \"\",#REF!)","v":{"$error":"#REF!"}},{"$f":"IF(#REF!=\"\", \"\",#REF!)","v":{"$error":"#REF!"}},{"$f":"IF(#REF!=\"\", \"\",#REF!)","v":{"$error":"#REF!"}},{"$f":"IF(#REF!=\"\", \"\",#REF!)","v":{"$error":"#REF!"}},{"$f":"IF(#REF!=\"\", \"\",#REF!)","v":{"$error":"#REF!"}},{"$f":"IF(#REF!=\"\", \"\",#REF!)","v":{"$error":"#REF!"}},{"$f":"IF(#REF!=\"\", \"\",#REF!)","v":{"$error":"#REF!"}},{"$f":"IF(#REF!=\"\", \"\",#REF!)","v":{"$error":"#REF!"}},{"$f":"IF(#REF!=\"\", \"\",#REF!)","v":{"$error":"#REF!"}},{"$f":"IF(#REF!=\"\", \"\",#REF!)","v":{"$error":"#REF!"}},{"$f":"IF(#REF!=\"\", \"\",#REF!)","v":{"$error":"#REF!"}},{"$f":"IF(#REF!=\"\", \"\",#REF!)","v":{"$error":"#REF!"}},{"$f":"IF(#REF!=\"\", \"\",#REF!)","v":{"$error":"#REF!"}},{"$f":"IF(#REF!=\"\", \"\",#REF!)","v":{"$error":"#REF!"}},{"$f":"IF(#REF!=\"\", \"\",#REF!)","v":{"$error":"#REF!"}},{"$f":"IF(#REF!=\"\", \"\",#REF!)","v":{"$error":"#REF!"}},{"$f":"IF(#REF!=\"\", \"\",#REF!)","v":{"$error":"#REF!"}},{"$f":"IF(#REF!=\"\", \"\",#REF!)","v":{"$error":"#REF!"}}]
["Item 19",{"$f":"IF(#REF!=\"\", \"\",#REF!)","v":{"$error":"#REF!"}},{"$f":"IF(#REF!=\"\", \"\",#REF!)","v":{"$error":"#REF!"}},{"$f":"IF(#REF!=\"\", \"\",#REF!)","v":{"$error":"#REF!"}},{"$f":"IF(#REF!=\"\", \"\",#REF!)","v":{"$error":"#REF!"}},{"$f":"IF(#REF!=\"\", \"\",#REF!)","v":{"$error":"#REF!"}},{"$f":"IF(#REF!=\"\", \"\",#REF!)","v":{"$error":"#REF!"}},{"$f":"IF(#REF!=\"\", \"\",#REF!)","v":{"$error":"#REF!"}},{"$f":"IF(#REF!=\"\", \"\",#REF!)","v":{"$error":"#REF!"}},{"$f":"IF(#REF!=\"\", \"\",#REF!)","v":{"$error":"#REF!"}},{"$f":"IF(#REF!=\"\", \"\",#REF!)","v":{"$error":"#REF!"}},{"$f":"IF(#REF!=\"\", \"\",#REF!)","v":{"$error":"#REF!"}},{"$f":"IF(#REF!=\"\", \"\",#REF!)","v":{"$error":"#REF!"}},{"$f":"IF(#REF!=\"\", \"\",#REF!)","v":{"$error":"#REF!"}},{"$f":"IF(#REF!=\"\", \"\",#REF!)","v":{"$error":"#REF!"}},{"$f":"IF(#REF!=\"\", \"\",#REF!)","v":{"$error":"#REF!"}},{"$f":"IF(#REF!=\"\", \"\",#REF!)","v":{"$error":"#REF!"}},{"$f":"IF(#REF!=\"\", \"\",#REF!)","v":{"$error":"#REF!"}},{"$f":"IF(#REF!=\"\", \"\",#REF!)","v":{"$error":"#REF!"}},{"$f":"IF(#REF!=\"\", \"\",#REF!)","v":{"$error":"#REF!"}},{"$f":"IF(#REF!=\"\", \"\",#REF!)","v":{"$error":"#REF!"}},{"$f":"IF(#REF!=\"\", \"\",#REF!)","v":{"$error":"#REF!"}},{"$f":"IF(#REF!=\"\", \"\",#REF!)","v":{"$error":"#REF!"}},{"$f":"IF(#REF!=\"\", \"\",#REF!)","v":{"$error":"#REF!"}},{"$f":"IF(#REF!=\"\", \"\",#REF!)","v":{"$error":"#REF!"}},{"$f":"IF(#REF!=\"\", \"\",#REF!)","v":{"$error":"#REF!"}},{"$f":"IF(#REF!=\"\", \"\",#REF!)","v":{"$error":"#REF!"}},{"$f":"IF(#REF!=\"\", \"\",#REF!)","v":{"$error":"#REF!"}},{"$f":"IF(#REF!=\"\", \"\",#REF!)","v":{"$error":"#REF!"}},{"$f":"IF(#REF!=\"\", \"\",#REF!)","v":{"$error":"#REF!"}},{"$f":"IF(#REF!=\"\", \"\",#REF!)","v":{"$error":"#REF!"}},{"$f":"IF(#REF!=\"\", \"\",#REF!)","v":{"$error":"#REF!"}},{"$f":"IF(#REF!=\"\", \"\",#REF!)","v":{"$error":"#REF!"}},{"$f":"IF(#REF!=\"\", \"\",#REF!)","v":{"$error":"#REF!"}},{"$f":"IF(#REF!=\"\", \"\",#REF!)","v":{"$error":"#REF!"}},{"$f":"IF(#REF!=\"\", \"\",#REF!)","v":{"$error":"#REF!"}},{"$f":"IF(#REF!=\"\", \"\",#REF!)","v":{"$error":"#REF!"}},{"$f":"IF(#REF!=\"\", \"\",#REF!)","v":{"$error":"#REF!"}},{"$f":"IF(#REF!=\"\", \"\",#REF!)","v":{"$error":"#REF!"}},{"$f":"IF(#REF!=\"\", \"\",#REF!)","v":{"$error":"#REF!"}},{"$f":"IF(#REF!=\"\", \"\",#REF!)","v":{"$error":"#REF!"}},{"$f":"IF(#REF!=\"\", \"\",#REF!)","v":{"$error":"#REF!"}},{"$f":"IF(#REF!=\"\", \"\",#REF!)","v":{"$error":"#REF!"}},{"$f":"IF(#REF!=\"\", \"\",#REF!)","v":{"$error":"#REF!"}},{"$f":"IF(#REF!=\"\", \"\",#REF!)","v":{"$error":"#REF!"}},{"$f":"IF(#REF!=\"\", \"\",#REF!)","v":{"$error":"#REF!"}},{"$f":"IF(#REF!=\"\", \"\",#REF!)","v":{"$error":"#REF!"}},{"$f":"IF(#REF!=\"\", \"\",#REF!)","v":{"$error":"#REF!"}},{"$f":"IF(#REF!=\"\", \"\",#REF!)","v":{"$error":"#REF!"}},{"$f":"IF(#REF!=\"\", \"\",#REF!)","v":{"$error":"#REF!"}},{"$f":"IF(#REF!=\"\", \"\",#REF!)","v":{"$error":"#REF!"}},{"$f":"IF(#REF!=\"\", \"\",#REF!)","v":{"$error":"#REF!"}},{"$f":"IF(#REF!=\"\", \"\",#REF!)","v":{"$error":"#REF!"}},{"$f":"IF(#REF!=\"\", \"\",#REF!)","v":{"$error":"#REF!"}},{"$f":"IF(#REF!=\"\", \"\",#REF!)","v":{"$error":"#REF!"}},{"$f":"IF(#REF!=\"\", \"\",#REF!)","v":{"$error":"#REF!"}},{"$f":"IF(#REF!=\"\", \"\",#REF!)","v":{"$error":"#REF!"}},{"$f":"IF(#REF!=\"\", \"\",#REF!)","v":{"$error":"#REF!"}},{"$f":"IF(#REF!=\"\", \"\",#REF!)","v":{"$error":"#REF!"}},{"$f":"IF(#REF!=\"\", \"\",#REF!)","v":{"$error":"#REF!"}},{"$f":"IF(#REF!=\"\", \"\",#REF!)","v":{"$error":"#REF!"}},{"$f":"IF(#REF!=\"\", \"\",#REF!)","v":{"$error":"#REF!"}}]
["Item 20",{"$f":"IF(#REF!=\"\", \"\",#REF!)","v":{"$error":"#REF!"}},{"$f":"IF(#REF!=\"\", \"\",#REF!)","v":{"$error":"#REF!"}},{"$f":"IF(#REF!=\"\", \"\",#REF!)","v":{"$error":"#REF!"}},{"$f":"IF(#REF!=\"\", \"\",#REF!)","v":{"$error":"#REF!"}},{"$f":"IF(#REF!=\"\", \"\",#REF!)","v":{"$error":"#REF!"}},{"$f":"IF(#REF!=\"\", \"\",#REF!)","v":{"$error":"#REF!"}},{"$f":"IF(#REF!=\"\", \"\",#REF!)","v":{"$error":"#REF!"}},{"$f":"IF(#REF!=\"\", \"\",#REF!)","v":{"$error":"#REF!"}},{"$f":"IF(#REF!=\"\", \"\",#REF!)","v":{"$error":"#REF!"}},{"$f":"IF(#REF!=\"\", \"\",#REF!)","v":{"$error":"#REF!"}},{"$f":"IF(#REF!=\"\", \"\",#REF!)","v":{"$error":"#REF!"}},{"$f":"IF(#REF!=\"\", \"\",#REF!)","v":{"$error":"#REF!"}},{"$f":"IF(#REF!=\"\", \"\",#REF!)","v":{"$error":"#REF!"}},{"$f":"IF(#REF!=\"\", \"\",#REF!)","v":{"$error":"#REF!"}},{"$f":"IF(#REF!=\"\", \"\",#REF!)","v":{"$error":"#REF!"}},{"$f":"IF(#REF!=\"\", \"\",#REF!)","v":{"$error":"#REF!"}},{"$f":"IF(#REF!=\"\", \"\",#REF!)","v":{"$error":"#REF!"}},{"$f":"IF(#REF!=\"\", \"\",#REF!)","v":{"$error":"#REF!"}},{"$f":"IF(#REF!=\"\", \"\",#REF!)","v":{"$error":"#REF!"}},{"$f":"IF(#REF!=\"\", \"\",#REF!)","v":{"$error":"#REF!"}},{"$f":"IF(#REF!=\"\", \"\",#REF!)","v":{"$error":"#REF!"}},{"$f":"IF(#REF!=\"\", \"\",#REF!)","v":{"$error":"#REF!"}},{"$f":"IF(#REF!=\"\", \"\",#REF!)","v":{"$error":"#REF!"}},{"$f":"IF(#REF!=\"\", \"\",#REF!)","v":{"$error":"#REF!"}},{"$f":"IF(#REF!=\"\", \"\",#REF!)","v":{"$error":"#REF!"}},{"$f":"IF(#REF!=\"\", \"\",#REF!)","v":{"$error":"#REF!"}},{"$f":"IF(#REF!=\"\", \"\",#REF!)","v":{"$error":"#REF!"}},{"$f":"IF(#REF!=\"\", \"\",#REF!)","v":{"$error":"#REF!"}},{"$f":"IF(#REF!=\"\", \"\",#REF!)","v":{"$error":"#REF!"}},{"$f":"IF(#REF!=\"\", \"\",#REF!)","v":{"$error":"#REF!"}},{"$f":"IF(#REF!=\"\", \"\",#REF!)","v":{"$error":"#REF!"}},{"$f":"IF(#REF!=\"\", \"\",#REF!)","v":{"$error":"#REF!"}},{"$f":"IF(#REF!=\"\", \"\",#REF!)","v":{"$error":"#REF!"}},{"$f":"IF(#REF!=\"\", \"\",#REF!)","v":{"$error":"#REF!"}},{"$f":"IF(#REF!=\"\", \"\",#REF!)","v":{"$error":"#REF!"}},{"$f":"IF(#REF!=\"\", \"\",#REF!)","v":{"$error":"#REF!"}},{"$f":"IF(#REF!=\"\", \"\",#REF!)","v":{"$error":"#REF!"}},{"$f":"IF(#REF!=\"\", \"\",#REF!)","v":{"$error":"#REF!"}},{"$f":"IF(#REF!=\"\", \"\",#REF!)","v":{"$error":"#REF!"}},{"$f":"IF(#REF!=\"\", \"\",#REF!)","v":{"$error":"#REF!"}},{"$f":"IF(#REF!=\"\", \"\",#REF!)","v":{"$error":"#REF!"}},{"$f":"IF(#REF!=\"\", \"\",#REF!)","v":{"$error":"#REF!"}},{"$f":"IF(#REF!=\"\", \"\",#REF!)","v":{"$error":"#REF!"}},{"$f":"IF(#REF!=\"\", \"\",#REF!)","v":{"$error":"#REF!"}},{"$f":"IF(#REF!=\"\", \"\",#REF!)","v":{"$error":"#REF!"}},{"$f":"IF(#REF!=\"\", \"\",#REF!)","v":{"$error":"#REF!"}},{"$f":"IF(#REF!=\"\", \"\",#REF!)","v":{"$error":"#REF!"}},{"$f":"IF(#REF!=\"\", \"\",#REF!)","v":{"$error":"#REF!"}},{"$f":"IF(#REF!=\"\", \"\",#REF!)","v":{"$error":"#REF!"}},{"$f":"IF(#REF!=\"\", \"\",#REF!)","v":{"$error":"#REF!"}},{"$f":"IF(#REF!=\"\", \"\",#REF!)","v":{"$error":"#REF!"}},{"$f":"IF(#REF!=\"\", \"\",#REF!)","v":{"$error":"#REF!"}},{"$f":"IF(#REF!=\"\", \"\",#REF!)","v":{"$error":"#REF!"}},{"$f":"IF(#REF!=\"\", \"\",#REF!)","v":{"$error":"#REF!"}},{"$f":"IF(#REF!=\"\", \"\",#REF!)","v":{"$error":"#REF!"}},{"$f":"IF(#REF!=\"\", \"\",#REF!)","v":{"$error":"#REF!"}},{"$f":"IF(#REF!=\"\", \"\",#REF!)","v":{"$error":"#REF!"}},{"$f":"IF(#REF!=\"\", \"\",#REF!)","v":{"$error":"#REF!"}},{"$f":"IF(#REF!=\"\", \"\",#REF!)","v":{"$error":"#REF!"}},{"$f":"IF(#REF!=\"\", \"\",#REF!)","v":{"$error":"#REF!"}},{"$f":"IF(#REF!=\"\", \"\",#REF!)","v":{"$error":"#REF!"}}]
["Item 21",{"$f":"IF(#REF!=\"\", \"\",#REF!)","v":{"$error":"#REF!"}},{"$f":"IF(#REF!=\"\", \"\",#REF!)","v":{"$error":"#REF!"}},{"$f":"IF(#REF!=\"\", \"\",#REF!)","v":{"$error":"#REF!"}},{"$f":"IF(#REF!=\"\", \"\",#REF!)","v":{"$error":"#REF!"}},{"$f":"IF(#REF!=\"\", \"\",#REF!)","v":{"$error":"#REF!"}},{"$f":"IF(#REF!=\"\", \"\",#REF!)","v":{"$error":"#REF!"}},{"$f":"IF(#REF!=\"\", \"\",#REF!)","v":{"$error":"#REF!"}},{"$f":"IF(#REF!=\"\", \"\",#REF!)","v":{"$error":"#REF!"}},{"$f":"IF(#REF!=\"\", \"\",#REF!)","v":{"$error":"#REF!"}},{"$f":"IF(#REF!=\"\", \"\",#REF!)","v":{"$error":"#REF!"}},{"$f":"IF(#REF!=\"\", \"\",#REF!)","v":{"$error":"#REF!"}},{"$f":"IF(#REF!=\"\", \"\",#REF!)","v":{"$error":"#REF!"}},{"$f":"IF(#REF!=\"\", \"\",#REF!)","v":{"$error":"#REF!"}},{"$f":"IF(#REF!=\"\", \"\",#REF!)","v":{"$error":"#REF!"}},{"$f":"IF(#REF!=\"\", \"\",#REF!)","v":{"$error":"#REF!"}},{"$f":"IF(#REF!=\"\", \"\",#REF!)","v":{"$error":"#REF!"}},{"$f":"IF(#REF!=\"\", \"\",#REF!)","v":{"$error":"#REF!"}},{"$f":"IF(#REF!=\"\", \"\",#REF!)","v":{"$error":"#REF!"}},{"$f":"IF(#REF!=\"\", \"\",#REF!)","v":{"$error":"#REF!"}},{"$f":"IF(#REF!=\"\", \"\",#REF!)","v":{"$error":"#REF!"}},{"$f":"IF(#REF!=\"\", \"\",#REF!)","v":{"$error":"#REF!"}},{"$f":"IF(#REF!=\"\", \"\",#REF!)","v":{"$error":"#REF!"}},{"$f":"IF(#REF!=\"\", \"\",#REF!)","v":{"$error":"#REF!"}},{"$f":"IF(#REF!=\"\", \"\",#REF!)","v":{"$error":"#REF!"}},{"$f":"IF(#REF!=\"\", \"\",#REF!)","v":{"$error":"#REF!"}},{"$f":"IF(#REF!=\"\", \"\",#REF!)","v":{"$error":"#REF!"}},{"$f":"IF(#REF!=\"\", \"\",#REF!)","v":{"$error":"#REF!"}},{"$f":"IF(#REF!=\"\", \"\",#REF!)","v":{"$error":"#REF!"}},{"$f":"IF(#REF!=\"\", \"\",#REF!)","v":{"$error":"#REF!"}},{"$f":"IF(#REF!=\"\", \"\",#REF!)","v":{"$error":"#REF!"}},{"$f":"IF(#REF!=\"\", \"\",#REF!)","v":{"$error":"#REF!"}},{"$f":"IF(#REF!=\"\", \"\",#REF!)","v":{"$error":"#REF!"}},{"$f":"IF(#REF!=\"\", \"\",#REF!)","v":{"$error":"#REF!"}},{"$f":"IF(#REF!=\"\", \"\",#REF!)","v":{"$error":"#REF!"}},{"$f":"IF(#REF!=\"\", \"\",#REF!)","v":{"$error":"#REF!"}},{"$f":"IF(#REF!=\"\", \"\",#REF!)","v":{"$error":"#REF!"}},{"$f":"IF(#REF!=\"\", \"\",#REF!)","v":{"$error":"#REF!"}},{"$f":"IF(#REF!=\"\", \"\",#REF!)","v":{"$error":"#REF!"}},{"$f":"IF(#REF!=\"\", \"\",#REF!)","v":{"$error":"#REF!"}},{"$f":"IF(#REF!=\"\", \"\",#REF!)","v":{"$error":"#REF!"}},{"$f":"IF(#REF!=\"\", \"\",#REF!)","v":{"$error":"#REF!"}},{"$f":"IF(#REF!=\"\", \"\",#REF!)","v":{"$error":"#REF!"}},{"$f":"IF(#REF!=\"\", \"\",#REF!)","v":{"$error":"#REF!"}},{"$f":"IF(#REF!=\"\", \"\",#REF!)","v":{"$error":"#REF!"}},{"$f":"IF(#REF!=\"\", \"\",#REF!)","v":{"$error":"#REF!"}},{"$f":"IF(#REF!=\"\", \"\",#REF!)","v":{"$error":"#REF!"}},{"$f":"IF(#REF!=\"\", \"\",#REF!)","v":{"$error":"#REF!"}},{"$f":"IF(#REF!=\"\", \"\",#REF!)","v":{"$error":"#REF!"}},{"$f":"IF(#REF!=\"\", \"\",#REF!)","v":{"$error":"#REF!"}},{"$f":"IF(#REF!=\"\", \"\",#REF!)","v":{"$error":"#REF!"}},{"$f":"IF(#REF!=\"\", \"\",#REF!)","v":{"$error":"#REF!"}},{"$f":"IF(#REF!=\"\", \"\",#REF!)","v":{"$error":"#REF!"}},{"$f":"IF(#REF!=\"\", \"\",#REF!)","v":{"$error":"#REF!"}},{"$f":"IF(#REF!=\"\", \"\",#REF!)","v":{"$error":"#REF!"}},{"$f":"IF(#REF!=\"\", \"\",#REF!)","v":{"$error":"#REF!"}},{"$f":"IF(#REF!=\"\", \"\",#REF!)","v":{"$error":"#REF!"}},{"$f":"IF(#REF!=\"\", \"\",#REF!)","v":{"$error":"#REF!"}},{"$f":"IF(#REF!=\"\", \"\",#REF!)","v":{"$error":"#REF!"}},{"$f":"IF(#REF!=\"\", \"\",#REF!)","v":{"$error":"#REF!"}},{"$f":"IF(#REF!=\"\", \"\",#REF!)","v":{"$error":"#REF!"}},{"$f":"IF(#REF!=\"\", \"\",#REF!)","v":{"$error":"#REF!"}}]
["Item 22",{"$f":"IF(#REF!=\"\", \"\",#REF!)","v":{"$error":"#REF!"}},{"$f":"IF(#REF!=\"\", \"\",#REF!)","v":{"$error":"#REF!"}},{"$f":"IF(#REF!=\"\", \"\",#REF!)","v":{"$error":"#REF!"}},{"$f":"IF(#REF!=\"\", \"\",#REF!)","v":{"$error":"#REF!"}},{"$f":"IF(#REF!=\"\", \"\",#REF!)","v":{"$error":"#REF!"}},{"$f":"IF(#REF!=\"\", \"\",#REF!)","v":{"$error":"#REF!"}},{"$f":"IF(#REF!=\"\", \"\",#REF!)","v":{"$error":"#REF!"}},{"$f":"IF(#REF!=\"\", \"\",#REF!)","v":{"$error":"#REF!"}},{"$f":"IF(#REF!=\"\", \"\",#REF!)","v":{"$error":"#REF!"}},{"$f":"IF(#REF!=\"\", \"\",#REF!)","v":{"$error":"#REF!"}},{"$f":"IF(#REF!=\"\", \"\",#REF!)","v":{"$error":"#REF!"}},{"$f":"IF(#REF!=\"\", \"\",#REF!)","v":{"$error":"#REF!"}},{"$f":"IF(#REF!=\"\", \"\",#REF!)","v":{"$error":"#REF!"}},{"$f":"IF(#REF!=\"\", \"\",#REF!)","v":{"$error":"#REF!"}},{"$f":"IF(#REF!=\"\", \"\",#REF!)","v":{"$error":"#REF!"}},{"$f":"IF(#REF!=\"\", \"\",#REF!)","v":{"$error":"#REF!"}},{"$f":"IF(#REF!=\"\", \"\",#REF!)","v":{"$error":"#REF!"}},{"$f":"IF(#REF!=\"\", \"\",#REF!)","v":{"$error":"#REF!"}},{"$f":"IF(#REF!=\"\", \"\",#REF!)","v":{"$error":"#REF!"}},{"$f":"IF(#REF!=\"\", \"\",#REF!)","v":{"$error":"#REF!"}},{"$f":"IF(#REF!=\"\", \"\",#REF!)","v":{"$error":"#REF!"}},{"$f":"IF(#REF!=\"\", \"\",#REF!)","v":{"$error":"#REF!"}},{"$f":"IF(#REF!=\"\", \"\",#REF!)","v":{"$error":"#REF!"}},{"$f":"IF(#REF!=\"\", \"\",#REF!)","v":{"$error":"#REF!"}},{"$f":"IF(#REF!=\"\", \"\",#REF!)","v":{"$error":"#REF!"}},{"$f":"IF(#REF!=\"\", \"\",#REF!)","v":{"$error":"#REF!"}},{"$f":"IF(#REF!=\"\", \"\",#REF!)","v":{"$error":"#REF!"}},{"$f":"IF(#REF!=\"\", \"\",#REF!)","v":{"$error":"#REF!"}},{"$f":"IF(#REF!=\"\", \"\",#REF!)","v":{"$error":"#REF!"}},{"$f":"IF(#REF!=\"\", \"\",#REF!)","v":{"$error":"#REF!"}},{"$f":"IF(#REF!=\"\", \"\",#REF!)","v":{"$error":"#REF!"}},{"$f":"IF(#REF!=\"\", \"\",#REF!)","v":{"$error":"#REF!"}},{"$f":"IF(#REF!=\"\", \"\",#REF!)","v":{"$error":"#REF!"}},{"$f":"IF(#REF!=\"\", \"\",#REF!)","v":{"$error":"#REF!"}},{"$f":"IF(#REF!=\"\", \"\",#REF!)","v":{"$error":"#REF!"}},{"$f":"IF(#REF!=\"\", \"\",#REF!)","v":{"$error":"#REF!"}},{"$f":"IF(#REF!=\"\", \"\",#REF!)","v":{"$error":"#REF!"}},{"$f":"IF(#REF!=\"\", \"\",#REF!)","v":{"$error":"#REF!"}},{"$f":"IF(#REF!=\"\", \"\",#REF!)","v":{"$error":"#REF!"}},{"$f":"IF(#REF!=\"\", \"\",#REF!)","v":{"$error":"#REF!"}},{"$f":"IF(#REF!=\"\", \"\",#REF!)","v":{"$error":"#REF!"}},{"$f":"IF(#REF!=\"\", \"\",#REF!)","v":{"$error":"#REF!"}},{"$f":"IF(#REF!=\"\", \"\",#REF!)","v":{"$error":"#REF!"}},{"$f":"IF(#REF!=\"\", \"\",#REF!)","v":{"$error":"#REF!"}},{"$f":"IF(#REF!=\"\", \"\",#REF!)","v":{"$error":"#REF!"}},{"$f":"IF(#REF!=\"\", \"\",#REF!)","v":{"$error":"#REF!"}},{"$f":"IF(#REF!=\"\", \"\",#REF!)","v":{"$error":"#REF!"}},{"$f":"IF(#REF!=\"\", \"\",#REF!)","v":{"$error":"#REF!"}},{"$f":"IF(#REF!=\"\", \"\",#REF!)","v":{"$error":"#REF!"}},{"$f":"IF(#REF!=\"\", \"\",#REF!)","v":{"$error":"#REF!"}},{"$f":"IF(#REF!=\"\", \"\",#REF!)","v":{"$error":"#REF!"}},{"$f":"IF(#REF!=\"\", \"\",#REF!)","v":{"$error":"#REF!"}},{"$f":"IF(#REF!=\"\", \"\",#REF!)","v":{"$error":"#REF!"}},{"$f":"IF(#REF!=\"\", \"\",#REF!)","v":{"$error":"#REF!"}},{"$f":"IF(#REF!=\"\", \"\",#REF!)","v":{"$error":"#REF!"}},{"$f":"IF(#REF!=\"\", \"\",#REF!)","v":{"$error":"#REF!"}},{"$f":"IF(#REF!=\"\", \"\",#REF!)","v":{"$error":"#REF!"}},{"$f":"IF(#REF!=\"\", \"\",#REF!)","v":{"$error":"#REF!"}},{"$f":"IF(#REF!=\"\", \"\",#REF!)","v":{"$error":"#REF!"}},{"$f":"IF(#REF!=\"\", \"\",#REF!)","v":{"$error":"#REF!"}},{"$f":"IF(#REF!=\"\", \"\",#REF!)","v":{"$error":"#REF!"}}]
["Item 23",{"$f":"IF(#REF!=\"\", \"\",#REF!)","v":{"$error":"#REF!"}},{"$f":"IF(#REF!=\"\", \"\",#REF!)","v":{"$error":"#REF!"}},{"$f":"IF(#REF!=\"\", \"\",#REF!)","v":{"$error":"#REF!"}},{"$f":"IF(#REF!=\"\", \"\",#REF!)","v":{"$error":"#REF!"}},{"$f":"IF(#REF!=\"\", \"\",#REF!)","v":{"$error":"#REF!"}},{"$f":"IF(#REF!=\"\", \"\",#REF!)","v":{"$error":"#REF!"}},{"$f":"IF(#REF!=\"\", \"\",#REF!)","v":{"$error":"#REF!"}},{"$f":"IF(#REF!=\"\", \"\",#REF!)","v":{"$error":"#REF!"}},{"$f":"IF(#REF!=\"\", \"\",#REF!)","v":{"$error":"#REF!"}},{"$f":"IF(#REF!=\"\", \"\",#REF!)","v":{"$error":"#REF!"}},{"$f":"IF(#REF!=\"\", \"\",#REF!)","v":{"$error":"#REF!"}},{"$f":"IF(#REF!=\"\", \"\",#REF!)","v":{"$error":"#REF!"}},{"$f":"IF(#REF!=\"\", \"\",#REF!)","v":{"$error":"#REF!"}},{"$f":"IF(#REF!=\"\", \"\",#REF!)","v":{"$error":"#REF!"}},{"$f":"IF(#REF!=\"\", \"\",#REF!)","v":{"$error":"#REF!"}},{"$f":"IF(#REF!=\"\", \"\",#REF!)","v":{"$error":"#REF!"}},{"$f":"IF(#REF!=\"\", \"\",#REF!)","v":{"$error":"#REF!"}},{"$f":"IF(#REF!=\"\", \"\",#REF!)","v":{"$error":"#REF!"}},{"$f":"IF(#REF!=\"\", \"\",#REF!)","v":{"$error":"#REF!"}},{"$f":"IF(#REF!=\"\", \"\",#REF!)","v":{"$error":"#REF!"}},{"$f":"IF(#REF!=\"\", \"\",#REF!)","v":{"$error":"#REF!"}},{"$f":"IF(#REF!=\"\", \"\",#REF!)","v":{"$error":"#REF!"}},{"$f":"IF(#REF!=\"\", \"\",#REF!)","v":{"$error":"#REF!"}},{"$f":"IF(#REF!=\"\", \"\",#REF!)","v":{"$error":"#REF!"}},{"$f":"IF(#REF!=\"\", \"\",#REF!)","v":{"$error":"#REF!"}},{"$f":"IF(#REF!=\"\", \"\",#REF!)","v":{"$error":"#REF!"}},{"$f":"IF(#REF!=\"\", \"\",#REF!)","v":{"$error":"#REF!"}},{"$f":"IF(#REF!=\"\", \"\",#REF!)","v":{"$error":"#REF!"}},{"$f":"IF(#REF!=\"\", \"\",#REF!)","v":{"$error":"#REF!"}},{"$f":"IF(#REF!=\"\", \"\",#REF!)","v":{"$error":"#REF!"}},{"$f":"IF(#REF!=\"\", \"\",#REF!)","v":{"$error":"#REF!"}},{"$f":"IF(#REF!=\"\", \"\",#REF!)","v":{"$error":"#REF!"}},{"$f":"IF(#REF!=\"\", \"\",#REF!)","v":{"$error":"#REF!"}},{"$f":"IF(#REF!=\"\", \"\",#REF!)","v":{"$error":"#REF!"}},{"$f":"IF(#REF!=\"\", \"\",#REF!)","v":{"$error":"#REF!"}},{"$f":"IF(#REF!=\"\", \"\",#REF!)","v":{"$error":"#REF!"}},{"$f":"IF(#REF!=\"\", \"\",#REF!)","v":{"$error":"#REF!"}},{"$f":"IF(#REF!=\"\", \"\",#REF!)","v":{"$error":"#REF!"}},{"$f":"IF(#REF!=\"\", \"\",#REF!)","v":{"$error":"#REF!"}},{"$f":"IF(#REF!=\"\", \"\",#REF!)","v":{"$error":"#REF!"}},{"$f":"IF(#REF!=\"\", \"\",#REF!)","v":{"$error":"#REF!"}},{"$f":"IF(#REF!=\"\", \"\",#REF!)","v":{"$error":"#REF!"}},{"$f":"IF(#REF!=\"\", \"\",#REF!)","v":{"$error":"#REF!"}},{"$f":"IF(#REF!=\"\", \"\",#REF!)","v":{"$error":"#REF!"}},{"$f":"IF(#REF!=\"\", \"\",#REF!)","v":{"$error":"#REF!"}},{"$f":"IF(#REF!=\"\", \"\",#REF!)","v":{"$error":"#REF!"}},{"$f":"IF(#REF!=\"\", \"\",#REF!)","v":{"$error":"#REF!"}},{"$f":"IF(#REF!=\"\", \"\",#REF!)","v":{"$error":"#REF!"}},{"$f":"IF(#REF!=\"\", \"\",#REF!)","v":{"$error":"#REF!"}},{"$f":"IF(#REF!=\"\", \"\",#REF!)","v":{"$error":"#REF!"}},{"$f":"IF(#REF!=\"\", \"\",#REF!)","v":{"$error":"#REF!"}},{"$f":"IF(#REF!=\"\", \"\",#REF!)","v":{"$error":"#REF!"}},{"$f":"IF(#REF!=\"\", \"\",#REF!)","v":{"$error":"#REF!"}},{"$f":"IF(#REF!=\"\", \"\",#REF!)","v":{"$error":"#REF!"}},{"$f":"IF(#REF!=\"\", \"\",#REF!)","v":{"$error":"#REF!"}},{"$f":"IF(#REF!=\"\", \"\",#REF!)","v":{"$error":"#REF!"}},{"$f":"IF(#REF!=\"\", \"\",#REF!)","v":{"$error":"#REF!"}},{"$f":"IF(#REF!=\"\", \"\",#REF!)","v":{"$error":"#REF!"}},{"$f":"IF(#REF!=\"\", \"\",#REF!)","v":{"$error":"#REF!"}},{"$f":"IF(#REF!=\"\", \"\",#REF!)","v":{"$error":"#REF!"}},{"$f":"IF(#REF!=\"\", \"\",#REF!)","v":{"$error":"#REF!"}}]
["Item 24",{"$f":"IF(#REF!=\"\", \"\",#REF!)","v":{"$error":"#REF!"}},{"$f":"IF(#REF!=\"\", \"\",#REF!)","v":{"$error":"#REF!"}},{"$f":"IF(#REF!=\"\", \"\",#REF!)","v":{"$error":"#REF!"}},{"$f":"IF(#REF!=\"\", \"\",#REF!)","v":{"$error":"#REF!"}},{"$f":"IF(#REF!=\"\", \"\",#REF!)","v":{"$error":"#REF!"}},{"$f":"IF(#REF!=\"\", \"\",#REF!)","v":{"$error":"#REF!"}},{"$f":"IF(#REF!=\"\", \"\",#REF!)","v":{"$error":"#REF!"}},{"$f":"IF(#REF!=\"\", \"\",#REF!)","v":{"$error":"#REF!"}},{"$f":"IF(#REF!=\"\", \"\",#REF!)","v":{"$error":"#REF!"}},{"$f":"IF(#REF!=\"\", \"\",#REF!)","v":{"$error":"#REF!"}},{"$f":"IF(#REF!=\"\", \"\",#REF!)","v":{"$error":"#REF!"}},{"$f":"IF(#REF!=\"\", \"\",#REF!)","v":{"$error":"#REF!"}},{"$f":"IF(#REF!=\"\", \"\",#REF!)","v":{"$error":"#REF!"}},{"$f":"IF(#REF!=\"\", \"\",#REF!)","v":{"$error":"#REF!"}},{"$f":"IF(#REF!=\"\", \"\",#REF!)","v":{"$error":"#REF!"}},{"$f":"IF(#REF!=\"\", \"\",#REF!)","v":{"$error":"#REF!"}},{"$f":"IF(#REF!=\"\", \"\",#REF!)","v":{"$error":"#REF!"}},{"$f":"IF(#REF!=\"\", \"\",#REF!)","v":{"$error":"#REF!"}},{"$f":"IF(#REF!=\"\", \"\",#REF!)","v":{"$error":"#REF!"}},{"$f":"IF(#REF!=\"\", \"\",#REF!)","v":{"$error":"#REF!"}},{"$f":"IF(#REF!=\"\", \"\",#REF!)","v":{"$error":"#REF!"}},{"$f":"IF(#REF!=\"\", \"\",#REF!)","v":{"$error":"#REF!"}},{"$f":"IF(#REF!=\"\", \"\",#REF!)","v":{"$error":"#REF!"}},{"$f":"IF(#REF!=\"\", \"\",#REF!)","v":{"$error":"#REF!"}},{"$f":"IF(#REF!=\"\", \"\",#REF!)","v":{"$error":"#REF!"}},{"$f":"IF(#REF!=\"\", \"\",#REF!)","v":{"$error":"#REF!"}},{"$f":"IF(#REF!=\"\", \"\",#REF!)","v":{"$error":"#REF!"}},{"$f":"IF(#REF!=\"\", \"\",#REF!)","v":{"$error":"#REF!"}},{"$f":"IF(#REF!=\"\", \"\",#REF!)","v":{"$error":"#REF!"}},{"$f":"IF(#REF!=\"\", \"\",#REF!)","v":{"$error":"#REF!"}},{"$f":"IF(#REF!=\"\", \"\",#REF!)","v":{"$error":"#REF!"}},{"$f":"IF(#REF!=\"\", \"\",#REF!)","v":{"$error":"#REF!"}},{"$f":"IF(#REF!=\"\", \"\",#REF!)","v":{"$error":"#REF!"}},{"$f":"IF(#REF!=\"\", \"\",#REF!)","v":{"$error":"#REF!"}},{"$f":"IF(#REF!=\"\", \"\",#REF!)","v":{"$error":"#REF!"}},{"$f":"IF(#REF!=\"\", \"\",#REF!)","v":{"$error":"#REF!"}},{"$f":"IF(#REF!=\"\", \"\",#REF!)","v":{"$error":"#REF!"}},{"$f":"IF(#REF!=\"\", \"\",#REF!)","v":{"$error":"#REF!"}},{"$f":"IF(#REF!=\"\", \"\",#REF!)","v":{"$error":"#REF!"}},{"$f":"IF(#REF!=\"\", \"\",#REF!)","v":{"$error":"#REF!"}},{"$f":"IF(#REF!=\"\", \"\",#REF!)","v":{"$error":"#REF!"}},{"$f":"IF(#REF!=\"\", \"\",#REF!)","v":{"$error":"#REF!"}},{"$f":"IF(#REF!=\"\", \"\",#REF!)","v":{"$error":"#REF!"}},{"$f":"IF(#REF!=\"\", \"\",#REF!)","v":{"$error":"#REF!"}},{"$f":"IF(#REF!=\"\", \"\",#REF!)","v":{"$error":"#REF!"}},{"$f":"IF(#REF!=\"\", \"\",#REF!)","v":{"$error":"#REF!"}},{"$f":"IF(#REF!=\"\", \"\",#REF!)","v":{"$error":"#REF!"}},{"$f":"IF(#REF!=\"\", \"\",#REF!)","v":{"$error":"#REF!"}},{"$f":"IF(#REF!=\"\", \"\",#REF!)","v":{"$error":"#REF!"}},{"$f":"IF(#REF!=\"\", \"\",#REF!)","v":{"$error":"#REF!"}},{"$f":"IF(#REF!=\"\", \"\",#REF!)","v":{"$error":"#REF!"}},{"$f":"IF(#REF!=\"\", \"\",#REF!)","v":{"$error":"#REF!"}},{"$f":"IF(#REF!=\"\", \"\",#REF!)","v":{"$error":"#REF!"}},{"$f":"IF(#REF!=\"\", \"\",#REF!)","v":{"$error":"#REF!"}},{"$f":"IF(#REF!=\"\", \"\",#REF!)","v":{"$error":"#REF!"}},{"$f":"IF(#REF!=\"\", \"\",#REF!)","v":{"$error":"#REF!"}},{"$f":"IF(#REF!=\"\", \"\",#REF!)","v":{"$error":"#REF!"}},{"$f":"IF(#REF!=\"\", \"\",#REF!)","v":{"$error":"#REF!"}},{"$f":"IF(#REF!=\"\", \"\",#REF!)","v":{"$error":"#REF!"}},{"$f":"IF(#REF!=\"\", \"\",#REF!)","v":{"$error":"#REF!"}},{"$f":"IF(#REF!=\"\", \"\",#REF!)","v":{"$error":"#REF!"}}]
["Item 25",{"$f":"IF(#REF!=\"\", \"\",#REF!)","v":{"$error":"#REF!"}},{"$f":"IF(#REF!=\"\", \"\",#REF!)","v":{"$error":"#REF!"}},{"$f":"IF(#REF!=\"\", \"\",#REF!)","v":{"$error":"#REF!"}},{"$f":"IF(#REF!=\"\", \"\",#REF!)","v":{"$error":"#REF!"}},{"$f":"IF(#REF!=\"\", \"\",#REF!)","v":{"$error":"#REF!"}},{"$f":"IF(#REF!=\"\", \"\",#REF!)","v":{"$error":"#REF!"}},{"$f":"IF(#REF!=\"\", \"\",#REF!)","v":{"$error":"#REF!"}},{"$f":"IF(#REF!=\"\", \"\",#REF!)","v":{"$error":"#REF!"}},{"$f":"IF(#REF!=\"\", \"\",#REF!)","v":{"$error":"#REF!"}},{"$f":"IF(#REF!=\"\", \"\",#REF!)","v":{"$error":"#REF!"}},{"$f":"IF(#REF!=\"\", \"\",#REF!)","v":{"$error":"#REF!"}},{"$f":"IF(#REF!=\"\", \"\",#REF!)","v":{"$error":"#REF!"}},{"$f":"IF(#REF!=\"\", \"\",#REF!)","v":{"$error":"#REF!"}},{"$f":"IF(#REF!=\"\", \"\",#REF!)","v":{"$error":"#REF!"}},{"$f":"IF(#REF!=\"\", \"\",#REF!)","v":{"$error":"#REF!"}},{"$f":"IF(#REF!=\"\", \"\",#REF!)","v":{"$error":"#REF!"}},{"$f":"IF(#REF!=\"\", \"\",#REF!)","v":{"$error":"#REF!"}},{"$f":"IF(#REF!=\"\", \"\",#REF!)","v":{"$error":"#REF!"}},{"$f":"IF(#REF!=\"\", \"\",#REF!)","v":{"$error":"#REF!"}},{"$f":"IF(#REF!=\"\", \"\",#REF!)","v":{"$error":"#REF!"}},{"$f":"IF(#REF!=\"\", \"\",#REF!)","v":{"$error":"#REF!"}},{"$f":"IF(#REF!=\"\", \"\",#REF!)","v":{"$error":"#REF!"}},{"$f":"IF(#REF!=\"\", \"\",#REF!)","v":{"$error":"#REF!"}},{"$f":"IF(#REF!=\"\", \"\",#REF!)","v":{"$error":"#REF!"}},{"$f":"IF(#REF!=\"\", \"\",#REF!)","v":{"$error":"#REF!"}},{"$f":"IF(#REF!=\"\", \"\",#REF!)","v":{"$error":"#REF!"}},{"$f":"IF(#REF!=\"\", \"\",#REF!)","v":{"$error":"#REF!"}},{"$f":"IF(#REF!=\"\", \"\",#REF!)","v":{"$error":"#REF!"}},{"$f":"IF(#REF!=\"\", \"\",#REF!)","v":{"$error":"#REF!"}},{"$f":"IF(#REF!=\"\", \"\",#REF!)","v":{"$error":"#REF!"}},{"$f":"IF(#REF!=\"\", \"\",#REF!)","v":{"$error":"#REF!"}},{"$f":"IF(#REF!=\"\", \"\",#REF!)","v":{"$error":"#REF!"}},{"$f":"IF(#REF!=\"\", \"\",#REF!)","v":{"$error":"#REF!"}},{"$f":"IF(#REF!=\"\", \"\",#REF!)","v":{"$error":"#REF!"}},{"$f":"IF(#REF!=\"\", \"\",#REF!)","v":{"$error":"#REF!"}},{"$f":"IF(#REF!=\"\", \"\",#REF!)","v":{"$error":"#REF!"}},{"$f":"IF(#REF!=\"\", \"\",#REF!)","v":{"$error":"#REF!"}},{"$f":"IF(#REF!=\"\", \"\",#REF!)","v":{"$error":"#REF!"}},{"$f":"IF(#REF!=\"\", \"\",#REF!)","v":{"$error":"#REF!"}},{"$f":"IF(#REF!=\"\", \"\",#REF!)","v":{"$error":"#REF!"}},{"$f":"IF(#REF!=\"\", \"\",#REF!)","v":{"$error":"#REF!"}},{"$f":"IF(#REF!=\"\", \"\",#REF!)","v":{"$error":"#REF!"}},{"$f":"IF(#REF!=\"\", \"\",#REF!)","v":{"$error":"#REF!"}},{"$f":"IF(#REF!=\"\", \"\",#REF!)","v":{"$error":"#REF!"}},{"$f":"IF(#REF!=\"\", \"\",#REF!)","v":{"$error":"#REF!"}},{"$f":"IF(#REF!=\"\", \"\",#REF!)","v":{"$error":"#REF!"}},{"$f":"IF(#REF!=\"\", \"\",#REF!)","v":{"$error":"#REF!"}},{"$f":"IF(#REF!=\"\", \"\",#REF!)","v":{"$error":"#REF!"}},{"$f":"IF(#REF!=\"\", \"\",#REF!)","v":{"$error":"#REF!"}},{"$f":"IF(#REF!=\"\", \"\",#REF!)","v":{"$error":"#REF!"}},{"$f":"IF(#REF!=\"\", \"\",#REF!)","v":{"$error":"#REF!"}},{"$f":"IF(#REF!=\"\", \"\",#REF!)","v":{"$error":"#REF!"}},{"$f":"IF(#REF!=\"\", \"\",#REF!)","v":{"$error":"#REF!"}},{"$f":"IF(#REF!=\"\", \"\",#REF!)","v":{"$error":"#REF!"}},{"$f":"IF(#REF!=\"\", \"\",#REF!)","v":{"$error":"#REF!"}},{"$f":"IF(#REF!=\"\", \"\",#REF!)","v":{"$error":"#REF!"}},{"$f":"IF(#REF!=\"\", \"\",#REF!)","v":{"$error":"#REF!"}},{"$f":"IF(#REF!=\"\", \"\",#REF!)","v":{"$error":"#REF!"}},{"$f":"IF(#REF!=\"\", \"\",#REF!)","v":{"$error":"#REF!"}},{"$f":"IF(#REF!=\"\", \"\",#REF!)","v":{"$error":"#REF!"}},{"$f":"IF(#REF!=\"\", \"\",#REF!)","v":{"$error":"#REF!"}}]
["Item 26",{"$f":"IF(#REF!=\"\", \"\",#REF!)","v":{"$error":"#REF!"}},{"$f":"IF(#REF!=\"\", \"\",#REF!)","v":{"$error":"#REF!"}},{"$f":"IF(#REF!=\"\", \"\",#REF!)","v":{"$error":"#REF!"}},{"$f":"IF(#REF!=\"\", \"\",#REF!)","v":{"$error":"#REF!"}},{"$f":"IF(#REF!=\"\", \"\",#REF!)","v":{"$error":"#REF!"}},{"$f":"IF(#REF!=\"\", \"\",#REF!)","v":{"$error":"#REF!"}},{"$f":"IF(#REF!=\"\", \"\",#REF!)","v":{"$error":"#REF!"}},{"$f":"IF(#REF!=\"\", \"\",#REF!)","v":{"$error":"#REF!"}},{"$f":"IF(#REF!=\"\", \"\",#REF!)","v":{"$error":"#REF!"}},{"$f":"IF(#REF!=\"\", \"\",#REF!)","v":{"$error":"#REF!"}},{"$f":"IF(#REF!=\"\", \"\",#REF!)","v":{"$error":"#REF!"}},{"$f":"IF(#REF!=\"\", \"\",#REF!)","v":{"$error":"#REF!"}},{"$f":"IF(#REF!=\"\", \"\",#REF!)","v":{"$error":"#REF!"}},{"$f":"IF(#REF!=\"\", \"\",#REF!)","v":{"$error":"#REF!"}},{"$f":"IF(#REF!=\"\", \"\",#REF!)","v":{"$error":"#REF!"}},{"$f":"IF(#REF!=\"\", \"\",#REF!)","v":{"$error":"#REF!"}},{"$f":"IF(#REF!=\"\", \"\",#REF!)","v":{"$error":"#REF!"}},{"$f":"IF(#REF!=\"\", \"\",#REF!)","v":{"$error":"#REF!"}},{"$f":"IF(#REF!=\"\", \"\",#REF!)","v":{"$error":"#REF!"}},{"$f":"IF(#REF!=\"\", \"\",#REF!)","v":{"$error":"#REF!"}},{"$f":"IF(#REF!=\"\", \"\",#REF!)","v":{"$error":"#REF!"}},{"$f":"IF(#REF!=\"\", \"\",#REF!)","v":{"$error":"#REF!"}},{"$f":"IF(#REF!=\"\", \"\",#REF!)","v":{"$error":"#REF!"}},{"$f":"IF(#REF!=\"\", \"\",#REF!)","v":{"$error":"#REF!"}},{"$f":"IF(#REF!=\"\", \"\",#REF!)","v":{"$error":"#REF!"}},{"$f":"IF(#REF!=\"\", \"\",#REF!)","v":{"$error":"#REF!"}},{"$f":"IF(#REF!=\"\", \"\",#REF!)","v":{"$error":"#REF!"}},{"$f":"IF(#REF!=\"\", \"\",#REF!)","v":{"$error":"#REF!"}},{"$f":"IF(#REF!=\"\", \"\",#REF!)","v":{"$error":"#REF!"}},{"$f":"IF(#REF!=\"\", \"\",#REF!)","v":{"$error":"#REF!"}},{"$f":"IF(#REF!=\"\", \"\",#REF!)","v":{"$error":"#REF!"}},{"$f":"IF(#REF!=\"\", \"\",#REF!)","v":{"$error":"#REF!"}},{"$f":"IF(#REF!=\"\", \"\",#REF!)","v":{"$error":"#REF!"}},{"$f":"IF(#REF!=\"\", \"\",#REF!)","v":{"$error":"#REF!"}},{"$f":"IF(#REF!=\"\", \"\",#REF!)","v":{"$error":"#REF!"}},{"$f":"IF(#REF!=\"\", \"\",#REF!)","v":{"$error":"#REF!"}},{"$f":"IF(#REF!=\"\", \"\",#REF!)","v":{"$error":"#REF!"}},{"$f":"IF(#REF!=\"\", \"\",#REF!)","v":{"$error":"#REF!"}},{"$f":"IF(#REF!=\"\", \"\",#REF!)","v":{"$error":"#REF!"}},{"$f":"IF(#REF!=\"\", \"\",#REF!)","v":{"$error":"#REF!"}},{"$f":"IF(#REF!=\"\", \"\",#REF!)","v":{"$error":"#REF!"}},{"$f":"IF(#REF!=\"\", \"\",#REF!)","v":{"$error":"#REF!"}},{"$f":"IF(#REF!=\"\", \"\",#REF!)","v":{"$error":"#REF!"}},{"$f":"IF(#REF!=\"\", \"\",#REF!)","v":{"$error":"#REF!"}},{"$f":"IF(#REF!=\"\", \"\",#REF!)","v":{"$error":"#REF!"}},{"$f":"IF(#REF!=\"\", \"\",#REF!)","v":{"$error":"#REF!"}},{"$f":"IF(#REF!=\"\", \"\",#REF!)","v":{"$error":"#REF!"}},{"$f":"IF(#REF!=\"\", \"\",#REF!)","v":{"$error":"#REF!"}},{"$f":"IF(#REF!=\"\", \"\",#REF!)","v":{"$error":"#REF!"}},{"$f":"IF(#REF!=\"\", \"\",#REF!)","v":{"$error":"#REF!"}},{"$f":"IF(#REF!=\"\", \"\",#REF!)","v":{"$error":"#REF!"}},{"$f":"IF(#REF!=\"\", \"\",#REF!)","v":{"$error":"#REF!"}},{"$f":"IF(#REF!=\"\", \"\",#REF!)","v":{"$error":"#REF!"}},{"$f":"IF(#REF!=\"\", \"\",#REF!)","v":{"$error":"#REF!"}},{"$f":"IF(#REF!=\"\", \"\",#REF!)","v":{"$error":"#REF!"}},{"$f":"IF(#REF!=\"\", \"\",#REF!)","v":{"$error":"#REF!"}},{"$f":"IF(#REF!=\"\", \"\",#REF!)","v":{"$error":"#REF!"}},{"$f":"IF(#REF!=\"\", \"\",#REF!)","v":{"$error":"#REF!"}},{"$f":"IF(#REF!=\"\", \"\",#REF!)","v":{"$error":"#REF!"}},{"$f":"IF(#REF!=\"\", \"\",#REF!)","v":{"$error":"#REF!"}},{"$f":"IF(#REF!=\"\", \"\",#REF!)","v":{"$error":"#REF!"}}]
["Item 27",{"$f":"IF(#REF!=\"\", \"\",#REF!)","v":{"$error":"#REF!"}},{"$f":"IF(#REF!=\"\", \"\",#REF!)","v":{"$error":"#REF!"}},{"$f":"IF(#REF!=\"\", \"\",#REF!)","v":{"$error":"#REF!"}},{"$f":"IF(#REF!=\"\", \"\",#REF!)","v":{"$error":"#REF!"}},{"$f":"IF(#REF!=\"\", \"\",#REF!)","v":{"$error":"#REF!"}},{"$f":"IF(#REF!=\"\", \"\",#REF!)","v":{"$error":"#REF!"}},{"$f":"IF(#REF!=\"\", \"\",#REF!)","v":{"$error":"#REF!"}},{"$f":"IF(#REF!=\"\", \"\",#REF!)","v":{"$error":"#REF!"}},{"$f":"IF(#REF!=\"\", \"\",#REF!)","v":{"$error":"#REF!"}},{"$f":"IF(#REF!=\"\", \"\",#REF!)","v":{"$error":"#REF!"}},{"$f":"IF(#REF!=\"\", \"\",#REF!)","v":{"$error":"#REF!"}},{"$f":"IF(#REF!=\"\", \"\",#REF!)","v":{"$error":"#REF!"}},{"$f":"IF(#REF!=\"\", \"\",#REF!)","v":{"$error":"#REF!"}},{"$f":"IF(#REF!=\"\", \"\",#REF!)","v":{"$error":"#REF!"}},{"$f":"IF(#REF!=\"\", \"\",#REF!)","v":{"$error":"#REF!"}},{"$f":"IF(#REF!=\"\", \"\",#REF!)","v":{"$error":"#REF!"}},{"$f":"IF(#REF!=\"\", \"\",#REF!)","v":{"$error":"#REF!"}},{"$f":"IF(#REF!=\"\", \"\",#REF!)","v":{"$error":"#REF!"}},{"$f":"IF(#REF!=\"\", \"\",#REF!)","v":{"$error":"#REF!"}},{"$f":"IF(#REF!=\"\", \"\",#REF!)","v":{"$error":"#REF!"}},{"$f":"IF(#REF!=\"\", \"\",#REF!)","v":{"$error":"#REF!"}},{"$f":"IF(#REF!=\"\", \"\",#REF!)","v":{"$error":"#REF!"}},{"$f":"IF(#REF!=\"\", \"\",#REF!)","v":{"$error":"#REF!"}},{"$f":"IF(#REF!=\"\", \"\",#REF!)","v":{"$error":"#REF!"}},{"$f":"IF(#REF!=\"\", \"\",#REF!)","v":{"$error":"#REF!"}},{"$f":"IF(#REF!=\"\", \"\",#REF!)","v":{"$error":"#REF!"}},{"$f":"IF(#REF!=\"\", \"\",#REF!)","v":{"$error":"#REF!"}},{"$f":"IF(#REF!=\"\", \"\",#REF!)","v":{"$error":"#REF!"}},{"$f":"IF(#REF!=\"\", \"\",#REF!)","v":{"$error":"#REF!"}},{"$f":"IF(#REF!=\"\", \"\",#REF!)","v":{"$error":"#REF!"}},{"$f":"IF(#REF!=\"\", \"\",#REF!)","v":{"$error":"#REF!"}},{"$f":"IF(#REF!=\"\", \"\",#REF!)","v":{"$error":"#REF!"}},{"$f":"IF(#REF!=\"\", \"\",#REF!)","v":{"$error":"#REF!"}},{"$f":"IF(#REF!=\"\", \"\",#REF!)","v":{"$error":"#REF!"}},{"$f":"IF(#REF!=\"\", \"\",#REF!)","v":{"$error":"#REF!"}},{"$f":"IF(#REF!=\"\", \"\",#REF!)","v":{"$error":"#REF!"}},{"$f":"IF(#REF!=\"\", \"\",#REF!)","v":{"$error":"#REF!"}},{"$f":"IF(#REF!=\"\", \"\",#REF!)","v":{"$error":"#REF!"}},{"$f":"IF(#REF!=\"\", \"\",#REF!)","v":{"$error":"#REF!"}},{"$f":"IF(#REF!=\"\", \"\",#REF!)","v":{"$error":"#REF!"}},{"$f":"IF(#REF!=\"\", \"\",#REF!)","v":{"$error":"#REF!"}},{"$f":"IF(#REF!=\"\", \"\",#REF!)","v":{"$error":"#REF!"}},{"$f":"IF(#REF!=\"\", \"\",#REF!)","v":{"$error":"#REF!"}},{"$f":"IF(#REF!=\"\", \"\",#REF!)","v":{"$error":"#REF!"}},{"$f":"IF(#REF!=\"\", \"\",#REF!)","v":{"$error":"#REF!"}},{"$f":"IF(#REF!=\"\", \"\",#REF!)","v":{"$error":"#REF!"}},{"$f":"IF(#REF!=\"\", \"\",#REF!)","v":{"$error":"#REF!"}},{"$f":"IF(#REF!=\"\", \"\",#REF!)","v":{"$error":"#REF!"}},{"$f":"IF(#REF!=\"\", \"\",#REF!)","v":{"$error":"#REF!"}},{"$f":"IF(#REF!=\"\", \"\",#REF!)","v":{"$error":"#REF!"}},{"$f":"IF(#REF!=\"\", \"\",#REF!)","v":{"$error":"#REF!"}},{"$f":"IF(#REF!=\"\", \"\",#REF!)","v":{"$error":"#REF!"}},{"$f":"IF(#REF!=\"\", \"\",#REF!)","v":{"$error":"#REF!"}},{"$f":"IF(#REF!=\"\", \"\",#REF!)","v":{"$error":"#REF!"}},{"$f":"IF(#REF!=\"\", \"\",#REF!)","v":{"$error":"#REF!"}},{"$f":"IF(#REF!=\"\", \"\",#REF!)","v":{"$error":"#REF!"}},{"$f":"IF(#REF!=\"\", \"\",#REF!)","v":{"$error":"#REF!"}},{"$f":"IF(#REF!=\"\", \"\",#REF!)","v":{"$error":"#REF!"}},{"$f":"IF(#REF!=\"\", \"\",#REF!)","v":{"$error":"#REF!"}},{"$f":"IF(#REF!=\"\", \"\",#REF!)","v":{"$error":"#REF!"}},{"$f":"IF(#REF!=\"\", \"\",#REF!)","v":{"$error":"#REF!"}}]
["Zusatzitem 1",{"$f":"IF(#REF!=\"\", \"\",#REF!)","v":{"$error":"#REF!"}},{"$f":"IF(#REF!=\"\", \"\",#REF!)","v":{"$error":"#REF!"}},{"$f":"IF(#REF!=\"\", \"\",#REF!)","v":{"$error":"#REF!"}},{"$f":"IF(#REF!=\"\", \"\",#REF!)","v":{"$error":"#REF!"}},{"$f":"IF(#REF!=\"\", \"\",#REF!)","v":{"$error":"#REF!"}},{"$f":"IF(#REF!=\"\", \"\",#REF!)","v":{"$error":"#REF!"}},{"$f":"IF(#REF!=\"\", \"\",#REF!)","v":{"$error":"#REF!"}},{"$f":"IF(#REF!=\"\", \"\",#REF!)","v":{"$error":"#REF!"}},{"$f":"IF(#REF!=\"\", \"\",#REF!)","v":{"$error":"#REF!"}},{"$f":"IF(#REF!=\"\", \"\",#REF!)","v":{"$error":"#REF!"}},{"$f":"IF(#REF!=\"\", \"\",#REF!)","v":{"$error":"#REF!"}},{"$f":"IF(#REF!=\"\", \"\",#REF!)","v":{"$error":"#REF!"}},{"$f":"IF(#REF!=\"\", \"\",#REF!)","v":{"$error":"#REF!"}},{"$f":"IF(#REF!=\"\", \"\",#REF!)","v":{"$error":"#REF!"}},{"$f":"IF(#REF!=\"\", \"\",#REF!)","v":{"$error":"#REF!"}},{"$f":"IF(#REF!=\"\", \"\",#REF!)","v":{"$error":"#REF!"}},{"$f":"IF(#REF!=\"\", \"\",#REF!)","v":{"$error":"#REF!"}},{"$f":"IF(#REF!=\"\", \"\",#REF!)","v":{"$error":"#REF!"}},{"$f":"IF(#REF!=\"\", \"\",#REF!)","v":{"$error":"#REF!"}},{"$f":"IF(#REF!=\"\", \"\",#REF!)","v":{"$error":"#REF!"}},{"$f":"IF(#REF!=\"\", \"\",#REF!)","v":{"$error":"#REF!"}},{"$f":"IF(#REF!=\"\", \"\",#REF!)","v":{"$error":"#REF!"}},{"$f":"IF(#REF!=\"\", \"\",#REF!)","v":{"$error":"#REF!"}},{"$f":"IF(#REF!=\"\", \"\",#REF!)","v":{"$error":"#REF!"}},{"$f":"IF(#REF!=\"\", \"\",#REF!)","v":{"$error":"#REF!"}},{"$f":"IF(#REF!=\"\", \"\",#REF!)","v":{"$error":"#REF!"}},{"$f":"IF(#REF!=\"\", \"\",#REF!)","v":{"$error":"#REF!"}},{"$f":"IF(#REF!=\"\", \"\",#REF!)","v":{"$error":"#REF!"}},{"$f":"IF(#REF!=\"\", \"\",#REF!)","v":{"$error":"#REF!"}},{"$f":"IF(#REF!=\"\", \"\",#REF!)","v":{"$error":"#REF!"}},{"$f":"IF(#REF!=\"\", \"\",#REF!)","v":{"$error":"#REF!"}},{"$f":"IF(#REF!=\"\", \"\",#REF!)","v":{"$error":"#REF!"}},{"$f":"IF(#REF!=\"\", \"\",#REF!)","v":{"$error":"#REF!"}},{"$f":"IF(#REF!=\"\", \"\",#REF!)","v":{"$error":"#REF!"}},{"$f":"IF(#REF!=\"\", \"\",#REF!)","v":{"$error":"#REF!"}},{"$f":"IF(#REF!=\"\", \"\",#REF!)","v":{"$error":"#REF!"}},{"$f":"IF(#REF!=\"\", \"\",#REF!)","v":{"$error":"#REF!"}},{"$f":"IF(#REF!=\"\", \"\",#REF!)","v":{"$error":"#REF!"}},{"$f":"IF(#REF!=\"\", \"\",#REF!)","v":{"$error":"#REF!"}},{"$f":"IF(#REF!=\"\", \"\",#REF!)","v":{"$error":"#REF!"}},{"$f":"IF(#REF!=\"\", \"\",#REF!)","v":{"$error":"#REF!"}},{"$f":"IF(#REF!=\"\", \"\",#REF!)","v":{"$error":"#REF!"}},{"$f":"IF(#REF!=\"\", \"\",#REF!)","v":{"$error":"#REF!"}},{"$f":"IF(#REF!=\"\", \"\",#REF!)","v":{"$error":"#REF!"}},{"$f":"IF(#REF!=\"\", \"\",#REF!)","v":{"$error":"#REF!"}},{"$f":"IF(#REF!=\"\", \"\",#REF!)","v":{"$error":"#REF!"}},{"$f":"IF(#REF!=\"\", \"\",#REF!)","v":{"$error":"#REF!"}},{"$f":"IF(#REF!=\"\", \"\",#REF!)","v":{"$error":"#REF!"}},{"$f":"IF(#REF!=\"\", \"\",#REF!)","v":{"$error":"#REF!"}},{"$f":"IF(#REF!=\"\", \"\",#REF!)","v":{"$error":"#REF!"}},{"$f":"IF(#REF!=\"\", \"\",#REF!)","v":{"$error":"#REF!"}},{"$f":"IF(#REF!=\"\", \"\",#REF!)","v":{"$error":"#REF!"}},{"$f":"IF(#REF!=\"\", \"\",#REF!)","v":{"$error":"#REF!"}},{"$f":"IF(#REF!=\"\", \"\",#REF!)","v":{"$error":"#REF!"}},{"$f":"IF(#REF!=\"\", \"\",#REF!)","v":{"$error":"#REF!"}},{"$f":"IF(#REF!=\"\", \"\",#REF!)","v":{"$error":"#REF!"}},{"$f":"IF(#REF!=\"\", \"\",#REF!)","v":{"$error":"#REF!"}},{"$f":"IF(#REF!=\"\", \"\",#REF!)","v":{"$error":"#REF!"}},{"$f":"IF(#REF!=\"\", \"\",#REF!)","v":{"$error":"#REF!"}},{"$f":"IF(#REF!=\"\", \"\",#REF!)","v":{"$error":"#REF!"}},{"$f":"IF(#REF!=\"\", \"\",#REF!)","v":{"$error":"#REF!"}}]
["Zusatzitem 2",{"$f":"IF(#REF!=\"\", \"\",#REF!)","v":{"$error":"#REF!"}},{"$f":"IF(#REF!=\"\", \"\",#REF!)","v":{"$error":"#REF!"}},{"$f":"IF(#REF!=\"\", \"\",#REF!)","v":{"$error":"#REF!"}},{"$f":"IF(#REF!=\"\", \"\",#REF!)","v":{"$error":"#REF!"}},{"$f":"IF(#REF!=\"\", \"\",#REF!)","v":{"$error":"#REF!"}},{"$f":"IF(#REF!=\"\", \"\",#REF!)","v":{"$error":"#REF!"}},{"$f":"IF(#REF!=\"\", \"\",#REF!)","v":{"$error":"#REF!"}},{"$f":"IF(#REF!=\"\", \"\",#REF!)","v":{"$error":"#REF!"}},{"$f":"IF(#REF!=\"\", \"\",#REF!)","v":{"$error":"#REF!"}},{"$f":"IF(#REF!=\"\", \"\",#REF!)","v":{"$error":"#REF!"}},{"$f":"IF(#REF!=\"\", \"\",#REF!)","v":{"$error":"#REF!"}},{"$f":"IF(#REF!=\"\", \"\",#REF!)","v":{"$error":"#REF!"}},{"$f":"IF(#REF!=\"\", \"\",#REF!)","v":{"$error":"#REF!"}},{"$f":"IF(#REF!=\"\", \"\",#REF!)","v":{"$error":"#REF!"}},{"$f":"IF(#REF!=\"\", \"\",#REF!)","v":{"$error":"#REF!"}},{"$f":"IF(#REF!=\"\", \"\",#REF!)","v":{"$error":"#REF!"}},{"$f":"IF(#REF!=\"\", \"\",#REF!)","v":{"$error":"#REF!"}},{"$f":"IF(#REF!=\"\", \"\",#REF!)","v":{"$error":"#REF!"}},{"$f":"IF(#REF!=\"\", \"\",#REF!)","v":{"$error":"#REF!"}},{"$f":"IF(#REF!=\"\", \"\",#REF!)","v":{"$error":"#REF!"}},{"$f":"IF(#REF!=\"\", \"\",#REF!)","v":{"$error":"#REF!"}},{"$f":"IF(#REF!=\"\", \"\",#REF!)","v":{"$error":"#REF!"}},{"$f":"IF(#REF!=\"\", \"\",#REF!)","v":{"$error":"#REF!"}},{"$f":"IF(#REF!=\"\", \"\",#REF!)","v":{"$error":"#REF!"}},{"$f":"IF(#REF!=\"\", \"\",#REF!)","v":{"$error":"#REF!"}},{"$f":"IF(#REF!=\"\", \"\",#REF!)","v":{"$error":"#REF!"}},{"$f":"IF(#REF!=\"\", \"\",#REF!)","v":{"$error":"#REF!"}},{"$f":"IF(#REF!=\"\", \"\",#REF!)","v":{"$error":"#REF!"}},{"$f":"IF(#REF!=\"\", \"\",#REF!)","v":{"$error":"#REF!"}},{"$f":"IF(#REF!=\"\", \"\",#REF!)","v":{"$error":"#REF!"}},{"$f":"IF(#REF!=\"\", \"\",#REF!)","v":{"$error":"#REF!"}},{"$f":"IF(#REF!=\"\", \"\",#REF!)","v":{"$error":"#REF!"}},{"$f":"IF(#REF!=\"\", \"\",#REF!)","v":{"$error":"#REF!"}},{"$f":"IF(#REF!=\"\", \"\",#REF!)","v":{"$error":"#REF!"}},{"$f":"IF(#REF!=\"\", \"\",#REF!)","v":{"$error":"#REF!"}},{"$f":"IF(#REF!=\"\", \"\",#REF!)","v":{"$error":"#REF!"}},{"$f":"IF(#REF!=\"\", \"\",#REF!)","v":{"$error":"#REF!"}},{"$f":"IF(#REF!=\"\", \"\",#REF!)","v":{"$error":"#REF!"}},{"$f":"IF(#REF!=\"\", \"\",#REF!)","v":{"$error":"#REF!"}},{"$f":"IF(#REF!=\"\", \"\",#REF!)","v":{"$error":"#REF!"}},{"$f":"IF(#REF!=\"\", \"\",#REF!)","v":{"$error":"#REF!"}},{"$f":"IF(#REF!=\"\", \"\",#REF!)","v":{"$error":"#REF!"}},{"$f":"IF(#REF!=\"\", \"\",#REF!)","v":{"$error":"#REF!"}},{"$f":"IF(#REF!=\"\", \"\",#REF!)","v":{"$error":"#REF!"}},{"$f":"IF(#REF!=\"\", \"\",#REF!)","v":{"$error":"#REF!"}},{"$f":"IF(#REF!=\"\", \"\",#REF!)","v":{"$error":"#REF!"}},{"$f":"IF(#REF!=\"\", \"\",#REF!)","v":{"$error":"#REF!"}},{"$f":"IF(#REF!=\"\", \"\",#REF!)","v":{"$error":"#REF!"}},{"$f":"IF(#REF!=\"\", \"\",#REF!)","v":{"$error":"#REF!"}},{"$f":"IF(#REF!=\"\", \"\",#REF!)","v":{"$error":"#REF!"}},{"$f":"IF(#REF!=\"\", \"\",#REF!)","v":{"$error":"#REF!"}},{"$f":"IF(#REF!=\"\", \"\",#REF!)","v":{"$error":"#REF!"}},{"$f":"IF(#REF!=\"\", \"\",#REF!)","v":{"$error":"#REF!"}},{"$f":"IF(#REF!=\"\", \"\",#REF!)","v":{"$error":"#REF!"}},{"$f":"IF(#REF!=\"\", \"\",#REF!)","v":{"$error":"#REF!"}},{"$f":"IF(#REF!=\"\", \"\",#REF!)","v":{"$error":"#REF!"}},{"$f":"IF(#REF!=\"\", \"\",#REF!)","v":{"$error":"#REF!"}},{"$f":"IF(#REF!=\"\", \"\",#REF!)","v":{"$error":"#REF!"}},{"$f":"IF(#REF!=\"\", \"\",#REF!)","v":{"$error":"#REF!"}},{"$f":"IF(#REF!=\"\", \"\",#REF!)","v":{"$error":"#REF!"}},{"$f":"IF(#REF!=\"\", \"\",#REF!)","v":{"$error":"#REF!"}}]
["Zusatzitem 3",{"$f":"IF(#REF!=\"\", \"\",#REF!)","v":{"$error":"#REF!"}},{"$f":"IF(#REF!=\"\", \"\",#REF!)","v":{"$error":"#REF!"}},{"$f":"IF(#REF!=\"\", \"\",#REF!)","v":{"$error":"#REF!"}},{"$f":"IF(#REF!=\"\", \"\",#REF!)","v":{"$error":"#REF!"}},{"$f":"IF(#REF!=\"\", \"\",#REF!)","v":{"$error":"#REF!"}},{"$f":"IF(#REF!=\"\", \"\",#REF!)","v":{"$error":"#REF!"}},{"$f":"IF(#REF!=\"\", \"\",#REF!)","v":{"$error":"#REF!"}},{"$f":"IF(#REF!=\"\", \"\",#REF!)","v":{"$error":"#REF!"}},{"$f":"IF(#REF!=\"\", \"\",#REF!)","v":{"$error":"#REF!"}},{"$f":"IF(#REF!=\"\", \"\",#REF!)","v":{"$error":"#REF!"}},{"$f":"IF(#REF!=\"\", \"\",#REF!)","v":{"$error":"#REF!"}},{"$f":"IF(#REF!=\"\", \"\",#REF!)","v":{"$error":"#REF!"}},{"$f":"IF(#REF!=\"\", \"\",#REF!)","v":{"$error":"#REF!"}},{"$f":"IF(#REF!=\"\", \"\",#REF!)","v":{"$error":"#REF!"}},{"$f":"IF(#REF!=\"\", \"\",#REF!)","v":{"$error":"#REF!"}},{"$f":"IF(#REF!=\"\", \"\",#REF!)","v":{"$error":"#REF!"}},{"$f":"IF(#REF!=\"\", \"\",#REF!)","v":{"$error":"#REF!"}},{"$f":"IF(#REF!=\"\", \"\",#REF!)","v":{"$error":"#REF!"}},{"$f":"IF(#REF!=\"\", \"\",#REF!)","v":{"$error":"#REF!"}},{"$f":"IF(#REF!=\"\", \"\",#REF!)","v":{"$error":"#REF!"}},{"$f":"IF(#REF!=\"\", \"\",#REF!)","v":{"$error":"#REF!"}},{"$f":"IF(#REF!=\"\", \"\",#REF!)","v":{"$error":"#REF!"}},{"$f":"IF(#REF!=\"\", \"\",#REF!)","v":{"$error":"#REF!"}},{"$f":"IF(#REF!=\"\", \"\",#REF!)","v":{"$error":"#REF!"}},{"$f":"IF(#REF!=\"\", \"\",#REF!)","v":{"$error":"#REF!"}},{"$f":"IF(#REF!=\"\", \"\",#REF!)","v":{"$error":"#REF!"}},{"$f":"IF(#REF!=\"\", \"\",#REF!)","v":{"$error":"#REF!"}},{"$f":"IF(#REF!=\"\", \"\",#REF!)","v":{"$error":"#REF!"}},{"$f":"IF(#REF!=\"\", \"\",#REF!)","v":{"$error":"#REF!"}},{"$f":"IF(#REF!=\"\", \"\",#REF!)","v":{"$error":"#REF!"}},{"$f":"IF(#REF!=\"\", \"\",#REF!)","v":{"$error":"#REF!"}},{"$f":"IF(#REF!=\"\", \"\",#REF!)","v":{"$error":"#REF!"}},{"$f":"IF(#REF!=\"\", \"\",#REF!)","v":{"$error":"#REF!"}},{"$f":"IF(#REF!=\"\", \"\",#REF!)","v":{"$error":"#REF!"}},{"$f":"IF(#REF!=\"\", \"\",#REF!)","v":{"$error":"#REF!"}},{"$f":"IF(#REF!=\"\", \"\",#REF!)","v":{"$error":"#REF!"}},{"$f":"IF(#REF!=\"\", \"\",#REF!)","v":{"$error":"#REF!"}},{"$f":"IF(#REF!=\"\", \"\",#REF!)","v":{"$error":"#REF!"}},{"$f":"IF(#REF!=\"\", \"\",#REF!)","v":{"$error":"#REF!"}},{"$f":"IF(#REF!=\"\", \"\",#REF!)","v":{"$error":"#REF!"}},{"$f":"IF(#REF!=\"\", \"\",#REF!)","v":{"$error":"#REF!"}},{"$f":"IF(#REF!=\"\", \"\",#REF!)","v":{"$error":"#REF!"}},{"$f":"IF(#REF!=\"\", \"\",#REF!)","v":{"$error":"#REF!"}},{"$f":"IF(#REF!=\"\", \"\",#REF!)","v":{"$error":"#REF!"}},{"$f":"IF(#REF!=\"\", \"\",#REF!)","v":{"$error":"#REF!"}},{"$f":"IF(#REF!=\"\", \"\",#REF!)","v":{"$error":"#REF!"}},{"$f":"IF(#REF!=\"\", \"\",#REF!)","v":{"$error":"#REF!"}},{"$f":"IF(#REF!=\"\", \"\",#REF!)","v":{"$error":"#REF!"}},{"$f":"IF(#REF!=\"\", \"\",#REF!)","v":{"$error":"#REF!"}},{"$f":"IF(#REF!=\"\", \"\",#REF!)","v":{"$error":"#REF!"}},{"$f":"IF(#REF!=\"\", \"\",#REF!)","v":{"$error":"#REF!"}},{"$f":"IF(#REF!=\"\", \"\",#REF!)","v":{"$error":"#REF!"}},{"$f":"IF(#REF!=\"\", \"\",#REF!)","v":{"$error":"#REF!"}},{"$f":"IF(#REF!=\"\", \"\",#REF!)","v":{"$error":"#REF!"}},{"$f":"IF(#REF!=\"\", \"\",#REF!)","v":{"$error":"#REF!"}},{"$f":"IF(#REF!=\"\", \"\",#REF!)","v":{"$error":"#REF!"}},{"$f":"IF(#REF!=\"\", \"\",#REF!)","v":{"$error":"#REF!"}},{"$f":"IF(#REF!=\"\", \"\",#REF!)","v":{"$error":"#REF!"}},{"$f":"IF(#REF!=\"\", \"\",#REF!)","v":{"$error":"#REF!"}},{"$f":"IF(#REF!=\"\", \"\",#REF!)","v":{"$error":"#REF!"}},{"$f":"IF(#REF!=\"\", \"\",#REF!)","v":{"$error":"#REF!"}}]
["Zusatzitem 4",{"$f":"IF(#REF!=\"\", \"\",#REF!)","v":{"$error":"#REF!"}},{"$f":"IF(#REF!=\"\", \"\",#REF!)","v":{"$error":"#REF!"}},{"$f":"IF(#REF!=\"\", \"\",#REF!)","v":{"$error":"#REF!"}},{"$f":"IF(#REF!=\"\", \"\",#REF!)","v":{"$error":"#REF!"}},{"$f":"IF(#REF!=\"\", \"\",#REF!)","v":{"$error":"#REF!"}},{"$f":"IF(#REF!=\"\", \"\",#REF!)","v":{"$error":"#REF!"}},{"$f":"IF(#REF!=\"\", \"\",#REF!)","v":{"$error":"#REF!"}},{"$f":"IF(#REF!=\"\", \"\",#REF!)","v":{"$error":"#REF!"}},{"$f":"IF(#REF!=\"\", \"\",#REF!)","v":{"$error":"#REF!"}},{"$f":"IF(#REF!=\"\", \"\",#REF!)","v":{"$error":"#REF!"}},{"$f":"IF(#REF!=\"\", \"\",#REF!)","v":{"$error":"#REF!"}},{"$f":"IF(#REF!=\"\", \"\",#REF!)","v":{"$error":"#REF!"}},{"$f":"IF(#REF!=\"\", \"\",#REF!)","v":{"$error":"#REF!"}},{"$f":"IF(#REF!=\"\", \"\",#REF!)","v":{"$error":"#REF!"}},{"$f":"IF(#REF!=\"\", \"\",#REF!)","v":{"$error":"#REF!"}},{"$f":"IF(#REF!=\"\", \"\",#REF!)","v":{"$error":"#REF!"}},{"$f":"IF(#REF!=\"\", \"\",#REF!)","v":{"$error":"#REF!"}},{"$f":"IF(#REF!=\"\", \"\",#REF!)","v":{"$error":"#REF!"}},{"$f":"IF(#REF!=\"\", \"\",#REF!)","v":{"$error":"#REF!"}},{"$f":"IF(#REF!=\"\", \"\",#REF!)","v":{"$error":"#REF!"}},{"$f":"IF(#REF!=\"\", \"\",#REF!)","v":{"$error":"#REF!"}},{"$f":"IF(#REF!=\"\", \"\",#REF!)","v":{"$error":"#REF!"}},{"$f":"IF(#REF!=\"\", \"\",#REF!)","v":{"$error":"#REF!"}},{"$f":"IF(#REF!=\"\", \"\",#REF!)","v":{"$error":"#REF!"}},{"$f":"IF(#REF!=\"\", \"\",#REF!)","v":{"$error":"#REF!"}},{"$f":"IF(#REF!=\"\", \"\",#REF!)","v":{"$error":"#REF!"}},{"$f":"IF(#REF!=\"\", \"\",#REF!)","v":{"$error":"#REF!"}},{"$f":"IF(#REF!=\"\", \"\",#REF!)","v":{"$error":"#REF!"}},{"$f":"IF(#REF!=\"\", \"\",#REF!)","v":{"$error":"#REF!"}},{"$f":"IF(#REF!=\"\", \"\",#REF!)","v":{"$error":"#REF!"}},{"$f":"IF(#REF!=\"\", \"\",#REF!)","v":{"$error":"#REF!"}},{"$f":"IF(#REF!=\"\", \"\",#REF!)","v":{"$error":"#REF!"}},{"$f":"IF(#REF!=\"\", \"\",#REF!)","v":{"$error":"#REF!"}},{"$f":"IF(#REF!=\"\", \"\",#REF!)","v":{"$error":"#REF!"}},{"$f":"IF(#REF!=\"\", \"\",#REF!)","v":{"$error":"#REF!"}},{"$f":"IF(#REF!=\"\", \"\",#REF!)","v":{"$error":"#REF!"}},{"$f":"IF(#REF!=\"\", \"\",#REF!)","v":{"$error":"#REF!"}},{"$f":"IF(#REF!=\"\", \"\",#REF!)","v":{"$error":"#REF!"}},{"$f":"IF(#REF!=\"\", \"\",#REF!)","v":{"$error":"#REF!"}},{"$f":"IF(#REF!=\"\", \"\",#REF!)","v":{"$error":"#REF!"}},{"$f":"IF(#REF!=\"\", \"\",#REF!)","v":{"$error":"#REF!"}},{"$f":"IF(#REF!=\"\", \"\",#REF!)","v":{"$error":"#REF!"}},{"$f":"IF(#REF!=\"\", \"\",#REF!)","v":{"$error":"#REF!"}},{"$f":"IF(#REF!=\"\", \"\",#REF!)","v":{"$error":"#REF!"}},{"$f":"IF(#REF!=\"\", \"\",#REF!)","v":{"$error":"#REF!"}},{"$f":"IF(#REF!=\"\", \"\",#REF!)","v":{"$error":"#REF!"}},{"$f":"IF(#REF!=\"\", \"\",#REF!)","v":{"$error":"#REF!"}},{"$f":"IF(#REF!=\"\", \"\",#REF!)","v":{"$error":"#REF!"}},{"$f":"IF(#REF!=\"\", \"\",#REF!)","v":{"$error":"#REF!"}},{"$f":"IF(#REF!=\"\", \"\",#REF!)","v":{"$error":"#REF!"}},{"$f":"IF(#REF!=\"\", \"\",#REF!)","v":{"$error":"#REF!"}},{"$f":"IF(#REF!=\"\", \"\",#REF!)","v":{"$error":"#REF!"}},{"$f":"IF(#REF!=\"\", \"\",#REF!)","v":{"$error":"#REF!"}},{"$f":"IF(#REF!=\"\", \"\",#REF!)","v":{"$error":"#REF!"}},{"$f":"IF(#REF!=\"\", \"\",#REF!)","v":{"$error":"#REF!"}},{"$f":"IF(#REF!=\"\", \"\",#REF!)","v":{"$error":"#REF!"}},{"$f":"IF(#REF!=\"\", \"\",#REF!)","v":{"$error":"#REF!"}},{"$f":"IF(#REF!=\"\", \"\",#REF!)","v":{"$error":"#REF!"}},{"$f":"IF(#REF!=\"\", \"\",#REF!)","v":{"$error":"#REF!"}},{"$f":"IF(#REF!=\"\", \"\",#REF!)","v":{"$error":"#REF!"}},{"$f":"IF(#REF!=\"\", \"\",#REF!)","v":{"$error":"#REF!"}}]
["Zusatzitem 5",{"$f":"IF(#REF!=\"\", \"\",#REF!)","v":{"$error":"#REF!"}},{"$f":"IF(#REF!=\"\", \"\",#REF!)","v":{"$error":"#REF!"}},{"$f":"IF(#REF!=\"\", \"\",#REF!)","v":{"$error":"#REF!"}},{"$f":"IF(#REF!=\"\", \"\",#REF!)","v":{"$error":"#REF!"}},{"$f":"IF(#REF!=\"\", \"\",#REF!)","v":{"$error":"#REF!"}},{"$f":"IF(#REF!=\"\", \"\",#REF!)","v":{"$error":"#REF!"}},{"$f":"IF(#REF!=\"\", \"\",#REF!)","v":{"$error":"#REF!"}},{"$f":"IF(#REF!=\"\", \"\",#REF!)","v":{"$error":"#REF!"}},{"$f":"IF(#REF!=\"\", \"\",#REF!)","v":{"$error":"#REF!"}},{"$f":"IF(#REF!=\"\", \"\",#REF!)","v":{"$error":"#REF!"}},{"$f":"IF(#REF!=\"\", \"\",#REF!)","v":{"$error":"#REF!"}},{"$f":"IF(#REF!=\"\", \"\",#REF!)","v":{"$error":"#REF!"}},{"$f":"IF(#REF!=\"\", \"\",#REF!)","v":{"$error":"#REF!"}},{"$f":"IF(#REF!=\"\", \"\",#REF!)","v":{"$error":"#REF!"}},{"$f":"IF(#REF!=\"\", \"\",#REF!)","v":{"$error":"#REF!"}},{"$f":"IF(#REF!=\"\", \"\",#REF!)","v":{"$error":"#REF!"}},{"$f":"IF(#REF!=\"\", \"\",#REF!)","v":{"$error":"#REF!"}},{"$f":"IF(#REF!=\"\", \"\",#REF!)","v":{"$error":"#REF!"}},{"$f":"IF(#REF!=\"\", \"\",#REF!)","v":{"$error":"#REF!"}},{"$f":"IF(#REF!=\"\", \"\",#REF!)","v":{"$error":"#REF!"}},{"$f":"IF(#REF!=\"\", \"\",#REF!)","v":{"$error":"#REF!"}},{"$f":"IF(#REF!=\"\", \"\",#REF!)","v":{"$error":"#REF!"}},{"$f":"IF(#REF!=\"\", \"\",#REF!)","v":{"$error":"#REF!"}},{"$f":"IF(#REF!=\"\", \"\",#REF!)","v":{"$error":"#REF!"}},{"$f":"IF(#REF!=\"\", \"\",#REF!)","v":{"$error":"#REF!"}},{"$f":"IF(#REF!=\"\", \"\",#REF!)","v":{"$error":"#REF!"}},{"$f":"IF(#REF!=\"\", \"\",#REF!)","v":{"$error":"#REF!"}},{"$f":"IF(#REF!=\"\", \"\",#REF!)","v":{"$error":"#REF!"}},{"$f":"IF(#REF!=\"\", \"\",#REF!)","v":{"$error":"#REF!"}},{"$f":"IF(#REF!=\"\", \"\",#REF!)","v":{"$error":"#REF!"}},{"$f":"IF(#REF!=\"\", \"\",#REF!)","v":{"$error":"#REF!"}},{"$f":"IF(#REF!=\"\", \"\",#REF!)","v":{"$error":"#REF!"}},{"$f":"IF(#REF!=\"\", \"\",#REF!)","v":{"$error":"#REF!"}},{"$f":"IF(#REF!=\"\", \"\",#REF!)","v":{"$error":"#REF!"}},{"$f":"IF(#REF!=\"\", \"\",#REF!)","v":{"$error":"#REF!"}},{"$f":"IF(#REF!=\"\", \"\",#REF!)","v":{"$error":"#REF!"}},{"$f":"IF(#REF!=\"\", \"\",#REF!)","v":{"$error":"#REF!"}},{"$f":"IF(#REF!=\"\", \"\",#REF!)","v":{"$error":"#REF!"}},{"$f":"IF(#REF!=\"\", \"\",#REF!)","v":{"$error":"#REF!"}},{"$f":"IF(#REF!=\"\", \"\",#REF!)","v":{"$error":"#REF!"}},{"$f":"IF(#REF!=\"\", \"\",#REF!)","v":{"$error":"#REF!"}},{"$f":"IF(#REF!=\"\", \"\",#REF!)","v":{"$error":"#REF!"}},{"$f":"IF(#REF!=\"\", \"\",#REF!)","v":{"$error":"#REF!"}},{"$f":"IF(#REF!=\"\", \"\",#REF!)","v":{"$error":"#REF!"}},{"$f":"IF(#REF!=\"\", \"\",#REF!)","v":{"$error":"#REF!"}},{"$f":"IF(#REF!=\"\", \"\",#REF!)","v":{"$error":"#REF!"}},{"$f":"IF(#REF!=\"\", \"\",#REF!)","v":{"$error":"#REF!"}},{"$f":"IF(#REF!=\"\", \"\",#REF!)","v":{"$error":"#REF!"}},{"$f":"IF(#REF!=\"\", \"\",#REF!)","v":{"$error":"#REF!"}},{"$f":"IF(#REF!=\"\", \"\",#REF!)","v":{"$error":"#REF!"}},{"$f":"IF(#REF!=\"\", \"\",#REF!)","v":{"$error":"#REF!"}},{"$f":"IF(#REF!=\"\", \"\",#REF!)","v":{"$error":"#REF!"}},{"$f":"IF(#REF!=\"\", \"\",#REF!)","v":{"$error":"#REF!"}},{"$f":"IF(#REF!=\"\", \"\",#REF!)","v":{"$error":"#REF!"}},{"$f":"IF(#REF!=\"\", \"\",#REF!)","v":{"$error":"#REF!"}},{"$f":"IF(#REF!=\"\", \"\",#REF!)","v":{"$error":"#REF!"}},{"$f":"IF(#REF!=\"\", \"\",#REF!)","v":{"$error":"#REF!"}},{"$f":"IF(#REF!=\"\", \"\",#REF!)","v":{"$error":"#REF!"}},{"$f":"IF(#REF!=\"\", \"\",#REF!)","v":{"$error":"#REF!"}},{"$f":"IF(#REF!=\"\", \"\",#REF!)","v":{"$error":"#REF!"}},{"$f":"IF(#REF!=\"\", \"\",#REF!)","v":{"$error":"#REF!"}}]
["Zusatzitem 6",{"$f":"IF(#REF!=\"\", \"\",#REF!)","v":{"$error":"#REF!"}},{"$f":"IF(#REF!=\"\", \"\",#REF!)","v":{"$error":"#REF!"}},{"$f":"IF(#REF!=\"\", \"\",#REF!)","v":{"$error":"#REF!"}},{"$f":"IF(#REF!=\"\", \"\",#REF!)","v":{"$error":"#REF!"}},{"$f":"IF(#REF!=\"\", \"\",#REF!)","v":{"$error":"#REF!"}},{"$f":"IF(#REF!=\"\", \"\",#REF!)","v":{"$error":"#REF!"}},{"$f":"IF(#REF!=\"\", \"\",#REF!)","v":{"$error":"#REF!"}},{"$f":"IF(#REF!=\"\", \"\",#REF!)","v":{"$error":"#REF!"}},{"$f":"IF(#REF!=\"\", \"\",#REF!)","v":{"$error":"#REF!"}},{"$f":"IF(#REF!=\"\", \"\",#REF!)","v":{"$error":"#REF!"}},{"$f":"IF(#REF!=\"\", \"\",#REF!)","v":{"$error":"#REF!"}},{"$f":"IF(#REF!=\"\", \"\",#REF!)","v":{"$error":"#REF!"}},{"$f":"IF(#REF!=\"\", \"\",#REF!)","v":{"$error":"#REF!"}},{"$f":"IF(#REF!=\"\", \"\",#REF!)","v":{"$error":"#REF!"}},{"$f":"IF(#REF!=\"\", \"\",#REF!)","v":{"$error":"#REF!"}},{"$f":"IF(#REF!=\"\", \"\",#REF!)","v":{"$error":"#REF!"}},{"$f":"IF(#REF!=\"\", \"\",#REF!)","v":{"$error":"#REF!"}},{"$f":"IF(#REF!=\"\", \"\",#REF!)","v":{"$error":"#REF!"}},{"$f":"IF(#REF!=\"\", \"\",#REF!)","v":{"$error":"#REF!"}},{"$f":"IF(#REF!=\"\", \"\",#REF!)","v":{"$error":"#REF!"}},{"$f":"IF(#REF!=\"\", \"\",#REF!)","v":{"$error":"#REF!"}},{"$f":"IF(#REF!=\"\", \"\",#REF!)","v":{"$error":"#REF!"}},{"$f":"IF(#REF!=\"\", \"\",#REF!)","v":{"$error":"#REF!"}},{"$f":"IF(#REF!=\"\", \"\",#REF!)","v":{"$error":"#REF!"}},{"$f":"IF(#REF!=\"\", \"\",#REF!)","v":{"$error":"#REF!"}},{"$f":"IF(#REF!=\"\", \"\",#REF!)","v":{"$error":"#REF!"}},{"$f":"IF(#REF!=\"\", \"\",#REF!)","v":{"$error":"#REF!"}},{"$f":"IF(#REF!=\"\", \"\",#REF!)","v":{"$error":"#REF!"}},{"$f":"IF(#REF!=\"\", \"\",#REF!)","v":{"$error":"#REF!"}},{"$f":"IF(#REF!=\"\", \"\",#REF!)","v":{"$error":"#REF!"}},{"$f":"IF(#REF!=\"\", \"\",#REF!)","v":{"$error":"#REF!"}},{"$f":"IF(#REF!=\"\", \"\",#REF!)","v":{"$error":"#REF!"}},{"$f":"IF(#REF!=\"\", \"\",#REF!)","v":{"$error":"#REF!"}},{"$f":"IF(#REF!=\"\", \"\",#REF!)","v":{"$error":"#REF!"}},{"$f":"IF(#REF!=\"\", \"\",#REF!)","v":{"$error":"#REF!"}},{"$f":"IF(#REF!=\"\", \"\",#REF!)","v":{"$error":"#REF!"}},{"$f":"IF(#REF!=\"\", \"\",#REF!)","v":{"$error":"#REF!"}},{"$f":"IF(#REF!=\"\", \"\",#REF!)","v":{"$error":"#REF!"}},{"$f":"IF(#REF!=\"\", \"\",#REF!)","v":{"$error":"#REF!"}},{"$f":"IF(#REF!=\"\", \"\",#REF!)","v":{"$error":"#REF!"}},{"$f":"IF(#REF!=\"\", \"\",#REF!)","v":{"$error":"#REF!"}},{"$f":"IF(#REF!=\"\", \"\",#REF!)","v":{"$error":"#REF!"}},{"$f":"IF(#REF!=\"\", \"\",#REF!)","v":{"$error":"#REF!"}},{"$f":"IF(#REF!=\"\", \"\",#REF!)","v":{"$error":"#REF!"}},{"$f":"IF(#REF!=\"\", \"\",#REF!)","v":{"$error":"#REF!"}},{"$f":"IF(#REF!=\"\", \"\",#REF!)","v":{"$error":"#REF!"}},{"$f":"IF(#REF!=\"\", \"\",#REF!)","v":{"$error":"#REF!"}},{"$f":"IF(#REF!=\"\", \"\",#REF!)","v":{"$error":"#REF!"}},{"$f":"IF(#REF!=\"\", \"\",#REF!)","v":{"$error":"#REF!"}},{"$f":"IF(#REF!=\"\", \"\",#REF!)","v":{"$error":"#REF!"}},{"$f":"IF(#REF!=\"\", \"\",#REF!)","v":{"$error":"#REF!"}},{"$f":"IF(#REF!=\"\", \"\",#REF!)","v":{"$error":"#REF!"}},{"$f":"IF(#REF!=\"\", \"\",#REF!)","v":{"$error":"#REF!"}},{"$f":"IF(#REF!=\"\", \"\",#REF!)","v":{"$error":"#REF!"}},{"$f":"IF(#REF!=\"\", \"\",#REF!)","v":{"$error":"#REF!"}},{"$f":"IF(#REF!=\"\", \"\",#REF!)","v":{"$error":"#REF!"}},{"$f":"IF(#REF!=\"\", \"\",#REF!)","v":{"$error":"#REF!"}},{"$f":"IF(#REF!=\"\", \"\",#REF!)","v":{"$error":"#REF!"}},{"$f":"IF(#REF!=\"\", \"\",#REF!)","v":{"$error":"#REF!"}},{"$f":"IF(#REF!=\"\", \"\",#REF!)","v":{"$error":"#REF!"}},{"$f":"IF(#REF!=\"\", \"\",#REF!)","v":{"$error":"#REF!"}}]
["Zusatzitem 7",{"$f":"IF(#REF!=\"\", \"\",#REF!)","v":{"$error":"#REF!"}},{"$f":"IF(#REF!=\"\", \"\",#REF!)","v":{"$error":"#REF!"}},{"$f":"IF(#REF!=\"\", \"\",#REF!)","v":{"$error":"#REF!"}},{"$f":"IF(#REF!=\"\", \"\",#REF!)","v":{"$error":"#REF!"}},{"$f":"IF(#REF!=\"\", \"\",#REF!)","v":{"$error":"#REF!"}},{"$f":"IF(#REF!=\"\", \"\",#REF!)","v":{"$error":"#REF!"}},{"$f":"IF(#REF!=\"\", \"\",#REF!)","v":{"$error":"#REF!"}},{"$f":"IF(#REF!=\"\", \"\",#REF!)","v":{"$error":"#REF!"}},{"$f":"IF(#REF!=\"\", \"\",#REF!)","v":{"$error":"#REF!"}},{"$f":"IF(#REF!=\"\", \"\",#REF!)","v":{"$error":"#REF!"}},{"$f":"IF(#REF!=\"\", \"\",#REF!)","v":{"$error":"#REF!"}},{"$f":"IF(#REF!=\"\", \"\",#REF!)","v":{"$error":"#REF!"}},{"$f":"IF(#REF!=\"\", \"\",#REF!)","v":{"$error":"#REF!"}},{"$f":"IF(#REF!=\"\", \"\",#REF!)","v":{"$error":"#REF!"}},{"$f":"IF(#REF!=\"\", \"\",#REF!)","v":{"$error":"#REF!"}},{"$f":"IF(#REF!=\"\", \"\",#REF!)","v":{"$error":"#REF!"}},{"$f":"IF(#REF!=\"\", \"\",#REF!)","v":{"$error":"#REF!"}},{"$f":"IF(#REF!=\"\", \"\",#REF!)","v":{"$error":"#REF!"}},{"$f":"IF(#REF!=\"\", \"\",#REF!)","v":{"$error":"#REF!"}},{"$f":"IF(#REF!=\"\", \"\",#REF!)","v":{"$error":"#REF!"}},{"$f":"IF(#REF!=\"\", \"\",#REF!)","v":{"$error":"#REF!"}},{"$f":"IF(#REF!=\"\", \"\",#REF!)","v":{"$error":"#REF!"}},{"$f":"IF(#REF!=\"\", \"\",#REF!)","v":{"$error":"#REF!"}},{"$f":"IF(#REF!=\"\", \"\",#REF!)","v":{"$error":"#REF!"}},{"$f":"IF(#REF!=\"\", \"\",#REF!)","v":{"$error":"#REF!"}},{"$f":"IF(#REF!=\"\", \"\",#REF!)","v":{"$error":"#REF!"}},{"$f":"IF(#REF!=\"\", \"\",#REF!)","v":{"$error":"#REF!"}},{"$f":"IF(#REF!=\"\", \"\",#REF!)","v":{"$error":"#REF!"}},{"$f":"IF(#REF!=\"\", \"\",#REF!)","v":{"$error":"#REF!"}},{"$f":"IF(#REF!=\"\", \"\",#REF!)","v":{"$error":"#REF!"}},{"$f":"IF(#REF!=\"\", \"\",#REF!)","v":{"$error":"#REF!"}},{"$f":"IF(#REF!=\"\", \"\",#REF!)","v":{"$error":"#REF!"}},{"$f":"IF(#REF!=\"\", \"\",#REF!)","v":{"$error":"#REF!"}},{"$f":"IF(#REF!=\"\", \"\",#REF!)","v":{"$error":"#REF!"}},{"$f":"IF(#REF!=\"\", \"\",#REF!)","v":{"$error":"#REF!"}},{"$f":"IF(#REF!=\"\", \"\",#REF!)","v":{"$error":"#REF!"}},{"$f":"IF(#REF!=\"\", \"\",#REF!)","v":{"$error":"#REF!"}},{"$f":"IF(#REF!=\"\", \"\",#REF!)","v":{"$error":"#REF!"}},{"$f":"IF(#REF!=\"\", \"\",#REF!)","v":{"$error":"#REF!"}},{"$f":"IF(#REF!=\"\", \"\",#REF!)","v":{"$error":"#REF!"}},{"$f":"IF(#REF!=\"\", \"\",#REF!)","v":{"$error":"#REF!"}},{"$f":"IF(#REF!=\"\", \"\",#REF!)","v":{"$error":"#REF!"}},{"$f":"IF(#REF!=\"\", \"\",#REF!)","v":{"$error":"#REF!"}},{"$f":"IF(#REF!=\"\", \"\",#REF!)","v":{"$error":"#REF!"}},{"$f":"IF(#REF!=\"\", \"\",#REF!)","v":{"$error":"#REF!"}},{"$f":"IF(#REF!=\"\", \"\",#REF!)","v":{"$error":"#REF!"}},{"$f":"IF(#REF!=\"\", \"\",#REF!)","v":{"$error":"#REF!"}},{"$f":"IF(#REF!=\"\", \"\",#REF!)","v":{"$error":"#REF!"}},{"$f":"IF(#REF!=\"\", \"\",#REF!)","v":{"$error":"#REF!"}},{"$f":"IF(#REF!=\"\", \"\",#REF!)","v":{"$error":"#REF!"}},{"$f":"IF(#REF!=\"\", \"\",#REF!)","v":{"$error":"#REF!"}},{"$f":"IF(#REF!=\"\", \"\",#REF!)","v":{"$error":"#REF!"}},{"$f":"IF(#REF!=\"\", \"\",#REF!)","v":{"$error":"#REF!"}},{"$f":"IF(#REF!=\"\", \"\",#REF!)","v":{"$error":"#REF!"}},{"$f":"IF(#REF!=\"\", \"\",#REF!)","v":{"$error":"#REF!"}},{"$f":"IF(#REF!=\"\", \"\",#REF!)","v":{"$error":"#REF!"}},{"$f":"IF(#REF!=\"\", \"\",#REF!)","v":{"$error":"#REF!"}},{"$f":"IF(#REF!=\"\", \"\",#REF!)","v":{"$error":"#REF!"}},{"$f":"IF(#REF!=\"\", \"\",#REF!)","v":{"$error":"#REF!"}},{"$f":"IF(#REF!=\"\", \"\",#REF!)","v":{"$error":"#REF!"}},{"$f":"IF(#REF!=\"\", \"\",#REF!)","v":{"$error":"#REF!"}}]
["Zusatzitem 8",{"$f":"IF(#REF!=\"\", \"\",#REF!)","v":{"$error":"#REF!"}},{"$f":"IF(#REF!=\"\", \"\",#REF!)","v":{"$error":"#REF!"}},{"$f":"IF(#REF!=\"\", \"\",#REF!)","v":{"$error":"#REF!"}},{"$f":"IF(#REF!=\"\", \"\",#REF!)","v":{"$error":"#REF!"}},{"$f":"IF(#REF!=\"\", \"\",#REF!)","v":{"$error":"#REF!"}},{"$f":"IF(#REF!=\"\", \"\",#REF!)","v":{"$error":"#REF!"}},{"$f":"IF(#REF!=\"\", \"\",#REF!)","v":{"$error":"#REF!"}},{"$f":"IF(#REF!=\"\", \"\",#REF!)","v":{"$error":"#REF!"}},{"$f":"IF(#REF!=\"\", \"\",#REF!)","v":{"$error":"#REF!"}},{"$f":"IF(#REF!=\"\", \"\",#REF!)","v":{"$error":"#REF!"}},{"$f":"IF(#REF!=\"\", \"\",#REF!)","v":{"$error":"#REF!"}},{"$f":"IF(#REF!=\"\", \"\",#REF!)","v":{"$error":"#REF!"}},{"$f":"IF(#REF!=\"\", \"\",#REF!)","v":{"$error":"#REF!"}},{"$f":"IF(#REF!=\"\", \"\",#REF!)","v":{"$error":"#REF!"}},{"$f":"IF(#REF!=\"\", \"\",#REF!)","v":{"$error":"#REF!"}},{"$f":"IF(#REF!=\"\", \"\",#REF!)","v":{"$error":"#REF!"}},{"$f":"IF(#REF!=\"\", \"\",#REF!)","v":{"$error":"#REF!"}},{"$f":"IF(#REF!=\"\", \"\",#REF!)","v":{"$error":"#REF!"}},{"$f":"IF(#REF!=\"\", \"\",#REF!)","v":{"$error":"#REF!"}},{"$f":"IF(#REF!=\"\", \"\",#REF!)","v":{"$error":"#REF!"}},{"$f":"IF(#REF!=\"\", \"\",#REF!)","v":{"$error":"#REF!"}},{"$f":"IF(#REF!=\"\", \"\",#REF!)","v":{"$error":"#REF!"}},{"$f":"IF(#REF!=\"\", \"\",#REF!)","v":{"$error":"#REF!"}},{"$f":"IF(#REF!=\"\", \"\",#REF!)","v":{"$error":"#REF!"}},{"$f":"IF(#REF!=\"\", \"\",#REF!)","v":{"$error":"#REF!"}},{"$f":"IF(#REF!=\"\", \"\",#REF!)","v":{"$error":"#REF!"}},{"$f":"IF(#REF!=\"\", \"\",#REF!)","v":{"$error":"#REF!"}},{"$f":"IF(#REF!=\"\", \"\",#REF!)","v":{"$error":"#REF!"}},{"$f":"IF(#REF!=\"\", \"\",#REF!)","v":{"$error":"#REF!"}},{"$f":"IF(#REF!=\"\", \"\",#REF!)","v":{"$error":"#REF!"}},{"$f":"IF(#REF!=\"\", \"\",#REF!)","v":{"$error":"#REF!"}},{"$f":"IF(#REF!=\"\", \"\",#REF!)","v":{"$error":"#REF!"}},{"$f":"IF(#REF!=\"\", \"\",#REF!)","v":{"$error":"#REF!"}},{"$f":"IF(#REF!=\"\", \"\",#REF!)","v":{"$error":"#REF!"}},{"$f":"IF(#REF!=\"\", \"\",#REF!)","v":{"$error":"#REF!"}},{"$f":"IF(#REF!=\"\", \"\",#REF!)","v":{"$error":"#REF!"}},{"$f":"IF(#REF!=\"\", \"\",#REF!)","v":{"$error":"#REF!"}},{"$f":"IF(#REF!=\"\", \"\",#REF!)","v":{"$error":"#REF!"}},{"$f":"IF(#REF!=\"\", \"\",#REF!)","v":{"$error":"#REF!"}},{"$f":"IF(#REF!=\"\", \"\",#REF!)","v":{"$error":"#REF!"}},{"$f":"IF(#REF!=\"\", \"\",#REF!)","v":{"$error":"#REF!"}},{"$f":"IF(#REF!=\"\", \"\",#REF!)","v":{"$error":"#REF!"}},{"$f":"IF(#REF!=\"\", \"\",#REF!)","v":{"$error":"#REF!"}},{"$f":"IF(#REF!=\"\", \"\",#REF!)","v":{"$error":"#REF!"}},{"$f":"IF(#REF!=\"\", \"\",#REF!)","v":{"$error":"#REF!"}},{"$f":"IF(#REF!=\"\", \"\",#REF!)","v":{"$error":"#REF!"}},{"$f":"IF(#REF!=\"\", \"\",#REF!)","v":{"$error":"#REF!"}},{"$f":"IF(#REF!=\"\", \"\",#REF!)","v":{"$error":"#REF!"}},{"$f":"IF(#REF!=\"\", \"\",#REF!)","v":{"$error":"#REF!"}},{"$f":"IF(#REF!=\"\", \"\",#REF!)","v":{"$error":"#REF!"}},{"$f":"IF(#REF!=\"\", \"\",#REF!)","v":{"$error":"#REF!"}},{"$f":"IF(#REF!=\"\", \"\",#REF!)","v":{"$error":"#REF!"}},{"$f":"IF(#REF!=\"\", \"\",#REF!)","v":{"$error":"#REF!"}},{"$f":"IF(#REF!=\"\", \"\",#REF!)","v":{"$error":"#REF!"}},{"$f":"IF(#REF!=\"\", \"\",#REF!)","v":{"$error":"#REF!"}},{"$f":"IF(#REF!=\"\", \"\",#REF!)","v":{"$error":"#REF!"}},{"$f":"IF(#REF!=\"\", \"\",#REF!)","v":{"$error":"#REF!"}},{"$f":"IF(#REF!=\"\", \"\",#REF!)","v":{"$error":"#REF!"}},{"$f":"IF(#REF!=\"\", \"\",#REF!)","v":{"$error":"#REF!"}},{"$f":"IF(#REF!=\"\", \"\",#REF!)","v":{"$error":"#REF!"}},{"$f":"IF(#REF!=\"\", \"\",#REF!)","v":{"$error":"#REF!"}}]
["Zusatzitem 9",{"$f":"IF(#REF!=\"\", \"\",#REF!)","v":{"$error":"#REF!"}},{"$f":"IF(#REF!=\"\", \"\",#REF!)","v":{"$error":"#REF!"}},{"$f":"IF(#REF!=\"\", \"\",#REF!)","v":{"$error":"#REF!"}},{"$f":"IF(#REF!=\"\", \"\",#REF!)","v":{"$error":"#REF!"}},{"$f":"IF(#REF!=\"\", \"\",#REF!)","v":{"$error":"#REF!"}},{"$f":"IF(#REF!=\"\", \"\",#REF!)","v":{"$error":"#REF!"}},{"$f":"IF(#REF!=\"\", \"\",#REF!)","v":{"$error":"#REF!"}},{"$f":"IF(#REF!=\"\", \"\",#REF!)","v":{"$error":"#REF!"}},{"$f":"IF(#REF!=\"\", \"\",#REF!)","v":{"$error":"#REF!"}},{"$f":"IF(#REF!=\"\", \"\",#REF!)","v":{"$error":"#REF!"}},{"$f":"IF(#REF!=\"\", \"\",#REF!)","v":{"$error":"#REF!"}},{"$f":"IF(#REF!=\"\", \"\",#REF!)","v":{"$error":"#REF!"}},{"$f":"IF(#REF!=\"\", \"\",#REF!)","v":{"$error":"#REF!"}},{"$f":"IF(#REF!=\"\", \"\",#REF!)","v":{"$error":"#REF!"}},{"$f":"IF(#REF!=\"\", \"\",#REF!)","v":{"$error":"#REF!"}},{"$f":"IF(#REF!=\"\", \"\",#REF!)","v":{"$error":"#REF!"}},{"$f":"IF(#REF!=\"\", \"\",#REF!)","v":{"$error":"#REF!"}},{"$f":"IF(#REF!=\"\", \"\",#REF!)","v":{"$error":"#REF!"}},{"$f":"IF(#REF!=\"\", \"\",#REF!)","v":{"$error":"#REF!"}},{"$f":"IF(#REF!=\"\", \"\",#REF!)","v":{"$error":"#REF!"}},{"$f":"IF(#REF!=\"\", \"\",#REF!)","v":{"$error":"#REF!"}},{"$f":"IF(#REF!=\"\", \"\",#REF!)","v":{"$error":"#REF!"}},{"$f":"IF(#REF!=\"\", \"\",#REF!)","v":{"$error":"#REF!"}},{"$f":"IF(#REF!=\"\", \"\",#REF!)","v":{"$error":"#REF!"}},{"$f":"IF(#REF!=\"\", \"\",#REF!)","v":{"$error":"#REF!"}},{"$f":"IF(#REF!=\"\", \"\",#REF!)","v":{"$error":"#REF!"}},{"$f":"IF(#REF!=\"\", \"\",#REF!)","v":{"$error":"#REF!"}},{"$f":"IF(#REF!=\"\", \"\",#REF!)","v":{"$error":"#REF!"}},{"$f":"IF(#REF!=\"\", \"\",#REF!)","v":{"$error":"#REF!"}},{"$f":"IF(#REF!=\"\", \"\",#REF!)","v":{"$error":"#REF!"}},{"$f":"IF(#REF!=\"\", \"\",#REF!)","v":{"$error":"#REF!"}},{"$f":"IF(#REF!=\"\", \"\",#REF!)","v":{"$error":"#REF!"}},{"$f":"IF(#REF!=\"\", \"\",#REF!)","v":{"$error":"#REF!"}},{"$f":"IF(#REF!=\"\", \"\",#REF!)","v":{"$error":"#REF!"}},{"$f":"IF(#REF!=\"\", \"\",#REF!)","v":{"$error":"#REF!"}},{"$f":"IF(#REF!=\"\", \"\",#REF!)","v":{"$error":"#REF!"}},{"$f":"IF(#REF!=\"\", \"\",#REF!)","v":{"$error":"#REF!"}},{"$f":"IF(#REF!=\"\", \"\",#REF!)","v":{"$error":"#REF!"}},{"$f":"IF(#REF!=\"\", \"\",#REF!)","v":{"$error":"#REF!"}},{"$f":"IF(#REF!=\"\", \"\",#REF!)","v":{"$error":"#REF!"}},{"$f":"IF(#REF!=\"\", \"\",#REF!)","v":{"$error":"#REF!"}},{"$f":"IF(#REF!=\"\", \"\",#REF!)","v":{"$error":"#REF!"}},{"$f":"IF(#REF!=\"\", \"\",#REF!)","v":{"$error":"#REF!"}},{"$f":"IF(#REF!=\"\", \"\",#REF!)","v":{"$error":"#REF!"}},{"$f":"IF(#REF!=\"\", \"\",#REF!)","v":{"$error":"#REF!"}},{"$f":"IF(#REF!=\"\", \"\",#REF!)","v":{"$error":"#REF!"}},{"$f":"IF(#REF!=\"\", \"\",#REF!)","v":{"$error":"#REF!"}},{"$f":"IF(#REF!=\"\", \"\",#REF!)","v":{"$error":"#REF!"}},{"$f":"IF(#REF!=\"\", \"\",#REF!)","v":{"$error":"#REF!"}},{"$f":"IF(#REF!=\"\", \"\",#REF!)","v":{"$error":"#REF!"}},{"$f":"IF(#REF!=\"\", \"\",#REF!)","v":{"$error":"#REF!"}},{"$f":"IF(#REF!=\"\", \"\",#REF!)","v":{"$error":"#REF!"}},{"$f":"IF(#REF!=\"\", \"\",#REF!)","v":{"$error":"#REF!"}},{"$f":"IF(#REF!=\"\", \"\",#REF!)","v":{"$error":"#REF!"}},{"$f":"IF(#REF!=\"\", \"\",#REF!)","v":{"$error":"#REF!"}},{"$f":"IF(#REF!=\"\", \"\",#REF!)","v":{"$error":"#REF!"}},{"$f":"IF(#REF!=\"\", \"\",#REF!)","v":{"$error":"#REF!"}},{"$f":"IF(#REF!=\"\", \"\",#REF!)","v":{"$error":"#REF!"}},{"$f":"IF(#REF!=\"\", \"\",#REF!)","v":{"$error":"#REF!"}},{"$f":"IF(#REF!=\"\", \"\",#REF!)","v":{"$error":"#REF!"}},{"$f":"IF(#REF!=\"\", \"\",#REF!)","v":{"$error":"#REF!"}}]
["Zusatzitem 10",{"$f":"IF(#REF!=\"\", \"\",#REF!)","v":{"$error":"#REF!"}},{"$f":"IF(#REF!=\"\", \"\",#REF!)","v":{"$error":"#REF!"}},{"$f":"IF(#REF!=\"\", \"\",#REF!)","v":{"$error":"#REF!"}},{"$f":"IF(#REF!=\"\", \"\",#REF!)","v":{"$error":"#REF!"}},{"$f":"IF(#REF!=\"\", \"\",#REF!)","v":{"$error":"#REF!"}},{"$f":"IF(#REF!=\"\", \"\",#REF!)","v":{"$error":"#REF!"}},{"$f":"IF(#REF!=\"\", \"\",#REF!)","v":{"$error":"#REF!"}},{"$f":"IF(#REF!=\"\", \"\",#REF!)","v":{"$error":"#REF!"}},{"$f":"IF(#REF!=\"\", \"\",#REF!)","v":{"$error":"#REF!"}},{"$f":"IF(#REF!=\"\", \"\",#REF!)","v":{"$error":"#REF!"}},{"$f":"IF(#REF!=\"\", \"\",#REF!)","v":{"$error":"#REF!"}},{"$f":"IF(#REF!=\"\", \"\",#REF!)","v":{"$error":"#REF!"}},{"$f":"IF(#REF!=\"\", \"\",#REF!)","v":{"$error":"#REF!"}},{"$f":"IF(#REF!=\"\", \"\",#REF!)","v":{"$error":"#REF!"}},{"$f":"IF(#REF!=\"\", \"\",#REF!)","v":{"$error":"#REF!"}},{"$f":"IF(#REF!=\"\", \"\",#REF!)","v":{"$error":"#REF!"}},{"$f":"IF(#REF!=\"\", \"\",#REF!)","v":{"$error":"#REF!"}},{"$f":"IF(#REF!=\"\", \"\",#REF!)","v":{"$error":"#REF!"}},{"$f":"IF(#REF!=\"\", \"\",#REF!)","v":{"$error":"#REF!"}},{"$f":"IF(#REF!=\"\", \"\",#REF!)","v":{"$error":"#REF!"}},{"$f":"IF(#REF!=\"\", \"\",#REF!)","v":{"$error":"#REF!"}},{"$f":"IF(#REF!=\"\", \"\",#REF!)","v":{"$error":"#REF!"}},{"$f":"IF(#REF!=\"\", \"\",#REF!)","v":{"$error":"#REF!"}},{"$f":"IF(#REF!=\"\", \"\",#REF!)","v":{"$error":"#REF!"}},{"$f":"IF(#REF!=\"\", \"\",#REF!)","v":{"$error":"#REF!"}},{"$f":"IF(#REF!=\"\", \"\",#REF!)","v":{"$error":"#REF!"}},{"$f":"IF(#REF!=\"\", \"\",#REF!)","v":{"$error":"#REF!"}},{"$f":"IF(#REF!=\"\", \"\",#REF!)","v":{"$error":"#REF!"}},{"$f":"IF(#REF!=\"\", \"\",#REF!)","v":{"$error":"#REF!"}},{"$f":"IF(#REF!=\"\", \"\",#REF!)","v":{"$error":"#REF!"}},{"$f":"IF(#REF!=\"\", \"\",#REF!)","v":{"$error":"#REF!"}},{"$f":"IF(#REF!=\"\", \"\",#REF!)","v":{"$error":"#REF!"}},{"$f":"IF(#REF!=\"\", \"\",#REF!)","v":{"$error":"#REF!"}},{"$f":"IF(#REF!=\"\", \"\",#REF!)","v":{"$error":"#REF!"}},{"$f":"IF(#REF!=\"\", \"\",#REF!)","v":{"$error":"#REF!"}},{"$f":"IF(#REF!=\"\", \"\",#REF!)","v":{"$error":"#REF!"}},{"$f":"IF(#REF!=\"\", \"\",#REF!)","v":{"$error":"#REF!"}},{"$f":"IF(#REF!=\"\", \"\",#REF!)","v":{"$error":"#REF!"}},{"$f":"IF(#REF!=\"\", \"\",#REF!)","v":{"$error":"#REF!"}},{"$f":"IF(#REF!=\"\", \"\",#REF!)","v":{"$error":"#REF!"}},{"$f":"IF(#REF!=\"\", \"\",#REF!)","v":{"$error":"#REF!"}},{"$f":"IF(#REF!=\"\", \"\",#REF!)","v":{"$error":"#REF!"}},{"$f":"IF(#REF!=\"\", \"\",#REF!)","v":{"$error":"#REF!"}},{"$f":"IF(#REF!=\"\", \"\",#REF!)","v":{"$error":"#REF!"}},{"$f":"IF(#REF!=\"\", \"\",#REF!)","v":{"$error":"#REF!"}},{"$f":"IF(#REF!=\"\", \"\",#REF!)","v":{"$error":"#REF!"}},{"$f":"IF(#REF!=\"\", \"\",#REF!)","v":{"$error":"#REF!"}},{"$f":"IF(#REF!=\"\", \"\",#REF!)","v":{"$error":"#REF!"}},{"$f":"IF(#REF!=\"\", \"\",#REF!)","v":{"$error":"#REF!"}},{"$f":"IF(#REF!=\"\", \"\",#REF!)","v":{"$error":"#REF!"}},{"$f":"IF(#REF!=\"\", \"\",#REF!)","v":{"$error":"#REF!"}},{"$f":"IF(#REF!=\"\", \"\",#REF!)","v":{"$error":"#REF!"}},{"$f":"IF(#REF!=\"\", \"\",#REF!)","v":{"$error":"#REF!"}},{"$f":"IF(#REF!=\"\", \"\",#REF!)","v":{"$error":"#REF!"}},{"$f":"IF(#REF!=\"\", \"\",#REF!)","v":{"$error":"#REF!"}},{"$f":"IF(#REF!=\"\", \"\",#REF!)","v":{"$error":"#REF!"}},{"$f":"IF(#REF!=\"\", \"\",#REF!)","v":{"$error":"#REF!"}},{"$f":"IF(#REF!=\"\", \"\",#REF!)","v":{"$error":"#REF!"}},{"$f":"IF(#REF!=\"\", \"\",#REF!)","v":{"$error":"#REF!"}},{"$f":"IF(#REF!=\"\", \"\",#REF!)","v":{"$error":"#REF!"}},{"$f":"IF(#REF!=\"\", \"\",#REF!)","v":{"$error":"#REF!"}}]
["Zusatzitem 11",{"$f":"IF(#REF!=\"\", \"\",#REF!)","v":{"$error":"#REF!"}},{"$f":"IF(#REF!=\"\", \"\",#REF!)","v":{"$error":"#REF!"}},{"$f":"IF(#REF!=\"\", \"\",#REF!)","v":{"$error":"#REF!"}},{"$f":"IF(#REF!=\"\", \"\",#REF!)","v":{"$error":"#REF!"}},{"$f":"IF(#REF!=\"\", \"\",#REF!)","v":{"$error":"#REF!"}},{"$f":"IF(#REF!=\"\", \"\",#REF!)","v":{"$error":"#REF!"}},{"$f":"IF(#REF!=\"\", \"\",#REF!)","v":{"$error":"#REF!"}},{"$f":"IF(#REF!=\"\", \"\",#REF!)","v":{"$error":"#REF!"}},{"$f":"IF(#REF!=\"\", \"\",#REF!)","v":{"$error":"#REF!"}},{"$f":"IF(#REF!=\"\", \"\",#REF!)","v":{"$error":"#REF!"}},{"$f":"IF(#REF!=\"\", \"\",#REF!)","v":{"$error":"#REF!"}},{"$f":"IF(#REF!=\"\", \"\",#REF!)","v":{"$error":"#REF!"}},{"$f":"IF(#REF!=\"\", \"\",#REF!)","v":{"$error":"#REF!"}},{"$f":"IF(#REF!=\"\", \"\",#REF!)","v":{"$error":"#REF!"}},{"$f":"IF(#REF!=\"\", \"\",#REF!)","v":{"$error":"#REF!"}},{"$f":"IF(#REF!=\"\", \"\",#REF!)","v":{"$error":"#REF!"}},{"$f":"IF(#REF!=\"\", \"\",#REF!)","v":{"$error":"#REF!"}},{"$f":"IF(#REF!=\"\", \"\",#REF!)","v":{"$error":"#REF!"}},{"$f":"IF(#REF!=\"\", \"\",#REF!)","v":{"$error":"#REF!"}},{"$f":"IF(#REF!=\"\", \"\",#REF!)","v":{"$error":"#REF!"}},{"$f":"IF(#REF!=\"\", \"\",#REF!)","v":{"$error":"#REF!"}},{"$f":"IF(#REF!=\"\", \"\",#REF!)","v":{"$error":"#REF!"}},{"$f":"IF(#REF!=\"\", \"\",#REF!)","v":{"$error":"#REF!"}},{"$f":"IF(#REF!=\"\", \"\",#REF!)","v":{"$error":"#REF!"}},{"$f":"IF(#REF!=\"\", \"\",#REF!)","v":{"$error":"#REF!"}},{"$f":"IF(#REF!=\"\", \"\",#REF!)","v":{"$error":"#REF!"}},{"$f":"IF(#REF!=\"\", \"\",#REF!)","v":{"$error":"#REF!"}},{"$f":"IF(#REF!=\"\", \"\",#REF!)","v":{"$error":"#REF!"}},{"$f":"IF(#REF!=\"\", \"\",#REF!)","v":{"$error":"#REF!"}},{"$f":"IF(#REF!=\"\", \"\",#REF!)","v":{"$error":"#REF!"}},{"$f":"IF(#REF!=\"\", \"\",#REF!)","v":{"$error":"#REF!"}},{"$f":"IF(#REF!=\"\", \"\",#REF!)","v":{"$error":"#REF!"}},{"$f":"IF(#REF!=\"\", \"\",#REF!)","v":{"$error":"#REF!"}},{"$f":"IF(#REF!=\"\", \"\",#REF!)","v":{"$error":"#REF!"}},{"$f":"IF(#REF!=\"\", \"\",#REF!)","v":{"$error":"#REF!"}},{"$f":"IF(#REF!=\"\", \"\",#REF!)","v":{"$error":"#REF!"}},{"$f":"IF(#REF!=\"\", \"\",#REF!)","v":{"$error":"#REF!"}},{"$f":"IF(#REF!=\"\", \"\",#REF!)","v":{"$error":"#REF!"}},{"$f":"IF(#REF!=\"\", \"\",#REF!)","v":{"$error":"#REF!"}},{"$f":"IF(#REF!=\"\", \"\",#REF!)","v":{"$error":"#REF!"}},{"$f":"IF(#REF!=\"\", \"\",#REF!)","v":{"$error":"#REF!"}},{"$f":"IF(#REF!=\"\", \"\",#REF!)","v":{"$error":"#REF!"}},{"$f":"IF(#REF!=\"\", \"\",#REF!)","v":{"$error":"#REF!"}},{"$f":"IF(#REF!=\"\", \"\",#REF!)","v":{"$error":"#REF!"}},{"$f":"IF(#REF!=\"\", \"\",#REF!)","v":{"$error":"#REF!"}},{"$f":"IF(#REF!=\"\", \"\",#REF!)","v":{"$error":"#REF!"}},{"$f":"IF(#REF!=\"\", \"\",#REF!)","v":{"$error":"#REF!"}},{"$f":"IF(#REF!=\"\", \"\",#REF!)","v":{"$error":"#REF!"}},{"$f":"IF(#REF!=\"\", \"\",#REF!)","v":{"$error":"#REF!"}},{"$f":"IF(#REF!=\"\", \"\",#REF!)","v":{"$error":"#REF!"}},{"$f":"IF(#REF!=\"\", \"\",#REF!)","v":{"$error":"#REF!"}},{"$f":"IF(#REF!=\"\", \"\",#REF!)","v":{"$error":"#REF!"}},{"$f":"IF(#REF!=\"\", \"\",#REF!)","v":{"$error":"#REF!"}},{"$f":"IF(#REF!=\"\", \"\",#REF!)","v":{"$error":"#REF!"}},{"$f":"IF(#REF!=\"\", \"\",#REF!)","v":{"$error":"#REF!"}},{"$f":"IF(#REF!=\"\", \"\",#REF!)","v":{"$error":"#REF!"}},{"$f":"IF(#REF!=\"\", \"\",#REF!)","v":{"$error":"#REF!"}},{"$f":"IF(#REF!=\"\", \"\",#REF!)","v":{"$error":"#REF!"}},{"$f":"IF(#REF!=\"\", \"\",#REF!)","v":{"$error":"#REF!"}},{"$f":"IF(#REF!=\"\", \"\",#REF!)","v":{"$error":"#REF!"}},{"$f":"IF(#REF!=\"\", \"\",#REF!)","v":{"$error":"#REF!"}}]
["Zusatzitem 12",{"$f":"IF(#REF!=\"\", \"\",#REF!)","v":{"$error":"#REF!"}},{"$f":"IF(#REF!=\"\", \"\",#REF!)","v":{"$error":"#REF!"}},{"$f":"IF(#REF!=\"\", \"\",#REF!)","v":{"$error":"#REF!"}},{"$f":"IF(#REF!=\"\", \"\",#REF!)","v":{"$error":"#REF!"}},{"$f":"IF(#REF!=\"\", \"\",#REF!)","v":{"$error":"#REF!"}},{"$f":"IF(#REF!=\"\", \"\",#REF!)","v":{"$error":"#REF!"}},{"$f":"IF(#REF!=\"\", \"\",#REF!)","v":{"$error":"#REF!"}},{"$f":"IF(#REF!=\"\", \"\",#REF!)","v":{"$error":"#REF!"}},{"$f":"IF(#REF!=\"\", \"\",#REF!)","v":{"$error":"#REF!"}},{"$f":"IF(#REF!=\"\", \"\",#REF!)","v":{"$error":"#REF!"}},{"$f":"IF(#REF!=\"\", \"\",#REF!)","v":{"$error":"#REF!"}},{"$f":"IF(#REF!=\"\", \"\",#REF!)","v":{"$error":"#REF!"}},{"$f":"IF(#REF!=\"\", \"\",#REF!)","v":{"$error":"#REF!"}},{"$f":"IF(#REF!=\"\", \"\",#REF!)","v":{"$error":"#REF!"}},{"$f":"IF(#REF!=\"\", \"\",#REF!)","v":{"$error":"#REF!"}},{"$f":"IF(#REF!=\"\", \"\",#REF!)","v":{"$error":"#REF!"}},{"$f":"IF(#REF!=\"\", \"\",#REF!)","v":{"$error":"#REF!"}},{"$f":"IF(#REF!=\"\", \"\",#REF!)","v":{"$error":"#REF!"}},{"$f":"IF(#REF!=\"\", \"\",#REF!)","v":{"$error":"#REF!"}},{"$f":"IF(#REF!=\"\", \"\",#REF!)","v":{"$error":"#REF!"}},{"$f":"IF(#REF!=\"\", \"\",#REF!)","v":{"$error":"#REF!"}},{"$f":"IF(#REF!=\"\", \"\",#REF!)","v":{"$error":"#REF!"}},{"$f":"IF(#REF!=\"\", \"\",#REF!)","v":{"$error":"#REF!"}},{"$f":"IF(#REF!=\"\", \"\",#REF!)","v":{"$error":"#REF!"}},{"$f":"IF(#REF!=\"\", \"\",#REF!)","v":{"$error":"#REF!"}},{"$f":"IF(#REF!=\"\", \"\",#REF!)","v":{"$error":"#REF!"}},{"$f":"IF(#REF!=\"\", \"\",#REF!)","v":{"$error":"#REF!"}},{"$f":"IF(#REF!=\"\", \"\",#REF!)","v":{"$error":"#REF!"}},{"$f":"IF(#REF!=\"\", \"\",#REF!)","v":{"$error":"#REF!"}},{"$f":"IF(#REF!=\"\", \"\",#REF!)","v":{"$error":"#REF!"}},{"$f":"IF(#REF!=\"\", \"\",#REF!)","v":{"$error":"#REF!"}},{"$f":"IF(#REF!=\"\", \"\",#REF!)","v":{"$error":"#REF!"}},{"$f":"IF(#REF!=\"\", \"\",#REF!)","v":{"$error":"#REF!"}},{"$f":"IF(#REF!=\"\", \"\",#REF!)","v":{"$error":"#REF!"}},{"$f":"IF(#REF!=\"\", \"\",#REF!)","v":{"$error":"#REF!"}},{"$f":"IF(#REF!=\"\", \"\",#REF!)","v":{"$error":"#REF!"}},{"$f":"IF(#REF!=\"\", \"\",#REF!)","v":{"$error":"#REF!"}},{"$f":"IF(#REF!=\"\", \"\",#REF!)","v":{"$error":"#REF!"}},{"$f":"IF(#REF!=\"\", \"\",#REF!)","v":{"$error":"#REF!"}},{"$f":"IF(#REF!=\"\", \"\",#REF!)","v":{"$error":"#REF!"}},{"$f":"IF(#REF!=\"\", \"\",#REF!)","v":{"$error":"#REF!"}},{"$f":"IF(#REF!=\"\", \"\",#REF!)","v":{"$error":"#REF!"}},{"$f":"IF(#REF!=\"\", \"\",#REF!)","v":{"$error":"#REF!"}},{"$f":"IF(#REF!=\"\", \"\",#REF!)","v":{"$error":"#REF!"}},{"$f":"IF(#REF!=\"\", \"\",#REF!)","v":{"$error":"#REF!"}},{"$f":"IF(#REF!=\"\", \"\",#REF!)","v":{"$error":"#REF!"}},{"$f":"IF(#REF!=\"\", \"\",#REF!)","v":{"$error":"#REF!"}},{"$f":"IF(#REF!=\"\", \"\",#REF!)","v":{"$error":"#REF!"}},{"$f":"IF(#REF!=\"\", \"\",#REF!)","v":{"$error":"#REF!"}},{"$f":"IF(#REF!=\"\", \"\",#REF!)","v":{"$error":"#REF!"}},{"$f":"IF(#REF!=\"\", \"\",#REF!)","v":{"$error":"#REF!"}},{"$f":"IF(#REF!=\"\", \"\",#REF!)","v":{"$error":"#REF!"}},{"$f":"IF(#REF!=\"\", \"\",#REF!)","v":{"$error":"#REF!"}},{"$f":"IF(#REF!=\"\", \"\",#REF!)","v":{"$error":"#REF!"}},{"$f":"IF(#REF!=\"\", \"\",#REF!)","v":{"$error":"#REF!"}},{"$f":"IF(#REF!=\"\", \"\",#REF!)","v":{"$error":"#REF!"}},{"$f":"IF(#REF!=\"\", \"\",#REF!)","v":{"$error":"#REF!"}},{"$f":"IF(#REF!=\"\", \"\",#REF!)","v":{"$error":"#REF!"}},{"$f":"IF(#REF!=\"\", \"\",#REF!)","v":{"$error":"#REF!"}},{"$f":"IF(#REF!=\"\", \"\",#REF!)","v":{"$error":"#REF!"}},{"$f":"IF(#REF!=\"\", \"\",#REF!)","v":{"$error":"#REF!"}}]
["Zusatzitem 13",{"$f":"IF(#REF!=\"\", \"\",#REF!)","v":{"$error":"#REF!"}},{"$f":"IF(#REF!=\"\", \"\",#REF!)","v":{"$error":"#REF!"}},{"$f":"IF(#REF!=\"\", \"\",#REF!)","v":{"$error":"#REF!"}},{"$f":"IF(#REF!=\"\", \"\",#REF!)","v":{"$error":"#REF!"}},{"$f":"IF(#REF!=\"\", \"\",#REF!)","v":{"$error":"#REF!"}},{"$f":"IF(#REF!=\"\", \"\",#REF!)","v":{"$error":"#REF!"}},{"$f":"IF(#REF!=\"\", \"\",#REF!)","v":{"$error":"#REF!"}},{"$f":"IF(#REF!=\"\", \"\",#REF!)","v":{"$error":"#REF!"}},{"$f":"IF(#REF!=\"\", \"\",#REF!)","v":{"$error":"#REF!"}},{"$f":"IF(#REF!=\"\", \"\",#REF!)","v":{"$error":"#REF!"}},{"$f":"IF(#REF!=\"\", \"\",#REF!)","v":{"$error":"#REF!"}},{"$f":"IF(#REF!=\"\", \"\",#REF!)","v":{"$error":"#REF!"}},{"$f":"IF(#REF!=\"\", \"\",#REF!)","v":{"$error":"#REF!"}},{"$f":"IF(#REF!=\"\", \"\",#REF!)","v":{"$error":"#REF!"}},{"$f":"IF(#REF!=\"\", \"\",#REF!)","v":{"$error":"#REF!"}},{"$f":"IF(#REF!=\"\", \"\",#REF!)","v":{"$error":"#REF!"}},{"$f":"IF(#REF!=\"\", \"\",#REF!)","v":{"$error":"#REF!"}},{"$f":"IF(#REF!=\"\", \"\",#REF!)","v":{"$error":"#REF!"}},{"$f":"IF(#REF!=\"\", \"\",#REF!)","v":{"$error":"#REF!"}},{"$f":"IF(#REF!=\"\", \"\",#REF!)","v":{"$error":"#REF!"}},{"$f":"IF(#REF!=\"\", \"\",#REF!)","v":{"$error":"#REF!"}},{"$f":"IF(#REF!=\"\", \"\",#REF!)","v":{"$error":"#REF!"}},{"$f":"IF(#REF!=\"\", \"\",#REF!)","v":{"$error":"#REF!"}},{"$f":"IF(#REF!=\"\", \"\",#REF!)","v":{"$error":"#REF!"}},{"$f":"IF(#REF!=\"\", \"\",#REF!)","v":{"$error":"#REF!"}},{"$f":"IF(#REF!=\"\", \"\",#REF!)","v":{"$error":"#REF!"}},{"$f":"IF(#REF!=\"\", \"\",#REF!)","v":{"$error":"#REF!"}},{"$f":"IF(#REF!=\"\", \"\",#REF!)","v":{"$error":"#REF!"}},{"$f":"IF(#REF!=\"\", \"\",#REF!)","v":{"$error":"#REF!"}},{"$f":"IF(#REF!=\"\", \"\",#REF!)","v":{"$error":"#REF!"}},{"$f":"IF(#REF!=\"\", \"\",#REF!)","v":{"$error":"#REF!"}},{"$f":"IF(#REF!=\"\", \"\",#REF!)","v":{"$error":"#REF!"}},{"$f":"IF(#REF!=\"\", \"\",#REF!)","v":{"$error":"#REF!"}},{"$f":"IF(#REF!=\"\", \"\",#REF!)","v":{"$error":"#REF!"}},{"$f":"IF(#REF!=\"\", \"\",#REF!)","v":{"$error":"#REF!"}},{"$f":"IF(#REF!=\"\", \"\",#REF!)","v":{"$error":"#REF!"}},{"$f":"IF(#REF!=\"\", \"\",#REF!)","v":{"$error":"#REF!"}},{"$f":"IF(#REF!=\"\", \"\",#REF!)","v":{"$error":"#REF!"}},{"$f":"IF(#REF!=\"\", \"\",#REF!)","v":{"$error":"#REF!"}},{"$f":"IF(#REF!=\"\", \"\",#REF!)","v":{"$error":"#REF!"}},{"$f":"IF(#REF!=\"\", \"\",#REF!)","v":{"$error":"#REF!"}},{"$f":"IF(#REF!=\"\", \"\",#REF!)","v":{"$error":"#REF!"}},{"$f":"IF(#REF!=\"\", \"\",#REF!)","v":{"$error":"#REF!"}},{"$f":"IF(#REF!=\"\", \"\",#REF!)","v":{"$error":"#REF!"}},{"$f":"IF(#REF!=\"\", \"\",#REF!)","v":{"$error":"#REF!"}},{"$f":"IF(#REF!=\"\", \"\",#REF!)","v":{"$error":"#REF!"}},{"$f":"IF(#REF!=\"\", \"\",#REF!)","v":{"$error":"#REF!"}},{"$f":"IF(#REF!=\"\", \"\",#REF!)","v":{"$error":"#REF!"}},{"$f":"IF(#REF!=\"\", \"\",#REF!)","v":{"$error":"#REF!"}},{"$f":"IF(#REF!=\"\", \"\",#REF!)","v":{"$error":"#REF!"}},{"$f":"IF(#REF!=\"\", \"\",#REF!)","v":{"$error":"#REF!"}},{"$f":"IF(#REF!=\"\", \"\",#REF!)","v":{"$error":"#REF!"}},{"$f":"IF(#REF!=\"\", \"\",#REF!)","v":{"$error":"#REF!"}},{"$f":"IF(#REF!=\"\", \"\",#REF!)","v":{"$error":"#REF!"}},{"$f":"IF(#REF!=\"\", \"\",#REF!)","v":{"$error":"#REF!"}},{"$f":"IF(#REF!=\"\", \"\",#REF!)","v":{"$error":"#REF!"}},{"$f":"IF(#REF!=\"\", \"\",#REF!)","v":{"$error":"#REF!"}},{"$f":"IF(#REF!=\"\", \"\",#REF!)","v":{"$error":"#REF!"}},{"$f":"IF(#REF!=\"\", \"\",#REF!)","v":{"$error":"#REF!"}},{"$f":"IF(#REF!=\"\", \"\",#REF!)","v":{"$error":"#REF!"}},{"$f":"IF(#REF!=\"\", \"\",#REF!)","v":{"$error":"#REF!"}}]
["Zusatzitem 14",{"$f":"IF(#REF!=\"\", \"\",#REF!)","v":{"$error":"#REF!"}},{"$f":"IF(#REF!=\"\", \"\",#REF!)","v":{"$error":"#REF!"}},{"$f":"IF(#REF!=\"\", \"\",#REF!)","v":{"$error":"#REF!"}},{"$f":"IF(#REF!=\"\", \"\",#REF!)","v":{"$error":"#REF!"}},{"$f":"IF(#REF!=\"\", \"\",#REF!)","v":{"$error":"#REF!"}},{"$f":"IF(#REF!=\"\", \"\",#REF!)","v":{"$error":"#REF!"}},{"$f":"IF(#REF!=\"\", \"\",#REF!)","v":{"$error":"#REF!"}},{"$f":"IF(#REF!=\"\", \"\",#REF!)","v":{"$error":"#REF!"}},{"$f":"IF(#REF!=\"\", \"\",#REF!)","v":{"$error":"#REF!"}},{"$f":"IF(#REF!=\"\", \"\",#REF!)","v":{"$error":"#REF!"}},{"$f":"IF(#REF!=\"\", \"\",#REF!)","v":{"$error":"#REF!"}},{"$f":"IF(#REF!=\"\", \"\",#REF!)","v":{"$error":"#REF!"}},{"$f":"IF(#REF!=\"\", \"\",#REF!)","v":{"$error":"#REF!"}},{"$f":"IF(#REF!=\"\", \"\",#REF!)","v":{"$error":"#REF!"}},{"$f":"IF(#REF!=\"\", \"\",#REF!)","v":{"$error":"#REF!"}},{"$f":"IF(#REF!=\"\", \"\",#REF!)","v":{"$error":"#REF!"}},{"$f":"IF(#REF!=\"\", \"\",#REF!)","v":{"$error":"#REF!"}},{"$f":"IF(#REF!=\"\", \"\",#REF!)","v":{"$error":"#REF!"}},{"$f":"IF(#REF!=\"\", \"\",#REF!)","v":{"$error":"#REF!"}},{"$f":"IF(#REF!=\"\", \"\",#REF!)","v":{"$error":"#REF!"}},{"$f":"IF(#REF!=\"\", \"\",#REF!)","v":{"$error":"#REF!"}},{"$f":"IF(#REF!=\"\", \"\",#REF!)","v":{"$error":"#REF!"}},{"$f":"IF(#REF!=\"\", \"\",#REF!)","v":{"$error":"#REF!"}},{"$f":"IF(#REF!=\"\", \"\",#REF!)","v":{"$error":"#REF!"}},{"$f":"IF(#REF!=\"\", \"\",#REF!)","v":{"$error":"#REF!"}},{"$f":"IF(#REF!=\"\", \"\",#REF!)","v":{"$error":"#REF!"}},{"$f":"IF(#REF!=\"\", \"\",#REF!)","v":{"$error":"#REF!"}},{"$f":"IF(#REF!=\"\", \"\",#REF!)","v":{"$error":"#REF!"}},{"$f":"IF(#REF!=\"\", \"\",#REF!)","v":{"$error":"#REF!"}},{"$f":"IF(#REF!=\"\", \"\",#REF!)","v":{"$error":"#REF!"}},{"$f":"IF(#REF!=\"\", \"\",#REF!)","v":{"$error":"#REF!"}},{"$f":"IF(#REF!=\"\", \"\",#REF!)","v":{"$error":"#REF!"}},{"$f":"IF(#REF!=\"\", \"\",#REF!)","v":{"$error":"#REF!"}},{"$f":"IF(#REF!=\"\", \"\",#REF!)","v":{"$error":"#REF!"}},{"$f":"IF(#REF!=\"\", \"\",#REF!)","v":{"$error":"#REF!"}},{"$f":"IF(#REF!=\"\", \"\",#REF!)","v":{"$error":"#REF!"}},{"$f":"IF(#REF!=\"\", \"\",#REF!)","v":{"$error":"#REF!"}},{"$f":"IF(#REF!=\"\", \"\",#REF!)","v":{"$error":"#REF!"}},{"$f":"IF(#REF!=\"\", \"\",#REF!)","v":{"$error":"#REF!"}},{"$f":"IF(#REF!=\"\", \"\",#REF!)","v":{"$error":"#REF!"}},{"$f":"IF(#REF!=\"\", \"\",#REF!)","v":{"$error":"#REF!"}},{"$f":"IF(#REF!=\"\", \"\",#REF!)","v":{"$error":"#REF!"}},{"$f":"IF(#REF!=\"\", \"\",#REF!)","v":{"$error":"#REF!"}},{"$f":"IF(#REF!=\"\", \"\",#REF!)","v":{"$error":"#REF!"}},{"$f":"IF(#REF!=\"\", \"\",#REF!)","v":{"$error":"#REF!"}},{"$f":"IF(#REF!=\"\", \"\",#REF!)","v":{"$error":"#REF!"}},{"$f":"IF(#REF!=\"\", \"\",#REF!)","v":{"$error":"#REF!"}},{"$f":"IF(#REF!=\"\", \"\",#REF!)","v":{"$error":"#REF!"}},{"$f":"IF(#REF!=\"\", \"\",#REF!)","v":{"$error":"#REF!"}},{"$f":"IF(#REF!=\"\", \"\",#REF!)","v":{"$error":"#REF!"}},{"$f":"IF(#REF!=\"\", \"\",#REF!)","v":{"$error":"#REF!"}},{"$f":"IF(#REF!=\"\", \"\",#REF!)","v":{"$error":"#REF!"}},{"$f":"IF(#REF!=\"\", \"\",#REF!)","v":{"$error":"#REF!"}},{"$f":"IF(#REF!=\"\", \"\",#REF!)","v":{"$error":"#REF!"}},{"$f":"IF(#REF!=\"\", \"\",#REF!)","v":{"$error":"#REF!"}},{"$f":"IF(#REF!=\"\", \"\",#REF!)","v":{"$error":"#REF!"}},{"$f":"IF(#REF!=\"\", \"\",#REF!)","v":{"$error":"#REF!"}},{"$f":"IF(#REF!=\"\", \"\",#REF!)","v":{"$error":"#REF!"}},{"$f":"IF(#REF!=\"\", \"\",#REF!)","v":{"$error":"#REF!"}},{"$f":"IF(#REF!=\"\", \"\",#REF!)","v":{"$error":"#REF!"}},{"$f":"IF(#REF!=\"\", \"\",#REF!)","v":{"$error":"#REF!"}}]
["Zusatzitem 15",{"$f":"IF(#REF!=\"\", \"\",#REF!)","v":{"$error":"#REF!"}},{"$f":"IF(#REF!=\"\", \"\",#REF!)","v":{"$error":"#REF!"}},{"$f":"IF(#REF!=\"\", \"\",#REF!)","v":{"$error":"#REF!"}},{"$f":"IF(#REF!=\"\", \"\",#REF!)","v":{"$error":"#REF!"}},{"$f":"IF(#REF!=\"\", \"\",#REF!)","v":{"$error":"#REF!"}},{"$f":"IF(#REF!=\"\", \"\",#REF!)","v":{"$error":"#REF!"}},{"$f":"IF(#REF!=\"\", \"\",#REF!)","v":{"$error":"#REF!"}},{"$f":"IF(#REF!=\"\", \"\",#REF!)","v":{"$error":"#REF!"}},{"$f":"IF(#REF!=\"\", \"\",#REF!)","v":{"$error":"#REF!"}},{"$f":"IF(#REF!=\"\", \"\",#REF!)","v":{"$error":"#REF!"}},{"$f":"IF(#REF!=\"\", \"\",#REF!)","v":{"$error":"#REF!"}},{"$f":"IF(#REF!=\"\", \"\",#REF!)","v":{"$error":"#REF!"}},{"$f":"IF(#REF!=\"\", \"\",#REF!)","v":{"$error":"#REF!"}},{"$f":"IF(#REF!=\"\", \"\",#REF!)","v":{"$error":"#REF!"}},{"$f":"IF(#REF!=\"\", \"\",#REF!)","v":{"$error":"#REF!"}},{"$f":"IF(#REF!=\"\", \"\",#REF!)","v":{"$error":"#REF!"}},{"$f":"IF(#REF!=\"\", \"\",#REF!)","v":{"$error":"#REF!"}},{"$f":"IF(#REF!=\"\", \"\",#REF!)","v":{"$error":"#REF!"}},{"$f":"IF(#REF!=\"\", \"\",#REF!)","v":{"$error":"#REF!"}},{"$f":"IF(#REF!=\"\", \"\",#REF!)","v":{"$error":"#REF!"}},{"$f":"IF(#REF!=\"\", \"\",#REF!)","v":{"$error":"#REF!"}},{"$f":"IF(#REF!=\"\", \"\",#REF!)","v":{"$error":"#REF!"}},{"$f":"IF(#REF!=\"\", \"\",#REF!)","v":{"$error":"#REF!"}},{"$f":"IF(#REF!=\"\", \"\",#REF!)","v":{"$error":"#REF!"}},{"$f":"IF(#REF!=\"\", \"\",#REF!)","v":{"$error":"#REF!"}},{"$f":"IF(#REF!=\"\", \"\",#REF!)","v":{"$error":"#REF!"}},{"$f":"IF(#REF!=\"\", \"\",#REF!)","v":{"$error":"#REF!"}},{"$f":"IF(#REF!=\"\", \"\",#REF!)","v":{"$error":"#REF!"}},{"$f":"IF(#REF!=\"\", \"\",#REF!)","v":{"$error":"#REF!"}},{"$f":"IF(#REF!=\"\", \"\",#REF!)","v":{"$error":"#REF!"}},{"$f":"IF(#REF!=\"\", \"\",#REF!)","v":{"$error":"#REF!"}},{"$f":"IF(#REF!=\"\", \"\",#REF!)","v":{"$error":"#REF!"}},{"$f":"IF(#REF!=\"\", \"\",#REF!)","v":{"$error":"#REF!"}},{"$f":"IF(#REF!=\"\", \"\",#REF!)","v":{"$error":"#REF!"}},{"$f":"IF(#REF!=\"\", \"\",#REF!)","v":{"$error":"#REF!"}},{"$f":"IF(#REF!=\"\", \"\",#REF!)","v":{"$error":"#REF!"}},{"$f":"IF(#REF!=\"\", \"\",#REF!)","v":{"$error":"#REF!"}},{"$f":"IF(#REF!=\"\", \"\",#REF!)","v":{"$error":"#REF!"}},{"$f":"IF(#REF!=\"\", \"\",#REF!)","v":{"$error":"#REF!"}},{"$f":"IF(#REF!=\"\", \"\",#REF!)","v":{"$error":"#REF!"}},{"$f":"IF(#REF!=\"\", \"\",#REF!)","v":{"$error":"#REF!"}},{"$f":"IF(#REF!=\"\", \"\",#REF!)","v":{"$error":"#REF!"}},{"$f":"IF(#REF!=\"\", \"\",#REF!)","v":{"$error":"#REF!"}},{"$f":"IF(#REF!=\"\", \"\",#REF!)","v":{"$error":"#REF!"}},{"$f":"IF(#REF!=\"\", \"\",#REF!)","v":{"$error":"#REF!"}},{"$f":"IF(#REF!=\"\", \"\",#REF!)","v":{"$error":"#REF!"}},{"$f":"IF(#REF!=\"\", \"\",#REF!)","v":{"$error":"#REF!"}},{"$f":"IF(#REF!=\"\", \"\",#REF!)","v":{"$error":"#REF!"}},{"$f":"IF(#REF!=\"\", \"\",#REF!)","v":{"$error":"#REF!"}},{"$f":"IF(#REF!=\"\", \"\",#REF!)","v":{"$error":"#REF!"}},{"$f":"IF(#REF!=\"\", \"\",#REF!)","v":{"$error":"#REF!"}},{"$f":"IF(#REF!=\"\", \"\",#REF!)","v":{"$error":"#REF!"}},{"$f":"IF(#REF!=\"\", \"\",#REF!)","v":{"$error":"#REF!"}},{"$f":"IF(#REF!=\"\", \"\",#REF!)","v":{"$error":"#REF!"}},{"$f":"IF(#REF!=\"\", \"\",#REF!)","v":{"$error":"#REF!"}},{"$f":"IF(#REF!=\"\", \"\",#REF!)","v":{"$error":"#REF!"}},{"$f":"IF(#REF!=\"\", \"\",#REF!)","v":{"$error":"#REF!"}},{"$f":"IF(#REF!=\"\", \"\",#REF!)","v":{"$error":"#REF!"}},{"$f":"IF(#REF!=\"\", \"\",#REF!)","v":{"$error":"#REF!"}},{"$f":"IF(#REF!=\"\", \"\",#REF!)","v":{"$error":"#REF!"}},{"$f":"IF(#REF!=\"\", \"\",#REF!)","v":{"$error":"#REF!"}}]
["Zusatzitem 16",{"$f":"IF(#REF!=\"\", \"\",#REF!)","v":{"$error":"#REF!"}},{"$f":"IF(#REF!=\"\", \"\",#REF!)","v":{"$error":"#REF!"}},{"$f":"IF(#REF!=\"\", \"\",#REF!)","v":{"$error":"#REF!"}},{"$f":"IF(#REF!=\"\", \"\",#REF!)","v":{"$error":"#REF!"}},{"$f":"IF(#REF!=\"\", \"\",#REF!)","v":{"$error":"#REF!"}},{"$f":"IF(#REF!=\"\", \"\",#REF!)","v":{"$error":"#REF!"}},{"$f":"IF(#REF!=\"\", \"\",#REF!)","v":{"$error":"#REF!"}},{"$f":"IF(#REF!=\"\", \"\",#REF!)","v":{"$error":"#REF!"}},{"$f":"IF(#REF!=\"\", \"\",#REF!)","v":{"$error":"#REF!"}},{"$f":"IF(#REF!=\"\", \"\",#REF!)","v":{"$error":"#REF!"}},{"$f":"IF(#REF!=\"\", \"\",#REF!)","v":{"$error":"#REF!"}},{"$f":"IF(#REF!=\"\", \"\",#REF!)","v":{"$error":"#REF!"}},{"$f":"IF(#REF!=\"\", \"\",#REF!)","v":{"$error":"#REF!"}},{"$f":"IF(#REF!=\"\", \"\",#REF!)","v":{"$error":"#REF!"}},{"$f":"IF(#REF!=\"\", \"\",#REF!)","v":{"$error":"#REF!"}},{"$f":"IF(#REF!=\"\", \"\",#REF!)","v":{"$error":"#REF!"}},{"$f":"IF(#REF!=\"\", \"\",#REF!)","v":{"$error":"#REF!"}},{"$f":"IF(#REF!=\"\", \"\",#REF!)","v":{"$error":"#REF!"}},{"$f":"IF(#REF!=\"\", \"\",#REF!)","v":{"$error":"#REF!"}},{"$f":"IF(#REF!=\"\", \"\",#REF!)","v":{"$error":"#REF!"}},{"$f":"IF(#REF!=\"\", \"\",#REF!)","v":{"$error":"#REF!"}},{"$f":"IF(#REF!=\"\", \"\",#REF!)","v":{"$error":"#REF!"}},{"$f":"IF(#REF!=\"\", \"\",#REF!)","v":{"$error":"#REF!"}},{"$f":"IF(#REF!=\"\", \"\",#REF!)","v":{"$error":"#REF!"}},{"$f":"IF(#REF!=\"\", \"\",#REF!)","v":{"$error":"#REF!"}},{"$f":"IF(#REF!=\"\", \"\",#REF!)","v":{"$error":"#REF!"}},{"$f":"IF(#REF!=\"\", \"\",#REF!)","v":{"$error":"#REF!"}},{"$f":"IF(#REF!=\"\", \"\",#REF!)","v":{"$error":"#REF!"}},{"$f":"IF(#REF!=\"\", \"\",#REF!)","v":{"$error":"#REF!"}},{"$f":"IF(#REF!=\"\", \"\",#REF!)","v":{"$error":"#REF!"}},{"$f":"IF(#REF!=\"\", \"\",#REF!)","v":{"$error":"#REF!"}},{"$f":"IF(#REF!=\"\", \"\",#REF!)","v":{"$error":"#REF!"}},{"$f":"IF(#REF!=\"\", \"\",#REF!)","v":{"$error":"#REF!"}},{"$f":"IF(#REF!=\"\", \"\",#REF!)","v":{"$error":"#REF!"}},{"$f":"IF(#REF!=\"\", \"\",#REF!)","v":{"$error":"#REF!"}},{"$f":"IF(#REF!=\"\", \"\",#REF!)","v":{"$error":"#REF!"}},{"$f":"IF(#REF!=\"\", \"\",#REF!)","v":{"$error":"#REF!"}},{"$f":"IF(#REF!=\"\", \"\",#REF!)","v":{"$error":"#REF!"}},{"$f":"IF(#REF!=\"\", \"\",#REF!)","v":{"$error":"#REF!"}},{"$f":"IF(#REF!=\"\", \"\",#REF!)","v":{"$error":"#REF!"}},{"$f":"IF(#REF!=\"\", \"\",#REF!)","v":{"$error":"#REF!"}},{"$f":"IF(#REF!=\"\", \"\",#REF!)","v":{"$error":"#REF!"}},{"$f":"IF(#REF!=\"\", \"\",#REF!)","v":{"$error":"#REF!"}},{"$f":"IF(#REF!=\"\", \"\",#REF!)","v":{"$error":"#REF!"}},{"$f":"IF(#REF!=\"\", \"\",#REF!)","v":{"$error":"#REF!"}},{"$f":"IF(#REF!=\"\", \"\",#REF!)","v":{"$error":"#REF!"}},{"$f":"IF(#REF!=\"\", \"\",#REF!)","v":{"$error":"#REF!"}},{"$f":"IF(#REF!=\"\", \"\",#REF!)","v":{"$error":"#REF!"}},{"$f":"IF(#REF!=\"\", \"\",#REF!)","v":{"$error":"#REF!"}},{"$f":"IF(#REF!=\"\", \"\",#REF!)","v":{"$error":"#REF!"}},{"$f":"IF(#REF!=\"\", \"\",#REF!)","v":{"$error":"#REF!"}},{"$f":"IF(#REF!=\"\", \"\",#REF!)","v":{"$error":"#REF!"}},{"$f":"IF(#REF!=\"\", \"\",#REF!)","v":{"$error":"#REF!"}},{"$f":"IF(#REF!=\"\", \"\",#REF!)","v":{"$error":"#REF!"}},{"$f":"IF(#REF!=\"\", \"\",#REF!)","v":{"$error":"#REF!"}},{"$f":"IF(#REF!=\"\", \"\",#REF!)","v":{"$error":"#REF!"}},{"$f":"IF(#REF!=\"\", \"\",#REF!)","v":{"$error":"#REF!"}},{"$f":"IF(#REF!=\"\", \"\",#REF!)","v":{"$error":"#REF!"}},{"$f":"IF(#REF!=\"\", \"\",#REF!)","v":{"$error":"#REF!"}},{"$f":"IF(#REF!=\"\", \"\",#REF!)","v":{"$error":"#REF!"}},{"$f":"IF(#REF!=\"\", \"\",#REF!)","v":{"$error":"#REF!"}}]
["Zusatzitem 17",{"$f":"IF(#REF!=\"\", \"\",#REF!)","v":{"$error":"#REF!"}},{"$f":"IF(#REF!=\"\", \"\",#REF!)","v":{"$error":"#REF!"}},{"$f":"IF(#REF!=\"\", \"\",#REF!)","v":{"$error":"#REF!"}},{"$f":"IF(#REF!=\"\", \"\",#REF!)","v":{"$error":"#REF!"}},{"$f":"IF(#REF!=\"\", \"\",#REF!)","v":{"$error":"#REF!"}},{"$f":"IF(#REF!=\"\", \"\",#REF!)","v":{"$error":"#REF!"}},{"$f":"IF(#REF!=\"\", \"\",#REF!)","v":{"$error":"#REF!"}},{"$f":"IF(#REF!=\"\", \"\",#REF!)","v":{"$error":"#REF!"}},{"$f":"IF(#REF!=\"\", \"\",#REF!)","v":{"$error":"#REF!"}},{"$f":"IF(#REF!=\"\", \"\",#REF!)","v":{"$error":"#REF!"}},{"$f":"IF(#REF!=\"\", \"\",#REF!)","v":{"$error":"#REF!"}},{"$f":"IF(#REF!=\"\", \"\",#REF!)","v":{"$error":"#REF!"}},{"$f":"IF(#REF!=\"\", \"\",#REF!)","v":{"$error":"#REF!"}},{"$f":"IF(#REF!=\"\", \"\",#REF!)","v":{"$error":"#REF!"}},{"$f":"IF(#REF!=\"\", \"\",#REF!)","v":{"$error":"#REF!"}},{"$f":"IF(#REF!=\"\", \"\",#REF!)","v":{"$error":"#REF!"}},{"$f":"IF(#REF!=\"\", \"\",#REF!)","v":{"$error":"#REF!"}},{"$f":"IF(#REF!=\"\", \"\",#REF!)","v":{"$error":"#REF!"}},{"$f":"IF(#REF!=\"\", \"\",#REF!)","v":{"$error":"#REF!"}},{"$f":"IF(#REF!=\"\", \"\",#REF!)","v":{"$error":"#REF!"}},{"$f":"IF(#REF!=\"\", \"\",#REF!)","v":{"$error":"#REF!"}},{"$f":"IF(#REF!=\"\", \"\",#REF!)","v":{"$error":"#REF!"}},{"$f":"IF(#REF!=\"\", \"\",#REF!)","v":{"$error":"#REF!"}},{"$f":"IF(#REF!=\"\", \"\",#REF!)","v":{"$error":"#REF!"}},{"$f":"IF(#REF!=\"\", \"\",#REF!)","v":{"$error":"#REF!"}},{"$f":"IF(#REF!=\"\", \"\",#REF!)","v":{"$error":"#REF!"}},{"$f":"IF(#REF!=\"\", \"\",#REF!)","v":{"$error":"#REF!"}},{"$f":"IF(#REF!=\"\", \"\",#REF!)","v":{"$error":"#REF!"}},{"$f":"IF(#REF!=\"\", \"\",#REF!)","v":{"$error":"#REF!"}},{"$f":"IF(#REF!=\"\", \"\",#REF!)","v":{"$error":"#REF!"}},{"$f":"IF(#REF!=\"\", \"\",#REF!)","v":{"$error":"#REF!"}},{"$f":"IF(#REF!=\"\", \"\",#REF!)","v":{"$error":"#REF!"}},{"$f":"IF(#REF!=\"\", \"\",#REF!)","v":{"$error":"#REF!"}},{"$f":"IF(#REF!=\"\", \"\",#REF!)","v":{"$error":"#REF!"}},{"$f":"IF(#REF!=\"\", \"\",#REF!)","v":{"$error":"#REF!"}},{"$f":"IF(#REF!=\"\", \"\",#REF!)","v":{"$error":"#REF!"}},{"$f":"IF(#REF!=\"\", \"\",#REF!)","v":{"$error":"#REF!"}},{"$f":"IF(#REF!=\"\", \"\",#REF!)","v":{"$error":"#REF!"}},{"$f":"IF(#REF!=\"\", \"\",#REF!)","v":{"$error":"#REF!"}},{"$f":"IF(#REF!=\"\", \"\",#REF!)","v":{"$error":"#REF!"}},{"$f":"IF(#REF!=\"\", \"\",#REF!)","v":{"$error":"#REF!"}},{"$f":"IF(#REF!=\"\", \"\",#REF!)","v":{"$error":"#REF!"}},{"$f":"IF(#REF!=\"\", \"\",#REF!)","v":{"$error":"#REF!"}},{"$f":"IF(#REF!=\"\", \"\",#REF!)","v":{"$error":"#REF!"}},{"$f":"IF(#REF!=\"\", \"\",#REF!)","v":{"$error":"#REF!"}},{"$f":"IF(#REF!=\"\", \"\",#REF!)","v":{"$error":"#REF!"}},{"$f":"IF(#REF!=\"\", \"\",#REF!)","v":{"$error":"#REF!"}},{"$f":"IF(#REF!=\"\", \"\",#REF!)","v":{"$error":"#REF!"}},{"$f":"IF(#REF!=\"\", \"\",#REF!)","v":{"$error":"#REF!"}},{"$f":"IF(#REF!=\"\", \"\",#REF!)","v":{"$error":"#REF!"}},{"$f":"IF(#REF!=\"\", \"\",#REF!)","v":{"$error":"#REF!"}},{"$f":"IF(#REF!=\"\", \"\",#REF!)","v":{"$error":"#REF!"}},{"$f":"IF(#REF!=\"\", \"\",#REF!)","v":{"$error":"#REF!"}},{"$f":"IF(#REF!=\"\", \"\",#REF!)","v":{"$error":"#REF!"}},{"$f":"IF(#REF!=\"\", \"\",#REF!)","v":{"$error":"#REF!"}},{"$f":"IF(#REF!=\"\", \"\",#REF!)","v":{"$error":"#REF!"}},{"$f":"IF(#REF!=\"\", \"\",#REF!)","v":{"$error":"#REF!"}},{"$f":"IF(#REF!=\"\", \"\",#REF!)","v":{"$error":"#REF!"}},{"$f":"IF(#REF!=\"\", \"\",#REF!)","v":{"$error":"#REF!"}},{"$f":"IF(#REF!=\"\", \"\",#REF!)","v":{"$error":"#REF!"}},{"$f":"IF(#REF!=\"\", \"\",#REF!)","v":{"$error":"#REF!"}}]
["Zusatzitem 18",{"$f":"IF(#REF!=\"\", \"\",#REF!)","v":{"$error":"#REF!"}},{"$f":"IF(#REF!=\"\", \"\",#REF!)","v":{"$error":"#REF!"}},{"$f":"IF(#REF!=\"\", \"\",#REF!)","v":{"$error":"#REF!"}},{"$f":"IF(#REF!=\"\", \"\",#REF!)","v":{"$error":"#REF!"}},{"$f":"IF(#REF!=\"\", \"\",#REF!)","v":{"$error":"#REF!"}},{"$f":"IF(#REF!=\"\", \"\",#REF!)","v":{"$error":"#REF!"}},{"$f":"IF(#REF!=\"\", \"\",#REF!)","v":{"$error":"#REF!"}},{"$f":"IF(#REF!=\"\", \"\",#REF!)","v":{"$error":"#REF!"}},{"$f":"IF(#REF!=\"\", \"\",#REF!)","v":{"$error":"#REF!"}},{"$f":"IF(#REF!=\"\", \"\",#REF!)","v":{"$error":"#REF!"}},{"$f":"IF(#REF!=\"\", \"\",#REF!)","v":{"$error":"#REF!"}},{"$f":"IF(#REF!=\"\", \"\",#REF!)","v":{"$error":"#REF!"}},{"$f":"IF(#REF!=\"\", \"\",#REF!)","v":{"$error":"#REF!"}},{"$f":"IF(#REF!=\"\", \"\",#REF!)","v":{"$error":"#REF!"}},{"$f":"IF(#REF!=\"\", \"\",#REF!)","v":{"$error":"#REF!"}},{"$f":"IF(#REF!=\"\", \"\",#REF!)","v":{"$error":"#REF!"}},{"$f":"IF(#REF!=\"\", \"\",#REF!)","v":{"$error":"#REF!"}},{"$f":"IF(#REF!=\"\", \"\",#REF!)","v":{"$error":"#REF!"}},{"$f":"IF(#REF!=\"\", \"\",#REF!)","v":{"$error":"#REF!"}},{"$f":"IF(#REF!=\"\", \"\",#REF!)","v":{"$error":"#REF!"}},{"$f":"IF(#REF!=\"\", \"\",#REF!)","v":{"$error":"#REF!"}},{"$f":"IF(#REF!=\"\", \"\",#REF!)","v":{"$error":"#REF!"}},{"$f":"IF(#REF!=\"\", \"\",#REF!)","v":{"$error":"#REF!"}},{"$f":"IF(#REF!=\"\", \"\",#REF!)","v":{"$error":"#REF!"}},{"$f":"IF(#REF!=\"\", \"\",#REF!)","v":{"$error":"#REF!"}},{"$f":"IF(#REF!=\"\", \"\",#REF!)","v":{"$error":"#REF!"}},{"$f":"IF(#REF!=\"\", \"\",#REF!)","v":{"$error":"#REF!"}},{"$f":"IF(#REF!=\"\", \"\",#REF!)","v":{"$error":"#REF!"}},{"$f":"IF(#REF!=\"\", \"\",#REF!)","v":{"$error":"#REF!"}},{"$f":"IF(#REF!=\"\", \"\",#REF!)","v":{"$error":"#REF!"}},{"$f":"IF(#REF!=\"\", \"\",#REF!)","v":{"$error":"#REF!"}},{"$f":"IF(#REF!=\"\", \"\",#REF!)","v":{"$error":"#REF!"}},{"$f":"IF(#REF!=\"\", \"\",#REF!)","v":{"$error":"#REF!"}},{"$f":"IF(#REF!=\"\", \"\",#REF!)","v":{"$error":"#REF!"}},{"$f":"IF(#REF!=\"\", \"\",#REF!)","v":{"$error":"#REF!"}},{"$f":"IF(#REF!=\"\", \"\",#REF!)","v":{"$error":"#REF!"}},{"$f":"IF(#REF!=\"\", \"\",#REF!)","v":{"$error":"#REF!"}},{"$f":"IF(#REF!=\"\", \"\",#REF!)","v":{"$error":"#REF!"}},{"$f":"IF(#REF!=\"\", \"\",#REF!)","v":{"$error":"#REF!"}},{"$f":"IF(#REF!=\"\", \"\",#REF!)","v":{"$error":"#REF!"}},{"$f":"IF(#REF!=\"\", \"\",#REF!)","v":{"$error":"#REF!"}},{"$f":"IF(#REF!=\"\", \"\",#REF!)","v":{"$error":"#REF!"}},{"$f":"IF(#REF!=\"\", \"\",#REF!)","v":{"$error":"#REF!"}},{"$f":"IF(#REF!=\"\", \"\",#REF!)","v":{"$error":"#REF!"}},{"$f":"IF(#REF!=\"\", \"\",#REF!)","v":{"$error":"#REF!"}},{"$f":"IF(#REF!=\"\", \"\",#REF!)","v":{"$error":"#REF!"}},{"$f":"IF(#REF!=\"\", \"\",#REF!)","v":{"$error":"#REF!"}},{"$f":"IF(#REF!=\"\", \"\",#REF!)","v":{"$error":"#REF!"}},{"$f":"IF(#REF!=\"\", \"\",#REF!)","v":{"$error":"#REF!"}},{"$f":"IF(#REF!=\"\", \"\",#REF!)","v":{"$error":"#REF!"}},{"$f":"IF(#REF!=\"\", \"\",#REF!)","v":{"$error":"#REF!"}},{"$f":"IF(#REF!=\"\", \"\",#REF!)","v":{"$error":"#REF!"}},{"$f":"IF(#REF!=\"\", \"\",#REF!)","v":{"$error":"#REF!"}},{"$f":"IF(#REF!=\"\", \"\",#REF!)","v":{"$error":"#REF!"}},{"$f":"IF(#REF!=\"\", \"\",#REF!)","v":{"$error":"#REF!"}},{"$f":"IF(#REF!=\"\", \"\",#REF!)","v":{"$error":"#REF!"}},{"$f":"IF(#REF!=\"\", \"\",#REF!)","v":{"$error":"#REF!"}},{"$f":"IF(#REF!=\"\", \"\",#REF!)","v":{"$error":"#REF!"}},{"$f":"IF(#REF!=\"\", \"\",#REF!)","v":{"$error":"#REF!"}},{"$f":"IF(#REF!=\"\", \"\",#REF!)","v":{"$error":"#REF!"}},{"$f":"IF(#REF!=\"\", \"\",#REF!)","v":{"$error":"#REF!"}}]
["Zusatzitem 19",{"$f":"IF(#REF!=\"\", \"\",#REF!)","v":{"$error":"#REF!"}},{"$f":"IF(#REF!=\"\", \"\",#REF!)","v":{"$error":"#REF!"}},{"$f":"IF(#REF!=\"\", \"\",#REF!)","v":{"$error":"#REF!"}},{"$f":"IF(#REF!=\"\", \"\",#REF!)","v":{"$error":"#REF!"}},{"$f":"IF(#REF!=\"\", \"\",#REF!)","v":{"$error":"#REF!"}},{"$f":"IF(#REF!=\"\", \"\",#REF!)","v":{"$error":"#REF!"}},{"$f":"IF(#REF!=\"\", \"\",#REF!)","v":{"$error":"#REF!"}},{"$f":"IF(#REF!=\"\", \"\",#REF!)","v":{"$error":"#REF!"}},{"$f":"IF(#REF!=\"\", \"\",#REF!)","v":{"$error":"#REF!"}},{"$f":"IF(#REF!=\"\", \"\",#REF!)","v":{"$error":"#REF!"}},{"$f":"IF(#REF!=\"\", \"\",#REF!)","v":{"$error":"#REF!"}},{"$f":"IF(#REF!=\"\", \"\",#REF!)","v":{"$error":"#REF!"}},{"$f":"IF(#REF!=\"\", \"\",#REF!)","v":{"$error":"#REF!"}},{"$f":"IF(#REF!=\"\", \"\",#REF!)","v":{"$error":"#REF!"}},{"$f":"IF(#REF!=\"\", \"\",#REF!)","v":{"$error":"#REF!"}},{"$f":"IF(#REF!=\"\", \"\",#REF!)","v":{"$error":"#REF!"}},{"$f":"IF(#REF!=\"\", \"\",#REF!)","v":{"$error":"#REF!"}},{"$f":"IF(#REF!=\"\", \"\",#REF!)","v":{"$error":"#REF!"}},{"$f":"IF(#REF!=\"\", \"\",#REF!)","v":{"$error":"#REF!"}},{"$f":"IF(#REF!=\"\", \"\",#REF!)","v":{"$error":"#REF!"}},{"$f":"IF(#REF!=\"\", \"\",#REF!)","v":{"$error":"#REF!"}},{"$f":"IF(#REF!=\"\", \"\",#REF!)","v":{"$error":"#REF!"}},{"$f":"IF(#REF!=\"\", \"\",#REF!)","v":{"$error":"#REF!"}},{"$f":"IF(#REF!=\"\", \"\",#REF!)","v":{"$error":"#REF!"}},{"$f":"IF(#REF!=\"\", \"\",#REF!)","v":{"$error":"#REF!"}},{"$f":"IF(#REF!=\"\", \"\",#REF!)","v":{"$error":"#REF!"}},{"$f":"IF(#REF!=\"\", \"\",#REF!)","v":{"$error":"#REF!"}},{"$f":"IF(#REF!=\"\", \"\",#REF!)","v":{"$error":"#REF!"}},{"$f":"IF(#REF!=\"\", \"\",#REF!)","v":{"$error":"#REF!"}},{"$f":"IF(#REF!=\"\", \"\",#REF!)","v":{"$error":"#REF!"}},{"$f":"IF(#REF!=\"\", \"\",#REF!)","v":{"$error":"#REF!"}},{"$f":"IF(#REF!=\"\", \"\",#REF!)","v":{"$error":"#REF!"}},{"$f":"IF(#REF!=\"\", \"\",#REF!)","v":{"$error":"#REF!"}},{"$f":"IF(#REF!=\"\", \"\",#REF!)","v":{"$error":"#REF!"}},{"$f":"IF(#REF!=\"\", \"\",#REF!)","v":{"$error":"#REF!"}},{"$f":"IF(#REF!=\"\", \"\",#REF!)","v":{"$error":"#REF!"}},{"$f":"IF(#REF!=\"\", \"\",#REF!)","v":{"$error":"#REF!"}},{"$f":"IF(#REF!=\"\", \"\",#REF!)","v":{"$error":"#REF!"}},{"$f":"IF(#REF!=\"\", \"\",#REF!)","v":{"$error":"#REF!"}},{"$f":"IF(#REF!=\"\", \"\",#REF!)","v":{"$error":"#REF!"}},{"$f":"IF(#REF!=\"\", \"\",#REF!)","v":{"$error":"#REF!"}},{"$f":"IF(#REF!=\"\", \"\",#REF!)","v":{"$error":"#REF!"}},{"$f":"IF(#REF!=\"\", \"\",#REF!)","v":{"$error":"#REF!"}},{"$f":"IF(#REF!=\"\", \"\",#REF!)","v":{"$error":"#REF!"}},{"$f":"IF(#REF!=\"\", \"\",#REF!)","v":{"$error":"#REF!"}},{"$f":"IF(#REF!=\"\", \"\",#REF!)","v":{"$error":"#REF!"}},{"$f":"IF(#REF!=\"\", \"\",#REF!)","v":{"$error":"#REF!"}},{"$f":"IF(#REF!=\"\", \"\",#REF!)","v":{"$error":"#REF!"}},{"$f":"IF(#REF!=\"\", \"\",#REF!)","v":{"$error":"#REF!"}},{"$f":"IF(#REF!=\"\", \"\",#REF!)","v":{"$error":"#REF!"}},{"$f":"IF(#REF!=\"\", \"\",#REF!)","v":{"$error":"#REF!"}},{"$f":"IF(#REF!=\"\", \"\",#REF!)","v":{"$error":"#REF!"}},{"$f":"IF(#REF!=\"\", \"\",#REF!)","v":{"$error":"#REF!"}},{"$f":"IF(#REF!=\"\", \"\",#REF!)","v":{"$error":"#REF!"}},{"$f":"IF(#REF!=\"\", \"\",#REF!)","v":{"$error":"#REF!"}},{"$f":"IF(#REF!=\"\", \"\",#REF!)","v":{"$error":"#REF!"}},{"$f":"IF(#REF!=\"\", \"\",#REF!)","v":{"$error":"#REF!"}},{"$f":"IF(#REF!=\"\", \"\",#REF!)","v":{"$error":"#REF!"}},{"$f":"IF(#REF!=\"\", \"\",#REF!)","v":{"$error":"#REF!"}},{"$f":"IF(#REF!=\"\", \"\",#REF!)","v":{"$error":"#REF!"}},{"$f":"IF(#REF!=\"\", \"\",#REF!)","v":{"$error":"#REF!"}}]
["Zusatzitem 20",{"$f":"IF(#REF!=\"\", \"\",#REF!)","v":{"$error":"#REF!"}},{"$f":"IF(#REF!=\"\", \"\",#REF!)","v":{"$error":"#REF!"}},{"$f":"IF(#REF!=\"\", \"\",#REF!)","v":{"$error":"#REF!"}},{"$f":"IF(#REF!=\"\", \"\",#REF!)","v":{"$error":"#REF!"}},{"$f":"IF(#REF!=\"\", \"\",#REF!)","v":{"$error":"#REF!"}},{"$f":"IF(#REF!=\"\", \"\",#REF!)","v":{"$error":"#REF!"}},{"$f":"IF(#REF!=\"\", \"\",#REF!)","v":{"$error":"#REF!"}},{"$f":"IF(#REF!=\"\", \"\",#REF!)","v":{"$error":"#REF!"}},{"$f":"IF(#REF!=\"\", \"\",#REF!)","v":{"$error":"#REF!"}},{"$f":"IF(#REF!=\"\", \"\",#REF!)","v":{"$error":"#REF!"}},{"$f":"IF(#REF!=\"\", \"\",#REF!)","v":{"$error":"#REF!"}},{"$f":"IF(#REF!=\"\", \"\",#REF!)","v":{"$error":"#REF!"}},{"$f":"IF(#REF!=\"\", \"\",#REF!)","v":{"$error":"#REF!"}},{"$f":"IF(#REF!=\"\", \"\",#REF!)","v":{"$error":"#REF!"}},{"$f":"IF(#REF!=\"\", \"\",#REF!)","v":{"$error":"#REF!"}},{"$f":"IF(#REF!=\"\", \"\",#REF!)","v":{"$error":"#REF!"}},{"$f":"IF(#REF!=\"\", \"\",#REF!)","v":{"$error":"#REF!"}},{"$f":"IF(#REF!=\"\", \"\",#REF!)","v":{"$error":"#REF!"}},{"$f":"IF(#REF!=\"\", \"\",#REF!)","v":{"$error":"#REF!"}},{"$f":"IF(#REF!=\"\", \"\",#REF!)","v":{"$error":"#REF!"}},{"$f":"IF(#REF!=\"\", \"\",#REF!)","v":{"$error":"#REF!"}},{"$f":"IF(#REF!=\"\", \"\",#REF!)","v":{"$error":"#REF!"}},{"$f":"IF(#REF!=\"\", \"\",#REF!)","v":{"$error":"#REF!"}},{"$f":"IF(#REF!=\"\", \"\",#REF!)","v":{"$error":"#REF!"}},{"$f":"IF(#REF!=\"\", \"\",#REF!)","v":{"$error":"#REF!"}},{"$f":"IF(#REF!=\"\", \"\",#REF!)","v":{"$error":"#REF!"}},{"$f":"IF(#REF!=\"\", \"\",#REF!)","v":{"$error":"#REF!"}},{"$f":"IF(#REF!=\"\", \"\",#REF!)","v":{"$error":"#REF!"}},{"$f":"IF(#REF!=\"\", \"\",#REF!)","v":{"$error":"#REF!"}},{"$f":"IF(#REF!=\"\", \"\",#REF!)","v":{"$error":"#REF!"}},{"$f":"IF(#REF!=\"\", \"\",#REF!)","v":{"$error":"#REF!"}},{"$f":"IF(#REF!=\"\", \"\",#REF!)","v":{"$error":"#REF!"}},{"$f":"IF(#REF!=\"\", \"\",#REF!)","v":{"$error":"#REF!"}},{"$f":"IF(#REF!=\"\", \"\",#REF!)","v":{"$error":"#REF!"}},{"$f":"IF(#REF!=\"\", \"\",#REF!)","v":{"$error":"#REF!"}},{"$f":"IF(#REF!=\"\", \"\",#REF!)","v":{"$error":"#REF!"}},{"$f":"IF(#REF!=\"\", \"\",#REF!)","v":{"$error":"#REF!"}},{"$f":"IF(#REF!=\"\", \"\",#REF!)","v":{"$error":"#REF!"}},{"$f":"IF(#REF!=\"\", \"\",#REF!)","v":{"$error":"#REF!"}},{"$f":"IF(#REF!=\"\", \"\",#REF!)","v":{"$error":"#REF!"}},{"$f":"IF(#REF!=\"\", \"\",#REF!)","v":{"$error":"#REF!"}},{"$f":"IF(#REF!=\"\", \"\",#REF!)","v":{"$error":"#REF!"}},{"$f":"IF(#REF!=\"\", \"\",#REF!)","v":{"$error":"#REF!"}},{"$f":"IF(#REF!=\"\", \"\",#REF!)","v":{"$error":"#REF!"}},{"$f":"IF(#REF!=\"\", \"\",#REF!)","v":{"$error":"#REF!"}},{"$f":"IF(#REF!=\"\", \"\",#REF!)","v":{"$error":"#REF!"}},{"$f":"IF(#REF!=\"\", \"\",#REF!)","v":{"$error":"#REF!"}},{"$f":"IF(#REF!=\"\", \"\",#REF!)","v":{"$error":"#REF!"}},{"$f":"IF(#REF!=\"\", \"\",#REF!)","v":{"$error":"#REF!"}},{"$f":"IF(#REF!=\"\", \"\",#REF!)","v":{"$error":"#REF!"}},{"$f":"IF(#REF!=\"\", \"\",#REF!)","v":{"$error":"#REF!"}},{"$f":"IF(#REF!=\"\", \"\",#REF!)","v":{"$error":"#REF!"}},{"$f":"IF(#REF!=\"\", \"\",#REF!)","v":{"$error":"#REF!"}},{"$f":"IF(#REF!=\"\", \"\",#REF!)","v":{"$error":"#REF!"}},{"$f":"IF(#REF!=\"\", \"\",#REF!)","v":{"$error":"#REF!"}},{"$f":"IF(#REF!=\"\", \"\",#REF!)","v":{"$error":"#REF!"}},{"$f":"IF(#REF!=\"\", \"\",#REF!)","v":{"$error":"#REF!"}},{"$f":"IF(#REF!=\"\", \"\",#REF!)","v":{"$error":"#REF!"}},{"$f":"IF(#REF!=\"\", \"\",#REF!)","v":{"$error":"#REF!"}},{"$f":"IF(#REF!=\"\", \"\",#REF!)","v":{"$error":"#REF!"}},{"$f":"IF(#REF!=\"\", \"\",#REF!)","v":{"$error":"#REF!"}}]
["Zusatzitem 21",{"$f":"IF(#REF!=\"\", \"\",#REF!)","v":{"$error":"#REF!"}},{"$f":"IF(#REF!=\"\", \"\",#REF!)","v":{"$error":"#REF!"}},{"$f":"IF(#REF!=\"\", \"\",#REF!)","v":{"$error":"#REF!"}},{"$f":"IF(#REF!=\"\", \"\",#REF!)","v":{"$error":"#REF!"}},{"$f":"IF(#REF!=\"\", \"\",#REF!)","v":{"$error":"#REF!"}},{"$f":"IF(#REF!=\"\", \"\",#REF!)","v":{"$error":"#REF!"}},{"$f":"IF(#REF!=\"\", \"\",#REF!)","v":{"$error":"#REF!"}},{"$f":"IF(#REF!=\"\", \"\",#REF!)","v":{"$error":"#REF!"}},{"$f":"IF(#REF!=\"\", \"\",#REF!)","v":{"$error":"#REF!"}},{"$f":"IF(#REF!=\"\", \"\",#REF!)","v":{"$error":"#REF!"}},{"$f":"IF(#REF!=\"\", \"\",#REF!)","v":{"$error":"#REF!"}},{"$f":"IF(#REF!=\"\", \"\",#REF!)","v":{"$error":"#REF!"}},{"$f":"IF(#REF!=\"\", \"\",#REF!)","v":{"$error":"#REF!"}},{"$f":"IF(#REF!=\"\", \"\",#REF!)","v":{"$error":"#REF!"}},{"$f":"IF(#REF!=\"\", \"\",#REF!)","v":{"$error":"#REF!"}},{"$f":"IF(#REF!=\"\", \"\",#REF!)","v":{"$error":"#REF!"}},{"$f":"IF(#REF!=\"\", \"\",#REF!)","v":{"$error":"#REF!"}},{"$f":"IF(#REF!=\"\", \"\",#REF!)","v":{"$error":"#REF!"}},{"$f":"IF(#REF!=\"\", \"\",#REF!)","v":{"$error":"#REF!"}},{"$f":"IF(#REF!=\"\", \"\",#REF!)","v":{"$error":"#REF!"}},{"$f":"IF(#REF!=\"\", \"\",#REF!)","v":{"$error":"#REF!"}},{"$f":"IF(#REF!=\"\", \"\",#REF!)","v":{"$error":"#REF!"}},{"$f":"IF(#REF!=\"\", \"\",#REF!)","v":{"$error":"#REF!"}},{"$f":"IF(#REF!=\"\", \"\",#REF!)","v":{"$error":"#REF!"}},{"$f":"IF(#REF!=\"\", \"\",#REF!)","v":{"$error":"#REF!"}},{"$f":"IF(#REF!=\"\", \"\",#REF!)","v":{"$error":"#REF!"}},{"$f":"IF(#REF!=\"\", \"\",#REF!)","v":{"$error":"#REF!"}},{"$f":"IF(#REF!=\"\", \"\",#REF!)","v":{"$error":"#REF!"}},{"$f":"IF(#REF!=\"\", \"\",#REF!)","v":{"$error":"#REF!"}},{"$f":"IF(#REF!=\"\", \"\",#REF!)","v":{"$error":"#REF!"}},{"$f":"IF(#REF!=\"\", \"\",#REF!)","v":{"$error":"#REF!"}},{"$f":"IF(#REF!=\"\", \"\",#REF!)","v":{"$error":"#REF!"}},{"$f":"IF(#REF!=\"\", \"\",#REF!)","v":{"$error":"#REF!"}},{"$f":"IF(#REF!=\"\", \"\",#REF!)","v":{"$error":"#REF!"}},{"$f":"IF(#REF!=\"\", \"\",#REF!)","v":{"$error":"#REF!"}},{"$f":"IF(#REF!=\"\", \"\",#REF!)","v":{"$error":"#REF!"}},{"$f":"IF(#REF!=\"\", \"\",#REF!)","v":{"$error":"#REF!"}},{"$f":"IF(#REF!=\"\", \"\",#REF!)","v":{"$error":"#REF!"}},{"$f":"IF(#REF!=\"\", \"\",#REF!)","v":{"$error":"#REF!"}},{"$f":"IF(#REF!=\"\", \"\",#REF!)","v":{"$error":"#REF!"}},{"$f":"IF(#REF!=\"\", \"\",#REF!)","v":{"$error":"#REF!"}},{"$f":"IF(#REF!=\"\", \"\",#REF!)","v":{"$error":"#REF!"}},{"$f":"IF(#REF!=\"\", \"\",#REF!)","v":{"$error":"#REF!"}},{"$f":"IF(#REF!=\"\", \"\",#REF!)","v":{"$error":"#REF!"}},{"$f":"IF(#REF!=\"\", \"\",#REF!)","v":{"$error":"#REF!"}},{"$f":"IF(#REF!=\"\", \"\",#REF!)","v":{"$error":"#REF!"}},{"$f":"IF(#REF!=\"\", \"\",#REF!)","v":{"$error":"#REF!"}},{"$f":"IF(#REF!=\"\", \"\",#REF!)","v":{"$error":"#REF!"}},{"$f":"IF(#REF!=\"\", \"\",#REF!)","v":{"$error":"#REF!"}},{"$f":"IF(#REF!=\"\", \"\",#REF!)","v":{"$error":"#REF!"}},{"$f":"IF(#REF!=\"\", \"\",#REF!)","v":{"$error":"#REF!"}},{"$f":"IF(#REF!=\"\", \"\",#REF!)","v":{"$error":"#REF!"}},{"$f":"IF(#REF!=\"\", \"\",#REF!)","v":{"$error":"#REF!"}},{"$f":"IF(#REF!=\"\", \"\",#REF!)","v":{"$error":"#REF!"}},{"$f":"IF(#REF!=\"\", \"\",#REF!)","v":{"$error":"#REF!"}},{"$f":"IF(#REF!=\"\", \"\",#REF!)","v":{"$error":"#REF!"}},{"$f":"IF(#REF!=\"\", \"\",#REF!)","v":{"$error":"#REF!"}},{"$f":"IF(#REF!=\"\", \"\",#REF!)","v":{"$error":"#REF!"}},{"$f":"IF(#REF!=\"\", \"\",#REF!)","v":{"$error":"#REF!"}},{"$f":"IF(#REF!=\"\", \"\",#REF!)","v":{"$error":"#REF!"}},{"$f":"IF(#REF!=\"\", \"\",#REF!)","v":{"$error":"#REF!"}}]
["Zusatzitem 22",{"$f":"IF(#REF!=\"\", \"\",#REF!)","v":{"$error":"#REF!"}},{"$f":"IF(#REF!=\"\", \"\",#REF!)","v":{"$error":"#REF!"}},{"$f":"IF(#REF!=\"\", \"\",#REF!)","v":{"$error":"#REF!"}},{"$f":"IF(#REF!=\"\", \"\",#REF!)","v":{"$error":"#REF!"}},{"$f":"IF(#REF!=\"\", \"\",#REF!)","v":{"$error":"#REF!"}},{"$f":"IF(#REF!=\"\", \"\",#REF!)","v":{"$error":"#REF!"}},{"$f":"IF(#REF!=\"\", \"\",#REF!)","v":{"$error":"#REF!"}},{"$f":"IF(#REF!=\"\", \"\",#REF!)","v":{"$error":"#REF!"}},{"$f":"IF(#REF!=\"\", \"\",#REF!)","v":{"$error":"#REF!"}},{"$f":"IF(#REF!=\"\", \"\",#REF!)","v":{"$error":"#REF!"}},{"$f":"IF(#REF!=\"\", \"\",#REF!)","v":{"$error":"#REF!"}},{"$f":"IF(#REF!=\"\", \"\",#REF!)","v":{"$error":"#REF!"}},{"$f":"IF(#REF!=\"\", \"\",#REF!)","v":{"$error":"#REF!"}},{"$f":"IF(#REF!=\"\", \"\",#REF!)","v":{"$error":"#REF!"}},{"$f":"IF(#REF!=\"\", \"\",#REF!)","v":{"$error":"#REF!"}},{"$f":"IF(#REF!=\"\", \"\",#REF!)","v":{"$error":"#REF!"}},{"$f":"IF(#REF!=\"\", \"\",#REF!)","v":{"$error":"#REF!"}},{"$f":"IF(#REF!=\"\", \"\",#REF!)","v":{"$error":"#REF!"}},{"$f":"IF(#REF!=\"\", \"\",#REF!)","v":{"$error":"#REF!"}},{"$f":"IF(#REF!=\"\", \"\",#REF!)","v":{"$error":"#REF!"}},{"$f":"IF(#REF!=\"\", \"\",#REF!)","v":{"$error":"#REF!"}},{"$f":"IF(#REF!=\"\", \"\",#REF!)","v":{"$error":"#REF!"}},{"$f":"IF(#REF!=\"\", \"\",#REF!)","v":{"$error":"#REF!"}},{"$f":"IF(#REF!=\"\", \"\",#REF!)","v":{"$error":"#REF!"}},{"$f":"IF(#REF!=\"\", \"\",#REF!)","v":{"$error":"#REF!"}},{"$f":"IF(#REF!=\"\", \"\",#REF!)","v":{"$error":"#REF!"}},{"$f":"IF(#REF!=\"\", \"\",#REF!)","v":{"$error":"#REF!"}},{"$f":"IF(#REF!=\"\", \"\",#REF!)","v":{"$error":"#REF!"}},{"$f":"IF(#REF!=\"\", \"\",#REF!)","v":{"$error":"#REF!"}},{"$f":"IF(#REF!=\"\", \"\",#REF!)","v":{"$error":"#REF!"}},{"$f":"IF(#REF!=\"\", \"\",#REF!)","v":{"$error":"#REF!"}},{"$f":"IF(#REF!=\"\", \"\",#REF!)","v":{"$error":"#REF!"}},{"$f":"IF(#REF!=\"\", \"\",#REF!)","v":{"$error":"#REF!"}},{"$f":"IF(#REF!=\"\", \"\",#REF!)","v":{"$error":"#REF!"}},{"$f":"IF(#REF!=\"\", \"\",#REF!)","v":{"$error":"#REF!"}},{"$f":"IF(#REF!=\"\", \"\",#REF!)","v":{"$error":"#REF!"}},{"$f":"IF(#REF!=\"\", \"\",#REF!)","v":{"$error":"#REF!"}},{"$f":"IF(#REF!=\"\", \"\",#REF!)","v":{"$error":"#REF!"}},{"$f":"IF(#REF!=\"\", \"\",#REF!)","v":{"$error":"#REF!"}},{"$f":"IF(#REF!=\"\", \"\",#REF!)","v":{"$error":"#REF!"}},{"$f":"IF(#REF!=\"\", \"\",#REF!)","v":{"$error":"#REF!"}},{"$f":"IF(#REF!=\"\", \"\",#REF!)","v":{"$error":"#REF!"}},{"$f":"IF(#REF!=\"\", \"\",#REF!)","v":{"$error":"#REF!"}},{"$f":"IF(#REF!=\"\", \"\",#REF!)","v":{"$error":"#REF!"}},{"$f":"IF(#REF!=\"\", \"\",#REF!)","v":{"$error":"#REF!"}},{"$f":"IF(#REF!=\"\", \"\",#REF!)","v":{"$error":"#REF!"}},{"$f":"IF(#REF!=\"\", \"\",#REF!)","v":{"$error":"#REF!"}},{"$f":"IF(#REF!=\"\", \"\",#REF!)","v":{"$error":"#REF!"}},{"$f":"IF(#REF!=\"\", \"\",#REF!)","v":{"$error":"#REF!"}},{"$f":"IF(#REF!=\"\", \"\",#REF!)","v":{"$error":"#REF!"}},{"$f":"IF(#REF!=\"\", \"\",#REF!)","v":{"$error":"#REF!"}},{"$f":"IF(#REF!=\"\", \"\",#REF!)","v":{"$error":"#REF!"}},{"$f":"IF(#REF!=\"\", \"\",#REF!)","v":{"$error":"#REF!"}},{"$f":"IF(#REF!=\"\", \"\",#REF!)","v":{"$error":"#REF!"}},{"$f":"IF(#REF!=\"\", \"\",#REF!)","v":{"$error":"#REF!"}},{"$f":"IF(#REF!=\"\", \"\",#REF!)","v":{"$error":"#REF!"}},{"$f":"IF(#REF!=\"\", \"\",#REF!)","v":{"$error":"#REF!"}},{"$f":"IF(#REF!=\"\", \"\",#REF!)","v":{"$error":"#REF!"}},{"$f":"IF(#REF!=\"\", \"\",#REF!)","v":{"$error":"#REF!"}},{"$f":"IF(#REF!=\"\", \"\",#REF!)","v":{"$error":"#REF!"}},{"$f":"IF(#REF!=\"\", \"\",#REF!)","v":{"$error":"#REF!"}}]
["Zusatzitem 23",{"$f":"IF(#REF!=\"\", \"\",#REF!)","v":{"$error":"#REF!"}},{"$f":"IF(#REF!=\"\", \"\",#REF!)","v":{"$error":"#REF!"}},{"$f":"IF(#REF!=\"\", \"\",#REF!)","v":{"$error":"#REF!"}},{"$f":"IF(#REF!=\"\", \"\",#REF!)","v":{"$error":"#REF!"}},{"$f":"IF(#REF!=\"\", \"\",#REF!)","v":{"$error":"#REF!"}},{"$f":"IF(#REF!=\"\", \"\",#REF!)","v":{"$error":"#REF!"}},{"$f":"IF(#REF!=\"\", \"\",#REF!)","v":{"$error":"#REF!"}},{"$f":"IF(#REF!=\"\", \"\",#REF!)","v":{"$error":"#REF!"}},{"$f":"IF(#REF!=\"\", \"\",#REF!)","v":{"$error":"#REF!"}},{"$f":"IF(#REF!=\"\", \"\",#REF!)","v":{"$error":"#REF!"}},{"$f":"IF(#REF!=\"\", \"\",#REF!)","v":{"$error":"#REF!"}},{"$f":"IF(#REF!=\"\", \"\",#REF!)","v":{"$error":"#REF!"}},{"$f":"IF(#REF!=\"\", \"\",#REF!)","v":{"$error":"#REF!"}},{"$f":"IF(#REF!=\"\", \"\",#REF!)","v":{"$error":"#REF!"}},{"$f":"IF(#REF!=\"\", \"\",#REF!)","v":{"$error":"#REF!"}},{"$f":"IF(#REF!=\"\", \"\",#REF!)","v":{"$error":"#REF!"}},{"$f":"IF(#REF!=\"\", \"\",#REF!)","v":{"$error":"#REF!"}},{"$f":"IF(#REF!=\"\", \"\",#REF!)","v":{"$error":"#REF!"}},{"$f":"IF(#REF!=\"\", \"\",#REF!)","v":{"$error":"#REF!"}},{"$f":"IF(#REF!=\"\", \"\",#REF!)","v":{"$error":"#REF!"}},{"$f":"IF(#REF!=\"\", \"\",#REF!)","v":{"$error":"#REF!"}},{"$f":"IF(#REF!=\"\", \"\",#REF!)","v":{"$error":"#REF!"}},{"$f":"IF(#REF!=\"\", \"\",#REF!)","v":{"$error":"#REF!"}},{"$f":"IF(#REF!=\"\", \"\",#REF!)","v":{"$error":"#REF!"}},{"$f":"IF(#REF!=\"\", \"\",#REF!)","v":{"$error":"#REF!"}},{"$f":"IF(#REF!=\"\", \"\",#REF!)","v":{"$error":"#REF!"}},{"$f":"IF(#REF!=\"\", \"\",#REF!)","v":{"$error":"#REF!"}},{"$f":"IF(#REF!=\"\", \"\",#REF!)","v":{"$error":"#REF!"}},{"$f":"IF(#REF!=\"\", \"\",#REF!)","v":{"$error":"#REF!"}},{"$f":"IF(#REF!=\"\", \"\",#REF!)","v":{"$error":"#REF!"}},{"$f":"IF(#REF!=\"\", \"\",#REF!)","v":{"$error":"#REF!"}},{"$f":"IF(#REF!=\"\", \"\",#REF!)","v":{"$error":"#REF!"}},{"$f":"IF(#REF!=\"\", \"\",#REF!)","v":{"$error":"#REF!"}},{"$f":"IF(#REF!=\"\", \"\",#REF!)","v":{"$error":"#REF!"}},{"$f":"IF(#REF!=\"\", \"\",#REF!)","v":{"$error":"#REF!"}},{"$f":"IF(#REF!=\"\", \"\",#REF!)","v":{"$error":"#REF!"}},{"$f":"IF(#REF!=\"\", \"\",#REF!)","v":{"$error":"#REF!"}},{"$f":"IF(#REF!=\"\", \"\",#REF!)","v":{"$error":"#REF!"}},{"$f":"IF(#REF!=\"\", \"\",#REF!)","v":{"$error":"#REF!"}},{"$f":"IF(#REF!=\"\", \"\",#REF!)","v":{"$error":"#REF!"}},{"$f":"IF(#REF!=\"\", \"\",#REF!)","v":{"$error":"#REF!"}},{"$f":"IF(#REF!=\"\", \"\",#REF!)","v":{"$error":"#REF!"}},{"$f":"IF(#REF!=\"\", \"\",#REF!)","v":{"$error":"#REF!"}},{"$f":"IF(#REF!=\"\", \"\",#REF!)","v":{"$error":"#REF!"}},{"$f":"IF(#REF!=\"\", \"\",#REF!)","v":{"$error":"#REF!"}},{"$f":"IF(#REF!=\"\", \"\",#REF!)","v":{"$error":"#REF!"}},{"$f":"IF(#REF!=\"\", \"\",#REF!)","v":{"$error":"#REF!"}},{"$f":"IF(#REF!=\"\", \"\",#REF!)","v":{"$error":"#REF!"}},{"$f":"IF(#REF!=\"\", \"\",#REF!)","v":{"$error":"#REF!"}},{"$f":"IF(#REF!=\"\", \"\",#REF!)","v":{"$error":"#REF!"}},{"$f":"IF(#REF!=\"\", \"\",#REF!)","v":{"$error":"#REF!"}},{"$f":"IF(#REF!=\"\", \"\",#REF!)","v":{"$error":"#REF!"}},{"$f":"IF(#REF!=\"\", \"\",#REF!)","v":{"$error":"#REF!"}},{"$f":"IF(#REF!=\"\", \"\",#REF!)","v":{"$error":"#REF!"}},{"$f":"IF(#REF!=\"\", \"\",#REF!)","v":{"$error":"#REF!"}},{"$f":"IF(#REF!=\"\", \"\",#REF!)","v":{"$error":"#REF!"}},{"$f":"IF(#REF!=\"\", \"\",#REF!)","v":{"$error":"#REF!"}},{"$f":"IF(#REF!=\"\", \"\",#REF!)","v":{"$error":"#REF!"}},{"$f":"IF(#REF!=\"\", \"\",#REF!)","v":{"$error":"#REF!"}},{"$f":"IF(#REF!=\"\", \"\",#REF!)","v":{"$error":"#REF!"}},{"$f":"IF(#REF!=\"\", \"\",#REF!)","v":{"$error":"#REF!"}}]
["Zusatzitem 24",{"$f":"IF(#REF!=\"\", \"\",#REF!)","v":{"$error":"#REF!"}},{"$f":"IF(#REF!=\"\", \"\",#REF!)","v":{"$error":"#REF!"}},{"$f":"IF(#REF!=\"\", \"\",#REF!)","v":{"$error":"#REF!"}},{"$f":"IF(#REF!=\"\", \"\",#REF!)","v":{"$error":"#REF!"}},{"$f":"IF(#REF!=\"\", \"\",#REF!)","v":{"$error":"#REF!"}},{"$f":"IF(#REF!=\"\", \"\",#REF!)","v":{"$error":"#REF!"}},{"$f":"IF(#REF!=\"\", \"\",#REF!)","v":{"$error":"#REF!"}},{"$f":"IF(#REF!=\"\", \"\",#REF!)","v":{"$error":"#REF!"}},{"$f":"IF(#REF!=\"\", \"\",#REF!)","v":{"$error":"#REF!"}},{"$f":"IF(#REF!=\"\", \"\",#REF!)","v":{"$error":"#REF!"}},{"$f":"IF(#REF!=\"\", \"\",#REF!)","v":{"$error":"#REF!"}},{"$f":"IF(#REF!=\"\", \"\",#REF!)","v":{"$error":"#REF!"}},{"$f":"IF(#REF!=\"\", \"\",#REF!)","v":{"$error":"#REF!"}},{"$f":"IF(#REF!=\"\", \"\",#REF!)","v":{"$error":"#REF!"}},{"$f":"IF(#REF!=\"\", \"\",#REF!)","v":{"$error":"#REF!"}},{"$f":"IF(#REF!=\"\", \"\",#REF!)","v":{"$error":"#REF!"}},{"$f":"IF(#REF!=\"\", \"\",#REF!)","v":{"$error":"#REF!"}},{"$f":"IF(#REF!=\"\", \"\",#REF!)","v":{"$error":"#REF!"}},{"$f":"IF(#REF!=\"\", \"\",#REF!)","v":{"$error":"#REF!"}},{"$f":"IF(#REF!=\"\", \"\",#REF!)","v":{"$error":"#REF!"}},{"$f":"IF(#REF!=\"\", \"\",#REF!)","v":{"$error":"#REF!"}},{"$f":"IF(#REF!=\"\", \"\",#REF!)","v":{"$error":"#REF!"}},{"$f":"IF(#REF!=\"\", \"\",#REF!)","v":{"$error":"#REF!"}},{"$f":"IF(#REF!=\"\", \"\",#REF!)","v":{"$error":"#REF!"}},{"$f":"IF(#REF!=\"\", \"\",#REF!)","v":{"$error":"#REF!"}},{"$f":"IF(#REF!=\"\", \"\",#REF!)","v":{"$error":"#REF!"}},{"$f":"IF(#REF!=\"\", \"\",#REF!)","v":{"$error":"#REF!"}},{"$f":"IF(#REF!=\"\", \"\",#REF!)","v":{"$error":"#REF!"}},{"$f":"IF(#REF!=\"\", \"\",#REF!)","v":{"$error":"#REF!"}},{"$f":"IF(#REF!=\"\", \"\",#REF!)","v":{"$error":"#REF!"}},{"$f":"IF(#REF!=\"\", \"\",#REF!)","v":{"$error":"#REF!"}},{"$f":"IF(#REF!=\"\", \"\",#REF!)","v":{"$error":"#REF!"}},{"$f":"IF(#REF!=\"\", \"\",#REF!)","v":{"$error":"#REF!"}},{"$f":"IF(#REF!=\"\", \"\",#REF!)","v":{"$error":"#REF!"}},{"$f":"IF(#REF!=\"\", \"\",#REF!)","v":{"$error":"#REF!"}},{"$f":"IF(#REF!=\"\", \"\",#REF!)","v":{"$error":"#REF!"}},{"$f":"IF(#REF!=\"\", \"\",#REF!)","v":{"$error":"#REF!"}},{"$f":"IF(#REF!=\"\", \"\",#REF!)","v":{"$error":"#REF!"}},{"$f":"IF(#REF!=\"\", \"\",#REF!)","v":{"$error":"#REF!"}},{"$f":"IF(#REF!=\"\", \"\",#REF!)","v":{"$error":"#REF!"}},{"$f":"IF(#REF!=\"\", \"\",#REF!)","v":{"$error":"#REF!"}},{"$f":"IF(#REF!=\"\", \"\",#REF!)","v":{"$error":"#REF!"}},{"$f":"IF(#REF!=\"\", \"\",#REF!)","v":{"$error":"#REF!"}},{"$f":"IF(#REF!=\"\", \"\",#REF!)","v":{"$error":"#REF!"}},{"$f":"IF(#REF!=\"\", \"\",#REF!)","v":{"$error":"#REF!"}},{"$f":"IF(#REF!=\"\", \"\",#REF!)","v":{"$error":"#REF!"}},{"$f":"IF(#REF!=\"\", \"\",#REF!)","v":{"$error":"#REF!"}},{"$f":"IF(#REF!=\"\", \"\",#REF!)","v":{"$error":"#REF!"}},{"$f":"IF(#REF!=\"\", \"\",#REF!)","v":{"$error":"#REF!"}},{"$f":"IF(#REF!=\"\", \"\",#REF!)","v":{"$error":"#REF!"}},{"$f":"IF(#REF!=\"\", \"\",#REF!)","v":{"$error":"#REF!"}},{"$f":"IF(#REF!=\"\", \"\",#REF!)","v":{"$error":"#REF!"}},{"$f":"IF(#REF!=\"\", \"\",#REF!)","v":{"$error":"#REF!"}},{"$f":"IF(#REF!=\"\", \"\",#REF!)","v":{"$error":"#REF!"}},{"$f":"IF(#REF!=\"\", \"\",#REF!)","v":{"$error":"#REF!"}},{"$f":"IF(#REF!=\"\", \"\",#REF!)","v":{"$error":"#REF!"}},{"$f":"IF(#REF!=\"\", \"\",#REF!)","v":{"$error":"#REF!"}},{"$f":"IF(#REF!=\"\", \"\",#REF!)","v":{"$error":"#REF!"}},{"$f":"IF(#REF!=\"\", \"\",#REF!)","v":{"$error":"#REF!"}},{"$f":"IF(#REF!=\"\", \"\",#REF!)","v":{"$error":"#REF!"}},{"$f":"IF(#REF!=\"\", \"\",#REF!)","v":{"$error":"#REF!"}}]
["Zusatzitem 25",{"$f":"IF(#REF!=\"\", \"\",#REF!)","v":{"$error":"#REF!"}},{"$f":"IF(#REF!=\"\", \"\",#REF!)","v":{"$error":"#REF!"}},{"$f":"IF(#REF!=\"\", \"\",#REF!)","v":{"$error":"#REF!"}},{"$f":"IF(#REF!=\"\", \"\",#REF!)","v":{"$error":"#REF!"}},{"$f":"IF(#REF!=\"\", \"\",#REF!)","v":{"$error":"#REF!"}},{"$f":"IF(#REF!=\"\", \"\",#REF!)","v":{"$error":"#REF!"}},{"$f":"IF(#REF!=\"\", \"\",#REF!)","v":{"$error":"#REF!"}},{"$f":"IF(#REF!=\"\", \"\",#REF!)","v":{"$error":"#REF!"}},{"$f":"IF(#REF!=\"\", \"\",#REF!)","v":{"$error":"#REF!"}},{"$f":"IF(#REF!=\"\", \"\",#REF!)","v":{"$error":"#REF!"}},{"$f":"IF(#REF!=\"\", \"\",#REF!)","v":{"$error":"#REF!"}},{"$f":"IF(#REF!=\"\", \"\",#REF!)","v":{"$error":"#REF!"}},{"$f":"IF(#REF!=\"\", \"\",#REF!)","v":{"$error":"#REF!"}},{"$f":"IF(#REF!=\"\", \"\",#REF!)","v":{"$error":"#REF!"}},{"$f":"IF(#REF!=\"\", \"\",#REF!)","v":{"$error":"#REF!"}},{"$f":"IF(#REF!=\"\", \"\",#REF!)","v":{"$error":"#REF!"}},{"$f":"IF(#REF!=\"\", \"\",#REF!)","v":{"$error":"#REF!"}},{"$f":"IF(#REF!=\"\", \"\",#REF!)","v":{"$error":"#REF!"}},{"$f":"IF(#REF!=\"\", \"\",#REF!)","v":{"$error":"#REF!"}},{"$f":"IF(#REF!=\"\", \"\",#REF!)","v":{"$error":"#REF!"}},{"$f":"IF(#REF!=\"\", \"\",#REF!)","v":{"$error":"#REF!"}},{"$f":"IF(#REF!=\"\", \"\",#REF!)","v":{"$error":"#REF!"}},{"$f":"IF(#REF!=\"\", \"\",#REF!)","v":{"$error":"#REF!"}},{"$f":"IF(#REF!=\"\", \"\",#REF!)","v":{"$error":"#REF!"}},{"$f":"IF(#REF!=\"\", \"\",#REF!)","v":{"$error":"#REF!"}},{"$f":"IF(#REF!=\"\", \"\",#REF!)","v":{"$error":"#REF!"}},{"$f":"IF(#REF!=\"\", \"\",#REF!)","v":{"$error":"#REF!"}},{"$f":"IF(#REF!=\"\", \"\",#REF!)","v":{"$error":"#REF!"}},{"$f":"IF(#REF!=\"\", \"\",#REF!)","v":{"$error":"#REF!"}},{"$f":"IF(#REF!=\"\", \"\",#REF!)","v":{"$error":"#REF!"}},{"$f":"IF(#REF!=\"\", \"\",#REF!)","v":{"$error":"#REF!"}},{"$f":"IF(#REF!=\"\", \"\",#REF!)","v":{"$error":"#REF!"}},{"$f":"IF(#REF!=\"\", \"\",#REF!)","v":{"$error":"#REF!"}},{"$f":"IF(#REF!=\"\", \"\",#REF!)","v":{"$error":"#REF!"}},{"$f":"IF(#REF!=\"\", \"\",#REF!)","v":{"$error":"#REF!"}},{"$f":"IF(#REF!=\"\", \"\",#REF!)","v":{"$error":"#REF!"}},{"$f":"IF(#REF!=\"\", \"\",#REF!)","v":{"$error":"#REF!"}},{"$f":"IF(#REF!=\"\", \"\",#REF!)","v":{"$error":"#REF!"}},{"$f":"IF(#REF!=\"\", \"\",#REF!)","v":{"$error":"#REF!"}},{"$f":"IF(#REF!=\"\", \"\",#REF!)","v":{"$error":"#REF!"}},{"$f":"IF(#REF!=\"\", \"\",#REF!)","v":{"$error":"#REF!"}},{"$f":"IF(#REF!=\"\", \"\",#REF!)","v":{"$error":"#REF!"}},{"$f":"IF(#REF!=\"\", \"\",#REF!)","v":{"$error":"#REF!"}},{"$f":"IF(#REF!=\"\", \"\",#REF!)","v":{"$error":"#REF!"}},{"$f":"IF(#REF!=\"\", \"\",#REF!)","v":{"$error":"#REF!"}},{"$f":"IF(#REF!=\"\", \"\",#REF!)","v":{"$error":"#REF!"}},{"$f":"IF(#REF!=\"\", \"\",#REF!)","v":{"$error":"#REF!"}},{"$f":"IF(#REF!=\"\", \"\",#REF!)","v":{"$error":"#REF!"}},{"$f":"IF(#REF!=\"\", \"\",#REF!)","v":{"$error":"#REF!"}},{"$f":"IF(#REF!=\"\", \"\",#REF!)","v":{"$error":"#REF!"}},{"$f":"IF(#REF!=\"\", \"\",#REF!)","v":{"$error":"#REF!"}},{"$f":"IF(#REF!=\"\", \"\",#REF!)","v":{"$error":"#REF!"}},{"$f":"IF(#REF!=\"\", \"\",#REF!)","v":{"$error":"#REF!"}},{"$f":"IF(#REF!=\"\", \"\",#REF!)","v":{"$error":"#REF!"}},{"$f":"IF(#REF!=\"\", \"\",#REF!)","v":{"$error":"#REF!"}},{"$f":"IF(#REF!=\"\", \"\",#REF!)","v":{"$error":"#REF!"}},{"$f":"IF(#REF!=\"\", \"\",#REF!)","v":{"$error":"#REF!"}},{"$f":"IF(#REF!=\"\", \"\",#REF!)","v":{"$error":"#REF!"}},{"$f":"IF(#REF!=\"\", \"\",#REF!)","v":{"$error":"#REF!"}},{"$f":"IF(#REF!=\"\", \"\",#REF!)","v":{"$error":"#REF!"}},{"$f":"IF(#REF!=\"\", \"\",#REF!)","v":{"$error":"#REF!"}}]
["Zusatzitem 26",{"$f":"IF(#REF!=\"\", \"\",#REF!)","v":{"$error":"#REF!"}},{"$f":"IF(#REF!=\"\", \"\",#REF!)","v":{"$error":"#REF!"}},{"$f":"IF(#REF!=\"\", \"\",#REF!)","v":{"$error":"#REF!"}},{"$f":"IF(#REF!=\"\", \"\",#REF!)","v":{"$error":"#REF!"}},{"$f":"IF(#REF!=\"\", \"\",#REF!)","v":{"$error":"#REF!"}},{"$f":"IF(#REF!=\"\", \"\",#REF!)","v":{"$error":"#REF!"}},{"$f":"IF(#REF!=\"\", \"\",#REF!)","v":{"$error":"#REF!"}},{"$f":"IF(#REF!=\"\", \"\",#REF!)","v":{"$error":"#REF!"}},{"$f":"IF(#REF!=\"\", \"\",#REF!)","v":{"$error":"#REF!"}},{"$f":"IF(#REF!=\"\", \"\",#REF!)","v":{"$error":"#REF!"}},{"$f":"IF(#REF!=\"\", \"\",#REF!)","v":{"$error":"#REF!"}},{"$f":"IF(#REF!=\"\", \"\",#REF!)","v":{"$error":"#REF!"}},{"$f":"IF(#REF!=\"\", \"\",#REF!)","v":{"$error":"#REF!"}},{"$f":"IF(#REF!=\"\", \"\",#REF!)","v":{"$error":"#REF!"}},{"$f":"IF(#REF!=\"\", \"\",#REF!)","v":{"$error":"#REF!"}},{"$f":"IF(#REF!=\"\", \"\",#REF!)","v":{"$error":"#REF!"}},{"$f":"IF(#REF!=\"\", \"\",#REF!)","v":{"$error":"#REF!"}},{"$f":"IF(#REF!=\"\", \"\",#REF!)","v":{"$error":"#REF!"}},{"$f":"IF(#REF!=\"\", \"\",#REF!)","v":{"$error":"#REF!"}},{"$f":"IF(#REF!=\"\", \"\",#REF!)","v":{"$error":"#REF!"}},{"$f":"IF(#REF!=\"\", \"\",#REF!)","v":{"$error":"#REF!"}},{"$f":"IF(#REF!=\"\", \"\",#REF!)","v":{"$error":"#REF!"}},{"$f":"IF(#REF!=\"\", \"\",#REF!)","v":{"$error":"#REF!"}},{"$f":"IF(#REF!=\"\", \"\",#REF!)","v":{"$error":"#REF!"}},{"$f":"IF(#REF!=\"\", \"\",#REF!)","v":{"$error":"#REF!"}},{"$f":"IF(#REF!=\"\", \"\",#REF!)","v":{"$error":"#REF!"}},{"$f":"IF(#REF!=\"\", \"\",#REF!)","v":{"$error":"#REF!"}},{"$f":"IF(#REF!=\"\", \"\",#REF!)","v":{"$error":"#REF!"}},{"$f":"IF(#REF!=\"\", \"\",#REF!)","v":{"$error":"#REF!"}},{"$f":"IF(#REF!=\"\", \"\",#REF!)","v":{"$error":"#REF!"}},{"$f":"IF(#REF!=\"\", \"\",#REF!)","v":{"$error":"#REF!"}},{"$f":"IF(#REF!=\"\", \"\",#REF!)","v":{"$error":"#REF!"}},{"$f":"IF(#REF!=\"\", \"\",#REF!)","v":{"$error":"#REF!"}},{"$f":"IF(#REF!=\"\", \"\",#REF!)","v":{"$error":"#REF!"}},{"$f":"IF(#REF!=\"\", \"\",#REF!)","v":{"$error":"#REF!"}},{"$f":"IF(#REF!=\"\", \"\",#REF!)","v":{"$error":"#REF!"}},{"$f":"IF(#REF!=\"\", \"\",#REF!)","v":{"$error":"#REF!"}},{"$f":"IF(#REF!=\"\", \"\",#REF!)","v":{"$error":"#REF!"}},{"$f":"IF(#REF!=\"\", \"\",#REF!)","v":{"$error":"#REF!"}},{"$f":"IF(#REF!=\"\", \"\",#REF!)","v":{"$error":"#REF!"}},{"$f":"IF(#REF!=\"\", \"\",#REF!)","v":{"$error":"#REF!"}},{"$f":"IF(#REF!=\"\", \"\",#REF!)","v":{"$error":"#REF!"}},{"$f":"IF(#REF!=\"\", \"\",#REF!)","v":{"$error":"#REF!"}},{"$f":"IF(#REF!=\"\", \"\",#REF!)","v":{"$error":"#REF!"}},{"$f":"IF(#REF!=\"\", \"\",#REF!)","v":{"$error":"#REF!"}},{"$f":"IF(#REF!=\"\", \"\",#REF!)","v":{"$error":"#REF!"}},{"$f":"IF(#REF!=\"\", \"\",#REF!)","v":{"$error":"#REF!"}},{"$f":"IF(#REF!=\"\", \"\",#REF!)","v":{"$error":"#REF!"}},{"$f":"IF(#REF!=\"\", \"\",#REF!)","v":{"$error":"#REF!"}},{"$f":"IF(#REF!=\"\", \"\",#REF!)","v":{"$error":"#REF!"}},{"$f":"IF(#REF!=\"\", \"\",#REF!)","v":{"$error":"#REF!"}},{"$f":"IF(#REF!=\"\", \"\",#REF!)","v":{"$error":"#REF!"}},{"$f":"IF(#REF!=\"\", \"\",#REF!)","v":{"$error":"#REF!"}},{"$f":"IF(#REF!=\"\", \"\",#REF!)","v":{"$error":"#REF!"}},{"$f":"IF(#REF!=\"\", \"\",#REF!)","v":{"$error":"#REF!"}},{"$f":"IF(#REF!=\"\", \"\",#REF!)","v":{"$error":"#REF!"}},{"$f":"IF(#REF!=\"\", \"\",#REF!)","v":{"$error":"#REF!"}},{"$f":"IF(#REF!=\"\", \"\",#REF!)","v":{"$error":"#REF!"}},{"$f":"IF(#REF!=\"\", \"\",#REF!)","v":{"$error":"#REF!"}},{"$f":"IF(#REF!=\"\", \"\",#REF!)","v":{"$error":"#REF!"}},{"$f":"IF(#REF!=\"\", \"\",#REF!)","v":{"$error":"#REF!"}}]
["Zusatzitem 27",{"$f":"IF(#REF!=\"\", \"\",#REF!)","v":{"$error":"#REF!"}},{"$f":"IF(#REF!=\"\", \"\",#REF!)","v":{"$error":"#REF!"}},{"$f":"IF(#REF!=\"\", \"\",#REF!)","v":{"$error":"#REF!"}},{"$f":"IF(#REF!=\"\", \"\",#REF!)","v":{"$error":"#REF!"}},{"$f":"IF(#REF!=\"\", \"\",#REF!)","v":{"$error":"#REF!"}},{"$f":"IF(#REF!=\"\", \"\",#REF!)","v":{"$error":"#REF!"}},{"$f":"IF(#REF!=\"\", \"\",#REF!)","v":{"$error":"#REF!"}},{"$f":"IF(#REF!=\"\", \"\",#REF!)","v":{"$error":"#REF!"}},{"$f":"IF(#REF!=\"\", \"\",#REF!)","v":{"$error":"#REF!"}},{"$f":"IF(#REF!=\"\", \"\",#REF!)","v":{"$error":"#REF!"}},{"$f":"IF(#REF!=\"\", \"\",#REF!)","v":{"$error":"#REF!"}},{"$f":"IF(#REF!=\"\", \"\",#REF!)","v":{"$error":"#REF!"}},{"$f":"IF(#REF!=\"\", \"\",#REF!)","v":{"$error":"#REF!"}},{"$f":"IF(#REF!=\"\", \"\",#REF!)","v":{"$error":"#REF!"}},{"$f":"IF(#REF!=\"\", \"\",#REF!)","v":{"$error":"#REF!"}},{"$f":"IF(#REF!=\"\", \"\",#REF!)","v":{"$error":"#REF!"}},{"$f":"IF(#REF!=\"\", \"\",#REF!)","v":{"$error":"#REF!"}},{"$f":"IF(#REF!=\"\", \"\",#REF!)","v":{"$error":"#REF!"}},{"$f":"IF(#REF!=\"\", \"\",#REF!)","v":{"$error":"#REF!"}},{"$f":"IF(#REF!=\"\", \"\",#REF!)","v":{"$error":"#REF!"}},{"$f":"IF(#REF!=\"\", \"\",#REF!)","v":{"$error":"#REF!"}},{"$f":"IF(#REF!=\"\", \"\",#REF!)","v":{"$error":"#REF!"}},{"$f":"IF(#REF!=\"\", \"\",#REF!)","v":{"$error":"#REF!"}},{"$f":"IF(#REF!=\"\", \"\",#REF!)","v":{"$error":"#REF!"}},{"$f":"IF(#REF!=\"\", \"\",#REF!)","v":{"$error":"#REF!"}},{"$f":"IF(#REF!=\"\", \"\",#REF!)","v":{"$error":"#REF!"}},{"$f":"IF(#REF!=\"\", \"\",#REF!)","v":{"$error":"#REF!"}},{"$f":"IF(#REF!=\"\", \"\",#REF!)","v":{"$error":"#REF!"}},{"$f":"IF(#REF!=\"\", \"\",#REF!)","v":{"$error":"#REF!"}},{"$f":"IF(#REF!=\"\", \"\",#REF!)","v":{"$error":"#REF!"}},{"$f":"IF(#REF!=\"\", \"\",#REF!)","v":{"$error":"#REF!"}},{"$f":"IF(#REF!=\"\", \"\",#REF!)","v":{"$error":"#REF!"}},{"$f":"IF(#REF!=\"\", \"\",#REF!)","v":{"$error":"#REF!"}},{"$f":"IF(#REF!=\"\", \"\",#REF!)","v":{"$error":"#REF!"}},{"$f":"IF(#REF!=\"\", \"\",#REF!)","v":{"$error":"#REF!"}},{"$f":"IF(#REF!=\"\", \"\",#REF!)","v":{"$error":"#REF!"}},{"$f":"IF(#REF!=\"\", \"\",#REF!)","v":{"$error":"#REF!"}},{"$f":"IF(#REF!=\"\", \"\",#REF!)","v":{"$error":"#REF!"}},{"$f":"IF(#REF!=\"\", \"\",#REF!)","v":{"$error":"#REF!"}},{"$f":"IF(#REF!=\"\", \"\",#REF!)","v":{"$error":"#REF!"}},{"$f":"IF(#REF!=\"\", \"\",#REF!)","v":{"$error":"#REF!"}},{"$f":"IF(#REF!=\"\", \"\",#REF!)","v":{"$error":"#REF!"}},{"$f":"IF(#REF!=\"\", \"\",#REF!)","v":{"$error":"#REF!"}},{"$f":"IF(#REF!=\"\", \"\",#REF!)","v":{"$error":"#REF!"}},{"$f":"IF(#REF!=\"\", \"\",#REF!)","v":{"$error":"#REF!"}},{"$f":"IF(#REF!=\"\", \"\",#REF!)","v":{"$error":"#REF!"}},{"$f":"IF(#REF!=\"\", \"\",#REF!)","v":{"$error":"#REF!"}},{"$f":"IF(#REF!=\"\", \"\",#REF!)","v":{"$error":"#REF!"}},{"$f":"IF(#REF!=\"\", \"\",#REF!)","v":{"$error":"#REF!"}},{"$f":"IF(#REF!=\"\", \"\",#REF!)","v":{"$error":"#REF!"}},{"$f":"IF(#REF!=\"\", \"\",#REF!)","v":{"$error":"#REF!"}},{"$f":"IF(#REF!=\"\", \"\",#REF!)","v":{"$error":"#REF!"}},{"$f":"IF(#REF!=\"\", \"\",#REF!)","v":{"$error":"#REF!"}},{"$f":"IF(#REF!=\"\", \"\",#REF!)","v":{"$error":"#REF!"}},{"$f":"IF(#REF!=\"\", \"\",#REF!)","v":{"$error":"#REF!"}},{"$f":"IF(#REF!=\"\", \"\",#REF!)","v":{"$error":"#REF!"}},{"$f":"IF(#REF!=\"\", \"\",#REF!)","v":{"$error":"#REF!"}},{"$f":"IF(#REF!=\"\", \"\",#REF!)","v":{"$error":"#REF!"}},{"$f":"IF(#REF!=\"\", \"\",#REF!)","v":{"$error":"#REF!"}},{"$f":"IF(#REF!=\"\", \"\",#REF!)","v":{"$error":"#REF!"}},{"$f":"IF(#REF!=\"\", \"\",#REF!)","v":{"$error":"#REF!"}}]
["Zusatzitem 28",{"$f":"IF(#REF!=\"\", \"\",#REF!)","v":{"$error":"#REF!"}},{"$f":"IF(#REF!=\"\", \"\",#REF!)","v":{"$error":"#REF!"}},{"$f":"IF(#REF!=\"\", \"\",#REF!)","v":{"$error":"#REF!"}},{"$f":"IF(#REF!=\"\", \"\",#REF!)","v":{"$error":"#REF!"}},{"$f":"IF(#REF!=\"\", \"\",#REF!)","v":{"$error":"#REF!"}},{"$f":"IF(#REF!=\"\", \"\",#REF!)","v":{"$error":"#REF!"}},{"$f":"IF(#REF!=\"\", \"\",#REF!)","v":{"$error":"#REF!"}},{"$f":"IF(#REF!=\"\", \"\",#REF!)","v":{"$error":"#REF!"}},{"$f":"IF(#REF!=\"\", \"\",#REF!)","v":{"$error":"#REF!"}},{"$f":"IF(#REF!=\"\", \"\",#REF!)","v":{"$error":"#REF!"}},{"$f":"IF(#REF!=\"\", \"\",#REF!)","v":{"$error":"#REF!"}},{"$f":"IF(#REF!=\"\", \"\",#REF!)","v":{"$error":"#REF!"}},{"$f":"IF(#REF!=\"\", \"\",#REF!)","v":{"$error":"#REF!"}},{"$f":"IF(#REF!=\"\", \"\",#REF!)","v":{"$error":"#REF!"}},{"$f":"IF(#REF!=\"\", \"\",#REF!)","v":{"$error":"#REF!"}},{"$f":"IF(#REF!=\"\", \"\",#REF!)","v":{"$error":"#REF!"}},{"$f":"IF(#REF!=\"\", \"\",#REF!)","v":{"$error":"#REF!"}},{"$f":"IF(#REF!=\"\", \"\",#REF!)","v":{"$error":"#REF!"}},{"$f":"IF(#REF!=\"\", \"\",#REF!)","v":{"$error":"#REF!"}},{"$f":"IF(#REF!=\"\", \"\",#REF!)","v":{"$error":"#REF!"}},{"$f":"IF(#REF!=\"\", \"\",#REF!)","v":{"$error":"#REF!"}},{"$f":"IF(#REF!=\"\", \"\",#REF!)","v":{"$error":"#REF!"}},{"$f":"IF(#REF!=\"\", \"\",#REF!)","v":{"$error":"#REF!"}},{"$f":"IF(#REF!=\"\", \"\",#REF!)","v":{"$error":"#REF!"}},{"$f":"IF(#REF!=\"\", \"\",#REF!)","v":{"$error":"#REF!"}},{"$f":"IF(#REF!=\"\", \"\",#REF!)","v":{"$error":"#REF!"}},{"$f":"IF(#REF!=\"\", \"\",#REF!)","v":{"$error":"#REF!"}},{"$f":"IF(#REF!=\"\", \"\",#REF!)","v":{"$error":"#REF!"}},{"$f":"IF(#REF!=\"\", \"\",#REF!)","v":{"$error":"#REF!"}},{"$f":"IF(#REF!=\"\", \"\",#REF!)","v":{"$error":"#REF!"}},{"$f":"IF(#REF!=\"\", \"\",#REF!)","v":{"$error":"#REF!"}},{"$f":"IF(#REF!=\"\", \"\",#REF!)","v":{"$error":"#REF!"}},{"$f":"IF(#REF!=\"\", \"\",#REF!)","v":{"$error":"#REF!"}},{"$f":"IF(#REF!=\"\", \"\",#REF!)","v":{"$error":"#REF!"}},{"$f":"IF(#REF!=\"\", \"\",#REF!)","v":{"$error":"#REF!"}},{"$f":"IF(#REF!=\"\", \"\",#REF!)","v":{"$error":"#REF!"}},{"$f":"IF(#REF!=\"\", \"\",#REF!)","v":{"$error":"#REF!"}},{"$f":"IF(#REF!=\"\", \"\",#REF!)","v":{"$error":"#REF!"}},{"$f":"IF(#REF!=\"\", \"\",#REF!)","v":{"$error":"#REF!"}},{"$f":"IF(#REF!=\"\", \"\",#REF!)","v":{"$error":"#REF!"}},{"$f":"IF(#REF!=\"\", \"\",#REF!)","v":{"$error":"#REF!"}},{"$f":"IF(#REF!=\"\", \"\",#REF!)","v":{"$error":"#REF!"}},{"$f":"IF(#REF!=\"\", \"\",#REF!)","v":{"$error":"#REF!"}},{"$f":"IF(#REF!=\"\", \"\",#REF!)","v":{"$error":"#REF!"}},{"$f":"IF(#REF!=\"\", \"\",#REF!)","v":{"$error":"#REF!"}},{"$f":"IF(#REF!=\"\", \"\",#REF!)","v":{"$error":"#REF!"}},{"$f":"IF(#REF!=\"\", \"\",#REF!)","v":{"$error":"#REF!"}},{"$f":"IF(#REF!=\"\", \"\",#REF!)","v":{"$error":"#REF!"}},{"$f":"IF(#REF!=\"\", \"\",#REF!)","v":{"$error":"#REF!"}},{"$f":"IF(#REF!=\"\", \"\",#REF!)","v":{"$error":"#REF!"}},{"$f":"IF(#REF!=\"\", \"\",#REF!)","v":{"$error":"#REF!"}},{"$f":"IF(#REF!=\"\", \"\",#REF!)","v":{"$error":"#REF!"}},{"$f":"IF(#REF!=\"\", \"\",#REF!)","v":{"$error":"#REF!"}},{"$f":"IF(#REF!=\"\", \"\",#REF!)","v":{"$error":"#REF!"}},{"$f":"IF(#REF!=\"\", \"\",#REF!)","v":{"$error":"#REF!"}},{"$f":"IF(#REF!=\"\", \"\",#REF!)","v":{"$error":"#REF!"}},{"$f":"IF(#REF!=\"\", \"\",#REF!)","v":{"$error":"#REF!"}},{"$f":"IF(#REF!=\"\", \"\",#REF!)","v":{"$error":"#REF!"}},{"$f":"IF(#REF!=\"\", \"\",#REF!)","v":{"$error":"#REF!"}},{"$f":"IF(#REF!=\"\", \"\",#REF!)","v":{"$error":"#REF!"}},{"$f":"IF(#REF!=\"\", \"\",#REF!)","v":{"$error":"#REF!"}}]
["Zusatzitem 29",{"$f":"IF(#REF!=\"\", \"\",#REF!)","v":{"$error":"#REF!"}},{"$f":"IF(#REF!=\"\", \"\",#REF!)","v":{"$error":"#REF!"}},{"$f":"IF(#REF!=\"\", \"\",#REF!)","v":{"$error":"#REF!"}},{"$f":"IF(#REF!=\"\", \"\",#REF!)","v":{"$error":"#REF!"}},{"$f":"IF(#REF!=\"\", \"\",#REF!)","v":{"$error":"#REF!"}},{"$f":"IF(#REF!=\"\", \"\",#REF!)","v":{"$error":"#REF!"}},{"$f":"IF(#REF!=\"\", \"\",#REF!)","v":{"$error":"#REF!"}},{"$f":"IF(#REF!=\"\", \"\",#REF!)","v":{"$error":"#REF!"}},{"$f":"IF(#REF!=\"\", \"\",#REF!)","v":{"$error":"#REF!"}},{"$f":"IF(#REF!=\"\", \"\",#REF!)","v":{"$error":"#REF!"}},{"$f":"IF(#REF!=\"\", \"\",#REF!)","v":{"$error":"#REF!"}},{"$f":"IF(#REF!=\"\", \"\",#REF!)","v":{"$error":"#REF!"}},{"$f":"IF(#REF!=\"\", \"\",#REF!)","v":{"$error":"#REF!"}},{"$f":"IF(#REF!=\"\", \"\",#REF!)","v":{"$error":"#REF!"}},{"$f":"IF(#REF!=\"\", \"\",#REF!)","v":{"$error":"#REF!"}},{"$f":"IF(#REF!=\"\", \"\",#REF!)","v":{"$error":"#REF!"}},{"$f":"IF(#REF!=\"\", \"\",#REF!)","v":{"$error":"#REF!"}},{"$f":"IF(#REF!=\"\", \"\",#REF!)","v":{"$error":"#REF!"}},{"$f":"IF(#REF!=\"\", \"\",#REF!)","v":{"$error":"#REF!"}},{"$f":"IF(#REF!=\"\", \"\",#REF!)","v":{"$error":"#REF!"}},{"$f":"IF(#REF!=\"\", \"\",#REF!)","v":{"$error":"#REF!"}},{"$f":"IF(#REF!=\"\", \"\",#REF!)","v":{"$error":"#REF!"}},{"$f":"IF(#REF!=\"\", \"\",#REF!)","v":{"$error":"#REF!"}},{"$f":"IF(#REF!=\"\", \"\",#REF!)","v":{"$error":"#REF!"}},{"$f":"IF(#REF!=\"\", \"\",#REF!)","v":{"$error":"#REF!"}},{"$f":"IF(#REF!=\"\", \"\",#REF!)","v":{"$error":"#REF!"}},{"$f":"IF(#REF!=\"\", \"\",#REF!)","v":{"$error":"#REF!"}},{"$f":"IF(#REF!=\"\", \"\",#REF!)","v":{"$error":"#REF!"}},{"$f":"IF(#REF!=\"\", \"\",#REF!)","v":{"$error":"#REF!"}},{"$f":"IF(#REF!=\"\", \"\",#REF!)","v":{"$error":"#REF!"}},{"$f":"IF(#REF!=\"\", \"\",#REF!)","v":{"$error":"#REF!"}},{"$f":"IF(#REF!=\"\", \"\",#REF!)","v":{"$error":"#REF!"}},{"$f":"IF(#REF!=\"\", \"\",#REF!)","v":{"$error":"#REF!"}},{"$f":"IF(#REF!=\"\", \"\",#REF!)","v":{"$error":"#REF!"}},{"$f":"IF(#REF!=\"\", \"\",#REF!)","v":{"$error":"#REF!"}},{"$f":"IF(#REF!=\"\", \"\",#REF!)","v":{"$error":"#REF!"}},{"$f":"IF(#REF!=\"\", \"\",#REF!)","v":{"$error":"#REF!"}},{"$f":"IF(#REF!=\"\", \"\",#REF!)","v":{"$error":"#REF!"}},{"$f":"IF(#REF!=\"\", \"\",#REF!)","v":{"$error":"#REF!"}},{"$f":"IF(#REF!=\"\", \"\",#REF!)","v":{"$error":"#REF!"}},{"$f":"IF(#REF!=\"\", \"\",#REF!)","v":{"$error":"#REF!"}},{"$f":"IF(#REF!=\"\", \"\",#REF!)","v":{"$error":"#REF!"}},{"$f":"IF(#REF!=\"\", \"\",#REF!)","v":{"$error":"#REF!"}},{"$f":"IF(#REF!=\"\", \"\",#REF!)","v":{"$error":"#REF!"}},{"$f":"IF(#REF!=\"\", \"\",#REF!)","v":{"$error":"#REF!"}},{"$f":"IF(#REF!=\"\", \"\",#REF!)","v":{"$error":"#REF!"}},{"$f":"IF(#REF!=\"\", \"\",#REF!)","v":{"$error":"#REF!"}},{"$f":"IF(#REF!=\"\", \"\",#REF!)","v":{"$error":"#REF!"}},{"$f":"IF(#REF!=\"\", \"\",#REF!)","v":{"$error":"#REF!"}},{"$f":"IF(#REF!=\"\", \"\",#REF!)","v":{"$error":"#REF!"}},{"$f":"IF(#REF!=\"\", \"\",#REF!)","v":{"$error":"#REF!"}},{"$f":"IF(#REF!=\"\", \"\",#REF!)","v":{"$error":"#REF!"}},{"$f":"IF(#REF!=\"\", \"\",#REF!)","v":{"$error":"#REF!"}},{"$f":"IF(#REF!=\"\", \"\",#REF!)","v":{"$error":"#REF!"}},{"$f":"IF(#REF!=\"\", \"\",#REF!)","v":{"$error":"#REF!"}},{"$f":"IF(#REF!=\"\", \"\",#REF!)","v":{"$error":"#REF!"}},{"$f":"IF(#REF!=\"\", \"\",#REF!)","v":{"$error":"#REF!"}},{"$f":"IF(#REF!=\"\", \"\",#REF!)","v":{"$error":"#REF!"}},{"$f":"IF(#REF!=\"\", \"\",#REF!)","v":{"$error":"#REF!"}},{"$f":"IF(#REF!=\"\", \"\",#REF!)","v":{"$error":"#REF!"}},{"$f":"IF(#REF!=\"\", \"\",#REF!)","v":{"$error":"#REF!"}}]
["Zusatzitem 30",{"$f":"IF(#REF!=\"\", \"\",#REF!)","v":{"$error":"#REF!"}},{"$f":"IF(#REF!=\"\", \"\",#REF!)","v":{"$error":"#REF!"}},{"$f":"IF(#REF!=\"\", \"\",#REF!)","v":{"$error":"#REF!"}},{"$f":"IF(#REF!=\"\", \"\",#REF!)","v":{"$error":"#REF!"}},{"$f":"IF(#REF!=\"\", \"\",#REF!)","v":{"$error":"#REF!"}},{"$f":"IF(#REF!=\"\", \"\",#REF!)","v":{"$error":"#REF!"}},{"$f":"IF(#REF!=\"\", \"\",#REF!)","v":{"$error":"#REF!"}},{"$f":"IF(#REF!=\"\", \"\",#REF!)","v":{"$error":"#REF!"}},{"$f":"IF(#REF!=\"\", \"\",#REF!)","v":{"$error":"#REF!"}},{"$f":"IF(#REF!=\"\", \"\",#REF!)","v":{"$error":"#REF!"}},{"$f":"IF(#REF!=\"\", \"\",#REF!)","v":{"$error":"#REF!"}},{"$f":"IF(#REF!=\"\", \"\",#REF!)","v":{"$error":"#REF!"}},{"$f":"IF(#REF!=\"\", \"\",#REF!)","v":{"$error":"#REF!"}},{"$f":"IF(#REF!=\"\", \"\",#REF!)","v":{"$error":"#REF!"}},{"$f":"IF(#REF!=\"\", \"\",#REF!)","v":{"$error":"#REF!"}},{"$f":"IF(#REF!=\"\", \"\",#REF!)","v":{"$error":"#REF!"}},{"$f":"IF(#REF!=\"\", \"\",#REF!)","v":{"$error":"#REF!"}},{"$f":"IF(#REF!=\"\", \"\",#REF!)","v":{"$error":"#REF!"}},{"$f":"IF(#REF!=\"\", \"\",#REF!)","v":{"$error":"#REF!"}},{"$f":"IF(#REF!=\"\", \"\",#REF!)","v":{"$error":"#REF!"}},{"$f":"IF(#REF!=\"\", \"\",#REF!)","v":{"$error":"#REF!"}},{"$f":"IF(#REF!=\"\", \"\",#REF!)","v":{"$error":"#REF!"}},{"$f":"IF(#REF!=\"\", \"\",#REF!)","v":{"$error":"#REF!"}},{"$f":"IF(#REF!=\"\", \"\",#REF!)","v":{"$error":"#REF!"}},{"$f":"IF(#REF!=\"\", \"\",#REF!)","v":{"$error":"#REF!"}},{"$f":"IF(#REF!=\"\", \"\",#REF!)","v":{"$error":"#REF!"}},{"$f":"IF(#REF!=\"\", \"\",#REF!)","v":{"$error":"#REF!"}},{"$f":"IF(#REF!=\"\", \"\",#REF!)","v":{"$error":"#REF!"}},{"$f":"IF(#REF!=\"\", \"\",#REF!)","v":{"$error":"#REF!"}},{"$f":"IF(#REF!=\"\", \"\",#REF!)","v":{"$error":"#REF!"}},{"$f":"IF(#REF!=\"\", \"\",#REF!)","v":{"$error":"#REF!"}},{"$f":"IF(#REF!=\"\", \"\",#REF!)","v":{"$error":"#REF!"}},{"$f":"IF(#REF!=\"\", \"\",#REF!)","v":{"$error":"#REF!"}},{"$f":"IF(#REF!=\"\", \"\",#REF!)","v":{"$error":"#REF!"}},{"$f":"IF(#REF!=\"\", \"\",#REF!)","v":{"$error":"#REF!"}},{"$f":"IF(#REF!=\"\", \"\",#REF!)","v":{"$error":"#REF!"}},{"$f":"IF(#REF!=\"\", \"\",#REF!)","v":{"$error":"#REF!"}},{"$f":"IF(#REF!=\"\", \"\",#REF!)","v":{"$error":"#REF!"}},{"$f":"IF(#REF!=\"\", \"\",#REF!)","v":{"$error":"#REF!"}},{"$f":"IF(#REF!=\"\", \"\",#REF!)","v":{"$error":"#REF!"}},{"$f":"IF(#REF!=\"\", \"\",#REF!)","v":{"$error":"#REF!"}},{"$f":"IF(#REF!=\"\", \"\",#REF!)","v":{"$error":"#REF!"}},{"$f":"IF(#REF!=\"\", \"\",#REF!)","v":{"$error":"#REF!"}},{"$f":"IF(#REF!=\"\", \"\",#REF!)","v":{"$error":"#REF!"}},{"$f":"IF(#REF!=\"\", \"\",#REF!)","v":{"$error":"#REF!"}},{"$f":"IF(#REF!=\"\", \"\",#REF!)","v":{"$error":"#REF!"}},{"$f":"IF(#REF!=\"\", \"\",#REF!)","v":{"$error":"#REF!"}},{"$f":"IF(#REF!=\"\", \"\",#REF!)","v":{"$error":"#REF!"}},{"$f":"IF(#REF!=\"\", \"\",#REF!)","v":{"$error":"#REF!"}},{"$f":"IF(#REF!=\"\", \"\",#REF!)","v":{"$error":"#REF!"}},{"$f":"IF(#REF!=\"\", \"\",#REF!)","v":{"$error":"#REF!"}},{"$f":"IF(#REF!=\"\", \"\",#REF!)","v":{"$error":"#REF!"}},{"$f":"IF(#REF!=\"\", \"\",#REF!)","v":{"$error":"#REF!"}},{"$f":"IF(#REF!=\"\", \"\",#REF!)","v":{"$error":"#REF!"}},{"$f":"IF(#REF!=\"\", \"\",#REF!)","v":{"$error":"#REF!"}},{"$f":"IF(#REF!=\"\", \"\",#REF!)","v":{"$error":"#REF!"}},{"$f":"IF(#REF!=\"\", \"\",#REF!)","v":{"$error":"#REF!"}},{"$f":"IF(#REF!=\"\", \"\",#REF!)","v":{"$error":"#REF!"}},{"$f":"IF(#REF!=\"\", \"\",#REF!)","v":{"$error":"#REF!"}},{"$f":"IF(#REF!=\"\", \"\",#REF!)","v":{"$error":"#REF!"}},{"$f":"IF(#REF!=\"\", \"\",#REF!)","v":{"$error":"#REF!"}}]
["Zusatzitem 31",{"$f":"IF(#REF!=\"\", \"\",#REF!)","v":{"$error":"#REF!"}},{"$f":"IF(#REF!=\"\", \"\",#REF!)","v":{"$error":"#REF!"}},{"$f":"IF(#REF!=\"\", \"\",#REF!)","v":{"$error":"#REF!"}},{"$f":"IF(#REF!=\"\", \"\",#REF!)","v":{"$error":"#REF!"}},{"$f":"IF(#REF!=\"\", \"\",#REF!)","v":{"$error":"#REF!"}},{"$f":"IF(#REF!=\"\", \"\",#REF!)","v":{"$error":"#REF!"}},{"$f":"IF(#REF!=\"\", \"\",#REF!)","v":{"$error":"#REF!"}},{"$f":"IF(#REF!=\"\", \"\",#REF!)","v":{"$error":"#REF!"}},{"$f":"IF(#REF!=\"\", \"\",#REF!)","v":{"$error":"#REF!"}},{"$f":"IF(#REF!=\"\", \"\",#REF!)","v":{"$error":"#REF!"}},{"$f":"IF(#REF!=\"\", \"\",#REF!)","v":{"$error":"#REF!"}},{"$f":"IF(#REF!=\"\", \"\",#REF!)","v":{"$error":"#REF!"}},{"$f":"IF(#REF!=\"\", \"\",#REF!)","v":{"$error":"#REF!"}},{"$f":"IF(#REF!=\"\", \"\",#REF!)","v":{"$error":"#REF!"}},{"$f":"IF(#REF!=\"\", \"\",#REF!)","v":{"$error":"#REF!"}},{"$f":"IF(#REF!=\"\", \"\",#REF!)","v":{"$error":"#REF!"}},{"$f":"IF(#REF!=\"\", \"\",#REF!)","v":{"$error":"#REF!"}},{"$f":"IF(#REF!=\"\", \"\",#REF!)","v":{"$error":"#REF!"}},{"$f":"IF(#REF!=\"\", \"\",#REF!)","v":{"$error":"#REF!"}},{"$f":"IF(#REF!=\"\", \"\",#REF!)","v":{"$error":"#REF!"}},{"$f":"IF(#REF!=\"\", \"\",#REF!)","v":{"$error":"#REF!"}},{"$f":"IF(#REF!=\"\", \"\",#REF!)","v":{"$error":"#REF!"}},{"$f":"IF(#REF!=\"\", \"\",#REF!)","v":{"$error":"#REF!"}},{"$f":"IF(#REF!=\"\", \"\",#REF!)","v":{"$error":"#REF!"}},{"$f":"IF(#REF!=\"\", \"\",#REF!)","v":{"$error":"#REF!"}},{"$f":"IF(#REF!=\"\", \"\",#REF!)","v":{"$error":"#REF!"}},{"$f":"IF(#REF!=\"\", \"\",#REF!)","v":{"$error":"#REF!"}},{"$f":"IF(#REF!=\"\", \"\",#REF!)","v":{"$error":"#REF!"}},{"$f":"IF(#REF!=\"\", \"\",#REF!)","v":{"$error":"#REF!"}},{"$f":"IF(#REF!=\"\", \"\",#REF!)","v":{"$error":"#REF!"}},{"$f":"IF(#REF!=\"\", \"\",#REF!)","v":{"$error":"#REF!"}},{"$f":"IF(#REF!=\"\", \"\",#REF!)","v":{"$error":"#REF!"}},{"$f":"IF(#REF!=\"\", \"\",#REF!)","v":{"$error":"#REF!"}},{"$f":"IF(#REF!=\"\", \"\",#REF!)","v":{"$error":"#REF!"}},{"$f":"IF(#REF!=\"\", \"\",#REF!)","v":{"$error":"#REF!"}},{"$f":"IF(#REF!=\"\", \"\",#REF!)","v":{"$error":"#REF!"}},{"$f":"IF(#REF!=\"\", \"\",#REF!)","v":{"$error":"#REF!"}},{"$f":"IF(#REF!=\"\", \"\",#REF!)","v":{"$error":"#REF!"}},{"$f":"IF(#REF!=\"\", \"\",#REF!)","v":{"$error":"#REF!"}},{"$f":"IF(#REF!=\"\", \"\",#REF!)","v":{"$error":"#REF!"}},{"$f":"IF(#REF!=\"\", \"\",#REF!)","v":{"$error":"#REF!"}},{"$f":"IF(#REF!=\"\", \"\",#REF!)","v":{"$error":"#REF!"}},{"$f":"IF(#REF!=\"\", \"\",#REF!)","v":{"$error":"#REF!"}},{"$f":"IF(#REF!=\"\", \"\",#REF!)","v":{"$error":"#REF!"}},{"$f":"IF(#REF!=\"\", \"\",#REF!)","v":{"$error":"#REF!"}},{"$f":"IF(#REF!=\"\", \"\",#REF!)","v":{"$error":"#REF!"}},{"$f":"IF(#REF!=\"\", \"\",#REF!)","v":{"$error":"#REF!"}},{"$f":"IF(#REF!=\"\", \"\",#REF!)","v":{"$error":"#REF!"}},{"$f":"IF(#REF!=\"\", \"\",#REF!)","v":{"$error":"#REF!"}},{"$f":"IF(#REF!=\"\", \"\",#REF!)","v":{"$error":"#REF!"}},{"$f":"IF(#REF!=\"\", \"\",#REF!)","v":{"$error":"#REF!"}},{"$f":"IF(#REF!=\"\", \"\",#REF!)","v":{"$error":"#REF!"}},{"$f":"IF(#REF!=\"\", \"\",#REF!)","v":{"$error":"#REF!"}},{"$f":"IF(#REF!=\"\", \"\",#REF!)","v":{"$error":"#REF!"}},{"$f":"IF(#REF!=\"\", \"\",#REF!)","v":{"$error":"#REF!"}},{"$f":"IF(#REF!=\"\", \"\",#REF!)","v":{"$error":"#REF!"}},{"$f":"IF(#REF!=\"\", \"\",#REF!)","v":{"$error":"#REF!"}},{"$f":"IF(#REF!=\"\", \"\",#REF!)","v":{"$error":"#REF!"}},{"$f":"IF(#REF!=\"\", \"\",#REF!)","v":{"$error":"#REF!"}},{"$f":"IF(#REF!=\"\", \"\",#REF!)","v":{"$error":"#REF!"}},{"$f":"IF(#REF!=\"\", \"\",#REF!)","v":{"$error":"#REF!"}}]
["Zusatzitem 32",{"$f":"IF(#REF!=\"\", \"\",#REF!)","v":{"$error":"#REF!"}},{"$f":"IF(#REF!=\"\", \"\",#REF!)","v":{"$error":"#REF!"}},{"$f":"IF(#REF!=\"\", \"\",#REF!)","v":{"$error":"#REF!"}},{"$f":"IF(#REF!=\"\", \"\",#REF!)","v":{"$error":"#REF!"}},{"$f":"IF(#REF!=\"\", \"\",#REF!)","v":{"$error":"#REF!"}},{"$f":"IF(#REF!=\"\", \"\",#REF!)","v":{"$error":"#REF!"}},{"$f":"IF(#REF!=\"\", \"\",#REF!)","v":{"$error":"#REF!"}},{"$f":"IF(#REF!=\"\", \"\",#REF!)","v":{"$error":"#REF!"}},{"$f":"IF(#REF!=\"\", \"\",#REF!)","v":{"$error":"#REF!"}},{"$f":"IF(#REF!=\"\", \"\",#REF!)","v":{"$error":"#REF!"}},{"$f":"IF(#REF!=\"\", \"\",#REF!)","v":{"$error":"#REF!"}},{"$f":"IF(#REF!=\"\", \"\",#REF!)","v":{"$error":"#REF!"}},{"$f":"IF(#REF!=\"\", \"\",#REF!)","v":{"$error":"#REF!"}},{"$f":"IF(#REF!=\"\", \"\",#REF!)","v":{"$error":"#REF!"}},{"$f":"IF(#REF!=\"\", \"\",#REF!)","v":{"$error":"#REF!"}},{"$f":"IF(#REF!=\"\", \"\",#REF!)","v":{"$error":"#REF!"}},{"$f":"IF(#REF!=\"\", \"\",#REF!)","v":{"$error":"#REF!"}},{"$f":"IF(#REF!=\"\", \"\",#REF!)","v":{"$error":"#REF!"}},{"$f":"IF(#REF!=\"\", \"\",#REF!)","v":{"$error":"#REF!"}},{"$f":"IF(#REF!=\"\", \"\",#REF!)","v":{"$error":"#REF!"}},{"$f":"IF(#REF!=\"\", \"\",#REF!)","v":{"$error":"#REF!"}},{"$f":"IF(#REF!=\"\", \"\",#REF!)","v":{"$error":"#REF!"}},{"$f":"IF(#REF!=\"\", \"\",#REF!)","v":{"$error":"#REF!"}},{"$f":"IF(#REF!=\"\", \"\",#REF!)","v":{"$error":"#REF!"}},{"$f":"IF(#REF!=\"\", \"\",#REF!)","v":{"$error":"#REF!"}},{"$f":"IF(#REF!=\"\", \"\",#REF!)","v":{"$error":"#REF!"}},{"$f":"IF(#REF!=\"\", \"\",#REF!)","v":{"$error":"#REF!"}},{"$f":"IF(#REF!=\"\", \"\",#REF!)","v":{"$error":"#REF!"}},{"$f":"IF(#REF!=\"\", \"\",#REF!)","v":{"$error":"#REF!"}},{"$f":"IF(#REF!=\"\", \"\",#REF!)","v":{"$error":"#REF!"}},{"$f":"IF(#REF!=\"\", \"\",#REF!)","v":{"$error":"#REF!"}},{"$f":"IF(#REF!=\"\", \"\",#REF!)","v":{"$error":"#REF!"}},{"$f":"IF(#REF!=\"\", \"\",#REF!)","v":{"$error":"#REF!"}},{"$f":"IF(#REF!=\"\", \"\",#REF!)","v":{"$error":"#REF!"}},{"$f":"IF(#REF!=\"\", \"\",#REF!)","v":{"$error":"#REF!"}},{"$f":"IF(#REF!=\"\", \"\",#REF!)","v":{"$error":"#REF!"}},{"$f":"IF(#REF!=\"\", \"\",#REF!)","v":{"$error":"#REF!"}},{"$f":"IF(#REF!=\"\", \"\",#REF!)","v":{"$error":"#REF!"}},{"$f":"IF(#REF!=\"\", \"\",#REF!)","v":{"$error":"#REF!"}},{"$f":"IF(#REF!=\"\", \"\",#REF!)","v":{"$error":"#REF!"}},{"$f":"IF(#REF!=\"\", \"\",#REF!)","v":{"$error":"#REF!"}},{"$f":"IF(#REF!=\"\", \"\",#REF!)","v":{"$error":"#REF!"}},{"$f":"IF(#REF!=\"\", \"\",#REF!)","v":{"$error":"#REF!"}},{"$f":"IF(#REF!=\"\", \"\",#REF!)","v":{"$error":"#REF!"}},{"$f":"IF(#REF!=\"\", \"\",#REF!)","v":{"$error":"#REF!"}},{"$f":"IF(#REF!=\"\", \"\",#REF!)","v":{"$error":"#REF!"}},{"$f":"IF(#REF!=\"\", \"\",#REF!)","v":{"$error":"#REF!"}},{"$f":"IF(#REF!=\"\", \"\",#REF!)","v":{"$error":"#REF!"}},{"$f":"IF(#REF!=\"\", \"\",#REF!)","v":{"$error":"#REF!"}},{"$f":"IF(#REF!=\"\", \"\",#REF!)","v":{"$error":"#REF!"}},{"$f":"IF(#REF!=\"\", \"\",#REF!)","v":{"$error":"#REF!"}},{"$f":"IF(#REF!=\"\", \"\",#REF!)","v":{"$error":"#REF!"}},{"$f":"IF(#REF!=\"\", \"\",#REF!)","v":{"$error":"#REF!"}},{"$f":"IF(#REF!=\"\", \"\",#REF!)","v":{"$error":"#REF!"}},{"$f":"IF(#REF!=\"\", \"\",#REF!)","v":{"$error":"#REF!"}},{"$f":"IF(#REF!=\"\", \"\",#REF!)","v":{"$error":"#REF!"}},{"$f":"IF(#REF!=\"\", \"\",#REF!)","v":{"$error":"#REF!"}},{"$f":"IF(#REF!=\"\", \"\",#REF!)","v":{"$error":"#REF!"}},{"$f":"IF(#REF!=\"\", \"\",#REF!)","v":{"$error":"#REF!"}},{"$f":"IF(#REF!=\"\", \"\",#REF!)","v":{"$error":"#REF!"}},{"$f":"IF(#REF!=\"\", \"\",#REF!)","v":{"$error":"#REF!"}}]
["Zusatzitem 33",{"$f":"IF(#REF!=\"\", \"\",#REF!)","v":{"$error":"#REF!"}},{"$f":"IF(#REF!=\"\", \"\",#REF!)","v":{"$error":"#REF!"}},{"$f":"IF(#REF!=\"\", \"\",#REF!)","v":{"$error":"#REF!"}},{"$f":"IF(#REF!=\"\", \"\",#REF!)","v":{"$error":"#REF!"}},{"$f":"IF(#REF!=\"\", \"\",#REF!)","v":{"$error":"#REF!"}},{"$f":"IF(#REF!=\"\", \"\",#REF!)","v":{"$error":"#REF!"}},{"$f":"IF(#REF!=\"\", \"\",#REF!)","v":{"$error":"#REF!"}},{"$f":"IF(#REF!=\"\", \"\",#REF!)","v":{"$error":"#REF!"}},{"$f":"IF(#REF!=\"\", \"\",#REF!)","v":{"$error":"#REF!"}},{"$f":"IF(#REF!=\"\", \"\",#REF!)","v":{"$error":"#REF!"}},{"$f":"IF(#REF!=\"\", \"\",#REF!)","v":{"$error":"#REF!"}},{"$f":"IF(#REF!=\"\", \"\",#REF!)","v":{"$error":"#REF!"}},{"$f":"IF(#REF!=\"\", \"\",#REF!)","v":{"$error":"#REF!"}},{"$f":"IF(#REF!=\"\", \"\",#REF!)","v":{"$error":"#REF!"}},{"$f":"IF(#REF!=\"\", \"\",#REF!)","v":{"$error":"#REF!"}},{"$f":"IF(#REF!=\"\", \"\",#REF!)","v":{"$error":"#REF!"}},{"$f":"IF(#REF!=\"\", \"\",#REF!)","v":{"$error":"#REF!"}},{"$f":"IF(#REF!=\"\", \"\",#REF!)","v":{"$error":"#REF!"}},{"$f":"IF(#REF!=\"\", \"\",#REF!)","v":{"$error":"#REF!"}},{"$f":"IF(#REF!=\"\", \"\",#REF!)","v":{"$error":"#REF!"}},{"$f":"IF(#REF!=\"\", \"\",#REF!)","v":{"$error":"#REF!"}},{"$f":"IF(#REF!=\"\", \"\",#REF!)","v":{"$error":"#REF!"}},{"$f":"IF(#REF!=\"\", \"\",#REF!)","v":{"$error":"#REF!"}},{"$f":"IF(#REF!=\"\", \"\",#REF!)","v":{"$error":"#REF!"}},{"$f":"IF(#REF!=\"\", \"\",#REF!)","v":{"$error":"#REF!"}},{"$f":"IF(#REF!=\"\", \"\",#REF!)","v":{"$error":"#REF!"}},{"$f":"IF(#REF!=\"\", \"\",#REF!)","v":{"$error":"#REF!"}},{"$f":"IF(#REF!=\"\", \"\",#REF!)","v":{"$error":"#REF!"}},{"$f":"IF(#REF!=\"\", \"\",#REF!)","v":{"$error":"#REF!"}},{"$f":"IF(#REF!=\"\", \"\",#REF!)","v":{"$error":"#REF!"}},{"$f":"IF(#REF!=\"\", \"\",#REF!)","v":{"$error":"#REF!"}},{"$f":"IF(#REF!=\"\", \"\",#REF!)","v":{"$error":"#REF!"}},{"$f":"IF(#REF!=\"\", \"\",#REF!)","v":{"$error":"#REF!"}},{"$f":"IF(#REF!=\"\", \"\",#REF!)","v":{"$error":"#REF!"}},{"$f":"IF(#REF!=\"\", \"\",#REF!)","v":{"$error":"#REF!"}},{"$f":"IF(#REF!=\"\", \"\",#REF!)","v":{"$error":"#REF!"}},{"$f":"IF(#REF!=\"\", \"\",#REF!)","v":{"$error":"#REF!"}},{"$f":"IF(#REF!=\"\", \"\",#REF!)","v":{"$error":"#REF!"}},{"$f":"IF(#REF!=\"\", \"\",#REF!)","v":{"$error":"#REF!"}},{"$f":"IF(#REF!=\"\", \"\",#REF!)","v":{"$error":"#REF!"}},{"$f":"IF(#REF!=\"\", \"\",#REF!)","v":{"$error":"#REF!"}},{"$f":"IF(#REF!=\"\", \"\",#REF!)","v":{"$error":"#REF!"}},{"$f":"IF(#REF!=\"\", \"\",#REF!)","v":{"$error":"#REF!"}},{"$f":"IF(#REF!=\"\", \"\",#REF!)","v":{"$error":"#REF!"}},{"$f":"IF(#REF!=\"\", \"\",#REF!)","v":{"$error":"#REF!"}},{"$f":"IF(#REF!=\"\", \"\",#REF!)","v":{"$error":"#REF!"}},{"$f":"IF(#REF!=\"\", \"\",#REF!)","v":{"$error":"#REF!"}},{"$f":"IF(#REF!=\"\", \"\",#REF!)","v":{"$error":"#REF!"}},{"$f":"IF(#REF!=\"\", \"\",#REF!)","v":{"$error":"#REF!"}},{"$f":"IF(#REF!=\"\", \"\",#REF!)","v":{"$error":"#REF!"}},{"$f":"IF(#REF!=\"\", \"\",#REF!)","v":{"$error":"#REF!"}},{"$f":"IF(#REF!=\"\", \"\",#REF!)","v":{"$error":"#REF!"}},{"$f":"IF(#REF!=\"\", \"\",#REF!)","v":{"$error":"#REF!"}},{"$f":"IF(#REF!=\"\", \"\",#REF!)","v":{"$error":"#REF!"}},{"$f":"IF(#REF!=\"\", \"\",#REF!)","v":{"$error":"#REF!"}},{"$f":"IF(#REF!=\"\", \"\",#REF!)","v":{"$error":"#REF!"}},{"$f":"IF(#REF!=\"\", \"\",#REF!)","v":{"$error":"#REF!"}},{"$f":"IF(#REF!=\"\", \"\",#REF!)","v":{"$error":"#REF!"}},{"$f":"IF(#REF!=\"\", \"\",#REF!)","v":{"$error":"#REF!"}},{"$f":"IF(#REF!=\"\", \"\",#REF!)","v":{"$error":"#REF!"}},{"$f":"IF(#REF!=\"\", \"\",#REF!)","v":{"$error":"#REF!"}}]
["Zusatzitem 34",{"$f":"IF(#REF!=\"\", \"\",#REF!)","v":{"$error":"#REF!"}},{"$f":"IF(#REF!=\"\", \"\",#REF!)","v":{"$error":"#REF!"}},{"$f":"IF(#REF!=\"\", \"\",#REF!)","v":{"$error":"#REF!"}},{"$f":"IF(#REF!=\"\", \"\",#REF!)","v":{"$error":"#REF!"}},{"$f":"IF(#REF!=\"\", \"\",#REF!)","v":{"$error":"#REF!"}},{"$f":"IF(#REF!=\"\", \"\",#REF!)","v":{"$error":"#REF!"}},{"$f":"IF(#REF!=\"\", \"\",#REF!)","v":{"$error":"#REF!"}},{"$f":"IF(#REF!=\"\", \"\",#REF!)","v":{"$error":"#REF!"}},{"$f":"IF(#REF!=\"\", \"\",#REF!)","v":{"$error":"#REF!"}},{"$f":"IF(#REF!=\"\", \"\",#REF!)","v":{"$error":"#REF!"}},{"$f":"IF(#REF!=\"\", \"\",#REF!)","v":{"$error":"#REF!"}},{"$f":"IF(#REF!=\"\", \"\",#REF!)","v":{"$error":"#REF!"}},{"$f":"IF(#REF!=\"\", \"\",#REF!)","v":{"$error":"#REF!"}},{"$f":"IF(#REF!=\"\", \"\",#REF!)","v":{"$error":"#REF!"}},{"$f":"IF(#REF!=\"\", \"\",#REF!)","v":{"$error":"#REF!"}},{"$f":"IF(#REF!=\"\", \"\",#REF!)","v":{"$error":"#REF!"}},{"$f":"IF(#REF!=\"\", \"\",#REF!)","v":{"$error":"#REF!"}},{"$f":"IF(#REF!=\"\", \"\",#REF!)","v":{"$error":"#REF!"}},{"$f":"IF(#REF!=\"\", \"\",#REF!)","v":{"$error":"#REF!"}},{"$f":"IF(#REF!=\"\", \"\",#REF!)","v":{"$error":"#REF!"}},{"$f":"IF(#REF!=\"\", \"\",#REF!)","v":{"$error":"#REF!"}},{"$f":"IF(#REF!=\"\", \"\",#REF!)","v":{"$error":"#REF!"}},{"$f":"IF(#REF!=\"\", \"\",#REF!)","v":{"$error":"#REF!"}},{"$f":"IF(#REF!=\"\", \"\",#REF!)","v":{"$error":"#REF!"}},{"$f":"IF(#REF!=\"\", \"\",#REF!)","v":{"$error":"#REF!"}},{"$f":"IF(#REF!=\"\", \"\",#REF!)","v":{"$error":"#REF!"}},{"$f":"IF(#REF!=\"\", \"\",#REF!)","v":{"$error":"#REF!"}},{"$f":"IF(#REF!=\"\", \"\",#REF!)","v":{"$error":"#REF!"}},{"$f":"IF(#REF!=\"\", \"\",#REF!)","v":{"$error":"#REF!"}},{"$f":"IF(#REF!=\"\", \"\",#REF!)","v":{"$error":"#REF!"}},{"$f":"IF(#REF!=\"\", \"\",#REF!)","v":{"$error":"#REF!"}},{"$f":"IF(#REF!=\"\", \"\",#REF!)","v":{"$error":"#REF!"}},{"$f":"IF(#REF!=\"\", \"\",#REF!)","v":{"$error":"#REF!"}},{"$f":"IF(#REF!=\"\", \"\",#REF!)","v":{"$error":"#REF!"}},{"$f":"IF(#REF!=\"\", \"\",#REF!)","v":{"$error":"#REF!"}},{"$f":"IF(#REF!=\"\", \"\",#REF!)","v":{"$error":"#REF!"}},{"$f":"IF(#REF!=\"\", \"\",#REF!)","v":{"$error":"#REF!"}},{"$f":"IF(#REF!=\"\", \"\",#REF!)","v":{"$error":"#REF!"}},{"$f":"IF(#REF!=\"\", \"\",#REF!)","v":{"$error":"#REF!"}},{"$f":"IF(#REF!=\"\", \"\",#REF!)","v":{"$error":"#REF!"}},{"$f":"IF(#REF!=\"\", \"\",#REF!)","v":{"$error":"#REF!"}},{"$f":"IF(#REF!=\"\", \"\",#REF!)","v":{"$error":"#REF!"}},{"$f":"IF(#REF!=\"\", \"\",#REF!)","v":{"$error":"#REF!"}},{"$f":"IF(#REF!=\"\", \"\",#REF!)","v":{"$error":"#REF!"}},{"$f":"IF(#REF!=\"\", \"\",#REF!)","v":{"$error":"#REF!"}},{"$f":"IF(#REF!=\"\", \"\",#REF!)","v":{"$error":"#REF!"}},{"$f":"IF(#REF!=\"\", \"\",#REF!)","v":{"$error":"#REF!"}},{"$f":"IF(#REF!=\"\", \"\",#REF!)","v":{"$error":"#REF!"}},{"$f":"IF(#REF!=\"\", \"\",#REF!)","v":{"$error":"#REF!"}},{"$f":"IF(#REF!=\"\", \"\",#REF!)","v":{"$error":"#REF!"}},{"$f":"IF(#REF!=\"\", \"\",#REF!)","v":{"$error":"#REF!"}},{"$f":"IF(#REF!=\"\", \"\",#REF!)","v":{"$error":"#REF!"}},{"$f":"IF(#REF!=\"\", \"\",#REF!)","v":{"$error":"#REF!"}},{"$f":"IF(#REF!=\"\", \"\",#REF!)","v":{"$error":"#REF!"}},{"$f":"IF(#REF!=\"\", \"\",#REF!)","v":{"$error":"#REF!"}},{"$f":"IF(#REF!=\"\", \"\",#REF!)","v":{"$error":"#REF!"}},{"$f":"IF(#REF!=\"\", \"\",#REF!)","v":{"$error":"#REF!"}},{"$f":"IF(#REF!=\"\", \"\",#REF!)","v":{"$error":"#REF!"}},{"$f":"IF(#REF!=\"\", \"\",#REF!)","v":{"$error":"#REF!"}},{"$f":"IF(#REF!=\"\", \"\",#REF!)","v":{"$error":"#REF!"}},{"$f":"IF(#REF!=\"\", \"\",#REF!)","v":{"$error":"#REF!"}}]
["Zusatzitem 35",{"$f":"IF(#REF!=\"\", \"\",#REF!)","v":{"$error":"#REF!"}},{"$f":"IF(#REF!=\"\", \"\",#REF!)","v":{"$error":"#REF!"}},{"$f":"IF(#REF!=\"\", \"\",#REF!)","v":{"$error":"#REF!"}},{"$f":"IF(#REF!=\"\", \"\",#REF!)","v":{"$error":"#REF!"}},{"$f":"IF(#REF!=\"\", \"\",#REF!)","v":{"$error":"#REF!"}},{"$f":"IF(#REF!=\"\", \"\",#REF!)","v":{"$error":"#REF!"}},{"$f":"IF(#REF!=\"\", \"\",#REF!)","v":{"$error":"#REF!"}},{"$f":"IF(#REF!=\"\", \"\",#REF!)","v":{"$error":"#REF!"}},{"$f":"IF(#REF!=\"\", \"\",#REF!)","v":{"$error":"#REF!"}},{"$f":"IF(#REF!=\"\", \"\",#REF!)","v":{"$error":"#REF!"}},{"$f":"IF(#REF!=\"\", \"\",#REF!)","v":{"$error":"#REF!"}},{"$f":"IF(#REF!=\"\", \"\",#REF!)","v":{"$error":"#REF!"}},{"$f":"IF(#REF!=\"\", \"\",#REF!)","v":{"$error":"#REF!"}},{"$f":"IF(#REF!=\"\", \"\",#REF!)","v":{"$error":"#REF!"}},{"$f":"IF(#REF!=\"\", \"\",#REF!)","v":{"$error":"#REF!"}},{"$f":"IF(#REF!=\"\", \"\",#REF!)","v":{"$error":"#REF!"}},{"$f":"IF(#REF!=\"\", \"\",#REF!)","v":{"$error":"#REF!"}},{"$f":"IF(#REF!=\"\", \"\",#REF!)","v":{"$error":"#REF!"}},{"$f":"IF(#REF!=\"\", \"\",#REF!)","v":{"$error":"#REF!"}},{"$f":"IF(#REF!=\"\", \"\",#REF!)","v":{"$error":"#REF!"}},{"$f":"IF(#REF!=\"\", \"\",#REF!)","v":{"$error":"#REF!"}},{"$f":"IF(#REF!=\"\", \"\",#REF!)","v":{"$error":"#REF!"}},{"$f":"IF(#REF!=\"\", \"\",#REF!)","v":{"$error":"#REF!"}},{"$f":"IF(#REF!=\"\", \"\",#REF!)","v":{"$error":"#REF!"}},{"$f":"IF(#REF!=\"\", \"\",#REF!)","v":{"$error":"#REF!"}},{"$f":"IF(#REF!=\"\", \"\",#REF!)","v":{"$error":"#REF!"}},{"$f":"IF(#REF!=\"\", \"\",#REF!)","v":{"$error":"#REF!"}},{"$f":"IF(#REF!=\"\", \"\",#REF!)","v":{"$error":"#REF!"}},{"$f":"IF(#REF!=\"\", \"\",#REF!)","v":{"$error":"#REF!"}},{"$f":"IF(#REF!=\"\", \"\",#REF!)","v":{"$error":"#REF!"}},{"$f":"IF(#REF!=\"\", \"\",#REF!)","v":{"$error":"#REF!"}},{"$f":"IF(#REF!=\"\", \"\",#REF!)","v":{"$error":"#REF!"}},{"$f":"IF(#REF!=\"\", \"\",#REF!)","v":{"$error":"#REF!"}},{"$f":"IF(#REF!=\"\", \"\",#REF!)","v":{"$error":"#REF!"}},{"$f":"IF(#REF!=\"\", \"\",#REF!)","v":{"$error":"#REF!"}},{"$f":"IF(#REF!=\"\", \"\",#REF!)","v":{"$error":"#REF!"}},{"$f":"IF(#REF!=\"\", \"\",#REF!)","v":{"$error":"#REF!"}},{"$f":"IF(#REF!=\"\", \"\",#REF!)","v":{"$error":"#REF!"}},{"$f":"IF(#REF!=\"\", \"\",#REF!)","v":{"$error":"#REF!"}},{"$f":"IF(#REF!=\"\", \"\",#REF!)","v":{"$error":"#REF!"}},{"$f":"IF(#REF!=\"\", \"\",#REF!)","v":{"$error":"#REF!"}},{"$f":"IF(#REF!=\"\", \"\",#REF!)","v":{"$error":"#REF!"}},{"$f":"IF(#REF!=\"\", \"\",#REF!)","v":{"$error":"#REF!"}},{"$f":"IF(#REF!=\"\", \"\",#REF!)","v":{"$error":"#REF!"}},{"$f":"IF(#REF!=\"\", \"\",#REF!)","v":{"$error":"#REF!"}},{"$f":"IF(#REF!=\"\", \"\",#REF!)","v":{"$error":"#REF!"}},{"$f":"IF(#REF!=\"\", \"\",#REF!)","v":{"$error":"#REF!"}},{"$f":"IF(#REF!=\"\", \"\",#REF!)","v":{"$error":"#REF!"}},{"$f":"IF(#REF!=\"\", \"\",#REF!)","v":{"$error":"#REF!"}},{"$f":"IF(#REF!=\"\", \"\",#REF!)","v":{"$error":"#REF!"}},{"$f":"IF(#REF!=\"\", \"\",#REF!)","v":{"$error":"#REF!"}},{"$f":"IF(#REF!=\"\", \"\",#REF!)","v":{"$error":"#REF!"}},{"$f":"IF(#REF!=\"\", \"\",#REF!)","v":{"$error":"#REF!"}},{"$f":"IF(#REF!=\"\", \"\",#REF!)","v":{"$error":"#REF!"}},{"$f":"IF(#REF!=\"\", \"\",#REF!)","v":{"$error":"#REF!"}},{"$f":"IF(#REF!=\"\", \"\",#REF!)","v":{"$error":"#REF!"}},{"$f":"IF(#REF!=\"\", \"\",#REF!)","v":{"$error":"#REF!"}},{"$f":"IF(#REF!=\"\", \"\",#REF!)","v":{"$error":"#REF!"}},{"$f":"IF(#REF!=\"\", \"\",#REF!)","v":{"$error":"#REF!"}},{"$f":"IF(#REF!=\"\", \"\",#REF!)","v":{"$error":"#REF!"}},{"$f":"IF(#REF!=\"\", \"\",#REF!)","v":{"$error":"#REF!"}}]
["Zusatzitem 36",{"$f":"IF(#REF!=\"\", \"\",#REF!)","v":{"$error":"#REF!"}},{"$f":"IF(#REF!=\"\", \"\",#REF!)","v":{"$error":"#REF!"}},{"$f":"IF(#REF!=\"\", \"\",#REF!)","v":{"$error":"#REF!"}},{"$f":"IF(#REF!=\"\", \"\",#REF!)","v":{"$error":"#REF!"}},{"$f":"IF(#REF!=\"\", \"\",#REF!)","v":{"$error":"#REF!"}},{"$f":"IF(#REF!=\"\", \"\",#REF!)","v":{"$error":"#REF!"}},{"$f":"IF(#REF!=\"\", \"\",#REF!)","v":{"$error":"#REF!"}},{"$f":"IF(#REF!=\"\", \"\",#REF!)","v":{"$error":"#REF!"}},{"$f":"IF(#REF!=\"\", \"\",#REF!)","v":{"$error":"#REF!"}},{"$f":"IF(#REF!=\"\", \"\",#REF!)","v":{"$error":"#REF!"}},{"$f":"IF(#REF!=\"\", \"\",#REF!)","v":{"$error":"#REF!"}},{"$f":"IF(#REF!=\"\", \"\",#REF!)","v":{"$error":"#REF!"}},{"$f":"IF(#REF!=\"\", \"\",#REF!)","v":{"$error":"#REF!"}},{"$f":"IF(#REF!=\"\", \"\",#REF!)","v":{"$error":"#REF!"}},{"$f":"IF(#REF!=\"\", \"\",#REF!)","v":{"$error":"#REF!"}},{"$f":"IF(#REF!=\"\", \"\",#REF!)","v":{"$error":"#REF!"}},{"$f":"IF(#REF!=\"\", \"\",#REF!)","v":{"$error":"#REF!"}},{"$f":"IF(#REF!=\"\", \"\",#REF!)","v":{"$error":"#REF!"}},{"$f":"IF(#REF!=\"\", \"\",#REF!)","v":{"$error":"#REF!"}},{"$f":"IF(#REF!=\"\", \"\",#REF!)","v":{"$error":"#REF!"}},{"$f":"IF(#REF!=\"\", \"\",#REF!)","v":{"$error":"#REF!"}},{"$f":"IF(#REF!=\"\", \"\",#REF!)","v":{"$error":"#REF!"}},{"$f":"IF(#REF!=\"\", \"\",#REF!)","v":{"$error":"#REF!"}},{"$f":"IF(#REF!=\"\", \"\",#REF!)","v":{"$error":"#REF!"}},{"$f":"IF(#REF!=\"\", \"\",#REF!)","v":{"$error":"#REF!"}},{"$f":"IF(#REF!=\"\", \"\",#REF!)","v":{"$error":"#REF!"}},{"$f":"IF(#REF!=\"\", \"\",#REF!)","v":{"$error":"#REF!"}},{"$f":"IF(#REF!=\"\", \"\",#REF!)","v":{"$error":"#REF!"}},{"$f":"IF(#REF!=\"\", \"\",#REF!)","v":{"$error":"#REF!"}},{"$f":"IF(#REF!=\"\", \"\",#REF!)","v":{"$error":"#REF!"}},{"$f":"IF(#REF!=\"\", \"\",#REF!)","v":{"$error":"#REF!"}},{"$f":"IF(#REF!=\"\", \"\",#REF!)","v":{"$error":"#REF!"}},{"$f":"IF(#REF!=\"\", \"\",#REF!)","v":{"$error":"#REF!"}},{"$f":"IF(#REF!=\"\", \"\",#REF!)","v":{"$error":"#REF!"}},{"$f":"IF(#REF!=\"\", \"\",#REF!)","v":{"$error":"#REF!"}},{"$f":"IF(#REF!=\"\", \"\",#REF!)","v":{"$error":"#REF!"}},{"$f":"IF(#REF!=\"\", \"\",#REF!)","v":{"$error":"#REF!"}},{"$f":"IF(#REF!=\"\", \"\",#REF!)","v":{"$error":"#REF!"}},{"$f":"IF(#REF!=\"\", \"\",#REF!)","v":{"$error":"#REF!"}},{"$f":"IF(#REF!=\"\", \"\",#REF!)","v":{"$error":"#REF!"}},{"$f":"IF(#REF!=\"\", \"\",#REF!)","v":{"$error":"#REF!"}},{"$f":"IF(#REF!=\"\", \"\",#REF!)","v":{"$error":"#REF!"}},{"$f":"IF(#REF!=\"\", \"\",#REF!)","v":{"$error":"#REF!"}},{"$f":"IF(#REF!=\"\", \"\",#REF!)","v":{"$error":"#REF!"}},{"$f":"IF(#REF!=\"\", \"\",#REF!)","v":{"$error":"#REF!"}},{"$f":"IF(#REF!=\"\", \"\",#REF!)","v":{"$error":"#REF!"}},{"$f":"IF(#REF!=\"\", \"\",#REF!)","v":{"$error":"#REF!"}},{"$f":"IF(#REF!=\"\", \"\",#REF!)","v":{"$error":"#REF!"}},{"$f":"IF(#REF!=\"\", \"\",#REF!)","v":{"$error":"#REF!"}},{"$f":"IF(#REF!=\"\", \"\",#REF!)","v":{"$error":"#REF!"}},{"$f":"IF(#REF!=\"\", \"\",#REF!)","v":{"$error":"#REF!"}},{"$f":"IF(#REF!=\"\", \"\",#REF!)","v":{"$error":"#REF!"}},{"$f":"IF(#REF!=\"\", \"\",#REF!)","v":{"$error":"#REF!"}},{"$f":"IF(#REF!=\"\", \"\",#REF!)","v":{"$error":"#REF!"}},{"$f":"IF(#REF!=\"\", \"\",#REF!)","v":{"$error":"#REF!"}},{"$f":"IF(#REF!=\"\", \"\",#REF!)","v":{"$error":"#REF!"}},{"$f":"IF(#REF!=\"\", \"\",#REF!)","v":{"$error":"#REF!"}},{"$f":"IF(#REF!=\"\", \"\",#REF!)","v":{"$error":"#REF!"}},{"$f":"IF(#REF!=\"\", \"\",#REF!)","v":{"$error":"#REF!"}},{"$f":"IF(#REF!=\"\", \"\",#REF!)","v":{"$error":"#REF!"}},{"$f":"IF(#REF!=\"\", \"\",#REF!)","v":{"$error":"#REF!"}}]
["Zusatzitem 37",{"$f":"IF(#REF!=\"\", \"\",#REF!)","v":{"$error":"#REF!"}},{"$f":"IF(#REF!=\"\", \"\",#REF!)","v":{"$error":"#REF!"}},{"$f":"IF(#REF!=\"\", \"\",#REF!)","v":{"$error":"#REF!"}},{"$f":"IF(#REF!=\"\", \"\",#REF!)","v":{"$error":"#REF!"}},{"$f":"IF(#REF!=\"\", \"\",#REF!)","v":{"$error":"#REF!"}},{"$f":"IF(#REF!=\"\", \"\",#REF!)","v":{"$error":"#REF!"}},{"$f":"IF(#REF!=\"\", \"\",#REF!)","v":{"$error":"#REF!"}},{"$f":"IF(#REF!=\"\", \"\",#REF!)","v":{"$error":"#REF!"}},{"$f":"IF(#REF!=\"\", \"\",#REF!)","v":{"$error":"#REF!"}},{"$f":"IF(#REF!=\"\", \"\",#REF!)","v":{"$error":"#REF!"}},{"$f":"IF(#REF!=\"\", \"\",#REF!)","v":{"$error":"#REF!"}},{"$f":"IF(#REF!=\"\", \"\",#REF!)","v":{"$error":"#REF!"}},{"$f":"IF(#REF!=\"\", \"\",#REF!)","v":{"$error":"#REF!"}},{"$f":"IF(#REF!=\"\", \"\",#REF!)","v":{"$error":"#REF!"}},{"$f":"IF(#REF!=\"\", \"\",#REF!)","v":{"$error":"#REF!"}},{"$f":"IF(#REF!=\"\", \"\",#REF!)","v":{"$error":"#REF!"}},{"$f":"IF(#REF!=\"\", \"\",#REF!)","v":{"$error":"#REF!"}},{"$f":"IF(#REF!=\"\", \"\",#REF!)","v":{"$error":"#REF!"}},{"$f":"IF(#REF!=\"\", \"\",#REF!)","v":{"$error":"#REF!"}},{"$f":"IF(#REF!=\"\", \"\",#REF!)","v":{"$error":"#REF!"}},{"$f":"IF(#REF!=\"\", \"\",#REF!)","v":{"$error":"#REF!"}},{"$f":"IF(#REF!=\"\", \"\",#REF!)","v":{"$error":"#REF!"}},{"$f":"IF(#REF!=\"\", \"\",#REF!)","v":{"$error":"#REF!"}},{"$f":"IF(#REF!=\"\", \"\",#REF!)","v":{"$error":"#REF!"}},{"$f":"IF(#REF!=\"\", \"\",#REF!)","v":{"$error":"#REF!"}},{"$f":"IF(#REF!=\"\", \"\",#REF!)","v":{"$error":"#REF!"}},{"$f":"IF(#REF!=\"\", \"\",#REF!)","v":{"$error":"#REF!"}},{"$f":"IF(#REF!=\"\", \"\",#REF!)","v":{"$error":"#REF!"}},{"$f":"IF(#REF!=\"\", \"\",#REF!)","v":{"$error":"#REF!"}},{"$f":"IF(#REF!=\"\", \"\",#REF!)","v":{"$error":"#REF!"}},{"$f":"IF(#REF!=\"\", \"\",#REF!)","v":{"$error":"#REF!"}},{"$f":"IF(#REF!=\"\", \"\",#REF!)","v":{"$error":"#REF!"}},{"$f":"IF(#REF!=\"\", \"\",#REF!)","v":{"$error":"#REF!"}},{"$f":"IF(#REF!=\"\", \"\",#REF!)","v":{"$error":"#REF!"}},{"$f":"IF(#REF!=\"\", \"\",#REF!)","v":{"$error":"#REF!"}},{"$f":"IF(#REF!=\"\", \"\",#REF!)","v":{"$error":"#REF!"}},{"$f":"IF(#REF!=\"\", \"\",#REF!)","v":{"$error":"#REF!"}},{"$f":"IF(#REF!=\"\", \"\",#REF!)","v":{"$error":"#REF!"}},{"$f":"IF(#REF!=\"\", \"\",#REF!)","v":{"$error":"#REF!"}},{"$f":"IF(#REF!=\"\", \"\",#REF!)","v":{"$error":"#REF!"}},{"$f":"IF(#REF!=\"\", \"\",#REF!)","v":{"$error":"#REF!"}},{"$f":"IF(#REF!=\"\", \"\",#REF!)","v":{"$error":"#REF!"}},{"$f":"IF(#REF!=\"\", \"\",#REF!)","v":{"$error":"#REF!"}},{"$f":"IF(#REF!=\"\", \"\",#REF!)","v":{"$error":"#REF!"}},{"$f":"IF(#REF!=\"\", \"\",#REF!)","v":{"$error":"#REF!"}},{"$f":"IF(#REF!=\"\", \"\",#REF!)","v":{"$error":"#REF!"}},{"$f":"IF(#REF!=\"\", \"\",#REF!)","v":{"$error":"#REF!"}},{"$f":"IF(#REF!=\"\", \"\",#REF!)","v":{"$error":"#REF!"}},{"$f":"IF(#REF!=\"\", \"\",#REF!)","v":{"$error":"#REF!"}},{"$f":"IF(#REF!=\"\", \"\",#REF!)","v":{"$error":"#REF!"}},{"$f":"IF(#REF!=\"\", \"\",#REF!)","v":{"$error":"#REF!"}},{"$f":"IF(#REF!=\"\", \"\",#REF!)","v":{"$error":"#REF!"}},{"$f":"IF(#REF!=\"\", \"\",#REF!)","v":{"$error":"#REF!"}},{"$f":"IF(#REF!=\"\", \"\",#REF!)","v":{"$error":"#REF!"}},{"$f":"IF(#REF!=\"\", \"\",#REF!)","v":{"$error":"#REF!"}},{"$f":"IF(#REF!=\"\", \"\",#REF!)","v":{"$error":"#REF!"}},{"$f":"IF(#REF!=\"\", \"\",#REF!)","v":{"$error":"#REF!"}},{"$f":"IF(#REF!=\"\", \"\",#REF!)","v":{"$error":"#REF!"}},{"$f":"IF(#REF!=\"\", \"\",#REF!)","v":{"$error":"#REF!"}},{"$f":"IF(#REF!=\"\", \"\",#REF!)","v":{"$error":"#REF!"}},{"$f":"IF(#REF!=\"\", \"\",#REF!)","v":{"$error":"#REF!"}}]
["Zusatzitem 38",{"$f":"IF(#REF!=\"\", \"\",#REF!)","v":{"$error":"#REF!"}},{"$f":"IF(#REF!=\"\", \"\",#REF!)","v":{"$error":"#REF!"}},{"$f":"IF(#REF!=\"\", \"\",#REF!)","v":{"$error":"#REF!"}},{"$f":"IF(#REF!=\"\", \"\",#REF!)","v":{"$error":"#REF!"}},{"$f":"IF(#REF!=\"\", \"\",#REF!)","v":{"$error":"#REF!"}},{"$f":"IF(#REF!=\"\", \"\",#REF!)","v":{"$error":"#REF!"}},{"$f":"IF(#REF!=\"\", \"\",#REF!)","v":{"$error":"#REF!"}},{"$f":"IF(#REF!=\"\", \"\",#REF!)","v":{"$error":"#REF!"}},{"$f":"IF(#REF!=\"\", \"\",#REF!)","v":{"$error":"#REF!"}},{"$f":"IF(#REF!=\"\", \"\",#REF!)","v":{"$error":"#REF!"}},{"$f":"IF(#REF!=\"\", \"\",#REF!)","v":{"$error":"#REF!"}},{"$f":"IF(#REF!=\"\", \"\",#REF!)","v":{"$error":"#REF!"}},{"$f":"IF(#REF!=\"\", \"\",#REF!)","v":{"$error":"#REF!"}},{"$f":"IF(#REF!=\"\", \"\",#REF!)","v":{"$error":"#REF!"}},{"$f":"IF(#REF!=\"\", \"\",#REF!)","v":{"$error":"#REF!"}},{"$f":"IF(#REF!=\"\", \"\",#REF!)","v":{"$error":"#REF!"}},{"$f":"IF(#REF!=\"\", \"\",#REF!)","v":{"$error":"#REF!"}},{"$f":"IF(#REF!=\"\", \"\",#REF!)","v":{"$error":"#REF!"}},{"$f":"IF(#REF!=\"\", \"\",#REF!)","v":{"$error":"#REF!"}},{"$f":"IF(#REF!=\"\", \"\",#REF!)","v":{"$error":"#REF!"}},{"$f":"IF(#REF!=\"\", \"\",#REF!)","v":{"$error":"#REF!"}},{"$f":"IF(#REF!=\"\", \"\",#REF!)","v":{"$error":"#REF!"}},{"$f":"IF(#REF!=\"\", \"\",#REF!)","v":{"$error":"#REF!"}},{"$f":"IF(#REF!=\"\", \"\",#REF!)","v":{"$error":"#REF!"}},{"$f":"IF(#REF!=\"\", \"\",#REF!)","v":{"$error":"#REF!"}},{"$f":"IF(#REF!=\"\", \"\",#REF!)","v":{"$error":"#REF!"}},{"$f":"IF(#REF!=\"\", \"\",#REF!)","v":{"$error":"#REF!"}},{"$f":"IF(#REF!=\"\", \"\",#REF!)","v":{"$error":"#REF!"}},{"$f":"IF(#REF!=\"\", \"\",#REF!)","v":{"$error":"#REF!"}},{"$f":"IF(#REF!=\"\", \"\",#REF!)","v":{"$error":"#REF!"}},{"$f":"IF(#REF!=\"\", \"\",#REF!)","v":{"$error":"#REF!"}},{"$f":"IF(#REF!=\"\", \"\",#REF!)","v":{"$error":"#REF!"}},{"$f":"IF(#REF!=\"\", \"\",#REF!)","v":{"$error":"#REF!"}},{"$f":"IF(#REF!=\"\", \"\",#REF!)","v":{"$error":"#REF!"}},{"$f":"IF(#REF!=\"\", \"\",#REF!)","v":{"$error":"#REF!"}},{"$f":"IF(#REF!=\"\", \"\",#REF!)","v":{"$error":"#REF!"}},{"$f":"IF(#REF!=\"\", \"\",#REF!)","v":{"$error":"#REF!"}},{"$f":"IF(#REF!=\"\", \"\",#REF!)","v":{"$error":"#REF!"}},{"$f":"IF(#REF!=\"\", \"\",#REF!)","v":{"$error":"#REF!"}},{"$f":"IF(#REF!=\"\", \"\",#REF!)","v":{"$error":"#REF!"}},{"$f":"IF(#REF!=\"\", \"\",#REF!)","v":{"$error":"#REF!"}},{"$f":"IF(#REF!=\"\", \"\",#REF!)","v":{"$error":"#REF!"}},{"$f":"IF(#REF!=\"\", \"\",#REF!)","v":{"$error":"#REF!"}},{"$f":"IF(#REF!=\"\", \"\",#REF!)","v":{"$error":"#REF!"}},{"$f":"IF(#REF!=\"\", \"\",#REF!)","v":{"$error":"#REF!"}},{"$f":"IF(#REF!=\"\", \"\",#REF!)","v":{"$error":"#REF!"}},{"$f":"IF(#REF!=\"\", \"\",#REF!)","v":{"$error":"#REF!"}},{"$f":"IF(#REF!=\"\", \"\",#REF!)","v":{"$error":"#REF!"}},{"$f":"IF(#REF!=\"\", \"\",#REF!)","v":{"$error":"#REF!"}},{"$f":"IF(#REF!=\"\", \"\",#REF!)","v":{"$error":"#REF!"}},{"$f":"IF(#REF!=\"\", \"\",#REF!)","v":{"$error":"#REF!"}},{"$f":"IF(#REF!=\"\", \"\",#REF!)","v":{"$error":"#REF!"}},{"$f":"IF(#REF!=\"\", \"\",#REF!)","v":{"$error":"#REF!"}},{"$f":"IF(#REF!=\"\", \"\",#REF!)","v":{"$error":"#REF!"}},{"$f":"IF(#REF!=\"\", \"\",#REF!)","v":{"$error":"#REF!"}},{"$f":"IF(#REF!=\"\", \"\",#REF!)","v":{"$error":"#REF!"}},{"$f":"IF(#REF!=\"\", \"\",#REF!)","v":{"$error":"#REF!"}},{"$f":"IF(#REF!=\"\", \"\",#REF!)","v":{"$error":"#REF!"}},{"$f":"IF(#REF!=\"\", \"\",#REF!)","v":{"$error":"#REF!"}},{"$f":"IF(#REF!=\"\", \"\",#REF!)","v":{"$error":"#REF!"}},{"$f":"IF(#REF!=\"\", \"\",#REF!)","v":{"$error":"#REF!"}}]
["Zusatzitem 39",{"$f":"IF(#REF!=\"\", \"\",#REF!)","v":{"$error":"#REF!"}},{"$f":"IF(#REF!=\"\", \"\",#REF!)","v":{"$error":"#REF!"}},{"$f":"IF(#REF!=\"\", \"\",#REF!)","v":{"$error":"#REF!"}},{"$f":"IF(#REF!=\"\", \"\",#REF!)","v":{"$error":"#REF!"}},{"$f":"IF(#REF!=\"\", \"\",#REF!)","v":{"$error":"#REF!"}},{"$f":"IF(#REF!=\"\", \"\",#REF!)","v":{"$error":"#REF!"}},{"$f":"IF(#REF!=\"\", \"\",#REF!)","v":{"$error":"#REF!"}},{"$f":"IF(#REF!=\"\", \"\",#REF!)","v":{"$error":"#REF!"}},{"$f":"IF(#REF!=\"\", \"\",#REF!)","v":{"$error":"#REF!"}},{"$f":"IF(#REF!=\"\", \"\",#REF!)","v":{"$error":"#REF!"}},{"$f":"IF(#REF!=\"\", \"\",#REF!)","v":{"$error":"#REF!"}},{"$f":"IF(#REF!=\"\", \"\",#REF!)","v":{"$error":"#REF!"}},{"$f":"IF(#REF!=\"\", \"\",#REF!)","v":{"$error":"#REF!"}},{"$f":"IF(#REF!=\"\", \"\",#REF!)","v":{"$error":"#REF!"}},{"$f":"IF(#REF!=\"\", \"\",#REF!)","v":{"$error":"#REF!"}},{"$f":"IF(#REF!=\"\", \"\",#REF!)","v":{"$error":"#REF!"}},{"$f":"IF(#REF!=\"\", \"\",#REF!)","v":{"$error":"#REF!"}},{"$f":"IF(#REF!=\"\", \"\",#REF!)","v":{"$error":"#REF!"}},{"$f":"IF(#REF!=\"\", \"\",#REF!)","v":{"$error":"#REF!"}},{"$f":"IF(#REF!=\"\", \"\",#REF!)","v":{"$error":"#REF!"}},{"$f":"IF(#REF!=\"\", \"\",#REF!)","v":{"$error":"#REF!"}},{"$f":"IF(#REF!=\"\", \"\",#REF!)","v":{"$error":"#REF!"}},{"$f":"IF(#REF!=\"\", \"\",#REF!)","v":{"$error":"#REF!"}},{"$f":"IF(#REF!=\"\", \"\",#REF!)","v":{"$error":"#REF!"}},{"$f":"IF(#REF!=\"\", \"\",#REF!)","v":{"$error":"#REF!"}},{"$f":"IF(#REF!=\"\", \"\",#REF!)","v":{"$error":"#REF!"}},{"$f":"IF(#REF!=\"\", \"\",#REF!)","v":{"$error":"#REF!"}},{"$f":"IF(#REF!=\"\", \"\",#REF!)","v":{"$error":"#REF!"}},{"$f":"IF(#REF!=\"\", \"\",#REF!)","v":{"$error":"#REF!"}},{"$f":"IF(#REF!=\"\", \"\",#REF!)","v":{"$error":"#REF!"}},{"$f":"IF(#REF!=\"\", \"\",#REF!)","v":{"$error":"#REF!"}},{"$f":"IF(#REF!=\"\", \"\",#REF!)","v":{"$error":"#REF!"}},{"$f":"IF(#REF!=\"\", \"\",#REF!)","v":{"$error":"#REF!"}},{"$f":"IF(#REF!=\"\", \"\",#REF!)","v":{"$error":"#REF!"}},{"$f":"IF(#REF!=\"\", \"\",#REF!)","v":{"$error":"#REF!"}},{"$f":"IF(#REF!=\"\", \"\",#REF!)","v":{"$error":"#REF!"}},{"$f":"IF(#REF!=\"\", \"\",#REF!)","v":{"$error":"#REF!"}},{"$f":"IF(#REF!=\"\", \"\",#REF!)","v":{"$error":"#REF!"}},{"$f":"IF(#REF!=\"\", \"\",#REF!)","v":{"$error":"#REF!"}},{"$f":"IF(#REF!=\"\", \"\",#REF!)","v":{"$error":"#REF!"}},{"$f":"IF(#REF!=\"\", \"\",#REF!)","v":{"$error":"#REF!"}},{"$f":"IF(#REF!=\"\", \"\",#REF!)","v":{"$error":"#REF!"}},{"$f":"IF(#REF!=\"\", \"\",#REF!)","v":{"$error":"#REF!"}},{"$f":"IF(#REF!=\"\", \"\",#REF!)","v":{"$error":"#REF!"}},{"$f":"IF(#REF!=\"\", \"\",#REF!)","v":{"$error":"#REF!"}},{"$f":"IF(#REF!=\"\", \"\",#REF!)","v":{"$error":"#REF!"}},{"$f":"IF(#REF!=\"\", \"\",#REF!)","v":{"$error":"#REF!"}},{"$f":"IF(#REF!=\"\", \"\",#REF!)","v":{"$error":"#REF!"}},{"$f":"IF(#REF!=\"\", \"\",#REF!)","v":{"$error":"#REF!"}},{"$f":"IF(#REF!=\"\", \"\",#REF!)","v":{"$error":"#REF!"}},{"$f":"IF(#REF!=\"\", \"\",#REF!)","v":{"$error":"#REF!"}},{"$f":"IF(#REF!=\"\", \"\",#REF!)","v":{"$error":"#REF!"}},{"$f":"IF(#REF!=\"\", \"\",#REF!)","v":{"$error":"#REF!"}},{"$f":"IF(#REF!=\"\", \"\",#REF!)","v":{"$error":"#REF!"}},{"$f":"IF(#REF!=\"\", \"\",#REF!)","v":{"$error":"#REF!"}},{"$f":"IF(#REF!=\"\", \"\",#REF!)","v":{"$error":"#REF!"}},{"$f":"IF(#REF!=\"\", \"\",#REF!)","v":{"$error":"#REF!"}},{"$f":"IF(#REF!=\"\", \"\",#REF!)","v":{"$error":"#REF!"}},{"$f":"IF(#REF!=\"\", \"\",#REF!)","v":{"$error":"#REF!"}},{"$f":"IF(#REF!=\"\", \"\",#REF!)","v":{"$error":"#REF!"}},{"$f":"IF(#REF!=\"\", \"\",#REF!)","v":{"$error":"#REF!"}}]
["Zusatzitem 40",{"$f":"IF(#REF!=\"\", \"\",#REF!)","v":{"$error":"#REF!"}},{"$f":"IF(#REF!=\"\", \"\",#REF!)","v":{"$error":"#REF!"}},{"$f":"IF(#REF!=\"\", \"\",#REF!)","v":{"$error":"#REF!"}},{"$f":"IF(#REF!=\"\", \"\",#REF!)","v":{"$error":"#REF!"}},{"$f":"IF(#REF!=\"\", \"\",#REF!)","v":{"$error":"#REF!"}},{"$f":"IF(#REF!=\"\", \"\",#REF!)","v":{"$error":"#REF!"}},{"$f":"IF(#REF!=\"\", \"\",#REF!)","v":{"$error":"#REF!"}},{"$f":"IF(#REF!=\"\", \"\",#REF!)","v":{"$error":"#REF!"}},{"$f":"IF(#REF!=\"\", \"\",#REF!)","v":{"$error":"#REF!"}},{"$f":"IF(#REF!=\"\", \"\",#REF!)","v":{"$error":"#REF!"}},{"$f":"IF(#REF!=\"\", \"\",#REF!)","v":{"$error":"#REF!"}},{"$f":"IF(#REF!=\"\", \"\",#REF!)","v":{"$error":"#REF!"}},{"$f":"IF(#REF!=\"\", \"\",#REF!)","v":{"$error":"#REF!"}},{"$f":"IF(#REF!=\"\", \"\",#REF!)","v":{"$error":"#REF!"}},{"$f":"IF(#REF!=\"\", \"\",#REF!)","v":{"$error":"#REF!"}},{"$f":"IF(#REF!=\"\", \"\",#REF!)","v":{"$error":"#REF!"}},{"$f":"IF(#REF!=\"\", \"\",#REF!)","v":{"$error":"#REF!"}},{"$f":"IF(#REF!=\"\", \"\",#REF!)","v":{"$error":"#REF!"}},{"$f":"IF(#REF!=\"\", \"\",#REF!)","v":{"$error":"#REF!"}},{"$f":"IF(#REF!=\"\", \"\",#REF!)","v":{"$error":"#REF!"}},{"$f":"IF(#REF!=\"\", \"\",#REF!)","v":{"$error":"#REF!"}},{"$f":"IF(#REF!=\"\", \"\",#REF!)","v":{"$error":"#REF!"}},{"$f":"IF(#REF!=\"\", \"\",#REF!)","v":{"$error":"#REF!"}},{"$f":"IF(#REF!=\"\", \"\",#REF!)","v":{"$error":"#REF!"}},{"$f":"IF(#REF!=\"\", \"\",#REF!)","v":{"$error":"#REF!"}},{"$f":"IF(#REF!=\"\", \"\",#REF!)","v":{"$error":"#REF!"}},{"$f":"IF(#REF!=\"\", \"\",#REF!)","v":{"$error":"#REF!"}},{"$f":"IF(#REF!=\"\", \"\",#REF!)","v":{"$error":"#REF!"}},{"$f":"IF(#REF!=\"\", \"\",#REF!)","v":{"$error":"#REF!"}},{"$f":"IF(#REF!=\"\", \"\",#REF!)","v":{"$error":"#REF!"}},{"$f":"IF(#REF!=\"\", \"\",#REF!)","v":{"$error":"#REF!"}},{"$f":"IF(#REF!=\"\", \"\",#REF!)","v":{"$error":"#REF!"}},{"$f":"IF(#REF!=\"\", \"\",#REF!)","v":{"$error":"#REF!"}},{"$f":"IF(#REF!=\"\", \"\",#REF!)","v":{"$error":"#REF!"}},{"$f":"IF(#REF!=\"\", \"\",#REF!)","v":{"$error":"#REF!"}},{"$f":"IF(#REF!=\"\", \"\",#REF!)","v":{"$error":"#REF!"}},{"$f":"IF(#REF!=\"\", \"\",#REF!)","v":{"$error":"#REF!"}},{"$f":"IF(#REF!=\"\", \"\",#REF!)","v":{"$error":"#REF!"}},{"$f":"IF(#REF!=\"\", \"\",#REF!)","v":{"$error":"#REF!"}},{"$f":"IF(#REF!=\"\", \"\",#REF!)","v":{"$error":"#REF!"}},{"$f":"IF(#REF!=\"\", \"\",#REF!)","v":{"$error":"#REF!"}},{"$f":"IF(#REF!=\"\", \"\",#REF!)","v":{"$error":"#REF!"}},{"$f":"IF(#REF!=\"\", \"\",#REF!)","v":{"$error":"#REF!"}},{"$f":"IF(#REF!=\"\", \"\",#REF!)","v":{"$error":"#REF!"}},{"$f":"IF(#REF!=\"\", \"\",#REF!)","v":{"$error":"#REF!"}},{"$f":"IF(#REF!=\"\", \"\",#REF!)","v":{"$error":"#REF!"}},{"$f":"IF(#REF!=\"\", \"\",#REF!)","v":{"$error":"#REF!"}},{"$f":"IF(#REF!=\"\", \"\",#REF!)","v":{"$error":"#REF!"}},{"$f":"IF(#REF!=\"\", \"\",#REF!)","v":{"$error":"#REF!"}},{"$f":"IF(#REF!=\"\", \"\",#REF!)","v":{"$error":"#REF!"}},{"$f":"IF(#REF!=\"\", \"\",#REF!)","v":{"$error":"#REF!"}},{"$f":"IF(#REF!=\"\", \"\",#REF!)","v":{"$error":"#REF!"}},{"$f":"IF(#REF!=\"\", \"\",#REF!)","v":{"$error":"#REF!"}},{"$f":"IF(#REF!=\"\", \"\",#REF!)","v":{"$error":"#REF!"}},{"$f":"IF(#REF!=\"\", \"\",#REF!)","v":{"$error":"#REF!"}},{"$f":"IF(#REF!=\"\", \"\",#REF!)","v":{"$error":"#REF!"}},{"$f":"IF(#REF!=\"\", \"\",#REF!)","v":{"$error":"#REF!"}},{"$f":"IF(#REF!=\"\", \"\",#REF!)","v":{"$error":"#REF!"}},{"$f":"IF(#REF!=\"\", \"\",#REF!)","v":{"$error":"#REF!"}},{"$f":"IF(#REF!=\"\", \"\",#REF!)","v":{"$error":"#REF!"}},{"$f":"IF(#REF!=\"\", \"\",#REF!)","v":{"$error":"#REF!"}}]
["Zusatzitem 41",{"$f":"IF(#REF!=\"\", \"\",#REF!)","v":{"$error":"#REF!"}},{"$f":"IF(#REF!=\"\", \"\",#REF!)","v":{"$error":"#REF!"}},{"$f":"IF(#REF!=\"\", \"\",#REF!)","v":{"$error":"#REF!"}},{"$f":"IF(#REF!=\"\", \"\",#REF!)","v":{"$error":"#REF!"}},{"$f":"IF(#REF!=\"\", \"\",#REF!)","v":{"$error":"#REF!"}},{"$f":"IF(#REF!=\"\", \"\",#REF!)","v":{"$error":"#REF!"}},{"$f":"IF(#REF!=\"\", \"\",#REF!)","v":{"$error":"#REF!"}},{"$f":"IF(#REF!=\"\", \"\",#REF!)","v":{"$error":"#REF!"}},{"$f":"IF(#REF!=\"\", \"\",#REF!)","v":{"$error":"#REF!"}},{"$f":"IF(#REF!=\"\", \"\",#REF!)","v":{"$error":"#REF!"}},{"$f":"IF(#REF!=\"\", \"\",#REF!)","v":{"$error":"#REF!"}},{"$f":"IF(#REF!=\"\", \"\",#REF!)","v":{"$error":"#REF!"}},{"$f":"IF(#REF!=\"\", \"\",#REF!)","v":{"$error":"#REF!"}},{"$f":"IF(#REF!=\"\", \"\",#REF!)","v":{"$error":"#REF!"}},{"$f":"IF(#REF!=\"\", \"\",#REF!)","v":{"$error":"#REF!"}},{"$f":"IF(#REF!=\"\", \"\",#REF!)","v":{"$error":"#REF!"}},{"$f":"IF(#REF!=\"\", \"\",#REF!)","v":{"$error":"#REF!"}},{"$f":"IF(#REF!=\"\", \"\",#REF!)","v":{"$error":"#REF!"}},{"$f":"IF(#REF!=\"\", \"\",#REF!)","v":{"$error":"#REF!"}},{"$f":"IF(#REF!=\"\", \"\",#REF!)","v":{"$error":"#REF!"}},{"$f":"IF(#REF!=\"\", \"\",#REF!)","v":{"$error":"#REF!"}},{"$f":"IF(#REF!=\"\", \"\",#REF!)","v":{"$error":"#REF!"}},{"$f":"IF(#REF!=\"\", \"\",#REF!)","v":{"$error":"#REF!"}},{"$f":"IF(#REF!=\"\", \"\",#REF!)","v":{"$error":"#REF!"}},{"$f":"IF(#REF!=\"\", \"\",#REF!)","v":{"$error":"#REF!"}},{"$f":"IF(#REF!=\"\", \"\",#REF!)","v":{"$error":"#REF!"}},{"$f":"IF(#REF!=\"\", \"\",#REF!)","v":{"$error":"#REF!"}},{"$f":"IF(#REF!=\"\", \"\",#REF!)","v":{"$error":"#REF!"}},{"$f":"IF(#REF!=\"\", \"\",#REF!)","v":{"$error":"#REF!"}},{"$f":"IF(#REF!=\"\", \"\",#REF!)","v":{"$error":"#REF!"}},{"$f":"IF(#REF!=\"\", \"\",#REF!)","v":{"$error":"#REF!"}},{"$f":"IF(#REF!=\"\", \"\",#REF!)","v":{"$error":"#REF!"}},{"$f":"IF(#REF!=\"\", \"\",#REF!)","v":{"$error":"#REF!"}},{"$f":"IF(#REF!=\"\", \"\",#REF!)","v":{"$error":"#REF!"}},{"$f":"IF(#REF!=\"\", \"\",#REF!)","v":{"$error":"#REF!"}},{"$f":"IF(#REF!=\"\", \"\",#REF!)","v":{"$error":"#REF!"}},{"$f":"IF(#REF!=\"\", \"\",#REF!)","v":{"$error":"#REF!"}},{"$f":"IF(#REF!=\"\", \"\",#REF!)","v":{"$error":"#REF!"}},{"$f":"IF(#REF!=\"\", \"\",#REF!)","v":{"$error":"#REF!"}},{"$f":"IF(#REF!=\"\", \"\",#REF!)","v":{"$error":"#REF!"}},{"$f":"IF(#REF!=\"\", \"\",#REF!)","v":{"$error":"#REF!"}},{"$f":"IF(#REF!=\"\", \"\",#REF!)","v":{"$error":"#REF!"}},{"$f":"IF(#REF!=\"\", \"\",#REF!)","v":{"$error":"#REF!"}},{"$f":"IF(#REF!=\"\", \"\",#REF!)","v":{"$error":"#REF!"}},{"$f":"IF(#REF!=\"\", \"\",#REF!)","v":{"$error":"#REF!"}},{"$f":"IF(#REF!=\"\", \"\",#REF!)","v":{"$error":"#REF!"}},{"$f":"IF(#REF!=\"\", \"\",#REF!)","v":{"$error":"#REF!"}},{"$f":"IF(#REF!=\"\", \"\",#REF!)","v":{"$error":"#REF!"}},{"$f":"IF(#REF!=\"\", \"\",#REF!)","v":{"$error":"#REF!"}},{"$f":"IF(#REF!=\"\", \"\",#REF!)","v":{"$error":"#REF!"}},{"$f":"IF(#REF!=\"\", \"\",#REF!)","v":{"$error":"#REF!"}},{"$f":"IF(#REF!=\"\", \"\",#REF!)","v":{"$error":"#REF!"}},{"$f":"IF(#REF!=\"\", \"\",#REF!)","v":{"$error":"#REF!"}},{"$f":"IF(#REF!=\"\", \"\",#REF!)","v":{"$error":"#REF!"}},{"$f":"IF(#REF!=\"\", \"\",#REF!)","v":{"$error":"#REF!"}},{"$f":"IF(#REF!=\"\", \"\",#REF!)","v":{"$error":"#REF!"}},{"$f":"IF(#REF!=\"\", \"\",#REF!)","v":{"$error":"#REF!"}},{"$f":"IF(#REF!=\"\", \"\",#REF!)","v":{"$error":"#REF!"}},{"$f":"IF(#REF!=\"\", \"\",#REF!)","v":{"$error":"#REF!"}},{"$f":"IF(#REF!=\"\", \"\",#REF!)","v":{"$error":"#REF!"}},{"$f":"IF(#REF!=\"\", \"\",#REF!)","v":{"$error":"#REF!"}}]
["Zusatzitem 42",{"$f":"IF(#REF!=\"\", \"\",#REF!)","v":{"$error":"#REF!"}},{"$f":"IF(#REF!=\"\", \"\",#REF!)","v":{"$error":"#REF!"}},{"$f":"IF(#REF!=\"\", \"\",#REF!)","v":{"$error":"#REF!"}},{"$f":"IF(#REF!=\"\", \"\",#REF!)","v":{"$error":"#REF!"}},{"$f":"IF(#REF!=\"\", \"\",#REF!)","v":{"$error":"#REF!"}},{"$f":"IF(#REF!=\"\", \"\",#REF!)","v":{"$error":"#REF!"}},{"$f":"IF(#REF!=\"\", \"\",#REF!)","v":{"$error":"#REF!"}},{"$f":"IF(#REF!=\"\", \"\",#REF!)","v":{"$error":"#REF!"}},{"$f":"IF(#REF!=\"\", \"\",#REF!)","v":{"$error":"#REF!"}},{"$f":"IF(#REF!=\"\", \"\",#REF!)","v":{"$error":"#REF!"}},{"$f":"IF(#REF!=\"\", \"\",#REF!)","v":{"$error":"#REF!"}},{"$f":"IF(#REF!=\"\", \"\",#REF!)","v":{"$error":"#REF!"}},{"$f":"IF(#REF!=\"\", \"\",#REF!)","v":{"$error":"#REF!"}},{"$f":"IF(#REF!=\"\", \"\",#REF!)","v":{"$error":"#REF!"}},{"$f":"IF(#REF!=\"\", \"\",#REF!)","v":{"$error":"#REF!"}},{"$f":"IF(#REF!=\"\", \"\",#REF!)","v":{"$error":"#REF!"}},{"$f":"IF(#REF!=\"\", \"\",#REF!)","v":{"$error":"#REF!"}},{"$f":"IF(#REF!=\"\", \"\",#REF!)","v":{"$error":"#REF!"}},{"$f":"IF(#REF!=\"\", \"\",#REF!)","v":{"$error":"#REF!"}},{"$f":"IF(#REF!=\"\", \"\",#REF!)","v":{"$error":"#REF!"}},{"$f":"IF(#REF!=\"\", \"\",#REF!)","v":{"$error":"#REF!"}},{"$f":"IF(#REF!=\"\", \"\",#REF!)","v":{"$error":"#REF!"}},{"$f":"IF(#REF!=\"\", \"\",#REF!)","v":{"$error":"#REF!"}},{"$f":"IF(#REF!=\"\", \"\",#REF!)","v":{"$error":"#REF!"}},{"$f":"IF(#REF!=\"\", \"\",#REF!)","v":{"$error":"#REF!"}},{"$f":"IF(#REF!=\"\", \"\",#REF!)","v":{"$error":"#REF!"}},{"$f":"IF(#REF!=\"\", \"\",#REF!)","v":{"$error":"#REF!"}},{"$f":"IF(#REF!=\"\", \"\",#REF!)","v":{"$error":"#REF!"}},{"$f":"IF(#REF!=\"\", \"\",#REF!)","v":{"$error":"#REF!"}},{"$f":"IF(#REF!=\"\", \"\",#REF!)","v":{"$error":"#REF!"}},{"$f":"IF(#REF!=\"\", \"\",#REF!)","v":{"$error":"#REF!"}},{"$f":"IF(#REF!=\"\", \"\",#REF!)","v":{"$error":"#REF!"}},{"$f":"IF(#REF!=\"\", \"\",#REF!)","v":{"$error":"#REF!"}},{"$f":"IF(#REF!=\"\", \"\",#REF!)","v":{"$error":"#REF!"}},{"$f":"IF(#REF!=\"\", \"\",#REF!)","v":{"$error":"#REF!"}},{"$f":"IF(#REF!=\"\", \"\",#REF!)","v":{"$error":"#REF!"}},{"$f":"IF(#REF!=\"\", \"\",#REF!)","v":{"$error":"#REF!"}},{"$f":"IF(#REF!=\"\", \"\",#REF!)","v":{"$error":"#REF!"}},{"$f":"IF(#REF!=\"\", \"\",#REF!)","v":{"$error":"#REF!"}},{"$f":"IF(#REF!=\"\", \"\",#REF!)","v":{"$error":"#REF!"}},{"$f":"IF(#REF!=\"\", \"\",#REF!)","v":{"$error":"#REF!"}},{"$f":"IF(#REF!=\"\", \"\",#REF!)","v":{"$error":"#REF!"}},{"$f":"IF(#REF!=\"\", \"\",#REF!)","v":{"$error":"#REF!"}},{"$f":"IF(#REF!=\"\", \"\",#REF!)","v":{"$error":"#REF!"}},{"$f":"IF(#REF!=\"\", \"\",#REF!)","v":{"$error":"#REF!"}},{"$f":"IF(#REF!=\"\", \"\",#REF!)","v":{"$error":"#REF!"}},{"$f":"IF(#REF!=\"\", \"\",#REF!)","v":{"$error":"#REF!"}},{"$f":"IF(#REF!=\"\", \"\",#REF!)","v":{"$error":"#REF!"}},{"$f":"IF(#REF!=\"\", \"\",#REF!)","v":{"$error":"#REF!"}},{"$f":"IF(#REF!=\"\", \"\",#REF!)","v":{"$error":"#REF!"}},{"$f":"IF(#REF!=\"\", \"\",#REF!)","v":{"$error":"#REF!"}},{"$f":"IF(#REF!=\"\", \"\",#REF!)","v":{"$error":"#REF!"}},{"$f":"IF(#REF!=\"\", \"\",#REF!)","v":{"$error":"#REF!"}},{"$f":"IF(#REF!=\"\", \"\",#REF!)","v":{"$error":"#REF!"}},{"$f":"IF(#REF!=\"\", \"\",#REF!)","v":{"$error":"#REF!"}},{"$f":"IF(#REF!=\"\", \"\",#REF!)","v":{"$error":"#REF!"}},{"$f":"IF(#REF!=\"\", \"\",#REF!)","v":{"$error":"#REF!"}},{"$f":"IF(#REF!=\"\", \"\",#REF!)","v":{"$error":"#REF!"}},{"$f":"IF(#REF!=\"\", \"\",#REF!)","v":{"$error":"#REF!"}},{"$f":"IF(#REF!=\"\", \"\",#REF!)","v":{"$error":"#REF!"}},{"$f":"IF(#REF!=\"\", \"\",#REF!)","v":{"$error":"#REF!"}}]
["Zusatzitem 43",{"$f":"IF(#REF!=\"\", \"\",#REF!)","v":{"$error":"#REF!"}},{"$f":"IF(#REF!=\"\", \"\",#REF!)","v":{"$error":"#REF!"}},{"$f":"IF(#REF!=\"\", \"\",#REF!)","v":{"$error":"#REF!"}},{"$f":"IF(#REF!=\"\", \"\",#REF!)","v":{"$error":"#REF!"}},{"$f":"IF(#REF!=\"\", \"\",#REF!)","v":{"$error":"#REF!"}},{"$f":"IF(#REF!=\"\", \"\",#REF!)","v":{"$error":"#REF!"}},{"$f":"IF(#REF!=\"\", \"\",#REF!)","v":{"$error":"#REF!"}},{"$f":"IF(#REF!=\"\", \"\",#REF!)","v":{"$error":"#REF!"}},{"$f":"IF(#REF!=\"\", \"\",#REF!)","v":{"$error":"#REF!"}},{"$f":"IF(#REF!=\"\", \"\",#REF!)","v":{"$error":"#REF!"}},{"$f":"IF(#REF!=\"\", \"\",#REF!)","v":{"$error":"#REF!"}},{"$f":"IF(#REF!=\"\", \"\",#REF!)","v":{"$error":"#REF!"}},{"$f":"IF(#REF!=\"\", \"\",#REF!)","v":{"$error":"#REF!"}},{"$f":"IF(#REF!=\"\", \"\",#REF!)","v":{"$error":"#REF!"}},{"$f":"IF(#REF!=\"\", \"\",#REF!)","v":{"$error":"#REF!"}},{"$f":"IF(#REF!=\"\", \"\",#REF!)","v":{"$error":"#REF!"}},{"$f":"IF(#REF!=\"\", \"\",#REF!)","v":{"$error":"#REF!"}},{"$f":"IF(#REF!=\"\", \"\",#REF!)","v":{"$error":"#REF!"}},{"$f":"IF(#REF!=\"\", \"\",#REF!)","v":{"$error":"#REF!"}},{"$f":"IF(#REF!=\"\", \"\",#REF!)","v":{"$error":"#REF!"}},{"$f":"IF(#REF!=\"\", \"\",#REF!)","v":{"$error":"#REF!"}},{"$f":"IF(#REF!=\"\", \"\",#REF!)","v":{"$error":"#REF!"}},{"$f":"IF(#REF!=\"\", \"\",#REF!)","v":{"$error":"#REF!"}},{"$f":"IF(#REF!=\"\", \"\",#REF!)","v":{"$error":"#REF!"}},{"$f":"IF(#REF!=\"\", \"\",#REF!)","v":{"$error":"#REF!"}},{"$f":"IF(#REF!=\"\", \"\",#REF!)","v":{"$error":"#REF!"}},{"$f":"IF(#REF!=\"\", \"\",#REF!)","v":{"$error":"#REF!"}},{"$f":"IF(#REF!=\"\", \"\",#REF!)","v":{"$error":"#REF!"}},{"$f":"IF(#REF!=\"\", \"\",#REF!)","v":{"$error":"#REF!"}},{"$f":"IF(#REF!=\"\", \"\",#REF!)","v":{"$error":"#REF!"}},{"$f":"IF(#REF!=\"\", \"\",#REF!)","v":{"$error":"#REF!"}},{"$f":"IF(#REF!=\"\", \"\",#REF!)","v":{"$error":"#REF!"}},{"$f":"IF(#REF!=\"\", \"\",#REF!)","v":{"$error":"#REF!"}},{"$f":"IF(#REF!=\"\", \"\",#REF!)","v":{"$error":"#REF!"}},{"$f":"IF(#REF!=\"\", \"\",#REF!)","v":{"$error":"#REF!"}},{"$f":"IF(#REF!=\"\", \"\",#REF!)","v":{"$error":"#REF!"}},{"$f":"IF(#REF!=\"\", \"\",#REF!)","v":{"$error":"#REF!"}},{"$f":"IF(#REF!=\"\", \"\",#REF!)","v":{"$error":"#REF!"}},{"$f":"IF(#REF!=\"\", \"\",#REF!)","v":{"$error":"#REF!"}},{"$f":"IF(#REF!=\"\", \"\",#REF!)","v":{"$error":"#REF!"}},{"$f":"IF(#REF!=\"\", \"\",#REF!)","v":{"$error":"#REF!"}},{"$f":"IF(#REF!=\"\", \"\",#REF!)","v":{"$error":"#REF!"}},{"$f":"IF(#REF!=\"\", \"\",#REF!)","v":{"$error":"#REF!"}},{"$f":"IF(#REF!=\"\", \"\",#REF!)","v":{"$error":"#REF!"}},{"$f":"IF(#REF!=\"\", \"\",#REF!)","v":{"$error":"#REF!"}},{"$f":"IF(#REF!=\"\", \"\",#REF!)","v":{"$error":"#REF!"}},{"$f":"IF(#REF!=\"\", \"\",#REF!)","v":{"$error":"#REF!"}},{"$f":"IF(#REF!=\"\", \"\",#REF!)","v":{"$error":"#REF!"}},{"$f":"IF(#REF!=\"\", \"\",#REF!)","v":{"$error":"#REF!"}},{"$f":"IF(#REF!=\"\", \"\",#REF!)","v":{"$error":"#REF!"}},{"$f":"IF(#REF!=\"\", \"\",#REF!)","v":{"$error":"#REF!"}},{"$f":"IF(#REF!=\"\", \"\",#REF!)","v":{"$error":"#REF!"}},{"$f":"IF(#REF!=\"\", \"\",#REF!)","v":{"$error":"#REF!"}},{"$f":"IF(#REF!=\"\", \"\",#REF!)","v":{"$error":"#REF!"}},{"$f":"IF(#REF!=\"\", \"\",#REF!)","v":{"$error":"#REF!"}},{"$f":"IF(#REF!=\"\", \"\",#REF!)","v":{"$error":"#REF!"}},{"$f":"IF(#REF!=\"\", \"\",#REF!)","v":{"$error":"#REF!"}},{"$f":"IF(#REF!=\"\", \"\",#REF!)","v":{"$error":"#REF!"}},{"$f":"IF(#REF!=\"\", \"\",#REF!)","v":{"$error":"#REF!"}},{"$f":"IF(#REF!=\"\", \"\",#REF!)","v":{"$error":"#REF!"}},{"$f":"IF(#REF!=\"\", \"\",#REF!)","v":{"$error":"#REF!"}}]
["Zusatzitem 44",{"$f":"IF(#REF!=\"\", \"\",#REF!)","v":{"$error":"#REF!"}},{"$f":"IF(#REF!=\"\", \"\",#REF!)","v":{"$error":"#REF!"}},{"$f":"IF(#REF!=\"\", \"\",#REF!)","v":{"$error":"#REF!"}},{"$f":"IF(#REF!=\"\", \"\",#REF!)","v":{"$error":"#REF!"}},{"$f":"IF(#REF!=\"\", \"\",#REF!)","v":{"$error":"#REF!"}},{"$f":"IF(#REF!=\"\", \"\",#REF!)","v":{"$error":"#REF!"}},{"$f":"IF(#REF!=\"\", \"\",#REF!)","v":{"$error":"#REF!"}},{"$f":"IF(#REF!=\"\", \"\",#REF!)","v":{"$error":"#REF!"}},{"$f":"IF(#REF!=\"\", \"\",#REF!)","v":{"$error":"#REF!"}},{"$f":"IF(#REF!=\"\", \"\",#REF!)","v":{"$error":"#REF!"}},{"$f":"IF(#REF!=\"\", \"\",#REF!)","v":{"$error":"#REF!"}},{"$f":"IF(#REF!=\"\", \"\",#REF!)","v":{"$error":"#REF!"}},{"$f":"IF(#REF!=\"\", \"\",#REF!)","v":{"$error":"#REF!"}},{"$f":"IF(#REF!=\"\", \"\",#REF!)","v":{"$error":"#REF!"}},{"$f":"IF(#REF!=\"\", \"\",#REF!)","v":{"$error":"#REF!"}},{"$f":"IF(#REF!=\"\", \"\",#REF!)","v":{"$error":"#REF!"}},{"$f":"IF(#REF!=\"\", \"\",#REF!)","v":{"$error":"#REF!"}},{"$f":"IF(#REF!=\"\", \"\",#REF!)","v":{"$error":"#REF!"}},{"$f":"IF(#REF!=\"\", \"\",#REF!)","v":{"$error":"#REF!"}},{"$f":"IF(#REF!=\"\", \"\",#REF!)","v":{"$error":"#REF!"}},{"$f":"IF(#REF!=\"\", \"\",#REF!)","v":{"$error":"#REF!"}},{"$f":"IF(#REF!=\"\", \"\",#REF!)","v":{"$error":"#REF!"}},{"$f":"IF(#REF!=\"\", \"\",#REF!)","v":{"$error":"#REF!"}},{"$f":"IF(#REF!=\"\", \"\",#REF!)","v":{"$error":"#REF!"}},{"$f":"IF(#REF!=\"\", \"\",#REF!)","v":{"$error":"#REF!"}},{"$f":"IF(#REF!=\"\", \"\",#REF!)","v":{"$error":"#REF!"}},{"$f":"IF(#REF!=\"\", \"\",#REF!)","v":{"$error":"#REF!"}},{"$f":"IF(#REF!=\"\", \"\",#REF!)","v":{"$error":"#REF!"}},{"$f":"IF(#REF!=\"\", \"\",#REF!)","v":{"$error":"#REF!"}},{"$f":"IF(#REF!=\"\", \"\",#REF!)","v":{"$error":"#REF!"}},{"$f":"IF(#REF!=\"\", \"\",#REF!)","v":{"$error":"#REF!"}},{"$f":"IF(#REF!=\"\", \"\",#REF!)","v":{"$error":"#REF!"}},{"$f":"IF(#REF!=\"\", \"\",#REF!)","v":{"$error":"#REF!"}},{"$f":"IF(#REF!=\"\", \"\",#REF!)","v":{"$error":"#REF!"}},{"$f":"IF(#REF!=\"\", \"\",#REF!)","v":{"$error":"#REF!"}},{"$f":"IF(#REF!=\"\", \"\",#REF!)","v":{"$error":"#REF!"}},{"$f":"IF(#REF!=\"\", \"\",#REF!)","v":{"$error":"#REF!"}},{"$f":"IF(#REF!=\"\", \"\",#REF!)","v":{"$error":"#REF!"}},{"$f":"IF(#REF!=\"\", \"\",#REF!)","v":{"$error":"#REF!"}},{"$f":"IF(#REF!=\"\", \"\",#REF!)","v":{"$error":"#REF!"}},{"$f":"IF(#REF!=\"\", \"\",#REF!)","v":{"$error":"#REF!"}},{"$f":"IF(#REF!=\"\", \"\",#REF!)","v":{"$error":"#REF!"}},{"$f":"IF(#REF!=\"\", \"\",#REF!)","v":{"$error":"#REF!"}},{"$f":"IF(#REF!=\"\", \"\",#REF!)","v":{"$error":"#REF!"}},{"$f":"IF(#REF!=\"\", \"\",#REF!)","v":{"$error":"#REF!"}},{"$f":"IF(#REF!=\"\", \"\",#REF!)","v":{"$error":"#REF!"}},{"$f":"IF(#REF!=\"\", \"\",#REF!)","v":{"$error":"#REF!"}},{"$f":"IF(#REF!=\"\", \"\",#REF!)","v":{"$error":"#REF!"}},{"$f":"IF(#REF!=\"\", \"\",#REF!)","v":{"$error":"#REF!"}},{"$f":"IF(#REF!=\"\", \"\",#REF!)","v":{"$error":"#REF!"}},{"$f":"IF(#REF!=\"\", \"\",#REF!)","v":{"$error":"#REF!"}},{"$f":"IF(#REF!=\"\", \"\",#REF!)","v":{"$error":"#REF!"}},{"$f":"IF(#REF!=\"\", \"\",#REF!)","v":{"$error":"#REF!"}},{"$f":"IF(#REF!=\"\", \"\",#REF!)","v":{"$error":"#REF!"}},{"$f":"IF(#REF!=\"\", \"\",#REF!)","v":{"$error":"#REF!"}},{"$f":"IF(#REF!=\"\", \"\",#REF!)","v":{"$error":"#REF!"}},{"$f":"IF(#REF!=\"\", \"\",#REF!)","v":{"$error":"#REF!"}},{"$f":"IF(#REF!=\"\", \"\",#REF!)","v":{"$error":"#REF!"}},{"$f":"IF(#REF!=\"\", \"\",#REF!)","v":{"$error":"#REF!"}},{"$f":"IF(#REF!=\"\", \"\",#REF!)","v":{"$error":"#REF!"}},{"$f":"IF(#REF!=\"\", \"\",#REF!)","v":{"$error":"#REF!"}}]
["Zusatzitem 45",{"$f":"IF(#REF!=\"\", \"\",#REF!)","v":{"$error":"#REF!"}},{"$f":"IF(#REF!=\"\", \"\",#REF!)","v":{"$error":"#REF!"}},{"$f":"IF(#REF!=\"\", \"\",#REF!)","v":{"$error":"#REF!"}},{"$f":"IF(#REF!=\"\", \"\",#REF!)","v":{"$error":"#REF!"}},{"$f":"IF(#REF!=\"\", \"\",#REF!)","v":{"$error":"#REF!"}},{"$f":"IF(#REF!=\"\", \"\",#REF!)","v":{"$error":"#REF!"}},{"$f":"IF(#REF!=\"\", \"\",#REF!)","v":{"$error":"#REF!"}},{"$f":"IF(#REF!=\"\", \"\",#REF!)","v":{"$error":"#REF!"}},{"$f":"IF(#REF!=\"\", \"\",#REF!)","v":{"$error":"#REF!"}},{"$f":"IF(#REF!=\"\", \"\",#REF!)","v":{"$error":"#REF!"}},{"$f":"IF(#REF!=\"\", \"\",#REF!)","v":{"$error":"#REF!"}},{"$f":"IF(#REF!=\"\", \"\",#REF!)","v":{"$error":"#REF!"}},{"$f":"IF(#REF!=\"\", \"\",#REF!)","v":{"$error":"#REF!"}},{"$f":"IF(#REF!=\"\", \"\",#REF!)","v":{"$error":"#REF!"}},{"$f":"IF(#REF!=\"\", \"\",#REF!)","v":{"$error":"#REF!"}},{"$f":"IF(#REF!=\"\", \"\",#REF!)","v":{"$error":"#REF!"}},{"$f":"IF(#REF!=\"\", \"\",#REF!)","v":{"$error":"#REF!"}},{"$f":"IF(#REF!=\"\", \"\",#REF!)","v":{"$error":"#REF!"}},{"$f":"IF(#REF!=\"\", \"\",#REF!)","v":{"$error":"#REF!"}},{"$f":"IF(#REF!=\"\", \"\",#REF!)","v":{"$error":"#REF!"}},{"$f":"IF(#REF!=\"\", \"\",#REF!)","v":{"$error":"#REF!"}},{"$f":"IF(#REF!=\"\", \"\",#REF!)","v":{"$error":"#REF!"}},{"$f":"IF(#REF!=\"\", \"\",#REF!)","v":{"$error":"#REF!"}},{"$f":"IF(#REF!=\"\", \"\",#REF!)","v":{"$error":"#REF!"}},{"$f":"IF(#REF!=\"\", \"\",#REF!)","v":{"$error":"#REF!"}},{"$f":"IF(#REF!=\"\", \"\",#REF!)","v":{"$error":"#REF!"}},{"$f":"IF(#REF!=\"\", \"\",#REF!)","v":{"$error":"#REF!"}},{"$f":"IF(#REF!=\"\", \"\",#REF!)","v":{"$error":"#REF!"}},{"$f":"IF(#REF!=\"\", \"\",#REF!)","v":{"$error":"#REF!"}},{"$f":"IF(#REF!=\"\", \"\",#REF!)","v":{"$error":"#REF!"}},{"$f":"IF(#REF!=\"\", \"\",#REF!)","v":{"$error":"#REF!"}},{"$f":"IF(#REF!=\"\", \"\",#REF!)","v":{"$error":"#REF!"}},{"$f":"IF(#REF!=\"\", \"\",#REF!)","v":{"$error":"#REF!"}},{"$f":"IF(#REF!=\"\", \"\",#REF!)","v":{"$error":"#REF!"}},{"$f":"IF(#REF!=\"\", \"\",#REF!)","v":{"$error":"#REF!"}},{"$f":"IF(#REF!=\"\", \"\",#REF!)","v":{"$error":"#REF!"}},{"$f":"IF(#REF!=\"\", \"\",#REF!)","v":{"$error":"#REF!"}},{"$f":"IF(#REF!=\"\", \"\",#REF!)","v":{"$error":"#REF!"}},{"$f":"IF(#REF!=\"\", \"\",#REF!)","v":{"$error":"#REF!"}},{"$f":"IF(#REF!=\"\", \"\",#REF!)","v":{"$error":"#REF!"}},{"$f":"IF(#REF!=\"\", \"\",#REF!)","v":{"$error":"#REF!"}},{"$f":"IF(#REF!=\"\", \"\",#REF!)","v":{"$error":"#REF!"}},{"$f":"IF(#REF!=\"\", \"\",#REF!)","v":{"$error":"#REF!"}},{"$f":"IF(#REF!=\"\", \"\",#REF!)","v":{"$error":"#REF!"}},{"$f":"IF(#REF!=\"\", \"\",#REF!)","v":{"$error":"#REF!"}},{"$f":"IF(#REF!=\"\", \"\",#REF!)","v":{"$error":"#REF!"}},{"$f":"IF(#REF!=\"\", \"\",#REF!)","v":{"$error":"#REF!"}},{"$f":"IF(#REF!=\"\", \"\",#REF!)","v":{"$error":"#REF!"}},{"$f":"IF(#REF!=\"\", \"\",#REF!)","v":{"$error":"#REF!"}},{"$f":"IF(#REF!=\"\", \"\",#REF!)","v":{"$error":"#REF!"}},{"$f":"IF(#REF!=\"\", \"\",#REF!)","v":{"$error":"#REF!"}},{"$f":"IF(#REF!=\"\", \"\",#REF!)","v":{"$error":"#REF!"}},{"$f":"IF(#REF!=\"\", \"\",#REF!)","v":{"$error":"#REF!"}},{"$f":"IF(#REF!=\"\", \"\",#REF!)","v":{"$error":"#REF!"}},{"$f":"IF(#REF!=\"\", \"\",#REF!)","v":{"$error":"#REF!"}},{"$f":"IF(#REF!=\"\", \"\",#REF!)","v":{"$error":"#REF!"}},{"$f":"IF(#REF!=\"\", \"\",#REF!)","v":{"$error":"#REF!"}},{"$f":"IF(#REF!=\"\", \"\",#REF!)","v":{"$error":"#REF!"}},{"$f":"IF(#REF!=\"\", \"\",#REF!)","v":{"$error":"#REF!"}},{"$f":"IF(#REF!=\"\", \"\",#REF!)","v":{"$error":"#REF!"}},{"$f":"IF(#REF!=\"\", \"\",#REF!)","v":{"$error":"#REF!"}}]
["Zusatzitem 46",{"$f":"IF(#REF!=\"\", \"\",#REF!)","v":{"$error":"#REF!"}},{"$f":"IF(#REF!=\"\", \"\",#REF!)","v":{"$error":"#REF!"}},{"$f":"IF(#REF!=\"\", \"\",#REF!)","v":{"$error":"#REF!"}},{"$f":"IF(#REF!=\"\", \"\",#REF!)","v":{"$error":"#REF!"}},{"$f":"IF(#REF!=\"\", \"\",#REF!)","v":{"$error":"#REF!"}},{"$f":"IF(#REF!=\"\", \"\",#REF!)","v":{"$error":"#REF!"}},{"$f":"IF(#REF!=\"\", \"\",#REF!)","v":{"$error":"#REF!"}},{"$f":"IF(#REF!=\"\", \"\",#REF!)","v":{"$error":"#REF!"}},{"$f":"IF(#REF!=\"\", \"\",#REF!)","v":{"$error":"#REF!"}},{"$f":"IF(#REF!=\"\", \"\",#REF!)","v":{"$error":"#REF!"}},{"$f":"IF(#REF!=\"\", \"\",#REF!)","v":{"$error":"#REF!"}},{"$f":"IF(#REF!=\"\", \"\",#REF!)","v":{"$error":"#REF!"}},{"$f":"IF(#REF!=\"\", \"\",#REF!)","v":{"$error":"#REF!"}},{"$f":"IF(#REF!=\"\", \"\",#REF!)","v":{"$error":"#REF!"}},{"$f":"IF(#REF!=\"\", \"\",#REF!)","v":{"$error":"#REF!"}},{"$f":"IF(#REF!=\"\", \"\",#REF!)","v":{"$error":"#REF!"}},{"$f":"IF(#REF!=\"\", \"\",#REF!)","v":{"$error":"#REF!"}},{"$f":"IF(#REF!=\"\", \"\",#REF!)","v":{"$error":"#REF!"}},{"$f":"IF(#REF!=\"\", \"\",#REF!)","v":{"$error":"#REF!"}},{"$f":"IF(#REF!=\"\", \"\",#REF!)","v":{"$error":"#REF!"}},{"$f":"IF(#REF!=\"\", \"\",#REF!)","v":{"$error":"#REF!"}},{"$f":"IF(#REF!=\"\", \"\",#REF!)","v":{"$error":"#REF!"}},{"$f":"IF(#REF!=\"\", \"\",#REF!)","v":{"$error":"#REF!"}},{"$f":"IF(#REF!=\"\", \"\",#REF!)","v":{"$error":"#REF!"}},{"$f":"IF(#REF!=\"\", \"\",#REF!)","v":{"$error":"#REF!"}},{"$f":"IF(#REF!=\"\", \"\",#REF!)","v":{"$error":"#REF!"}},{"$f":"IF(#REF!=\"\", \"\",#REF!)","v":{"$error":"#REF!"}},{"$f":"IF(#REF!=\"\", \"\",#REF!)","v":{"$error":"#REF!"}},{"$f":"IF(#REF!=\"\", \"\",#REF!)","v":{"$error":"#REF!"}},{"$f":"IF(#REF!=\"\", \"\",#REF!)","v":{"$error":"#REF!"}},{"$f":"IF(#REF!=\"\", \"\",#REF!)","v":{"$error":"#REF!"}},{"$f":"IF(#REF!=\"\", \"\",#REF!)","v":{"$error":"#REF!"}},{"$f":"IF(#REF!=\"\", \"\",#REF!)","v":{"$error":"#REF!"}},{"$f":"IF(#REF!=\"\", \"\",#REF!)","v":{"$error":"#REF!"}},{"$f":"IF(#REF!=\"\", \"\",#REF!)","v":{"$error":"#REF!"}},{"$f":"IF(#REF!=\"\", \"\",#REF!)","v":{"$error":"#REF!"}},{"$f":"IF(#REF!=\"\", \"\",#REF!)","v":{"$error":"#REF!"}},{"$f":"IF(#REF!=\"\", \"\",#REF!)","v":{"$error":"#REF!"}},{"$f":"IF(#REF!=\"\", \"\",#REF!)","v":{"$error":"#REF!"}},{"$f":"IF(#REF!=\"\", \"\",#REF!)","v":{"$error":"#REF!"}},{"$f":"IF(#REF!=\"\", \"\",#REF!)","v":{"$error":"#REF!"}},{"$f":"IF(#REF!=\"\", \"\",#REF!)","v":{"$error":"#REF!"}},{"$f":"IF(#REF!=\"\", \"\",#REF!)","v":{"$error":"#REF!"}},{"$f":"IF(#REF!=\"\", \"\",#REF!)","v":{"$error":"#REF!"}},{"$f":"IF(#REF!=\"\", \"\",#REF!)","v":{"$error":"#REF!"}},{"$f":"IF(#REF!=\"\", \"\",#REF!)","v":{"$error":"#REF!"}},{"$f":"IF(#REF!=\"\", \"\",#REF!)","v":{"$error":"#REF!"}},{"$f":"IF(#REF!=\"\", \"\",#REF!)","v":{"$error":"#REF!"}},{"$f":"IF(#REF!=\"\", \"\",#REF!)","v":{"$error":"#REF!"}},{"$f":"IF(#REF!=\"\", \"\",#REF!)","v":{"$error":"#REF!"}},{"$f":"IF(#REF!=\"\", \"\",#REF!)","v":{"$error":"#REF!"}},{"$f":"IF(#REF!=\"\", \"\",#REF!)","v":{"$error":"#REF!"}},{"$f":"IF(#REF!=\"\", \"\",#REF!)","v":{"$error":"#REF!"}},{"$f":"IF(#REF!=\"\", \"\",#REF!)","v":{"$error":"#REF!"}},{"$f":"IF(#REF!=\"\", \"\",#REF!)","v":{"$error":"#REF!"}},{"$f":"IF(#REF!=\"\", \"\",#REF!)","v":{"$error":"#REF!"}},{"$f":"IF(#REF!=\"\", \"\",#REF!)","v":{"$error":"#REF!"}},{"$f":"IF(#REF!=\"\", \"\",#REF!)","v":{"$error":"#REF!"}},{"$f":"IF(#REF!=\"\", \"\",#REF!)","v":{"$error":"#REF!"}},{"$f":"IF(#REF!=\"\", \"\",#REF!)","v":{"$error":"#REF!"}},{"$f":"IF(#REF!=\"\", \"\",#REF!)","v":{"$error":"#REF!"}}]
["Zusatzitem 47",{"$f":"IF(#REF!=\"\", \"\",#REF!)","v":{"$error":"#REF!"}},{"$f":"IF(#REF!=\"\", \"\",#REF!)","v":{"$error":"#REF!"}},{"$f":"IF(#REF!=\"\", \"\",#REF!)","v":{"$error":"#REF!"}},{"$f":"IF(#REF!=\"\", \"\",#REF!)","v":{"$error":"#REF!"}},{"$f":"IF(#REF!=\"\", \"\",#REF!)","v":{"$error":"#REF!"}},{"$f":"IF(#REF!=\"\", \"\",#REF!)","v":{"$error":"#REF!"}},{"$f":"IF(#REF!=\"\", \"\",#REF!)","v":{"$error":"#REF!"}},{"$f":"IF(#REF!=\"\", \"\",#REF!)","v":{"$error":"#REF!"}},{"$f":"IF(#REF!=\"\", \"\",#REF!)","v":{"$error":"#REF!"}},{"$f":"IF(#REF!=\"\", \"\",#REF!)","v":{"$error":"#REF!"}},{"$f":"IF(#REF!=\"\", \"\",#REF!)","v":{"$error":"#REF!"}},{"$f":"IF(#REF!=\"\", \"\",#REF!)","v":{"$error":"#REF!"}},{"$f":"IF(#REF!=\"\", \"\",#REF!)","v":{"$error":"#REF!"}},{"$f":"IF(#REF!=\"\", \"\",#REF!)","v":{"$error":"#REF!"}},{"$f":"IF(#REF!=\"\", \"\",#REF!)","v":{"$error":"#REF!"}},{"$f":"IF(#REF!=\"\", \"\",#REF!)","v":{"$error":"#REF!"}},{"$f":"IF(#REF!=\"\", \"\",#REF!)","v":{"$error":"#REF!"}},{"$f":"IF(#REF!=\"\", \"\",#REF!)","v":{"$error":"#REF!"}},{"$f":"IF(#REF!=\"\", \"\",#REF!)","v":{"$error":"#REF!"}},{"$f":"IF(#REF!=\"\", \"\",#REF!)","v":{"$error":"#REF!"}},{"$f":"IF(#REF!=\"\", \"\",#REF!)","v":{"$error":"#REF!"}},{"$f":"IF(#REF!=\"\", \"\",#REF!)","v":{"$error":"#REF!"}},{"$f":"IF(#REF!=\"\", \"\",#REF!)","v":{"$error":"#REF!"}},{"$f":"IF(#REF!=\"\", \"\",#REF!)","v":{"$error":"#REF!"}},{"$f":"IF(#REF!=\"\", \"\",#REF!)","v":{"$error":"#REF!"}},{"$f":"IF(#REF!=\"\", \"\",#REF!)","v":{"$error":"#REF!"}},{"$f":"IF(#REF!=\"\", \"\",#REF!)","v":{"$error":"#REF!"}},{"$f":"IF(#REF!=\"\", \"\",#REF!)","v":{"$error":"#REF!"}},{"$f":"IF(#REF!=\"\", \"\",#REF!)","v":{"$error":"#REF!"}},{"$f":"IF(#REF!=\"\", \"\",#REF!)","v":{"$error":"#REF!"}},{"$f":"IF(#REF!=\"\", \"\",#REF!)","v":{"$error":"#REF!"}},{"$f":"IF(#REF!=\"\", \"\",#REF!)","v":{"$error":"#REF!"}},{"$f":"IF(#REF!=\"\", \"\",#REF!)","v":{"$error":"#REF!"}},{"$f":"IF(#REF!=\"\", \"\",#REF!)","v":{"$error":"#REF!"}},{"$f":"IF(#REF!=\"\", \"\",#REF!)","v":{"$error":"#REF!"}},{"$f":"IF(#REF!=\"\", \"\",#REF!)","v":{"$error":"#REF!"}},{"$f":"IF(#REF!=\"\", \"\",#REF!)","v":{"$error":"#REF!"}},{"$f":"IF(#REF!=\"\", \"\",#REF!)","v":{"$error":"#REF!"}},{"$f":"IF(#REF!=\"\", \"\",#REF!)","v":{"$error":"#REF!"}},{"$f":"IF(#REF!=\"\", \"\",#REF!)","v":{"$error":"#REF!"}},{"$f":"IF(#REF!=\"\", \"\",#REF!)","v":{"$error":"#REF!"}},{"$f":"IF(#REF!=\"\", \"\",#REF!)","v":{"$error":"#REF!"}},{"$f":"IF(#REF!=\"\", \"\",#REF!)","v":{"$error":"#REF!"}},{"$f":"IF(#REF!=\"\", \"\",#REF!)","v":{"$error":"#REF!"}},{"$f":"IF(#REF!=\"\", \"\",#REF!)","v":{"$error":"#REF!"}},{"$f":"IF(#REF!=\"\", \"\",#REF!)","v":{"$error":"#REF!"}},{"$f":"IF(#REF!=\"\", \"\",#REF!)","v":{"$error":"#REF!"}},{"$f":"IF(#REF!=\"\", \"\",#REF!)","v":{"$error":"#REF!"}},{"$f":"IF(#REF!=\"\", \"\",#REF!)","v":{"$error":"#REF!"}},{"$f":"IF(#REF!=\"\", \"\",#REF!)","v":{"$error":"#REF!"}},{"$f":"IF(#REF!=\"\", \"\",#REF!)","v":{"$error":"#REF!"}},{"$f":"IF(#REF!=\"\", \"\",#REF!)","v":{"$error":"#REF!"}},{"$f":"IF(#REF!=\"\", \"\",#REF!)","v":{"$error":"#REF!"}},{"$f":"IF(#REF!=\"\", \"\",#REF!)","v":{"$error":"#REF!"}},{"$f":"IF(#REF!=\"\", \"\",#REF!)","v":{"$error":"#REF!"}},{"$f":"IF(#REF!=\"\", \"\",#REF!)","v":{"$error":"#REF!"}},{"$f":"IF(#REF!=\"\", \"\",#REF!)","v":{"$error":"#REF!"}},{"$f":"IF(#REF!=\"\", \"\",#REF!)","v":{"$error":"#REF!"}},{"$f":"IF(#REF!=\"\", \"\",#REF!)","v":{"$error":"#REF!"}},{"$f":"IF(#REF!=\"\", \"\",#REF!)","v":{"$error":"#REF!"}},{"$f":"IF(#REF!=\"\", \"\",#REF!)","v":{"$error":"#REF!"}}]
["Zusatzitem 48",{"$f":"IF(#REF!=\"\", \"\",#REF!)","v":{"$error":"#REF!"}},{"$f":"IF(#REF!=\"\", \"\",#REF!)","v":{"$error":"#REF!"}},{"$f":"IF(#REF!=\"\", \"\",#REF!)","v":{"$error":"#REF!"}},{"$f":"IF(#REF!=\"\", \"\",#REF!)","v":{"$error":"#REF!"}},{"$f":"IF(#REF!=\"\", \"\",#REF!)","v":{"$error":"#REF!"}},{"$f":"IF(#REF!=\"\", \"\",#REF!)","v":{"$error":"#REF!"}},{"$f":"IF(#REF!=\"\", \"\",#REF!)","v":{"$error":"#REF!"}},{"$f":"IF(#REF!=\"\", \"\",#REF!)","v":{"$error":"#REF!"}},{"$f":"IF(#REF!=\"\", \"\",#REF!)","v":{"$error":"#REF!"}},{"$f":"IF(#REF!=\"\", \"\",#REF!)","v":{"$error":"#REF!"}},{"$f":"IF(#REF!=\"\", \"\",#REF!)","v":{"$error":"#REF!"}},{"$f":"IF(#REF!=\"\", \"\",#REF!)","v":{"$error":"#REF!"}},{"$f":"IF(#REF!=\"\", \"\",#REF!)","v":{"$error":"#REF!"}},{"$f":"IF(#REF!=\"\", \"\",#REF!)","v":{"$error":"#REF!"}},{"$f":"IF(#REF!=\"\", \"\",#REF!)","v":{"$error":"#REF!"}},{"$f":"IF(#REF!=\"\", \"\",#REF!)","v":{"$error":"#REF!"}},{"$f":"IF(#REF!=\"\", \"\",#REF!)","v":{"$error":"#REF!"}},{"$f":"IF(#REF!=\"\", \"\",#REF!)","v":{"$error":"#REF!"}},{"$f":"IF(#REF!=\"\", \"\",#REF!)","v":{"$error":"#REF!"}},{"$f":"IF(#REF!=\"\", \"\",#REF!)","v":{"$error":"#REF!"}},{"$f":"IF(#REF!=\"\", \"\",#REF!)","v":{"$error":"#REF!"}},{"$f":"IF(#REF!=\"\", \"\",#REF!)","v":{"$error":"#REF!"}},{"$f":"IF(#REF!=\"\", \"\",#REF!)","v":{"$error":"#REF!"}},{"$f":"IF(#REF!=\"\", \"\",#REF!)","v":{"$error":"#REF!"}},{"$f":"IF(#REF!=\"\", \"\",#REF!)","v":{"$error":"#REF!"}},{"$f":"IF(#REF!=\"\", \"\",#REF!)","v":{"$error":"#REF!"}},{"$f":"IF(#REF!=\"\", \"\",#REF!)","v":{"$error":"#REF!"}},{"$f":"IF(#REF!=\"\", \"\",#REF!)","v":{"$error":"#REF!"}},{"$f":"IF(#REF!=\"\", \"\",#REF!)","v":{"$error":"#REF!"}},{"$f":"IF(#REF!=\"\", \"\",#REF!)","v":{"$error":"#REF!"}},{"$f":"IF(#REF!=\"\", \"\",#REF!)","v":{"$error":"#REF!"}},{"$f":"IF(#REF!=\"\", \"\",#REF!)","v":{"$error":"#REF!"}},{"$f":"IF(#REF!=\"\", \"\",#REF!)","v":{"$error":"#REF!"}},{"$f":"IF(#REF!=\"\", \"\",#REF!)","v":{"$error":"#REF!"}},{"$f":"IF(#REF!=\"\", \"\",#REF!)","v":{"$error":"#REF!"}},{"$f":"IF(#REF!=\"\", \"\",#REF!)","v":{"$error":"#REF!"}},{"$f":"IF(#REF!=\"\", \"\",#REF!)","v":{"$error":"#REF!"}},{"$f":"IF(#REF!=\"\", \"\",#REF!)","v":{"$error":"#REF!"}},{"$f":"IF(#REF!=\"\", \"\",#REF!)","v":{"$error":"#REF!"}},{"$f":"IF(#REF!=\"\", \"\",#REF!)","v":{"$error":"#REF!"}},{"$f":"IF(#REF!=\"\", \"\",#REF!)","v":{"$error":"#REF!"}},{"$f":"IF(#REF!=\"\", \"\",#REF!)","v":{"$error":"#REF!"}},{"$f":"IF(#REF!=\"\", \"\",#REF!)","v":{"$error":"#REF!"}},{"$f":"IF(#REF!=\"\", \"\",#REF!)","v":{"$error":"#REF!"}},{"$f":"IF(#REF!=\"\", \"\",#REF!)","v":{"$error":"#REF!"}},{"$f":"IF(#REF!=\"\", \"\",#REF!)","v":{"$error":"#REF!"}},{"$f":"IF(#REF!=\"\", \"\",#REF!)","v":{"$error":"#REF!"}},{"$f":"IF(#REF!=\"\", \"\",#REF!)","v":{"$error":"#REF!"}},{"$f":"IF(#REF!=\"\", \"\",#REF!)","v":{"$error":"#REF!"}},{"$f":"IF(#REF!=\"\", \"\",#REF!)","v":{"$error":"#REF!"}},{"$f":"IF(#REF!=\"\", \"\",#REF!)","v":{"$error":"#REF!"}},{"$f":"IF(#REF!=\"\", \"\",#REF!)","v":{"$error":"#REF!"}},{"$f":"IF(#REF!=\"\", \"\",#REF!)","v":{"$error":"#REF!"}},{"$f":"IF(#REF!=\"\", \"\",#REF!)","v":{"$error":"#REF!"}},{"$f":"IF(#REF!=\"\", \"\",#REF!)","v":{"$error":"#REF!"}},{"$f":"IF(#REF!=\"\", \"\",#REF!)","v":{"$error":"#REF!"}},{"$f":"IF(#REF!=\"\", \"\",#REF!)","v":{"$error":"#REF!"}},{"$f":"IF(#REF!=\"\", \"\",#REF!)","v":{"$error":"#REF!"}},{"$f":"IF(#REF!=\"\", \"\",#REF!)","v":{"$error":"#REF!"}},{"$f":"IF(#REF!=\"\", \"\",#REF!)","v":{"$error":"#REF!"}},{"$f":"IF(#REF!=\"\", \"\",#REF!)","v":{"$error":"#REF!"}}]
["Zusatzitem 49",{"$f":"IF(#REF!=\"\", \"\",#REF!)","v":{"$error":"#REF!"}},{"$f":"IF(#REF!=\"\", \"\",#REF!)","v":{"$error":"#REF!"}},{"$f":"IF(#REF!=\"\", \"\",#REF!)","v":{"$error":"#REF!"}},{"$f":"IF(#REF!=\"\", \"\",#REF!)","v":{"$error":"#REF!"}},{"$f":"IF(#REF!=\"\", \"\",#REF!)","v":{"$error":"#REF!"}},{"$f":"IF(#REF!=\"\", \"\",#REF!)","v":{"$error":"#REF!"}},{"$f":"IF(#REF!=\"\", \"\",#REF!)","v":{"$error":"#REF!"}},{"$f":"IF(#REF!=\"\", \"\",#REF!)","v":{"$error":"#REF!"}},{"$f":"IF(#REF!=\"\", \"\",#REF!)","v":{"$error":"#REF!"}},{"$f":"IF(#REF!=\"\", \"\",#REF!)","v":{"$error":"#REF!"}},{"$f":"IF(#REF!=\"\", \"\",#REF!)","v":{"$error":"#REF!"}},{"$f":"IF(#REF!=\"\", \"\",#REF!)","v":{"$error":"#REF!"}},{"$f":"IF(#REF!=\"\", \"\",#REF!)","v":{"$error":"#REF!"}},{"$f":"IF(#REF!=\"\", \"\",#REF!)","v":{"$error":"#REF!"}},{"$f":"IF(#REF!=\"\", \"\",#REF!)","v":{"$error":"#REF!"}},{"$f":"IF(#REF!=\"\", \"\",#REF!)","v":{"$error":"#REF!"}},{"$f":"IF(#REF!=\"\", \"\",#REF!)","v":{"$error":"#REF!"}},{"$f":"IF(#REF!=\"\", \"\",#REF!)","v":{"$error":"#REF!"}},{"$f":"IF(#REF!=\"\", \"\",#REF!)","v":{"$error":"#REF!"}},{"$f":"IF(#REF!=\"\", \"\",#REF!)","v":{"$error":"#REF!"}},{"$f":"IF(#REF!=\"\", \"\",#REF!)","v":{"$error":"#REF!"}},{"$f":"IF(#REF!=\"\", \"\",#REF!)","v":{"$error":"#REF!"}},{"$f":"IF(#REF!=\"\", \"\",#REF!)","v":{"$error":"#REF!"}},{"$f":"IF(#REF!=\"\", \"\",#REF!)","v":{"$error":"#REF!"}},{"$f":"IF(#REF!=\"\", \"\",#REF!)","v":{"$error":"#REF!"}},{"$f":"IF(#REF!=\"\", \"\",#REF!)","v":{"$error":"#REF!"}},{"$f":"IF(#REF!=\"\", \"\",#REF!)","v":{"$error":"#REF!"}},{"$f":"IF(#REF!=\"\", \"\",#REF!)","v":{"$error":"#REF!"}},{"$f":"IF(#REF!=\"\", \"\",#REF!)","v":{"$error":"#REF!"}},{"$f":"IF(#REF!=\"\", \"\",#REF!)","v":{"$error":"#REF!"}},{"$f":"IF(#REF!=\"\", \"\",#REF!)","v":{"$error":"#REF!"}},{"$f":"IF(#REF!=\"\", \"\",#REF!)","v":{"$error":"#REF!"}},{"$f":"IF(#REF!=\"\", \"\",#REF!)","v":{"$error":"#REF!"}},{"$f":"IF(#REF!=\"\", \"\",#REF!)","v":{"$error":"#REF!"}},{"$f":"IF(#REF!=\"\", \"\",#REF!)","v":{"$error":"#REF!"}},{"$f":"IF(#REF!=\"\", \"\",#REF!)","v":{"$error":"#REF!"}},{"$f":"IF(#REF!=\"\", \"\",#REF!)","v":{"$error":"#REF!"}},{"$f":"IF(#REF!=\"\", \"\",#REF!)","v":{"$error":"#REF!"}},{"$f":"IF(#REF!=\"\", \"\",#REF!)","v":{"$error":"#REF!"}},{"$f":"IF(#REF!=\"\", \"\",#REF!)","v":{"$error":"#REF!"}},{"$f":"IF(#REF!=\"\", \"\",#REF!)","v":{"$error":"#REF!"}},{"$f":"IF(#REF!=\"\", \"\",#REF!)","v":{"$error":"#REF!"}},{"$f":"IF(#REF!=\"\", \"\",#REF!)","v":{"$error":"#REF!"}},{"$f":"IF(#REF!=\"\", \"\",#REF!)","v":{"$error":"#REF!"}},{"$f":"IF(#REF!=\"\", \"\",#REF!)","v":{"$error":"#REF!"}},{"$f":"IF(#REF!=\"\", \"\",#REF!)","v":{"$error":"#REF!"}},{"$f":"IF(#REF!=\"\", \"\",#REF!)","v":{"$error":"#REF!"}},{"$f":"IF(#REF!=\"\", \"\",#REF!)","v":{"$error":"#REF!"}},{"$f":"IF(#REF!=\"\", \"\",#REF!)","v":{"$error":"#REF!"}},{"$f":"IF(#REF!=\"\", \"\",#REF!)","v":{"$error":"#REF!"}},{"$f":"IF(#REF!=\"\", \"\",#REF!)","v":{"$error":"#REF!"}},{"$f":"IF(#REF!=\"\", \"\",#REF!)","v":{"$error":"#REF!"}},{"$f":"IF(#REF!=\"\", \"\",#REF!)","v":{"$error":"#REF!"}},{"$f":"IF(#REF!=\"\", \"\",#REF!)","v":{"$error":"#REF!"}},{"$f":"IF(#REF!=\"\", \"\",#REF!)","v":{"$error":"#REF!"}},{"$f":"IF(#REF!=\"\", \"\",#REF!)","v":{"$error":"#REF!"}},{"$f":"IF(#REF!=\"\", \"\",#REF!)","v":{"$error":"#REF!"}},{"$f":"IF(#REF!=\"\", \"\",#REF!)","v":{"$error":"#REF!"}},{"$f":"IF(#REF!=\"\", \"\",#REF!)","v":{"$error":"#REF!"}},{"$f":"IF(#REF!=\"\", \"\",#REF!)","v":{"$error":"#REF!"}},{"$f":"IF(#REF!=\"\", \"\",#REF!)","v":{"$error":"#REF!"}}]
["Zusatzitem 50",{"$f":"IF(#REF!=\"\", \"\",#REF!)","v":{"$error":"#REF!"}},{"$f":"IF(#REF!=\"\", \"\",#REF!)","v":{"$error":"#REF!"}},{"$f":"IF(#REF!=\"\", \"\",#REF!)","v":{"$error":"#REF!"}},{"$f":"IF(#REF!=\"\", \"\",#REF!)","v":{"$error":"#REF!"}},{"$f":"IF(#REF!=\"\", \"\",#REF!)","v":{"$error":"#REF!"}},{"$f":"IF(#REF!=\"\", \"\",#REF!)","v":{"$error":"#REF!"}},{"$f":"IF(#REF!=\"\", \"\",#REF!)","v":{"$error":"#REF!"}},{"$f":"IF(#REF!=\"\", \"\",#REF!)","v":{"$error":"#REF!"}},{"$f":"IF(#REF!=\"\", \"\",#REF!)","v":{"$error":"#REF!"}},{"$f":"IF(#REF!=\"\", \"\",#REF!)","v":{"$error":"#REF!"}},{"$f":"IF(#REF!=\"\", \"\",#REF!)","v":{"$error":"#REF!"}},{"$f":"IF(#REF!=\"\", \"\",#REF!)","v":{"$error":"#REF!"}},{"$f":"IF(#REF!=\"\", \"\",#REF!)","v":{"$error":"#REF!"}},{"$f":"IF(#REF!=\"\", \"\",#REF!)","v":{"$error":"#REF!"}},{"$f":"IF(#REF!=\"\", \"\",#REF!)","v":{"$error":"#REF!"}},{"$f":"IF(#REF!=\"\", \"\",#REF!)","v":{"$error":"#REF!"}},{"$f":"IF(#REF!=\"\", \"\",#REF!)","v":{"$error":"#REF!"}},{"$f":"IF(#REF!=\"\", \"\",#REF!)","v":{"$error":"#REF!"}},{"$f":"IF(#REF!=\"\", \"\",#REF!)","v":{"$error":"#REF!"}},{"$f":"IF(#REF!=\"\", \"\",#REF!)","v":{"$error":"#REF!"}},{"$f":"IF(#REF!=\"\", \"\",#REF!)","v":{"$error":"#REF!"}},{"$f":"IF(#REF!=\"\", \"\",#REF!)","v":{"$error":"#REF!"}},{"$f":"IF(#REF!=\"\", \"\",#REF!)","v":{"$error":"#REF!"}},{"$f":"IF(#REF!=\"\", \"\",#REF!)","v":{"$error":"#REF!"}},{"$f":"IF(#REF!=\"\", \"\",#REF!)","v":{"$error":"#REF!"}},{"$f":"IF(#REF!=\"\", \"\",#REF!)","v":{"$error":"#REF!"}},{"$f":"IF(#REF!=\"\", \"\",#REF!)","v":{"$error":"#REF!"}},{"$f":"IF(#REF!=\"\", \"\",#REF!)","v":{"$error":"#REF!"}},{"$f":"IF(#REF!=\"\", \"\",#REF!)","v":{"$error":"#REF!"}},{"$f":"IF(#REF!=\"\", \"\",#REF!)","v":{"$error":"#REF!"}},{"$f":"IF(#REF!=\"\", \"\",#REF!)","v":{"$error":"#REF!"}},{"$f":"IF(#REF!=\"\", \"\",#REF!)","v":{"$error":"#REF!"}},{"$f":"IF(#REF!=\"\", \"\",#REF!)","v":{"$error":"#REF!"}},{"$f":"IF(#REF!=\"\", \"\",#REF!)","v":{"$error":"#REF!"}},{"$f":"IF(#REF!=\"\", \"\",#REF!)","v":{"$error":"#REF!"}},{"$f":"IF(#REF!=\"\", \"\",#REF!)","v":{"$error":"#REF!"}},{"$f":"IF(#REF!=\"\", \"\",#REF!)","v":{"$error":"#REF!"}},{"$f":"IF(#REF!=\"\", \"\",#REF!)","v":{"$error":"#REF!"}},{"$f":"IF(#REF!=\"\", \"\",#REF!)","v":{"$error":"#REF!"}},{"$f":"IF(#REF!=\"\", \"\",#REF!)","v":{"$error":"#REF!"}},{"$f":"IF(#REF!=\"\", \"\",#REF!)","v":{"$error":"#REF!"}},{"$f":"IF(#REF!=\"\", \"\",#REF!)","v":{"$error":"#REF!"}},{"$f":"IF(#REF!=\"\", \"\",#REF!)","v":{"$error":"#REF!"}},{"$f":"IF(#REF!=\"\", \"\",#REF!)","v":{"$error":"#REF!"}},{"$f":"IF(#REF!=\"\", \"\",#REF!)","v":{"$error":"#REF!"}},{"$f":"IF(#REF!=\"\", \"\",#REF!)","v":{"$error":"#REF!"}},{"$f":"IF(#REF!=\"\", \"\",#REF!)","v":{"$error":"#REF!"}},{"$f":"IF(#REF!=\"\", \"\",#REF!)","v":{"$error":"#REF!"}},{"$f":"IF(#REF!=\"\", \"\",#REF!)","v":{"$error":"#REF!"}},{"$f":"IF(#REF!=\"\", \"\",#REF!)","v":{"$error":"#REF!"}},{"$f":"IF(#REF!=\"\", \"\",#REF!)","v":{"$error":"#REF!"}},{"$f":"IF(#REF!=\"\", \"\",#REF!)","v":{"$error":"#REF!"}},{"$f":"IF(#REF!=\"\", \"\",#REF!)","v":{"$error":"#REF!"}},{"$f":"IF(#REF!=\"\", \"\",#REF!)","v":{"$error":"#REF!"}},{"$f":"IF(#REF!=\"\", \"\",#REF!)","v":{"$error":"#REF!"}},{"$f":"IF(#REF!=\"\", \"\",#REF!)","v":{"$error":"#REF!"}},{"$f":"IF(#REF!=\"\", \"\",#REF!)","v":{"$error":"#REF!"}},{"$f":"IF(#REF!=\"\", \"\",#REF!)","v":{"$error":"#REF!"}},{"$f":"IF(#REF!=\"\", \"\",#REF!)","v":{"$error":"#REF!"}},{"$f":"IF(#REF!=\"\", \"\",#REF!)","v":{"$error":"#REF!"}},{"$f":"IF(#REF!=\"\", \"\",#REF!)","v":{"$error":"#REF!"}}]
["Zusatzitem 51",{"$f":"IF(#REF!=\"\", \"\",#REF!)","v":{"$error":"#REF!"}},{"$f":"IF(#REF!=\"\", \"\",#REF!)","v":{"$error":"#REF!"}},{"$f":"IF(#REF!=\"\", \"\",#REF!)","v":{"$error":"#REF!"}},{"$f":"IF(#REF!=\"\", \"\",#REF!)","v":{"$error":"#REF!"}},{"$f":"IF(#REF!=\"\", \"\",#REF!)","v":{"$error":"#REF!"}},{"$f":"IF(#REF!=\"\", \"\",#REF!)","v":{"$error":"#REF!"}},{"$f":"IF(#REF!=\"\", \"\",#REF!)","v":{"$error":"#REF!"}},{"$f":"IF(#REF!=\"\", \"\",#REF!)","v":{"$error":"#REF!"}},{"$f":"IF(#REF!=\"\", \"\",#REF!)","v":{"$error":"#REF!"}},{"$f":"IF(#REF!=\"\", \"\",#REF!)","v":{"$error":"#REF!"}},{"$f":"IF(#REF!=\"\", \"\",#REF!)","v":{"$error":"#REF!"}},{"$f":"IF(#REF!=\"\", \"\",#REF!)","v":{"$error":"#REF!"}},{"$f":"IF(#REF!=\"\", \"\",#REF!)","v":{"$error":"#REF!"}},{"$f":"IF(#REF!=\"\", \"\",#REF!)","v":{"$error":"#REF!"}},{"$f":"IF(#REF!=\"\", \"\",#REF!)","v":{"$error":"#REF!"}},{"$f":"IF(#REF!=\"\", \"\",#REF!)","v":{"$error":"#REF!"}},{"$f":"IF(#REF!=\"\", \"\",#REF!)","v":{"$error":"#REF!"}},{"$f":"IF(#REF!=\"\", \"\",#REF!)","v":{"$error":"#REF!"}},{"$f":"IF(#REF!=\"\", \"\",#REF!)","v":{"$error":"#REF!"}},{"$f":"IF(#REF!=\"\", \"\",#REF!)","v":{"$error":"#REF!"}},{"$f":"IF(#REF!=\"\", \"\",#REF!)","v":{"$error":"#REF!"}},{"$f":"IF(#REF!=\"\", \"\",#REF!)","v":{"$error":"#REF!"}},{"$f":"IF(#REF!=\"\", \"\",#REF!)","v":{"$error":"#REF!"}},{"$f":"IF(#REF!=\"\", \"\",#REF!)","v":{"$error":"#REF!"}},{"$f":"IF(#REF!=\"\", \"\",#REF!)","v":{"$error":"#REF!"}},{"$f":"IF(#REF!=\"\", \"\",#REF!)","v":{"$error":"#REF!"}},{"$f":"IF(#REF!=\"\", \"\",#REF!)","v":{"$error":"#REF!"}},{"$f":"IF(#REF!=\"\", \"\",#REF!)","v":{"$error":"#REF!"}},{"$f":"IF(#REF!=\"\", \"\",#REF!)","v":{"$error":"#REF!"}},{"$f":"IF(#REF!=\"\", \"\",#REF!)","v":{"$error":"#REF!"}},{"$f":"IF(#REF!=\"\", \"\",#REF!)","v":{"$error":"#REF!"}},{"$f":"IF(#REF!=\"\", \"\",#REF!)","v":{"$error":"#REF!"}},{"$f":"IF(#REF!=\"\", \"\",#REF!)","v":{"$error":"#REF!"}},{"$f":"IF(#REF!=\"\", \"\",#REF!)","v":{"$error":"#REF!"}},{"$f":"IF(#REF!=\"\", \"\",#REF!)","v":{"$error":"#REF!"}},{"$f":"IF(#REF!=\"\", \"\",#REF!)","v":{"$error":"#REF!"}},{"$f":"IF(#REF!=\"\", \"\",#REF!)","v":{"$error":"#REF!"}},{"$f":"IF(#REF!=\"\", \"\",#REF!)","v":{"$error":"#REF!"}},{"$f":"IF(#REF!=\"\", \"\",#REF!)","v":{"$error":"#REF!"}},{"$f":"IF(#REF!=\"\", \"\",#REF!)","v":{"$error":"#REF!"}},{"$f":"IF(#REF!=\"\", \"\",#REF!)","v":{"$error":"#REF!"}},{"$f":"IF(#REF!=\"\", \"\",#REF!)","v":{"$error":"#REF!"}},{"$f":"IF(#REF!=\"\", \"\",#REF!)","v":{"$error":"#REF!"}},{"$f":"IF(#REF!=\"\", \"\",#REF!)","v":{"$error":"#REF!"}},{"$f":"IF(#REF!=\"\", \"\",#REF!)","v":{"$error":"#REF!"}},{"$f":"IF(#REF!=\"\", \"\",#REF!)","v":{"$error":"#REF!"}},{"$f":"IF(#REF!=\"\", \"\",#REF!)","v":{"$error":"#REF!"}},{"$f":"IF(#REF!=\"\", \"\",#REF!)","v":{"$error":"#REF!"}},{"$f":"IF(#REF!=\"\", \"\",#REF!)","v":{"$error":"#REF!"}},{"$f":"IF(#REF!=\"\", \"\",#REF!)","v":{"$error":"#REF!"}},{"$f":"IF(#REF!=\"\", \"\",#REF!)","v":{"$error":"#REF!"}},{"$f":"IF(#REF!=\"\", \"\",#REF!)","v":{"$error":"#REF!"}},{"$f":"IF(#REF!=\"\", \"\",#REF!)","v":{"$error":"#REF!"}},{"$f":"IF(#REF!=\"\", \"\",#REF!)","v":{"$error":"#REF!"}},{"$f":"IF(#REF!=\"\", \"\",#REF!)","v":{"$error":"#REF!"}},{"$f":"IF(#REF!=\"\", \"\",#REF!)","v":{"$error":"#REF!"}},{"$f":"IF(#REF!=\"\", \"\",#REF!)","v":{"$error":"#REF!"}},{"$f":"IF(#REF!=\"\", \"\",#REF!)","v":{"$error":"#REF!"}},{"$f":"IF(#REF!=\"\", \"\",#REF!)","v":{"$error":"#REF!"}},{"$f":"IF(#REF!=\"\", \"\",#REF!)","v":{"$error":"#REF!"}},{"$f":"IF(#REF!=\"\", \"\",#REF!)","v":{"$error":"#REF!"}}]
["Zusatzitem 52",{"$f":"IF(#REF!=\"\", \"\",#REF!)","v":{"$error":"#REF!"}},{"$f":"IF(#REF!=\"\", \"\",#REF!)","v":{"$error":"#REF!"}},{"$f":"IF(#REF!=\"\", \"\",#REF!)","v":{"$error":"#REF!"}},{"$f":"IF(#REF!=\"\", \"\",#REF!)","v":{"$error":"#REF!"}},{"$f":"IF(#REF!=\"\", \"\",#REF!)","v":{"$error":"#REF!"}},{"$f":"IF(#REF!=\"\", \"\",#REF!)","v":{"$error":"#REF!"}},{"$f":"IF(#REF!=\"\", \"\",#REF!)","v":{"$error":"#REF!"}},{"$f":"IF(#REF!=\"\", \"\",#REF!)","v":{"$error":"#REF!"}},{"$f":"IF(#REF!=\"\", \"\",#REF!)","v":{"$error":"#REF!"}},{"$f":"IF(#REF!=\"\", \"\",#REF!)","v":{"$error":"#REF!"}},{"$f":"IF(#REF!=\"\", \"\",#REF!)","v":{"$error":"#REF!"}},{"$f":"IF(#REF!=\"\", \"\",#REF!)","v":{"$error":"#REF!"}},{"$f":"IF(#REF!=\"\", \"\",#REF!)","v":{"$error":"#REF!"}},{"$f":"IF(#REF!=\"\", \"\",#REF!)","v":{"$error":"#REF!"}},{"$f":"IF(#REF!=\"\", \"\",#REF!)","v":{"$error":"#REF!"}},{"$f":"IF(#REF!=\"\", \"\",#REF!)","v":{"$error":"#REF!"}},{"$f":"IF(#REF!=\"\", \"\",#REF!)","v":{"$error":"#REF!"}},{"$f":"IF(#REF!=\"\", \"\",#REF!)","v":{"$error":"#REF!"}},{"$f":"IF(#REF!=\"\", \"\",#REF!)","v":{"$error":"#REF!"}},{"$f":"IF(#REF!=\"\", \"\",#REF!)","v":{"$error":"#REF!"}},{"$f":"IF(#REF!=\"\", \"\",#REF!)","v":{"$error":"#REF!"}},{"$f":"IF(#REF!=\"\", \"\",#REF!)","v":{"$error":"#REF!"}},{"$f":"IF(#REF!=\"\", \"\",#REF!)","v":{"$error":"#REF!"}},{"$f":"IF(#REF!=\"\", \"\",#REF!)","v":{"$error":"#REF!"}},{"$f":"IF(#REF!=\"\", \"\",#REF!)","v":{"$error":"#REF!"}},{"$f":"IF(#REF!=\"\", \"\",#REF!)","v":{"$error":"#REF!"}},{"$f":"IF(#REF!=\"\", \"\",#REF!)","v":{"$error":"#REF!"}},{"$f":"IF(#REF!=\"\", \"\",#REF!)","v":{"$error":"#REF!"}},{"$f":"IF(#REF!=\"\", \"\",#REF!)","v":{"$error":"#REF!"}},{"$f":"IF(#REF!=\"\", \"\",#REF!)","v":{"$error":"#REF!"}},{"$f":"IF(#REF!=\"\", \"\",#REF!)","v":{"$error":"#REF!"}},{"$f":"IF(#REF!=\"\", \"\",#REF!)","v":{"$error":"#REF!"}},{"$f":"IF(#REF!=\"\", \"\",#REF!)","v":{"$error":"#REF!"}},{"$f":"IF(#REF!=\"\", \"\",#REF!)","v":{"$error":"#REF!"}},{"$f":"IF(#REF!=\"\", \"\",#REF!)","v":{"$error":"#REF!"}},{"$f":"IF(#REF!=\"\", \"\",#REF!)","v":{"$error":"#REF!"}},{"$f":"IF(#REF!=\"\", \"\",#REF!)","v":{"$error":"#REF!"}},{"$f":"IF(#REF!=\"\", \"\",#REF!)","v":{"$error":"#REF!"}},{"$f":"IF(#REF!=\"\", \"\",#REF!)","v":{"$error":"#REF!"}},{"$f":"IF(#REF!=\"\", \"\",#REF!)","v":{"$error":"#REF!"}},{"$f":"IF(#REF!=\"\", \"\",#REF!)","v":{"$error":"#REF!"}},{"$f":"IF(#REF!=\"\", \"\",#REF!)","v":{"$error":"#REF!"}},{"$f":"IF(#REF!=\"\", \"\",#REF!)","v":{"$error":"#REF!"}},{"$f":"IF(#REF!=\"\", \"\",#REF!)","v":{"$error":"#REF!"}},{"$f":"IF(#REF!=\"\", \"\",#REF!)","v":{"$error":"#REF!"}},{"$f":"IF(#REF!=\"\", \"\",#REF!)","v":{"$error":"#REF!"}},{"$f":"IF(#REF!=\"\", \"\",#REF!)","v":{"$error":"#REF!"}},{"$f":"IF(#REF!=\"\", \"\",#REF!)","v":{"$error":"#REF!"}},{"$f":"IF(#REF!=\"\", \"\",#REF!)","v":{"$error":"#REF!"}},{"$f":"IF(#REF!=\"\", \"\",#REF!)","v":{"$error":"#REF!"}},{"$f":"IF(#REF!=\"\", \"\",#REF!)","v":{"$error":"#REF!"}},{"$f":"IF(#REF!=\"\", \"\",#REF!)","v":{"$error":"#REF!"}},{"$f":"IF(#REF!=\"\", \"\",#REF!)","v":{"$error":"#REF!"}},{"$f":"IF(#REF!=\"\", \"\",#REF!)","v":{"$error":"#REF!"}},{"$f":"IF(#REF!=\"\", \"\",#REF!)","v":{"$error":"#REF!"}},{"$f":"IF(#REF!=\"\", \"\",#REF!)","v":{"$error":"#REF!"}},{"$f":"IF(#REF!=\"\", \"\",#REF!)","v":{"$error":"#REF!"}},{"$f":"IF(#REF!=\"\", \"\",#REF!)","v":{"$error":"#REF!"}},{"$f":"IF(#REF!=\"\", \"\",#REF!)","v":{"$error":"#REF!"}},{"$f":"IF(#REF!=\"\", \"\",#REF!)","v":{"$error":"#REF!"}},{"$f":"IF(#REF!=\"\", \"\",#REF!)","v":{"$error":"#REF!"}}]
["Zusatzitem 53",{"$f":"IF(#REF!=\"\", \"\",#REF!)","v":{"$error":"#REF!"}},{"$f":"IF(#REF!=\"\", \"\",#REF!)","v":{"$error":"#REF!"}},{"$f":"IF(#REF!=\"\", \"\",#REF!)","v":{"$error":"#REF!"}},{"$f":"IF(#REF!=\"\", \"\",#REF!)","v":{"$error":"#REF!"}},{"$f":"IF(#REF!=\"\", \"\",#REF!)","v":{"$error":"#REF!"}},{"$f":"IF(#REF!=\"\", \"\",#REF!)","v":{"$error":"#REF!"}},{"$f":"IF(#REF!=\"\", \"\",#REF!)","v":{"$error":"#REF!"}},{"$f":"IF(#REF!=\"\", \"\",#REF!)","v":{"$error":"#REF!"}},{"$f":"IF(#REF!=\"\", \"\",#REF!)","v":{"$error":"#REF!"}},{"$f":"IF(#REF!=\"\", \"\",#REF!)","v":{"$error":"#REF!"}},{"$f":"IF(#REF!=\"\", \"\",#REF!)","v":{"$error":"#REF!"}},{"$f":"IF(#REF!=\"\", \"\",#REF!)","v":{"$error":"#REF!"}},{"$f":"IF(#REF!=\"\", \"\",#REF!)","v":{"$error":"#REF!"}},{"$f":"IF(#REF!=\"\", \"\",#REF!)","v":{"$error":"#REF!"}},{"$f":"IF(#REF!=\"\", \"\",#REF!)","v":{"$error":"#REF!"}},{"$f":"IF(#REF!=\"\", \"\",#REF!)","v":{"$error":"#REF!"}},{"$f":"IF(#REF!=\"\", \"\",#REF!)","v":{"$error":"#REF!"}},{"$f":"IF(#REF!=\"\", \"\",#REF!)","v":{"$error":"#REF!"}},{"$f":"IF(#REF!=\"\", \"\",#REF!)","v":{"$error":"#REF!"}},{"$f":"IF(#REF!=\"\", \"\",#REF!)","v":{"$error":"#REF!"}},{"$f":"IF(#REF!=\"\", \"\",#REF!)","v":{"$error":"#REF!"}},{"$f":"IF(#REF!=\"\", \"\",#REF!)","v":{"$error":"#REF!"}},{"$f":"IF(#REF!=\"\", \"\",#REF!)","v":{"$error":"#REF!"}},{"$f":"IF(#REF!=\"\", \"\",#REF!)","v":{"$error":"#REF!"}},{"$f":"IF(#REF!=\"\", \"\",#REF!)","v":{"$error":"#REF!"}},{"$f":"IF(#REF!=\"\", \"\",#REF!)","v":{"$error":"#REF!"}},{"$f":"IF(#REF!=\"\", \"\",#REF!)","v":{"$error":"#REF!"}},{"$f":"IF(#REF!=\"\", \"\",#REF!)","v":{"$error":"#REF!"}},{"$f":"IF(#REF!=\"\", \"\",#REF!)","v":{"$error":"#REF!"}},{"$f":"IF(#REF!=\"\", \"\",#REF!)","v":{"$error":"#REF!"}},{"$f":"IF(#REF!=\"\", \"\",#REF!)","v":{"$error":"#REF!"}},{"$f":"IF(#REF!=\"\", \"\",#REF!)","v":{"$error":"#REF!"}},{"$f":"IF(#REF!=\"\", \"\",#REF!)","v":{"$error":"#REF!"}},{"$f":"IF(#REF!=\"\", \"\",#REF!)","v":{"$error":"#REF!"}},{"$f":"IF(#REF!=\"\", \"\",#REF!)","v":{"$error":"#REF!"}},{"$f":"IF(#REF!=\"\", \"\",#REF!)","v":{"$error":"#REF!"}},{"$f":"IF(#REF!=\"\", \"\",#REF!)","v":{"$error":"#REF!"}},{"$f":"IF(#REF!=\"\", \"\",#REF!)","v":{"$error":"#REF!"}},{"$f":"IF(#REF!=\"\", \"\",#REF!)","v":{"$error":"#REF!"}},{"$f":"IF(#REF!=\"\", \"\",#REF!)","v":{"$error":"#REF!"}},{"$f":"IF(#REF!=\"\", \"\",#REF!)","v":{"$error":"#REF!"}},{"$f":"IF(#REF!=\"\", \"\",#REF!)","v":{"$error":"#REF!"}},{"$f":"IF(#REF!=\"\", \"\",#REF!)","v":{"$error":"#REF!"}},{"$f":"IF(#REF!=\"\", \"\",#REF!)","v":{"$error":"#REF!"}},{"$f":"IF(#REF!=\"\", \"\",#REF!)","v":{"$error":"#REF!"}},{"$f":"IF(#REF!=\"\", \"\",#REF!)","v":{"$error":"#REF!"}},{"$f":"IF(#REF!=\"\", \"\",#REF!)","v":{"$error":"#REF!"}},{"$f":"IF(#REF!=\"\", \"\",#REF!)","v":{"$error":"#REF!"}},{"$f":"IF(#REF!=\"\", \"\",#REF!)","v":{"$error":"#REF!"}},{"$f":"IF(#REF!=\"\", \"\",#REF!)","v":{"$error":"#REF!"}},{"$f":"IF(#REF!=\"\", \"\",#REF!)","v":{"$error":"#REF!"}},{"$f":"IF(#REF!=\"\", \"\",#REF!)","v":{"$error":"#REF!"}},{"$f":"IF(#REF!=\"\", \"\",#REF!)","v":{"$error":"#REF!"}},{"$f":"IF(#REF!=\"\", \"\",#REF!)","v":{"$error":"#REF!"}},{"$f":"IF(#REF!=\"\", \"\",#REF!)","v":{"$error":"#REF!"}},{"$f":"IF(#REF!=\"\", \"\",#REF!)","v":{"$error":"#REF!"}},{"$f":"IF(#REF!=\"\", \"\",#REF!)","v":{"$error":"#REF!"}},{"$f":"IF(#REF!=\"\", \"\",#REF!)","v":{"$error":"#REF!"}},{"$f":"IF(#REF!=\"\", \"\",#REF!)","v":{"$error":"#REF!"}},{"$f":"IF(#REF!=\"\", \"\",#REF!)","v":{"$error":"#REF!"}},{"$f":"IF(#REF!=\"\", \"\",#REF!)","v":{"$error":"#REF!"}}]
["Zusatzitem 54",{"$f":"IF(#REF!=\"\", \"\",#REF!)","v":{"$error":"#REF!"}},{"$f":"IF(#REF!=\"\", \"\",#REF!)","v":{"$error":"#REF!"}},{"$f":"IF(#REF!=\"\", \"\",#REF!)","v":{"$error":"#REF!"}},{"$f":"IF(#REF!=\"\", \"\",#REF!)","v":{"$error":"#REF!"}},{"$f":"IF(#REF!=\"\", \"\",#REF!)","v":{"$error":"#REF!"}},{"$f":"IF(#REF!=\"\", \"\",#REF!)","v":{"$error":"#REF!"}},{"$f":"IF(#REF!=\"\", \"\",#REF!)","v":{"$error":"#REF!"}},{"$f":"IF(#REF!=\"\", \"\",#REF!)","v":{"$error":"#REF!"}},{"$f":"IF(#REF!=\"\", \"\",#REF!)","v":{"$error":"#REF!"}},{"$f":"IF(#REF!=\"\", \"\",#REF!)","v":{"$error":"#REF!"}},{"$f":"IF(#REF!=\"\", \"\",#REF!)","v":{"$error":"#REF!"}},{"$f":"IF(#REF!=\"\", \"\",#REF!)","v":{"$error":"#REF!"}},{"$f":"IF(#REF!=\"\", \"\",#REF!)","v":{"$error":"#REF!"}},{"$f":"IF(#REF!=\"\", \"\",#REF!)","v":{"$error":"#REF!"}},{"$f":"IF(#REF!=\"\", \"\",#REF!)","v":{"$error":"#REF!"}},{"$f":"IF(#REF!=\"\", \"\",#REF!)","v":{"$error":"#REF!"}},{"$f":"IF(#REF!=\"\", \"\",#REF!)","v":{"$error":"#REF!"}},{"$f":"IF(#REF!=\"\", \"\",#REF!)","v":{"$error":"#REF!"}},{"$f":"IF(#REF!=\"\", \"\",#REF!)","v":{"$error":"#REF!"}},{"$f":"IF(#REF!=\"\", \"\",#REF!)","v":{"$error":"#REF!"}},{"$f":"IF(#REF!=\"\", \"\",#REF!)","v":{"$error":"#REF!"}},{"$f":"IF(#REF!=\"\", \"\",#REF!)","v":{"$error":"#REF!"}},{"$f":"IF(#REF!=\"\", \"\",#REF!)","v":{"$error":"#REF!"}},{"$f":"IF(#REF!=\"\", \"\",#REF!)","v":{"$error":"#REF!"}},{"$f":"IF(#REF!=\"\", \"\",#REF!)","v":{"$error":"#REF!"}},{"$f":"IF(#REF!=\"\", \"\",#REF!)","v":{"$error":"#REF!"}},{"$f":"IF(#REF!=\"\", \"\",#REF!)","v":{"$error":"#REF!"}},{"$f":"IF(#REF!=\"\", \"\",#REF!)","v":{"$error":"#REF!"}},{"$f":"IF(#REF!=\"\", \"\",#REF!)","v":{"$error":"#REF!"}},{"$f":"IF(#REF!=\"\", \"\",#REF!)","v":{"$error":"#REF!"}},{"$f":"IF(#REF!=\"\", \"\",#REF!)","v":{"$error":"#REF!"}},{"$f":"IF(#REF!=\"\", \"\",#REF!)","v":{"$error":"#REF!"}},{"$f":"IF(#REF!=\"\", \"\",#REF!)","v":{"$error":"#REF!"}},{"$f":"IF(#REF!=\"\", \"\",#REF!)","v":{"$error":"#REF!"}},{"$f":"IF(#REF!=\"\", \"\",#REF!)","v":{"$error":"#REF!"}},{"$f":"IF(#REF!=\"\", \"\",#REF!)","v":{"$error":"#REF!"}},{"$f":"IF(#REF!=\"\", \"\",#REF!)","v":{"$error":"#REF!"}},{"$f":"IF(#REF!=\"\", \"\",#REF!)","v":{"$error":"#REF!"}},{"$f":"IF(#REF!=\"\", \"\",#REF!)","v":{"$error":"#REF!"}},{"$f":"IF(#REF!=\"\", \"\",#REF!)","v":{"$error":"#REF!"}},{"$f":"IF(#REF!=\"\", \"\",#REF!)","v":{"$error":"#REF!"}},{"$f":"IF(#REF!=\"\", \"\",#REF!)","v":{"$error":"#REF!"}},{"$f":"IF(#REF!=\"\", \"\",#REF!)","v":{"$error":"#REF!"}},{"$f":"IF(#REF!=\"\", \"\",#REF!)","v":{"$error":"#REF!"}},{"$f":"IF(#REF!=\"\", \"\",#REF!)","v":{"$error":"#REF!"}},{"$f":"IF(#REF!=\"\", \"\",#REF!)","v":{"$error":"#REF!"}},{"$f":"IF(#REF!=\"\", \"\",#REF!)","v":{"$error":"#REF!"}},{"$f":"IF(#REF!=\"\", \"\",#REF!)","v":{"$error":"#REF!"}},{"$f":"IF(#REF!=\"\", \"\",#REF!)","v":{"$error":"#REF!"}},{"$f":"IF(#REF!=\"\", \"\",#REF!)","v":{"$error":"#REF!"}},{"$f":"IF(#REF!=\"\", \"\",#REF!)","v":{"$error":"#REF!"}},{"$f":"IF(#REF!=\"\", \"\",#REF!)","v":{"$error":"#REF!"}},{"$f":"IF(#REF!=\"\", \"\",#REF!)","v":{"$error":"#REF!"}},{"$f":"IF(#REF!=\"\", \"\",#REF!)","v":{"$error":"#REF!"}},{"$f":"IF(#REF!=\"\", \"\",#REF!)","v":{"$error":"#REF!"}},{"$f":"IF(#REF!=\"\", \"\",#REF!)","v":{"$error":"#REF!"}},{"$f":"IF(#REF!=\"\", \"\",#REF!)","v":{"$error":"#REF!"}},{"$f":"IF(#REF!=\"\", \"\",#REF!)","v":{"$error":"#REF!"}},{"$f":"IF(#REF!=\"\", \"\",#REF!)","v":{"$error":"#REF!"}},{"$f":"IF(#REF!=\"\", \"\",#REF!)","v":{"$error":"#REF!"}},{"$f":"IF(#REF!=\"\", \"\",#REF!)","v":{"$error":"#REF!"}}]
["Zusatzitem 55",{"$f":"IF(#REF!=\"\", \"\",#REF!)","v":{"$error":"#REF!"}},{"$f":"IF(#REF!=\"\", \"\",#REF!)","v":{"$error":"#REF!"}},{"$f":"IF(#REF!=\"\", \"\",#REF!)","v":{"$error":"#REF!"}},{"$f":"IF(#REF!=\"\", \"\",#REF!)","v":{"$error":"#REF!"}},{"$f":"IF(#REF!=\"\", \"\",#REF!)","v":{"$error":"#REF!"}},{"$f":"IF(#REF!=\"\", \"\",#REF!)","v":{"$error":"#REF!"}},{"$f":"IF(#REF!=\"\", \"\",#REF!)","v":{"$error":"#REF!"}},{"$f":"IF(#REF!=\"\", \"\",#REF!)","v":{"$error":"#REF!"}},{"$f":"IF(#REF!=\"\", \"\",#REF!)","v":{"$error":"#REF!"}},{"$f":"IF(#REF!=\"\", \"\",#REF!)","v":{"$error":"#REF!"}},{"$f":"IF(#REF!=\"\", \"\",#REF!)","v":{"$error":"#REF!"}},{"$f":"IF(#REF!=\"\", \"\",#REF!)","v":{"$error":"#REF!"}},{"$f":"IF(#REF!=\"\", \"\",#REF!)","v":{"$error":"#REF!"}},{"$f":"IF(#REF!=\"\", \"\",#REF!)","v":{"$error":"#REF!"}},{"$f":"IF(#REF!=\"\", \"\",#REF!)","v":{"$error":"#REF!"}},{"$f":"IF(#REF!=\"\", \"\",#REF!)","v":{"$error":"#REF!"}},{"$f":"IF(#REF!=\"\", \"\",#REF!)","v":{"$error":"#REF!"}},{"$f":"IF(#REF!=\"\", \"\",#REF!)","v":{"$error":"#REF!"}},{"$f":"IF(#REF!=\"\", \"\",#REF!)","v":{"$error":"#REF!"}},{"$f":"IF(#REF!=\"\", \"\",#REF!)","v":{"$error":"#REF!"}},{"$f":"IF(#REF!=\"\", \"\",#REF!)","v":{"$error":"#REF!"}},{"$f":"IF(#REF!=\"\", \"\",#REF!)","v":{"$error":"#REF!"}},{"$f":"IF(#REF!=\"\", \"\",#REF!)","v":{"$error":"#REF!"}},{"$f":"IF(#REF!=\"\", \"\",#REF!)","v":{"$error":"#REF!"}},{"$f":"IF(#REF!=\"\", \"\",#REF!)","v":{"$error":"#REF!"}},{"$f":"IF(#REF!=\"\", \"\",#REF!)","v":{"$error":"#REF!"}},{"$f":"IF(#REF!=\"\", \"\",#REF!)","v":{"$error":"#REF!"}},{"$f":"IF(#REF!=\"\", \"\",#REF!)","v":{"$error":"#REF!"}},{"$f":"IF(#REF!=\"\", \"\",#REF!)","v":{"$error":"#REF!"}},{"$f":"IF(#REF!=\"\", \"\",#REF!)","v":{"$error":"#REF!"}},{"$f":"IF(#REF!=\"\", \"\",#REF!)","v":{"$error":"#REF!"}},{"$f":"IF(#REF!=\"\", \"\",#REF!)","v":{"$error":"#REF!"}},{"$f":"IF(#REF!=\"\", \"\",#REF!)","v":{"$error":"#REF!"}},{"$f":"IF(#REF!=\"\", \"\",#REF!)","v":{"$error":"#REF!"}},{"$f":"IF(#REF!=\"\", \"\",#REF!)","v":{"$error":"#REF!"}},{"$f":"IF(#REF!=\"\", \"\",#REF!)","v":{"$error":"#REF!"}},{"$f":"IF(#REF!=\"\", \"\",#REF!)","v":{"$error":"#REF!"}},{"$f":"IF(#REF!=\"\", \"\",#REF!)","v":{"$error":"#REF!"}},{"$f":"IF(#REF!=\"\", \"\",#REF!)","v":{"$error":"#REF!"}},{"$f":"IF(#REF!=\"\", \"\",#REF!)","v":{"$error":"#REF!"}},{"$f":"IF(#REF!=\"\", \"\",#REF!)","v":{"$error":"#REF!"}},{"$f":"IF(#REF!=\"\", \"\",#REF!)","v":{"$error":"#REF!"}},{"$f":"IF(#REF!=\"\", \"\",#REF!)","v":{"$error":"#REF!"}},{"$f":"IF(#REF!=\"\", \"\",#REF!)","v":{"$error":"#REF!"}},{"$f":"IF(#REF!=\"\", \"\",#REF!)","v":{"$error":"#REF!"}},{"$f":"IF(#REF!=\"\", \"\",#REF!)","v":{"$error":"#REF!"}},{"$f":"IF(#REF!=\"\", \"\",#REF!)","v":{"$error":"#REF!"}},{"$f":"IF(#REF!=\"\", \"\",#REF!)","v":{"$error":"#REF!"}},{"$f":"IF(#REF!=\"\", \"\",#REF!)","v":{"$error":"#REF!"}},{"$f":"IF(#REF!=\"\", \"\",#REF!)","v":{"$error":"#REF!"}},{"$f":"IF(#REF!=\"\", \"\",#REF!)","v":{"$error":"#REF!"}},{"$f":"IF(#REF!=\"\", \"\",#REF!)","v":{"$error":"#REF!"}},{"$f":"IF(#REF!=\"\", \"\",#REF!)","v":{"$error":"#REF!"}},{"$f":"IF(#REF!=\"\", \"\",#REF!)","v":{"$error":"#REF!"}},{"$f":"IF(#REF!=\"\", \"\",#REF!)","v":{"$error":"#REF!"}},{"$f":"IF(#REF!=\"\", \"\",#REF!)","v":{"$error":"#REF!"}},{"$f":"IF(#REF!=\"\", \"\",#REF!)","v":{"$error":"#REF!"}},{"$f":"IF(#REF!=\"\", \"\",#REF!)","v":{"$error":"#REF!"}},{"$f":"IF(#REF!=\"\", \"\",#REF!)","v":{"$error":"#REF!"}},{"$f":"IF(#REF!=\"\", \"\",#REF!)","v":{"$error":"#REF!"}},{"$f":"IF(#REF!=\"\", \"\",#REF!)","v":{"$error":"#REF!"}}]
["Zusatzitem 56",{"$f":"IF(#REF!=\"\", \"\",#REF!)","v":{"$error":"#REF!"}},{"$f":"IF(#REF!=\"\", \"\",#REF!)","v":{"$error":"#REF!"}},{"$f":"IF(#REF!=\"\", \"\",#REF!)","v":{"$error":"#REF!"}},{"$f":"IF(#REF!=\"\", \"\",#REF!)","v":{"$error":"#REF!"}},{"$f":"IF(#REF!=\"\", \"\",#REF!)","v":{"$error":"#REF!"}},{"$f":"IF(#REF!=\"\", \"\",#REF!)","v":{"$error":"#REF!"}},{"$f":"IF(#REF!=\"\", \"\",#REF!)","v":{"$error":"#REF!"}},{"$f":"IF(#REF!=\"\", \"\",#REF!)","v":{"$error":"#REF!"}},{"$f":"IF(#REF!=\"\", \"\",#REF!)","v":{"$error":"#REF!"}},{"$f":"IF(#REF!=\"\", \"\",#REF!)","v":{"$error":"#REF!"}},{"$f":"IF(#REF!=\"\", \"\",#REF!)","v":{"$error":"#REF!"}},{"$f":"IF(#REF!=\"\", \"\",#REF!)","v":{"$error":"#REF!"}},{"$f":"IF(#REF!=\"\", \"\",#REF!)","v":{"$error":"#REF!"}},{"$f":"IF(#REF!=\"\", \"\",#REF!)","v":{"$error":"#REF!"}},{"$f":"IF(#REF!=\"\", \"\",#REF!)","v":{"$error":"#REF!"}},{"$f":"IF(#REF!=\"\", \"\",#REF!)","v":{"$error":"#REF!"}},{"$f":"IF(#REF!=\"\", \"\",#REF!)","v":{"$error":"#REF!"}},{"$f":"IF(#REF!=\"\", \"\",#REF!)","v":{"$error":"#REF!"}},{"$f":"IF(#REF!=\"\", \"\",#REF!)","v":{"$error":"#REF!"}},{"$f":"IF(#REF!=\"\", \"\",#REF!)","v":{"$error":"#REF!"}},{"$f":"IF(#REF!=\"\", \"\",#REF!)","v":{"$error":"#REF!"}},{"$f":"IF(#REF!=\"\", \"\",#REF!)","v":{"$error":"#REF!"}},{"$f":"IF(#REF!=\"\", \"\",#REF!)","v":{"$error":"#REF!"}},{"$f":"IF(#REF!=\"\", \"\",#REF!)","v":{"$error":"#REF!"}},{"$f":"IF(#REF!=\"\", \"\",#REF!)","v":{"$error":"#REF!"}},{"$f":"IF(#REF!=\"\", \"\",#REF!)","v":{"$error":"#REF!"}},{"$f":"IF(#REF!=\"\", \"\",#REF!)","v":{"$error":"#REF!"}},{"$f":"IF(#REF!=\"\", \"\",#REF!)","v":{"$error":"#REF!"}},{"$f":"IF(#REF!=\"\", \"\",#REF!)","v":{"$error":"#REF!"}},{"$f":"IF(#REF!=\"\", \"\",#REF!)","v":{"$error":"#REF!"}},{"$f":"IF(#REF!=\"\", \"\",#REF!)","v":{"$error":"#REF!"}},{"$f":"IF(#REF!=\"\", \"\",#REF!)","v":{"$error":"#REF!"}},{"$f":"IF(#REF!=\"\", \"\",#REF!)","v":{"$error":"#REF!"}},{"$f":"IF(#REF!=\"\", \"\",#REF!)","v":{"$error":"#REF!"}},{"$f":"IF(#REF!=\"\", \"\",#REF!)","v":{"$error":"#REF!"}},{"$f":"IF(#REF!=\"\", \"\",#REF!)","v":{"$error":"#REF!"}},{"$f":"IF(#REF!=\"\", \"\",#REF!)","v":{"$error":"#REF!"}},{"$f":"IF(#REF!=\"\", \"\",#REF!)","v":{"$error":"#REF!"}},{"$f":"IF(#REF!=\"\", \"\",#REF!)","v":{"$error":"#REF!"}},{"$f":"IF(#REF!=\"\", \"\",#REF!)","v":{"$error":"#REF!"}},{"$f":"IF(#REF!=\"\", \"\",#REF!)","v":{"$error":"#REF!"}},{"$f":"IF(#REF!=\"\", \"\",#REF!)","v":{"$error":"#REF!"}},{"$f":"IF(#REF!=\"\", \"\",#REF!)","v":{"$error":"#REF!"}},{"$f":"IF(#REF!=\"\", \"\",#REF!)","v":{"$error":"#REF!"}},{"$f":"IF(#REF!=\"\", \"\",#REF!)","v":{"$error":"#REF!"}},{"$f":"IF(#REF!=\"\", \"\",#REF!)","v":{"$error":"#REF!"}},{"$f":"IF(#REF!=\"\", \"\",#REF!)","v":{"$error":"#REF!"}},{"$f":"IF(#REF!=\"\", \"\",#REF!)","v":{"$error":"#REF!"}},{"$f":"IF(#REF!=\"\", \"\",#REF!)","v":{"$error":"#REF!"}},{"$f":"IF(#REF!=\"\", \"\",#REF!)","v":{"$error":"#REF!"}},{"$f":"IF(#REF!=\"\", \"\",#REF!)","v":{"$error":"#REF!"}},{"$f":"IF(#REF!=\"\", \"\",#REF!)","v":{"$error":"#REF!"}},{"$f":"IF(#REF!=\"\", \"\",#REF!)","v":{"$error":"#REF!"}},{"$f":"IF(#REF!=\"\", \"\",#REF!)","v":{"$error":"#REF!"}},{"$f":"IF(#REF!=\"\", \"\",#REF!)","v":{"$error":"#REF!"}},{"$f":"IF(#REF!=\"\", \"\",#REF!)","v":{"$error":"#REF!"}},{"$f":"IF(#REF!=\"\", \"\",#REF!)","v":{"$error":"#REF!"}},{"$f":"IF(#REF!=\"\", \"\",#REF!)","v":{"$error":"#REF!"}},{"$f":"IF(#REF!=\"\", \"\",#REF!)","v":{"$error":"#REF!"}},{"$f":"IF(#REF!=\"\", \"\",#REF!)","v":{"$error":"#REF!"}},{"$f":"IF(#REF!=\"\", \"\",#REF!)","v":{"$error":"#REF!"}}]
["Zusatzitem 57",{"$f":"IF(#REF!=\"\", \"\",#REF!)","v":{"$error":"#REF!"}},{"$f":"IF(#REF!=\"\", \"\",#REF!)","v":{"$error":"#REF!"}},{"$f":"IF(#REF!=\"\", \"\",#REF!)","v":{"$error":"#REF!"}},{"$f":"IF(#REF!=\"\", \"\",#REF!)","v":{"$error":"#REF!"}},{"$f":"IF(#REF!=\"\", \"\",#REF!)","v":{"$error":"#REF!"}},{"$f":"IF(#REF!=\"\", \"\",#REF!)","v":{"$error":"#REF!"}},{"$f":"IF(#REF!=\"\", \"\",#REF!)","v":{"$error":"#REF!"}},{"$f":"IF(#REF!=\"\", \"\",#REF!)","v":{"$error":"#REF!"}},{"$f":"IF(#REF!=\"\", \"\",#REF!)","v":{"$error":"#REF!"}},{"$f":"IF(#REF!=\"\", \"\",#REF!)","v":{"$error":"#REF!"}},{"$f":"IF(#REF!=\"\", \"\",#REF!)","v":{"$error":"#REF!"}},{"$f":"IF(#REF!=\"\", \"\",#REF!)","v":{"$error":"#REF!"}},{"$f":"IF(#REF!=\"\", \"\",#REF!)","v":{"$error":"#REF!"}},{"$f":"IF(#REF!=\"\", \"\",#REF!)","v":{"$error":"#REF!"}},{"$f":"IF(#REF!=\"\", \"\",#REF!)","v":{"$error":"#REF!"}},{"$f":"IF(#REF!=\"\", \"\",#REF!)","v":{"$error":"#REF!"}},{"$f":"IF(#REF!=\"\", \"\",#REF!)","v":{"$error":"#REF!"}},{"$f":"IF(#REF!=\"\", \"\",#REF!)","v":{"$error":"#REF!"}},{"$f":"IF(#REF!=\"\", \"\",#REF!)","v":{"$error":"#REF!"}},{"$f":"IF(#REF!=\"\", \"\",#REF!)","v":{"$error":"#REF!"}},{"$f":"IF(#REF!=\"\", \"\",#REF!)","v":{"$error":"#REF!"}},{"$f":"IF(#REF!=\"\", \"\",#REF!)","v":{"$error":"#REF!"}},{"$f":"IF(#REF!=\"\", \"\",#REF!)","v":{"$error":"#REF!"}},{"$f":"IF(#REF!=\"\", \"\",#REF!)","v":{"$error":"#REF!"}},{"$f":"IF(#REF!=\"\", \"\",#REF!)","v":{"$error":"#REF!"}},{"$f":"IF(#REF!=\"\", \"\",#REF!)","v":{"$error":"#REF!"}},{"$f":"IF(#REF!=\"\", \"\",#REF!)","v":{"$error":"#REF!"}},{"$f":"IF(#REF!=\"\", \"\",#REF!)","v":{"$error":"#REF!"}},{"$f":"IF(#REF!=\"\", \"\",#REF!)","v":{"$error":"#REF!"}},{"$f":"IF(#REF!=\"\", \"\",#REF!)","v":{"$error":"#REF!"}},{"$f":"IF(#REF!=\"\", \"\",#REF!)","v":{"$error":"#REF!"}},{"$f":"IF(#REF!=\"\", \"\",#REF!)","v":{"$error":"#REF!"}},{"$f":"IF(#REF!=\"\", \"\",#REF!)","v":{"$error":"#REF!"}},{"$f":"IF(#REF!=\"\", \"\",#REF!)","v":{"$error":"#REF!"}},{"$f":"IF(#REF!=\"\", \"\",#REF!)","v":{"$error":"#REF!"}},{"$f":"IF(#REF!=\"\", \"\",#REF!)","v":{"$error":"#REF!"}},{"$f":"IF(#REF!=\"\", \"\",#REF!)","v":{"$error":"#REF!"}},{"$f":"IF(#REF!=\"\", \"\",#REF!)","v":{"$error":"#REF!"}},{"$f":"IF(#REF!=\"\", \"\",#REF!)","v":{"$error":"#REF!"}},{"$f":"IF(#REF!=\"\", \"\",#REF!)","v":{"$error":"#REF!"}},{"$f":"IF(#REF!=\"\", \"\",#REF!)","v":{"$error":"#REF!"}},{"$f":"IF(#REF!=\"\", \"\",#REF!)","v":{"$error":"#REF!"}},{"$f":"IF(#REF!=\"\", \"\",#REF!)","v":{"$error":"#REF!"}},{"$f":"IF(#REF!=\"\", \"\",#REF!)","v":{"$error":"#REF!"}},{"$f":"IF(#REF!=\"\", \"\",#REF!)","v":{"$error":"#REF!"}},{"$f":"IF(#REF!=\"\", \"\",#REF!)","v":{"$error":"#REF!"}},{"$f":"IF(#REF!=\"\", \"\",#REF!)","v":{"$error":"#REF!"}},{"$f":"IF(#REF!=\"\", \"\",#REF!)","v":{"$error":"#REF!"}},{"$f":"IF(#REF!=\"\", \"\",#REF!)","v":{"$error":"#REF!"}},{"$f":"IF(#REF!=\"\", \"\",#REF!)","v":{"$error":"#REF!"}},{"$f":"IF(#REF!=\"\", \"\",#REF!)","v":{"$error":"#REF!"}},{"$f":"IF(#REF!=\"\", \"\",#REF!)","v":{"$error":"#REF!"}},{"$f":"IF(#REF!=\"\", \"\",#REF!)","v":{"$error":"#REF!"}},{"$f":"IF(#REF!=\"\", \"\",#REF!)","v":{"$error":"#REF!"}},{"$f":"IF(#REF!=\"\", \"\",#REF!)","v":{"$error":"#REF!"}},{"$f":"IF(#REF!=\"\", \"\",#REF!)","v":{"$error":"#REF!"}},{"$f":"IF(#REF!=\"\", \"\",#REF!)","v":{"$error":"#REF!"}},{"$f":"IF(#REF!=\"\", \"\",#REF!)","v":{"$error":"#REF!"}},{"$f":"IF(#REF!=\"\", \"\",#REF!)","v":{"$error":"#REF!"}},{"$f":"IF(#REF!=\"\", \"\",#REF!)","v":{"$error":"#REF!"}},{"$f":"IF(#REF!=\"\", \"\",#REF!)","v":{"$error":"#REF!"}}]
["Zusatzitem 58",{"$f":"IF(#REF!=\"\", \"\",#REF!)","v":{"$error":"#REF!"}},{"$f":"IF(#REF!=\"\", \"\",#REF!)","v":{"$error":"#REF!"}},{"$f":"IF(#REF!=\"\", \"\",#REF!)","v":{"$error":"#REF!"}},{"$f":"IF(#REF!=\"\", \"\",#REF!)","v":{"$error":"#REF!"}},{"$f":"IF(#REF!=\"\", \"\",#REF!)","v":{"$error":"#REF!"}},{"$f":"IF(#REF!=\"\", \"\",#REF!)","v":{"$error":"#REF!"}},{"$f":"IF(#REF!=\"\", \"\",#REF!)","v":{"$error":"#REF!"}},{"$f":"IF(#REF!=\"\", \"\",#REF!)","v":{"$error":"#REF!"}},{"$f":"IF(#REF!=\"\", \"\",#REF!)","v":{"$error":"#REF!"}},{"$f":"IF(#REF!=\"\", \"\",#REF!)","v":{"$error":"#REF!"}},{"$f":"IF(#REF!=\"\", \"\",#REF!)","v":{"$error":"#REF!"}},{"$f":"IF(#REF!=\"\", \"\",#REF!)","v":{"$error":"#REF!"}},{"$f":"IF(#REF!=\"\", \"\",#REF!)","v":{"$error":"#REF!"}},{"$f":"IF(#REF!=\"\", \"\",#REF!)","v":{"$error":"#REF!"}},{"$f":"IF(#REF!=\"\", \"\",#REF!)","v":{"$error":"#REF!"}},{"$f":"IF(#REF!=\"\", \"\",#REF!)","v":{"$error":"#REF!"}},{"$f":"IF(#REF!=\"\", \"\",#REF!)","v":{"$error":"#REF!"}},{"$f":"IF(#REF!=\"\", \"\",#REF!)","v":{"$error":"#REF!"}},{"$f":"IF(#REF!=\"\", \"\",#REF!)","v":{"$error":"#REF!"}},{"$f":"IF(#REF!=\"\", \"\",#REF!)","v":{"$error":"#REF!"}},{"$f":"IF(#REF!=\"\", \"\",#REF!)","v":{"$error":"#REF!"}},{"$f":"IF(#REF!=\"\", \"\",#REF!)","v":{"$error":"#REF!"}},{"$f":"IF(#REF!=\"\", \"\",#REF!)","v":{"$error":"#REF!"}},{"$f":"IF(#REF!=\"\", \"\",#REF!)","v":{"$error":"#REF!"}},{"$f":"IF(#REF!=\"\", \"\",#REF!)","v":{"$error":"#REF!"}},{"$f":"IF(#REF!=\"\", \"\",#REF!)","v":{"$error":"#REF!"}},{"$f":"IF(#REF!=\"\", \"\",#REF!)","v":{"$error":"#REF!"}},{"$f":"IF(#REF!=\"\", \"\",#REF!)","v":{"$error":"#REF!"}},{"$f":"IF(#REF!=\"\", \"\",#REF!)","v":{"$error":"#REF!"}},{"$f":"IF(#REF!=\"\", \"\",#REF!)","v":{"$error":"#REF!"}},{"$f":"IF(#REF!=\"\", \"\",#REF!)","v":{"$error":"#REF!"}},{"$f":"IF(#REF!=\"\", \"\",#REF!)","v":{"$error":"#REF!"}},{"$f":"IF(#REF!=\"\", \"\",#REF!)","v":{"$error":"#REF!"}},{"$f":"IF(#REF!=\"\", \"\",#REF!)","v":{"$error":"#REF!"}},{"$f":"IF(#REF!=\"\", \"\",#REF!)","v":{"$error":"#REF!"}},{"$f":"IF(#REF!=\"\", \"\",#REF!)","v":{"$error":"#REF!"}},{"$f":"IF(#REF!=\"\", \"\",#REF!)","v":{"$error":"#REF!"}},{"$f":"IF(#REF!=\"\", \"\",#REF!)","v":{"$error":"#REF!"}},{"$f":"IF(#REF!=\"\", \"\",#REF!)","v":{"$error":"#REF!"}},{"$f":"IF(#REF!=\"\", \"\",#REF!)","v":{"$error":"#REF!"}},{"$f":"IF(#REF!=\"\", \"\",#REF!)","v":{"$error":"#REF!"}},{"$f":"IF(#REF!=\"\", \"\",#REF!)","v":{"$error":"#REF!"}},{"$f":"IF(#REF!=\"\", \"\",#REF!)","v":{"$error":"#REF!"}},{"$f":"IF(#REF!=\"\", \"\",#REF!)","v":{"$error":"#REF!"}},{"$f":"IF(#REF!=\"\", \"\",#REF!)","v":{"$error":"#REF!"}},{"$f":"IF(#REF!=\"\", \"\",#REF!)","v":{"$error":"#REF!"}},{"$f":"IF(#REF!=\"\", \"\",#REF!)","v":{"$error":"#REF!"}},{"$f":"IF(#REF!=\"\", \"\",#REF!)","v":{"$error":"#REF!"}},{"$f":"IF(#REF!=\"\", \"\",#REF!)","v":{"$error":"#REF!"}},{"$f":"IF(#REF!=\"\", \"\",#REF!)","v":{"$error":"#REF!"}},{"$f":"IF(#REF!=\"\", \"\",#REF!)","v":{"$error":"#REF!"}},{"$f":"IF(#REF!=\"\", \"\",#REF!)","v":{"$error":"#REF!"}},{"$f":"IF(#REF!=\"\", \"\",#REF!)","v":{"$error":"#REF!"}},{"$f":"IF(#REF!=\"\", \"\",#REF!)","v":{"$error":"#REF!"}},{"$f":"IF(#REF!=\"\", \"\",#REF!)","v":{"$error":"#REF!"}},{"$f":"IF(#REF!=\"\", \"\",#REF!)","v":{"$error":"#REF!"}},{"$f":"IF(#REF!=\"\", \"\",#REF!)","v":{"$error":"#REF!"}},{"$f":"IF(#REF!=\"\", \"\",#REF!)","v":{"$error":"#REF!"}},{"$f":"IF(#REF!=\"\", \"\",#REF!)","v":{"$error":"#REF!"}},{"$f":"IF(#REF!=\"\", \"\",#REF!)","v":{"$error":"#REF!"}},{"$f":"IF(#REF!=\"\", \"\",#REF!)","v":{"$error":"#REF!"}}]
["Zusatzitem 59",{"$f":"IF(#REF!=\"\", \"\",#REF!)","v":{"$error":"#REF!"}},{"$f":"IF(#REF!=\"\", \"\",#REF!)","v":{"$error":"#REF!"}},{"$f":"IF(#REF!=\"\", \"\",#REF!)","v":{"$error":"#REF!"}},{"$f":"IF(#REF!=\"\", \"\",#REF!)","v":{"$error":"#REF!"}},{"$f":"IF(#REF!=\"\", \"\",#REF!)","v":{"$error":"#REF!"}},{"$f":"IF(#REF!=\"\", \"\",#REF!)","v":{"$error":"#REF!"}},{"$f":"IF(#REF!=\"\", \"\",#REF!)","v":{"$error":"#REF!"}},{"$f":"IF(#REF!=\"\", \"\",#REF!)","v":{"$error":"#REF!"}},{"$f":"IF(#REF!=\"\", \"\",#REF!)","v":{"$error":"#REF!"}},{"$f":"IF(#REF!=\"\", \"\",#REF!)","v":{"$error":"#REF!"}},{"$f":"IF(#REF!=\"\", \"\",#REF!)","v":{"$error":"#REF!"}},{"$f":"IF(#REF!=\"\", \"\",#REF!)","v":{"$error":"#REF!"}},{"$f":"IF(#REF!=\"\", \"\",#REF!)","v":{"$error":"#REF!"}},{"$f":"IF(#REF!=\"\", \"\",#REF!)","v":{"$error":"#REF!"}},{"$f":"IF(#REF!=\"\", \"\",#REF!)","v":{"$error":"#REF!"}},{"$f":"IF(#REF!=\"\", \"\",#REF!)","v":{"$error":"#REF!"}},{"$f":"IF(#REF!=\"\", \"\",#REF!)","v":{"$error":"#REF!"}},{"$f":"IF(#REF!=\"\", \"\",#REF!)","v":{"$error":"#REF!"}},{"$f":"IF(#REF!=\"\", \"\",#REF!)","v":{"$error":"#REF!"}},{"$f":"IF(#REF!=\"\", \"\",#REF!)","v":{"$error":"#REF!"}},{"$f":"IF(#REF!=\"\", \"\",#REF!)","v":{"$error":"#REF!"}},{"$f":"IF(#REF!=\"\", \"\",#REF!)","v":{"$error":"#REF!"}},{"$f":"IF(#REF!=\"\", \"\",#REF!)","v":{"$error":"#REF!"}},{"$f":"IF(#REF!=\"\", \"\",#REF!)","v":{"$error":"#REF!"}},{"$f":"IF(#REF!=\"\", \"\",#REF!)","v":{"$error":"#REF!"}},{"$f":"IF(#REF!=\"\", \"\",#REF!)","v":{"$error":"#REF!"}},{"$f":"IF(#REF!=\"\", \"\",#REF!)","v":{"$error":"#REF!"}},{"$f":"IF(#REF!=\"\", \"\",#REF!)","v":{"$error":"#REF!"}},{"$f":"IF(#REF!=\"\", \"\",#REF!)","v":{"$error":"#REF!"}},{"$f":"IF(#REF!=\"\", \"\",#REF!)","v":{"$error":"#REF!"}},{"$f":"IF(#REF!=\"\", \"\",#REF!)","v":{"$error":"#REF!"}},{"$f":"IF(#REF!=\"\", \"\",#REF!)","v":{"$error":"#REF!"}},{"$f":"IF(#REF!=\"\", \"\",#REF!)","v":{"$error":"#REF!"}},{"$f":"IF(#REF!=\"\", \"\",#REF!)","v":{"$error":"#REF!"}},{"$f":"IF(#REF!=\"\", \"\",#REF!)","v":{"$error":"#REF!"}},{"$f":"IF(#REF!=\"\", \"\",#REF!)","v":{"$error":"#REF!"}},{"$f":"IF(#REF!=\"\", \"\",#REF!)","v":{"$error":"#REF!"}},{"$f":"IF(#REF!=\"\", \"\",#REF!)","v":{"$error":"#REF!"}},{"$f":"IF(#REF!=\"\", \"\",#REF!)","v":{"$error":"#REF!"}},{"$f":"IF(#REF!=\"\", \"\",#REF!)","v":{"$error":"#REF!"}},{"$f":"IF(#REF!=\"\", \"\",#REF!)","v":{"$error":"#REF!"}},{"$f":"IF(#REF!=\"\", \"\",#REF!)","v":{"$error":"#REF!"}},{"$f":"IF(#REF!=\"\", \"\",#REF!)","v":{"$error":"#REF!"}},{"$f":"IF(#REF!=\"\", \"\",#REF!)","v":{"$error":"#REF!"}},{"$f":"IF(#REF!=\"\", \"\",#REF!)","v":{"$error":"#REF!"}},{"$f":"IF(#REF!=\"\", \"\",#REF!)","v":{"$error":"#REF!"}},{"$f":"IF(#REF!=\"\", \"\",#REF!)","v":{"$error":"#REF!"}},{"$f":"IF(#REF!=\"\", \"\",#REF!)","v":{"$error":"#REF!"}},{"$f":"IF(#REF!=\"\", \"\",#REF!)","v":{"$error":"#REF!"}},{"$f":"IF(#REF!=\"\", \"\",#REF!)","v":{"$error":"#REF!"}},{"$f":"IF(#REF!=\"\", \"\",#REF!)","v":{"$error":"#REF!"}},{"$f":"IF(#REF!=\"\", \"\",#REF!)","v":{"$error":"#REF!"}},{"$f":"IF(#REF!=\"\", \"\",#REF!)","v":{"$error":"#REF!"}},{"$f":"IF(#REF!=\"\", \"\",#REF!)","v":{"$error":"#REF!"}},{"$f":"IF(#REF!=\"\", \"\",#REF!)","v":{"$error":"#REF!"}},{"$f":"IF(#REF!=\"\", \"\",#REF!)","v":{"$error":"#REF!"}},{"$f":"IF(#REF!=\"\", \"\",#REF!)","v":{"$error":"#REF!"}},{"$f":"IF(#REF!=\"\", \"\",#REF!)","v":{"$error":"#REF!"}},{"$f":"IF(#REF!=\"\", \"\",#REF!)","v":{"$error":"#REF!"}},{"$f":"IF(#REF!=\"\", \"\",#REF!)","v":{"$error":"#REF!"}},{"$f":"IF(#REF!=\"\", \"\",#REF!)","v":{"$error":"#REF!"}}]
["Zusatzitem 60",{"$f":"IF(#REF!=\"\", \"\",#REF!)","v":{"$error":"#REF!"}},{"$f":"IF(#REF!=\"\", \"\",#REF!)","v":{"$error":"#REF!"}},{"$f":"IF(#REF!=\"\", \"\",#REF!)","v":{"$error":"#REF!"}},{"$f":"IF(#REF!=\"\", \"\",#REF!)","v":{"$error":"#REF!"}},{"$f":"IF(#REF!=\"\", \"\",#REF!)","v":{"$error":"#REF!"}},{"$f":"IF(#REF!=\"\", \"\",#REF!)","v":{"$error":"#REF!"}},{"$f":"IF(#REF!=\"\", \"\",#REF!)","v":{"$error":"#REF!"}},{"$f":"IF(#REF!=\"\", \"\",#REF!)","v":{"$error":"#REF!"}},{"$f":"IF(#REF!=\"\", \"\",#REF!)","v":{"$error":"#REF!"}},{"$f":"IF(#REF!=\"\", \"\",#REF!)","v":{"$error":"#REF!"}},{"$f":"IF(#REF!=\"\", \"\",#REF!)","v":{"$error":"#REF!"}},{"$f":"IF(#REF!=\"\", \"\",#REF!)","v":{"$error":"#REF!"}},{"$f":"IF(#REF!=\"\", \"\",#REF!)","v":{"$error":"#REF!"}},{"$f":"IF(#REF!=\"\", \"\",#REF!)","v":{"$error":"#REF!"}},{"$f":"IF(#REF!=\"\", \"\",#REF!)","v":{"$error":"#REF!"}},{"$f":"IF(#REF!=\"\", \"\",#REF!)","v":{"$error":"#REF!"}},{"$f":"IF(#REF!=\"\", \"\",#REF!)","v":{"$error":"#REF!"}},{"$f":"IF(#REF!=\"\", \"\",#REF!)","v":{"$error":"#REF!"}},{"$f":"IF(#REF!=\"\", \"\",#REF!)","v":{"$error":"#REF!"}},{"$f":"IF(#REF!=\"\", \"\",#REF!)","v":{"$error":"#REF!"}},{"$f":"IF(#REF!=\"\", \"\",#REF!)","v":{"$error":"#REF!"}},{"$f":"IF(#REF!=\"\", \"\",#REF!)","v":{"$error":"#REF!"}},{"$f":"IF(#REF!=\"\", \"\",#REF!)","v":{"$error":"#REF!"}},{"$f":"IF(#REF!=\"\", \"\",#REF!)","v":{"$error":"#REF!"}},{"$f":"IF(#REF!=\"\", \"\",#REF!)","v":{"$error":"#REF!"}},{"$f":"IF(#REF!=\"\", \"\",#REF!)","v":{"$error":"#REF!"}},{"$f":"IF(#REF!=\"\", \"\",#REF!)","v":{"$error":"#REF!"}},{"$f":"IF(#REF!=\"\", \"\",#REF!)","v":{"$error":"#REF!"}},{"$f":"IF(#REF!=\"\", \"\",#REF!)","v":{"$error":"#REF!"}},{"$f":"IF(#REF!=\"\", \"\",#REF!)","v":{"$error":"#REF!"}},{"$f":"IF(#REF!=\"\", \"\",#REF!)","v":{"$error":"#REF!"}},{"$f":"IF(#REF!=\"\", \"\",#REF!)","v":{"$error":"#REF!"}},{"$f":"IF(#REF!=\"\", \"\",#REF!)","v":{"$error":"#REF!"}},{"$f":"IF(#REF!=\"\", \"\",#REF!)","v":{"$error":"#REF!"}},{"$f":"IF(#REF!=\"\", \"\",#REF!)","v":{"$error":"#REF!"}},{"$f":"IF(#REF!=\"\", \"\",#REF!)","v":{"$error":"#REF!"}},{"$f":"IF(#REF!=\"\", \"\",#REF!)","v":{"$error":"#REF!"}},{"$f":"IF(#REF!=\"\", \"\",#REF!)","v":{"$error":"#REF!"}},{"$f":"IF(#REF!=\"\", \"\",#REF!)","v":{"$error":"#REF!"}},{"$f":"IF(#REF!=\"\", \"\",#REF!)","v":{"$error":"#REF!"}},{"$f":"IF(#REF!=\"\", \"\",#REF!)","v":{"$error":"#REF!"}},{"$f":"IF(#REF!=\"\", \"\",#REF!)","v":{"$error":"#REF!"}},{"$f":"IF(#REF!=\"\", \"\",#REF!)","v":{"$error":"#REF!"}},{"$f":"IF(#REF!=\"\", \"\",#REF!)","v":{"$error":"#REF!"}},{"$f":"IF(#REF!=\"\", \"\",#REF!)","v":{"$error":"#REF!"}},{"$f":"IF(#REF!=\"\", \"\",#REF!)","v":{"$error":"#REF!"}},{"$f":"IF(#REF!=\"\", \"\",#REF!)","v":{"$error":"#REF!"}},{"$f":"IF(#REF!=\"\", \"\",#REF!)","v":{"$error":"#REF!"}},{"$f":"IF(#REF!=\"\", \"\",#REF!)","v":{"$error":"#REF!"}},{"$f":"IF(#REF!=\"\", \"\",#REF!)","v":{"$error":"#REF!"}},{"$f":"IF(#REF!=\"\", \"\",#REF!)","v":{"$error":"#REF!"}},{"$f":"IF(#REF!=\"\", \"\",#REF!)","v":{"$error":"#REF!"}},{"$f":"IF(#REF!=\"\", \"\",#REF!)","v":{"$error":"#REF!"}},{"$f":"IF(#REF!=\"\", \"\",#REF!)","v":{"$error":"#REF!"}},{"$f":"IF(#REF!=\"\", \"\",#REF!)","v":{"$error":"#REF!"}},{"$f":"IF(#REF!=\"\", \"\",#REF!)","v":{"$error":"#REF!"}},{"$f":"IF(#REF!=\"\", \"\",#REF!)","v":{"$error":"#REF!"}},{"$f":"IF(#REF!=\"\", \"\",#REF!)","v":{"$error":"#REF!"}},{"$f":"IF(#REF!=\"\", \"\",#REF!)","v":{"$error":"#REF!"}},{"$f":"IF(#REF!=\"\", \"\",#REF!)","v":{"$error":"#REF!"}},{"$f":"IF(#REF!=\"\", \"\",#REF!)","v":{"$error":"#REF!"}}]
[]
["N",{"$f":"COUNT(B3:B88)","v":0},0,0,0,0,0,0,0,0,0,0,0,0,0,0,0,0,0,0,0,0,0,0,0,0,0,0,0,0,0,0,0,{"$f":"COUNT(AH3:AH88)","v":0},0,0,0,0,0,0,0,0,0,0,0,0,0,0,0,0,0,0,0,0,0,0,0,0,0,0,0,0]
["ID",{"$f":"B2","v":{"$error":"#REF!"}},{"$f":"C2","v":{"$error":"#REF!"}},{"$error":"#REF!"},{"$error":"#REF!"},{"$error":"#REF!"},{"$error":"#REF!"},{"$error":"#REF!"},{"$error":"#REF!"},{"$error":"#REF!"},{"$error":"#REF!"},{"$error":"#REF!"},{"$error":"#REF!"},{"$error":"#REF!"},{"$error":"#REF!"},{"$error":"#REF!"},{"$error":"#REF!"},{"$error":"#REF!"},{"$error":"#REF!"},{"$error":"#REF!"},{"$error":"#REF!"},{"$error":"#REF!"},{"$error":"#REF!"},{"$error":"#REF!"},{"$error":"#REF!"},{"$error":"#REF!"},{"$error":"#REF!"},{"$error":"#REF!"},{"$error":"#REF!"},{"$error":"#REF!"},{"$error":"#REF!"},{"$error":"#REF!"},{"$error":"#REF!"},{"$error":"#REF!"},{"$error":"#REF!"},{"$error":"#REF!"},{"$error":"#REF!"},{"$error":"#REF!"},{"$error":"#REF!"},{"$error":"#REF!"},{"$error":"#REF!"},{"$error":"#REF!"},{"$error":"#REF!"},{"$error":"#REF!"},{"$error":"#REF!"},{"$error":"#REF!"},{"$error":"#REF!"},{"$error":"#REF!"},{"$error":"#REF!"},{"$error":"#REF!"},{"$error":"#REF!"},{"$error":"#REF!"},{"$error":"#REF!"},{"$error":"#REF!"},{"$error":"#REF!"},{"$error":"#REF!"},{"$error":"#REF!"},{"$error":"#REF!"},{"$error":"#REF!"},{"$error":"#REF!"},{"$error":"#REF!"},{"$error":"#REF!"}]
["MW",{"$f":"IF(B91=0, \"\", AVERAGE(B3:B89))","v":""},"","","","","","","","","","","","","","","","","","","","","","","","","","","","","","","",{"$f":"IF(AH91=0, \"\", AVERAGE(AH3:AH89))","v":""},"","","","","","","","","","","","","","","","","","","","","","","","","","","",""]
[null,"",""]
[null,"ID","MW"]
[null,"Kollege2",2.5]
[null,"Kollege1",2.75]
[null,"Lehrer",3.75]
[null,"",""]
[null,"",""]
[null,"",""]
[null,"",""]
[null,"",""]
[null,"",""]
[null,"",""]
[null,"",""]
[null,"",""]
[null,"",""]
[null,"",""]
[null,"",""]
[null,"",""]
[null,"",""]
[null,"",""]
[null,"",""]
[null,"",""]
[null,"",""]
[null,"",""]
[null,"",""]
[null,"",""]
[null,"",""]
[null,"",""]
[null,"",""]
[null,"",""]
[null,"",""]
[null,"",""]
[null,"",""]
[null,"",""]
[null,"",""]
[null,"",""]
[null,"",""]
[null,"",""]
[null,"",""]
[null,"",""]
[null,"",""]
[null,"",""]
[null,"",""]
[null,"",""]
[null,"",""]
[null,"",""]
[null,"",""]
[null,"",""]
[null,"",""]
[null,"",""]
[null,"",""]
[null,"",""]
[null,"",""]
[null,"",""]
[null,"",""]
[null,"",""]
[null,"",""]
[null,"",""]
[null,"",""]
[null,"",""]
[null,"",""]
[null,"",""]
[null,"",""]

{"sheet":"AB) Daten","index":36,"n_rows":161,"n_cols":11,"rows_kept":161,"cut":false,"hidden":true,"merged":[[97,0,97,5],[97,6,97,8],[98,6,98,7],[98,0,98,1],[98,2,98,3],[98,4,98,5],[96,0,96,5],[0,9,0,10],[0,1,0,2],[0,3,0,4],[0,5,0,6],[0,7,0,8]]}
["Itemnr.","M-Schüler",null,"SD-Schüler",null,"M-Kollegen",null,"SD-Kollegen",null,"Lehrer-Urteil"]
[null,"A","B","A","B","A","B","A","B","A","B"]
[1,{"$f":"'A) Daten'!B4","v":{"$error":"#N/A"}},{"$f":"#REF!","v":{"$error":"#REF!"}},{"$f":"'A) Daten'!C4","v":{"$error":"#N/A"}},{"$f":"#REF!","v":{"$error":"#REF!"}},{"$f":"'A) Daten'!K3","v":{"$error":"#N/A"}},{"$f":"#REF!","v":{"$error":"#REF!"}},{"$f":"'A) Daten'!L3","v":{"$error":"#N/A"}},{"$f":"#REF!","v":{"$error":"#REF!"}},{"$f":"'A) Daten'!J4","v":{"$error":"#N/A"}},{"$f":"#REF!","v":{"$error":"#REF!"}}]
[2,{"$f":"'A) Daten'!B5","v":{"$error":"#N/A"}},{"$f":"#REF!","v":{"$error":"#REF!"}},{"$f":"'A) Daten'!C5","v":{"$error":"#N/A"}},{"$f":"#REF!","v":{"$error":"#REF!"}},{"$f":"'A) Daten'!K4","v":{"$error":"#N/A"}},{"$f":"#REF!","v":{"$error":"#REF!"}},{"$f":"'A) Daten'!L4","v":{"$error":"#N/A"}},{"$f":"#REF!","v":{"$error":"#REF!"}},{"$f":"'A) Daten'!J5","v":{"$error":"#N/A"}},{"$f":"#REF!","v":{"$error":"#REF!"}}]
[3,{"$f":"'A) Daten'!B6","v":{"$error":"#N/A"}},{"$f":"#REF!","v":{"$error":"#REF!"}},{"$f":"'A) Daten'!C6","v":{"$error":"#N/A"}},{"$f":"#REF!","v":{"$error":"#REF!"}},{"$f":"'A) Daten'!K5","v":{"$error":"#N/A"}},{"$f":"#REF!","v":{"$error":"#REF!"}},{"$f":"'A) Daten'!L5","v":{"$error":"#N/A"}},{"$f":"#REF!","v":{"$error":"#REF!"}},{"$f":"'A) Daten'!J6","v":{"$error":"#N/A"}},{"$f":"#REF!","v":{"$error":"#REF!"}}]
[4,{"$f":"'A) Daten'!B7","v":{"$error":"#N/A"}},{"$f":"#REF!","v":{"$error":"#REF!"}},{"$f":"'A) Daten'!C7","v":{"$error":"#N/A"}},{"$f":"#REF!","v":{"$error":"#REF!"}},{"$f":"'A) Daten'!K6","v":{"$error":"#N/A"}},{"$f":"#REF!","v":{"$error":"#REF!"}},{"$f":"'A) Daten'!L6","v":{"$error":"#N/A"}},{"$f":"#REF!","v":{"$error":"#REF!"}},{"$f":"'A) Daten'!J7","v":{"$error":"#N/A"}},{"$f":"#REF!","v":{"$error":"#REF!"}}]
[5,{"$f":"'A) Daten'!B8","v":{"$error":"#N/A"}},{"$f":"#REF!","v":{"$error":"#REF!"}},{"$f":"'A) Daten'!C8","v":{"$error":"#N/A"}},{"$f":"#REF!","v":{"$error":"#REF!"}},{"$f":"'A) Daten'!K7","v":{"$error":"#N/A"}},{"$f":"#REF!","v":{"$error":"#REF!"}},{"$f":"'A) Daten'!L7","v":{"$error":"#N/A"}},{"$f":"#REF!","v":{"$error":"#REF!"}},{"$f":"'A) Daten'!J8","v":{"$error":"#N/A"}},{"$f":"#REF!","v":{"$error":"#REF!"}}]
[6,{"$f":"'A) Daten'!B9","v":{"$error":"#N/A"}},{"$f":"#REF!","v":{"$error":"#REF!"}},{"$f":"'A) Daten'!C9","v":{"$error":"#N/A"}},{"$f":"#REF!","v":{"$error":"#REF!"}},{"$f":"'A) Daten'!K8","v":{"$error":"#N/A"}},{"$f":"#REF!","v":{"$error":"#REF!"}},{"$f":"'A) Daten'!L8","v":{"$error":"#N/A"}},{"$f":"#REF!","v":{"$error":"#REF!"}},{"$f":"'A) Daten'!J9","v":{"$error":"#N/A"}},{"$f":"#REF!","v":{"$error":"#REF!"}}]
[7,{"$f":"'A) Daten'!B10","v":{"$error":"#N/A"}},{"$f":"#REF!","v":{"$error":"#REF!"}},{"$f":"'A) Daten'!C10","v":{"$error":"#N/A"}},{"$f":"#REF!","v":{"$error":"#REF!"}},{"$f":"'A) Daten'!K9","v":{"$error":"#N/A"}},{"$f":"#REF!","v":{"$error":"#REF!"}},{"$f":"'A) Daten'!L9","v":{"$error":"#N/A"}},{"$f":"#REF!","v":{"$error":"#REF!"}},{"$f":"'A) Daten'!J10","v":{"$error":"#N/A"}},{"$f":"#REF!","v":{"$error":"#REF!"}}]
[8,{"$f":"'A) Daten'!B11","v":{"$error":"#N/A"}},{"$f":"#REF!","v":{"$error":"#REF!"}},{"$f":"'A) Daten'!C11","v":{"$error":"#N/A"}},{"$f":"#REF!","v":{"$error":"#REF!"}},{"$f":"'A) Daten'!K10","v":{"$error":"#N/A"}},{"$f":"#REF!","v":{"$error":"#REF!"}},{"$f":"'A) Daten'!L10","v":{"$error":"#N/A"}},{"$f":"#REF!","v":{"$error":"#REF!"}},{"$f":"'A) Daten'!J11","v":{"$error":"#N/A"}},{"$f":"#REF!","v":{"$error":"#REF!"}}]
[9,{"$f":"'A) Daten'!B12","v":{"$error":"#N/A"}},{"$f":"#REF!","v":{"$error":"#REF!"}},{"$f":"'A) Daten'!C12","v":{"$error":"#N/A"}},{"$f":"#REF!","v":{"$error":"#REF!"}},{"$f":"'A) Daten'!K11","v":{"$error":"#N/A"}},{"$f":"#REF!","v":{"$error":"#REF!"}},{"$f":"'A) Daten'!L11","v":{"$error":"#N/A"}},{"$f":"#REF!","v":{"$error":"#REF!"}},{"$f":"'A) Daten'!J12","v":{"$error":"#N/A"}},{"$f":"#REF!","v":{"$error":"#REF!"}}]
[10,{"$f":"'A) Daten'!B13","v":{"$error":"#N/A"}},{"$f":"#REF!","v":{"$error":"#REF!"}},{"$f":"'A) Daten'!C13","v":{"$error":"#N/A"}},{"$f":"#REF!","v":{"$error":"#REF!"}},{"$f":"'A) Daten'!K12","v":{"$error":"#N/A"}},{"$f":"#REF!","v":{"$error":"#REF!"}},{"$f":"'A) Daten'!L12","v":{"$error":"#N/A"}},{"$f":"#REF!","v":{"$error":"#REF!"}},{"$f":"'A) Daten'!J13","v":{"$error":"#N/A"}},{"$f":"#REF!","v":{"$error":"#REF!"}}]
[11,{"$f":"'A) Daten'!B14","v":{"$error":"#N/A"}},{"$f":"#REF!","v":{"$error":"#REF!"}},{"$f":"'A) Daten'!C14","v":{"$error":"#N/A"}},{"$f":"#REF!","v":{"$error":"#REF!"}},{"$f":"'A) Daten'!K13","v":{"$error":"#N/A"}},{"$f":"#REF!","v":{"$error":"#REF!"}},{"$f":"'A) Daten'!L13","v":{"$error":"#N/A"}},{"$f":"#REF!","v":{"$error":"#REF!"}},{"$f":"'A) Daten'!J14","v":{"$error":"#N/A"}},{"$f":"#REF!","v":{"$error":"#REF!"}}]
[12,{"$f":"'A) Daten'!B15","v":{"$error":"#N/A"}},{"$f":"#REF!","v":{"$error":"#REF!"}},{"$f":"'A) Daten'!C15","v":{"$error":"#N/A"}},{"$f":"#REF!","v":{"$error":"#REF!"}},{"$f":"'A) Daten'!K14","v":{"$error":"#N/A"}},{"$f":"#REF!","v":{"$error":"#REF!"}},{"$f":"'A) Daten'!L14","v":{"$error":"#N/A"}},{"$f":"#REF!","v":{"$error":"#REF!"}},{"$f":"'A) Daten'!J15","v":{"$error":"#N/A"}},{"$f":"#REF!","v":{"$error":"#REF!"}}]
[13,{"$f":"'A) Daten'!B16","v":{"$error":"#N/A"}},{"$f":"#REF!","v":{"$error":"#REF!"}},{"$f":"'A) Daten'!C16","v":{"$error":"#N/A"}},{"$f":"#REF!","v":{"$error":"#REF!"}},{"$f":"'A) Daten'!K15","v":{"$error":"#N/A"}},{"$f":"#REF!","v":{"$error":"#REF!"}},{"$f":"'A) Daten'!L15","v":{"$error":"#N/A"}},{"$f":"#REF!","v":{"$error":"#REF!"}},{"$f":"'A) Daten'!J16","v":{"$error":"#N/A"}},{"$f":"#REF!","v":{"$error":"#REF!"}}]
[14,{"$f":"'A) Daten'!B17","v":{"$error":"#N/A"}},{"$f":"#REF!","v":{"$error":"#REF!"}},{"$f":"'A) Daten'!C17","v":{"$error":"#N/A"}},{"$f":"#REF!","v":{"$error":"#REF!"}},{"$f":"'A) Daten'!K16","v":{"$error":"#N/A"}},{"$f":"#REF!","v":{"$error":"#REF!"}},{"$f":"'A) Daten'!L16","v":{"$error":"#N/A"}},{"$f":"#REF!","v":{"$error":"#REF!"}},{"$f":"'A) Daten'!J17","v":{"$error":"#N/A"}},{"$f":"#REF!","v":{"$error":"#REF!"}}]
[15,{"$f":"'A) Daten'!B18","v":{"$error":"#N/A"}},{"$f":"#REF!","v":{"$error":"#REF!"}},{"$f":"'A) Daten'!C18","v":{"$error":"#N/A"}},{"$f":"#REF!","v":{"$error":"#REF!"}},{"$f":"'A) Daten'!K17","v":{"$error":"#N/A"}},{"$f":"#REF!","v":{"$error":"#REF!"}},{"$f":"'A) Daten'!L17","v":{"$error":"#N/A"}},{"$f":"#REF!","v":{"$error":"#REF!"}},{"$f":"'A) Daten'!J18","v":{"$error":"#N/A"}},{"$f":"#REF!","v":{"$error":"#REF!"}}]
[16,{"$f":"'A) Daten'!B19","v":{"$error":"#N/A"}},{"$f":"#REF!","v":{"$error":"#REF!"}},{"$f":"'A) Daten'!C19","v":{"$error":"#N/A"}},{"$f":"#REF!","v":{"$error":"#REF!"}},{"$f":"'A) Daten'!K18","v":{"$error":"#N/A"}},{"$f":"#REF!","v":{"$error":"#REF!"}},{"$f":"'A) Daten'!L18","v":{"$error":"#N/A"}},{"$f":"#REF!","v":{"$error":"#REF!"}},{"$f":"'A) Daten'!J19","v":{"$error":"#N/A"}},{"$f":"#REF!","v":{"$error":"#REF!"}}]
[17,{"$f":"'A) Daten'!B20","v":{"$error":"#N/A"}},{"$f":"#REF!","v":{"$error":"#REF!"}},{"$f":"'A) Daten'!C20","v":{"$error":"#N/A"}},{"$f":"#REF!","v":{"$error":"#REF!"}},{"$f":"'A) Daten'!K19","v":{"$error":"#N/A"}},{"$f":"#REF!","v":{"$error":"#REF!"}},{"$f":"'A) Daten'!L19","v":{"$error":"#N/A"}},{"$f":"#REF!","v":{"$error":"#REF!"}},{"$f":"'A) Daten'!J20","v":{"$error":"#N/A"}},{"$f":"#REF!","v":{"$error":"#REF!"}}]
[18,{"$f":"'A) Daten'!B21","v":{"$error":"#N/A"}},{"$f":"#REF!","v":{"$error":"#REF!"}},{"$f":"'A) Daten'!C21","v":{"$error":"#N/A"}},{"$f":"#REF!","v":{"$error":"#REF!"}},{"$f":"'A) Daten'!K20","v":{"$error":"#N/A"}},{"$f":"#REF!","v":{"$error":"#REF!"}},{"$f":"'A) Daten'!L20","v":{"$error":"#N/A"}},{"$f":"#REF!","v":{"$error":"#REF!"}},{"$f":"'A) Daten'!J21","v":{"$error":"#N/A"}},{"$f":"#REF!","v":{"$error":"#REF!"}}]
[19,{"$f":"'A) Daten'!B22","v":{"$error":"#N/A"}},{"$f":"#REF!","v":{"$error":"#REF!"}},{"$f":"'A) Daten'!C22","v":{"$error":"#N/A"}},{"$f":"#REF!","v":{"$error":"#REF!"}},{"$f":"'A) Daten'!K21","v":{"$error":"#N/A"}},{"$f":"#REF!","v":{"$error":"#REF!"}},{"$f":"'A) Daten'!L21","v":{"$error":"#N/A"}},{"$f":"#REF!","v":{"$error":"#REF!"}},{"$f":"'A) Daten'!J22","v":{"$error":"#N/A"}},{"$f":"#REF!","v":{"$error":"#REF!"}}]
[20,{"$f":"'A) Daten'!B23","v":{"$error":"#N/A"}},{"$f":"#REF!","v":{"$error":"#REF!"}},{"$f":"'A) Daten'!C23","v":{"$error":"#N/A"}},{"$f":"#REF!","v":{"$error":"#REF!"}},{"$f":"'A) Daten'!K22","v":{"$error":"#N/A"}},{"$f":"#REF!","v":{"$error":"#REF!"}},{"$f":"'A) Daten'!L22","v":{"$error":"#N/A"}},{"$f":"#REF!","v":{"$error":"#REF!"}},{"$f":"'A) Daten'!J23","v":{"$error":"#N/A"}},{"$f":"#REF!","v":{"$error":"#REF!"}}]
[21,{"$f":"'A) Daten'!B24","v":{"$error":"#N/A"}},{"$f":"#REF!","v":{"$error":"#REF!"}},{"$f":"'A) Daten'!C24","v":{"$error":"#N/A"}},{"$f":"#REF!","v":{"$error":"#REF!"}},{"$f":"'A) Daten'!K23","v":{"$error":"#N/A"}},{"$f":"#REF!","v":{"$error":"#REF!"}},{"$f":"'A) Daten'!L23","v":{"$error":"#N/A"}},{"$f":"#REF!","v":{"$error":"#REF!"}},{"$f":"'A) Daten'!J24","v":{"$error":"#N/A"}},{"$f":"#REF!","v":{"$error":"#REF!"}}]
[22,{"$f":"'A) Daten'!B25","v":{"$error":"#N/A"}},{"$f":"#REF!","v":{"$error":"#REF!"}},{"$f":"'A) Daten'!C25","v":{"$error":"#N/A"}},{"$f":"#REF!","v":{"$error":"#REF!"}},{"$f":"'A) Daten'!K24","v":{"$error":"#N/A"}},{"$f":"#REF!","v":{"$error":"#REF!"}},{"$f":"'A) Daten'!L24","v":{"$error":"#N/A"}},{"$f":"#REF!","v":{"$error":"#REF!"}},{"$f":"'A) Daten'!J25","v":{"$error":"#N/A"}},{"$f":"#REF!","v":{"$error":"#REF!"}}]
[null,null,null,null,null,{"$error":"#N/A"},{"$error":"#N/A"},{"$error":"#N/A"},{"$error":"#N/A"},{"$error":"#N/A"},{"$error":"#N/A"}]
["23S",{"$f":"'A) Daten'!B26","v":{"$error":"#N/A"}},{"$f":"#REF!","v":{"$error":"#REF!"}},{"$f":"'A) Daten'!C26","v":{"$error":"#N/A"}},{"$f":"#REF!","v":{"$error":"#REF!"}},{"$f":"'A) Daten'!K25","v":{"$error":"#N/A"}},{"$f":"#REF!","v":{"$error":"#REF!"}},{"$f":"'A) Daten'!L25","v":{"$error":"#N/A"}},{"$f":"#REF!","v":{"$error":"#REF!"}},{"$f":"'A) Daten'!S25","v":{"$error":"#N/A"}},{"$f":"#REF!","v":{"$error":"#REF!"}}]
[24,{"$f":"'A) Daten'!B27","v":{"$error":"#N/A"}},{"$f":"#REF!","v":{"$error":"#REF!"}},{"$f":"'A) Daten'!C27","v":{"$error":"#N/A"}},{"$f":"#REF!","v":{"$error":"#REF!"}},{"$f":"'A) Daten'!K26","v":{"$error":"#N/A"}},{"$f":"#REF!","v":{"$error":"#REF!"}},{"$f":"'A) Daten'!L26","v":{"$error":"#N/A"}},{"$f":"#REF!","v":{"$error":"#REF!"}},{"$f":"'A) Daten'!S26","v":{"$error":"#N/A"}},{"$f":"#REF!","v":{"$error":"#REF!"}}]
[25,{"$f":"'A) Daten'!B28","v":{"$error":"#N/A"}},{"$f":"#REF!","v":{"$error":"#REF!"}},{"$f":"'A) Daten'!C28","v":{"$error":"#N/A"}},{"$f":"#REF!","v":{"$error":"#REF!"}},{"$f":"'A) Daten'!K27","v":{"$error":"#N/A"}},{"$f":"#REF!","v":{"$error":"#REF!"}},{"$f":"'A) Daten'!L27","v":{"$error":"#N/A"}},{"$f":"#REF!","v":{"$error":"#REF!"}},{"$f":"'A) Daten'!S27","v":{"$error":"#N/A"}},{"$f":"#REF!","v":{"$error":"#REF!"}}]
["26L",null,null,null,null,{"$f":"'A) Daten'!K28","v":{"$error":"#N/A"}},{"$f":"#REF!","v":{"$error":"#REF!"}},{"$f":"'A) Daten'!L28","v":{"$error":"#N/A"}},{"$f":"#REF!","v":{"$error":"#REF!"}},{"$f":"'A) Daten'!S28","v":{"$error":"#N/A"}},{"$f":"#REF!","v":{"$error":"#REF!"}}]
["27L",null,null,null,null,{"$f":"'A) Daten'!K29","v":{"$error":"#N/A"}},{"$f":"#REF!","v":{"$error":"#REF!"}},{"$f":"'A) Daten'!L29","v":{"$error":"#N/A"}},{"$f":"#REF!","v":{"$error":"#REF!"}},{"$f":"'A) Daten'!S29","v":{"$error":"#N/A"}},{"$f":"#REF!","v":{"$error":"#REF!"}}]
["26S","N","viel zu leicht","eher zu leicht","genau richtig","eher zu schwierig","viel zu schwierig"]
["T1",{"$f":"COUNT(#REF!)","v":0},{"$f":"IF($B32<2,#N/A,COUNTIF(#REF!,1))","v":{"$error":"#N/A"}},{"$f":"IF($B32<2,#N/A,COUNTIF(#REF!,2))","v":{"$error":"#N/A"}},{"$f":"IF($B32<2,#N/A,COUNTIF(#REF!,3))","v":{"$error":"#N/A"}},{"$f":"IF($B32<2,#N/A,COUNTIF(#REF!,4))","v":{"$error":"#N/A"}},{"$f":"IF($B32<2,#N/A,COUNTIF(#REF!,5))","v":{"$error":"#N/A"}}]
["T2",{"$f":"COUNT(#REF!)","v":0},{"$f":"IF($B33<2,#N/A,COUNTIF(#REF!,1))","v":{"$error":"#N/A"}},{"$f":"IF($B33<2,#N/A,COUNTIF(#REF!,2))","v":{"$error":"#N/A"}},{"$f":"IF($B33<2,#N/A,COUNTIF(#REF!,3))","v":{"$error":"#N/A"}},{"$f":"IF($B33<2,#N/A,COUNTIF(#REF!,4))","v":{"$error":"#N/A"}},{"$f":"IF($B33<2,#N/A,COUNTIF(#REF!,5))","v":{"$error":"#N/A"}}]
["Zusatzitems"]
[1,{"$f":"'A) Daten'!B34","v":{"$error":"#N/A"}},{"$f":"#REF!","v":{"$error":"#REF!"}},{"$f":"'A) Daten'!C34","v":{"$error":"#N/A"}},{"$f":"#REF!","v":{"$error":"#REF!"}},{"$f":"'A) Daten'!K34","v":{"$error":"#N/A"}},{"$f":"#REF!","v":{"$error":"#REF!"}},{"$f":"'A) Daten'!L34","v":{"$error":"#N/A"}},{"$f":"#REF!","v":{"$error":"#REF!"}},{"$f":"'A) Daten'!J34","v":{"$error":"#N/A"}},{"$f":"#REF!","v":{"$error":"#REF!"}}]
[2,{"$f":"'A) Daten'!B35","v":{"$error":"#N/A"}},{"$f":"#REF!","v":{"$error":"#REF!"}},{"$f":"'A) Daten'!C35","v":{"$error":"#N/A"}},{"$f":"#REF!","v":{"$error":"#REF!"}},{"$f":"'A) Daten'!K35","v":{"$error":"#N/A"}},{"$f":"#REF!","v":{"$error":"#REF!"}},{"$f":"'A) Daten'!L35","v":{"$error":"#N/A"}},{"$f":"#REF!","v":{"$error":"#REF!"}},{"$f":"'A) Daten'!J35","v":{"$error":"#N/A"}},{"$f":"#REF!","v":{"$error":"#REF!"}}]
[3,{"$f":"'A) Daten'!B36","v":{"$error":"#N/A"}},{"$f":"#REF!","v":{"$error":"#REF!"}},{"$f":"'A) Daten'!C36","v":{"$error":"#N/A"}},{"$f":"#REF!","v":{"$error":"#REF!"}},{"$f":"'A) Daten'!K36","v":{"$error":"#N/A"}},{"$f":"#REF!","v":{"$error":"#REF!"}},{"$f":"'A) Daten'!L36","v":{"$error":"#N/A"}},{"$f":"#REF!","v":{"$error":"#REF!"}},{"$f":"'A) Daten'!J36","v":{"$error":"#N/A"}},{"$f":"#REF!","v":{"$error":"#REF!"}}]
[4,{"$f":"'A) Daten'!B37","v":{"$error":"#N/A"}},{"$f":"#REF!","v":{"$error":"#REF!"}},{"$f":"'A) Daten'!C37","v":{"$error":"#N/A"}},{"$f":"#REF!","v":{"$error":"#REF!"}},{"$f":"'A) Daten'!K37","v":{"$error":"#N/A"}},{"$f":"#REF!","v":{"$error":"#REF!"}},{"$f":"'A) Daten'!L37","v":{"$error":"#N/A"}},{"$f":"#REF!","v":{"$error":"#REF!"}},{"$f":"'A) Daten'!J37","v":{"$error":"#N/A"}},{"$f":"#REF!","v":{"$error":"#REF!"}}]
[5,{"$f":"'A) Daten'!B38","v":{"$error":"#N/A"}},{"$f":"#REF!","v":{"$error":"#REF!"}},{"$f":"'A) Daten'!C38","v":{"$error":"#N/A"}},{"$f":"#REF!","v":{"$error":"#REF!"}},{"$f":"'A) Daten'!K38","v":{"$error":"#N/A"}},{"$f":"#REF!","v":{"$error":"#REF!"}},{"$f":"'A) Daten'!L38","v":{"$error":"#N/A"}},{"$f":"#REF!","v":{"$error":"#REF!"}},{"$f":"'A) Daten'!J38","v":{"$error":"#N/A"}},{"$f":"#REF!","v":{"$error":"#REF!"}}]
[6,{"$f":"'A) Daten'!B39","v":{"$error":"#N/A"}},{"$f":"#REF!","v":{"$error":"#REF!"}},{"$f":"'A) Daten'!C39","v":{"$error":"#N/A"}},{"$f":"#REF!","v":{"$error":"#REF!"}},{"$f":"'A) Daten'!K39","v":{"$error":"#N/A"}},{"$f":"#REF!","v":{"$error":"#REF!"}},{"$f":"'A) Daten'!L39","v":{"$error":"#N/A"}},{"$f":"#REF!","v":{"$error":"#REF!"}},{"$f":"'A) Daten'!J39","v":{"$error":"#N/A"}},{"$f":"#REF!","v":{"$error":"#REF!"}}]
[7,{"$f":"'A) Daten'!B40","v":{"$error":"#N/A"}},{"$f":"#REF!","v":{"$error":"#REF!"}},{"$f":"'A) Daten'!C40","v":{"$error":"#N/A"}},{"$f":"#REF!","v":{"$error":"#REF!"}},{"$f":"'A) Daten'!K40","v":{"$error":"#N/A"}},{"$f":"#REF!","v":{"$error":"#REF!"}},{"$f":"'A) Daten'!L40","v":{"$error":"#N/A"}},{"$f":"#REF!","v":{"$error":"#REF!"}},{"$f":"'A) Daten'!J40","v":{"$error":"#N/A"}},{"$f":"#REF!","v":{"$error":"#REF!"}}]
[8,{"$f":"'A) Daten'!B41","v":{"$error":"#N/A"}},{"$f":"#REF!","v":{"$error":"#REF!"}},{"$f":"'A) Daten'!C41","v":{"$error":"#N/A"}},{"$f":"#REF!","v":{"$error":"#REF!"}},{"$f":"'A) Daten'!K41","v":{"$error":"#N/A"}},{"$f":"#REF!","v":{"$error":"#REF!"}},{"$f":"'A) Daten'!L41","v":{"$error":"#N/A"}},{"$f":"#REF!","v":{"$error":"#REF!"}},{"$f":"'A) Daten'!J41","v":{"$error":"#N/A"}},{"$f":"#REF!","v":{"$error":"#REF!"}}]
[9,{"$f":"'A) Daten'!B42","v":{"$error":"#N/A"}},{"$f":"#REF!","v":{"$error":"#REF!"}},{"$f":"'A) Daten'!C42","v":{"$error":"#N/A"}},{"$f":"#REF!","v":{"$error":"#REF!"}},{"$f":"'A) Daten'!K42","v":{"$error":"#N/A"}},{"$f":"#REF!","v":{"$error":"#REF!"}},{"$f":"'A) Daten'!L42","v":{"$error":"#N/A"}},{"$f":"#REF!","v":{"$error":"#REF!"}},{"$f":"'A) Daten'!J42","v":{"$error":"#N/A"}},{"$f":"#REF!","v":{"$error":"#REF!"}}]
[10,{"$f":"'A) Daten'!B43","v":{"$error":"#N/A"}},{"$f":"#REF!","v":{"$error":"#REF!"}},{"$f":"'A) Daten'!C43","v":{"$error":"#N/A"}},{"$f":"#REF!","v":{"$error":"#REF!"}},{"$f":"'A) Daten'!K43","v":{"$error":"#N/A"}},{"$f":"#REF!","v":{"$error":"#REF!"}},{"$f":"'A) Daten'!L43","v":{"$error":"#N/A"}},{"$f":"#REF!","v":{"$error":"#REF!"}},{"$f":"'A) Daten'!J43","v":{"$error":"#N/A"}},{"$f":"#REF!","v":{"$error":"#REF!"}}]
[11,{"$f":"'A) Daten'!B44","v":{"$error":"#N/A"}},{"$f":"#REF!","v":{"$error":"#REF!"}},{"$f":"'A) Daten'!C44","v":{"$error":"#N/A"}},{"$f":"#REF!","v":{"$error":"#REF!"}},{"$f":"'A) Daten'!K44","v":{"$error":"#N/A"}},{"$f":"#REF!","v":{"$error":"#REF!"}},{"$f":"'A) Daten'!L44","v":{"$error":"#N/A"}},{"$f":"#REF!","v":{"$error":"#REF!"}},{"$f":"'A) Daten'!J44","v":{"$error":"#N/A"}},{"$f":"#REF!","v":{"$error":"#REF!"}}]
[12,{"$f":"'A) Daten'!B45","v":{"$error":"#N/A"}},{"$f":"#REF!","v":{"$error":"#REF!"}},{"$f":"'A) Daten'!C45","v":{"$error":"#N/A"}},{"$f":"#REF!","v":{"$error":"#REF!"}},{"$f":"'A) Daten'!K45","v":{"$error":"#N/A"}},{"$f":"#REF!","v":{"$error":"#REF!"}},{"$f":"'A) Daten'!L45","v":{"$error":"#N/A"}},{"$f":"#REF!","v":{"$error":"#REF!"}},{"$f":"'A) Daten'!J45","v":{"$error":"#N/A"}},{"$f":"#REF!","v":{"$error":"#REF!"}}]
[13,{"$f":"'A) Daten'!B46","v":{"$error":"#N/A"}},{"$f":"#REF!","v":{"$error":"#REF!"}},{"$f":"'A) Daten'!C46","v":{"$error":"#N/A"}},{"$f":"#REF!","v":{"$error":"#REF!"}},{"$f":"'A) Daten'!K46","v":{"$error":"#N/A"}},{"$f":"#REF!","v":{"$error":"#REF!"}},{"$f":"'A) Daten'!L46","v":{"$error":"#N/A"}},{"$f":"#REF!","v":{"$error":"#REF!"}},{"$f":"'A) Daten'!J46","v":{"$error":"#N/A"}},{"$f":"#REF!","v":{"$error":"#REF!"}}]
[14,{"$f":"'A) Daten'!B47","v":{"$error":"#N/A"}},{"$f":"#REF!","v":{"$error":"#REF!"}},{"$f":"'A) Daten'!C47","v":{"$error":"#N/A"}},{"$f":"#REF!","v":{"$error":"#REF!"}},{"$f":"'A) Daten'!K47","v":{"$error":"#N/A"}},{"$f":"#REF!","v":{"$error":"#REF!"}},{"$f":"'A) Daten'!L47","v":{"$error":"#N/A"}},{"$f":"#REF!","v":{"$error":"#REF!"}},{"$f":"'A) Daten'!J47","v":{"$error":"#N/A"}},{"$f":"#REF!","v":{"$error":"#REF!"}}]
[15,{"$f":"'A) Daten'!B48","v":{"$error":"#N/A"}},{"$f":"#REF!","v":{"$error":"#REF!"}},{"$f":"'A) Daten'!C48","v":{"$error":"#N/A"}},{"$f":"#REF!","v":{"$error":"#REF!"}},{"$f":"'A) Daten'!K48","v":{"$error":"#N/A"}},{"$f":"#REF!","v":{"$error":"#REF!"}},{"$f":"'A) Daten'!L48","v":{"$error":"#N/A"}},{"$f":"#REF!","v":{"$error":"#REF!"}},{"$f":"'A) Daten'!J48","v":{"$error":"#N/A"}},{"$f":"#REF!","v":{"$error":"#REF!"}}]
[16,{"$f":"'A) Daten'!B49","v":{"$error":"#N/A"}},{"$f":"#REF!","v":{"$error":"#REF!"}},{"$f":"'A) Daten'!C49","v":{"$error":"#N/A"}},{"$f":"#REF!","v":{"$error":"#REF!"}},{"$f":"'A) Daten'!K49","v":{"$error":"#N/A"}},{"$f":"#REF!","v":{"$error":"#REF!"}},{"$f":"'A) Daten'!L49","v":{"$error":"#N/A"}},{"$f":"#REF!","v":{"$error":"#REF!"}},{"$f":"'A) Daten'!J49","v":{"$error":"#N/A"}},{"$f":"#REF!","v":{"$error":"#REF!"}}]
[17,{"$f":"'A) Daten'!B50","v":{"$error":"#N/A"}},{"$f":"#REF!","v":{"$error":"#REF!"}},{"$f":"'A) Daten'!C50","v":{"$error":"#N/A"}},{"$f":"#REF!","v":{"$error":"#REF!"}},{"$f":"'A) Daten'!K50","v":{"$error":"#N/A"}},{"$f":"#REF!","v":{"$error":"#REF!"}},{"$f":"'A) Daten'!L50","v":{"$error":"#N/A"}},{"$f":"#REF!","v":{"$error":"#REF!"}},{"$f":"'A) Daten'!J50","v":{"$error":"#N/A"}},{"$f":"#REF!","v":{"$error":"#REF!"}}]
[18,{"$f":"'A) Daten'!B51","v":{"$error":"#N/A"}},{"$f":"#REF!","v":{"$error":"#REF!"}},{"$f":"'A) Daten'!C51","v":{"$error":"#N/A"}},{"$f":"#REF!","v":{"$error":"#REF!"}},{"$f":"'A) Daten'!K51","v":{"$error":"#N/A"}},{"$f":"#REF!","v":{"$error":"#REF!"}},{"$f":"'A) Daten'!L51","v":{"$error":"#N/A"}},{"$f":"#REF!","v":{"$error":"#REF!"}},{"$f":"'A) Daten'!J51","v":{"$error":"#N/A"}},{"$f":"#REF!","v":{"$error":"#REF!"}}]
[19,{"$f":"'A) Daten'!B52","v":{"$error":"#N/A"}},{"$f":"#REF!","v":{"$error":"#REF!"}},{"$f":"'A) Daten'!C52","v":{"$error":"#N/A"}},{"$f":"#REF!","v":{"$error":"#REF!"}},{"$f":"'A) Daten'!K52","v":{"$error":"#N/A"}},{"$f":"#REF!","v":{"$error":"#REF!"}},{"$f":"'A) Daten'!L52","v":{"$error":"#N/A"}},{"$f":"#REF!","v":{"$error":"#REF!"}},{"$f":"'A) Daten'!J52","v":{"$error":"#N/A"}},{"$f":"#REF!","v":{"$error":"#REF!"}}]
[20,{"$f":"'A) Daten'!B53","v":{"$error":"#N/A"}},{"$f":"#REF!","v":{"$error":"#REF!"}},{"$f":"'A) Daten'!C53","v":{"$error":"#N/A"}},{"$f":"#REF!","v":{"$error":"#REF!"}},{"$f":"'A) Daten'!K53","v":{"$error":"#N/A"}},{"$f":"#REF!","v":{"$error":"#REF!"}},{"$f":"'A) Daten'!L53","v":{"$error":"#N/A"}},{"$f":"#REF!","v":{"$error":"#REF!"}},{"$f":"'A) Daten'!J53","v":{"$error":"#N/A"}},{"$f":"#REF!","v":{"$error":"#REF!"}}]
[21,{"$f":"'A) Daten'!B54","v":{"$error":"#N/A"}},{"$f":"#REF!","v":{"$error":"#REF!"}},{"$f":"'A) Daten'!C54","v":{"$error":"#N/A"}},{"$f":"#REF!","v":{"$error":"#REF!"}},{"$f":"'A) Daten'!K54","v":{"$error":"#N/A"}},{"$f":"#REF!","v":{"$error":"#REF!"}},{"$f":"'A) Daten'!L54","v":{"$error":"#N/A"}},{"$f":"#REF!","v":{"$error":"#REF!"}},{"$f":"'A) Daten'!J54","v":{"$error":"#N/A"}},{"$f":"#REF!","v":{"$error":"#REF!"}}]
[22,{"$f":"'A) Daten'!B55","v":{"$error":"#N/A"}},{"$f":"#REF!","v":{"$error":"#REF!"}},{"$f":"'A) Daten'!C55","v":{"$error":"#N/A"}},{"$f":"#REF!","v":{"$error":"#REF!"}},{"$f":"'A) Daten'!K55","v":{"$error":"#N/A"}},{"$f":"#REF!","v":{"$error":"#REF!"}},{"$f":"'A) Daten'!L55","v":{"$error":"#N/A"}},{"$f":"#REF!","v":{"$error":"#REF!"}},{"$f":"'A) Daten'!J55","v":{"$error":"#N/A"}},{"$f":"#REF!","v":{"$error":"#REF!"}}]
[23,{"$f":"'A) Daten'!B56","v":{"$error":"#N/A"}},{"$f":"#REF!","v":{"$error":"#REF!"}},{"$f":"'A) Daten'!C56","v":{"$error":"#N/A"}},{"$f":"#REF!","v":{"$error":"#REF!"}},{"$f":"'A) Daten'!K56","v":{"$error":"#N/A"}},{"$f":"#REF!","v":{"$error":"#REF!"}},{"$f":"'A) Daten'!L56","v":{"$error":"#N/A"}},{"$f":"#REF!","v":{"$error":"#REF!"}},{"$f":"'A) Daten'!J56","v":{"$error":"#N/A"}},{"$f":"#REF!","v":{"$error":"#REF!"}}]
[24,{"$f":"'A) Daten'!B57","v":{"$error":"#N/A"}},{"$f":"#REF!","v":{"$error":"#REF!"}},{"$f":"'A) Daten'!C57","v":{"$error":"#N/A"}},{"$f":"#REF!","v":{"$error":"#REF!"}},{"$f":"'A) Daten'!K57","v":{"$error":"#N/A"}},{"$f":"#REF!","v":{"$error":"#REF!"}},{"$f":"'A) Daten'!L57","v":{"$error":"#N/A"}},{"$f":"#REF!","v":{"$error":"#REF!"}},{"$f":"'A) Daten'!J57","v":{"$error":"#N/A"}},{"$f":"#REF!","v":{"$error":"#REF!"}}]
[25,{"$f":"'A) Daten'!B58","v":{"$error":"#N/A"}},{"$f":"#REF!","v":{"$error":"#REF!"}},{"$f":"'A) Daten'!C58","v":{"$error":"#N/A"}},{"$f":"#REF!","v":{"$error":"#REF!"}},{"$f":"'A) Daten'!K58","v":{"$error":"#N/A"}},{"$f":"#REF!","v":{"$error":"#REF!"}},{"$f":"'A) Daten'!L58","v":{"$error":"#N/A"}},{"$f":"#REF!","v":{"$error":"#REF!"}},{"$f":"'A) Daten'!J58","v":{"$error":"#N/A"}},{"$f":"#REF!","v":{"$error":"#REF!"}}]
[26,{"$f":"'A) Daten'!B59","v":{"$error":"#N/A"}},{"$f":"#REF!","v":{"$error":"#REF!"}},{"$f":"'A) Daten'!C59","v":{"$error":"#N/A"}},{"$f":"#REF!","v":{"$error":"#REF!"}},{"$f":"'A) Daten'!K59","v":{"$error":"#N/A"}},{"$f":"#REF!","v":{"$error":"#REF!"}},{"$f":"'A) Daten'!L59","v":{"$error":"#N/A"}},{"$f":"#REF!","v":{"$error":"#REF!"}},{"$f":"'A) Daten'!J59","v":{"$error":"#N/A"}},{"$f":"#REF!","v":{"$error":"#REF!"}}]
[27,{"$f":"'A) Daten'!B60","v":{"$error":"#N/A"}},{"$f":"#REF!","v":{"$error":"#REF!"}},{"$f":"'A) Daten'!C60","v":{"$error":"#N/A"}},{"$f":"#REF!","v":{"$error":"#REF!"}},{"$f":"'A) Daten'!K60","v":{"$error":"#N/A"}},{"$f":"#REF!","v":{"$error":"#REF!"}},{"$f":"'A) Daten'!L60","v":{"$error":"#N/A"}},{"$f":"#REF!","v":{"$error":"#REF!"}},{"$f":"'A) Daten'!J60","v":{"$error":"#N/A"}},{"$f":"#REF!","v":{"$error":"#REF!"}}]
[28,{"$f":"'A) Daten'!B61","v":{"$error":"#N/A"}},{"$f":"#REF!","v":{"$error":"#REF!"}},{"$f":"'A) Daten'!C61","v":{"$error":"#N/A"}},{"$f":"#REF!","v":{"$error":"#REF!"}},{"$f":"'A) Daten'!K61","v":{"$error":"#N/A"}},{"$f":"#REF!","v":{"$error":"#REF!"}},{"$f":"'A) Daten'!L61","v":{"$error":"#N/A"}},{"$f":"#REF!","v":{"$error":"#REF!"}},{"$f":"'A) Daten'!J61","v":{"$error":"#N/A"}},{"$f":"#REF!","v":{"$error":"#REF!"}}]
[29,{"$f":"'A) Daten'!B62","v":{"$error":"#N/A"}},{"$f":"#REF!","v":{"$error":"#REF!"}},{"$f":"'A) Daten'!C62","v":{"$error":"#N/A"}},{"$f":"#REF!","v":{"$error":"#REF!"}},{"$f":"'A) Daten'!K62","v":{"$error":"#N/A"}},{"$f":"#REF!","v":{"$error":"#REF!"}},{"$f":"'A) Daten'!L62","v":{"$error":"#N/A"}},{"$f":"#REF!","v":{"$error":"#REF!"}},{"$f":"'A) Daten'!J62","v":{"$error":"#N/A"}},{"$f":"#REF!","v":{"$error":"#REF!"}}]
[30,{"$f":"'A) Daten'!B63","v":{"$error":"#N/A"}},{"$f":"#REF!","v":{"$error":"#REF!"}},{"$f":"'A) Daten'!C63","v":{"$error":"#N/A"}},{"$f":"#REF!","v":{"$error":"#REF!"}},{"$f":"'A) Daten'!K63","v":{"$error":"#N/A"}},{"$f":"#REF!","v":{"$error":"#REF!"}},{"$f":"'A) Daten'!L63","v":{"$error":"#N/A"}},{"$f":"#REF!","v":{"$error":"#REF!"}},{"$f":"'A) Daten'!J63","v":{"$error":"#N/A"}},{"$f":"#REF!","v":{"$error":"#REF!"}}]
[31,{"$f":"'A) Daten'!B64","v":{"$error":"#N/A"}},{"$f":"#REF!","v":{"$error":"#REF!"}},{"$f":"'A) Daten'!C64","v":{"$error":"#N/A"}},{"$f":"#REF!","v":{"$error":"#REF!"}},{"$f":"'A) Daten'!K64","v":{"$error":"#N/A"}},{"$f":"#REF!","v":{"$error":"#REF!"}},{"$f":"'A) Daten'!L64","v":{"$error":"#N/A"}},{"$f":"#REF!","v":{"$error":"#REF!"}},{"$f":"'A) Daten'!J64","v":{"$error":"#N/A"}},{"$f":"#REF!","v":{"$error":"#REF!"}}]
[32,{"$f":"'A) Daten'!B65","v":{"$error":"#N/A"}},{"$f":"#REF!","v":{"$error":"#REF!"}},{"$f":"'A) Daten'!C65","v":{"$error":"#N/A"}},{"$f":"#REF!","v":{"$error":"#REF!"}},{"$f":"'A) Daten'!K65","v":{"$error":"#N/A"}},{"$f":"#REF!","v":{"$error":"#REF!"}},{"$f":"'A) Daten'!L65","v":{"$error":"#N/A"}},{"$f":"#REF!","v":{"$error":"#REF!"}},{"$f":"'A) Daten'!J65","v":{"$error":"#N/A"}},{"$f":"#REF!","v":{"$error":"#REF!"}}]
[33,{"$f":"'A) Daten'!B66","v":{"$error":"#N/A"}},{"$f":"#REF!","v":{"$error":"#REF!"}},{"$f":"'A) Daten'!C66","v":{"$error":"#N/A"}},{"$f":"#REF!","v":{"$error":"#REF!"}},{"$f":"'A) Daten'!K66","v":{"$error":"#N/A"}},{"$f":"#REF!","v":{"$error":"#REF!"}},{"$f":"'A) Daten'!L66","v":{"$error":"#N/A"}},{"$f":"#REF!","v":{"$error":"#REF!"}},{"$f":"'A) Daten'!J66","v":{"$error":"#N/A"}},{"$f":"#REF!","v":{"$error":"#REF!"}}]
[34,{"$f":"'A) Daten'!B67","v":{"$error":"#N/A"}},{"$f":"#REF!","v":{"$error":"#REF!"}},{"$f":"'A) Daten'!C67","v":{"$error":"#N/A"}},{"$f":"#REF!","v":{"$error":"#REF!"}},{"$f":"'A) Daten'!K67","v":{"$error":"#N/A"}},{"$f":"#REF!","v":{"$error":"#REF!"}},{"$f":"'A) Daten'!L67","v":{"$error":"#N/A"}},{"$f":"#REF!","v":{"$error":"#REF!"}},{"$f":"'A) Daten'!J67","v":{"$error":"#N/A"}},{"$f":"#REF!","v":{"$error":"#REF!"}}]
[35,{"$f":"'A) Daten'!B68","v":{"$error":"#N/A"}},{"$f":"#REF!","v":{"$error":"#REF!"}},{"$f":"'A) Daten'!C68","v":{"$error":"#N/A"}},{"$f":"#REF!","v":{"$error":"#REF!"}},{"$f":"'A) Daten'!K68","v":{"$error":"#N/A"}},{"$f":"#REF!","v":{"$error":"#REF!"}},{"$f":"'A) Daten'!L68","v":{"$error":"#N/A"}},{"$f":"#REF!","v":{"$error":"#REF!"}},{"$f":"'A) Daten'!J68","v":{"$error":"#N/A"}},{"$f":"#REF!","v":{"$error":"#REF!"}}]
[36,{"$f":"'A) Daten'!B69","v":{"$error":"#N/A"}},{"$f":"#REF!","v":{"$error":"#REF!"}},{"$f":"'A) Daten'!C69","v":{"$error":"#N/A"}},{"$f":"#REF!","v":{"$error":"#REF!"}},{"$f":"'A) Daten'!K69","v":{"$error":"#N/A"}},{"$f":"#REF!","v":{"$error":"#REF!"}},{"$f":"'A) Daten'!L69","v":{"$error":"#N/A"}},{"$f":"#REF!","v":{"$error":"#REF!"}},{"$f":"'A) Daten'!J69","v":{"$error":"#N/A"}},{"$f":"#REF!","v":{"$error":"#REF!"}}]
[37,{"$f":"'A) Daten'!B70","v":{"$error":"#N/A"}},{"$f":"#REF!","v":{"$error":"#REF!"}},{"$f":"'A) Daten'!C70","v":{"$error":"#N/A"}},{"$f":"#REF!","v":{"$error":"#REF!"}},{"$f":"'A) Daten'!K70","v":{"$error":"#N/A"}},{"$f":"#REF!","v":{"$error":"#REF!"}},{"$f":"'A) Daten'!L70","v":{"$error":"#N/A"}},{"$f":"#REF!","v":{"$error":"#REF!"}},{"$f":"'A) Daten'!J70","v":{"$error":"#N/A"}},{"$f":"#REF!","v":{"$error":"#REF!"}}]
[38,{"$f":"'A) Daten'!B71","v":{"$error":"#N/A"}},{"$f":"#REF!","v":{"$error":"#REF!"}},{"$f":"'A) Daten'!C71","v":{"$error":"#N/A"}},{"$f":"#REF!","v":{"$error":"#REF!"}},{"$f":"'A) Daten'!K71","v":{"$error":"#N/A"}},{"$f":"#REF!","v":{"$error":"#REF!"}},{"$f":"'A) Daten'!L71","v":{"$error":"#N/A"}},{"$f":"#REF!","v":{"$error":"#REF!"}},{"$f":"'A) Daten'!J71","v":{"$error":"#N/A"}},{"$f":"#REF!","v":{"$error":"#REF!"}}]
[39,{"$f":"'A) Daten'!B72","v":{"$error":"#N/A"}},{"$f":"#REF!","v":{"$error":"#REF!"}},{"$f":"'A) Daten'!C72","v":{"$error":"#N/A"}},{"$f":"#REF!","v":{"$error":"#REF!"}},{"$f":"'A) Daten'!K72","v":{"$error":"#N/A"}},{"$f":"#REF!","v":{"$error":"#REF!"}},{"$f":"'A) Daten'!L72","v":{"$error":"#N/A"}},{"$f":"#REF!","v":{"$error":"#REF!"}},{"$f":"'A) Daten'!J72","v":{"$error":"#N/A"}},{"$f":"#REF!","v":{"$error":"#REF!"}}]
[40,{"$f":"'A) Daten'!B73","v":{"$error":"#N/A"}},{"$f":"#REF!","v":{"$error":"#REF!"}},{"$f":"'A) Daten'!C73","v":{"$error":"#N/A"}},{"$f":"#REF!","v":{"$error":"#REF!"}},{"$f":"'A) Daten'!K73","v":{"$error":"#N/A"}},{"$f":"#REF!","v":{"$error":"#REF!"}},{"$f":"'A) Daten'!L73","v":{"$error":"#N/A"}},{"$f":"#REF!","v":{"$error":"#REF!"}},{"$f":"'A) Daten'!J73","v":{"$error":"#N/A"}},{"$f":"#REF!","v":{"$error":"#REF!"}}]
[41,{"$f":"'A) Daten'!B74","v":{"$error":"#N/A"}},{"$f":"#REF!","v":{"$error":"#REF!"}},{"$f":"'A) Daten'!C74","v":{"$error":"#N/A"}},{"$f":"#REF!","v":{"$error":"#REF!"}},{"$f":"'A) Daten'!K74","v":{"$error":"#N/A"}},{"$f":"#REF!","v":{"$error":"#REF!"}},{"$f":"'A) Daten'!L74","v":{"$error":"#N/A"}},{"$f":"#REF!","v":{"$error":"#REF!"}},{"$f":"'A) Daten'!J74","v":{"$error":"#N/A"}},{"$f":"#REF!","v":{"$error":"#REF!"}}]
[42,{"$f":"'A) Daten'!B75","v":{"$error":"#N/A"}},{"$f":"#REF!","v":{"$error":"#REF!"}},{"$f":"'A) Daten'!C75","v":{"$error":"#N/A"}},{"$f":"#REF!","v":{"$error":"#REF!"}},{"$f":"'A) Daten'!K75","v":{"$error":"#N/A"}},{"$f":"#REF!","v":{"$error":"#REF!"}},{"$f":"'A) Daten'!L75","v":{"$error":"#N/A"}},{"$f":"#REF!","v":{"$error":"#REF!"}},{"$f":"'A) Daten'!J75","v":{"$error":"#N/A"}},{"$f":"#REF!","v":{"$error":"#REF!"}}]
[43,{"$f":"'A) Daten'!B76","v":{"$error":"#N/A"}},{"$f":"#REF!","v":{"$error":"#REF!"}},{"$f":"'A) Daten'!C76","v":{"$error":"#N/A"}},{"$f":"#REF!","v":{"$error":"#REF!"}},{"$f":"'A) Daten'!K76","v":{"$error":"#N/A"}},{"$f":"#REF!","v":{"$error":"#REF!"}},{"$f":"'A) Daten'!L76","v":{"$error":"#N/A"}},{"$f":"#REF!","v":{"$error":"#REF!"}},{"$f":"'A) Daten'!J76","v":{"$error":"#N/A"}},{"$f":"#REF!","v":{"$error":"#REF!"}}]
[44,{"$f":"'A) Daten'!B77","v":{"$error":"#N/A"}},{"$f":"#REF!","v":{"$error":"#REF!"}},{"$f":"'A) Daten'!C77","v":{"$error":"#N/A"}},{"$f":"#REF!","v":{"$error":"#REF!"}},{"$f":"'A) Daten'!K77","v":{"$error":"#N/A"}},{"$f":"#REF!","v":{"$error":"#REF!"}},{"$f":"'A) Daten'!L77","v":{"$error":"#N/A"}},{"$f":"#REF!","v":{"$error":"#REF!"}},{"$f":"'A) Daten'!J77","v":{"$error":"#N/A"}},{"$f":"#REF!","v":{"$error":"#REF!"}}]
[45,{"$f":"'A) Daten'!B78","v":{"$error":"#N/A"}},{"$f":"#REF!","v":{"$error":"#REF!"}},{"$f":"'A) Daten'!C78","v":{"$error":"#N/A"}},{"$f":"#REF!","v":{"$error":"#REF!"}},{"$f":"'A) Daten'!K78","v":{"$error":"#N/A"}},{"$f":"#REF!","v":{"$error":"#REF!"}},{"$f":"'A) Daten'!L78","v":{"$error":"#N/A"}},{"$f":"#REF!","v":{"$error":"#REF!"}},{"$f":"'A) Daten'!J78","v":{"$error":"#N/A"}},{"$f":"#REF!","v":{"$error":"#REF!"}}]
[46,{"$f":"'A) Daten'!B79","v":{"$error":"#N/A"}},{"$f":"#REF!","v":{"$error":"#REF!"}},{"$f":"'A) Daten'!C79","v":{"$error":"#N/A"}},{"$f":"#REF!","v":{"$error":"#REF!"}},{"$f":"'A) Daten'!K79","v":{"$error":"#N/A"}},{"$f":"#REF!","v":{"$error":"#REF!"}},{"$f":"'A) Daten'!L79","v":{"$error":"#N/A"}},{"$f":"#REF!","v":{"$error":"#REF!"}},{"$f":"'A) Daten'!J79","v":{"$error":"#N/A"}},{"$f":"#REF!","v":{"$error":"#REF!"}}]
[47,{"$f":"'A) Daten'!B80","v":{"$error":"#N/A"}},{"$f":"#REF!","v":{"$error":"#REF!"}},{"$f":"'A) Daten'!C80","v":{"$error":"#N/A"}},{"$f":"#REF!","v":{"$error":"#REF!"}},{"$f":"'A) Daten'!K80","v":{"$error":"#N/A"}},{"$f":"#REF!","v":{"$error":"#REF!"}},{"$f":"'A) Daten'!L80","v":{"$error":"#N/A"}},{"$f":"#REF!","v":{"$error":"#REF!"}},{"$f":"'A) Daten'!J80","v":{"$error":"#N/A"}},{"$f":"#REF!","v":{"$error":"#REF!"}}]
[48,{"$f":"'A) Daten'!B81","v":{"$error":"#N/A"}},{"$f":"#REF!","v":{"$error":"#REF!"}},{"$f":"'A) Daten'!C81","v":{"$error":"#N/A"}},{"$f":"#REF!","v":{"$error":"#REF!"}},{"$f":"'A) Daten'!K81","v":{"$error":"#N/A"}},{"$f":"#REF!","v":{"$error":"#REF!"}},{"$f":"'A) Daten'!L81","v":{"$error":"#N/A"}},{"$f":"#REF!","v":{"$error":"#REF!"}},{"$f":"'A) Daten'!J81","v":{"$error":"#N/A"}},{"$f":"#REF!","v":{"$error":"#REF!"}}]
[49,{"$f":"'A) Daten'!B82","v":{"$error":"#N/A"}},{"$f":"#REF!","v":{"$error":"#REF!"}},{"$f":"'A) Daten'!C82","v":{"$error":"#N/A"}},{"$f":"#REF!","v":{"$error":"#REF!"}},{"$f":"'A) Daten'!K82","v":{"$error":"#N/A"}},{"$f":"#REF!","v":{"$error":"#REF!"}},{"$f":"'A) Daten'!L82","v":{"$error":"#N/A"}},{"$f":"#REF!","v":{"$error":"#REF!"}},{"$f":"'A) Daten'!J82","v":{"$error":"#N/A"}},{"$f":"#REF!","v":{"$error":"#REF!"}}]
[50,{"$f":"'A) Daten'!B83","v":{"$error":"#N/A"}},{"$f":"#REF!","v":{"$error":"#REF!"}},{"$f":"'A) Daten'!C83","v":{"$error":"#N/A"}},{"$f":"#REF!","v":{"$error":"#REF!"}},{"$f":"'A) Daten'!K83","v":{"$error":"#N/A"}},{"$f":"#REF!","v":{"$error":"#REF!"}},{"$f":"'A) Daten'!L83","v":{"$error":"#N/A"}},{"$f":"#REF!","v":{"$error":"#REF!"}},{"$f":"'A) Daten'!J83","v":{"$error":"#N/A"}},{"$f":"#REF!","v":{"$error":"#REF!"}}]
[51,{"$f":"'A) Daten'!B84","v":{"$error":"#N/A"}},{"$f":"#REF!","v":{"$error":"#REF!"}},{"$f":"'A) Daten'!C84","v":{"$error":"#N/A"}},{"$f":"#REF!","v":{"$error":"#REF!"}},{"$f":"'A) Daten'!K84","v":{"$error":"#N/A"}},{"$f":"#REF!","v":{"$error":"#REF!"}},{"$f":"'A) Daten'!L84","v":{"$error":"#N/A"}},{"$f":"#REF!","v":{"$error":"#REF!"}},{"$f":"'A) Daten'!J84","v":{"$error":"#N/A"}},{"$f":"#REF!","v":{"$error":"#REF!"}}]
[52,{"$f":"'A) Daten'!B85","v":{"$error":"#N/A"}},{"$f":"#REF!","v":{"$error":"#REF!"}},{"$f":"'A) Daten'!C85","v":{"$error":"#N/A"}},{"$f":"#REF!","v":{"$error":"#REF!"}},{"$f":"'A) Daten'!K85","v":{"$error":"#N/A"}},{"$f":"#REF!","v":{"$error":"#REF!"}},{"$f":"'A) Daten'!L85","v":{"$error":"#N/A"}},{"$f":"#REF!","v":{"$error":"#REF!"}},{"$f":"'A) Daten'!J85","v":{"$error":"#N/A"}},{"$f":"#REF!","v":{"$error":"#REF!"}}]
[53,{"$f":"'A) Daten'!B86","v":{"$error":"#N/A"}},{"$f":"#REF!","v":{"$error":"#REF!"}},{"$f":"'A) Daten'!C86","v":{"$error":"#N/A"}},{"$f":"#REF!","v":{"$error":"#REF!"}},{"$f":"'A) Daten'!K86","v":{"$error":"#N/A"}},{"$f":"#REF!","v":{"$error":"#REF!"}},{"$f":"'A) Daten'!L86","v":{"$error":"#N/A"}},{"$f":"#REF!","v":{"$error":"#REF!"}},{"$f":"'A) Daten'!J86","v":{"$error":"#N/A"}},{"$f":"#REF!","v":{"$error":"#REF!"}}]
[54,{"$f":"'A) Daten'!B87","v":{"$error":"#N/A"}},{"$f":"#REF!","v":{"$error":"#REF!"}},{"$f":"'A) Daten'!C87","v":{"$error":"#N/A"}},{"$f":"#REF!","v":{"$error":"#REF!"}},{"$f":"'A) Daten'!K87","v":{"$error":"#N/A"}},{"$f":"#REF!","v":{"$error":"#REF!"}},{"$f":"'A) Daten'!L87","v":{"$error":"#N/A"}},{"$f":"#REF!","v":{"$error":"#REF!"}},{"$f":"'A) Daten'!J87","v":{"$error":"#N/A"}},{"$f":"#REF!","v":{"$error":"#REF!"}}]
[55,{"$f":"'A) Daten'!B88","v":{"$error":"#N/A"}},{"$f":"#REF!","v":{"$error":"#REF!"}},{"$f":"'A) Daten'!C88","v":{"$error":"#N/A"}},{"$f":"#REF!","v":{"$error":"#REF!"}},{"$f":"'A) Daten'!K88","v":{"$error":"#N/A"}},{"$f":"#REF!","v":{"$error":"#REF!"}},{"$f":"'A) Daten'!L88","v":{"$error":"#N/A"}},{"$f":"#REF!","v":{"$error":"#REF!"}},{"$f":"'A) Daten'!J88","v":{"$error":"#N/A"}},{"$f":"#REF!","v":{"$error":"#REF!"}}]
[56,{"$f":"'A) Daten'!B89","v":{"$error":"#N/A"}},{"$f":"#REF!","v":{"$error":"#REF!"}},{"$f":"'A) Daten'!C89","v":{"$error":"#N/A"}},{"$f":"#REF!","v":{"$error":"#REF!"}},{"$f":"'A) Daten'!K89","v":{"$error":"#N/A"}},{"$f":"#REF!","v":{"$error":"#REF!"}},{"$f":"'A) Daten'!L89","v":{"$error":"#N/A"}},{"$f":"#REF!","v":{"$error":"#REF!"}},{"$f":"'A) Daten'!J89","v":{"$error":"#N/A"}},{"$f":"#REF!","v":{"$error":"#REF!"}}]
[57,{"$f":"'A) Daten'!B90","v":{"$error":"#N/A"}},{"$f":"#REF!","v":{"$error":"#REF!"}},{"$f":"'A) Daten'!C90","v":{"$error":"#N/A"}},{"$f":"#REF!","v":{"$error":"#REF!"}},{"$f":"'A) Daten'!K90","v":{"$error":"#N/A"}},{"$f":"#REF!","v":{"$error":"#REF!"}},{"$f":"'A) Daten'!L90","v":{"$error":"#N/A"}},{"$f":"#REF!","v":{"$error":"#REF!"}},{"$f":"'A) Daten'!J90","v":{"$error":"#N/A"}},{"$f":"#REF!","v":{"$error":"#REF!"}}]
[58,{"$f":"'A) Daten'!B91","v":{"$error":"#N/A"}},{"$f":"#REF!","v":{"$error":"#REF!"}},{"$f":"'A) Daten'!C91","v":{"$error":"#N/A"}},{"$f":"#REF!","v":{"$error":"#REF!"}},{"$f":"'A) Daten'!K91","v":{"$error":"#N/A"}},{"$f":"#REF!","v":{"$error":"#REF!"}},{"$f":"'A) Daten'!L91","v":{"$error":"#N/A"}},{"$f":"#REF!","v":{"$error":"#REF!"}},{"$f":"'A) Daten'!J91","v":{"$error":"#N/A"}},{"$f":"#REF!","v":{"$error":"#REF!"}}]
[59,{"$f":"'A) Daten'!B92","v":{"$error":"#N/A"}},{"$f":"#REF!","v":{"$error":"#REF!"}},{"$f":"'A) Daten'!C92","v":{"$error":"#N/A"}},{"$f":"#REF!","v":{"$error":"#REF!"}},{"$f":"'A) Daten'!K92","v":{"$error":"#N/A"}},{"$f":"#REF!","v":{"$error":"#REF!"}},{"$f":"'A) Daten'!L92","v":{"$error":"#N/A"}},{"$f":"#REF!","v":{"$error":"#REF!"}},{"$f":"'A) Daten'!J92","v":{"$error":"#N/A"}},{"$f":"#REF!","v":{"$error":"#REF!"}}]
[60,{"$f":"'A) Daten'!B93","v":{"$error":"#N/A"}},{"$f":"#REF!","v":{"$error":"#REF!"}},{"$f":"'A) Daten'!C93","v":{"$error":"#N/A"}},{"$f":"#REF!","v":{"$error":"#REF!"}},{"$f":"'A) Daten'!K93","v":{"$error":"#N/A"}},{"$f":"#REF!","v":{"$error":"#REF!"}},{"$f":"'A) Daten'!L93","v":{"$error":"#N/A"}},{"$f":"#REF!","v":{"$error":"#REF!"}},{"$f":"'A) Daten'!J93","v":{"$error":"#N/A"}},{"$f":"#REF!","v":{"$error":"#REF!"}}]
[]
[]
["Abgleich Tendenzen"]
["Urteilstendenz"]
["Zeitpunkt 1",null,"Zeitpunkt 2",null,"AB"]
["ID1","Wert1","ID2","Wert2","ID1","Wert2"]
[{"$f":"'A) Daten'!C97","v":0},{"$f":"'A) Daten'!D159","v":{"$error":"#N/A"}},{"$f":"#REF!","v":{"$error":"#REF!"}},{"$f":"#REF!","v":{"$error":"#REF!"}},{"$f":"A101","v":0},{"$f":"VLOOKUP(E101,C101:D161,2,FALSE)","v":{"$error":"#N/A"}}]
[{"$f":"'A) Daten'!C98","v":0},{"$f":"'A) Daten'!D160","v":{"$error":"#N/A"}},{"$f":"#REF!","v":{"$error":"#REF!"}},{"$f":"#REF!","v":{"$error":"#REF!"}},{"$f":"A102","v":0},{"$f":"VLOOKUP(E102,C101:D161,2,FALSE)","v":{"$error":"#N/A"}}]
[{"$f":"'A) Daten'!C99","v":0},{"$f":"'A) Daten'!D161","v":{"$error":"#N/A"}},{"$f":"#REF!","v":{"$error":"#REF!"}},{"$f":"#REF!","v":{"$error":"#REF!"}},0,{"$f":"VLOOKUP(E103,C101:D161,2,FALSE)","v":{"$error":"#N/A"}}]
[{"$f":"'A) Daten'!C100","v":0},{"$f":"'A) Daten'!D162","v":{"$error":"#N/A"}},{"$f":"#REF!","v":{"$error":"#REF!"}},{"$f":"#REF!","v":{"$error":"#REF!"}},0,{"$f":"VLOOKUP(E104,C101:D161,2,FALSE)","v":{"$error":"#N/A"}}]
[{"$f":"'A) Daten'!C101","v":0},{"$f":"'A) Daten'!D163","v":{"$error":"#N/A"}},{"$f":"#REF!","v":{"$error":"#REF!"}},{"$f":"#REF!","v":{"$error":"#REF!"}},0,{"$f":"VLOOKUP(E105,C101:D161,2,FALSE)","v":{"$error":"#N/A"}}]
[{"$f":"'A) Daten'!C102","v":0},{"$f":"'A) Daten'!D164","v":{"$error":"#N/A"}},{"$f":"#REF!","v":{"$error":"#REF!"}},{"$f":"#REF!","v":{"$error":"#REF!"}},0,{"$f":"VLOOKUP(E106,C101:D161,2,FALSE)","v":{"$error":"#N/A"}}]
[{"$f":"'A) Daten'!C103","v":0},{"$f":"'A) Daten'!D165","v":{"$error":"#N/A"}},{"$f":"#REF!","v":{"$error":"#REF!"}},{"$f":"#REF!","v":{"$error":"#REF!"}},0,{"$f":"VLOOKUP(E107,C101:D161,2,FALSE)","v":{"$error":"#N/A"}}]
[{"$f":"'A) Daten'!C104","v":0},{"$f":"'A) Daten'!D166","v":{"$error":"#N/A"}},{"$f":"#REF!","v":{"$error":"#REF!"}},{"$f":"#REF!","v":{"$error":"#REF!"}},0,{"$f":"VLOOKUP(E108,C101:D161,2,FALSE)","v":{"$error":"#N/A"}}]
[{"$f":"'A) Daten'!C105","v":0},{"$f":"'A) Daten'!D167","v":{"$error":"#N/A"}},{"$f":"#REF!","v":{"$error":"#REF!"}},{"$f":"#REF!","v":{"$error":"#REF!"}},0,{"$f":"VLOOKUP(E109,C101:D161,2,FALSE)","v":{"$error":"#N/A"}}]
[{"$f":"'A) Daten'!C106","v":0},{"$f":"'A) Daten'!D168","v":{"$error":"#N/A"}},{"$f":"#REF!","v":{"$error":"#REF!"}},{"$f":"#REF!","v":{"$error":"#REF!"}},0,{"$f":"VLOOKUP(E110,C101:D161,2,FALSE)","v":{"$error":"#N/A"}}]
[{"$f":"'A) Daten'!C107","v":0},{"$f":"'A) Daten'!D169","v":{"$error":"#N/A"}},{"$f":"#REF!","v":{"$error":"#REF!"}},{"$f":"#REF!","v":{"$error":"#REF!"}},0,{"$f":"VLOOKUP(E111,C101:D161,2,FALSE)","v":{"$error":"#N/A"}}]
[{"$f":"'A) Daten'!C108","v":0},{"$f":"'A) Daten'!D170","v":{"$error":"#N/A"}},{"$f":"#REF!","v":{"$error":"#REF!"}},{"$f":"#REF!","v":{"$error":"#REF!"}},0,{"$f":"VLOOKUP(E112,C101:D161,2,FALSE)","v":{"$error":"#N/A"}}]
[{"$f":"'A) Daten'!C109","v":0},{"$f":"'A) Daten'!D171","v":{"$error":"#N/A"}},{"$f":"#REF!","v":{"$error":"#REF!"}},{"$f":"#REF!","v":{"$error":"#REF!"}},0,{"$f":"VLOOKUP(E113,C101:D161,2,FALSE)","v":{"$error":"#N/A"}}]
[{"$f":"'A) Daten'!C110","v":0},{"$f":"'A) Daten'!D172","v":{"$error":"#N/A"}},{"$f":"#REF!","v":{"$error":"#REF!"}},{"$f":"#REF!","v":{"$error":"#REF!"}},0,{"$f":"VLOOKUP(E114,C101:D161,2,FALSE)","v":{"$error":"#N/A"}}]
[{"$f":"'A) Daten'!C111","v":0},{"$f":"'A) Daten'!D173","v":{"$error":"#N/A"}},{"$f":"#REF!","v":{"$error":"#REF!"}},{"$f":"#REF!","v":{"$error":"#REF!"}},0,{"$f":"VLOOKUP(E115,C101:D161,2,FALSE)","v":{"$error":"#N/A"}}]
[{"$f":"'A) Daten'!C112","v":0},{"$f":"'A) Daten'!D174","v":{"$error":"#N/A"}},{"$f":"#REF!","v":{"$error":"#REF!"}},{"$f":"#REF!","v":{"$error":"#REF!"}},0,{"$f":"VLOOKUP(E116,C101:D161,2,FALSE)","v":{"$error":"#N/A"}}]
[{"$f":"'A) Daten'!C113","v":0},{"$f":"'A) Daten'!D175","v":{"$error":"#N/A"}},{"$f":"#REF!","v":{"$error":"#REF!"}},{"$f":"#REF!","v":{"$error":"#REF!"}},0,{"$f":"VLOOKUP(E117,C101:D161,2,FALSE)","v":{"$error":"#N/A"}}]
[{"$f":"'A) Daten'!C114","v":0},{"$f":"'A) Daten'!D176","v":{"$error":"#N/A"}},{"$f":"#REF!","v":{"$error":"#REF!"}},{"$f":"#REF!","v":{"$error":"#REF!"}},0,{"$f":"VLOOKUP(E118,C101:D161,2,FALSE)","v":{"$error":"#N/A"}}]
[{"$f":"'A) Daten'!C115","v":0},{"$f":"'A) Daten'!D177","v":{"$error":"#N/A"}},{"$f":"#REF!","v":{"$error":"#REF!"}},{"$f":"#REF!","v":{"$error":"#REF!"}},0,{"$f":"VLOOKUP(E119,C101:D161,2,FALSE)","v":{"$error":"#N/A"}}]
[{"$f":"'A) Daten'!C116","v":0},{"$f":"'A) Daten'!D178","v":{"$error":"#N/A"}},{"$f":"#REF!","v":{"$error":"#REF!"}},{"$f":"#REF!","v":{"$error":"#REF!"}},0,{"$f":"VLOOKUP(E120,C101:D161,2,FALSE)","v":{"$error":"#N/A"}}]
[{"$f":"'A) Daten'!C117","v":0},{"$f":"'A) Daten'!D179","v":{"$error":"#N/A"}},{"$f":"#REF!","v":{"$error":"#REF!"}},{"$f":"#REF!","v":{"$error":"#REF!"}},0,{"$f":"VLOOKUP(E121,C101:D161,2,FALSE)","v":{"$error":"#N/A"}}]
[{"$f":"'A) Daten'!C118","v":0},{"$f":"'A) Daten'!D180","v":{"$error":"#N/A"}},{"$f":"#REF!","v":{"$error":"#REF!"}},{"$f":"#REF!","v":{"$error":"#REF!"}},0,{"$f":"VLOOKUP(E122,C101:D161,2,FALSE)","v":{"$error":"#N/A"}}]
[{"$f":"'A) Daten'!C119","v":0},{"$f":"'A) Daten'!D181","v":{"$error":"#N/A"}},{"$f":"#REF!","v":{"$error":"#REF!"}},{"$f":"#REF!","v":{"$error":"#REF!"}},0,{"$f":"VLOOKUP(E123,C101:D161,2,FALSE)","v":{"$error":"#N/A"}}]
[{"$f":"'A) Daten'!C120","v":0},{"$f":"'A) Daten'!D182","v":{"$error":"#N/A"}},{"$f":"#REF!","v":{"$error":"#REF!"}},{"$f":"#REF!","v":{"$error":"#REF!"}},0,{"$f":"VLOOKUP(E124,C101:D161,2,FALSE)","v":{"$error":"#N/A"}}]
[{"$f":"'A) Daten'!C121","v":0},{"$f":"'A) Daten'!D183","v":{"$error":"#N/A"}},{"$f":"#REF!","v":{"$error":"#REF!"}},{"$f":"#REF!","v":{"$error":"#REF!"}},0,{"$f":"VLOOKUP(E125,C101:D161,2,FALSE)","v":{"$error":"#N/A"}}]
[{"$f":"'A) Daten'!C122","v":0},{"$f":"'A) Daten'!D184","v":{"$error":"#N/A"}},{"$f":"#REF!","v":{"$error":"#REF!"}},{"$f":"#REF!","v":{"$error":"#REF!"}},0,{"$f":"VLOOKUP(E126,C101:D161,2,FALSE)","v":{"$error":"#N/A"}}]
[{"$f":"'A) Daten'!C123","v":0},{"$f":"'A) Daten'!D185","v":{"$error":"#N/A"}},{"$f":"#REF!","v":{"$error":"#REF!"}},{"$f":"#REF!","v":{"$error":"#REF!"}},0,{"$f":"VLOOKUP(E127,C101:D161,2,FALSE)","v":{"$error":"#N/A"}}]
[{"$f":"'A) Daten'!C124","v":0},{"$f":"'A) Daten'!D186","v":{"$error":"#N/A"}},{"$f":"#REF!","v":{"$error":"#REF!"}},{"$f":"#REF!","v":{"$error":"#REF!"}},0,{"$f":"VLOOKUP(E128,C101:D161,2,FALSE)","v":{"$error":"#N/A"}}]
[{"$f":"'A) Daten'!C125","v":0},{"$f":"'A) Daten'!D187","v":{"$error":"#N/A"}},{"$f":"#REF!","v":{"$error":"#REF!"}},{"$f":"#REF!","v":{"$error":"#REF!"}},0,{"$f":"VLOOKUP(E129,C101:D161,2,FALSE)","v":{"$error":"#N/A"}}]
[{"$f":"'A) Daten'!C126","v":0},{"$f":"'A) Daten'!D188","v":{"$error":"#N/A"}},{"$f":"#REF!","v":{"$error":"#REF!"}},{"$f":"#REF!","v":{"$error":"#REF!"}},0,{"$f":"VLOOKUP(E130,C101:D161,2,FALSE)","v":{"$error":"#N/A"}}]
[{"$f":"'A) Daten'!C127","v":0},{"$f":"'A) Daten'!D189","v":{"$error":"#N/A"}},{"$f":"#REF!","v":{"$error":"#REF!"}},{"$f":"#REF!","v":{"$error":"#REF!"}},0,{"$f":"VLOOKUP(E131,C101:D161,2,FALSE)","v":{"$error":"#N/A"}}]
[{"$f":"'A) Daten'!C128","v":0},{"$f":"'A) Daten'!D190","v":{"$error":"#N/A"}},{"$f":"#REF!","v":{"$error":"#REF!"}},{"$f":"#REF!","v":{"$error":"#REF!"}},0,{"$f":"VLOOKUP(E132,C101:D161,2,FALSE)","v":{"$error":"#N/A"}}]
[{"$f":"'A) Daten'!C129","v":0},{"$f":"'A) Daten'!D191","v":{"$error":"#N/A"}},{"$f":"#REF!","v":{"$error":"#REF!"}},{"$f":"#REF!","v":{"$error":"#REF!"}},0,{"$f":"VLOOKUP(E133,C101:D161,2,FALSE)","v":{"$error":"#N/A"}}]
[{"$f":"'A) Daten'!C130","v":0},{"$f":"'A) Daten'!D192","v":{"$error":"#N/A"}},{"$f":"#REF!","v":{"$error":"#REF!"}},{"$f":"#REF!","v":{"$error":"#REF!"}},0,{"$f":"VLOOKUP(E134,C101:D161,2,FALSE)","v":{"$error":"#N/A"}}]
[{"$f":"'A) Daten'!C131","v":0},{"$f":"'A) Daten'!D193","v":{"$error":"#N/A"}},{"$f":"#REF!","v":{"$error":"#REF!"}},{"$f":"#REF!","v":{"$error":"#REF!"}},0,{"$f":"VLOOKUP(E135,C101:D161,2,FALSE)","v":{"$error":"#N/A"}}]
[{"$f":"'A) Daten'!C132","v":0},{"$f":"'A) Daten'!D194","v":{"$error":"#N/A"}},{"$f":"#REF!","v":{"$error":"#REF!"}},{"$f":"#REF!","v":{"$error":"#REF!"}},0,{"$f":"VLOOKUP(E136,C101:D161,2,FALSE)","v":{"$error":"#N/A"}}]
[{"$f":"'A) Daten'!C133","v":0},{"$f":"'A) Daten'!D195","v":{"$error":"#N/A"}},{"$f":"#REF!","v":{"$error":"#REF!"}},{"$f":"#REF!","v":{"$error":"#REF!"}},0,{"$f":"VLOOKUP(E137,C101:D161,2,FALSE)","v":{"$error":"#N/A"}}]
[{"$f":"'A) Daten'!C134","v":0},{"$f":"'A) Daten'!D196","v":{"$error":"#N/A"}},{"$f":"#REF!","v":{"$error":"#REF!"}},{"$f":"#REF!","v":{"$error":"#REF!"}},0,{"$f":"VLOOKUP(E138,C101:D161,2,FALSE)","v":{"$error":"#N/A"}}]
[{"$f":"'A) Daten'!C135","v":0},{"$f":"'A) Daten'!D197","v":{"$error":"#N/A"}},{"$f":"#REF!","v":{"$error":"#REF!"}},{"$f":"#REF!","v":{"$error":"#REF!"}},0,{"$f":"VLOOKUP(E139,C101:D161,2,FALSE)","v":{"$error":"#N/A"}}]
[{"$f":"'A) Daten'!C136","v":0},{"$f":"'A) Daten'!D198","v":{"$error":"#N/A"}},{"$f":"#REF!","v":{"$error":"#REF!"}},{"$f":"#REF!","v":{"$error":"#REF!"}},0,{"$f":"VLOOKUP(E140,C101:D161,2,FALSE)","v":{"$error":"#N/A"}}]
[{"$f":"'A) Daten'!C137","v":0},{"$f":"'A) Daten'!D199","v":{"$error":"#N/A"}},{"$f":"#REF!","v":{"$error":"#REF!"}},{"$f":"#REF!","v":{"$error":"#REF!"}},0,{"$f":"VLOOKUP(E141,C101:D161,2,FALSE)","v":{"$error":"#N/A"}}]
[{"$f":"'A) Daten'!C138","v":0},{"$f":"'A) Daten'!D200","v":{"$error":"#N/A"}},{"$f":"#REF!","v":{"$error":"#REF!"}},{"$f":"#REF!","v":{"$error":"#REF!"}},0,{"$f":"VLOOKUP(E142,C101:D161,2,FALSE)","v":{"$error":"#N/A"}}]
[{"$f":"'A) Daten'!C139","v":0},{"$f":"'A) Daten'!D201","v":{"$error":"#N/A"}},{"$f":"#REF!","v":{"$error":"#REF!"}},{"$f":"#REF!","v":{"$error":"#REF!"}},0,{"$f":"VLOOKUP(E143,C101:D161,2,FALSE)","v":{"$error":"#N/A"}}]
[{"$f":"'A) Daten'!C140","v":0},{"$f":"'A) Daten'!D202","v":{"$error":"#N/A"}},{"$f":"#REF!","v":{"$error":"#REF!"}},{"$f":"#REF!","v":{"$error":"#REF!"}},0,{"$f":"VLOOKUP(E144,C101:D161,2,FALSE)","v":{"$error":"#N/A"}}]
[{"$f":"'A) Daten'!C141","v":0},{"$f":"'A) Daten'!D203","v":{"$error":"#N/A"}},{"$f":"#REF!","v":{"$error":"#REF!"}},{"$f":"#REF!","v":{"$error":"#REF!"}},0,{"$f":"VLOOKUP(E145,C101:D161,2,FALSE)","v":{"$error":"#N/A"}}]
[{"$f":"'A) Daten'!C142","v":0},{"$f":"'A) Daten'!D204","v":{"$error":"#N/A"}},{"$f":"#REF!","v":{"$error":"#REF!"}},{"$f":"#REF!","v":{"$error":"#REF!"}},0,{"$f":"VLOOKUP(E146,C101:D161,2,FALSE)","v":{"$error":"#N/A"}}]
[{"$f":"'A) Daten'!C143","v":0},{"$f":"'A) Daten'!D205","v":{"$error":"#N/A"}},{"$f":"#REF!","v":{"$error":"#REF!"}},{"$f":"#REF!","v":{"$error":"#REF!"}},0,{"$f":"VLOOKUP(E147,C101:D161,2,FALSE)","v":{"$error":"#N/A"}}]
[{"$f":"'A) Daten'!C144","v":0},{"$f":"'A) Daten'!D206","v":{"$error":"#N/A"}},{"$f":"#REF!","v":{"$error":"#REF!"}},{"$f":"#REF!","v":{"$error":"#REF!"}},0,{"$f":"VLOOKUP(E148,C101:D161,2,FALSE)","v":{"$error":"#N/A"}}]
[{"$f":"'A) Daten'!C145","v":0},{"$f":"'A) Daten'!D207","v":{"$error":"#N/A"}},{"$f":"#REF!","v":{"$error":"#REF!"}},{"$f":"#REF!","v":{"$error":"#REF!"}},0,{"$f":"VLOOKUP(E149,C101:D161,2,FALSE)","v":{"$error":"#N/A"}}]
[{"$f":"'A) Daten'!C146","v":0},{"$f":"'A) Daten'!D208","v":{"$error":"#N/A"}},{"$f":"#REF!","v":{"$error":"#REF!"}},{"$f":"#REF!","v":{"$error":"#REF!"}},0,{"$f":"VLOOKUP(E150,C101:D161,2,FALSE)","v":{"$error":"#N/A"}}]
[{"$f":"'A) Daten'!C147","v":0},{"$f":"'A) Daten'!D209","v":{"$error":"#N/A"}},{"$f":"#REF!","v":{"$error":"#REF!"}},{"$f":"#REF!","v":{"$error":"#REF!"}},0,{"$f":"VLOOKUP(E151,C101:D161,2,FALSE)","v":{"$error":"#N/A"}}]
[{"$f":"'A) Daten'!C148","v":0},{"$f":"'A) Daten'!D210","v":{"$error":"#N/A"}},{"$f":"#REF!","v":{"$error":"#REF!"}},{"$f":"#REF!","v":{"$error":"#REF!"}},0,{"$f":"VLOOKUP(E152,C101:D161,2,FALSE)","v":{"$error":"#N/A"}}]
[{"$f":"'A) Daten'!C149","v":0},{"$f":"'A) Daten'!D211","v":{"$error":"#N/A"}},{"$f":"#REF!","v":{"$error":"#REF!"}},{"$f":"#REF!","v":{"$error":"#REF!"}},0,{"$f":"VLOOKUP(E153,C101:D161,2,FALSE)","v":{"$error":"#N/A"}}]
[{"$f":"'A) Daten'!C150","v":0},{"$f":"'A) Daten'!D212","v":{"$error":"#N/A"}},{"$f":"#REF!","v":{"$error":"#REF!"}},{"$f":"#REF!","v":{"$error":"#REF!"}},0,{"$f":"VLOOKUP(E154,C101:D161,2,FALSE)","v":{"$error":"#N/A"}}]
[{"$f":"'A) Daten'!C151","v":0},{"$f":"'A) Daten'!D213","v":{"$error":"#N/A"}},{"$f":"#REF!","v":{"$error":"#REF!"}},{"$f":"#REF!","v":{"$error":"#REF!"}},0,{"$f":"VLOOKUP(E155,C101:D161,2,FALSE)","v":{"$error":"#N/A"}}]
[{"$f":"'A) Daten'!C152","v":0},{"$f":"'A) Daten'!D214","v":{"$error":"#N/A"}},{"$f":"#REF!","v":{"$error":"#REF!"}},{"$f":"#REF!","v":{"$error":"#REF!"}},0,{"$f":"VLOOKUP(E156,C101:D161,2,FALSE)","v":{"$error":"#N/A"}}]
[{"$f":"'A) Daten'!C153","v":0},{"$f":"'A) Daten'!D215","v":{"$error":"#N/A"}},{"$f":"#REF!","v":{"$error":"#REF!"}},{"$f":"#REF!","v":{"$error":"#REF!"}},0,{"$f":"VLOOKUP(E157,C101:D161,2,FALSE)","v":{"$error":"#N/A"}}]
[{"$f":"'A) Daten'!C154","v":85},{"$f":"'A) Daten'!D216","v":"Koll2"},{"$f":"#REF!","v":{"$error":"#REF!"}},{"$f":"#REF!","v":{"$error":"#REF!"}},85,{"$f":"VLOOKUP(E158,C101:D161,2,FALSE)","v":{"$error":"#N/A"}}]
[{"$f":"'A) Daten'!C155","v":85},{"$f":"'A) Daten'!D217","v":"Kollege1"},{"$f":"#REF!","v":{"$error":"#REF!"}},{"$f":"#REF!","v":{"$error":"#REF!"}},85,{"$f":"VLOOKUP(E159,C101:D161,2,FALSE)","v":{"$error":"#N/A"}}]
[{"$f":"'A) Daten'!C156","v":85},{"$f":"'A) Daten'!D218","v":"Lehrer"},{"$f":"#REF!","v":{"$error":"#REF!"}},{"$f":"#REF!","v":{"$error":"#REF!"}},85,{"$f":"VLOOKUP(E160,C101:D161,2,FALSE)","v":{"$error":"#N/A"}}]
[{"$f":"'A) Daten'!C157","v":""},{"$f":"'A) Daten'!D219","v":{"$error":"#N/A"}},{"$f":"#REF!","v":{"$error":"#REF!"}},{"$f":"#REF!","v":{"$error":"#REF!"}},"",{"$f":"VLOOKUP(E161,C101:D161,2,FALSE)","v":{"$error":"#N/A"}}]

{"sheet":"AB) Alle Ergebnisse","index":37,"n_rows":40,"n_cols":11,"rows_kept":40,"cut":false,"hidden":true,"merged":[[8,7,8,8],[4,5,4,6],[5,5,5,6],[10,5,10,6],[5,7,5,8],[6,5,6,6],[7,5,7,6],[8,5,8,6],[9,5,9,6],[9,7,9,8],[10,7,10,8],[2,0,3,2],[1,0,1,6],[4,7,4,8],[7,7,7,8],[6,7,6,8],[27,7,27,8],[26,7,26,8],[20,7,20,8],[18,7,18,8],[19,7,19,8],[22,7,22,8],[21,7,21,8],[11,7,11,8],[15,7,15,8],[14,7,14,8],[13,7,13,8],[12,7,12,8],[17,7,17,8],[16,7,16,8],[37,2,37,4],[38,2,38,4],[37,5,37,8],[38,5,38,8],[23,7,23,8],[32,7,32,8],[34,7,34,8],[33,7,33,8],[30,7,30,8],[29,7,29,8],[28,7,28,8],[24,7,24,8],[25,7,25,8],[31,7,31,8]]}
[]
["Alle Ergebnisse des Abgleichs beider Erhebungen"]
["Leitfragen zur Interpretation der Ergebnisse"]
[]
[null,"Beide Erhebungen","Schüler","Kollegen","Lehrer","Triangulation 1. Erhebung",null,"Triangulation 2. Erhebung"]
[null,{"$f":"#REF!","v":{"$error":"#REF!"}}]
[{"$f":"#REF!","v":{"$error":"#REF!"}},{"$f":"#REF!","v":{"$error":"#REF!"}},null,null,null,null,null,null,null,1.94,2.6]
[{"$f":"#REF!","v":{"$error":"#REF!"}},{"$f":"#REF!","v":{"$error":"#REF!"}},null,null,null,null,null,null,null,3.8,5.88]
[{"$f":"#REF!","v":{"$error":"#REF!"}},{"$f":"#REF!","v":{"$error":"#REF!"}},null,null,null,null,null,null,null,5.52,8.84]
[{"$f":"#REF!","v":{"$error":"#REF!"}},{"$f":"#REF!","v":{"$error":"#REF!"}},null,null,null,null,null,null,null,7.31,12.28]
[{"$f":"#REF!","v":{"$error":"#REF!"}},{"$f":"#REF!","v":{"$error":"#REF!"}},null,null,null,null,null,null,null,9.0399999999999991,15.64]
[null,{"$f":"#REF!","v":{"$error":"#REF!"}}]
[{"$f":"#REF!","v":{"$error":"#REF!"}},{"$f":"#REF!","v":{"$error":"#REF!"}},null,null,null,null,null,null,null,1.72,1.71]
[{"$f":"#REF!","v":{"$error":"#REF!"}},{"$f":"#REF!","v":{"$error":"#REF!"}},null,null,null,null,null,null,null,3.26,3.32]
[{"$f":"#REF!","v":{"$error":"#REF!"}},{"$f":"#REF!","v":{"$error":"#REF!"}},null,null,null,null,null,null,null,4.7300000000000004,4.8499999999999996]
[{"$f":"#REF!","v":{"$error":"#REF!"}},{"$f":"#REF!","v":{"$error":"#REF!"}},null,null,null,null,null,null,null,6.31,6.46]
[{"$f":"#REF!","v":{"$error":"#REF!"}},{"$f":"#REF!","v":{"$error":"#REF!"}},null,null,null,null,null,null,null,7.78,8.0299999999999994]
[{"$f":"#REF!","v":{"$error":"#REF!"}},{"$f":"#REF!","v":{"$error":"#REF!"}},null,null,null,null,null,null,null,9.2799999999999994,9.64]
[null,{"$f":"#REF!","v":{"$error":"#REF!"}}]
[{"$f":"#REF!","v":{"$error":"#REF!"}},{"$f":"#REF!","v":{"$error":"#REF!"}},null,null,null,null,null,null,null,2.6,1.72]
[{"$f":"#REF!","v":{"$error":"#REF!"}},{"$f":"#REF!","v":{"$error":"#REF!"}},null,null,null,null,null,null,null,5.88,3.26]
[{"$f":"#REF!","v":{"$error":"#REF!"}},{"$f":"#REF!","v":{"$error":"#REF!"}},null,null,null,null,null,null,null,8.84,4.7300000000000004]
[{"$f":"#REF!","v":{"$error":"#REF!"}},{"$f":"#REF!","v":{"$error":"#REF!"}},null,null,null,null,null,null,null,12.28,6.31]
[{"$f":"#REF!","v":{"$error":"#REF!"}},{"$f":"#REF!","v":{"$error":"#REF!"}},null,null,null,null,null,null,null,15.64,7.78]
[null,{"$f":"#REF!","v":{"$error":"#REF!"}}]
[{"$f":"#REF!","v":{"$error":"#REF!"}},{"$f":"#REF!","v":{"$error":"#REF!"}},null,null,null,null,null,null,null,1.72,9.2799999999999994]
[{"$f":"#REF!","v":{"$error":"#REF!"}},{"$f":"#REF!","v":{"$error":"#REF!"}},null,null,null,null,null,null,null,3.26,2]
[{"$f":"#REF!","v":{"$error":"#REF!"}},{"$f":"#REF!","v":{"$error":"#REF!"}},null,null,null,null,null,null,null,4.7300000000000004,3.7]
[{"$f":"#REF!","v":{"$error":"#REF!"}},{"$f":"#REF!","v":{"$error":"#REF!"}},null,null,null,null,null,null,null,6.31,5.5]
[{"$f":"#REF!","v":{"$error":"#REF!"}},{"$f":"#REF!","v":{"$error":"#REF!"}},null,null,null,null,null,null,null,7.78,7.3]
[{"$f":"#REF!","v":{"$error":"#REF!"}},{"$f":"#REF!","v":{"$error":"#REF!"}},null,null,null,null,null,null,null,9.2799999999999994,9]
[null,{"$f":"#REF!","v":{"$error":"#REF!"}}]
["23S","Die Schüler/innen haben in dieser Unterrichtsstunde etwas dazu gelernt / Ich habe die Lernziele dieser Unterrichtsstunde erreicht",null,null,null,null,null,null,null,2,9.2799999999999994]
[24,{"$f":"#REF!","v":{"$error":"#REF!"}},null,null,null,null,null,null,null,3.8,2]
[25,{"$f":"#REF!","v":{"$error":"#REF!"}},null,null,null,null,null,null,null,5.6,3.7]
["26 L/K",{"$f":"#REF!","v":{"$error":"#REF!"}},null,null,null,null,null,null,null,7.4,5.5]
["27 L/K",{"$f":"#REF!","v":{"$error":"#REF!"}},null,null,null,null,null,null,null,9.1999999999999993,7.3]
[null,null,"Erste Erhebung",null,null,"Zweite Erhebung"]
["26S","Der Unterrichtsstoff dieser Stunde war für Schüler/innen:"]
[null,"Zur Erläuterung: Item 26 hat den Zusatz L/K, weil es sich ausschließlich an Lehrer und Kollegen richtet. Item 27 L/K ist in dieser Formulierung ebenfalls nur für Lehrer und Kollegen bestimmt, findet aber im Item 26 S eine inhaltliche Entsprechung im Schülerfragebogen"]

{"sheet":"AB) Ergebnisse (Gruppen)","index":38,"n_rows":67,"n_cols":10,"rows_kept":67,"cut":false,"hidden":true,"merged":[[1,1,1,2],[2,0,3,2],[4,3,4,5],[4,6,4,8],[5,1,6,1],[5,2,6,2],[5,3,6,5],[5,6,6,8],[10,3,10,5],[10,6,10,8],[11,3,11,5],[11,6,11,8],[12,3,12,5],[12,6,12,8],[7,3,7,5],[7,6,7,8],[8,3,8,5],[8,6,8,8],[9,3,9,5],[9,6,9,8],[16,3,16,5],[16,6,16,8],[17,3,17,5],[17,6,17,8],[18,3,18,5],[18,6,18,8],[13,3,13,5],[13,6,13,8],[14,3,14,5],[14,6,14,8],[15,3,15,5],[15,6,15,8],[22,3,22,5],[22,6,22,8],[23,3,23,5],[23,6,23,8],[24,3,24,5],[24,6,24,8],[19,3,19,5],[19,6,19,8],[20,3,20,5],[20,6,20,8],[21,3,21,5],[21,6,21,8],[28,3,28,5],[28,6,28,8],[29,3,29,5],[29,6,29,8],[30,3,30,5],[30,6,30,8],[25,3,25,5],[25,6,25,8],[26,3,26,5],[26,6,26,8],[27,3,27,5],[27,6,27,8],[34,3,34,5],[34,6,34,8],[35,3,35,5],[35,6,35,8],[36,3,36,5],[36,6,36,8],[31,3,31,5],[31,6,31,8],[32,3,32,5],[32,6,32,8],[33,3,33,5],[33,6,33,8],[40,3,40,5],[40,6,40,8],[41,3,41,5],[41,6,41,8],[42,3,42,5],[42,6,42,8],[37,3,37,5],[37,6,37,8],[38,3,38,5],[38,6,38,8],[39,3,39,5],[39,6,39,8],[46,3,46,5],[46,6,46,8],[47,3,47,5],[47,6,47,8],[48,3,48,5],[48,6,48,8],[43,3,43,5],[43,6,43,8],[44,3,44,5],[44,6,44,8],[45,3,45,5],[45,6,45,8],[52,3,52,5],[52,6,52,8],[53,3,53,5],[53,6,53,8],[54,3,54,5],[54,6,54,8],[49,3,49,5],[49,6,49,8],[50,3,50,5],[50,6,50,8],[51,3,51,5],[51,6,51,8],[58,3,58,5],[58,6,58,8],[59,3,59,5],[59,6,59,8],[60,3,60,5],[60,6,60,8],[55,3,55,5],[55,6,55,8],[56,3,56,5],[56,6,56,8],[57,3,57,5],[57,6,57,8],[64,3,64,5],[64,6,64,8],[65,3,65,5],[65,6,65,8],[66,3,66,5],[66,6,66,8],[61,3,61,5],[61,6,61,8],[62,3,62,5],[62,6,62,8],[63,3,63,5],[63,6,63,8]]}
[]
[null," Vergleich beider Erhebungen"]
["Leitfragen zur Interpretation der Ergebnisse"]
[]
[null,"Beide Erhebungen","Schüler","Abgleich 1. Erhebung",null,null,"Abgleich 2. Erhebung"]
[]
[]
[1,{"$f":"IF(FragenErstellen!B7=\"\",\"\",FragenErstellen!B7)","v":"Klassenführung"},null,null,null,null,null,null,null,1.5]
[2,{"$f":"IF(FragenErstellen!B8=\"\",\"\",FragenErstellen!B8)","v":"Der Unterricht hat pünktlich begonnen."},null,null,null,null,null,null,null,2.5]
[3,{"$f":"IF(FragenErstellen!B9=\"\",\"\",FragenErstellen!B9)","v":"Die Klassenregeln waren den Schüler/innen klar."},null,null,null,null,null,null,null,3.5]
[4,{"$f":"IF(FragenErstellen!B10=\"\",\"\",FragenErstellen!B10)","v":"Die Schüler/innen konnten ungestört arbeiten."},null,null,null,null,null,null,null,4.5]
[5,{"$f":"IF(FragenErstellen!B11=\"\",\"\",FragenErstellen!B11)","v":"Den Schüler/innen war im Laufe der Unterrichtsstunde jederzeit klar, was sie tun sollten."},null,null,null,null,null,null,null,5.5]
[6,{"$f":"IF(FragenErstellen!B12=\"\",\"\",FragenErstellen!B12)","v":"Die gesamte Unterrichtsstunde wurde für den Lernstoff verwendet."},null,null,null,null,null,null,null,6.5]
[7,{"$f":"IF(FragenErstellen!B13=\"\",\"\",FragenErstellen!B13)","v":"Lernförderliches Klima und Motivierung"},null,null,null,null,null,null,null,7.5]
[8,{"$f":"IF(FragenErstellen!B14=\"\",\"\",FragenErstellen!B14)","v":"Mit Schülerbeiträgen ist die Lehrperson wertschätzend umgegangen."},null,null,null,null,null,null,null,8.5]
[9,{"$f":"IF(FragenErstellen!B15=\"\",\"\",FragenErstellen!B15)","v":"Die Lehrperson war freundlich zu den Schüler/innen."},null,null,null,null,null,null,null,9.5]
[10,{"$f":"IF(FragenErstellen!B16=\"\",\"\",FragenErstellen!B16)","v":"Die Lehrperson hat die Schüler/innen ausreden lassen, wenn sie dran waren."},null,null,null,null,null,null,null,10.5]
[11,{"$f":"IF(FragenErstellen!B17=\"\",\"\",FragenErstellen!B17)","v":"Wenn die Lehrperson eine Frage gestellt hat, hatten die Schüler/innen ausreichend Zeit zum Nachdenken."},null,null,null,null,null,null,null,11.5]
[12,{"$f":"IF(FragenErstellen!B18=\"\",\"\",FragenErstellen!B18)","v":"Die Lehrperson hat auflockernde Bemerkung gemacht."},null,null,null,null,null,null,null,12.5]
[13,{"$f":"IF(FragenErstellen!B19=\"\",\"\",FragenErstellen!B19)","v":"Die Lehrperson hat die Schüler/innen für Beiträge zum Unterricht angemessen gelobt."},null,null,null,null,null,null,null,13.5]
[14,{"$f":"IF(FragenErstellen!B20=\"\",\"\",FragenErstellen!B20)","v":"Klarheit und Strukturiertheit "},null,null,null,null,null,null,null,14.5]
[15,{"$f":"IF(FragenErstellen!B21=\"\",\"\",FragenErstellen!B21)","v":"Die Lehrperson har klar auf früher unterrichteten Stoff hingewiesen."},null,null,null,null,null,null,null,15.5]
[16,{"$f":"IF(FragenErstellen!B22=\"\",\"\",FragenErstellen!B22)","v":"Es gab anschauliche Beispiele."},null,null,null,null,null,null,null,16.5]
[17,{"$f":"IF(FragenErstellen!B23=\"\",\"\",FragenErstellen!B23)","v":"Die wichtigsten Punkte wurden zusammengefasst."},null,null,null,null,null,null,null,17.5]
[18,{"$f":"IF(FragenErstellen!B24=\"\",\"\",FragenErstellen!B24)","v":"Die Lehrperson hat darauf geachtet, dass die Schüler/innen sich klar ausdrücken."},null,null,null,null,null,null,null,18.5]
[19,{"$f":"IF(FragenErstellen!B25=\"\",\"\",FragenErstellen!B25)","v":"Den Schüler/innen war klar, was sie in dieser Stunde lernen sollten."},null,null,null,null,null,null,null,19.5]
[20,{"$f":"IF(FragenErstellen!B26=\"\",\"\",FragenErstellen!B26)","v":"Aktivierung"},null,null,null,null,null,null,null,20.5]
[21,{"$f":"IF(FragenErstellen!B27=\"\",\"\",FragenErstellen!B27)","v":"Die Schüler/innen haben sich mit eigenen Beiträgen am Unterrichtsgespräche beteiligt."},null,null,null,null,null,null,null,21.5]
[22,{"$f":"IF(FragenErstellen!B28=\"\",\"\",FragenErstellen!B28)","v":"Die Schüler/innen haben Aufgaben alleine bearbeitet."},null,null,null,null,null,null,null,22.5]
[23,{"$f":"IF(FragenErstellen!B29=\"\",\"\",FragenErstellen!B29)","v":"Die Schüler/innen haben etwas vor anderen präsentiert."},null,null,null,null,null,null,null,23.5]
[24,{"$f":"IF(FragenErstellen!B30=\"\",\"\",FragenErstellen!B30)","v":"Die Schüler/innen haben ihre eigenen Arbeitsergebnisse selbst kontrolliert."},null,null,null,null,null,null,null,24.5]
[25,{"$f":"IF(FragenErstellen!B31=\"\",\"\",FragenErstellen!B31)","v":"Die Schüler/innen waren die ganze Stunde über aktiv bei der Sache."},null,null,null,null,null,null,null,25.5]
[26,{"$f":"IF(FragenErstellen!B32=\"\",\"\",FragenErstellen!B32)","v":"Bilanz/ Ertrag"},null,null,null,null,null,null,null,26.5]
[27,{"$f":"IF(FragenErstellen!B33=\"\",\"\",FragenErstellen!B33)","v":"Die Schüler/innen haben etwas dazu gelernt."},null,null,null,null,null,null,null,27.5]
[28,{"$f":"IF(FragenErstellen!B34=\"\",\"\",FragenErstellen!B34)","v":"Die Unterrichtsstunde war für die Schüler/innen interessant."},null,null,null,null,null,null,null,28.5]
[29,{"$f":"IF(FragenErstellen!B35=\"\",\"\",FragenErstellen!B35)","v":"Die Schüler/innen haben sich in dieser Stunde wohl gefühlt."},null,null,null,null,null,null,null,29.5]
[30,{"$f":"IF(FragenErstellen!B36=\"\",\"\",FragenErstellen!B36)","v":"Die Lehrperson hat sich in dieser Stunde an den Bildungsstandards dieses Faches orientiert."},null,null,null,null,null,null,null,30.5]
[31,{"$f":"IF(FragenErstellen!B37=\"\",\"\",FragenErstellen!B37)","v":"Im Hinblick auf die unterschiedlichen Lernvoraussetzungen der Schüler/innen war das Unterrichtsangebot angemessen."},null,null,null,null,null,null,null,31.5]
[32,{"$f":"IF(FragenErstellen!B38=\"\",\"\",FragenErstellen!B38)","v":"Zusatzbereich:"},null,null,null,null,null,null,null,32.5]
[33,{"$f":"IF(FragenErstellen!B39=\"\",\"\",FragenErstellen!B39)","v":""},null,null,null,null,null,null,null,33.5]
[34,{"$f":"IF(FragenErstellen!B40=\"\",\"\",FragenErstellen!B40)","v":""},null,null,null,null,null,null,null,34.5]
[35,{"$f":"IF(FragenErstellen!B41=\"\",\"\",FragenErstellen!B41)","v":""},null,null,null,null,null,null,null,35.5]
[36,{"$f":"IF(FragenErstellen!B42=\"\",\"\",FragenErstellen!B42)","v":""},null,null,null,null,null,null,null,36.5]
[37,{"$f":"IF(FragenErstellen!B43=\"\",\"\",FragenErstellen!B43)","v":""},null,null,null,null,null,null,null,37.5]
[38,{"$f":"IF(FragenErstellen!B44=\"\",\"\",FragenErstellen!B44)","v":""},null,null,null,null,null,null,null,38.5]
[39,{"$f":"IF(FragenErstellen!B45=\"\",\"\",FragenErstellen!B45)","v":""},null,null,null,null,null,null,null,39.5]
[40,{"$f":"IF(FragenErstellen!B46=\"\",\"\",FragenErstellen!B46)","v":""},null,null,null,null,null,null,null,40.5]
[41,{"$f":"IF(FragenErstellen!B47=\"\",\"\",FragenErstellen!B47)","v":""},null,null,null,null,null,null,null,41.5]
[42,{"$f":"IF(FragenErstellen!B48=\"\",\"\",FragenErstellen!B48)","v":""},null,null,null,null,null,null,null,42.5]
[43,{"$f":"IF(FragenErstellen!B49=\"\",\"\",FragenErstellen!B49)","v":""},null,null,null,null,null,null,null,43.5]
[44,{"$f":"IF(FragenErstellen!B50=\"\",\"\",FragenErstellen!B50)","v":""},null,null,null,null,null,null,null,44.5]
[45,{"$f":"IF(FragenErstellen!B51=\"\",\"\",FragenErstellen!B51)","v":""},null,null,null,null,null,null,null,45.5]
[46,{"$f":"IF(FragenErstellen!B52=\"\",\"\",FragenErstellen!B52)","v":""},null,null,null,null,null,null,null,46.5]
[47,{"$f":"IF(FragenErstellen!B53=\"\",\"\",FragenErstellen!B53)","v":""},null,null,null,null,null,null,null,47.5]
[48,{"$f":"IF(FragenErstellen!B54=\"\",\"\",FragenErstellen!B54)","v":""},null,null,null,null,null,null,null,48.5]
[49,{"$f":"IF(FragenErstellen!B55=\"\",\"\",FragenErstellen!B55)","v":""},null,null,null,null,null,null,null,49.5]
[50,{"$f":"IF(FragenErstellen!B56=\"\",\"\",FragenErstellen!B56)","v":""},null,null,null,null,null,null,null,50.5]
[51,{"$f":"IF(FragenErstellen!B57=\"\",\"\",FragenErstellen!B57)","v":""},null,null,null,null,null,null,null,51.5]
[52,{"$f":"IF(FragenErstellen!B58=\"\",\"\",FragenErstellen!B58)","v":""},null,null,null,null,null,null,null,52.5]
[53,{"$f":"IF(FragenErstellen!B59=\"\",\"\",FragenErstellen!B59)","v":""},null,null,null,null,null,null,null,53.5]
[54,{"$f":"IF(FragenErstellen!B60=\"\",\"\",FragenErstellen!B60)","v":""},null,null,null,null,null,null,null,54.5]
[55,{"$f":"IF(FragenErstellen!B61=\"\",\"\",FragenErstellen!B61)","v":""},null,null,null,null,null,null,null,55.5]
[56,{"$f":"IF(FragenErstellen!B62=\"\",\"\",FragenErstellen!B62)","v":""},null,null,null,null,null,null,null,56.5]
[57,{"$f":"IF(FragenErstellen!B63=\"\",\"\",FragenErstellen!B63)","v":""},null,null,null,null,null,null,null,57.5]
[58,{"$f":"IF(FragenErstellen!B64=\"\",\"\",FragenErstellen!B64)","v":""},null,null,null,null,null,null,null,58.5]
[59,{"$f":"IF(FragenErstellen!B65=\"\",\"\",FragenErstellen!B65)","v":""},null,null,null,null,null,null,null,59.5]
[60,{"$f":"IF(FragenErstellen!B66=\"\",\"\",FragenErstellen!B66)","v":""},null,null,null,null,null,null,null,60.5]

{"sheet":"AB) Ergebnisse (6)","index":39,"n_rows":67,"n_cols":10,"rows_kept":67,"cut":false,"hidden":true,"merged":[[2,0,3,2],[66,3,66,5],[66,6,66,8],[63,3,63,5],[63,6,63,8],[64,3,64,5],[64,6,64,8],[65,3,65,5],[65,6,65,8],[62,3,62,5],[62,6,62,8],[57,3,57,5],[57,6,57,8],[58,3,58,5],[58,6,58,8],[59,3,59,5],[59,6,59,8],[60,3,60,5],[60,6,60,8],[61,3,61,5],[61,6,61,8],[56,3,56,5],[56,6,56,8],[51,3,51,5],[51,6,51,8],[52,3,52,5],[52,6,52,8],[53,3,53,5],[53,6,53,8],[54,3,54,5],[54,6,54,8],[55,3,55,5],[55,6,55,8],[50,3,50,5],[50,6,50,8],[45,3,45,5],[45,6,45,8],[46,3,46,5],[46,6,46,8],[47,3,47,5],[47,6,47,8],[48,3,48,5],[48,6,48,8],[49,3,49,5],[49,6,49,8],[44,3,44,5],[44,6,44,8],[39,3,39,5],[39,6,39,8],[40,3,40,5],[40,6,40,8],[41,3,41,5],[41,6,41,8],[42,3,42,5],[42,6,42,8],[43,3,43,5],[43,6,43,8],[38,3,38,5],[38,6,38,8],[33,3,33,5],[33,6,33,8],[34,3,34,5],[34,6,34,8],[35,3,35,5],[35,6,35,8],[36,3,36,5],[36,6,36,8],[37,3,37,5],[37,6,37,8],[4,6,4,8],[4,3,4,5],[5,2,6,2],[5,6,6,8],[32,3,32,5],[32,6,32,8],[27,3,27,5],[27,6,27,8],[28,3,28,5],[28,6,28,8],[29,3,29,5],[29,6,29,8],[30,3,30,5],[30,6,30,8],[31,3,31,5],[31,6,31,8],[20,6,20,8],[19,6,19,8],[18,3,18,5],[17,3,17,5],[26,6,26,8],[25,6,25,8],[24,6,24,8],[23,6,23,8],[22,6,22,8],[21,6,21,8],[1,1,1,2],[26,3,26,5],[25,3,25,5],[24,3,24,5],[23,3,23,5],[11,3,11,5],[14,3,14,5],[13,3,13,5],[22,3,22,5],[21,3,21,5],[20,3,20,5],[19,3,19,5],[12,3,12,5],[5,3,6,5],[10,3,10,5],[9,3,9,5],[8,3,8,5],[7,3,7,5],[16,3,16,5],[15,3,15,5],[10,6,10,8],[9,6,9,8],[8,6,8,8],[7,6,7,8],[18,6,18,8],[17,6,17,8],[16,6,16,8],[15,6,15,8],[12,6,12,8],[11,6,11,8],[14,6,14,8],[13,6,13,8]]}
[]
[null," Vergleich beider Erhebungen"]
["Leitfragen zur Interpretation der Ergebnisse"]
[]
[null,null,"Schüler","Abgleich 1. Erhebung",null,null,"Abgleich 2. Erhebung"]
[]
[".","Beide Erhebungen"]
[1,{"$f":"IF(FragenErstellen!B7=\"\",\"\",FragenErstellen!B7)","v":"Klassenführung"},null,null,null,null,null,null,null,1.5]
[2,{"$f":"IF(FragenErstellen!B8=\"\",\"\",FragenErstellen!B8)","v":"Der Unterricht hat pünktlich begonnen."},null,null,null,null,null,null,null,2.5]
[3,{"$f":"IF(FragenErstellen!B9=\"\",\"\",FragenErstellen!B9)","v":"Die Klassenregeln waren den Schüler/innen klar."},null,null,null,null,null,null,null,3.5]
[4,{"$f":"IF(FragenErstellen!B10=\"\",\"\",FragenErstellen!B10)","v":"Die Schüler/innen konnten ungestört arbeiten."},null,null,null,null,null,null,null,4.5]
[5,{"$f":"IF(FragenErstellen!B11=\"\",\"\",FragenErstellen!B11)","v":"Den Schüler/innen war im Laufe der Unterrichtsstunde jederzeit klar, was sie tun sollten."},null,null,null,null,null,null,null,5.5]
[6,{"$f":"IF(FragenErstellen!B12=\"\",\"\",FragenErstellen!B12)","v":"Die gesamte Unterrichtsstunde wurde für den Lernstoff verwendet."},null,null,null,null,null,null,null,6.5]
[7,{"$f":"IF(FragenErstellen!B13=\"\",\"\",FragenErstellen!B13)","v":"Lernförderliches Klima und Motivierung"},null,null,null,null,null,null,null,7.5]
[8,{"$f":"IF(FragenErstellen!B14=\"\",\"\",FragenErstellen!B14)","v":"Mit Schülerbeiträgen ist die Lehrperson wertschätzend umgegangen."},null,null,null,null,null,null,null,8.5]
[9,{"$f":"IF(FragenErstellen!B15=\"\",\"\",FragenErstellen!B15)","v":"Die Lehrperson war freundlich zu den Schüler/innen."},null,null,null,null,null,null,null,9.5]
[10,{"$f":"IF(FragenErstellen!B16=\"\",\"\",FragenErstellen!B16)","v":"Die Lehrperson hat die Schüler/innen ausreden lassen, wenn sie dran waren."},null,null,null,null,null,null,null,10.5]
[11,{"$f":"IF(FragenErstellen!B17=\"\",\"\",FragenErstellen!B17)","v":"Wenn die Lehrperson eine Frage gestellt hat, hatten die Schüler/innen ausreichend Zeit zum Nachdenken."},null,null,null,null,null,null,null,11.5]
[12,{"$f":"IF(FragenErstellen!B18=\"\",\"\",FragenErstellen!B18)","v":"Die Lehrperson hat auflockernde Bemerkung gemacht."},null,null,null,null,null,null,null,12.5]
[13,{"$f":"IF(FragenErstellen!B19=\"\",\"\",FragenErstellen!B19)","v":"Die Lehrperson hat die Schüler/innen für Beiträge zum Unterricht angemessen gelobt."},null,null,null,null,null,null,null,13.5]
[14,{"$f":"IF(FragenErstellen!B20=\"\",\"\",FragenErstellen!B20)","v":"Klarheit und Strukturiertheit "},null,null,null,null,null,null,null,14.5]
[15,{"$f":"IF(FragenErstellen!B21=\"\",\"\",FragenErstellen!B21)","v":"Die Lehrperson har klar auf früher unterrichteten Stoff hingewiesen."},null,null,null,null,null,null,null,15.5]
[16,{"$f":"IF(FragenErstellen!B22=\"\",\"\",FragenErstellen!B22)","v":"Es gab anschauliche Beispiele."},null,null,null,null,null,null,null,16.5]
[17,{"$f":"IF(FragenErstellen!B23=\"\",\"\",FragenErstellen!B23)","v":"Die wichtigsten Punkte wurden zusammengefasst."},null,null,null,null,null,null,null,17.5]
[18,{"$f":"IF(FragenErstellen!B24=\"\",\"\",FragenErstellen!B24)","v":"Die Lehrperson hat darauf geachtet, dass die Schüler/innen sich klar ausdrücken."},null,null,null,null,null,null,null,18.5]
[19,{"$f":"IF(FragenErstellen!B25=\"\",\"\",FragenErstellen!B25)","v":"Den Schüler/innen war klar, was sie in dieser Stunde lernen sollten."},null,null,null,null,null,null,null,19.5]
[20,{"$f":"IF(FragenErstellen!B26=\"\",\"\",FragenErstellen!B26)","v":"Aktivierung"},null,null,null,null,null,null,null,20.5]
[21,{"$f":"IF(FragenErstellen!B27=\"\",\"\",FragenErstellen!B27)","v":"Die Schüler/innen haben sich mit eigenen Beiträgen am Unterrichtsgespräche beteiligt."},null,null,null,null,null,null,null,21.5]
[22,{"$f":"IF(FragenErstellen!B28=\"\",\"\",FragenErstellen!B28)","v":"Die Schüler/innen haben Aufgaben alleine bearbeitet."},null,null,null,null,null,null,null,22.5]
[23,{"$f":"IF(FragenErstellen!B29=\"\",\"\",FragenErstellen!B29)","v":"Die Schüler/innen haben etwas vor anderen präsentiert."},null,null,null,null,null,null,null,23.5]
[24,{"$f":"IF(FragenErstellen!B30=\"\",\"\",FragenErstellen!B30)","v":"Die Schüler/innen haben ihre eigenen Arbeitsergebnisse selbst kontrolliert."},null,null,null,null,null,null,null,24.5]
[25,{"$f":"IF(FragenErstellen!B31=\"\",\"\",FragenErstellen!B31)","v":"Die Schüler/innen waren die ganze Stunde über aktiv bei der Sache."},null,null,null,null,null,null,null,25.5]
[26,{"$f":"IF(FragenErstellen!B32=\"\",\"\",FragenErstellen!B32)","v":"Bilanz/ Ertrag"},null,null,null,null,null,null,null,26.5]
[27,{"$f":"IF(FragenErstellen!B33=\"\",\"\",FragenErstellen!B33)","v":"Die Schüler/innen haben etwas dazu gelernt."},null,null,null,null,null,null,null,27.5]
[28,{"$f":"IF(FragenErstellen!B34=\"\",\"\",FragenErstellen!B34)","v":"Die Unterrichtsstunde war für die Schüler/innen interessant."},null,null,null,null,null,null,null,28.5]
[29,{"$f":"IF(FragenErstellen!B35=\"\",\"\",FragenErstellen!B35)","v":"Die Schüler/innen haben sich in dieser Stunde wohl gefühlt."},null,null,null,null,null,null,null,29.5]
[30,{"$f":"IF(FragenErstellen!B36=\"\",\"\",FragenErstellen!B36)","v":"Die Lehrperson hat sich in dieser Stunde an den Bildungsstandards dieses Faches orientiert."},null,null,null,null,null,null,null,30.5]
[31,{"$f":"IF(FragenErstellen!B37=\"\",\"\",FragenErstellen!B37)","v":"Im Hinblick auf die unterschiedlichen Lernvoraussetzungen der Schüler/innen war das Unterrichtsangebot angemessen."},null,null,null,null,null,null,null,31.5]
[32,{"$f":"IF(FragenErstellen!B38=\"\",\"\",FragenErstellen!B38)","v":"Zusatzbereich:"},null,null,null,null,null,null,null,32.5]
[33,{"$f":"IF(FragenErstellen!B39=\"\",\"\",FragenErstellen!B39)","v":""},null,null,null,null,null,null,null,33.5]
[34,{"$f":"IF(FragenErstellen!B40=\"\",\"\",FragenErstellen!B40)","v":""},null,null,null,null,null,null,null,34.5]
[35,{"$f":"IF(FragenErstellen!B41=\"\",\"\",FragenErstellen!B41)","v":""},null,null,null,null,null,null,null,35.5]
[36,{"$f":"IF(FragenErstellen!B42=\"\",\"\",FragenErstellen!B42)","v":""},null,null,null,null,null,null,null,36.5]
[37,{"$f":"IF(FragenErstellen!B43=\"\",\"\",FragenErstellen!B43)","v":""},null,null,null,null,null,null,null,37.5]
[38,{"$f":"IF(FragenErstellen!B44=\"\",\"\",FragenErstellen!B44)","v":""},null,null,null,null,null,null,null,38.5]
[39,{"$f":"IF(FragenErstellen!B45=\"\",\"\",FragenErstellen!B45)","v":""},null,null,null,null,null,null,null,39.5]
[40,{"$f":"IF(FragenErstellen!B46=\"\",\"\",FragenErstellen!B46)","v":""},null,null,null,null,null,null,null,40.5]
[41,{"$f":"IF(FragenErstellen!B47=\"\",\"\",FragenErstellen!B47)","v":""},null,null,null,null,null,null,null,41.5]
[42,{"$f":"IF(FragenErstellen!B48=\"\",\"\",FragenErstellen!B48)","v":""},null,null,null,null,null,null,null,42.5]
[43,{"$f":"IF(FragenErstellen!B49=\"\",\"\",FragenErstellen!B49)","v":""},null,null,null,null,null,null,null,43.5]
[44,{"$f":"IF(FragenErstellen!B50=\"\",\"\",FragenErstellen!B50)","v":""},null,null,null,null,null,null,null,44.5]
[45,{"$f":"IF(FragenErstellen!B51=\"\",\"\",FragenErstellen!B51)","v":""},null,null,null,null,null,null,null,45.5]
[46,{"$f":"IF(FragenErstellen!B52=\"\",\"\",FragenErstellen!B52)","v":""},null,null,null,null,null,null,null,46.5]
[47,{"$f":"IF(FragenErstellen!B53=\"\",\"\",FragenErstellen!B53)","v":""},null,null,null,null,null,null,null,47.5]
[48,{"$f":"IF(FragenErstellen!B54=\"\",\"\",FragenErstellen!B54)","v":""},null,null,null,null,null,null,null,48.5]
[49,{"$f":"IF(FragenErstellen!B55=\"\",\"\",FragenErstellen!B55)","v":""},null,null,null,null,null,null,null,49.5]
[50,{"$f":"IF(FragenErstellen!B56=\"\",\"\",FragenErstellen!B56)","v":""},null,null,null,null,null,null,null,50.5]
[51,{"$f":"IF(FragenErstellen!B57=\"\",\"\",FragenErstellen!B57)","v":""},null,null,null,null,null,null,null,51.5]
[52,{"$f":"IF(FragenErstellen!B58=\"\",\"\",FragenErstellen!B58)","v":""},null,null,null,null,null,null,null,52.5]
[53,{"$f":"IF(FragenErstellen!B59=\"\",\"\",FragenErstellen!B59)","v":""},null,null,null,null,null,null,null,53.5]
[54,{"$f":"IF(FragenErstellen!B60=\"\",\"\",FragenErstellen!B60)","v":""},null,null,null,null,null,null,null,54.5]
[55,{"$f":"IF(FragenErstellen!B61=\"\",\"\",FragenErstellen!B61)","v":""},null,null,null,null,null,null,null,55.5]
[56,{"$f":"IF(FragenErstellen!B62=\"\",\"\",FragenErstellen!B62)","v":""},null,null,null,null,null,null,null,56.5]
[57,{"$f":"IF(FragenErstellen!B63=\"\",\"\",FragenErstellen!B63)","v":""},null,null,null,null,null,null,null,57.5]
[58,{"$f":"IF(FragenErstellen!B64=\"\",\"\",FragenErstellen!B64)","v":""},null,null,null,null,null,null,null,58.5]
[59,{"$f":"IF(FragenErstellen!B65=\"\",\"\",FragenErstellen!B65)","v":""},null,null,null,null,null,null,null,59.5]
[60,{"$f":"IF(FragenErstellen!B66=\"\",\"\",FragenErstellen!B66)","v":""},null,null,null,null,null,null,null,60.5]

{"sheet":"Übersicht","index":40,"n_rows":11,"n_cols":6,"rows_kept":11,"cut":false,"hidden":true,"merged":[]}
["Daten einlesen","Erste Erhebung","Zweite Erhebung","Beide Erhebungen",null,"Vorbereitung"]
["Schüler"]
["Lehrer"]
[]
["Ergebnisse","Erste Erhebung","Zweite Erhebung","Beide Erhebungen"]
["Schüler"]
["Lehrer und Schüler"]
[]
["Ausdruck","Erste Erhebung","Zweite Erhebung","Beide Erhebungen"]
["Schüler"]
["Lehrer und Schüler"]

{"sheet":"PINs","index":41,"n_rows":69,"n_cols":13,"rows_kept":69,"cut":false,"hidden":true,"merged":[]}
[null,null,1,null,null,null,null,null,null,null,null,null,1]
["Loginvergleich",{"$f":"Login!D6","v":0},{"$f":"VLOOKUP(B2,$B5:$C69,2,FALSE)","v":{"$error":"#N/A"}},null,null,null,null,null,null,null,"Loginvergleich",{"$f":"Login!N6","v":"Admin"},{"$f":"VLOOKUP(L2,$L5:$M69,2,FALSE)","v":{"$error":"#N/A"}}]
[]
["Accountnummer","Namen","PIN",null,null,null,null,null,null,null,null,"Namen","PIN"]
[1,"Feedbackleiter",1111,null,null,null,null,null,null,null,null,"Feedbackleiter",1111]
[2,"Schüler01",1234,null,null,null,null,null,null,null,null,"BSchüler01",1234]
[3,"Schüler02",1234,null,"Erhebung 1",null,null,null,"Erhebung 2",null,null,"BSchüler02",1234]
[4,"Schüler03",1234,null,null,null,null,null,null,null,null,"BSchüler03",1234]
[5,"Schüler04",1234,null,null,null,null,null,null,null,null,"BSchüler04",1234]
[6,"Schüler05",1234,null,null,null,null,null,null,null,null,"BSchüler05",1234]
[7,"Schüler06",1234,null,null,null,null,null,null,null,null,"BSchüler06",1234]
[8,"Schüler07",1234,null,null,null,null,null,null,null,null,"BSchüler07",1234]
[9,"Schüler08",1234,null,null,null,null,null,null,null,null,"BSchüler08",1234]
[10,"Schüler09",1234,null,null,null,null,null,null,null,null,"BSchüler09",1234]
[11,"Schüler10",1234,null,null,null,null,null,null,null,null,"BSchüler10",1234]
[12,"Schüler11",1234,null,null,null,null,null,null,null,null,"BSchüler11",1234]
[13,"Schüler12",1234,null,null,null,null,null,null,null,null,"BSchüler12",1234]
[14,"Schüler13",1234,null,null,null,null,null,null,null,null,"BSchüler13",1234]
[15,"Schüler14",1234,null,null,null,null,null,null,null,null,"BSchüler14",1234]
[16,"Schüler15",1234,null,null,null,null,null,null,null,null,"BSchüler15",1234]
[17,"Schüler16",1234,null,null,null,null,null,null,null,null,"BSchüler16",1234]
[18,"Schüler17",1234,null,null,null,null,null,null,null,null,"BSchüler17",1234]
[19,"Schüler18",1234,null,null,null,null,null,null,null,null,"BSchüler18",1234]
[20,"Schüler19",1234,null,null,null,null,null,null,null,null,"BSchüler19",1234]
[21,"Schüler20",1234,null,null,null,null,null,null,null,null,"BSchüler20",1234]
[22,"Schüler21",1234,null,null,null,null,null,null,null,null,"BSchüler21",1234]
[23,"Schüler22",1234,null,null,null,null,null,null,null,null,"BSchüler22",1234]
[24,"Schüler23",1234,null,null,null,null,null,null,null,null,"BSchüler23",1234]
[25,"Schüler24",1234,null,null,null,null,null,null,null,null,"BSchüler24",1234]
[26,"Schüler25",1234,null,null,null,null,null,null,null,null,"BSchüler25",1234]
[27,"Schüler26",1234,null,null,null,null,null,null,null,null,"BSchüler26",1234]
[28,"Schüler27",1234,null,null,null,null,null,null,null,null,"BSchüler27",1234]
[29,"Schüler28",1234,null,null,null,null,null,null,null,null,"BSchüler28",1234]
[30,"Schüler29",1234,null,null,null,null,null,null,null,null,"BSchüler29",1234]
[31,"Schüler30",1234,null,null,null,null,null,null,null,null,"BSchüler30",1234]
[32,"Schüler31",1234,null,null,null,null,null,null,null,null,"BSchüler31",1234]
[33,"Schüler32",1234,null,null,null,null,null,null,null,null,"BSchüler32",1234]
[34,"LehrerMe",1234,null,null,null,null,null,null,null,null,"BLehrerMe",1234]
[35,"Lehrer01",1234,null,null,null,null,null,null,null,null,"BLehrer01",1234]
[36,"Lehrer02",1234,null,null,null,null,null,null,null,null,"BLehrer02",1234]
[37,"Lehrer03",1234,null,null,null,null,null,null,null,null,"BLehrer03",1234]
[38,"Lehrer04",1234,null,null,null,null,null,null,null,null,"BLehrer04",1234]
[39,"Lehrer05",1234,null,null,null,null,null,null,null,null,"BLehrer05",1234]
[40,"Lehrer06",1234,null,null,null,null,null,null,null,null,"BLehrer06",1234]
[41,"Lehrer07",1234,null,null,null,null,null,null,null,null,"BLehrer07",1234]
[42,"Lehrer08",1234,null,null,null,null,null,null,null,null,"BLehrer08",1234]
[43,"Lehrer09",1234,null,null,null,null,null,null,null,null,"BLehrer09",1234]
[44,"Lehrer10",1234,null,null,null,null,null,null,null,null,"BLehrer10",1234]
[45,"Lehrer11",1234,null,null,null,null,null,null,null,null,"BLehrer11",1234]
[46,"Lehrer12",1234,null,null,null,null,null,null,null,null,"BLehrer12",1234]
[47,"Lehrer13",1234,null,null,null,null,null,null,null,null,"BLehrer13",1234]
[48,"Lehrer14",1234,null,null,null,null,null,null,null,null,"BLehrer14",1234]
[49,"Lehrer15",1234,null,null,null,null,null,null,null,null,"BLehrer15",1234]
[50,"Lehrer16",1234,null,null,null,null,null,null,null,null,"BLehrer16",1234]
[51,"Lehrer17",1234,null,null,null,null,null,null,null,null,"BLehrer17",1234]
[52,"Lehrer18",1234,null,null,null,null,null,null,null,null,"BLehrer18",1234]
[53,"Lehrer19",1234,null,null,null,null,null,null,null,null,"BLehrer19",1234]
[54,"Lehrer20",1234,null,null,null,null,null,null,null,null,"BLehrer20",1234]
[55,"Lehrer21",1234,null,null,null,null,null,null,null,null,"BLehrer21",1234]
[56,"Lehrer22",1234,null,null,null,null,null,null,null,null,"BLehrer22",1234]
[57,"Lehrer23",1234,null,null,null,null,null,null,null,null,"BLehrer23",1234]
[58,"Lehrer24",1234,null,null,null,null,null,null,null,null,"BLehrer24",1234]
[59,"Lehrer25",1234,null,null,null,null,null,null,null,null,"BLehrer25",1234]
[60,"Lehrer26",1234,null,null,null,null,null,null,null,null,"BLehrer26",1234]
[61,"Lehrer27",1234,null,null,null,null,null,null,null,null,"BLehrer27",1234]
[62,"Lehrer28",1234,null,null,null,null,null,null,null,null,"BLehrer28",1234]
[63,"Lehrer29",1234,null,null,null,null,null,null,null,null,"BLehrer29",1234]
[64,"Lehrer30",1234,null,null,null,null,null,null,null,null,"BLehrer30",1234]
[65,"Lehrer31",1234,null,null,null,null,null,null,null,null,"BLehrer31",1234]

{"sheet":"ÜbersichtAdmin","index":42,"n_rows":11,"n_cols":6,"rows_kept":11,"cut":false,"hidden":true,"merged":[]}
["Daten einlesen","Erste Erhebung","Zweite Erhebung","Beide Erhebungen",null,"Vorbereitung"]
["Schüler","Anklicken","Anklicken",null,null,"Pins"]
["Lehrer","Anklicken","Anklicken",null,null,"Fragen erstellen"]
[]
["Ergebnisse","Erste Erhebung","Zweite Erhebung","Beide Erhebungen"]
["Schüler","Anklicken","Anklicken","Anklicken"]
["Lehrer und Schüler","Anklicken","Anklicken"]
[]
["Ausdruck","Erste Erhebung","Zweite Erhebung","Beide Erhebungen"]
["Schüler","Anklicken","Anklicken","Anklicken"]
["Lehrer und Schüler","Anklicken","Anklicken",null,null,1985]

{"sheet":"Adminbereich","index":43,"n_rows":2,"n_cols":2,"rows_kept":2,"cut":false,"hidden":true,"merged":[]}
[]
[null,"Zurück in den Adminbereich"]

{"sheet":"Anleitung","index":44,"n_rows":3,"n_cols":14,"rows_kept":3,"cut":false,"hidden":true,"merged":[[2,9,2,10]]}
[]
[]
[null,null,null,null,null,null,null,null,null,"Druckversionen",null,null,null," "]