{"text_format":"1","workbook":"xlsx","n_sheets":22,"sheets":["Übersicht","sfb1","Export1","sfb2","Export2","A) Eingabe (Schüler)","A) Eingabe (Lehrer)","lfb1","lfb2","A) Daten","A) Temp","A) Alle Ergebnisse","A) Ergebnisse (6)","B) Eingabe (Schüler)","B) Eingabe (Lehrer)","B) Daten","B) Temp","B) Alle Ergebnisse","B) Ergebnisse (6)","AB) Daten","AB) Alle Ergebnisse","AB) Ergebnisse (6)"],"not_rendered":{"charts":1015,"images":4,"macros":1,"external_links":0,"defined_names":103,"comments":2,"pivot_tables":0},"unopened":[],"bounds":{"document_bytes":16777216,"sheet_cells":100000,"rows_first":2000,"rows_last":500,"rows_between":2000,"halvings":0,"cell_chars":16384,"cell_head_chars":4096},"cells_cut":0,"cells_raw":0,"read":"whole","date_system":"1900"}

{"sheet":"Übersicht","index":0,"n_rows":11,"n_cols":4,"rows_kept":11,"cut":false,"hidden":false,"merged":[]}
["Nhập số liệu","Điều tra lần 1","Điều tra lần hai","Cả hai lần"]
["Phiếu học sinh"]
["Phiếu giáo viên/đồng nghiệp"]
[]
["Kết quả","Điều tra lần 1","Điều tra lần hai","Cả hai lần"]
["Phiếu hỏi cơ sở"]
["Phiếu hỏi bổ sung"]
[]
["In kết quả","Điều tra lần 1","Điều tra lần hai","Cả hai lần"]
["Phiếu hỏi cơ sở"]
["Phiếu hỏi bổ sung"]

{"sheet":"sfb1","index":1,"n_rows":36,"n_cols":54,"rows_kept":36,"cut":false,"hidden":true,"merged":[]}
["asI1","asI2","asI3","asI4","asI5","asI6","asI7","asI8","asI9","asI10","asI11","asI12","asI13","asI14","asI15","asI16","asI17","asI18","asI19","asI20","asI21","asI22","asI23","asI24","asI25","asI26","asI27","Land","Schulart","Stufe","Fach","Lehrer_ID","Zusatzitemtexte","Zusatzitems","asI28","asI29","asI30","asI31","asI32","asI33","asI34","asI35","asI36","asI37","asI38","asI39","asI40","asI41","asI42","asI43","asI44","asI45","asI46","asI47"]
[1,null,null,null,null,null,null,null,null,null,null,null,null,null,null,null,null,null,null,null,null,null,null,null,null,null,null,{"$f":"IF(COUNT($A2:$AA2)>0,Export1!$C$3,)","v":0},{"$f":"IF(COUNT($A2:$AA2)>0,Export1!$C$5,)","v":0},{"$f":"IF(COUNT($A2:$AA2)>0,Export1!$C$7,)","v":0},{"$f":"IF(COUNT($A2:$AA2)>0,Export1!$C$9,)","v":0},{"$f":"IF(COUNT($A2:$AA2)>0,Export1!$C$11,)","v":0},"Zusatzfrage 1"]
[1,null,null,null,null,null,null,null,null,null,null,null,null,null,null,null,null,null,null,null,null,null,null,null,null,null,null,{"$f":"IF(COUNT($A3:$AA3)>0,Export1!$C$3,)","v":0},{"$f":"IF(COUNT($A3:$AA3)>0,Export1!$C$5,)","v":0},{"$f":"IF(COUNT($A3:$AA3)>0,Export1!$C$7,)","v":0},{"$f":"IF(COUNT($A3:$AA3)>0,Export1!$C$9,)","v":0},{"$f":"IF(COUNT($A3:$AA3)>0,Export1!$C$11,)","v":0},"Zusatzfrage 2"]
[null,null,null,null,null,null,null,null,null,null,null,null,null,null,null,null,null,null,null,null,null,null,null,null,null,null,null,{"$f":"IF(COUNT($A4:$AA4)>0,Export1!$C$3,)","v":0},{"$f":"IF(COUNT($A4:$AA4)>0,Export1!$C$5,)","v":0},{"$f":"IF(COUNT($A4:$AA4)>0,Export1!$C$7,)","v":0},{"$f":"IF(COUNT($A4:$AA4)>0,Export1!$C$9,)","v":0},{"$f":"IF(COUNT($A4:$AA4)>0,Export1!$C$11,)","v":0},"Zusatzfrage 3"]
[null,null,null,null,null,null,null,null,null,null,null,null,null,null,null,null,null,null,null,null,null,null,null,null,null,null,null,{"$f":"IF(COUNT($A5:$AA5)>0,Export1!$C$3,)","v":0},{"$f":"IF(COUNT($A5:$AA5)>0,Export1!$C$5,)","v":0},{"$f":"IF(COUNT($A5:$AA5)>0,Export1!$C$7,)","v":0},{"$f":"IF(COUNT($A5:$AA5)>0,Export1!$C$9,)","v":0},{"$f":"IF(COUNT($A5:$AA5)>0,Export1!$C$11,)","v":0},"Zusatzfrage 4"]
[null,null,null,null,null,null,null,null,null,null,null,null,null,null,null,null,null,null,null,null,null,null,null,null,null,null,null,{"$f":"IF(COUNT($A6:$AA6)>0,Export1!$C$3,)","v":0},{"$f":"IF(COUNT($A6:$AA6)>0,Export1!$C$5,)","v":0},{"$f":"IF(COUNT($A6:$AA6)>0,Export1!$C$7,)","v":0},{"$f":"IF(COUNT($A6:$AA6)>0,Export1!$C$9,)","v":0},{"$f":"IF(COUNT($A6:$AA6)>0,Export1!$C$11,)","v":0},"Zusatzfrage 5"]
[null,null,null,null,null,null,null,null,null,null,null,null,null,null,null,null,null,null,null,null,null,null,null,null,null,null,null,{"$f":"IF(COUNT($A7:$AA7)>0,Export1!$C$3,)","v":0},{"$f":"IF(COUNT($A7:$AA7)>0,Export1!$C$5,)","v":0},{"$f":"IF(COUNT($A7:$AA7)>0,Export1!$C$7,)","v":0},{"$f":"IF(COUNT($A7:$AA7)>0,Export1!$C$9,)","v":0},{"$f":"IF(COUNT($A7:$AA7)>0,Export1!$C$11,)","v":0},"Zusatzfrage 6"]
[null,null,null,null,null,null,null,null,null,null,null,null,null,null,null,null,null,null,null,null,null,null,null,null,null,null,null,{"$f":"IF(COUNT($A8:$AA8)>0,Export1!$C$3,)","v":0},{"$f":"IF(COUNT($A8:$AA8)>0,Export1!$C$5,)","v":0},{"$f":"IF(COUNT($A8:$AA8)>0,Export1!$C$7,)","v":0},{"$f":"IF(COUNT($A8:$AA8)>0,Export1!$C$9,)","v":0},{"$f":"IF(COUNT($A8:$AA8)>0,Export1!$C$11,)","v":0},"Zusatzfrage 7"]
[null,null,null,null,null,null,null,null,null,null,null,null,null,null,null,null,null,null,null,null,null,null,null,null,null,null,null,{"$f":"IF(COUNT($A9:$AA9)>0,Export1!$C$3,)","v":0},{"$f":"IF(COUNT($A9:$AA9)>0,Export1!$C$5,)","v":0},{"$f":"IF(COUNT($A9:$AA9)>0,Export1!$C$7,)","v":0},{"$f":"IF(COUNT($A9:$AA9)>0,Export1!$C$9,)","v":0},{"$f":"IF(COUNT($A9:$AA9)>0,Export1!$C$11,)","v":0},"Zusatzfrage 8"]
[null,null,null,null,null,null,null,null,null,null,null,null,null,null,null,null,null,null,null,null,null,null,null,null,null,null,null,{"$f":"IF(COUNT($A10:$AA10)>0,Export1!$C$3,)","v":0},{"$f":"IF(COUNT($A10:$AA10)>0,Export1!$C$5,)","v":0},{"$f":"IF(COUNT($A10:$AA10)>0,Export1!$C$7,)","v":0},{"$f":"IF(COUNT($A10:$AA10)>0,Export1!$C$9,)","v":0},{"$f":"IF(COUNT($A10:$AA10)>0,Export1!$C$11,)","v":0},"Zusatzfrage 9"]
[null,null,null,null,null,null,null,null,null,null,null,null,null,null,null,null,null,null,null,null,null,null,null,null,null,null,null,{"$f":"IF(COUNT($A11:$AA11)>0,Export1!$C$3,)","v":0},{"$f":"IF(COUNT($A11:$AA11)>0,Export1!$C$5,)","v":0},{"$f":"IF(COUNT($A11:$AA11)>0,Export1!$C$7,)","v":0},{"$f":"IF(COUNT($A11:$AA11)>0,Export1!$C$9,)","v":0},{"$f":"IF(COUNT($A11:$AA11)>0,Export1!$C$11,)","v":0},"Zusatzfrage 10"]
[null,null,null,null,null,null,null,null,null,null,null,null,null,null,null,null,null,null,null,null,null,null,null,null,null,null,null,{"$f":"IF(COUNT($A12:$AA12)>0,Export1!$C$3,)","v":0},{"$f":"IF(COUNT($A12:$AA12)>0,Export1!$C$5,)","v":0},{"$f":"IF(COUNT($A12:$AA12)>0,Export1!$C$7,)","v":0},{"$f":"IF(COUNT($A12:$AA12)>0,Export1!$C$9,)","v":0},{"$f":"IF(COUNT($A12:$AA12)>0,Export1!$C$11,)","v":0},"Zusatzfrage 11"]
[null,null,null,null,null,null,null,null,null,null,null,null,null,null,null,null,null,null,null,null,null,null,null,null,null,null,null,{"$f":"IF(COUNT($A13:$AA13)>0,Export1!$C$3,)","v":0},{"$f":"IF(COUNT($A13:$AA13)>0,Export1!$C$5,)","v":0},{"$f":"IF(COUNT($A13:$AA13)>0,Export1!$C$7,)","v":0},{"$f":"IF(COUNT($A13:$AA13)>0,Export1!$C$9,)","v":0},{"$f":"IF(COUNT($A13:$AA13)>0,Export1!$C$11,)","v":0},"Zusatzfrage 12"]
[null,null,null,null,null,null,null,null,null,null,null,null,null,null,null,null,null,null,null,null,null,null,null,null,null,null,null,{"$f":"IF(COUNT($A14:$AA14)>0,Export1!$C$3,)","v":0},{"$f":"IF(COUNT($A14:$AA14)>0,Export1!$C$5,)","v":0},{"$f":"IF(COUNT($A14:$AA14)>0,Export1!$C$7,)","v":0},{"$f":"IF(COUNT($A14:$AA14)>0,Export1!$C$9,)","v":0},{"$f":"IF(COUNT($A14:$AA14)>0,Export1!$C$11,)","v":0},"Zusatzfrage 13"]
[null,null,null,null,null,null,null,null,null,null,null,null,null,null,null,null,null,null,null,null,null,null,null,null,null,null,null,{"$f":"IF(COUNT($A15:$AA15)>0,Export1!$C$3,)","v":0},{"$f":"IF(COUNT($A15:$AA15)>0,Export1!$C$5,)","v":0},{"$f":"IF(COUNT($A15:$AA15)>0,Export1!$C$7,)","v":0},{"$f":"IF(COUNT($A15:$AA15)>0,Export1!$C$9,)","v":0},{"$f":"IF(COUNT($A15:$AA15)>0,Export1!$C$11,)","v":0},"Zusatzfrage 14"]
[null,null,null,null,null,null,null,null,null,null,null,null,null,null,null,null,null,null,null,null,null,null,null,null,null,null,null,{"$f":"IF(COUNT($A16:$AA16)>0,Export1!$C$3,)","v":0},{"$f":"IF(COUNT($A16:$AA16)>0,Export1!$C$5,)","v":0},{"$f":"IF(COUNT($A16:$AA16)>0,Export1!$C$7,)","v":0},{"$f":"IF(COUNT($A16:$AA16)>0,Export1!$C$9,)","v":0},{"$f":"IF(COUNT($A16:$AA16)>0,Export1!$C$11,)","v":0},"Zusatzfrage 15"]
[null,null,null,null,null,null,null,null,null,null,null,null,null,null,null,null,null,null,null,null,null,null,null,null,null,null,null,{"$f":"IF(COUNT($A17:$AA17)>0,Export1!$C$3,)","v":0},{"$f":"IF(COUNT($A17:$AA17)>0,Export1!$C$5,)","v":0},{"$f":"IF(COUNT($A17:$AA17)>0,Export1!$C$7,)","v":0},{"$f":"IF(COUNT($A17:$AA17)>0,Export1!$C$9,)","v":0},{"$f":"IF(COUNT($A17:$AA17)>0,Export1!$C$11,)","v":0},"Zusatzfrage 16"]
[null,null,null,null,null,null,null,null,null,null,null,null,null,null,null,null,null,null,null,null,null,null,null,null,null,null,null,{"$f":"IF(COUNT($A18:$AA18)>0,Export1!$C$3,)","v":0},{"$f":"IF(COUNT($A18:$AA18)>0,Export1!$C$5,)","v":0},{"$f":"IF(COUNT($A18:$AA18)>0,Export1!$C$7,)","v":0},{"$f":"IF(COUNT($A18:$AA18)>0,Export1!$C$9,)","v":0},{"$f":"IF(COUNT($A18:$AA18)>0,Export1!$C$11,)","v":0},"Zusatzfrage 17"]
[null,null,null,null,null,null,null,null,null,null,null,null,null,null,null,null,null,null,null,null,null,null,null,null,null,null,null,{"$f":"IF(COUNT($A19:$AA19)>0,Export1!$C$3,)","v":0},{"$f":"IF(COUNT($A19:$AA19)>0,Export1!$C$5,)","v":0},{"$f":"IF(COUNT($A19:$AA19)>0,Export1!$C$7,)","v":0},{"$f":"IF(COUNT($A19:$AA19)>0,Export1!$C$9,)","v":0},{"$f":"IF(COUNT($A19:$AA19)>0,Export1!$C$11,)","v":0},"Zusatzfrage 18"]
[null,null,null,null,null,null,null,null,null,null,null,null,null,null,null,null,null,null,null,null,null,null,null,null,null,null,null,{"$f":"IF(COUNT($A20:$AA20)>0,Export1!$C$3,)","v":0},{"$f":"IF(COUNT($A20:$AA20)>0,Export1!$C$5,)","v":0},{"$f":"IF(COUNT($A20:$AA20)>0,Export1!$C$7,)","v":0},{"$f":"IF(COUNT($A20:$AA20)>0,Export1!$C$9,)","v":0},{"$f":"IF(COUNT($A20:$AA20)>0,Export1!$C$11,)","v":0},"Zusatzfrage 19"]
[null,null,null,null,null,null,null,null,null,null,null,null,null,null,null,null,null,null,null,null,null,null,null,null,null,null,null,{"$f":"IF(COUNT($A21:$AA21)>0,Export1!$C$3,)","v":0},{"$f":"IF(COUNT($A21:$AA21)>0,Export1!$C$5,)","v":0},{"$f":"IF(COUNT($A21:$AA21)>0,Export1!$C$7,)","v":0},{"$f":"IF(COUNT($A21:$AA21)>0,Export1!$C$9,)","v":0},{"$f":"IF(COUNT($A21:$AA21)>0,Export1!$C$11,)","v":0},"Zusatzfrage 20"]
[null,null,null,null,null,null,null,null,null,null,null,null,null,null,null,null,null,null,null,null,null,null,null,null,null,null,null,{"$f":"IF(COUNT($A22:$AA22)>0,Export1!$C$3,)","v":0},{"$f":"IF(COUNT($A22:$AA22)>0,Export1!$C$5,)","v":0},{"$f":"IF(COUNT($A22:$AA22)>0,Export1!$C$7,)","v":0},{"$f":"IF(COUNT($A22:$AA22)>0,Export1!$C$9,)","v":0},{"$f":"IF(COUNT($A22:$AA22)>0,Export1!$C$11,)","v":0}]
[null,null,null,null,null,null,null,null,null,null,null,null,null,null,null,null,null,null,null,null,null,null,null,null,null,null,null,{"$f":"IF(COUNT($A23:$AA23)>0,Export1!$C$3,)","v":0},{"$f":"IF(COUNT($A23:$AA23)>0,Export1!$C$5,)","v":0},{"$f":"IF(COUNT($A23:$AA23)>0,Export1!$C$7,)","v":0},{"$f":"IF(COUNT($A23:$AA23)>0,Export1!$C$9,)","v":0},{"$f":"IF(COUNT($A23:$AA23)>0,Export1!$C$11,)","v":0}]
[null,null,null,null,null,null,null,null,null,null,null,null,null,null,null,null,null,null,null,null,null,null,null,null,null,null,null,{"$f":"IF(COUNT($A24:$AA24)>0,Export1!$C$3,)","v":0},{"$f":"IF(COUNT($A24:$AA24)>0,Export1!$C$5,)","v":0},{"$f":"IF(COUNT($A24:$AA24)>0,Export1!$C$7,)","v":0},{"$f":"IF(COUNT($A24:$AA24)>0,Export1!$C$9,)","v":0},{"$f":"IF(COUNT($A24:$AA24)>0,Export1!$C$11,)","v":0}]
[null,null,null,null,null,null,null,null,null,null,null,null,null,null,null,null,null,null,null,null,null,null,null,null,null,null,null,{"$f":"IF(COUNT($A25:$AA25)>0,Export1!$C$3,)","v":0},{"$f":"IF(COUNT($A25:$AA25)>0,Export1!$C$5,)","v":0},{"$f":"IF(COUNT($A25:$AA25)>0,Export1!$C$7,)","v":0},{"$f":"IF(COUNT($A25:$AA25)>0,Export1!$C$9,)","v":0},{"$f":"IF(COUNT($A25:$AA25)>0,Export1!$C$11,)","v":0}]
[null,null,null,null,null,null,null,null,null,null,null,null,null,null,null,null,null,null,null,null,null,null,null,null,null,null,null,{"$f":"IF(COUNT($A26:$AA26)>0,Export1!$C$3,)","v":0},{"$f":"IF(COUNT($A26:$AA26)>0,Export1!$C$5,)","v":0},{"$f":"IF(COUNT($A26:$AA26)>0,Export1!$C$7,)","v":0},{"$f":"IF(COUNT($A26:$AA26)>0,Export1!$C$9,)","v":0},{"$f":"IF(COUNT($A26:$AA26)>0,Export1!$C$11,)","v":0}]
[null,null,null,null,null,null,null,null,null,null,null,null,null,null,null,null,null,null,null,null,null,null,null,null,null,null,null,{"$f":"IF(COUNT($A27:$AA27)>0,Export1!$C$3,)","v":0},{"$f":"IF(COUNT($A27:$AA27)>0,Export1!$C$5,)","v":0},{"$f":"IF(COUNT($A27:$AA27)>0,Export1!$C$7,)","v":0},{"$f":"IF(COUNT($A27:$AA27)>0,Export1!$C$9,)","v":0},{"$f":"IF(COUNT($A27:$AA27)>0,Export1!$C$11,)","v":0}]
[null,null,null,null,null,null,null,null,null,null,null,null,null,null,null,null,null,null,null,null,null,null,null,null,null,null,null,{"$f":"IF(COUNT($A28:$AA28)>0,Export1!$C$3,)","v":0},{"$f":"IF(COUNT($A28:$AA28)>0,Export1!$C$5,)","v":0},{"$f":"IF(COUNT($A28:$AA28)>0,Export1!$C$7,)","v":0},{"$f":"IF(COUNT($A28:$AA28)>0,Export1!$C$9,)","v":0},{"$f":"IF(COUNT($A28:$AA28)>0,Export1!$C$11,)","v":0}]
[null,null,null,null,null,null,null,null,null,null,null,null,null,null,null,null,null,null,null,null,null,null,null,null,null,null,null,{"$f":"IF(COUNT($A29:$AA29)>0,Export1!$C$3,)","v":0},{"$f":"IF(COUNT($A29:$AA29)>0,Export1!$C$5,)","v":0},{"$f":"IF(COUNT($A29:$AA29)>0,Export1!$C$7,)","v":0},{"$f":"IF(COUNT($A29:$AA29)>0,Export1!$C$9,)","v":0},{"$f":"IF(COUNT($A29:$AA29)>0,Export1!$C$11,)","v":0}]
[null,null,null,null,null,null,null,null,null,null,null,null,null,null,null,null,null,null,null,null,null,null,null,null,null,null,null,{"$f":"IF(COUNT($A30:$AA30)>0,Export1!$C$3,)","v":0},{"$f":"IF(COUNT($A30:$AA30)>0,Export1!$C$5,)","v":0},{"$f":"IF(COUNT($A30:$AA30)>0,Export1!$C$7,)","v":0},{"$f":"IF(COUNT($A30:$AA30)>0,Export1!$C$9,)","v":0},{"$f":"IF(COUNT($A30:$AA30)>0,Export1!$C$11,)","v":0}]
[null,null,null,null,null,null,null,null,null,null,null,null,null,null,null,null,null,null,null,null,null,null,null,null,null,null,null,{"$f":"IF(COUNT($A31:$AA31)>0,Export1!$C$3,)","v":0},{"$f":"IF(COUNT($A31:$AA31)>0,Export1!$C$5,)","v":0},{"$f":"IF(COUNT($A31:$AA31)>0,Export1!$C$7,)","v":0},{"$f":"IF(COUNT($A31:$AA31)>0,Export1!$C$9,)","v":0},{"$f":"IF(COUNT($A31:$AA31)>0,Export1!$C$11,)","v":0}]
[null,null,null,null,null,null,null,null,null,null,null,null,null,null,null,null,null,null,null,null,null,null,null,null,null,null,null,{"$f":"IF(COUNT($A32:$AA32)>0,Export1!$C$3,)","v":0},{"$f":"IF(COUNT($A32:$AA32)>0,Export1!$C$5,)","v":0},{"$f":"IF(COUNT($A32:$AA32)>0,Export1!$C$7,)","v":0},{"$f":"IF(COUNT($A32:$AA32)>0,Export1!$C$9,)","v":0},{"$f":"IF(COUNT($A32:$AA32)>0,Export1!$C$11,)","v":0}]
[null,null,null,null,null,null,null,null,null,null,null,null,null,null,null,null,null,null,null,null,null,null,null,null,null,null,null,{"$f":"IF(COUNT($A33:$AA33)>0,Export1!$C$3,)","v":0},{"$f":"IF(COUNT($A33:$AA33)>0,Export1!$C$5,)","v":0},{"$f":"IF(COUNT($A33:$AA33)>0,Export1!$C$7,)","v":0},{"$f":"IF(COUNT($A33:$AA33)>0,Export1!$C$9,)","v":0},{"$f":"IF(COUNT($A33:$AA33)>0,Export1!$C$11,)","v":0}]
[null,null,null,null,null,null,null,null,null,null,null,null,null,null,null,null,null,null,null,null,null,null,null,null,null,null,null,{"$f":"IF(COUNT($A34:$AA34)>0,Export1!$C$3,)","v":0},{"$f":"IF(COUNT($A34:$AA34)>0,Export1!$C$5,)","v":0},{"$f":"IF(COUNT($A34:$AA34)>0,Export1!$C$7,)","v":0},{"$f":"IF(COUNT($A34:$AA34)>0,Export1!$C$9,)","v":0},{"$f":"IF(COUNT($A34:$AA34)>0,Export1!$C$11,)","v":0}]
[null,null,null,null,null,null,null,null,null,null,null,null,null,null,null,null,null,null,null,null,null,null,null,null,null,null,null,{"$f":"IF(COUNT($A35:$AA35)>0,Export1!$C$3,)","v":0},{"$f":"IF(COUNT($A35:$AA35)>0,Export1!$C$5,)","v":0},{"$f":"IF(COUNT($A35:$AA35)>0,Export1!$C$7,)","v":0},{"$f":"IF(COUNT($A35:$AA35)>0,Export1!$C$9,)","v":0},{"$f":"IF(COUNT($A35:$AA35)>0,Export1!$C$11,)","v":0}]
[null,null,null,null,null,null,null,null,null,null,null,null,null,null,null,null,null,null,null,null,null,null,null,null,null,null,null,{"$f":"IF(COUNT($A36:$AA36)>0,Export1!$C$3,)","v":0},{"$f":"IF(COUNT($A36:$AA36)>0,Export1!$C$5,)","v":0},{"$f":"IF(COUNT($A36:$AA36)>0,Export1!$C$7,)","v":0},{"$f":"IF(COUNT($A36:$AA36)>0,Export1!$C$9,)","v":0},{"$f":"IF(COUNT($A36:$AA36)>0,Export1!$C$11,)","v":0}]

{"sheet":"Export1","index":2,"n_rows":17,"n_cols":12,"rows_kept":17,"cut":false,"hidden":true,"merged":[[15,0,16,2],[0,0,0,2],[11,1,11,2],[14,0,14,2]]}
["Bitte geben Sie die folgenden Angabe, bevor Sie die eingegebenen Daten exportieren und an uns verschicken:",null,null,null,null,null,null,null,null,1,null,"Baden-Württemberg"]
[null,null,null,null,null,null,null,null,null,2,null,"Bayern"]
["1.","Bitte wählen Sie das Bundesland Ihrer Schule aus:",null,null,null,null,null,null,null,3,null,"Berlin"]
[null,null,null,null,null,null,null,null,null,4,null,"Brandenburg"]
["2.","Bitte wählen Sie Ihre Schulart aus der Liste aus:",null,null,null,null,null,null,null,5,"Grundschule","Bremen"]
[null,null,null,null,null,null,null,null,null,6,"Hauptschule","Hamburg"]
["3.","Bitte wählen Sie die Klassenstufe Ihrer Klasse aus:",null,null,null,null,null,null,null,7,"Realschule","Hessen"]
[null,null,null,null,null,null,null,null,null,8,"Realschuleplus","Mecklenburg-Vorpommern"]
["4.","Bitte geben Sie das Unterrichtsfach ein:",null,null,null,null,null,null,null,9,"Gesamtschule","Niedersachsen"]
[null,null,null,null,null,null,null,null,null,10,"Gymnasium","Nordrhein Westfalen"]
["5.","Bitte geben Sie Ihre 10-stellige ID-Nummer: ",null,null,null,null,null,null,null,11,"Berufsbildende Schule","Rheinland-Pfalz"]
[null,"(2 Anfangsbuchstaben des Vornamens der Mutter und ihr Geburtsdatum in Form TT.MM.JJJJ)",null,null,null,null,null,null,null,12,"Andere","Saarland"]
[null,"óWarum ist eine ID hier nötig?"]
[null,null,null,null,null,null,null,null,null,13,null,"Sachsen"]
["Jetzt bitte klicken Sie das Button an, um Daten zu exportieren:",null,null,null,null,null,null,null,null,null,null,"Sachsen-Anhalt"]
["Unter dem Ordner, wo Sie dieses Programm gespeichert haben, befinden sich jetzt ein neuer Ordner \"Export\". Öffnen Sie bitte diesen Ordner \"Export\" und senden Sie bitte beide Dateien darunter an kmk-unterrichtsdiagnostik@uni-landau.de",null,null,null,null,null,null,null,null,null,null,"Schleswig-Holstein"]
[null,null,null,null,null,null,null,null,null,null,null,"Thüringen"]

{"sheet":"sfb2","index":3,"n_rows":36,"n_cols":56,"rows_kept":36,"cut":false,"hidden":true,"merged":[]}
["bsI1","bsI2","bsI3","bsI4","bsI5","bsI6","bsI7","bsI8","bsI9","bsI10","bsI11","bsI12","bsI13","bsI14","bsI15","bsI16","bsI17","bsI18","bsI19","bsI20","bsI21","bsI22","bsI23","bsI24","bsI25","bsI26","bsI27","bsI28","bsI29","bsI30","Land","Schulart","Stufe","Fach","Lehrer_ID","Zusatzitemtexte","bsI31","bsI32","bsI33","bsI34","bsI35","bsI36","bsI37","bsI38","bsI39","bsI40","bsI41","bsI42","bsI43","bsI44","bsI45","bsI46","bsI47","bsI48","bsI49","bsI50"]
[2,null,null,null,null,null,null,null,null,null,null,null,null,null,null,null,null,null,null,null,null,null,null,null,null,null,null,null,null,null,{"$f":"IF(COUNT($A2:$AD2)>0,Export2!$C$3,)","v":0},{"$f":"IF(COUNT($A2:$AD2)>0,Export2!$C$5,)","v":0},{"$f":"IF(COUNT($A2:$AD2)>0,Export2!$C$7,)","v":0},{"$f":"IF(COUNT($A2:$AD2)>0,Export2!$C$9,)","v":0},{"$f":"IF(COUNT($A2:$AD2)>0,Export2!$C$11,)","v":0},"Zusatzfrage 1"]
[2,null,null,null,null,null,null,null,null,null,null,null,null,null,null,null,null,null,null,null,null,null,null,null,null,null,null,null,null,null,{"$f":"IF(COUNT($A3:$AD3)>0,Export2!$C$3,)","v":0},{"$f":"IF(COUNT($A3:$AD3)>0,Export2!$C$5,)","v":0},{"$f":"IF(COUNT($A3:$AD3)>0,Export2!$C$7,)","v":0},{"$f":"IF(COUNT($A3:$AD3)>0,Export2!$C$9,)","v":0},{"$f":"IF(COUNT($A3:$AD3)>0,Export2!$C$11,)","v":0},"Zusatzfrage 2"]
[null,null,null,null,null,null,null,null,null,null,null,null,null,null,null,null,null,null,null,null,null,null,null,null,null,null,null,null,null,null,{"$f":"IF(COUNT($A4:$AD4)>0,Export2!$C$3,)","v":0},{"$f":"IF(COUNT($A4:$AD4)>0,Export2!$C$5,)","v":0},{"$f":"IF(COUNT($A4:$AD4)>0,Export2!$C$7,)","v":0},{"$f":"IF(COUNT($A4:$AD4)>0,Export2!$C$9,)","v":0},{"$f":"IF(COUNT($A4:$AD4)>0,Export2!$C$11,)","v":0},"Zusatzfrage 3"]
[null,null,null,null,null,null,null,null,null,null,null,null,null,null,null,null,null,null,null,null,null,null,null,null,null,null,null,null,null,null,{"$f":"IF(COUNT($A5:$AD5)>0,Export2!$C$3,)","v":0},{"$f":"IF(COUNT($A5:$AD5)>0,Export2!$C$5,)","v":0},{"$f":"IF(COUNT($A5:$AD5)>0,Export2!$C$7,)","v":0},{"$f":"IF(COUNT($A5:$AD5)>0,Export2!$C$9,)","v":0},{"$f":"IF(COUNT($A5:$AD5)>0,Export2!$C$11,)","v":0},"Zusatzfrage 4"]
[null,null,null,null,null,null,null,null,null,null,null,null,null,null,null,null,null,null,null,null,null,null,null,null,null,null,null,null,null,null,{"$f":"IF(COUNT($A6:$AD6)>0,Export2!$C$3,)","v":0},{"$f":"IF(COUNT($A6:$AD6)>0,Export2!$C$5,)","v":0},{"$f":"IF(COUNT($A6:$AD6)>0,Export2!$C$7,)","v":0},{"$f":"IF(COUNT($A6:$AD6)>0,Export2!$C$9,)","v":0},{"$f":"IF(COUNT($A6:$AD6)>0,Export2!$C$11,)","v":0},"Zusatzfrage 5"]
[null,null,null,null,null,null,null,null,null,null,null,null,null,null,null,null,null,null,null,null,null,null,null,null,null,null,null,null,null,null,{"$f":"IF(COUNT($A7:$AD7)>0,Export2!$C$3,)","v":0},{"$f":"IF(COUNT($A7:$AD7)>0,Export2!$C$5,)","v":0},{"$f":"IF(COUNT($A7:$AD7)>0,Export2!$C$7,)","v":0},{"$f":"IF(COUNT($A7:$AD7)>0,Export2!$C$9,)","v":0},{"$f":"IF(COUNT($A7:$AD7)>0,Export2!$C$11,)","v":0},"Zusatzfrage 6"]
[null,null,null,null,null,null,null,null,null,null,null,null,null,null,null,null,null,null,null,null,null,null,null,null,null,null,null,null,null,null,{"$f":"IF(COUNT($A8:$AD8)>0,Export2!$C$3,)","v":0},{"$f":"IF(COUNT($A8:$AD8)>0,Export2!$C$5,)","v":0},{"$f":"IF(COUNT($A8:$AD8)>0,Export2!$C$7,)","v":0},{"$f":"IF(COUNT($A8:$AD8)>0,Export2!$C$9,)","v":0},{"$f":"IF(COUNT($A8:$AD8)>0,Export2!$C$11,)","v":0},"Zusatzfrage 7"]
[null,null,null,null,null,null,null,null,null,null,null,null,null,null,null,null,null,null,null,null,null,null,null,null,null,null,null,null,null,null,{"$f":"IF(COUNT($A9:$AD9)>0,Export2!$C$3,)","v":0},{"$f":"IF(COUNT($A9:$AD9)>0,Export2!$C$5,)","v":0},{"$f":"IF(COUNT($A9:$AD9)>0,Export2!$C$7,)","v":0},{"$f":"IF(COUNT($A9:$AD9)>0,Export2!$C$9,)","v":0},{"$f":"IF(COUNT($A9:$AD9)>0,Export2!$C$11,)","v":0},"Zusatzfrage 8"]
[null,null,null,null,null,null,null,null,null,null,null,null,null,null,null,null,null,null,null,null,null,null,null,null,null,null,null,null,null,null,{"$f":"IF(COUNT($A10:$AD10)>0,Export2!$C$3,)","v":0},{"$f":"IF(COUNT($A10:$AD10)>0,Export2!$C$5,)","v":0},{"$f":"IF(COUNT($A10:$AD10)>0,Export2!$C$7,)","v":0},{"$f":"IF(COUNT($A10:$AD10)>0,Export2!$C$9,)","v":0},{"$f":"IF(COUNT($A10:$AD10)>0,Export2!$C$11,)","v":0},"Zusatzfrage 9"]
[null,null,null,null,null,null,null,null,null,null,null,null,null,null,null,null,null,null,null,null,null,null,null,null,null,null,null,null,null,null,{"$f":"IF(COUNT($A11:$AD11)>0,Export2!$C$3,)","v":0},{"$f":"IF(COUNT($A11:$AD11)>0,Export2!$C$5,)","v":0},{"$f":"IF(COUNT($A11:$AD11)>0,Export2!$C$7,)","v":0},{"$f":"IF(COUNT($A11:$AD11)>0,Export2!$C$9,)","v":0},{"$f":"IF(COUNT($A11:$AD11)>0,Export2!$C$11,)","v":0},"Zusatzfrage 10"]
[null,null,null,null,null,null,null,null,null,null,null,null,null,null,null,null,null,null,null,null,null,null,null,null,null,null,null,null,null,null,{"$f":"IF(COUNT($A12:$AD12)>0,Export2!$C$3,)","v":0},{"$f":"IF(COUNT($A12:$AD12)>0,Export2!$C$5,)","v":0},{"$f":"IF(COUNT($A12:$AD12)>0,Export2!$C$7,)","v":0},{"$f":"IF(COUNT($A12:$AD12)>0,Export2!$C$9,)","v":0},{"$f":"IF(COUNT($A12:$AD12)>0,Export2!$C$11,)","v":0},"Zusatzfrage 11"]
[null,null,null,null,null,null,null,null,null,null,null,null,null,null,null,null,null,null,null,null,null,null,null,null,null,null,null,null,null,null,{"$f":"IF(COUNT($A13:$AD13)>0,Export2!$C$3,)","v":0},{"$f":"IF(COUNT($A13:$AD13)>0,Export2!$C$5,)","v":0},{"$f":"IF(COUNT($A13:$AD13)>0,Export2!$C$7,)","v":0},{"$f":"IF(COUNT($A13:$AD13)>0,Export2!$C$9,)","v":0},{"$f":"IF(COUNT($A13:$AD13)>0,Export2!$C$11,)","v":0},"Zusatzfrage 12"]
[null,null,null,null,null,null,null,null,null,null,null,null,null,null,null,null,null,null,null,null,null,null,null,null,null,null,null,null,null,null,{"$f":"IF(COUNT($A14:$AD14)>0,Export2!$C$3,)","v":0},{"$f":"IF(COUNT($A14:$AD14)>0,Export2!$C$5,)","v":0},{"$f":"IF(COUNT($A14:$AD14)>0,Export2!$C$7,)","v":0},{"$f":"IF(COUNT($A14:$AD14)>0,Export2!$C$9,)","v":0},{"$f":"IF(COUNT($A14:$AD14)>0,Export2!$C$11,)","v":0},"Zusatzfrage 13"]
[null,null,null,null,null,null,null,null,null,null,null,null,null,null,null,null,null,null,null,null,null,null,null,null,null,null,null,null,null,null,{"$f":"IF(COUNT($A15:$AD15)>0,Export2!$C$3,)","v":0},{"$f":"IF(COUNT($A15:$AD15)>0,Export2!$C$5,)","v":0},{"$f":"IF(COUNT($A15:$AD15)>0,Export2!$C$7,)","v":0},{"$f":"IF(COUNT($A15:$AD15)>0,Export2!$C$9,)","v":0},{"$f":"IF(COUNT($A15:$AD15)>0,Export2!$C$11,)","v":0},"Zusatzfrage 14"]
[null,null,null,null,null,null,null,null,null,null,null,null,null,null,null,null,null,null,null,null,null,null,null,null,null,null,null,null,null,null,{"$f":"IF(COUNT($A16:$AD16)>0,Export2!$C$3,)","v":0},{"$f":"IF(COUNT($A16:$AD16)>0,Export2!$C$5,)","v":0},{"$f":"IF(COUNT($A16:$AD16)>0,Export2!$C$7,)","v":0},{"$f":"IF(COUNT($A16:$AD16)>0,Export2!$C$9,)","v":0},{"$f":"IF(COUNT($A16:$AD16)>0,Export2!$C$11,)","v":0},"Zusatzfrage 15"]
[null,null,null,null,null,null,null,null,null,null,null,null,null,null,null,null,null,null,null,null,null,null,null,null,null,null,null,null,null,null,{"$f":"IF(COUNT($A17:$AD17)>0,Export2!$C$3,)","v":0},{"$f":"IF(COUNT($A17:$AD17)>0,Export2!$C$5,)","v":0},{"$f":"IF(COUNT($A17:$AD17)>0,Export2!$C$7,)","v":0},{"$f":"IF(COUNT($A17:$AD17)>0,Export2!$C$9,)","v":0},{"$f":"IF(COUNT($A17:$AD17)>0,Export2!$C$11,)","v":0},"Zusatzfrage 16"]
[null,null,null,null,null,null,null,null,null,null,null,null,null,null,null,null,null,null,null,null,null,null,null,null,null,null,null,null,null,null,{"$f":"IF(COUNT($A18:$AD18)>0,Export2!$C$3,)","v":0},{"$f":"IF(COUNT($A18:$AD18)>0,Export2!$C$5,)","v":0},{"$f":"IF(COUNT($A18:$AD18)>0,Export2!$C$7,)","v":0},{"$f":"IF(COUNT($A18:$AD18)>0,Export2!$C$9,)","v":0},{"$f":"IF(COUNT($A18:$AD18)>0,Export2!$C$11,)","v":0},"Zusatzfrage 17"]
[null,null,null,null,null,null,null,null,null,null,null,null,null,null,null,null,null,null,null,null,null,null,null,null,null,null,null,null,null,null,{"$f":"IF(COUNT($A19:$AD19)>0,Export2!$C$3,)","v":0},{"$f":"IF(COUNT($A19:$AD19)>0,Export2!$C$5,)","v":0},{"$f":"IF(COUNT($A19:$AD19)>0,Export2!$C$7,)","v":0},{"$f":"IF(COUNT($A19:$AD19)>0,Export2!$C$9,)","v":0},{"$f":"IF(COUNT($A19:$AD19)>0,Export2!$C$11,)","v":0},"Zusatzfrage 18"]
[null,null,null,null,null,null,null,null,null,null,null,null,null,null,null,null,null,null,null,null,null,null,null,null,null,null,null,null,null,null,{"$f":"IF(COUNT($A20:$AD20)>0,Export2!$C$3,)","v":0},{"$f":"IF(COUNT($A20:$AD20)>0,Export2!$C$5,)","v":0},{"$f":"IF(COUNT($A20:$AD20)>0,Export2!$C$7,)","v":0},{"$f":"IF(COUNT($A20:$AD20)>0,Export2!$C$9,)","v":0},{"$f":"IF(COUNT($A20:$AD20)>0,Export2!$C$11,)","v":0},"Zusatzfrage 19"]
[null,null,null,null,null,null,null,null,null,null,null,null,null,null,null,null,null,null,null,null,null,null,null,null,null,null,null,null,null,null,{"$f":"IF(COUNT($A21:$AD21)>0,Export2!$C$3,)","v":0},{"$f":"IF(COUNT($A21:$AD21)>0,Export2!$C$5,)","v":0},{"$f":"IF(COUNT($A21:$AD21)>0,Export2!$C$7,)","v":0},{"$f":"IF(COUNT($A21:$AD21)>0,Export2!$C$9,)","v":0},{"$f":"IF(COUNT($A21:$AD21)>0,Export2!$C$11,)","v":0},"Zusatzfrage 20"]
[null,null,null,null,null,null,null,null,null,null,null,null,null,null,null,null,null,null,null,null,null,null,null,null,null,null,null,null,null,null,{"$f":"IF(COUNT($A22:$AD22)>0,Export2!$C$3,)","v":0},{"$f":"IF(COUNT($A22:$AD22)>0,Export2!$C$5,)","v":0},{"$f":"IF(COUNT($A22:$AD22)>0,Export2!$C$7,)","v":0},{"$f":"IF(COUNT($A22:$AD22)>0,Export2!$C$9,)","v":0},{"$f":"IF(COUNT($A22:$AD22)>0,Export2!$C$11,)","v":0}]
[null,null,null,null,null,null,null,null,null,null,null,null,null,null,null,null,null,null,null,null,null,null,null,null,null,null,null,null,null,null,{"$f":"IF(COUNT($A23:$AD23)>0,Export2!$C$3,)","v":0},{"$f":"IF(COUNT($A23:$AD23)>0,Export2!$C$5,)","v":0},{"$f":"IF(COUNT($A23:$AD23)>0,Export2!$C$7,)","v":0},{"$f":"IF(COUNT($A23:$AD23)>0,Export2!$C$9,)","v":0},{"$f":"IF(COUNT($A23:$AD23)>0,Export2!$C$11,)","v":0}]
[null,null,null,null,null,null,null,null,null,null,null,null,null,null,null,null,null,null,null,null,null,null,null,null,null,null,null,null,null,null,{"$f":"IF(COUNT($A24:$AD24)>0,Export2!$C$3,)","v":0},{"$f":"IF(COUNT($A24:$AD24)>0,Export2!$C$5,)","v":0},{"$f":"IF(COUNT($A24:$AD24)>0,Export2!$C$7,)","v":0},{"$f":"IF(COUNT($A24:$AD24)>0,Export2!$C$9,)","v":0},{"$f":"IF(COUNT($A24:$AD24)>0,Export2!$C$11,)","v":0}]
[null,null,null,null,null,null,null,null,null,null,null,null,null,null,null,null,null,null,null,null,null,null,null,null,null,null,null,null,null,null,{"$f":"IF(COUNT($A25:$AD25)>0,Export2!$C$3,)","v":0},{"$f":"IF(COUNT($A25:$AD25)>0,Export2!$C$5,)","v":0},{"$f":"IF(COUNT($A25:$AD25)>0,Export2!$C$7,)","v":0},{"$f":"IF(COUNT($A25:$AD25)>0,Export2!$C$9,)","v":0},{"$f":"IF(COUNT($A25:$AD25)>0,Export2!$C$11,)","v":0}]
[null,null,null,null,null,null,null,null,null,null,null,null,null,null,null,null,null,null,null,null,null,null,null,null,null,null,null,null,null,null,{"$f":"IF(COUNT($A26:$AD26)>0,Export2!$C$3,)","v":0},{"$f":"IF(COUNT($A26:$AD26)>0,Export2!$C$5,)","v":0},{"$f":"IF(COUNT($A26:$AD26)>0,Export2!$C$7,)","v":0},{"$f":"IF(COUNT($A26:$AD26)>0,Export2!$C$9,)","v":0},{"$f":"IF(COUNT($A26:$AD26)>0,Export2!$C$11,)","v":0}]
[null,null,null,null,null,null,null,null,null,null,null,null,null,null,null,null,null,null,null,null,null,null,null,null,null,null,null,null,null,null,{"$f":"IF(COUNT($A27:$AD27)>0,Export2!$C$3,)","v":0},{"$f":"IF(COUNT($A27:$AD27)>0,Export2!$C$5,)","v":0},{"$f":"IF(COUNT($A27:$AD27)>0,Export2!$C$7,)","v":0},{"$f":"IF(COUNT($A27:$AD27)>0,Export2!$C$9,)","v":0},{"$f":"IF(COUNT($A27:$AD27)>0,Export2!$C$11,)","v":0}]
[null,null,null,null,null,null,null,null,null,null,null,null,null,null,null,null,null,null,null,null,null,null,null,null,null,null,null,null,null,null,{"$f":"IF(COUNT($A28:$AD28)>0,Export2!$C$3,)","v":0},{"$f":"IF(COUNT($A28:$AD28)>0,Export2!$C$5,)","v":0},{"$f":"IF(COUNT($A28:$AD28)>0,Export2!$C$7,)","v":0},{"$f":"IF(COUNT($A28:$AD28)>0,Export2!$C$9,)","v":0},{"$f":"IF(COUNT($A28:$AD28)>0,Export2!$C$11,)","v":0}]
[null,null,null,null,null,null,null,null,null,null,null,null,null,null,null,null,null,null,null,null,null,null,null,null,null,null,null,null,null,null,{"$f":"IF(COUNT($A29:$AD29)>0,Export2!$C$3,)","v":0},{"$f":"IF(COUNT($A29:$AD29)>0,Export2!$C$5,)","v":0},{"$f":"IF(COUNT($A29:$AD29)>0,Export2!$C$7,)","v":0},{"$f":"IF(COUNT($A29:$AD29)>0,Export2!$C$9,)","v":0},{"$f":"IF(COUNT($A29:$AD29)>0,Export2!$C$11,)","v":0}]
[null,null,null,null,null,null,null,null,null,null,null,null,null,null,null,null,null,null,null,null,null,null,null,null,null,null,null,null,null,null,{"$f":"IF(COUNT($A30:$AD30)>0,Export2!$C$3,)","v":0},{"$f":"IF(COUNT($A30:$AD30)>0,Export2!$C$5,)","v":0},{"$f":"IF(COUNT($A30:$AD30)>0,Export2!$C$7,)","v":0},{"$f":"IF(COUNT($A30:$AD30)>0,Export2!$C$9,)","v":0},{"$f":"IF(COUNT($A30:$AD30)>0,Export2!$C$11,)","v":0}]
[null,null,null,null,null,null,null,null,null,null,null,null,null,null,null,null,null,null,null,null,null,null,null,null,null,null,null,null,null,null,{"$f":"IF(COUNT($A31:$AD31)>0,Export2!$C$3,)","v":0},{"$f":"IF(COUNT($A31:$AD31)>0,Export2!$C$5,)","v":0},{"$f":"IF(COUNT($A31:$AD31)>0,Export2!$C$7,)","v":0},{"$f":"IF(COUNT($A31:$AD31)>0,Export2!$C$9,)","v":0},{"$f":"IF(COUNT($A31:$AD31)>0,Export2!$C$11,)","v":0}]
[null,null,null,null,null,null,null,null,null,null,null,null,null,null,null,null,null,null,null,null,null,null,null,null,null,null,null,null,null,null,{"$f":"IF(COUNT($A32:$AD32)>0,Export2!$C$3,)","v":0},{"$f":"IF(COUNT($A32:$AD32)>0,Export2!$C$5,)","v":0},{"$f":"IF(COUNT($A32:$AD32)>0,Export2!$C$7,)","v":0},{"$f":"IF(COUNT($A32:$AD32)>0,Export2!$C$9,)","v":0},{"$f":"IF(COUNT($A32:$AD32)>0,Export2!$C$11,)","v":0}]
[null,null,null,null,null,null,null,null,null,null,null,null,null,null,null,null,null,null,null,null,null,null,null,null,null,null,null,null,null,null,{"$f":"IF(COUNT($A33:$AD33)>0,Export2!$C$3,)","v":0},{"$f":"IF(COUNT($A33:$AD33)>0,Export2!$C$5,)","v":0},{"$f":"IF(COUNT($A33:$AD33)>0,Export2!$C$7,)","v":0},{"$f":"IF(COUNT($A33:$AD33)>0,Export2!$C$9,)","v":0},{"$f":"IF(COUNT($A33:$AD33)>0,Export2!$C$11,)","v":0}]
[null,null,null,null,null,null,null,null,null,null,null,null,null,null,null,null,null,null,null,null,null,null,null,null,null,null,null,null,null,null,{"$f":"IF(COUNT($A34:$AD34)>0,Export2!$C$3,)","v":0},{"$f":"IF(COUNT($A34:$AD34)>0,Export2!$C$5,)","v":0},{"$f":"IF(COUNT($A34:$AD34)>0,Export2!$C$7,)","v":0},{"$f":"IF(COUNT($A34:$AD34)>0,Export2!$C$9,)","v":0},{"$f":"IF(COUNT($A34:$AD34)>0,Export2!$C$11,)","v":0}]
[null,null,null,null,null,null,null,null,null,null,null,null,null,null,null,null,null,null,null,null,null,null,null,null,null,null,null,null,null,null,{"$f":"IF(COUNT($A35:$AD35)>0,Export2!$C$3,)","v":0},{"$f":"IF(COUNT($A35:$AD35)>0,Export2!$C$5,)","v":0},{"$f":"IF(COUNT($A35:$AD35)>0,Export2!$C$7,)","v":0},{"$f":"IF(COUNT($A35:$AD35)>0,Export2!$C$9,)","v":0},{"$f":"IF(COUNT($A35:$AD35)>0,Export2!$C$11,)","v":0}]
[null,null,null,null,null,null,null,null,null,null,null,null,null,null,null,null,null,null,null,null,null,null,null,null,null,null,null,null,null,null,{"$f":"IF(COUNT($A36:$AD36)>0,Export2!$C$3,)","v":0},{"$f":"IF(COUNT($A36:$AD36)>0,Export2!$C$5,)","v":0},{"$f":"IF(COUNT($A36:$AD36)>0,Export2!$C$7,)","v":0},{"$f":"IF(COUNT($A36:$AD36)>0,Export2!$C$9,)","v":0},{"$f":"IF(COUNT($A36:$AD36)>0,Export2!$C$11,)","v":0}]

{"sheet":"Export2","index":4,"n_rows":17,"n_cols":12,"rows_kept":17,"cut":false,"hidden":true,"merged":[[15,0,16,2],[0,0,0,2],[11,1,11,2],[14,0,14,2]]}
["Bitte geben Sie die folgenden Angabe, bevor Sie die eingegebenen Daten exportieren und an uns verschicken:",null,null,null,null,null,null,null,null,1,null,"Baden-Württemberg"]
[null,null,null,null,null,null,null,null,null,2,null,"Bayern"]
["1.","Bitte wählen Sie das Bundesland Ihrer Schule aus:",null,null,null,null,null,null,null,3,null,"Berlin"]
[null,null,null,null,null,null,null,null,null,4,null,"Brandenburg"]
["2.","Bitte wählen Sie Ihre Schulart aus der Liste aus:",null,null,null,null,null,null,null,5,"Grundschule","Bremen"]
[null,null,null,null,null,null,null,null,null,6,"Hauptschule","Hamburg"]
["3.","Bitte wählen Sie die Klassenstufe Ihrer Klasse aus:",null,null,null,null,null,null,null,7,"Realschule","Hessen"]
[null,null,null,null,null,null,null,null,null,8,"Realschuleplus","Mecklenburg-Vorpommern"]
["4.","Bitte geben Sie das Unterrichtsfach ein:",null,null,null,null,null,null,null,9,"Gesamtschule","Niedersachsen"]
[null,null,null,null,null,null,null,null,null,10,"Gymnasium","Nordrhein Westfalen"]
["5.","Bitte geben Sie Ihre 10-stellige ID-Nummer: ",null,null,null,null,null,null,null,11,"Berufsbildende Schule","Rheinland-Pfalz"]
[null,"(2 Anfangsbuchstaben des Vornamens der Mutter und ihr Geburtsdatum in Form TT.MM.JJJJ)",null,null,null,null,null,null,null,12,"Andere","Saarland"]
[null,"óWarum ist eine ID hier nötig?"]
[null,null,null,null,null,null,null,null,null,13,null,"Sachsen"]
["Jetzt bitte klicken Sie das Button an, um Daten zu exportieren:",null,null,null,null,null,null,null,null,null,null,"Sachsen-Anhalt"]
["Unter dem Ordner, wo Sie dieses Programm gespeichert haben, befinden sich jetzt ein neuer Ordner \"Export\". Öffnen Sie bitte diesen Ordner \"Export\" und senden Sie bitte alle Dateien darunter an kmk-unterrichtsdiagnostik@uni-landau.de",null,null,null,null,null,null,null,null,null,null,"Schleswig-Holstein"]
[null,null,null,null,null,null,null,null,null,null,null,"Thüringen"]

{"sheet":"A) Eingabe (Schüler)","index":5,"n_rows":102,"n_cols":37,"rows_kept":102,"cut":false,"hidden":true,"merged":[[0,2,0,21],[6,3,6,7]]}
[null,"Thang đánh giá:","Điều tra lần 1"]
[null,"Câu hỏi 1 đến 25 & 27                      Câu hỏi 26"]
["1 =","hoàn toàn không đúng                      1 = quá dễ"]
["2 =","nói chung là không đúng                   2 = tương đối dễ"]
["3 =","nói chung là đúng                             3 = vừa sức"]
["4 =","hoàn toàn đúng                                4 = tương đối khó"]
[null,"                                                      5 = quá khó"]
[]
[]
[null,"Số thứ tự phiếu học sinh",1,2,3,4,5,6,7,8,9,10,11,12,13,14,15,16,17,18,19,20,21,22,23,24,25,26,27,28,29,30,31,32,33,34,35]
[null,"Điều khiển tiến trình giờ học"]
[1,"Giờ học được bắt đầu đúng thời gian quy định "]
[2,"Các quy định trong giờ học em đều hiểu rõ "]
[3,"Em đã có thể tập trung làm việc trong suốt giờ học mà không có gì làm ảnh hưởng đến sự chú ý của em "]
[4,"Trong suốt tiến trình giờ học em luôn biết rõ các công việc mình cần phải làm  "]
[5,"Toàn bộ thời gian của giờ học được sử dụng cho nội dung bài học "]
[null,"Bầu không khí lớp học"]
[6,"Tất cả các ý kiến đóng góp của chúng em trong giờ học đều được thầy/cô tôn trọng ghi nhận  "]
[7,"Thầy/cô luôn vui vẻ với em trong giờ học "]
[8,"Khi em được gọi phát biểu, thầy/cô luôn dành đủ thời gian để em diễn đạt được hết ý mình "]
[9,"Khi thầy/cô đặt câu hỏi, em luôn có đủ thời gian suy nghĩ câu trả lời "]
[10,"Trong giờ học thầy/cô đưa ra những nhận xét vui vẻ làm cho bầu không khí học tập thoải mái, nhẹ nhàng hơn "]
[11,"Em được thầy/cô khen khi tham gia đóng góp  ý kiến trong giờ học. "]
[null,"Cấu trúc lô gích và tính rõ ràng của giờ học "]
[12,"Trong giờ học thầy/cô chỉ dẫn rõ ràng về những kiến thức đã học có liên quan đến bài học hôm nay "]
[13,"Trong giờ học có các ví dụ cụ thể minh họa cho nội dung bài học "]
[14,"Những nội dung quan trọng nhất của bài học được hệ thống hóa lại  trong giờ học "]
[15,"Trong giờ học thầy/cô rất quan tâm đến việc khi em trình bày ý kiến của mình thì cần chú ý diễn đạt vấn đề một cách rõ ràng, rành mạch "]
[16,"Em biết rõ mình cần học được gì trong giờ học  này "]
[null,"Tích cực hóa hoạt động học tập của học sinh trong giờ học"]
[17,"Em đã có ý kiến tham gia đóng góp trong giờ học này "]
[18,"Trong giờ học có lúc em được giao tự làm việc độc lập "]
[19,"Trong giờ học có lúc em làm việc đôi hoặc nhóm "]
[20,"Trong giờ học em được trình bày kết quả làm việc trước các bạn trong lớp "]
[21,"Em tự kiểm tra kết quả bài làm của mình trong giờ học "]
[22,"Trong suốt giờ học em tích cực tập trung chú ý vào bài học "]
[null,"Đánh giá chung về giờ học"]
[23,"Em đã học thêm được ít nhiều  trong giờ học này "]
[24,"Em cảm thấy thú vị với giờ học này "]
[25,"Em cảm thấy thoải mái dễ chịu trong giờ học. "]
[26,"Giờ học này đối với em"]
[null,"PHIẾU HỎI BỔ SUNG"]
[1,"Câu 1"]
[2,"Câu 2"]
[3,"Câu 3"]
[4,"Câu 4"]
[5,"Câu 5"]
[6,"Câu 6"]
[7,"Câu 7"]
[8,"Câu 8"]
[9,"Câu 9"]
[10,"Câu 10"]
[11,"Câu 11"]
[12,"Câu 12"]
[13,"Câu 13"]
[14,"Câu 14"]
[15,"Câu 15"]
[16,"Câu 16"]
[17,"Câu 17"]
[18,"Câu 18"]
[19,"Câu 19"]
[20,"Câu 20"]
[21,"Câu 21"]
[22,"Câu 22"]
[23,"Câu 23"]
[24,"Câu 24"]
[25,"Câu 25"]
[26,"Câu 26"]
[27,"Câu 27"]
[28,"Câu 28"]
[29,"Câu 29"]
[30,"Câu 30"]
[31,"Câu 31"]
[32,"Câu 32"]
[33,"Câu 33"]
[34,"Câu 34"]
[35,"Câu 35"]
[36,"Câu 36"]
[37,"Câu 37"]
[38,"Câu 38"]
[39,"Câu 39"]
[40,"Câu 40"]
[41,"Câu 41"]
[42,"Câu 42"]
[43,"Câu 43"]
[44,"Câu 44"]
[45,"Câu 45"]
[46,"Câu 46"]
[47,"Câu 47"]
[48,"Câu 48"]
[49,"Câu 49"]
[50,"Câu 50"]
[51,"Câu 51"]
[52,"Câu 52"]
[53,"Câu 53"]
[54,"Câu 54"]
[55,"Câu 55"]
[56,"Câu 56"]
[57,"Câu 57"]
[58,"Câu 58"]
[59,"Câu 59"]
[60,"Câu 60"]

{"sheet":"A) Eingabe (Lehrer)","index":6,"n_rows":103,"n_cols":63,"rows_kept":103,"cut":false,"hidden":true,"merged":[[7,3,7,62],[8,0,8,1],[9,0,9,1],[7,2,8,2]]}
[null,"Thang đánh giá:","Điều tra lần thứ nhất"]
[]
["1 =","hoàn toàn không đúng"]
["2 =","nói chung là không đúng"]
["3 =","nói chung là đúng"]
["4 =","hoàn toàn đúng"]
[null,"                                                    "]
[null,null,"Giáo viên","Các đồng nghiệp"]
[null,null,null,"1","2","3","4","5","6","7","8","9","10","11","12","13","14","15","16","17","18","19","20","21","22","23","24","25","26","27","28","29","30","31","32","33","34","35","36","37","38","39","40","41","42","43","44","45","46","47","48","49","50","51","52","53","54","55","56","57","58","59","60"]
["Nội dung câu hỏi"]
[null,"Điều khiển tiến trình giờ học"]
[1,"Giờ học được bắt đầu đúng thời gian quy định "]
[2,"Các quy định trong giờ học đều được các em học sinh hiểu rõ "]
[3,"Các em học sinh đã có thể tập trung làm việc trong suốt giờ học mà không có gì làm ảnh hưởng đến sự chú ý của các em "]
[4,"Trong suốt tiến trình giờ học các em học sinh luôn biết rõ các công việc mình cần phải làm  "]
[5,"Toàn bộ thời gian của giờ học được sử dụng cho nội dung bài học "]
[null,"Bầu không khí lớp học"]
[6,"Tất cả các ý kiến đóng góp của các em học sinh trong giờ học đều được giáo viên tôn trọng ghi nhận  "]
[7,"Giáo viên luôn vui vẻ với các em học sinh trong giờ học  "]
[8,"Khi học sinh được gọi phát biểu, giáo viên luôn dành đủ thời gian để các em diễn đạt được hết ý mình "]
[9,"Khi giáo viên đặt câu hỏi, các em học sinh luôn có đủ thời gian suy nghĩ câu trả lời "]
[10,"Trong giờ học giáo viên đưa ra những nhận xét vui vẻ làm cho bầu không khí học tập thoải mái, nhẹ nhàng hơn "]
[11,"Sự tham gia đóng góp của các em học sinh trong giờ học được giáo viên khen ngợi đúng mức. "]
[null,"Cấu trúc lô gích và tính rõ ràng của giờ học "]
[12,"Trong giờ học giáo viên chỉ dẫn rõ ràng cho các em học sinh về những kiến thức đã học có liên quan đến bài học hôm nay "]
[13,"Trong giờ học có các ví dụ cụ thể minh họa cho nội dung bài học "]
[14,"Những nội dung quan trọng nhất của bài học được hệ thống hóa lại  trong giờ học "]
[15,"Trong giờ học giáo viên rất quan tâm đến việc các em học sinh khi trình bày ý kiến của mình thì cần chú ý diễn đạt vấn đề một cách rõ ràng, rành mạch "]
[16,"Tất cả các em học sinh đều biết rõ các em cần học được gì trong giờ học  này "]
[null,"Tích cực hóa hoạt động học tập của học sinh trong giờ học"]
[17,"Tất cả các em học sinh đều có ý kiến tham gia đóng góp trong giờ học này  "]
[18,"Trong giờ học có giai đoạn học sinh làm việc độc lập "]
[19,"Trong giờ học có giai đoạn học sinh làm việc đôi hoặc nhóm "]
[20,"Trong giờ học các em học sinh được trình bày kết quả làm việc trước các bạn trong lớp "]
[21,"Các em học sinh tự kiểm tra kết quả bài làm của mình trong giờ học "]
[22,"Trong suốt giờ học các em học sinh tích cực tập trung chú ý vào bài học "]
[null,"Đánh giá chung về giờ học"]
[23,"Giáo viên đã thực hiện được mục tiêu của giờ học "]
[24,"Các em học sinh cảm thấy thú vị với giờ học này "]
[25,"Các em học sinh cảm thấy thoải mái dễ chịu trong giờ học. "]
[26,"Giáo viên tổ chức giờ học dựa trên các chuẩn cần đạt của môn học   "]
[27,"Giờ học được chuẩn bị phù hợp với trình độ khác nhau của các em học sinh trong lớp.  "]
[null,"Phiếu hỏi bố sung"]
[1,"Câu 1"]
[2,"Câu 2"]
[3,"Câu 3"]
[4,"Câu 4"]
[5,"Câu 5"]
[6,"Câu 6"]
[7,"Câu 7"]
[8,"Câu 8"]
[9,"Câu 9"]
[10,"Câu 10"]
[11,"Câu 11"]
[12,"Câu 12"]
[13,"Câu 13"]
[14,"Câu 14"]
[15,"Câu 15"]
[16,"Câu 16"]
[17,"Câu 17"]
[18,"Câu 18"]
[19,"Câu 19"]
[20,"Câu 20"]
[21,"Câu 21"]
[22,"Câu 22"]
[23,"Câu 23"]
[24,"Câu 24"]
[25,"Câu 25"]
[26,"Câu 26"]
[27,"Câu 27"]
[28,"Câu 28"]
[29,"Câu 29"]
[30,"Câu 30"]
[31,"Câu 31"]
[32,"Câu 32"]
[33,"Câu 33"]
[34,"Câu 34"]
[35,"Câu 35"]
[36,"Câu 36"]
[37,"Câu 37"]
[38,"Câu 38"]
[39,"Câu 39"]
[40,"Câu 40"]
[41,"Câu 41"]
[42,"Câu 42"]
[43,"Câu 43"]
[44,"Câu 44"]
[45,"Câu 45"]
[46,"Câu 46"]
[47,"Câu 47"]
[48,"Câu 48"]
[49,"Câu 49"]
[50,"Câu 50"]
[51,"Câu 51"]
[52,"Câu 52"]
[53,"Câu 53"]
[54,"Câu 54"]
[55,"Câu 55"]
[56,"Câu 56"]
[57,"Câu 57"]
[58,"Câu 58"]
[59,"Câu 59"]
[60,"Câu 60"]

{"sheet":"lfb1","index":7,"n_rows":62,"n_cols":61,"rows_kept":62,"cut":false,"hidden":true,"merged":[]}
["aleI1","aleI2","aleI3","aleI4","aleI5","aleI6","aleI7","aleI8","aleI9","aleI10","aleI11","aleI12","aleI13","aleI14","aleI15","aleI16","aleI17","aleI18","aleI19","aleI20","aleI21","aleI22","aleI23","aleI24","aleI25","aleI26","aleI27","aleI28","aleI29","aleI30a","aleI30b","aleI30c","aleI30d","aleI30e","ale_ID","Land","Schulart","Stufe","Fach","Lehrer_ID","Zusatzitemtexte","aleI31","aleI32","aleI33","aleI34","aleI35","aleI36","aleI37","aleI38","aleI39","aleI40","aleI41","aleI42","aleI43","aleI44","aleI45","aleI46","aleI47","aleI48","aleI49","aleI50"]
[1,null,null,null,null,null,null,null,null,null,null,null,null,null,null,null,null,null,null,null,null,null,null,null,null,null,null,null,null,null,null,null,null,null,"a",{"$f":"IF(COUNT($A2:$AH2)>0,Export1!$C$3,\"\")","v":0},{"$f":"IF(COUNT($A2:$AH2)>0,Export1!$C$5,\"\")","v":0},{"$f":"IF(COUNT($A2:$AH2)>0,Export1!$C$7,\"\")","v":0},{"$f":"IF(COUNT($A2:$AH2)>0,Export1!$C$9,\"\")","v":0},{"$f":"IF(COUNT($A2:$AH2)>0,Export1!$C$11,\"\")","v":0},"Zusatzfrage 1"]
[2,null,null,null,null,null,null,null,null,null,null,null,null,null,null,null,null,null,null,null,null,null,null,null,null,null,null,null,null,null,null,null,null,null,"b",{"$f":"IF(COUNT($A3:$AH3)>0,Export1!$C$3,\"\")","v":0},{"$f":"IF(COUNT($A3:$AH3)>0,Export1!$C$5,\"\")","v":0},{"$f":"IF(COUNT($A3:$AH3)>0,Export1!$C$7,\"\")","v":0},{"$f":"IF(COUNT($A3:$AH3)>0,Export1!$C$9,\"\")","v":0},{"$f":"IF(COUNT($A3:$AH3)>0,Export1!$C$11,\"\")","v":0},"Zusatzfrage 2"]
[null,null,null,null,null,null,null,null,null,null,null,null,null,null,null,null,null,null,null,null,null,null,null,null,null,null,null,null,null,null,null,null,null,null,null,{"$f":"IF(COUNT($A4:$AH4)>0,Export1!$C$3,\"\")","v":""},{"$f":"IF(COUNT($A4:$AH4)>0,Export1!$C$5,\"\")","v":""},{"$f":"IF(COUNT($A4:$AH4)>0,Export1!$C$7,\"\")","v":""},{"$f":"IF(COUNT($A4:$AH4)>0,Export1!$C$9,\"\")","v":""},{"$f":"IF(COUNT($A4:$AH4)>0,Export1!$C$11,\"\")","v":""},"Zusatzfrage 3"]
[null,null,null,null,null,null,null,null,null,null,null,null,null,null,null,null,null,null,null,null,null,null,null,null,null,null,null,null,null,null,null,null,null,null,null,{"$f":"IF(COUNT($A5:$AH5)>0,Export1!$C$3,\"\")","v":""},{"$f":"IF(COUNT($A5:$AH5)>0,Export1!$C$5,\"\")","v":""},{"$f":"IF(COUNT($A5:$AH5)>0,Export1!$C$7,\"\")","v":""},{"$f":"IF(COUNT($A5:$AH5)>0,Export1!$C$9,\"\")","v":""},{"$f":"IF(COUNT($A5:$AH5)>0,Export1!$C$11,\"\")","v":""},"Zusatzfrage 4"]
[null,null,null,null,null,null,null,null,null,null,null,null,null,null,null,null,null,null,null,null,null,null,null,null,null,null,null,null,null,null,null,null,null,null,null,{"$f":"IF(COUNT($A6:$AH6)>0,Export1!$C$3,\"\")","v":""},{"$f":"IF(COUNT($A6:$AH6)>0,Export1!$C$5,\"\")","v":""},{"$f":"IF(COUNT($A6:$AH6)>0,Export1!$C$7,\"\")","v":""},{"$f":"IF(COUNT($A6:$AH6)>0,Export1!$C$9,\"\")","v":""},{"$f":"IF(COUNT($A6:$AH6)>0,Export1!$C$11,\"\")","v":""},"Zusatzfrage 5"]
[null,null,null,null,null,null,null,null,null,null,null,null,null,null,null,null,null,null,null,null,null,null,null,null,null,null,null,null,null,null,null,null,null,null,null,{"$f":"IF(COUNT($A7:$AH7)>0,Export1!$C$3,\"\")","v":""},{"$f":"IF(COUNT($A7:$AH7)>0,Export1!$C$5,\"\")","v":""},{"$f":"IF(COUNT($A7:$AH7)>0,Export1!$C$7,\"\")","v":""},{"$f":"IF(COUNT($A7:$AH7)>0,Export1!$C$9,\"\")","v":""},{"$f":"IF(COUNT($A7:$AH7)>0,Export1!$C$11,\"\")","v":""},"Zusatzfrage 6"]
[null,null,null,null,null,null,null,null,null,null,null,null,null,null,null,null,null,null,null,null,null,null,null,null,null,null,null,null,null,null,null,null,null,null,null,{"$f":"IF(COUNT($A8:$AH8)>0,Export1!$C$3,\"\")","v":""},{"$f":"IF(COUNT($A8:$AH8)>0,Export1!$C$5,\"\")","v":""},{"$f":"IF(COUNT($A8:$AH8)>0,Export1!$C$7,\"\")","v":""},{"$f":"IF(COUNT($A8:$AH8)>0,Export1!$C$9,\"\")","v":""},{"$f":"IF(COUNT($A8:$AH8)>0,Export1!$C$11,\"\")","v":""},"Zusatzfrage 7"]
[null,null,null,null,null,null,null,null,null,null,null,null,null,null,null,null,null,null,null,null,null,null,null,null,null,null,null,null,null,null,null,null,null,null,null,{"$f":"IF(COUNT($A9:$AH9)>0,Export1!$C$3,\"\")","v":""},{"$f":"IF(COUNT($A9:$AH9)>0,Export1!$C$5,\"\")","v":""},{"$f":"IF(COUNT($A9:$AH9)>0,Export1!$C$7,\"\")","v":""},{"$f":"IF(COUNT($A9:$AH9)>0,Export1!$C$9,\"\")","v":""},{"$f":"IF(COUNT($A9:$AH9)>0,Export1!$C$11,\"\")","v":""},"Zusatzfrage 8"]
[null,null,null,null,null,null,null,null,null,null,null,null,null,null,null,null,null,null,null,null,null,null,null,null,null,null,null,null,null,null,null,null,null,null,null,{"$f":"IF(COUNT($A10:$AH10)>0,Export1!$C$3,\"\")","v":""},{"$f":"IF(COUNT($A10:$AH10)>0,Export1!$C$5,\"\")","v":""},{"$f":"IF(COUNT($A10:$AH10)>0,Export1!$C$7,\"\")","v":""},{"$f":"IF(COUNT($A10:$AH10)>0,Export1!$C$9,\"\")","v":""},{"$f":"IF(COUNT($A10:$AH10)>0,Export1!$C$11,\"\")","v":""},"Zusatzfrage 9"]
[null,null,null,null,null,null,null,null,null,null,null,null,null,null,null,null,null,null,null,null,null,null,null,null,null,null,null,null,null,null,null,null,null,null,null,{"$f":"IF(COUNT($A11:$AH11)>0,Export1!$C$3,\"\")","v":""},{"$f":"IF(COUNT($A11:$AH11)>0,Export1!$C$5,\"\")","v":""},{"$f":"IF(COUNT($A11:$AH11)>0,Export1!$C$7,\"\")","v":""},{"$f":"IF(COUNT($A11:$AH11)>0,Export1!$C$9,\"\")","v":""},{"$f":"IF(COUNT($A11:$AH11)>0,Export1!$C$11,\"\")","v":""},"Zusatzfrage 10"]
[null,null,null,null,null,null,null,null,null,null,null,null,null,null,null,null,null,null,null,null,null,null,null,null,null,null,null,null,null,null,null,null,null,null,null,{"$f":"IF(COUNT($A12:$AH12)>0,Export1!$C$3,\"\")","v":""},{"$f":"IF(COUNT($A12:$AH12)>0,Export1!$C$5,\"\")","v":""},{"$f":"IF(COUNT($A12:$AH12)>0,Export1!$C$7,\"\")","v":""},{"$f":"IF(COUNT($A12:$AH12)>0,Export1!$C$9,\"\")","v":""},{"$f":"IF(COUNT($A12:$AH12)>0,Export1!$C$11,\"\")","v":""},"Zusatzfrage 11"]
[null,null,null,null,null,null,null,null,null,null,null,null,null,null,null,null,null,null,null,null,null,null,null,null,null,null,null,null,null,null,null,null,null,null,null,{"$f":"IF(COUNT($A13:$AH13)>0,Export1!$C$3,\"\")","v":""},{"$f":"IF(COUNT($A13:$AH13)>0,Export1!$C$5,\"\")","v":""},{"$f":"IF(COUNT($A13:$AH13)>0,Export1!$C$7,\"\")","v":""},{"$f":"IF(COUNT($A13:$AH13)>0,Export1!$C$9,\"\")","v":""},{"$f":"IF(COUNT($A13:$AH13)>0,Export1!$C$11,\"\")","v":""},"Zusatzfrage 12"]
[null,null,null,null,null,null,null,null,null,null,null,null,null,null,null,null,null,null,null,null,null,null,null,null,null,null,null,null,null,null,null,null,null,null,null,{"$f":"IF(COUNT($A14:$AH14)>0,Export1!$C$3,\"\")","v":""},{"$f":"IF(COUNT($A14:$AH14)>0,Export1!$C$5,\"\")","v":""},{"$f":"IF(COUNT($A14:$AH14)>0,Export1!$C$7,\"\")","v":""},{"$f":"IF(COUNT($A14:$AH14)>0,Export1!$C$9,\"\")","v":""},{"$f":"IF(COUNT($A14:$AH14)>0,Export1!$C$11,\"\")","v":""},"Zusatzfrage 13"]
[null,null,null,null,null,null,null,null,null,null,null,null,null,null,null,null,null,null,null,null,null,null,null,null,null,null,null,null,null,null,null,null,null,null,null,{"$f":"IF(COUNT($A15:$AH15)>0,Export1!$C$3,\"\")","v":""},{"$f":"IF(COUNT($A15:$AH15)>0,Export1!$C$5,\"\")","v":""},{"$f":"IF(COUNT($A15:$AH15)>0,Export1!$C$7,\"\")","v":""},{"$f":"IF(COUNT($A15:$AH15)>0,Export1!$C$9,\"\")","v":""},{"$f":"IF(COUNT($A15:$AH15)>0,Export1!$C$11,\"\")","v":""},"Zusatzfrage 14"]
[null,null,null,null,null,null,null,null,null,null,null,null,null,null,null,null,null,null,null,null,null,null,null,null,null,null,null,null,null,null,null,null,null,null,null,{"$f":"IF(COUNT($A16:$AH16)>0,Export1!$C$3,\"\")","v":""},{"$f":"IF(COUNT($A16:$AH16)>0,Export1!$C$5,\"\")","v":""},{"$f":"IF(COUNT($A16:$AH16)>0,Export1!$C$7,\"\")","v":""},{"$f":"IF(COUNT($A16:$AH16)>0,Export1!$C$9,\"\")","v":""},{"$f":"IF(COUNT($A16:$AH16)>0,Export1!$C$11,\"\")","v":""},"Zusatzfrage 15"]
[null,null,null,null,null,null,null,null,null,null,null,null,null,null,null,null,null,null,null,null,null,null,null,null,null,null,null,null,null,null,null,null,null,null,null,{"$f":"IF(COUNT($A17:$AH17)>0,Export1!$C$3,\"\")","v":""},{"$f":"IF(COUNT($A17:$AH17)>0,Export1!$C$5,\"\")","v":""},{"$f":"IF(COUNT($A17:$AH17)>0,Export1!$C$7,\"\")","v":""},{"$f":"IF(COUNT($A17:$AH17)>0,Export1!$C$9,\"\")","v":""},{"$f":"IF(COUNT($A17:$AH17)>0,Export1!$C$11,\"\")","v":""},"Zusatzfrage 16"]
[null,null,null,null,null,null,null,null,null,null,null,null,null,null,null,null,null,null,null,null,null,null,null,null,null,null,null,null,null,null,null,null,null,null,null,{"$f":"IF(COUNT($A18:$AH18)>0,Export1!$C$3,\"\")","v":""},{"$f":"IF(COUNT($A18:$AH18)>0,Export1!$C$5,\"\")","v":""},{"$f":"IF(COUNT($A18:$AH18)>0,Export1!$C$7,\"\")","v":""},{"$f":"IF(COUNT($A18:$AH18)>0,Export1!$C$9,\"\")","v":""},{"$f":"IF(COUNT($A18:$AH18)>0,Export1!$C$11,\"\")","v":""},"Zusatzfrage 17"]
[null,null,null,null,null,null,null,null,null,null,null,null,null,null,null,null,null,null,null,null,null,null,null,null,null,null,null,null,null,null,null,null,null,null,null,{"$f":"IF(COUNT($A19:$AH19)>0,Export1!$C$3,\"\")","v":""},{"$f":"IF(COUNT($A19:$AH19)>0,Export1!$C$5,\"\")","v":""},{"$f":"IF(COUNT($A19:$AH19)>0,Export1!$C$7,\"\")","v":""},{"$f":"IF(COUNT($A19:$AH19)>0,Export1!$C$9,\"\")","v":""},{"$f":"IF(COUNT($A19:$AH19)>0,Export1!$C$11,\"\")","v":""},"Zusatzfrage 18"]
[null,null,null,null,null,null,null,null,null,null,null,null,null,null,null,null,null,null,null,null,null,null,null,null,null,null,null,null,null,null,null,null,null,null,null,{"$f":"IF(COUNT($A20:$AH20)>0,Export1!$C$3,\"\")","v":""},{"$f":"IF(COUNT($A20:$AH20)>0,Export1!$C$5,\"\")","v":""},{"$f":"IF(COUNT($A20:$AH20)>0,Export1!$C$7,\"\")","v":""},{"$f":"IF(COUNT($A20:$AH20)>0,Export1!$C$9,\"\")","v":""},{"$f":"IF(COUNT($A20:$AH20)>0,Export1!$C$11,\"\")","v":""},"Zusatzfrage 19"]
[null,null,null,null,null,null,null,null,null,null,null,null,null,null,null,null,null,null,null,null,null,null,null,null,null,null,null,null,null,null,null,null,null,null,null,{"$f":"IF(COUNT($A21:$AH21)>0,Export1!$C$3,\"\")","v":""},{"$f":"IF(COUNT($A21:$AH21)>0,Export1!$C$5,\"\")","v":""},{"$f":"IF(COUNT($A21:$AH21)>0,Export1!$C$7,\"\")","v":""},{"$f":"IF(COUNT($A21:$AH21)>0,Export1!$C$9,\"\")","v":""},{"$f":"IF(COUNT($A21:$AH21)>0,Export1!$C$11,\"\")","v":""},"Zusatzfrage 20"]
[null,null,null,null,null,null,null,null,null,null,null,null,null,null,null,null,null,null,null,null,null,null,null,null,null,null,null,null,null,null,null,null,null,null,null,{"$f":"IF(COUNT($A22:$AH22)>0,Export1!$C$3,\"\")","v":""},{"$f":"IF(COUNT($A22:$AH22)>0,Export1!$C$5,\"\")","v":""},{"$f":"IF(COUNT($A22:$AH22)>0,Export1!$C$7,\"\")","v":""},{"$f":"IF(COUNT($A22:$AH22)>0,Export1!$C$9,\"\")","v":""},{"$f":"IF(COUNT($A22:$AH22)>0,Export1!$C$11,\"\")","v":""}]
[null,null,null,null,null,null,null,null,null,null,null,null,null,null,null,null,null,null,null,null,null,null,null,null,null,null,null,null,null,null,null,null,null,null,null,{"$f":"IF(COUNT($A23:$AH23)>0,Export1!$C$3,\"\")","v":""},{"$f":"IF(COUNT($A23:$AH23)>0,Export1!$C$5,\"\")","v":""},{"$f":"IF(COUNT($A23:$AH23)>0,Export1!$C$7,\"\")","v":""},{"$f":"IF(COUNT($A23:$AH23)>0,Export1!$C$9,\"\")","v":""},{"$f":"IF(COUNT($A23:$AH23)>0,Export1!$C$11,\"\")","v":""}]
[null,null,null,null,null,null,null,null,null,null,null,null,null,null,null,null,null,null,null,null,null,null,null,null,null,null,null,null,null,null,null,null,null,null,null,{"$f":"IF(COUNT($A24:$AH24)>0,Export1!$C$3,\"\")","v":""},{"$f":"IF(COUNT($A24:$AH24)>0,Export1!$C$5,\"\")","v":""},{"$f":"IF(COUNT($A24:$AH24)>0,Export1!$C$7,\"\")","v":""},{"$f":"IF(COUNT($A24:$AH24)>0,Export1!$C$9,\"\")","v":""},{"$f":"IF(COUNT($A24:$AH24)>0,Export1!$C$11,\"\")","v":""}]
[null,null,null,null,null,null,null,null,null,null,null,null,null,null,null,null,null,null,null,null,null,null,null,null,null,null,null,null,null,null,null,null,null,null,null,{"$f":"IF(COUNT($A25:$AH25)>0,Export1!$C$3,\"\")","v":""},{"$f":"IF(COUNT($A25:$AH25)>0,Export1!$C$5,\"\")","v":""},{"$f":"IF(COUNT($A25:$AH25)>0,Export1!$C$7,\"\")","v":""},{"$f":"IF(COUNT($A25:$AH25)>0,Export1!$C$9,\"\")","v":""},{"$f":"IF(COUNT($A25:$AH25)>0,Export1!$C$11,\"\")","v":""}]
[null,null,null,null,null,null,null,null,null,null,null,null,null,null,null,null,null,null,null,null,null,null,null,null,null,null,null,null,null,null,null,null,null,null,null,{"$f":"IF(COUNT($A26:$AH26)>0,Export1!$C$3,\"\")","v":""},{"$f":"IF(COUNT($A26:$AH26)>0,Export1!$C$5,\"\")","v":""},{"$f":"IF(COUNT($A26:$AH26)>0,Export1!$C$7,\"\")","v":""},{"$f":"IF(COUNT($A26:$AH26)>0,Export1!$C$9,\"\")","v":""},{"$f":"IF(COUNT($A26:$AH26)>0,Export1!$C$11,\"\")","v":""}]
[null,null,null,null,null,null,null,null,null,null,null,null,null,null,null,null,null,null,null,null,null,null,null,null,null,null,null,null,null,null,null,null,null,null,null,{"$f":"IF(COUNT($A27:$AH27)>0,Export1!$C$3,\"\")","v":""},{"$f":"IF(COUNT($A27:$AH27)>0,Export1!$C$5,\"\")","v":""},{"$f":"IF(COUNT($A27:$AH27)>0,Export1!$C$7,\"\")","v":""},{"$f":"IF(COUNT($A27:$AH27)>0,Export1!$C$9,\"\")","v":""},{"$f":"IF(COUNT($A27:$AH27)>0,Export1!$C$11,\"\")","v":""}]
[null,null,null,null,null,null,null,null,null,null,null,null,null,null,null,null,null,null,null,null,null,null,null,null,null,null,null,null,null,null,null,null,null,null,null,{"$f":"IF(COUNT($A28:$AH28)>0,Export1!$C$3,\"\")","v":""},{"$f":"IF(COUNT($A28:$AH28)>0,Export1!$C$5,\"\")","v":""},{"$f":"IF(COUNT($A28:$AH28)>0,Export1!$C$7,\"\")","v":""},{"$f":"IF(COUNT($A28:$AH28)>0,Export1!$C$9,\"\")","v":""},{"$f":"IF(COUNT($A28:$AH28)>0,Export1!$C$11,\"\")","v":""}]
[null,null,null,null,null,null,null,null,null,null,null,null,null,null,null,null,null,null,null,null,null,null,null,null,null,null,null,null,null,null,null,null,null,null,null,{"$f":"IF(COUNT($A29:$AH29)>0,Export1!$C$3,\"\")","v":""},{"$f":"IF(COUNT($A29:$AH29)>0,Export1!$C$5,\"\")","v":""},{"$f":"IF(COUNT($A29:$AH29)>0,Export1!$C$7,\"\")","v":""},{"$f":"IF(COUNT($A29:$AH29)>0,Export1!$C$9,\"\")","v":""},{"$f":"IF(COUNT($A29:$AH29)>0,Export1!$C$11,\"\")","v":""}]
[null,null,null,null,null,null,null,null,null,null,null,null,null,null,null,null,null,null,null,null,null,null,null,null,null,null,null,null,null,null,null,null,null,null,null,{"$f":"IF(COUNT($A30:$AH30)>0,Export1!$C$3,\"\")","v":""},{"$f":"IF(COUNT($A30:$AH30)>0,Export1!$C$5,\"\")","v":""},{"$f":"IF(COUNT($A30:$AH30)>0,Export1!$C$7,\"\")","v":""},{"$f":"IF(COUNT($A30:$AH30)>0,Export1!$C$9,\"\")","v":""},{"$f":"IF(COUNT($A30:$AH30)>0,Export1!$C$11,\"\")","v":""}]
[null,null,null,null,null,null,null,null,null,null,null,null,null,null,null,null,null,null,null,null,null,null,null,null,null,null,null,null,null,null,null,null,null,null,null,{"$f":"IF(COUNT($A31:$AH31)>0,Export1!$C$3,\"\")","v":""},{"$f":"IF(COUNT($A31:$AH31)>0,Export1!$C$5,\"\")","v":""},{"$f":"IF(COUNT($A31:$AH31)>0,Export1!$C$7,\"\")","v":""},{"$f":"IF(COUNT($A31:$AH31)>0,Export1!$C$9,\"\")","v":""},{"$f":"IF(COUNT($A31:$AH31)>0,Export1!$C$11,\"\")","v":""}]
[null,null,null,null,null,null,null,null,null,null,null,null,null,null,null,null,null,null,null,null,null,null,null,null,null,null,null,null,null,null,null,null,null,null,null,{"$f":"IF(COUNT($A32:$AH32)>0,Export1!$C$3,\"\")","v":""},{"$f":"IF(COUNT($A32:$AH32)>0,Export1!$C$5,\"\")","v":""},{"$f":"IF(COUNT($A32:$AH32)>0,Export1!$C$7,\"\")","v":""},{"$f":"IF(COUNT($A32:$AH32)>0,Export1!$C$9,\"\")","v":""},{"$f":"IF(COUNT($A32:$AH32)>0,Export1!$C$11,\"\")","v":""}]
[null,null,null,null,null,null,null,null,null,null,null,null,null,null,null,null,null,null,null,null,null,null,null,null,null,null,null,null,null,null,null,null,null,null,null,{"$f":"IF(COUNT($A33:$AH33)>0,Export1!$C$3,\"\")","v":""},{"$f":"IF(COUNT($A33:$AH33)>0,Export1!$C$5,\"\")","v":""},{"$f":"IF(COUNT($A33:$AH33)>0,Export1!$C$7,\"\")","v":""},{"$f":"IF(COUNT($A33:$AH33)>0,Export1!$C$9,\"\")","v":""},{"$f":"IF(COUNT($A33:$AH33)>0,Export1!$C$11,\"\")","v":""}]
[null,null,null,null,null,null,null,null,null,null,null,null,null,null,null,null,null,null,null,null,null,null,null,null,null,null,null,null,null,null,null,null,null,null,null,{"$f":"IF(COUNT($A34:$AH34)>0,Export1!$C$3,\"\")","v":""},{"$f":"IF(COUNT($A34:$AH34)>0,Export1!$C$5,\"\")","v":""},{"$f":"IF(COUNT($A34:$AH34)>0,Export1!$C$7,\"\")","v":""},{"$f":"IF(COUNT($A34:$AH34)>0,Export1!$C$9,\"\")","v":""},{"$f":"IF(COUNT($A34:$AH34)>0,Export1!$C$11,\"\")","v":""}]
[null,null,null,null,null,null,null,null,null,null,null,null,null,null,null,null,null,null,null,null,null,null,null,null,null,null,null,null,null,null,null,null,null,null,null,{"$f":"IF(COUNT($A35:$AH35)>0,Export1!$C$3,\"\")","v":""},{"$f":"IF(COUNT($A35:$AH35)>0,Export1!$C$5,\"\")","v":""},{"$f":"IF(COUNT($A35:$AH35)>0,Export1!$C$7,\"\")","v":""},{"$f":"IF(COUNT($A35:$AH35)>0,Export1!$C$9,\"\")","v":""},{"$f":"IF(COUNT($A35:$AH35)>0,Export1!$C$11,\"\")","v":""}]
[null,null,null,null,null,null,null,null,null,null,null,null,null,null,null,null,null,null,null,null,null,null,null,null,null,null,null,null,null,null,null,null,null,null,null,{"$f":"IF(COUNT($A36:$AH36)>0,Export1!$C$3,\"\")","v":""},{"$f":"IF(COUNT($A36:$AH36)>0,Export1!$C$5,\"\")","v":""},{"$f":"IF(COUNT($A36:$AH36)>0,Export1!$C$7,\"\")","v":""},{"$f":"IF(COUNT($A36:$AH36)>0,Export1!$C$9,\"\")","v":""},{"$f":"IF(COUNT($A36:$AH36)>0,Export1!$C$11,\"\")","v":""}]
[null,null,null,null,null,null,null,null,null,null,null,null,null,null,null,null,null,null,null,null,null,null,null,null,null,null,null,null,null,null,null,null,null,null,null,{"$f":"IF(COUNT($A37:$AH37)>0,Export1!$C$3,\"\")","v":""},{"$f":"IF(COUNT($A37:$AH37)>0,Export1!$C$5,\"\")","v":""},{"$f":"IF(COUNT($A37:$AH37)>0,Export1!$C$7,\"\")","v":""},{"$f":"IF(COUNT($A37:$AH37)>0,Export1!$C$9,\"\")","v":""},{"$f":"IF(COUNT($A37:$AH37)>0,Export1!$C$11,\"\")","v":""}]
[null,null,null,null,null,null,null,null,null,null,null,null,null,null,null,null,null,null,null,null,null,null,null,null,null,null,null,null,null,null,null,null,null,null,null,{"$f":"IF(COUNT($A38:$AH38)>0,Export1!$C$3,\"\")","v":""},{"$f":"IF(COUNT($A38:$AH38)>0,Export1!$C$5,\"\")","v":""},{"$f":"IF(COUNT($A38:$AH38)>0,Export1!$C$7,\"\")","v":""},{"$f":"IF(COUNT($A38:$AH38)>0,Export1!$C$9,\"\")","v":""},{"$f":"IF(COUNT($A38:$AH38)>0,Export1!$C$11,\"\")","v":""}]
[null,null,null,null,null,null,null,null,null,null,null,null,null,null,null,null,null,null,null,null,null,null,null,null,null,null,null,null,null,null,null,null,null,null,null,{"$f":"IF(COUNT($A39:$AH39)>0,Export1!$C$3,\"\")","v":""},{"$f":"IF(COUNT($A39:$AH39)>0,Export1!$C$5,\"\")","v":""},{"$f":"IF(COUNT($A39:$AH39)>0,Export1!$C$7,\"\")","v":""},{"$f":"IF(COUNT($A39:$AH39)>0,Export1!$C$9,\"\")","v":""},{"$f":"IF(COUNT($A39:$AH39)>0,Export1!$C$11,\"\")","v":""}]
[null,null,null,null,null,null,null,null,null,null,null,null,null,null,null,null,null,null,null,null,null,null,null,null,null,null,null,null,null,null,null,null,null,null,null,{"$f":"IF(COUNT($A40:$AH40)>0,Export1!$C$3,\"\")","v":""},{"$f":"IF(COUNT($A40:$AH40)>0,Export1!$C$5,\"\")","v":""},{"$f":"IF(COUNT($A40:$AH40)>0,Export1!$C$7,\"\")","v":""},{"$f":"IF(COUNT($A40:$AH40)>0,Export1!$C$9,\"\")","v":""},{"$f":"IF(COUNT($A40:$AH40)>0,Export1!$C$11,\"\")","v":""}]
[null,null,null,null,null,null,null,null,null,null,null,null,null,null,null,null,null,null,null,null,null,null,null,null,null,null,null,null,null,null,null,null,null,null,null,{"$f":"IF(COUNT($A41:$AH41)>0,Export1!$C$3,\"\")","v":""},{"$f":"IF(COUNT($A41:$AH41)>0,Export1!$C$5,\"\")","v":""},{"$f":"IF(COUNT($A41:$AH41)>0,Export1!$C$7,\"\")","v":""},{"$f":"IF(COUNT($A41:$AH41)>0,Export1!$C$9,\"\")","v":""},{"$f":"IF(COUNT($A41:$AH41)>0,Export1!$C$11,\"\")","v":""}]
[null,null,null,null,null,null,null,null,null,null,null,null,null,null,null,null,null,null,null,null,null,null,null,null,null,null,null,null,null,null,null,null,null,null,null,{"$f":"IF(COUNT($A42:$AH42)>0,Export1!$C$3,\"\")","v":""},{"$f":"IF(COUNT($A42:$AH42)>0,Export1!$C$5,\"\")","v":""},{"$f":"IF(COUNT($A42:$AH42)>0,Export1!$C$7,\"\")","v":""},{"$f":"IF(COUNT($A42:$AH42)>0,Export1!$C$9,\"\")","v":""},{"$f":"IF(COUNT($A42:$AH42)>0,Export1!$C$11,\"\")","v":""}]
[null,null,null,null,null,null,null,null,null,null,null,null,null,null,null,null,null,null,null,null,null,null,null,null,null,null,null,null,null,null,null,null,null,null,null,{"$f":"IF(COUNT($A43:$AH43)>0,Export1!$C$3,\"\")","v":""},{"$f":"IF(COUNT($A43:$AH43)>0,Export1!$C$5,\"\")","v":""},{"$f":"IF(COUNT($A43:$AH43)>0,Export1!$C$7,\"\")","v":""},{"$f":"IF(COUNT($A43:$AH43)>0,Export1!$C$9,\"\")","v":""},{"$f":"IF(COUNT($A43:$AH43)>0,Export1!$C$11,\"\")","v":""}]
[null,null,null,null,null,null,null,null,null,null,null,null,null,null,null,null,null,null,null,null,null,null,null,null,null,null,null,null,null,null,null,null,null,null,null,{"$f":"IF(COUNT($A44:$AH44)>0,Export1!$C$3,\"\")","v":""},{"$f":"IF(COUNT($A44:$AH44)>0,Export1!$C$5,\"\")","v":""},{"$f":"IF(COUNT($A44:$AH44)>0,Export1!$C$7,\"\")","v":""},{"$f":"IF(COUNT($A44:$AH44)>0,Export1!$C$9,\"\")","v":""},{"$f":"IF(COUNT($A44:$AH44)>0,Export1!$C$11,\"\")","v":""}]
[null,null,null,null,null,null,null,null,null,null,null,null,null,null,null,null,null,null,null,null,null,null,null,null,null,null,null,null,null,null,null,null,null,null,null,{"$f":"IF(COUNT($A45:$AH45)>0,Export1!$C$3,\"\")","v":""},{"$f":"IF(COUNT($A45:$AH45)>0,Export1!$C$5,\"\")","v":""},{"$f":"IF(COUNT($A45:$AH45)>0,Export1!$C$7,\"\")","v":""},{"$f":"IF(COUNT($A45:$AH45)>0,Export1!$C$9,\"\")","v":""},{"$f":"IF(COUNT($A45:$AH45)>0,Export1!$C$11,\"\")","v":""}]
[null,null,null,null,null,null,null,null,null,null,null,null,null,null,null,null,null,null,null,null,null,null,null,null,null,null,null,null,null,null,null,null,null,null,null,{"$f":"IF(COUNT($A46:$AH46)>0,Export1!$C$3,\"\")","v":""},{"$f":"IF(COUNT($A46:$AH46)>0,Export1!$C$5,\"\")","v":""},{"$f":"IF(COUNT($A46:$AH46)>0,Export1!$C$7,\"\")","v":""},{"$f":"IF(COUNT($A46:$AH46)>0,Export1!$C$9,\"\")","v":""},{"$f":"IF(COUNT($A46:$AH46)>0,Export1!$C$11,\"\")","v":""}]
[null,null,null,null,null,null,null,null,null,null,null,null,null,null,null,null,null,null,null,null,null,null,null,null,null,null,null,null,null,null,null,null,null,null,null,{"$f":"IF(COUNT($A47:$AH47)>0,Export1!$C$3,\"\")","v":""},{"$f":"IF(COUNT($A47:$AH47)>0,Export1!$C$5,\"\")","v":""},{"$f":"IF(COUNT($A47:$AH47)>0,Export1!$C$7,\"\")","v":""},{"$f":"IF(COUNT($A47:$AH47)>0,Export1!$C$9,\"\")","v":""},{"$f":"IF(COUNT($A47:$AH47)>0,Export1!$C$11,\"\")","v":""}]
[null,null,null,null,null,null,null,null,null,null,null,null,null,null,null,null,null,null,null,null,null,null,null,null,null,null,null,null,null,null,null,null,null,null,null,{"$f":"IF(COUNT($A48:$AH48)>0,Export1!$C$3,\"\")","v":""},{"$f":"IF(COUNT($A48:$AH48)>0,Export1!$C$5,\"\")","v":""},{"$f":"IF(COUNT($A48:$AH48)>0,Export1!$C$7,\"\")","v":""},{"$f":"IF(COUNT($A48:$AH48)>0,Export1!$C$9,\"\")","v":""},{"$f":"IF(COUNT($A48:$AH48)>0,Export1!$C$11,\"\")","v":""}]
[null,null,null,null,null,null,null,null,null,null,null,null,null,null,null,null,null,null,null,null,null,null,null,null,null,null,null,null,null,null,null,null,null,null,null,{"$f":"IF(COUNT($A49:$AH49)>0,Export1!$C$3,\"\")","v":""},{"$f":"IF(COUNT($A49:$AH49)>0,Export1!$C$5,\"\")","v":""},{"$f":"IF(COUNT($A49:$AH49)>0,Export1!$C$7,\"\")","v":""},{"$f":"IF(COUNT($A49:$AH49)>0,Export1!$C$9,\"\")","v":""},{"$f":"IF(COUNT($A49:$AH49)>0,Export1!$C$11,\"\")","v":""}]
[null,null,null,null,null,null,null,null,null,null,null,null,null,null,null,null,null,null,null,null,null,null,null,null,null,null,null,null,null,null,null,null,null,null,null,{"$f":"IF(COUNT($A50:$AH50)>0,Export1!$C$3,\"\")","v":""},{"$f":"IF(COUNT($A50:$AH50)>0,Export1!$C$5,\"\")","v":""},{"$f":"IF(COUNT($A50:$AH50)>0,Export1!$C$7,\"\")","v":""},{"$f":"IF(COUNT($A50:$AH50)>0,Export1!$C$9,\"\")","v":""},{"$f":"IF(COUNT($A50:$AH50)>0,Export1!$C$11,\"\")","v":""}]
[null,null,null,null,null,null,null,null,null,null,null,null,null,null,null,null,null,null,null,null,null,null,null,null,null,null,null,null,null,null,null,null,null,null,null,{"$f":"IF(COUNT($A51:$AH51)>0,Export1!$C$3,\"\")","v":""},{"$f":"IF(COUNT($A51:$AH51)>0,Export1!$C$5,\"\")","v":""},{"$f":"IF(COUNT($A51:$AH51)>0,Export1!$C$7,\"\")","v":""},{"$f":"IF(COUNT($A51:$AH51)>0,Export1!$C$9,\"\")","v":""},{"$f":"IF(COUNT($A51:$AH51)>0,Export1!$C$11,\"\")","v":""}]
[null,null,null,null,null,null,null,null,null,null,null,null,null,null,null,null,null,null,null,null,null,null,null,null,null,null,null,null,null,null,null,null,null,null,null,{"$f":"IF(COUNT($A52:$AH52)>0,Export1!$C$3,\"\")","v":""},{"$f":"IF(COUNT($A52:$AH52)>0,Export1!$C$5,\"\")","v":""},{"$f":"IF(COUNT($A52:$AH52)>0,Export1!$C$7,\"\")","v":""},{"$f":"IF(COUNT($A52:$AH52)>0,Export1!$C$9,\"\")","v":""},{"$f":"IF(COUNT($A52:$AH52)>0,Export1!$C$11,\"\")","v":""}]
[null,null,null,null,null,null,null,null,null,null,null,null,null,null,null,null,null,null,null,null,null,null,null,null,null,null,null,null,null,null,null,null,null,null,null,{"$f":"IF(COUNT($A53:$AH53)>0,Export1!$C$3,\"\")","v":""},{"$f":"IF(COUNT($A53:$AH53)>0,Export1!$C$5,\"\")","v":""},{"$f":"IF(COUNT($A53:$AH53)>0,Export1!$C$7,\"\")","v":""},{"$f":"IF(COUNT($A53:$AH53)>0,Export1!$C$9,\"\")","v":""},{"$f":"IF(COUNT($A53:$AH53)>0,Export1!$C$11,\"\")","v":""}]
[null,null,null,null,null,null,null,null,null,null,null,null,null,null,null,null,null,null,null,null,null,null,null,null,null,null,null,null,null,null,null,null,null,null,null,{"$f":"IF(COUNT($A54:$AH54)>0,Export1!$C$3,\"\")","v":""},{"$f":"IF(COUNT($A54:$AH54)>0,Export1!$C$5,\"\")","v":""},{"$f":"IF(COUNT($A54:$AH54)>0,Export1!$C$7,\"\")","v":""},{"$f":"IF(COUNT($A54:$AH54)>0,Export1!$C$9,\"\")","v":""},{"$f":"IF(COUNT($A54:$AH54)>0,Export1!$C$11,\"\")","v":""}]
[null,null,null,null,null,null,null,null,null,null,null,null,null,null,null,null,null,null,null,null,null,null,null,null,null,null,null,null,null,null,null,null,null,null,null,{"$f":"IF(COUNT($A55:$AH55)>0,Export1!$C$3,\"\")","v":""},{"$f":"IF(COUNT($A55:$AH55)>0,Export1!$C$5,\"\")","v":""},{"$f":"IF(COUNT($A55:$AH55)>0,Export1!$C$7,\"\")","v":""},{"$f":"IF(COUNT($A55:$AH55)>0,Export1!$C$9,\"\")","v":""},{"$f":"IF(COUNT($A55:$AH55)>0,Export1!$C$11,\"\")","v":""}]
[null,null,null,null,null,null,null,null,null,null,null,null,null,null,null,null,null,null,null,null,null,null,null,null,null,null,null,null,null,null,null,null,null,null,null,{"$f":"IF(COUNT($A56:$AH56)>0,Export1!$C$3,\"\")","v":""},{"$f":"IF(COUNT($A56:$AH56)>0,Export1!$C$5,\"\")","v":""},{"$f":"IF(COUNT($A56:$AH56)>0,Export1!$C$7,\"\")","v":""},{"$f":"IF(COUNT($A56:$AH56)>0,Export1!$C$9,\"\")","v":""},{"$f":"IF(COUNT($A56:$AH56)>0,Export1!$C$11,\"\")","v":""}]
[null,null,null,null,null,null,null,null,null,null,null,null,null,null,null,null,null,null,null,null,null,null,null,null,null,null,null,null,null,null,null,null,null,null,null,{"$f":"IF(COUNT($A57:$AH57)>0,Export1!$C$3,\"\")","v":""},{"$f":"IF(COUNT($A57:$AH57)>0,Export1!$C$5,\"\")","v":""},{"$f":"IF(COUNT($A57:$AH57)>0,Export1!$C$7,\"\")","v":""},{"$f":"IF(COUNT($A57:$AH57)>0,Export1!$C$9,\"\")","v":""},{"$f":"IF(COUNT($A57:$AH57)>0,Export1!$C$11,\"\")","v":""}]
[null,null,null,null,null,null,null,null,null,null,null,null,null,null,null,null,null,null,null,null,null,null,null,null,null,null,null,null,null,null,null,null,null,null,null,{"$f":"IF(COUNT($A58:$AH58)>0,Export1!$C$3,\"\")","v":""},{"$f":"IF(COUNT($A58:$AH58)>0,Export1!$C$5,\"\")","v":""},{"$f":"IF(COUNT($A58:$AH58)>0,Export1!$C$7,\"\")","v":""},{"$f":"IF(COUNT($A58:$AH58)>0,Export1!$C$9,\"\")","v":""},{"$f":"IF(COUNT($A58:$AH58)>0,Export1!$C$11,\"\")","v":""}]
[null,null,null,null,null,null,null,null,null,null,null,null,null,null,null,null,null,null,null,null,null,null,null,null,null,null,null,null,null,null,null,null,null,null,null,{"$f":"IF(COUNT($A59:$AH59)>0,Export1!$C$3,\"\")","v":""},{"$f":"IF(COUNT($A59:$AH59)>0,Export1!$C$5,\"\")","v":""},{"$f":"IF(COUNT($A59:$AH59)>0,Export1!$C$7,\"\")","v":""},{"$f":"IF(COUNT($A59:$AH59)>0,Export1!$C$9,\"\")","v":""},{"$f":"IF(COUNT($A59:$AH59)>0,Export1!$C$11,\"\")","v":""}]
[null,null,null,null,null,null,null,null,null,null,null,null,null,null,null,null,null,null,null,null,null,null,null,null,null,null,null,null,null,null,null,null,null,null,null,{"$f":"IF(COUNT($A60:$AH60)>0,Export1!$C$3,\"\")","v":""},{"$f":"IF(COUNT($A60:$AH60)>0,Export1!$C$5,\"\")","v":""},{"$f":"IF(COUNT($A60:$AH60)>0,Export1!$C$7,\"\")","v":""},{"$f":"IF(COUNT($A60:$AH60)>0,Export1!$C$9,\"\")","v":""},{"$f":"IF(COUNT($A60:$AH60)>0,Export1!$C$11,\"\")","v":""}]
[null,null,null,null,null,null,null,null,null,null,null,null,null,null,null,null,null,null,null,null,null,null,null,null,null,null,null,null,null,null,null,null,null,null,null,{"$f":"IF(COUNT($A61:$AH61)>0,Export1!$C$3,\"\")","v":""},{"$f":"IF(COUNT($A61:$AH61)>0,Export1!$C$5,\"\")","v":""},{"$f":"IF(COUNT($A61:$AH61)>0,Export1!$C$7,\"\")","v":""},{"$f":"IF(COUNT($A61:$AH61)>0,Export1!$C$9,\"\")","v":""},{"$f":"IF(COUNT($A61:$AH61)>0,Export1!$C$11,\"\")","v":""}]
[null,null,null,null,null,null,null,null,null,null,null,null,null,null,null,null,null,null,null,null,null,null,null,null,null,null,null,null,null,null,null,null,null,null,null,{"$f":"IF(COUNT($A62:$AH62)>0,Export1!$C$3,\"\")","v":""},{"$f":"IF(COUNT($A62:$AH62)>0,Export1!$C$5,\"\")","v":""},{"$f":"IF(COUNT($A62:$AH62)>0,Export1!$C$7,\"\")","v":""},{"$f":"IF(COUNT($A62:$AH62)>0,Export1!$C$9,\"\")","v":""},{"$f":"IF(COUNT($A62:$AH62)>0,Export1!$C$11,\"\")","v":""}]

{"sheet":"lfb2","index":8,"n_rows":62,"n_cols":61,"rows_kept":62,"cut":false,"hidden":true,"merged":[]}
["bleI1","bleI2","bleI3","bleI4","bleI5","bleI6","bleI7","bleI8","bleI9","bleI10","bleI11","bleI12","bleI13","bleI14","bleI15","bleI16","bleI17","bleI18","bleI19","bleI20","bleI21","bleI22","bleI23","bleI24","bleI25","bleI26","bleI27","bleI28","bleI29","bleI30b","bleI30b","bleI30c","bleI30d","bleI30e","ble_ID","Land","Schulart","Stufe","Fach","Lehrer_ID","Zusatzitemtexte","bleI31","bleI32","bleI33","bleI34","bleI35","bleI36","bleI37","bleI38","bleI39","bleI40","bleI41","bleI42","bleI43","bleI44","bleI45","bleI46","bleI47","bleI48","bleI49","bleI50"]
[3,null,null,null,null,null,null,null,null,null,null,null,null,null,null,null,null,null,null,null,null,null,null,null,null,null,null,null,null,null,null,null,null,null,"c",{"$f":"IF(COUNT($A2:$AH2)>0,Export2!$C$3,\"\")","v":0},{"$f":"IF(COUNT($A2:$AH2)>0,Export2!$C$5,\"\")","v":0},{"$f":"IF(COUNT($A2:$AH2)>0,Export2!$C$7,\"\")","v":0},{"$f":"IF(COUNT($A2:$AH2)>0,Export2!$C$9,\"\")","v":0},{"$f":"IF(COUNT($A2:$AH2)>0,Export2!$C$11,\"\")","v":0},"Zusatzfrage 1"]
[4,null,null,null,null,null,null,null,null,null,null,null,null,null,null,null,null,null,null,null,null,null,null,null,null,null,null,null,null,null,null,null,null,null,"d",{"$f":"IF(COUNT($A3:$AH3)>0,Export2!$C$3,\"\")","v":0},{"$f":"IF(COUNT($A3:$AH3)>0,Export2!$C$5,\"\")","v":0},{"$f":"IF(COUNT($A3:$AH3)>0,Export2!$C$7,\"\")","v":0},{"$f":"IF(COUNT($A3:$AH3)>0,Export2!$C$9,\"\")","v":0},{"$f":"IF(COUNT($A3:$AH3)>0,Export2!$C$11,\"\")","v":0},"Zusatzfrage 2"]
[null,null,null,null,null,null,null,null,null,null,null,null,null,null,null,null,null,null,null,null,null,null,null,null,null,null,null,null,null,null,null,null,null,null,null,{"$f":"IF(COUNT($A4:$AH4)>0,Export2!$C$3,\"\")","v":""},{"$f":"IF(COUNT($A4:$AH4)>0,Export2!$C$5,\"\")","v":""},{"$f":"IF(COUNT($A4:$AH4)>0,Export2!$C$7,\"\")","v":""},{"$f":"IF(COUNT($A4:$AH4)>0,Export2!$C$9,\"\")","v":""},{"$f":"IF(COUNT($A4:$AH4)>0,Export2!$C$11,\"\")","v":""},"Zusatzfrage 3"]
[null,null,null,null,null,null,null,null,null,null,null,null,null,null,null,null,null,null,null,null,null,null,null,null,null,null,null,null,null,null,null,null,null,null,null,{"$f":"IF(COUNT($A5:$AH5)>0,Export2!$C$3,\"\")","v":""},{"$f":"IF(COUNT($A5:$AH5)>0,Export2!$C$5,\"\")","v":""},{"$f":"IF(COUNT($A5:$AH5)>0,Export2!$C$7,\"\")","v":""},{"$f":"IF(COUNT($A5:$AH5)>0,Export2!$C$9,\"\")","v":""},{"$f":"IF(COUNT($A5:$AH5)>0,Export2!$C$11,\"\")","v":""},"Zusatzfrage 4"]
[null,null,null,null,null,null,null,null,null,null,null,null,null,null,null,null,null,null,null,null,null,null,null,null,null,null,null,null,null,null,null,null,null,null,null,{"$f":"IF(COUNT($A6:$AH6)>0,Export2!$C$3,\"\")","v":""},{"$f":"IF(COUNT($A6:$AH6)>0,Export2!$C$5,\"\")","v":""},{"$f":"IF(COUNT($A6:$AH6)>0,Export2!$C$7,\"\")","v":""},{"$f":"IF(COUNT($A6:$AH6)>0,Export2!$C$9,\"\")","v":""},{"$f":"IF(COUNT($A6:$AH6)>0,Export2!$C$11,\"\")","v":""},"Zusatzfrage 5"]
[null,null,null,null,null,null,null,null,null,null,null,null,null,null,null,null,null,null,null,null,null,null,null,null,null,null,null,null,null,null,null,null,null,null,null,{"$f":"IF(COUNT($A7:$AH7)>0,Export2!$C$3,\"\")","v":""},{"$f":"IF(COUNT($A7:$AH7)>0,Export2!$C$5,\"\")","v":""},{"$f":"IF(COUNT($A7:$AH7)>0,Export2!$C$7,\"\")","v":""},{"$f":"IF(COUNT($A7:$AH7)>0,Export2!$C$9,\"\")","v":""},{"$f":"IF(COUNT($A7:$AH7)>0,Export2!$C$11,\"\")","v":""},"Zusatzfrage 6"]
[null,null,null,null,null,null,null,null,null,null,null,null,null,null,null,null,null,null,null,null,null,null,null,null,null,null,null,null,null,null,null,null,null,null,null,{"$f":"IF(COUNT($A8:$AH8)>0,Export2!$C$3,\"\")","v":""},{"$f":"IF(COUNT($A8:$AH8)>0,Export2!$C$5,\"\")","v":""},{"$f":"IF(COUNT($A8:$AH8)>0,Export2!$C$7,\"\")","v":""},{"$f":"IF(COUNT($A8:$AH8)>0,Export2!$C$9,\"\")","v":""},{"$f":"IF(COUNT($A8:$AH8)>0,Export2!$C$11,\"\")","v":""},"Zusatzfrage 7"]
[null,null,null,null,null,null,null,null,null,null,null,null,null,null,null,null,null,null,null,null,null,null,null,null,null,null,null,null,null,null,null,null,null,null,null,{"$f":"IF(COUNT($A9:$AH9)>0,Export2!$C$3,\"\")","v":""},{"$f":"IF(COUNT($A9:$AH9)>0,Export2!$C$5,\"\")","v":""},{"$f":"IF(COUNT($A9:$AH9)>0,Export2!$C$7,\"\")","v":""},{"$f":"IF(COUNT($A9:$AH9)>0,Export2!$C$9,\"\")","v":""},{"$f":"IF(COUNT($A9:$AH9)>0,Export2!$C$11,\"\")","v":""},"Zusatzfrage 8"]
[null,null,null,null,null,null,null,null,null,null,null,null,null,null,null,null,null,null,null,null,null,null,null,null,null,null,null,null,null,null,null,null,null,null,null,{"$f":"IF(COUNT($A10:$AH10)>0,Export2!$C$3,\"\")","v":""},{"$f":"IF(COUNT($A10:$AH10)>0,Export2!$C$5,\"\")","v":""},{"$f":"IF(COUNT($A10:$AH10)>0,Export2!$C$7,\"\")","v":""},{"$f":"IF(COUNT($A10:$AH10)>0,Export2!$C$9,\"\")","v":""},{"$f":"IF(COUNT($A10:$AH10)>0,Export2!$C$11,\"\")","v":""},"Zusatzfrage 9"]
[null,null,null,null,null,null,null,null,null,null,null,null,null,null,null,null,null,null,null,null,null,null,null,null,null,null,null,null,null,null,null,null,null,null,null,{"$f":"IF(COUNT($A11:$AH11)>0,Export2!$C$3,\"\")","v":""},{"$f":"IF(COUNT($A11:$AH11)>0,Export2!$C$5,\"\")","v":""},{"$f":"IF(COUNT($A11:$AH11)>0,Export2!$C$7,\"\")","v":""},{"$f":"IF(COUNT($A11:$AH11)>0,Export2!$C$9,\"\")","v":""},{"$f":"IF(COUNT($A11:$AH11)>0,Export2!$C$11,\"\")","v":""},"Zusatzfrage 10"]
[null,null,null,null,null,null,null,null,null,null,null,null,null,null,null,null,null,null,null,null,null,null,null,null,null,null,null,null,null,null,null,null,null,null,null,{"$f":"IF(COUNT($A12:$AH12)>0,Export2!$C$3,\"\")","v":""},{"$f":"IF(COUNT($A12:$AH12)>0,Export2!$C$5,\"\")","v":""},{"$f":"IF(COUNT($A12:$AH12)>0,Export2!$C$7,\"\")","v":""},{"$f":"IF(COUNT($A12:$AH12)>0,Export2!$C$9,\"\")","v":""},{"$f":"IF(COUNT($A12:$AH12)>0,Export2!$C$11,\"\")","v":""},"Zusatzfrage 11"]
[null,null,null,null,null,null,null,null,null,null,null,null,null,null,null,null,null,null,null,null,null,null,null,null,null,null,null,null,null,null,null,null,null,null,null,{"$f":"IF(COUNT($A13:$AH13)>0,Export2!$C$3,\"\")","v":""},{"$f":"IF(COUNT($A13:$AH13)>0,Export2!$C$5,\"\")","v":""},{"$f":"IF(COUNT($A13:$AH13)>0,Export2!$C$7,\"\")","v":""},{"$f":"IF(COUNT($A13:$AH13)>0,Export2!$C$9,\"\")","v":""},{"$f":"IF(COUNT($A13:$AH13)>0,Export2!$C$11,\"\")","v":""},"Zusatzfrage 12"]
[null,null,null,null,null,null,null,null,null,null,null,null,null,null,null,null,null,null,null,null,null,null,null,null,null,null,null,null,null,null,null,null,null,null,null,{"$f":"IF(COUNT($A14:$AH14)>0,Export2!$C$3,\"\")","v":""},{"$f":"IF(COUNT($A14:$AH14)>0,Export2!$C$5,\"\")","v":""},{"$f":"IF(COUNT($A14:$AH14)>0,Export2!$C$7,\"\")","v":""},{"$f":"IF(COUNT($A14:$AH14)>0,Export2!$C$9,\"\")","v":""},{"$f":"IF(COUNT($A14:$AH14)>0,Export2!$C$11,\"\")","v":""},"Zusatzfrage 13"]
[null,null,null,null,null,null,null,null,null,null,null,null,null,null,null,null,null,null,null,null,null,null,null,null,null,null,null,null,null,null,null,null,null,null,null,{"$f":"IF(COUNT($A15:$AH15)>0,Export2!$C$3,\"\")","v":""},{"$f":"IF(COUNT($A15:$AH15)>0,Export2!$C$5,\"\")","v":""},{"$f":"IF(COUNT($A15:$AH15)>0,Export2!$C$7,\"\")","v":""},{"$f":"IF(COUNT($A15:$AH15)>0,Export2!$C$9,\"\")","v":""},{"$f":"IF(COUNT($A15:$AH15)>0,Export2!$C$11,\"\")","v":""},"Zusatzfrage 14"]
[null,null,null,null,null,null,null,null,null,null,null,null,null,null,null,null,null,null,null,null,null,null,null,null,null,null,null,null,null,null,null,null,null,null,null,{"$f":"IF(COUNT($A16:$AH16)>0,Export2!$C$3,\"\")","v":""},{"$f":"IF(COUNT($A16:$AH16)>0,Export2!$C$5,\"\")","v":""},{"$f":"IF(COUNT($A16:$AH16)>0,Export2!$C$7,\"\")","v":""},{"$f":"IF(COUNT($A16:$AH16)>0,Export2!$C$9,\"\")","v":""},{"$f":"IF(COUNT($A16:$AH16)>0,Export2!$C$11,\"\")","v":""},"Zusatzfrage 15"]
[null,null,null,null,null,null,null,null,null,null,null,null,null,null,null,null,null,null,null,null,null,null,null,null,null,null,null,null,null,null,null,null,null,null,null,{"$f":"IF(COUNT($A17:$AH17)>0,Export2!$C$3,\"\")","v":""},{"$f":"IF(COUNT($A17:$AH17)>0,Export2!$C$5,\"\")","v":""},{"$f":"IF(COUNT($A17:$AH17)>0,Export2!$C$7,\"\")","v":""},{"$f":"IF(COUNT($A17:$AH17)>0,Export2!$C$9,\"\")","v":""},{"$f":"IF(COUNT($A17:$AH17)>0,Export2!$C$11,\"\")","v":""},"Zusatzfrage 16"]
[null,null,null,null,null,null,null,null,null,null,null,null,null,null,null,null,null,null,null,null,null,null,null,null,null,null,null,null,null,null,null,null,null,null,null,{"$f":"IF(COUNT($A18:$AH18)>0,Export2!$C$3,\"\")","v":""},{"$f":"IF(COUNT($A18:$AH18)>0,Export2!$C$5,\"\")","v":""},{"$f":"IF(COUNT($A18:$AH18)>0,Export2!$C$7,\"\")","v":""},{"$f":"IF(COUNT($A18:$AH18)>0,Export2!$C$9,\"\")","v":""},{"$f":"IF(COUNT($A18:$AH18)>0,Export2!$C$11,\"\")","v":""},"Zusatzfrage 17"]
[null,null,null,null,null,null,null,null,null,null,null,null,null,null,null,null,null,null,null,null,null,null,null,null,null,null,null,null,null,null,null,null,null,null,null,{"$f":"IF(COUNT($A19:$AH19)>0,Export2!$C$3,\"\")","v":""},{"$f":"IF(COUNT($A19:$AH19)>0,Export2!$C$5,\"\")","v":""},{"$f":"IF(COUNT($A19:$AH19)>0,Export2!$C$7,\"\")","v":""},{"$f":"IF(COUNT($A19:$AH19)>0,Export2!$C$9,\"\")","v":""},{"$f":"IF(COUNT($A19:$AH19)>0,Export2!$C$11,\"\")","v":""},"Zusatzfrage 18"]
[null,null,null,null,null,null,null,null,null,null,null,null,null,null,null,null,null,null,null,null,null,null,null,null,null,null,null,null,null,null,null,null,null,null,null,{"$f":"IF(COUNT($A20:$AH20)>0,Export2!$C$3,\"\")","v":""},{"$f":"IF(COUNT($A20:$AH20)>0,Export2!$C$5,\"\")","v":""},{"$f":"IF(COUNT($A20:$AH20)>0,Export2!$C$7,\"\")","v":""},{"$f":"IF(COUNT($A20:$AH20)>0,Export2!$C$9,\"\")","v":""},{"$f":"IF(COUNT($A20:$AH20)>0,Export2!$C$11,\"\")","v":""},"Zusatzfrage 19"]
[null,null,null,null,null,null,null,null,null,null,null,null,null,null,null,null,null,null,null,null,null,null,null,null,null,null,null,null,null,null,null,null,null,null,null,{"$f":"IF(COUNT($A21:$AH21)>0,Export2!$C$3,\"\")","v":""},{"$f":"IF(COUNT($A21:$AH21)>0,Export2!$C$5,\"\")","v":""},{"$f":"IF(COUNT($A21:$AH21)>0,Export2!$C$7,\"\")","v":""},{"$f":"IF(COUNT($A21:$AH21)>0,Export2!$C$9,\"\")","v":""},{"$f":"IF(COUNT($A21:$AH21)>0,Export2!$C$11,\"\")","v":""},"Zusatzfrage 20"]
[null,null,null,null,null,null,null,null,null,null,null,null,null,null,null,null,null,null,null,null,null,null,null,null,null,null,null,null,null,null,null,null,null,null,null,{"$f":"IF(COUNT($A22:$AH22)>0,Export2!$C$3,\"\")","v":""},{"$f":"IF(COUNT($A22:$AH22)>0,Export2!$C$5,\"\")","v":""},{"$f":"IF(COUNT($A22:$AH22)>0,Export2!$C$7,\"\")","v":""},{"$f":"IF(COUNT($A22:$AH22)>0,Export2!$C$9,\"\")","v":""},{"$f":"IF(COUNT($A22:$AH22)>0,Export2!$C$11,\"\")","v":""}]
[null,null,null,null,null,null,null,null,null,null,null,null,null,null,null,null,null,null,null,null,null,null,null,null,null,null,null,null,null,null,null,null,null,null,null,{"$f":"IF(COUNT($A23:$AH23)>0,Export2!$C$3,\"\")","v":""},{"$f":"IF(COUNT($A23:$AH23)>0,Export2!$C$5,\"\")","v":""},{"$f":"IF(COUNT($A23:$AH23)>0,Export2!$C$7,\"\")","v":""},{"$f":"IF(COUNT($A23:$AH23)>0,Export2!$C$9,\"\")","v":""},{"$f":"IF(COUNT($A23:$AH23)>0,Export2!$C$11,\"\")","v":""}]
[null,null,null,null,null,null,null,null,null,null,null,null,null,null,null,null,null,null,null,null,null,null,null,null,null,null,null,null,null,null,null,null,null,null,null,{"$f":"IF(COUNT($A24:$AH24)>0,Export2!$C$3,\"\")","v":""},{"$f":"IF(COUNT($A24:$AH24)>0,Export2!$C$5,\"\")","v":""},{"$f":"IF(COUNT($A24:$AH24)>0,Export2!$C$7,\"\")","v":""},{"$f":"IF(COUNT($A24:$AH24)>0,Export2!$C$9,\"\")","v":""},{"$f":"IF(COUNT($A24:$AH24)>0,Export2!$C$11,\"\")","v":""}]
[null,null,null,null,null,null,null,null,null,null,null,null,null,null,null,null,null,null,null,null,null,null,null,null,null,null,null,null,null,null,null,null,null,null,null,{"$f":"IF(COUNT($A25:$AH25)>0,Export2!$C$3,\"\")","v":""},{"$f":"IF(COUNT($A25:$AH25)>0,Export2!$C$5,\"\")","v":""},{"$f":"IF(COUNT($A25:$AH25)>0,Export2!$C$7,\"\")","v":""},{"$f":"IF(COUNT($A25:$AH25)>0,Export2!$C$9,\"\")","v":""},{"$f":"IF(COUNT($A25:$AH25)>0,Export2!$C$11,\"\")","v":""}]
[null,null,null,null,null,null,null,null,null,null,null,null,null,null,null,null,null,null,null,null,null,null,null,null,null,null,null,null,null,null,null,null,null,null,null,{"$f":"IF(COUNT($A26:$AH26)>0,Export2!$C$3,\"\")","v":""},{"$f":"IF(COUNT($A26:$AH26)>0,Export2!$C$5,\"\")","v":""},{"$f":"IF(COUNT($A26:$AH26)>0,Export2!$C$7,\"\")","v":""},{"$f":"IF(COUNT($A26:$AH26)>0,Export2!$C$9,\"\")","v":""},{"$f":"IF(COUNT($A26:$AH26)>0,Export2!$C$11,\"\")","v":""}]
[null,null,null,null,null,null,null,null,null,null,null,null,null,null,null,null,null,null,null,null,null,null,null,null,null,null,null,null,null,null,null,null,null,null,null,{"$f":"IF(COUNT($A27:$AH27)>0,Export2!$C$3,\"\")","v":""},{"$f":"IF(COUNT($A27:$AH27)>0,Export2!$C$5,\"\")","v":""},{"$f":"IF(COUNT($A27:$AH27)>0,Export2!$C$7,\"\")","v":""},{"$f":"IF(COUNT($A27:$AH27)>0,Export2!$C$9,\"\")","v":""},{"$f":"IF(COUNT($A27:$AH27)>0,Export2!$C$11,\"\")","v":""}]
[null,null,null,null,null,null,null,null,null,null,null,null,null,null,null,null,null,null,null,null,null,null,null,null,null,null,null,null,null,null,null,null,null,null,null,{"$f":"IF(COUNT($A28:$AH28)>0,Export2!$C$3,\"\")","v":""},{"$f":"IF(COUNT($A28:$AH28)>0,Export2!$C$5,\"\")","v":""},{"$f":"IF(COUNT($A28:$AH28)>0,Export2!$C$7,\"\")","v":""},{"$f":"IF(COUNT($A28:$AH28)>0,Export2!$C$9,\"\")","v":""},{"$f":"IF(COUNT($A28:$AH28)>0,Export2!$C$11,\"\")","v":""}]
[null,null,null,null,null,null,null,null,null,null,null,null,null,null,null,null,null,null,null,null,null,null,null,null,null,null,null,null,null,null,null,null,null,null,null,{"$f":"IF(COUNT($A29:$AH29)>0,Export2!$C$3,\"\")","v":""},{"$f":"IF(COUNT($A29:$AH29)>0,Export2!$C$5,\"\")","v":""},{"$f":"IF(COUNT($A29:$AH29)>0,Export2!$C$7,\"\")","v":""},{"$f":"IF(COUNT($A29:$AH29)>0,Export2!$C$9,\"\")","v":""},{"$f":"IF(COUNT($A29:$AH29)>0,Export2!$C$11,\"\")","v":""}]
[null,null,null,null,null,null,null,null,null,null,null,null,null,null,null,null,null,null,null,null,null,null,null,null,null,null,null,null,null,null,null,null,null,null,null,{"$f":"IF(COUNT($A30:$AH30)>0,Export2!$C$3,\"\")","v":""},{"$f":"IF(COUNT($A30:$AH30)>0,Export2!$C$5,\"\")","v":""},{"$f":"IF(COUNT($A30:$AH30)>0,Export2!$C$7,\"\")","v":""},{"$f":"IF(COUNT($A30:$AH30)>0,Export2!$C$9,\"\")","v":""},{"$f":"IF(COUNT($A30:$AH30)>0,Export2!$C$11,\"\")","v":""}]
[null,null,null,null,null,null,null,null,null,null,null,null,null,null,null,null,null,null,null,null,null,null,null,null,null,null,null,null,null,null,null,null,null,null,null,{"$f":"IF(COUNT($A31:$AH31)>0,Export2!$C$3,\"\")","v":""},{"$f":"IF(COUNT($A31:$AH31)>0,Export2!$C$5,\"\")","v":""},{"$f":"IF(COUNT($A31:$AH31)>0,Export2!$C$7,\"\")","v":""},{"$f":"IF(COUNT($A31:$AH31)>0,Export2!$C$9,\"\")","v":""},{"$f":"IF(COUNT($A31:$AH31)>0,Export2!$C$11,\"\")","v":""}]
[null,null,null,null,null,null,null,null,null,null,null,null,null,null,null,null,null,null,null,null,null,null,null,null,null,null,null,null,null,null,null,null,null,null,null,{"$f":"IF(COUNT($A32:$AH32)>0,Export2!$C$3,\"\")","v":""},{"$f":"IF(COUNT($A32:$AH32)>0,Export2!$C$5,\"\")","v":""},{"$f":"IF(COUNT($A32:$AH32)>0,Export2!$C$7,\"\")","v":""},{"$f":"IF(COUNT($A32:$AH32)>0,Export2!$C$9,\"\")","v":""},{"$f":"IF(COUNT($A32:$AH32)>0,Export2!$C$11,\"\")","v":""}]
[null,null,null,null,null,null,null,null,null,null,null,null,null,null,null,null,null,null,null,null,null,null,null,null,null,null,null,null,null,null,null,null,null,null,null,{"$f":"IF(COUNT($A33:$AH33)>0,Export2!$C$3,\"\")","v":""},{"$f":"IF(COUNT($A33:$AH33)>0,Export2!$C$5,\"\")","v":""},{"$f":"IF(COUNT($A33:$AH33)>0,Export2!$C$7,\"\")","v":""},{"$f":"IF(COUNT($A33:$AH33)>0,Export2!$C$9,\"\")","v":""},{"$f":"IF(COUNT($A33:$AH33)>0,Export2!$C$11,\"\")","v":""}]
[null,null,null,null,null,null,null,null,null,null,null,null,null,null,null,null,null,null,null,null,null,null,null,null,null,null,null,null,null,null,null,null,null,null,null,{"$f":"IF(COUNT($A34:$AH34)>0,Export2!$C$3,\"\")","v":""},{"$f":"IF(COUNT($A34:$AH34)>0,Export2!$C$5,\"\")","v":""},{"$f":"IF(COUNT($A34:$AH34)>0,Export2!$C$7,\"\")","v":""},{"$f":"IF(COUNT($A34:$AH34)>0,Export2!$C$9,\"\")","v":""},{"$f":"IF(COUNT($A34:$AH34)>0,Export2!$C$11,\"\")","v":""}]
[null,null,null,null,null,null,null,null,null,null,null,null,null,null,null,null,null,null,null,null,null,null,null,null,null,null,null,null,null,null,null,null,null,null,null,{"$f":"IF(COUNT($A35:$AH35)>0,Export2!$C$3,\"\")","v":""},{"$f":"IF(COUNT($A35:$AH35)>0,Export2!$C$5,\"\")","v":""},{"$f":"IF(COUNT($A35:$AH35)>0,Export2!$C$7,\"\")","v":""},{"$f":"IF(COUNT($A35:$AH35)>0,Export2!$C$9,\"\")","v":""},{"$f":"IF(COUNT($A35:$AH35)>0,Export2!$C$11,\"\")","v":""}]
[null,null,null,null,null,null,null,null,null,null,null,null,null,null,null,null,null,null,null,null,null,null,null,null,null,null,null,null,null,null,null,null,null,null,null,{"$f":"IF(COUNT($A36:$AH36)>0,Export2!$C$3,\"\")","v":""},{"$f":"IF(COUNT($A36:$AH36)>0,Export2!$C$5,\"\")","v":""},{"$f":"IF(COUNT($A36:$AH36)>0,Export2!$C$7,\"\")","v":""},{"$f":"IF(COUNT($A36:$AH36)>0,Export2!$C$9,\"\")","v":""},{"$f":"IF(COUNT($A36:$AH36)>0,Export2!$C$11,\"\")","v":""}]
[null,null,null,null,null,null,null,null,null,null,null,null,null,null,null,null,null,null,null,null,null,null,null,null,null,null,null,null,null,null,null,null,null,null,null,{"$f":"IF(COUNT($A37:$AH37)>0,Export2!$C$3,\"\")","v":""},{"$f":"IF(COUNT($A37:$AH37)>0,Export2!$C$5,\"\")","v":""},{"$f":"IF(COUNT($A37:$AH37)>0,Export2!$C$7,\"\")","v":""},{"$f":"IF(COUNT($A37:$AH37)>0,Export2!$C$9,\"\")","v":""},{"$f":"IF(COUNT($A37:$AH37)>0,Export2!$C$11,\"\")","v":""}]
[null,null,null,null,null,null,null,null,null,null,null,null,null,null,null,null,null,null,null,null,null,null,null,null,null,null,null,null,null,null,null,null,null,null,null,{"$f":"IF(COUNT($A38:$AH38)>0,Export2!$C$3,\"\")","v":""},{"$f":"IF(COUNT($A38:$AH38)>0,Export2!$C$5,\"\")","v":""},{"$f":"IF(COUNT($A38:$AH38)>0,Export2!$C$7,\"\")","v":""},{"$f":"IF(COUNT($A38:$AH38)>0,Export2!$C$9,\"\")","v":""},{"$f":"IF(COUNT($A38:$AH38)>0,Export2!$C$11,\"\")","v":""}]
[null,null,null,null,null,null,null,null,null,null,null,null,null,null,null,null,null,null,null,null,null,null,null,null,null,null,null,null,null,null,null,null,null,null,null,{"$f":"IF(COUNT($A39:$AH39)>0,Export2!$C$3,\"\")","v":""},{"$f":"IF(COUNT($A39:$AH39)>0,Export2!$C$5,\"\")","v":""},{"$f":"IF(COUNT($A39:$AH39)>0,Export2!$C$7,\"\")","v":""},{"$f":"IF(COUNT($A39:$AH39)>0,Export2!$C$9,\"\")","v":""},{"$f":"IF(COUNT($A39:$AH39)>0,Export2!$C$11,\"\")","v":""}]
[null,null,null,null,null,null,null,null,null,null,null,null,null,null,null,null,null,null,null,null,null,null,null,null,null,null,null,null,null,null,null,null,null,null,null,{"$f":"IF(COUNT($A40:$AH40)>0,Export2!$C$3,\"\")","v":""},{"$f":"IF(COUNT($A40:$AH40)>0,Export2!$C$5,\"\")","v":""},{"$f":"IF(COUNT($A40:$AH40)>0,Export2!$C$7,\"\")","v":""},{"$f":"IF(COUNT($A40:$AH40)>0,Export2!$C$9,\"\")","v":""},{"$f":"IF(COUNT($A40:$AH40)>0,Export2!$C$11,\"\")","v":""}]
[null,null,null,null,null,null,null,null,null,null,null,null,null,null,null,null,null,null,null,null,null,null,null,null,null,null,null,null,null,null,null,null,null,null,null,{"$f":"IF(COUNT($A41:$AH41)>0,Export2!$C$3,\"\")","v":""},{"$f":"IF(COUNT($A41:$AH41)>0,Export2!$C$5,\"\")","v":""},{"$f":"IF(COUNT($A41:$AH41)>0,Export2!$C$7,\"\")","v":""},{"$f":"IF(COUNT($A41:$AH41)>0,Export2!$C$9,\"\")","v":""},{"$f":"IF(COUNT($A41:$AH41)>0,Export2!$C$11,\"\")","v":""}]
[null,null,null,null,null,null,null,null,null,null,null,null,null,null,null,null,null,null,null,null,null,null,null,null,null,null,null,null,null,null,null,null,null,null,null,{"$f":"IF(COUNT($A42:$AH42)>0,Export2!$C$3,\"\")","v":""},{"$f":"IF(COUNT($A42:$AH42)>0,Export2!$C$5,\"\")","v":""},{"$f":"IF(COUNT($A42:$AH42)>0,Export2!$C$7,\"\")","v":""},{"$f":"IF(COUNT($A42:$AH42)>0,Export2!$C$9,\"\")","v":""},{"$f":"IF(COUNT($A42:$AH42)>0,Export2!$C$11,\"\")","v":""}]
[null,null,null,null,null,null,null,null,null,null,null,null,null,null,null,null,null,null,null,null,null,null,null,null,null,null,null,null,null,null,null,null,null,null,null,{"$f":"IF(COUNT($A43:$AH43)>0,Export2!$C$3,\"\")","v":""},{"$f":"IF(COUNT($A43:$AH43)>0,Export2!$C$5,\"\")","v":""},{"$f":"IF(COUNT($A43:$AH43)>0,Export2!$C$7,\"\")","v":""},{"$f":"IF(COUNT($A43:$AH43)>0,Export2!$C$9,\"\")","v":""},{"$f":"IF(COUNT($A43:$AH43)>0,Export2!$C$11,\"\")","v":""}]
[null,null,null,null,null,null,null,null,null,null,null,null,null,null,null,null,null,null,null,null,null,null,null,null,null,null,null,null,null,null,null,null,null,null,null,{"$f":"IF(COUNT($A44:$AH44)>0,Export2!$C$3,\"\")","v":""},{"$f":"IF(COUNT($A44:$AH44)>0,Export2!$C$5,\"\")","v":""},{"$f":"IF(COUNT($A44:$AH44)>0,Export2!$C$7,\"\")","v":""},{"$f":"IF(COUNT($A44:$AH44)>0,Export2!$C$9,\"\")","v":""},{"$f":"IF(COUNT($A44:$AH44)>0,Export2!$C$11,\"\")","v":""}]
[null,null,null,null,null,null,null,null,null,null,null,null,null,null,null,null,null,null,null,null,null,null,null,null,null,null,null,null,null,null,null,null,null,null,null,{"$f":"IF(COUNT($A45:$AH45)>0,Export2!$C$3,\"\")","v":""},{"$f":"IF(COUNT($A45:$AH45)>0,Export2!$C$5,\"\")","v":""},{"$f":"IF(COUNT($A45:$AH45)>0,Export2!$C$7,\"\")","v":""},{"$f":"IF(COUNT($A45:$AH45)>0,Export2!$C$9,\"\")","v":""},{"$f":"IF(COUNT($A45:$AH45)>0,Export2!$C$11,\"\")","v":""}]
[null,null,null,null,null,null,null,null,null,null,null,null,null,null,null,null,null,null,null,null,null,null,null,null,null,null,null,null,null,null,null,null,null,null,null,{"$f":"IF(COUNT($A46:$AH46)>0,Export2!$C$3,\"\")","v":""},{"$f":"IF(COUNT($A46:$AH46)>0,Export2!$C$5,\"\")","v":""},{"$f":"IF(COUNT($A46:$AH46)>0,Export2!$C$7,\"\")","v":""},{"$f":"IF(COUNT($A46:$AH46)>0,Export2!$C$9,\"\")","v":""},{"$f":"IF(COUNT($A46:$AH46)>0,Export2!$C$11,\"\")","v":""}]
[null,null,null,null,null,null,null,null,null,null,null,null,null,null,null,null,null,null,null,null,null,null,null,null,null,null,null,null,null,null,null,null,null,null,null,{"$f":"IF(COUNT($A47:$AH47)>0,Export2!$C$3,\"\")","v":""},{"$f":"IF(COUNT($A47:$AH47)>0,Export2!$C$5,\"\")","v":""},{"$f":"IF(COUNT($A47:$AH47)>0,Export2!$C$7,\"\")","v":""},{"$f":"IF(COUNT($A47:$AH47)>0,Export2!$C$9,\"\")","v":""},{"$f":"IF(COUNT($A47:$AH47)>0,Export2!$C$11,\"\")","v":""}]
[null,null,null,null,null,null,null,null,null,null,null,null,null,null,null,null,null,null,null,null,null,null,null,null,null,null,null,null,null,null,null,null,null,null,null,{"$f":"IF(COUNT($A48:$AH48)>0,Export2!$C$3,\"\")","v":""},{"$f":"IF(COUNT($A48:$AH48)>0,Export2!$C$5,\"\")","v":""},{"$f":"IF(COUNT($A48:$AH48)>0,Export2!$C$7,\"\")","v":""},{"$f":"IF(COUNT($A48:$AH48)>0,Export2!$C$9,\"\")","v":""},{"$f":"IF(COUNT($A48:$AH48)>0,Export2!$C$11,\"\")","v":""}]
[null,null,null,null,null,null,null,null,null,null,null,null,null,null,null,null,null,null,null,null,null,null,null,null,null,null,null,null,null,null,null,null,null,null,null,{"$f":"IF(COUNT($A49:$AH49)>0,Export2!$C$3,\"\")","v":""},{"$f":"IF(COUNT($A49:$AH49)>0,Export2!$C$5,\"\")","v":""},{"$f":"IF(COUNT($A49:$AH49)>0,Export2!$C$7,\"\")","v":""},{"$f":"IF(COUNT($A49:$AH49)>0,Export2!$C$9,\"\")","v":""},{"$f":"IF(COUNT($A49:$AH49)>0,Export2!$C$11,\"\")","v":""}]
[null,null,null,null,null,null,null,null,null,null,null,null,null,null,null,null,null,null,null,null,null,null,null,null,null,null,null,null,null,null,null,null,null,null,null,{"$f":"IF(COUNT($A50:$AH50)>0,Export2!$C$3,\"\")","v":""},{"$f":"IF(COUNT($A50:$AH50)>0,Export2!$C$5,\"\")","v":""},{"$f":"IF(COUNT($A50:$AH50)>0,Export2!$C$7,\"\")","v":""},{"$f":"IF(COUNT($A50:$AH50)>0,Export2!$C$9,\"\")","v":""},{"$f":"IF(COUNT($A50:$AH50)>0,Export2!$C$11,\"\")","v":""}]
[null,null,null,null,null,null,null,null,null,null,null,null,null,null,null,null,null,null,null,null,null,null,null,null,null,null,null,null,null,null,null,null,null,null,null,{"$f":"IF(COUNT($A51:$AH51)>0,Export2!$C$3,\"\")","v":""},{"$f":"IF(COUNT($A51:$AH51)>0,Export2!$C$5,\"\")","v":""},{"$f":"IF(COUNT($A51:$AH51)>0,Export2!$C$7,\"\")","v":""},{"$f":"IF(COUNT($A51:$AH51)>0,Export2!$C$9,\"\")","v":""},{"$f":"IF(COUNT($A51:$AH51)>0,Export2!$C$11,\"\")","v":""}]
[null,null,null,null,null,null,null,null,null,null,null,null,null,null,null,null,null,null,null,null,null,null,null,null,null,null,null,null,null,null,null,null,null,null,null,{"$f":"IF(COUNT($A52:$AH52)>0,Export2!$C$3,\"\")","v":""},{"$f":"IF(COUNT($A52:$AH52)>0,Export2!$C$5,\"\")","v":""},{"$f":"IF(COUNT($A52:$AH52)>0,Export2!$C$7,\"\")","v":""},{"$f":"IF(COUNT($A52:$AH52)>0,Export2!$C$9,\"\")","v":""},{"$f":"IF(COUNT($A52:$AH52)>0,Export2!$C$11,\"\")","v":""}]
[null,null,null,null,null,null,null,null,null,null,null,null,null,null,null,null,null,null,null,null,null,null,null,null,null,null,null,null,null,null,null,null,null,null,null,{"$f":"IF(COUNT($A53:$AH53)>0,Export2!$C$3,\"\")","v":""},{"$f":"IF(COUNT($A53:$AH53)>0,Export2!$C$5,\"\")","v":""},{"$f":"IF(COUNT($A53:$AH53)>0,Export2!$C$7,\"\")","v":""},{"$f":"IF(COUNT($A53:$AH53)>0,Export2!$C$9,\"\")","v":""},{"$f":"IF(COUNT($A53:$AH53)>0,Export2!$C$11,\"\")","v":""}]
[null,null,null,null,null,null,null,null,null,null,null,null,null,null,null,null,null,null,null,null,null,null,null,null,null,null,null,null,null,null,null,null,null,null,null,{"$f":"IF(COUNT($A54:$AH54)>0,Export2!$C$3,\"\")","v":""},{"$f":"IF(COUNT($A54:$AH54)>0,Export2!$C$5,\"\")","v":""},{"$f":"IF(COUNT($A54:$AH54)>0,Export2!$C$7,\"\")","v":""},{"$f":"IF(COUNT($A54:$AH54)>0,Export2!$C$9,\"\")","v":""},{"$f":"IF(COUNT($A54:$AH54)>0,Export2!$C$11,\"\")","v":""}]
[null,null,null,null,null,null,null,null,null,null,null,null,null,null,null,null,null,null,null,null,null,null,null,null,null,null,null,null,null,null,null,null,null,null,null,{"$f":"IF(COUNT($A55:$AH55)>0,Export2!$C$3,\"\")","v":""},{"$f":"IF(COUNT($A55:$AH55)>0,Export2!$C$5,\"\")","v":""},{"$f":"IF(COUNT($A55:$AH55)>0,Export2!$C$7,\"\")","v":""},{"$f":"IF(COUNT($A55:$AH55)>0,Export2!$C$9,\"\")","v":""},{"$f":"IF(COUNT($A55:$AH55)>0,Export2!$C$11,\"\")","v":""}]
[null,null,null,null,null,null,null,null,null,null,null,null,null,null,null,null,null,null,null,null,null,null,null,null,null,null,null,null,null,null,null,null,null,null,null,{"$f":"IF(COUNT($A56:$AH56)>0,Export2!$C$3,\"\")","v":""},{"$f":"IF(COUNT($A56:$AH56)>0,Export2!$C$5,\"\")","v":""},{"$f":"IF(COUNT($A56:$AH56)>0,Export2!$C$7,\"\")","v":""},{"$f":"IF(COUNT($A56:$AH56)>0,Export2!$C$9,\"\")","v":""},{"$f":"IF(COUNT($A56:$AH56)>0,Export2!$C$11,\"\")","v":""}]
[null,null,null,null,null,null,null,null,null,null,null,null,null,null,null,null,null,null,null,null,null,null,null,null,null,null,null,null,null,null,null,null,null,null,null,{"$f":"IF(COUNT($A57:$AH57)>0,Export2!$C$3,\"\")","v":""},{"$f":"IF(COUNT($A57:$AH57)>0,Export2!$C$5,\"\")","v":""},{"$f":"IF(COUNT($A57:$AH57)>0,Export2!$C$7,\"\")","v":""},{"$f":"IF(COUNT($A57:$AH57)>0,Export2!$C$9,\"\")","v":""},{"$f":"IF(COUNT($A57:$AH57)>0,Export2!$C$11,\"\")","v":""}]
[null,null,null,null,null,null,null,null,null,null,null,null,null,null,null,null,null,null,null,null,null,null,null,null,null,null,null,null,null,null,null,null,null,null,null,{"$f":"IF(COUNT($A58:$AH58)>0,Export2!$C$3,\"\")","v":""},{"$f":"IF(COUNT($A58:$AH58)>0,Export2!$C$5,\"\")","v":""},{"$f":"IF(COUNT($A58:$AH58)>0,Export2!$C$7,\"\")","v":""},{"$f":"IF(COUNT($A58:$AH58)>0,Export2!$C$9,\"\")","v":""},{"$f":"IF(COUNT($A58:$AH58)>0,Export2!$C$11,\"\")","v":""}]
[null,null,null,null,null,null,null,null,null,null,null,null,null,null,null,null,null,null,null,null,null,null,null,null,null,null,null,null,null,null,null,null,null,null,null,{"$f":"IF(COUNT($A59:$AH59)>0,Export2!$C$3,\"\")","v":""},{"$f":"IF(COUNT($A59:$AH59)>0,Export2!$C$5,\"\")","v":""},{"$f":"IF(COUNT($A59:$AH59)>0,Export2!$C$7,\"\")","v":""},{"$f":"IF(COUNT($A59:$AH59)>0,Export2!$C$9,\"\")","v":""},{"$f":"IF(COUNT($A59:$AH59)>0,Export2!$C$11,\"\")","v":""}]
[null,null,null,null,null,null,null,null,null,null,null,null,null,null,null,null,null,null,null,null,null,null,null,null,null,null,null,null,null,null,null,null,null,null,null,{"$f":"IF(COUNT($A60:$AH60)>0,Export2!$C$3,\"\")","v":""},{"$f":"IF(COUNT($A60:$AH60)>0,Export2!$C$5,\"\")","v":""},{"$f":"IF(COUNT($A60:$AH60)>0,Export2!$C$7,\"\")","v":""},{"$f":"IF(COUNT($A60:$AH60)>0,Export2!$C$9,\"\")","v":""},{"$f":"IF(COUNT($A60:$AH60)>0,Export2!$C$11,\"\")","v":""}]
[null,null,null,null,null,null,null,null,null,null,null,null,null,null,null,null,null,null,null,null,null,null,null,null,null,null,null,null,null,null,null,null,null,null,null,{"$f":"IF(COUNT($A61:$AH61)>0,Export2!$C$3,\"\")","v":""},{"$f":"IF(COUNT($A61:$AH61)>0,Export2!$C$5,\"\")","v":""},{"$f":"IF(COUNT($A61:$AH61)>0,Export2!$C$7,\"\")","v":""},{"$f":"IF(COUNT($A61:$AH61)>0,Export2!$C$9,\"\")","v":""},{"$f":"IF(COUNT($A61:$AH61)>0,Export2!$C$11,\"\")","v":""}]
[null,null,null,null,null,null,null,null,null,null,null,null,null,null,null,null,null,null,null,null,null,null,null,null,null,null,null,null,null,null,null,null,null,null,null,{"$f":"IF(COUNT($A62:$AH62)>0,Export2!$C$3,\"\")","v":""},{"$f":"IF(COUNT($A62:$AH62)>0,Export2!$C$5,\"\")","v":""},{"$f":"IF(COUNT($A62:$AH62)>0,Export2!$C$7,\"\")","v":""},{"$f":"IF(COUNT($A62:$AH62)>0,Export2!$C$9,\"\")","v":""},{"$f":"IF(COUNT($A62:$AH62)>0,Export2!$C$11,\"\")","v":""}]

{"sheet":"A) Daten","index":9,"n_rows":228,"n_cols":67,"rows_kept":228,"cut":false,"hidden":true,"merged":[[0,1,0,9],[0,10,0,18],[94,1,94,3]]}
[null,"Schüler-Urteil",null,null,null,null,null,null,null,null,"Lehrer-, Kollegen-Urteil"]
["Itemnr.","M","SD","Proz3_4","N","cat1","cat2","cat3","cat4","SE","M-Kolleg","SD-Kolleg","Proz34_kog","N_kog","cat1-kog","cat2-kog","cat3-kog","cat4-kog","SE"]
[{"$f":"'A) Eingabe (Schüler)'!A12","v":1},{"$f":"IF(E3=0, #N/A,AVERAGE('A) Eingabe (Schüler)'!C12:AK12))","v":{"$error":"#N/A"}},{"$f":"IF(E3<2, #N/A, STDEVP('A) Eingabe (Schüler)'!C12:AK12))","v":{"$error":"#N/A"}},{"$f":"IF(E3<2, #N/A, 100*(H3+I3)/E3)","v":{"$error":"#N/A"}},{"$f":"COUNT('A) Eingabe (Schüler)'!C12:AK12)","v":0},{"$f":"IF(E3<2,#N/A,COUNTIF('A) Eingabe (Schüler)'!C12:AK12,1))","v":{"$error":"#N/A"}},{"$f":"IF(E3<2,#N/A,COUNTIF('A) Eingabe (Schüler)'!C12:AK12,2))","v":{"$error":"#N/A"}},{"$f":"IF(E3<2,#N/A,COUNTIF('A) Eingabe (Schüler)'!C12:AK12,3))","v":{"$error":"#N/A"}},{"$f":"IF(E3<2,#N/A,COUNTIF('A) Eingabe (Schüler)'!C12:AK12,4))","v":{"$error":"#N/A"}},{"$f":"IF('A) Eingabe (Lehrer)'!C12=\"\", #N/A, 'A) Eingabe (Lehrer)'!C12)","v":{"$error":"#N/A"}},{"$f":"IF(N3=0, #N/A,AVERAGE('A) Eingabe (Lehrer)'!D12:BK12))","v":{"$error":"#N/A"}},{"$f":"IF(N3<2, #N/A, STDEVP('A) Eingabe (Lehrer)'!D12:BK12))","v":{"$error":"#N/A"}},{"$f":"IF(N3<2, #N/A, 100*(Q3+R3)/N3)","v":{"$error":"#N/A"}},{"$f":"COUNT('A) Eingabe (Lehrer)'!D12:BK12)","v":0},{"$f":"IF(N3<2,#N/A,COUNTIF('A) Eingabe (Lehrer)'!D12:BK12,1))","v":{"$error":"#N/A"}},{"$f":"IF(N3<2,#N/A,COUNTIF('A) Eingabe (Lehrer)'!D12:BK12,2))","v":{"$error":"#N/A"}},{"$f":"IF(N3<2,#N/A,COUNTIF('A) Eingabe (Lehrer)'!D12:BK12,3))","v":{"$error":"#N/A"}},{"$f":"IF(N3<2,#N/A,COUNTIF('A) Eingabe (Lehrer)'!D12:BK12,4))","v":{"$error":"#N/A"}},{"$f":"IF('A) Eingabe (Lehrer)'!C12=\"\", #N/A, 'A) Eingabe (Lehrer)'!C12)","v":{"$error":"#N/A"}}]
[{"$f":"'A) Eingabe (Schüler)'!A13","v":2},{"$f":"IF(E4=0, #N/A,AVERAGE('A) Eingabe (Schüler)'!C13:AK13))","v":{"$error":"#N/A"}},{"$f":"IF(E4<2, #N/A, STDEVP('A) Eingabe (Schüler)'!C13:AK13))","v":{"$error":"#N/A"}},{"$f":"IF(E4<2, #N/A, 100*(H4+I4)/E4)","v":{"$error":"#N/A"}},{"$f":"COUNT('A) Eingabe (Schüler)'!C13:AK13)","v":0},{"$f":"IF(E4<2,#N/A,COUNTIF('A) Eingabe (Schüler)'!C13:AK13,1))","v":{"$error":"#N/A"}},{"$f":"IF(E4<2,#N/A,COUNTIF('A) Eingabe (Schüler)'!C13:AK13,2))","v":{"$error":"#N/A"}},{"$f":"IF(E4<2,#N/A,COUNTIF('A) Eingabe (Schüler)'!C13:AK13,3))","v":{"$error":"#N/A"}},{"$f":"IF(E4<2,#N/A,COUNTIF('A) Eingabe (Schüler)'!C13:AK13,4))","v":{"$error":"#N/A"}},{"$f":"IF('A) Eingabe (Lehrer)'!C13=\"\", #N/A, 'A) Eingabe (Lehrer)'!C13)","v":{"$error":"#N/A"}},{"$f":"IF(N4=0, #N/A,AVERAGE('A) Eingabe (Lehrer)'!D13:BK13))","v":{"$error":"#N/A"}},{"$f":"IF(N4<2, #N/A, STDEVP('A) Eingabe (Lehrer)'!D13:BK13))","v":{"$error":"#N/A"}},{"$f":"IF(N4<2, #N/A, 100*(Q4+R4)/N4)","v":{"$error":"#N/A"}},{"$f":"COUNT('A) Eingabe (Lehrer)'!D13:BK13)","v":0},{"$f":"IF(N4<2,#N/A,COUNTIF('A) Eingabe (Lehrer)'!D13:BK13,1))","v":{"$error":"#N/A"}},{"$f":"IF(N4<2,#N/A,COUNTIF('A) Eingabe (Lehrer)'!D13:BK13,2))","v":{"$error":"#N/A"}},{"$f":"IF(N4<2,#N/A,COUNTIF('A) Eingabe (Lehrer)'!D13:BK13,3))","v":{"$error":"#N/A"}},{"$f":"IF(N4<2,#N/A,COUNTIF('A) Eingabe (Lehrer)'!D13:BK13,4))","v":{"$error":"#N/A"}},{"$f":"IF('A) Eingabe (Lehrer)'!C13=\"\", #N/A, 'A) Eingabe (Lehrer)'!C13)","v":{"$error":"#N/A"}}]
[{"$f":"'A) Eingabe (Schüler)'!A14","v":3},{"$f":"IF(E5=0, #N/A,AVERAGE('A) Eingabe (Schüler)'!C14:AK14))","v":{"$error":"#N/A"}},{"$f":"IF(E5<2, #N/A, STDEVP('A) Eingabe (Schüler)'!C14:AK14))","v":{"$error":"#N/A"}},{"$f":"IF(E5<2, #N/A, 100*(H5+I5)/E5)","v":{"$error":"#N/A"}},{"$f":"COUNT('A) Eingabe (Schüler)'!C14:AK14)","v":0},{"$f":"IF(E5<2,#N/A,COUNTIF('A) Eingabe (Schüler)'!C14:AK14,1))","v":{"$error":"#N/A"}},{"$f":"IF(E5<2,#N/A,COUNTIF('A) Eingabe (Schüler)'!C14:AK14,2))","v":{"$error":"#N/A"}},{"$f":"IF(E5<2,#N/A,COUNTIF('A) Eingabe (Schüler)'!C14:AK14,3))","v":{"$error":"#N/A"}},{"$f":"IF(E5<2,#N/A,COUNTIF('A) Eingabe (Schüler)'!C14:AK14,4))","v":{"$error":"#N/A"}},{"$f":"IF('A) Eingabe (Lehrer)'!C14=\"\", #N/A, 'A) Eingabe (Lehrer)'!C14)","v":{"$error":"#N/A"}},{"$f":"IF(N5=0, #N/A,AVERAGE('A) Eingabe (Lehrer)'!D14:BK14))","v":{"$error":"#N/A"}},{"$f":"IF(N5<2, #N/A, STDEVP('A) Eingabe (Lehrer)'!D14:BK14))","v":{"$error":"#N/A"}},{"$error":"#N/A"},{"$f":"COUNT('A) Eingabe (Lehrer)'!D14:BK14)","v":0},{"$f":"IF(N5<2,#N/A,COUNTIF('A) Eingabe (Lehrer)'!D14:BK14,1))","v":{"$error":"#N/A"}},{"$f":"IF(N5<2,#N/A,COUNTIF('A) Eingabe (Lehrer)'!D14:BK14,2))","v":{"$error":"#N/A"}},{"$f":"IF(N5<2,#N/A,COUNTIF('A) Eingabe (Lehrer)'!D14:BK14,3))","v":{"$error":"#N/A"}},{"$f":"IF(N5<2,#N/A,COUNTIF('A) Eingabe (Lehrer)'!D14:BK14,4))","v":{"$error":"#N/A"}},{"$f":"IF('A) Eingabe (Lehrer)'!C14=\"\", #N/A, 'A) Eingabe (Lehrer)'!C14)","v":{"$error":"#N/A"}}]
[{"$f":"'A) Eingabe (Schüler)'!A15","v":4},{"$f":"IF(E6=0, #N/A,AVERAGE('A) Eingabe (Schüler)'!C15:AK15))","v":{"$error":"#N/A"}},{"$f":"IF(E6<2, #N/A, STDEVP('A) Eingabe (Schüler)'!C15:AK15))","v":{"$error":"#N/A"}},{"$error":"#N/A"},{"$f":"COUNT('A) Eingabe (Schüler)'!C15:AK15)","v":0},{"$f":"IF(E6<2,#N/A,COUNTIF('A) Eingabe (Schüler)'!C15:AK15,1))","v":{"$error":"#N/A"}},{"$f":"IF(E6<2,#N/A,COUNTIF('A) Eingabe (Schüler)'!C15:AK15,2))","v":{"$error":"#N/A"}},{"$f":"IF(E6<2,#N/A,COUNTIF('A) Eingabe (Schüler)'!C15:AK15,3))","v":{"$error":"#N/A"}},{"$f":"IF(E6<2,#N/A,COUNTIF('A) Eingabe (Schüler)'!C15:AK15,4))","v":{"$error":"#N/A"}},{"$f":"IF('A) Eingabe (Lehrer)'!C15=\"\", #N/A, 'A) Eingabe (Lehrer)'!C15)","v":{"$error":"#N/A"}},{"$f":"IF(N6=0, #N/A,AVERAGE('A) Eingabe (Lehrer)'!D15:BK15))","v":{"$error":"#N/A"}},{"$f":"IF(N6<2, #N/A, STDEVP('A) Eingabe (Lehrer)'!D15:BK15))","v":{"$error":"#N/A"}},{"$error":"#N/A"},{"$f":"COUNT('A) Eingabe (Lehrer)'!D15:BK15)","v":0},{"$f":"IF(N6<2,#N/A,COUNTIF('A) Eingabe (Lehrer)'!D15:BK15,1))","v":{"$error":"#N/A"}},{"$f":"IF(N6<2,#N/A,COUNTIF('A) Eingabe (Lehrer)'!D15:BK15,2))","v":{"$error":"#N/A"}},{"$f":"IF(N6<2,#N/A,COUNTIF('A) Eingabe (Lehrer)'!D15:BK15,3))","v":{"$error":"#N/A"}},{"$f":"IF(N6<2,#N/A,COUNTIF('A) Eingabe (Lehrer)'!D15:BK15,4))","v":{"$error":"#N/A"}},{"$f":"IF('A) Eingabe (Lehrer)'!C15=\"\", #N/A, 'A) Eingabe (Lehrer)'!C15)","v":{"$error":"#N/A"}}]
[{"$f":"'A) Eingabe (Schüler)'!A16","v":5},{"$f":"IF(E7=0, #N/A,AVERAGE('A) Eingabe (Schüler)'!C16:AK16))","v":{"$error":"#N/A"}},{"$f":"IF(E7<2, #N/A, STDEVP('A) Eingabe (Schüler)'!C16:AK16))","v":{"$error":"#N/A"}},{"$error":"#N/A"},{"$f":"COUNT('A) Eingabe (Schüler)'!C16:AK16)","v":0},{"$f":"IF(E7<2,#N/A,COUNTIF('A) Eingabe (Schüler)'!C16:AK16,1))","v":{"$error":"#N/A"}},{"$f":"IF(E7<2,#N/A,COUNTIF('A) Eingabe (Schüler)'!C16:AK16,2))","v":{"$error":"#N/A"}},{"$f":"IF(E7<2,#N/A,COUNTIF('A) Eingabe (Schüler)'!C16:AK16,3))","v":{"$error":"#N/A"}},{"$f":"IF(E7<2,#N/A,COUNTIF('A) Eingabe (Schüler)'!C16:AK16,4))","v":{"$error":"#N/A"}},{"$f":"IF('A) Eingabe (Lehrer)'!C16=\"\", #N/A, 'A) Eingabe (Lehrer)'!C16)","v":{"$error":"#N/A"}},{"$f":"IF(N7=0, #N/A,AVERAGE('A) Eingabe (Lehrer)'!D16:BK16))","v":{"$error":"#N/A"}},{"$f":"IF(N7<2, #N/A, STDEVP('A) Eingabe (Lehrer)'!D16:BK16))","v":{"$error":"#N/A"}},{"$error":"#N/A"},{"$f":"COUNT('A) Eingabe (Lehrer)'!D16:BK16)","v":0},{"$f":"IF(N7<2,#N/A,COUNTIF('A) Eingabe (Lehrer)'!D16:BK16,1))","v":{"$error":"#N/A"}},{"$f":"IF(N7<2,#N/A,COUNTIF('A) Eingabe (Lehrer)'!D16:BK16,2))","v":{"$error":"#N/A"}},{"$f":"IF(N7<2,#N/A,COUNTIF('A) Eingabe (Lehrer)'!D16:BK16,3))","v":{"$error":"#N/A"}},{"$f":"IF(N7<2,#N/A,COUNTIF('A) Eingabe (Lehrer)'!D16:BK16,4))","v":{"$error":"#N/A"}},{"$f":"IF('A) Eingabe (Lehrer)'!C16=\"\", #N/A, 'A) Eingabe (Lehrer)'!C16)","v":{"$error":"#N/A"}}]
[{"$f":"'A) Eingabe (Schüler)'!A18","v":6},{"$f":"IF(E8=0, #N/A,AVERAGE('A) Eingabe (Schüler)'!C18:AK18))","v":{"$error":"#N/A"}},{"$f":"IF(E8<2, #N/A, STDEVP('A) Eingabe (Schüler)'!C18:AK18))","v":{"$error":"#N/A"}},{"$error":"#N/A"},{"$f":"COUNT('A) Eingabe (Schüler)'!C18:AK18)","v":0},{"$f":"IF(E8<2,#N/A,COUNTIF('A) Eingabe (Schüler)'!C18:AK18,1))","v":{"$error":"#N/A"}},{"$f":"IF(E8<2,#N/A,COUNTIF('A) Eingabe (Schüler)'!C18:AK18,2))","v":{"$error":"#N/A"}},{"$f":"IF(E8<2,#N/A,COUNTIF('A) Eingabe (Schüler)'!C18:AK18,3))","v":{"$error":"#N/A"}},{"$f":"IF(E8<2,#N/A,COUNTIF('A) Eingabe (Schüler)'!C18:AK18,4))","v":{"$error":"#N/A"}},{"$f":"IF('A) Eingabe (Lehrer)'!C18=\"\", #N/A, 'A) Eingabe (Lehrer)'!C18)","v":{"$error":"#N/A"}},{"$f":"IF(N8=0, #N/A,AVERAGE('A) Eingabe (Lehrer)'!D18:BK18))","v":{"$error":"#N/A"}},{"$f":"IF(N8<2, #N/A, STDEVP('A) Eingabe (Lehrer)'!D18:BK18))","v":{"$error":"#N/A"}},{"$error":"#N/A"},{"$f":"COUNT('A) Eingabe (Lehrer)'!D18:BK18)","v":0},{"$f":"IF(N8<2,#N/A,COUNTIF('A) Eingabe (Lehrer)'!D18:BK18,1))","v":{"$error":"#N/A"}},{"$f":"IF(N8<2,#N/A,COUNTIF('A) Eingabe (Lehrer)'!D18:BK18,2))","v":{"$error":"#N/A"}},{"$f":"IF(N8<2,#N/A,COUNTIF('A) Eingabe (Lehrer)'!D18:BK18,3))","v":{"$error":"#N/A"}},{"$f":"IF(N8<2,#N/A,COUNTIF('A) Eingabe (Lehrer)'!D18:BK18,4))","v":{"$error":"#N/A"}},{"$f":"IF('A) Eingabe (Lehrer)'!C18=\"\", #N/A, 'A) Eingabe (Lehrer)'!C18)","v":{"$error":"#N/A"}}]
[{"$f":"'A) Eingabe (Schüler)'!A19","v":7},{"$f":"IF(E9=0, #N/A,AVERAGE('A) Eingabe (Schüler)'!C19:AK19))","v":{"$error":"#N/A"}},{"$f":"IF(E9<2, #N/A, STDEVP('A) Eingabe (Schüler)'!C19:AK19))","v":{"$error":"#N/A"}},{"$error":"#N/A"},{"$f":"COUNT('A) Eingabe (Schüler)'!C19:AK19)","v":0},{"$f":"IF(E9<2,#N/A,COUNTIF('A) Eingabe (Schüler)'!C19:AK19,1))","v":{"$error":"#N/A"}},{"$f":"IF(E9<2,#N/A,COUNTIF('A) Eingabe (Schüler)'!C19:AK19,2))","v":{"$error":"#N/A"}},{"$f":"IF(E9<2,#N/A,COUNTIF('A) Eingabe (Schüler)'!C19:AK19,3))","v":{"$error":"#N/A"}},{"$f":"IF(E9<2,#N/A,COUNTIF('A) Eingabe (Schüler)'!C19:AK19,4))","v":{"$error":"#N/A"}},{"$f":"IF('A) Eingabe (Lehrer)'!C19=\"\", #N/A, 'A) Eingabe (Lehrer)'!C19)","v":{"$error":"#N/A"}},{"$f":"IF(N9=0, #N/A,AVERAGE('A) Eingabe (Lehrer)'!D19:BK19))","v":{"$error":"#N/A"}},{"$f":"IF(N9<2, #N/A, STDEVP('A) Eingabe (Lehrer)'!D19:BK19))","v":{"$error":"#N/A"}},{"$error":"#N/A"},{"$f":"COUNT('A) Eingabe (Lehrer)'!D19:BK19)","v":0},{"$f":"IF(N9<2,#N/A,COUNTIF('A) Eingabe (Lehrer)'!D19:BK19,1))","v":{"$error":"#N/A"}},{"$f":"IF(N9<2,#N/A,COUNTIF('A) Eingabe (Lehrer)'!D19:BK19,2))","v":{"$error":"#N/A"}},{"$f":"IF(N9<2,#N/A,COUNTIF('A) Eingabe (Lehrer)'!D19:BK19,3))","v":{"$error":"#N/A"}},{"$f":"IF(N9<2,#N/A,COUNTIF('A) Eingabe (Lehrer)'!D19:BK19,4))","v":{"$error":"#N/A"}},{"$f":"IF('A) Eingabe (Lehrer)'!C19=\"\", #N/A, 'A) Eingabe (Lehrer)'!C19)","v":{"$error":"#N/A"}}]
[{"$f":"'A) Eingabe (Schüler)'!A20","v":8},{"$f":"IF(E10=0, #N/A,AVERAGE('A) Eingabe (Schüler)'!C20:AK20))","v":{"$error":"#N/A"}},{"$f":"IF(E10<2, #N/A, STDEVP('A) Eingabe (Schüler)'!C20:AK20))","v":{"$error":"#N/A"}},{"$error":"#N/A"},{"$f":"COUNT('A) Eingabe (Schüler)'!C20:AK20)","v":0},{"$f":"IF(E10<2,#N/A,COUNTIF('A) Eingabe (Schüler)'!C20:AK20,1))","v":{"$error":"#N/A"}},{"$f":"IF(E10<2,#N/A,COUNTIF('A) Eingabe (Schüler)'!C20:AK20,2))","v":{"$error":"#N/A"}},{"$f":"IF(E10<2,#N/A,COUNTIF('A) Eingabe (Schüler)'!C20:AK20,3))","v":{"$error":"#N/A"}},{"$f":"IF(E10<2,#N/A,COUNTIF('A) Eingabe (Schüler)'!C20:AK20,4))","v":{"$error":"#N/A"}},{"$f":"IF('A) Eingabe (Lehrer)'!C20=\"\", #N/A, 'A) Eingabe (Lehrer)'!C20)","v":{"$error":"#N/A"}},{"$f":"IF(N10=0, #N/A,AVERAGE('A) Eingabe (Lehrer)'!D20:BK20))","v":{"$error":"#N/A"}},{"$f":"IF(N10<2, #N/A, STDEVP('A) Eingabe (Lehrer)'!D20:BK20))","v":{"$error":"#N/A"}},{"$error":"#N/A"},{"$f":"COUNT('A) Eingabe (Lehrer)'!D20:BK20)","v":0},{"$f":"IF(N10<2,#N/A,COUNTIF('A) Eingabe (Lehrer)'!D20:BK20,1))","v":{"$error":"#N/A"}},{"$f":"IF(N10<2,#N/A,COUNTIF('A) Eingabe (Lehrer)'!D20:BK20,2))","v":{"$error":"#N/A"}},{"$f":"IF(N10<2,#N/A,COUNTIF('A) Eingabe (Lehrer)'!D20:BK20,3))","v":{"$error":"#N/A"}},{"$f":"IF(N10<2,#N/A,COUNTIF('A) Eingabe (Lehrer)'!D20:BK20,4))","v":{"$error":"#N/A"}},{"$f":"IF('A) Eingabe (Lehrer)'!C20=\"\", #N/A, 'A) Eingabe (Lehrer)'!C20)","v":{"$error":"#N/A"}}]
[{"$f":"'A) Eingabe (Schüler)'!A21","v":9},{"$f":"IF(E11=0, #N/A,AVERAGE('A) Eingabe (Schüler)'!C21:AK21))","v":{"$error":"#N/A"}},{"$f":"IF(E11<2, #N/A, STDEVP('A) Eingabe (Schüler)'!C21:AK21))","v":{"$error":"#N/A"}},{"$error":"#N/A"},{"$f":"COUNT('A) Eingabe (Schüler)'!C21:AK21)","v":0},{"$f":"IF(E11<2,#N/A,COUNTIF('A) Eingabe (Schüler)'!C21:AK21,1))","v":{"$error":"#N/A"}},{"$f":"IF(E11<2,#N/A,COUNTIF('A) Eingabe (Schüler)'!C21:AK21,2))","v":{"$error":"#N/A"}},{"$f":"IF(E11<2,#N/A,COUNTIF('A) Eingabe (Schüler)'!C21:AK21,3))","v":{"$error":"#N/A"}},{"$f":"IF(E11<2,#N/A,COUNTIF('A) Eingabe (Schüler)'!C21:AK21,4))","v":{"$error":"#N/A"}},{"$f":"IF('A) Eingabe (Lehrer)'!C21=\"\", #N/A, 'A) Eingabe (Lehrer)'!C21)","v":{"$error":"#N/A"}},{"$f":"IF(N11=0, #N/A,AVERAGE('A) Eingabe (Lehrer)'!D21:BK21))","v":{"$error":"#N/A"}},{"$f":"IF(N11<2, #N/A, STDEVP('A) Eingabe (Lehrer)'!D21:BK21))","v":{"$error":"#N/A"}},{"$error":"#N/A"},{"$f":"COUNT('A) Eingabe (Lehrer)'!D21:BK21)","v":0},{"$f":"IF(N11<2,#N/A,COUNTIF('A) Eingabe (Lehrer)'!D21:BK21,1))","v":{"$error":"#N/A"}},{"$f":"IF(N11<2,#N/A,COUNTIF('A) Eingabe (Lehrer)'!D21:BK21,2))","v":{"$error":"#N/A"}},{"$f":"IF(N11<2,#N/A,COUNTIF('A) Eingabe (Lehrer)'!D21:BK21,3))","v":{"$error":"#N/A"}},{"$f":"IF(N11<2,#N/A,COUNTIF('A) Eingabe (Lehrer)'!D21:BK21,4))","v":{"$error":"#N/A"}},{"$f":"IF('A) Eingabe (Lehrer)'!C21=\"\", #N/A, 'A) Eingabe (Lehrer)'!C21)","v":{"$error":"#N/A"}}]
[{"$f":"'A) Eingabe (Schüler)'!A22","v":10},{"$f":"IF(E12=0, #N/A,AVERAGE('A) Eingabe (Schüler)'!C22:AK22))","v":{"$error":"#N/A"}},{"$f":"IF(E12<2, #N/A, STDEVP('A) Eingabe (Schüler)'!C22:AK22))","v":{"$error":"#N/A"}},{"$error":"#N/A"},{"$f":"COUNT('A) Eingabe (Schüler)'!C22:AK22)","v":0},{"$f":"IF(E12<2,#N/A,COUNTIF('A) Eingabe (Schüler)'!C22:AK22,1))","v":{"$error":"#N/A"}},{"$f":"IF(E12<2,#N/A,COUNTIF('A) Eingabe (Schüler)'!C22:AK22,2))","v":{"$error":"#N/A"}},{"$f":"IF(E12<2,#N/A,COUNTIF('A) Eingabe (Schüler)'!C22:AK22,3))","v":{"$error":"#N/A"}},{"$f":"IF(E12<2,#N/A,COUNTIF('A) Eingabe (Schüler)'!C22:AK22,4))","v":{"$error":"#N/A"}},{"$f":"IF('A) Eingabe (Lehrer)'!C22=\"\", #N/A, 'A) Eingabe (Lehrer)'!C22)","v":{"$error":"#N/A"}},{"$f":"IF(N12=0, #N/A,AVERAGE('A) Eingabe (Lehrer)'!D22:BK22))","v":{"$error":"#N/A"}},{"$f":"IF(N12<2, #N/A, STDEVP('A) Eingabe (Lehrer)'!D22:BK22))","v":{"$error":"#N/A"}},{"$error":"#N/A"},{"$f":"COUNT('A) Eingabe (Lehrer)'!D22:BK22)","v":0},{"$f":"IF(N12<2,#N/A,COUNTIF('A) Eingabe (Lehrer)'!D22:BK22,1))","v":{"$error":"#N/A"}},{"$f":"IF(N12<2,#N/A,COUNTIF('A) Eingabe (Lehrer)'!D22:BK22,2))","v":{"$error":"#N/A"}},{"$f":"IF(N12<2,#N/A,COUNTIF('A) Eingabe (Lehrer)'!D22:BK22,3))","v":{"$error":"#N/A"}},{"$f":"IF(N12<2,#N/A,COUNTIF('A) Eingabe (Lehrer)'!D22:BK22,4))","v":{"$error":"#N/A"}},{"$f":"IF('A) Eingabe (Lehrer)'!C22=\"\", #N/A, 'A) Eingabe (Lehrer)'!C22)","v":{"$error":"#N/A"}}]
[{"$f":"'A) Eingabe (Schüler)'!A23","v":11},{"$f":"IF(E13=0, #N/A,AVERAGE('A) Eingabe (Schüler)'!C23:AK23))","v":{"$error":"#N/A"}},{"$f":"IF(E13<2, #N/A, STDEVP('A) Eingabe (Schüler)'!C23:AK23))","v":{"$error":"#N/A"}},{"$error":"#N/A"},{"$f":"COUNT('A) Eingabe (Schüler)'!C23:AK23)","v":0},{"$f":"IF(E13<2,#N/A,COUNTIF('A) Eingabe (Schüler)'!C23:AK23,1))","v":{"$error":"#N/A"}},{"$f":"IF(E13<2,#N/A,COUNTIF('A) Eingabe (Schüler)'!C23:AK23,2))","v":{"$error":"#N/A"}},{"$f":"IF(E13<2,#N/A,COUNTIF('A) Eingabe (Schüler)'!C23:AK23,3))","v":{"$error":"#N/A"}},{"$f":"IF(E13<2,#N/A,COUNTIF('A) Eingabe (Schüler)'!C23:AK23,4))","v":{"$error":"#N/A"}},{"$f":"IF('A) Eingabe (Lehrer)'!C23=\"\", #N/A, 'A) Eingabe (Lehrer)'!C23)","v":{"$error":"#N/A"}},{"$f":"IF(N13=0, #N/A,AVERAGE('A) Eingabe (Lehrer)'!D23:BK23))","v":{"$error":"#N/A"}},{"$f":"IF(N13<2, #N/A, STDEVP('A) Eingabe (Lehrer)'!D23:BK23))","v":{"$error":"#N/A"}},{"$error":"#N/A"},{"$f":"COUNT('A) Eingabe (Lehrer)'!D23:BK23)","v":0},{"$f":"IF(N13<2,#N/A,COUNTIF('A) Eingabe (Lehrer)'!D23:BK23,1))","v":{"$error":"#N/A"}},{"$f":"IF(N13<2,#N/A,COUNTIF('A) Eingabe (Lehrer)'!D23:BK23,2))","v":{"$error":"#N/A"}},{"$f":"IF(N13<2,#N/A,COUNTIF('A) Eingabe (Lehrer)'!D23:BK23,3))","v":{"$error":"#N/A"}},{"$f":"IF(N13<2,#N/A,COUNTIF('A) Eingabe (Lehrer)'!D23:BK23,4))","v":{"$error":"#N/A"}},{"$f":"IF('A) Eingabe (Lehrer)'!C23=\"\", #N/A, 'A) Eingabe (Lehrer)'!C23)","v":{"$error":"#N/A"}}]
[{"$f":"'A) Eingabe (Schüler)'!A25","v":12},{"$f":"IF(E14=0, #N/A,AVERAGE('A) Eingabe (Schüler)'!C25:AK25))","v":{"$error":"#N/A"}},{"$f":"IF(E14<2, #N/A, STDEVP('A) Eingabe (Schüler)'!C25:AK25))","v":{"$error":"#N/A"}},{"$error":"#N/A"},{"$f":"COUNT('A) Eingabe (Schüler)'!C25:AK25)","v":0},{"$f":"IF(E14<2,#N/A,COUNTIF('A) Eingabe (Schüler)'!C25:AK25,1))","v":{"$error":"#N/A"}},{"$f":"IF(E14<2,#N/A,COUNTIF('A) Eingabe (Schüler)'!C25:AK25,2))","v":{"$error":"#N/A"}},{"$f":"IF(E14<2,#N/A,COUNTIF('A) Eingabe (Schüler)'!C25:AK25,3))","v":{"$error":"#N/A"}},{"$f":"IF(E14<2,#N/A,COUNTIF('A) Eingabe (Schüler)'!C25:AK25,4))","v":{"$error":"#N/A"}},{"$f":"IF('A) Eingabe (Lehrer)'!C25=\"\", #N/A, 'A) Eingabe (Lehrer)'!C25)","v":{"$error":"#N/A"}},{"$f":"IF(N14=0, #N/A,AVERAGE('A) Eingabe (Lehrer)'!D25:BK25))","v":{"$error":"#N/A"}},{"$f":"IF(N14<2, #N/A, STDEVP('A) Eingabe (Lehrer)'!D25:BK25))","v":{"$error":"#N/A"}},{"$error":"#N/A"},{"$f":"COUNT('A) Eingabe (Lehrer)'!D25:BK25)","v":0},{"$f":"IF(N14<2,#N/A,COUNTIF('A) Eingabe (Lehrer)'!D25:BK25,1))","v":{"$error":"#N/A"}},{"$f":"IF(N14<2,#N/A,COUNTIF('A) Eingabe (Lehrer)'!D25:BK25,2))","v":{"$error":"#N/A"}},{"$f":"IF(N14<2,#N/A,COUNTIF('A) Eingabe (Lehrer)'!D25:BK25,3))","v":{"$error":"#N/A"}},{"$f":"IF(N14<2,#N/A,COUNTIF('A) Eingabe (Lehrer)'!D25:BK25,4))","v":{"$error":"#N/A"}},{"$f":"IF('A) Eingabe (Lehrer)'!C25=\"\", #N/A, 'A) Eingabe (Lehrer)'!C25)","v":{"$error":"#N/A"}}]
[{"$f":"'A) Eingabe (Schüler)'!A26","v":13},{"$f":"IF(E15=0, #N/A,AVERAGE('A) Eingabe (Schüler)'!C26:AK26))","v":{"$error":"#N/A"}},{"$f":"IF(E15<2, #N/A, STDEVP('A) Eingabe (Schüler)'!C26:AK26))","v":{"$error":"#N/A"}},{"$error":"#N/A"},{"$f":"COUNT('A) Eingabe (Schüler)'!C26:AK26)","v":0},{"$f":"IF(E15<2,#N/A,COUNTIF('A) Eingabe (Schüler)'!C26:AK26,1))","v":{"$error":"#N/A"}},{"$f":"IF(E15<2,#N/A,COUNTIF('A) Eingabe (Schüler)'!C26:AK26,2))","v":{"$error":"#N/A"}},{"$f":"IF(E15<2,#N/A,COUNTIF('A) Eingabe (Schüler)'!C26:AK26,3))","v":{"$error":"#N/A"}},{"$f":"IF(E15<2,#N/A,COUNTIF('A) Eingabe (Schüler)'!C26:AK26,4))","v":{"$error":"#N/A"}},{"$f":"IF('A) Eingabe (Lehrer)'!C26=\"\", #N/A, 'A) Eingabe (Lehrer)'!C26)","v":{"$error":"#N/A"}},{"$f":"IF(N15=0, #N/A,AVERAGE('A) Eingabe (Lehrer)'!D26:BK26))","v":{"$error":"#N/A"}},{"$f":"IF(N15<2, #N/A, STDEVP('A) Eingabe (Lehrer)'!D26:BK26))","v":{"$error":"#N/A"}},{"$error":"#N/A"},{"$f":"COUNT('A) Eingabe (Lehrer)'!D26:BK26)","v":0},{"$f":"IF(N15<2,#N/A,COUNTIF('A) Eingabe (Lehrer)'!D26:BK26,1))","v":{"$error":"#N/A"}},{"$f":"IF(N15<2,#N/A,COUNTIF('A) Eingabe (Lehrer)'!D26:BK26,2))","v":{"$error":"#N/A"}},{"$f":"IF(N15<2,#N/A,COUNTIF('A) Eingabe (Lehrer)'!D26:BK26,3))","v":{"$error":"#N/A"}},{"$f":"IF(N15<2,#N/A,COUNTIF('A) Eingabe (Lehrer)'!D26:BK26,4))","v":{"$error":"#N/A"}},{"$f":"IF('A) Eingabe (Lehrer)'!C26=\"\", #N/A, 'A) Eingabe (Lehrer)'!C26)","v":{"$error":"#N/A"}}]
[{"$f":"'A) Eingabe (Schüler)'!A27","v":14},{"$f":"IF(E16=0, #N/A,AVERAGE('A) Eingabe (Schüler)'!C27:AK27))","v":{"$error":"#N/A"}},{"$f":"IF(E16<2, #N/A, STDEVP('A) Eingabe (Schüler)'!C27:AK27))","v":{"$error":"#N/A"}},{"$error":"#N/A"},{"$f":"COUNT('A) Eingabe (Schüler)'!C27:AK27)","v":0},{"$f":"IF(E16<2,#N/A,COUNTIF('A) Eingabe (Schüler)'!C27:AK27,1))","v":{"$error":"#N/A"}},{"$f":"IF(E16<2,#N/A,COUNTIF('A) Eingabe (Schüler)'!C27:AK27,2))","v":{"$error":"#N/A"}},{"$f":"IF(E16<2,#N/A,COUNTIF('A) Eingabe (Schüler)'!C27:AK27,3))","v":{"$error":"#N/A"}},{"$f":"IF(E16<2,#N/A,COUNTIF('A) Eingabe (Schüler)'!C27:AK27,4))","v":{"$error":"#N/A"}},{"$f":"IF('A) Eingabe (Lehrer)'!C27=\"\", #N/A, 'A) Eingabe (Lehrer)'!C27)","v":{"$error":"#N/A"}},{"$f":"IF(N16=0, #N/A,AVERAGE('A) Eingabe (Lehrer)'!D27:BK27))","v":{"$error":"#N/A"}},{"$f":"IF(N16<2, #N/A, STDEVP('A) Eingabe (Lehrer)'!D27:BK27))","v":{"$error":"#N/A"}},{"$error":"#N/A"},{"$f":"COUNT('A) Eingabe (Lehrer)'!D27:BK27)","v":0},{"$f":"IF(N16<2,#N/A,COUNTIF('A) Eingabe (Lehrer)'!D27:BK27,1))","v":{"$error":"#N/A"}},{"$f":"IF(N16<2,#N/A,COUNTIF('A) Eingabe (Lehrer)'!D27:BK27,2))","v":{"$error":"#N/A"}},{"$f":"IF(N16<2,#N/A,COUNTIF('A) Eingabe (Lehrer)'!D27:BK27,3))","v":{"$error":"#N/A"}},{"$f":"IF(N16<2,#N/A,COUNTIF('A) Eingabe (Lehrer)'!D27:BK27,4))","v":{"$error":"#N/A"}},{"$f":"IF('A) Eingabe (Lehrer)'!C27=\"\", #N/A, 'A) Eingabe (Lehrer)'!C27)","v":{"$error":"#N/A"}}]
[{"$f":"'A) Eingabe (Schüler)'!A28","v":15},{"$f":"IF(E17=0, #N/A,AVERAGE('A) Eingabe (Schüler)'!C28:AK28))","v":{"$error":"#N/A"}},{"$f":"IF(E17<2, #N/A, STDEVP('A) Eingabe (Schüler)'!C28:AK28))","v":{"$error":"#N/A"}},{"$error":"#N/A"},{"$f":"COUNT('A) Eingabe (Schüler)'!C28:AK28)","v":0},{"$f":"IF(E17<2,#N/A,COUNTIF('A) Eingabe (Schüler)'!C28:AK28,1))","v":{"$error":"#N/A"}},{"$f":"IF(E17<2,#N/A,COUNTIF('A) Eingabe (Schüler)'!C28:AK28,2))","v":{"$error":"#N/A"}},{"$f":"IF(E17<2,#N/A,COUNTIF('A) Eingabe (Schüler)'!C28:AK28,3))","v":{"$error":"#N/A"}},{"$f":"IF(E17<2,#N/A,COUNTIF('A) Eingabe (Schüler)'!C28:AK28,4))","v":{"$error":"#N/A"}},{"$f":"IF('A) Eingabe (Lehrer)'!C28=\"\", #N/A, 'A) Eingabe (Lehrer)'!C28)","v":{"$error":"#N/A"}},{"$f":"IF(N17=0, #N/A,AVERAGE('A) Eingabe (Lehrer)'!D28:BK28))","v":{"$error":"#N/A"}},{"$f":"IF(N17<2, #N/A, STDEVP('A) Eingabe (Lehrer)'!D28:BK28))","v":{"$error":"#N/A"}},{"$error":"#N/A"},{"$f":"COUNT('A) Eingabe (Lehrer)'!D28:BK28)","v":0},{"$f":"IF(N17<2,#N/A,COUNTIF('A) Eingabe (Lehrer)'!D28:BK28,1))","v":{"$error":"#N/A"}},{"$f":"IF(N17<2,#N/A,COUNTIF('A) Eingabe (Lehrer)'!D28:BK28,2))","v":{"$error":"#N/A"}},{"$f":"IF(N17<2,#N/A,COUNTIF('A) Eingabe (Lehrer)'!D28:BK28,3))","v":{"$error":"#N/A"}},{"$f":"IF(N17<2,#N/A,COUNTIF('A) Eingabe (Lehrer)'!D28:BK28,4))","v":{"$error":"#N/A"}},{"$f":"IF('A) Eingabe (Lehrer)'!C28=\"\", #N/A, 'A) Eingabe (Lehrer)'!C28)","v":{"$error":"#N/A"}}]
[{"$f":"'A) Eingabe (Schüler)'!A29","v":16},{"$f":"IF(E18=0, #N/A,AVERAGE('A) Eingabe (Schüler)'!C29:AK29))","v":{"$error":"#N/A"}},{"$f":"IF(E18<2, #N/A, STDEVP('A) Eingabe (Schüler)'!C29:AK29))","v":{"$error":"#N/A"}},{"$error":"#N/A"},{"$f":"COUNT('A) Eingabe (Schüler)'!C29:AK29)","v":0},{"$f":"IF(E18<2,#N/A,COUNTIF('A) Eingabe (Schüler)'!C29:AK29,1))","v":{"$error":"#N/A"}},{"$f":"IF(E18<2,#N/A,COUNTIF('A) Eingabe (Schüler)'!C29:AK29,2))","v":{"$error":"#N/A"}},{"$f":"IF(E18<2,#N/A,COUNTIF('A) Eingabe (Schüler)'!C29:AK29,3))","v":{"$error":"#N/A"}},{"$f":"IF(E18<2,#N/A,COUNTIF('A) Eingabe (Schüler)'!C29:AK29,4))","v":{"$error":"#N/A"}},{"$f":"IF('A) Eingabe (Lehrer)'!C29=\"\", #N/A, 'A) Eingabe (Lehrer)'!C29)","v":{"$error":"#N/A"}},{"$f":"IF(N18=0, #N/A,AVERAGE('A) Eingabe (Lehrer)'!D29:BK29))","v":{"$error":"#N/A"}},{"$f":"IF(N18<2, #N/A, STDEVP('A) Eingabe (Lehrer)'!D29:BK29))","v":{"$error":"#N/A"}},{"$error":"#N/A"},{"$f":"COUNT('A) Eingabe (Lehrer)'!D29:BK29)","v":0},{"$f":"IF(N18<2,#N/A,COUNTIF('A) Eingabe (Lehrer)'!D29:BK29,1))","v":{"$error":"#N/A"}},{"$f":"IF(N18<2,#N/A,COUNTIF('A) Eingabe (Lehrer)'!D29:BK29,2))","v":{"$error":"#N/A"}},{"$f":"IF(N18<2,#N/A,COUNTIF('A) Eingabe (Lehrer)'!D29:BK29,3))","v":{"$error":"#N/A"}},{"$f":"IF(N18<2,#N/A,COUNTIF('A) Eingabe (Lehrer)'!D29:BK29,4))","v":{"$error":"#N/A"}},{"$f":"IF('A) Eingabe (Lehrer)'!C29=\"\", #N/A, 'A) Eingabe (Lehrer)'!C29)","v":{"$error":"#N/A"}}]
[{"$f":"'A) Eingabe (Schüler)'!A31","v":17},{"$f":"IF(E19=0, #N/A,AVERAGE('A) Eingabe (Schüler)'!C31:AK31))","v":{"$error":"#N/A"}},{"$f":"IF(E19<2, #N/A, STDEVP('A) Eingabe (Schüler)'!C31:AK31))","v":{"$error":"#N/A"}},{"$error":"#N/A"},{"$f":"COUNT('A) Eingabe (Schüler)'!C31:AK31)","v":0},{"$f":"IF(E19<2,#N/A,COUNTIF('A) Eingabe (Schüler)'!C31:AK31,1))","v":{"$error":"#N/A"}},{"$f":"IF(E19<2,#N/A,COUNTIF('A) Eingabe (Schüler)'!C31:AK31,2))","v":{"$error":"#N/A"}},{"$f":"IF(E19<2,#N/A,COUNTIF('A) Eingabe (Schüler)'!C31:AK31,3))","v":{"$error":"#N/A"}},{"$f":"IF(E19<2,#N/A,COUNTIF('A) Eingabe (Schüler)'!C31:AK31,4))","v":{"$error":"#N/A"}},{"$f":"IF('A) Eingabe (Lehrer)'!C31=\"\", #N/A, 'A) Eingabe (Lehrer)'!C31)","v":{"$error":"#N/A"}},{"$f":"IF(N19=0, #N/A,AVERAGE('A) Eingabe (Lehrer)'!D31:BK31))","v":{"$error":"#N/A"}},{"$f":"IF(N19<2, #N/A, STDEVP('A) Eingabe (Lehrer)'!D31:BK31))","v":{"$error":"#N/A"}},{"$error":"#N/A"},{"$f":"COUNT('A) Eingabe (Lehrer)'!D31:BK31)","v":0},{"$f":"IF(N19<2,#N/A,COUNTIF('A) Eingabe (Lehrer)'!D31:BK31,1))","v":{"$error":"#N/A"}},{"$f":"IF(N19<2,#N/A,COUNTIF('A) Eingabe (Lehrer)'!D31:BK31,2))","v":{"$error":"#N/A"}},{"$f":"IF(N19<2,#N/A,COUNTIF('A) Eingabe (Lehrer)'!D31:BK31,3))","v":{"$error":"#N/A"}},{"$f":"IF(N19<2,#N/A,COUNTIF('A) Eingabe (Lehrer)'!D31:BK31,4))","v":{"$error":"#N/A"}},{"$f":"IF('A) Eingabe (Lehrer)'!C31=\"\", #N/A, 'A) Eingabe (Lehrer)'!C31)","v":{"$error":"#N/A"}}]
[{"$f":"'A) Eingabe (Schüler)'!A32","v":18},{"$f":"IF(E20=0, #N/A,AVERAGE('A) Eingabe (Schüler)'!C32:AK32))","v":{"$error":"#N/A"}},{"$f":"IF(E20<2, #N/A, STDEVP('A) Eingabe (Schüler)'!C32:AK32))","v":{"$error":"#N/A"}},{"$error":"#N/A"},{"$f":"COUNT('A) Eingabe (Schüler)'!C32:AK32)","v":0},{"$f":"IF(E20<2,#N/A,COUNTIF('A) Eingabe (Schüler)'!C32:AK32,1))","v":{"$error":"#N/A"}},{"$f":"IF(E20<2,#N/A,COUNTIF('A) Eingabe (Schüler)'!C32:AK32,2))","v":{"$error":"#N/A"}},{"$f":"IF(E20<2,#N/A,COUNTIF('A) Eingabe (Schüler)'!C32:AK32,3))","v":{"$error":"#N/A"}},{"$f":"IF(E20<2,#N/A,COUNTIF('A) Eingabe (Schüler)'!C32:AK32,4))","v":{"$error":"#N/A"}},{"$f":"IF('A) Eingabe (Lehrer)'!C32=\"\", #N/A, 'A) Eingabe (Lehrer)'!C32)","v":{"$error":"#N/A"}},{"$f":"IF(N20=0, #N/A,AVERAGE('A) Eingabe (Lehrer)'!D32:BK32))","v":{"$error":"#N/A"}},{"$f":"IF(N20<2, #N/A, STDEVP('A) Eingabe (Lehrer)'!D32:BK32))","v":{"$error":"#N/A"}},{"$error":"#N/A"},{"$f":"COUNT('A) Eingabe (Lehrer)'!D32:BK32)","v":0},{"$f":"IF(N20<2,#N/A,COUNTIF('A) Eingabe (Lehrer)'!D32:BK32,1))","v":{"$error":"#N/A"}},{"$f":"IF(N20<2,#N/A,COUNTIF('A) Eingabe (Lehrer)'!D32:BK32,2))","v":{"$error":"#N/A"}},{"$f":"IF(N20<2,#N/A,COUNTIF('A) Eingabe (Lehrer)'!D32:BK32,3))","v":{"$error":"#N/A"}},{"$f":"IF(N20<2,#N/A,COUNTIF('A) Eingabe (Lehrer)'!D32:BK32,4))","v":{"$error":"#N/A"}},{"$f":"IF('A) Eingabe (Lehrer)'!C32=\"\", #N/A, 'A) Eingabe (Lehrer)'!C32)","v":{"$error":"#N/A"}}]
[{"$f":"'A) Eingabe (Schüler)'!A33","v":19},{"$f":"IF(E21=0, #N/A,AVERAGE('A) Eingabe (Schüler)'!C33:AK33))","v":{"$error":"#N/A"}},{"$f":"IF(E21<2, #N/A, STDEVP('A) Eingabe (Schüler)'!C33:AK33))","v":{"$error":"#N/A"}},{"$error":"#N/A"},{"$f":"COUNT('A) Eingabe (Schüler)'!C33:AK33)","v":0},{"$f":"IF(E21<2,#N/A,COUNTIF('A) Eingabe (Schüler)'!C33:AK33,1))","v":{"$error":"#N/A"}},{"$f":"IF(E21<2,#N/A,COUNTIF('A) Eingabe (Schüler)'!C33:AK33,2))","v":{"$error":"#N/A"}},{"$f":"IF(E21<2,#N/A,COUNTIF('A) Eingabe (Schüler)'!C33:AK33,3))","v":{"$error":"#N/A"}},{"$f":"IF(E21<2,#N/A,COUNTIF('A) Eingabe (Schüler)'!C33:AK33,4))","v":{"$error":"#N/A"}},{"$f":"IF('A) Eingabe (Lehrer)'!C33=\"\", #N/A, 'A) Eingabe (Lehrer)'!C33)","v":{"$error":"#N/A"}},{"$f":"IF(N21=0, #N/A,AVERAGE('A) Eingabe (Lehrer)'!D33:BK33))","v":{"$error":"#N/A"}},{"$f":"IF(N21<2, #N/A, STDEVP('A) Eingabe (Lehrer)'!D33:BK33))","v":{"$error":"#N/A"}},{"$error":"#N/A"},{"$f":"COUNT('A) Eingabe (Lehrer)'!D33:BK33)","v":0},{"$f":"IF(N21<2,#N/A,COUNTIF('A) Eingabe (Lehrer)'!D33:BK33,1))","v":{"$error":"#N/A"}},{"$f":"IF(N21<2,#N/A,COUNTIF('A) Eingabe (Lehrer)'!D33:BK33,2))","v":{"$error":"#N/A"}},{"$f":"IF(N21<2,#N/A,COUNTIF('A) Eingabe (Lehrer)'!D33:BK33,3))","v":{"$error":"#N/A"}},{"$f":"IF(N21<2,#N/A,COUNTIF('A) Eingabe (Lehrer)'!D33:BK33,4))","v":{"$error":"#N/A"}},{"$f":"IF('A) Eingabe (Lehrer)'!C33=\"\", #N/A, 'A) Eingabe (Lehrer)'!C33)","v":{"$error":"#N/A"}}]
[{"$f":"'A) Eingabe (Schüler)'!A34","v":20},{"$f":"IF(E22=0, #N/A,AVERAGE('A) Eingabe (Schüler)'!C34:AK34))","v":{"$error":"#N/A"}},{"$f":"IF(E22<2, #N/A, STDEVP('A) Eingabe (Schüler)'!C34:AK34))","v":{"$error":"#N/A"}},{"$error":"#N/A"},{"$f":"COUNT('A) Eingabe (Schüler)'!C34:AK34)","v":0},{"$f":"IF(E22<2,#N/A,COUNTIF('A) Eingabe (Schüler)'!C34:AK34,1))","v":{"$error":"#N/A"}},{"$f":"IF(E22<2,#N/A,COUNTIF('A) Eingabe (Schüler)'!C34:AK34,2))","v":{"$error":"#N/A"}},{"$f":"IF(E22<2,#N/A,COUNTIF('A) Eingabe (Schüler)'!C34:AK34,3))","v":{"$error":"#N/A"}},{"$f":"IF(E22<2,#N/A,COUNTIF('A) Eingabe (Schüler)'!C34:AK34,4))","v":{"$error":"#N/A"}},{"$f":"IF('A) Eingabe (Lehrer)'!C34=\"\", #N/A, 'A) Eingabe (Lehrer)'!C34)","v":{"$error":"#N/A"}},{"$f":"IF(N22=0, #N/A,AVERAGE('A) Eingabe (Lehrer)'!D34:BK34))","v":{"$error":"#N/A"}},{"$f":"IF(N22<2, #N/A, STDEVP('A) Eingabe (Lehrer)'!D34:BK34))","v":{"$error":"#N/A"}},{"$error":"#N/A"},{"$f":"COUNT('A) Eingabe (Lehrer)'!D34:BK34)","v":0},{"$f":"IF(N22<2,#N/A,COUNTIF('A) Eingabe (Lehrer)'!D34:BK34,1))","v":{"$error":"#N/A"}},{"$f":"IF(N22<2,#N/A,COUNTIF('A) Eingabe (Lehrer)'!D34:BK34,2))","v":{"$error":"#N/A"}},{"$f":"IF(N22<2,#N/A,COUNTIF('A) Eingabe (Lehrer)'!D34:BK34,3))","v":{"$error":"#N/A"}},{"$f":"IF(N22<2,#N/A,COUNTIF('A) Eingabe (Lehrer)'!D34:BK34,4))","v":{"$error":"#N/A"}},{"$f":"IF('A) Eingabe (Lehrer)'!C34=\"\", #N/A, 'A) Eingabe (Lehrer)'!C34)","v":{"$error":"#N/A"}}]
[{"$f":"'A) Eingabe (Schüler)'!A35","v":21},{"$f":"IF(E23=0, #N/A,AVERAGE('A) Eingabe (Schüler)'!C35:AK35))","v":{"$error":"#N/A"}},{"$f":"IF(E23<2, #N/A, STDEVP('A) Eingabe (Schüler)'!C35:AK35))","v":{"$error":"#N/A"}},{"$error":"#N/A"},{"$f":"COUNT('A) Eingabe (Schüler)'!C35:AK35)","v":0},{"$f":"IF(E23<2,#N/A,COUNTIF('A) Eingabe (Schüler)'!C35:AK35,1))","v":{"$error":"#N/A"}},{"$f":"IF(E23<2,#N/A,COUNTIF('A) Eingabe (Schüler)'!C35:AK35,2))","v":{"$error":"#N/A"}},{"$f":"IF(E23<2,#N/A,COUNTIF('A) Eingabe (Schüler)'!C35:AK35,3))","v":{"$error":"#N/A"}},{"$f":"IF(E23<2,#N/A,COUNTIF('A) Eingabe (Schüler)'!C35:AK35,4))","v":{"$error":"#N/A"}},{"$f":"IF('A) Eingabe (Lehrer)'!C35=\"\", #N/A, 'A) Eingabe (Lehrer)'!C35)","v":{"$error":"#N/A"}},{"$f":"IF(N23=0, #N/A,AVERAGE('A) Eingabe (Lehrer)'!D35:BK35))","v":{"$error":"#N/A"}},{"$f":"IF(N23<2, #N/A, STDEVP('A) Eingabe (Lehrer)'!D35:BK35))","v":{"$error":"#N/A"}},{"$error":"#N/A"},{"$f":"COUNT('A) Eingabe (Lehrer)'!D35:BK35)","v":0},{"$f":"IF(N23<2,#N/A,COUNTIF('A) Eingabe (Lehrer)'!D35:BK35,1))","v":{"$error":"#N/A"}},{"$f":"IF(N23<2,#N/A,COUNTIF('A) Eingabe (Lehrer)'!D35:BK35,2))","v":{"$error":"#N/A"}},{"$f":"IF(N23<2,#N/A,COUNTIF('A) Eingabe (Lehrer)'!D35:BK35,3))","v":{"$error":"#N/A"}},{"$f":"IF(N23<2,#N/A,COUNTIF('A) Eingabe (Lehrer)'!D35:BK35,4))","v":{"$error":"#N/A"}},{"$f":"IF('A) Eingabe (Lehrer)'!C35=\"\", #N/A, 'A) Eingabe (Lehrer)'!C35)","v":{"$error":"#N/A"}}]
[{"$f":"'A) Eingabe (Schüler)'!A36","v":22},{"$f":"IF(E24=0, #N/A,AVERAGE('A) Eingabe (Schüler)'!C36:AK36))","v":{"$error":"#N/A"}},{"$f":"IF(E24<2, #N/A, STDEVP('A) Eingabe (Schüler)'!C36:AK36))","v":{"$error":"#N/A"}},{"$error":"#N/A"},{"$f":"COUNT('A) Eingabe (Schüler)'!C36:AK36)","v":0},{"$f":"IF(E24<2,#N/A,COUNTIF('A) Eingabe (Schüler)'!C36:AK36,1))","v":{"$error":"#N/A"}},{"$f":"IF(E24<2,#N/A,COUNTIF('A) Eingabe (Schüler)'!C36:AK36,2))","v":{"$error":"#N/A"}},{"$f":"IF(E24<2,#N/A,COUNTIF('A) Eingabe (Schüler)'!C36:AK36,3))","v":{"$error":"#N/A"}},{"$f":"IF(E24<2,#N/A,COUNTIF('A) Eingabe (Schüler)'!C36:AK36,4))","v":{"$error":"#N/A"}},{"$f":"IF('A) Eingabe (Lehrer)'!C36=\"\", #N/A, 'A) Eingabe (Lehrer)'!C36)","v":{"$error":"#N/A"}},{"$f":"IF(N24=0, #N/A,AVERAGE('A) Eingabe (Lehrer)'!D36:BK36))","v":{"$error":"#N/A"}},{"$f":"IF(N24<2, #N/A, STDEVP('A) Eingabe (Lehrer)'!D36:BK36))","v":{"$error":"#N/A"}},{"$error":"#N/A"},{"$f":"COUNT('A) Eingabe (Lehrer)'!D36:BK36)","v":0},{"$f":"IF(N24<2,#N/A,COUNTIF('A) Eingabe (Lehrer)'!D36:BK36,1))","v":{"$error":"#N/A"}},{"$f":"IF(N24<2,#N/A,COUNTIF('A) Eingabe (Lehrer)'!D36:BK36,2))","v":{"$error":"#N/A"}},{"$f":"IF(N24<2,#N/A,COUNTIF('A) Eingabe (Lehrer)'!D36:BK36,3))","v":{"$error":"#N/A"}},{"$f":"IF(N24<2,#N/A,COUNTIF('A) Eingabe (Lehrer)'!D36:BK36,4))","v":{"$error":"#N/A"}},{"$f":"IF('A) Eingabe (Lehrer)'!C36=\"\", #N/A, 'A) Eingabe (Lehrer)'!C36)","v":{"$error":"#N/A"}}]
[{"$f":"'A) Eingabe (Schüler)'!A38","v":23},{"$f":"IF(E25=0, #N/A,AVERAGE('A) Eingabe (Schüler)'!C38:AK38))","v":{"$error":"#N/A"}},{"$f":"IF(E25<2, #N/A, STDEVP('A) Eingabe (Schüler)'!C38:AK38))","v":{"$error":"#N/A"}},{"$f":"IF(E25<2, #N/A, 100*(H25+I25)/E25)","v":{"$error":"#N/A"}},{"$f":"COUNT('A) Eingabe (Schüler)'!C38:AK38)","v":0},{"$f":"IF(E25<2,#N/A,COUNTIF('A) Eingabe (Schüler)'!C38:AK38,1))","v":{"$error":"#N/A"}},{"$f":"IF(E25<2,#N/A,COUNTIF('A) Eingabe (Schüler)'!C38:AK38,2))","v":{"$error":"#N/A"}},{"$f":"IF(E25<2,#N/A,COUNTIF('A) Eingabe (Schüler)'!C38:AK38,3))","v":{"$error":"#N/A"}},{"$f":"IF(E25<2,#N/A,COUNTIF('A) Eingabe (Schüler)'!C38:AK38,4))","v":{"$error":"#N/A"}},{"$f":"IF('A) Eingabe (Lehrer)'!C38=\"\", #N/A, 'A) Eingabe (Lehrer)'!C38)","v":{"$error":"#N/A"}},{"$f":"IF(N25=0, #N/A,AVERAGE('A) Eingabe (Lehrer)'!D38:BK38))","v":{"$error":"#N/A"}},{"$f":"IF(N25<2, #N/A, STDEVP('A) Eingabe (Lehrer)'!D38:BK38))","v":{"$error":"#N/A"}},{"$f":"IF(N25<2, #N/A, 100*(Q25+R25)/N25)","v":{"$error":"#N/A"}},{"$f":"COUNT('A) Eingabe (Lehrer)'!D38:BK38)","v":0},{"$f":"IF(N25<2,#N/A,COUNTIF('A) Eingabe (Lehrer)'!D38:BK38,1))","v":{"$error":"#N/A"}},{"$f":"IF(N25<2,#N/A,COUNTIF('A) Eingabe (Lehrer)'!D38:BK38,2))","v":{"$error":"#N/A"}},{"$f":"IF(N25<2,#N/A,COUNTIF('A) Eingabe (Lehrer)'!D38:BK38,3))","v":{"$error":"#N/A"}},{"$f":"IF(N25<2,#N/A,COUNTIF('A) Eingabe (Lehrer)'!D38:BK38,4))","v":{"$error":"#N/A"}},{"$f":"IF('A) Eingabe (Lehrer)'!C38=\"\", #N/A, 'A) Eingabe (Lehrer)'!C38)","v":{"$error":"#N/A"}}]
[{"$f":"'A) Eingabe (Schüler)'!A39","v":24},{"$f":"IF(E26=0, #N/A,AVERAGE('A) Eingabe (Schüler)'!C39:AK39))","v":{"$error":"#N/A"}},{"$f":"IF(E26<2, #N/A, STDEVP('A) Eingabe (Schüler)'!C39:AK39))","v":{"$error":"#N/A"}},{"$error":"#N/A"},{"$f":"COUNT('A) Eingabe (Schüler)'!C39:AK39)","v":0},{"$f":"IF(E26<2,#N/A,COUNTIF('A) Eingabe (Schüler)'!C39:AK39,1))","v":{"$error":"#N/A"}},{"$f":"IF(E26<2,#N/A,COUNTIF('A) Eingabe (Schüler)'!C39:AK39,2))","v":{"$error":"#N/A"}},{"$f":"IF(E26<2,#N/A,COUNTIF('A) Eingabe (Schüler)'!C39:AK39,3))","v":{"$error":"#N/A"}},{"$f":"IF(E26<2,#N/A,COUNTIF('A) Eingabe (Schüler)'!C39:AK39,4))","v":{"$error":"#N/A"}},{"$f":"IF('A) Eingabe (Lehrer)'!C39=\"\", #N/A, 'A) Eingabe (Lehrer)'!C39)","v":{"$error":"#N/A"}},{"$f":"IF(N26=0, #N/A,AVERAGE('A) Eingabe (Lehrer)'!D39:BK39))","v":{"$error":"#N/A"}},{"$f":"IF(N26<2, #N/A, STDEVP('A) Eingabe (Lehrer)'!D39:BK39))","v":{"$error":"#N/A"}},{"$error":"#N/A"},{"$f":"COUNT('A) Eingabe (Lehrer)'!D39:BK39)","v":0},{"$f":"IF(N26<2,#N/A,COUNTIF('A) Eingabe (Lehrer)'!D39:BK39,1))","v":{"$error":"#N/A"}},{"$f":"IF(N26<2,#N/A,COUNTIF('A) Eingabe (Lehrer)'!D39:BK39,2))","v":{"$error":"#N/A"}},{"$f":"IF(N26<2,#N/A,COUNTIF('A) Eingabe (Lehrer)'!D39:BK39,3))","v":{"$error":"#N/A"}},{"$f":"IF(N26<2,#N/A,COUNTIF('A) Eingabe (Lehrer)'!D39:BK39,4))","v":{"$error":"#N/A"}},{"$f":"IF('A) Eingabe (Lehrer)'!C39=\"\", #N/A, 'A) Eingabe (Lehrer)'!C39)","v":{"$error":"#N/A"}}]
[{"$f":"'A) Eingabe (Schüler)'!A40","v":25},{"$f":"IF(E27=0, #N/A,AVERAGE('A) Eingabe (Schüler)'!C40:AK40))","v":{"$error":"#N/A"}},{"$f":"IF(E27<2, #N/A, STDEVP('A) Eingabe (Schüler)'!C40:AK40))","v":{"$error":"#N/A"}},{"$error":"#N/A"},{"$f":"COUNT('A) Eingabe (Schüler)'!C40:AK40)","v":0},{"$f":"IF(E27<2,#N/A,COUNTIF('A) Eingabe (Schüler)'!C40:AK40,1))","v":{"$error":"#N/A"}},{"$f":"IF(E27<2,#N/A,COUNTIF('A) Eingabe (Schüler)'!C40:AK40,2))","v":{"$error":"#N/A"}},{"$f":"IF(E27<2,#N/A,COUNTIF('A) Eingabe (Schüler)'!C40:AK40,3))","v":{"$error":"#N/A"}},{"$f":"IF(E27<2,#N/A,COUNTIF('A) Eingabe (Schüler)'!C40:AK40,4))","v":{"$error":"#N/A"}},{"$f":"IF('A) Eingabe (Lehrer)'!C40=\"\", #N/A, 'A) Eingabe (Lehrer)'!C40)","v":{"$error":"#N/A"}},{"$f":"IF(N27=0, #N/A,AVERAGE('A) Eingabe (Lehrer)'!D40:BK40))","v":{"$error":"#N/A"}},{"$f":"IF(N27<2, #N/A, STDEVP('A) Eingabe (Lehrer)'!D40:BK40))","v":{"$error":"#N/A"}},{"$error":"#N/A"},{"$f":"COUNT('A) Eingabe (Lehrer)'!D40:BK40)","v":0},{"$f":"IF(N27<2,#N/A,COUNTIF('A) Eingabe (Lehrer)'!D40:BK40,1))","v":{"$error":"#N/A"}},{"$f":"IF(N27<2,#N/A,COUNTIF('A) Eingabe (Lehrer)'!D40:BK40,2))","v":{"$error":"#N/A"}},{"$f":"IF(N27<2,#N/A,COUNTIF('A) Eingabe (Lehrer)'!D40:BK40,3))","v":{"$error":"#N/A"}},{"$f":"IF(N27<2,#N/A,COUNTIF('A) Eingabe (Lehrer)'!D40:BK40,4))","v":{"$error":"#N/A"}},{"$f":"IF('A) Eingabe (Lehrer)'!C40=\"\", #N/A, 'A) Eingabe (Lehrer)'!C40)","v":{"$error":"#N/A"}}]
[26,null,null,null,null,null,null,null,null,{"$f":"IF('A) Eingabe (Lehrer)'!C41=\"\", #N/A, 'A) Eingabe (Lehrer)'!C41)","v":{"$error":"#N/A"}},{"$f":"IF(N28=0, #N/A,AVERAGE('A) Eingabe (Lehrer)'!D41:BK41))","v":{"$error":"#N/A"}},{"$f":"IF(N28<2, #N/A, STDEVP('A) Eingabe (Lehrer)'!D41:BK41))","v":{"$error":"#N/A"}},{"$f":"IF(N28<2, #N/A, 100*(Q28+R28)/N28)","v":{"$error":"#N/A"}},{"$f":"COUNT('A) Eingabe (Lehrer)'!D41:BK41)","v":0},{"$f":"IF(N28<2,#N/A,COUNTIF('A) Eingabe (Lehrer)'!D41:BK41,1))","v":{"$error":"#N/A"}},{"$f":"IF(N28<2,#N/A,COUNTIF('A) Eingabe (Lehrer)'!D41:BK41,2))","v":{"$error":"#N/A"}},{"$f":"IF(N28<2,#N/A,COUNTIF('A) Eingabe (Lehrer)'!D41:BK41,3))","v":{"$error":"#N/A"}},{"$f":"IF(N28<2,#N/A,COUNTIF('A) Eingabe (Lehrer)'!D41:BK41,4))","v":{"$error":"#N/A"}},{"$f":"IF('A) Eingabe (Lehrer)'!C41=\"\", #N/A, 'A) Eingabe (Lehrer)'!C41)","v":{"$error":"#N/A"}}]
[27,null,null,null,null,null,null,null,null,{"$f":"IF('A) Eingabe (Lehrer)'!C42=\"\", #N/A, 'A) Eingabe (Lehrer)'!C42)","v":{"$error":"#N/A"}},{"$f":"IF(N29=0, #N/A,AVERAGE('A) Eingabe (Lehrer)'!D42:BK42))","v":{"$error":"#N/A"}},{"$f":"IF(N29<2, #N/A, STDEVP('A) Eingabe (Lehrer)'!D42:BK42))","v":{"$error":"#N/A"}},{"$f":"IF(N29<2, #N/A, 100*(Q29+R29)/N29)","v":{"$error":"#N/A"}},{"$f":"COUNT('A) Eingabe (Lehrer)'!D42:BK42)","v":0},{"$f":"IF(N29<2,#N/A,COUNTIF('A) Eingabe (Lehrer)'!D42:BK42,1))","v":{"$error":"#N/A"}},{"$f":"IF(N29<2,#N/A,COUNTIF('A) Eingabe (Lehrer)'!D42:BK42,2))","v":{"$error":"#N/A"}},{"$f":"IF(N29<2,#N/A,COUNTIF('A) Eingabe (Lehrer)'!D42:BK42,3))","v":{"$error":"#N/A"}},{"$f":"IF(N29<2,#N/A,COUNTIF('A) Eingabe (Lehrer)'!D42:BK42,4))","v":{"$error":"#N/A"}},{"$f":"IF('A) Eingabe (Lehrer)'!C42=\"\", #N/A, 'A) Eingabe (Lehrer)'!C42)","v":{"$error":"#N/A"}}]
[null,null,null,null,"N","quá dễ","tương đối dễ","vừa sức","tương đối khó","quá khó","không trả lời"]
[{"$f":"'A) Eingabe (Schüler)'!A41","v":26},{"$f":"IF(E31=0, #N/A,AVERAGE('A) Eingabe (Schüler)'!C41:AK41))","v":{"$error":"#N/A"}},{"$f":"IF(E31<2, #N/A, STDEVP('A) Eingabe (Schüler)'!C41:AK41))","v":{"$error":"#N/A"}},"Sch",{"$f":"COUNT('A) Eingabe (Schüler)'!C41:AK41)","v":0},{"$f":"IF($E31<2,#N/A,COUNTIF('A) Eingabe (Schüler)'!$C41:AK41,1))","v":{"$error":"#N/A"}},{"$f":"IF($E31<2,#N/A,COUNTIF('A) Eingabe (Schüler)'!$C41:AK41,2))","v":{"$error":"#N/A"}},{"$f":"IF($E31<2,#N/A,COUNTIF('A) Eingabe (Schüler)'!$C41:AK41,3))","v":{"$error":"#N/A"}},{"$f":"IF($E31<2,#N/A,COUNTIF('A) Eingabe (Schüler)'!$C41:AK41,4))","v":{"$error":"#N/A"}},{"$f":"IF($E31<2,#N/A,COUNTIF('A) Eingabe (Schüler)'!$C41:AK41,5))","v":{"$error":"#N/A"}},{"$f":"IF(MAX(E3:E27)>0,MAX(E3:E27)-E31,#N/A)","v":{"$error":"#N/A"}}]
[]
["Zusatzitems"]
[1,{"$f":"IF(E34=0, #N/A,AVERAGE('A) Eingabe (Schüler)'!C43:AK43))","v":{"$error":"#N/A"}},{"$f":"IF(E34<2, #N/A, STDEVP('A) Eingabe (Schüler)'!C43:AK43))","v":{"$error":"#N/A"}},{"$f":"IF(E34<2, #N/A, 100*(H34+I34)/E34)","v":{"$error":"#N/A"}},{"$f":"COUNT('A) Eingabe (Schüler)'!C43:AK43)","v":0},{"$f":"IF(E34<2,#N/A,COUNTIF('A) Eingabe (Schüler)'!C43:AK43,1))","v":{"$error":"#N/A"}},{"$f":"IF(E34<2,#N/A,COUNTIF('A) Eingabe (Schüler)'!C43:AK43,2))","v":{"$error":"#N/A"}},{"$f":"IF(E34<2,#N/A,COUNTIF('A) Eingabe (Schüler)'!C43:AK43,3))","v":{"$error":"#N/A"}},{"$f":"IF(E34<2,#N/A,COUNTIF('A) Eingabe (Schüler)'!C43:AK43,4))","v":{"$error":"#N/A"}},{"$f":"IF('A) Eingabe (Lehrer)'!C44=\"\", #N/A, 'A) Eingabe (Lehrer)'!C44)","v":{"$error":"#N/A"}},{"$f":"IF(N34=0, #N/A,AVERAGE('A) Eingabe (Lehrer)'!D44:BK44))","v":{"$error":"#N/A"}},{"$f":"IF(N34<2, #N/A, STDEVP('A) Eingabe (Lehrer)'!D44:BK44))","v":{"$error":"#N/A"}},{"$f":"IF(N34<2, #N/A, 100*(Q34+R34)/N34)","v":{"$error":"#N/A"}},{"$f":"COUNT('A) Eingabe (Lehrer)'!D44:BK44)","v":0},{"$f":"IF(N34<2,#N/A,COUNTIF('A) Eingabe (Lehrer)'!D44:BK44,1))","v":{"$error":"#N/A"}},{"$f":"IF(N34<2,#N/A,COUNTIF('A) Eingabe (Lehrer)'!D44:BK44,2))","v":{"$error":"#N/A"}},{"$f":"IF(N34<2,#N/A,COUNTIF('A) Eingabe (Lehrer)'!D44:BK44,3))","v":{"$error":"#N/A"}},{"$f":"IF(N34<2,#N/A,COUNTIF('A) Eingabe (Lehrer)'!D44:BK44,4))","v":{"$error":"#N/A"}},{"$f":"IF('A) Eingabe (Lehrer)'!C44=\"\", #N/A, 'A) Eingabe (Lehrer)'!C44)","v":{"$error":"#N/A"}}]
[2,{"$f":"IF(E35=0, #N/A,AVERAGE('A) Eingabe (Schüler)'!C44:AK44))","v":{"$error":"#N/A"}},{"$f":"IF(E35<2, #N/A, STDEVP('A) Eingabe (Schüler)'!C44:AK44))","v":{"$error":"#N/A"}},{"$error":"#N/A"},{"$f":"COUNT('A) Eingabe (Schüler)'!C44:AK44)","v":0},{"$f":"IF(E35<2,#N/A,COUNTIF('A) Eingabe (Schüler)'!C44:AK44,1))","v":{"$error":"#N/A"}},{"$f":"IF(E35<2,#N/A,COUNTIF('A) Eingabe (Schüler)'!C44:AK44,2))","v":{"$error":"#N/A"}},{"$f":"IF(E35<2,#N/A,COUNTIF('A) Eingabe (Schüler)'!C44:AK44,3))","v":{"$error":"#N/A"}},{"$f":"IF(E35<2,#N/A,COUNTIF('A) Eingabe (Schüler)'!C44:AK44,4))","v":{"$error":"#N/A"}},{"$f":"IF('A) Eingabe (Lehrer)'!C45=\"\", #N/A, 'A) Eingabe (Lehrer)'!C45)","v":{"$error":"#N/A"}},{"$f":"IF(N35=0, #N/A,AVERAGE('A) Eingabe (Lehrer)'!D45:BK45))","v":{"$error":"#N/A"}},{"$f":"IF(N35<2, #N/A, STDEVP('A) Eingabe (Lehrer)'!D45:BK45))","v":{"$error":"#N/A"}},{"$error":"#N/A"},{"$f":"COUNT('A) Eingabe (Lehrer)'!D45:BK45)","v":0},{"$f":"IF(N35<2,#N/A,COUNTIF('A) Eingabe (Lehrer)'!D45:BK45,1))","v":{"$error":"#N/A"}},{"$f":"IF(N35<2,#N/A,COUNTIF('A) Eingabe (Lehrer)'!D45:BK45,2))","v":{"$error":"#N/A"}},{"$f":"IF(N35<2,#N/A,COUNTIF('A) Eingabe (Lehrer)'!D45:BK45,3))","v":{"$error":"#N/A"}},{"$f":"IF(N35<2,#N/A,COUNTIF('A) Eingabe (Lehrer)'!D45:BK45,4))","v":{"$error":"#N/A"}},{"$f":"IF('A) Eingabe (Lehrer)'!C45=\"\", #N/A, 'A) Eingabe (Lehrer)'!C45)","v":{"$error":"#N/A"}}]
[3,{"$f":"IF(E36=0, #N/A,AVERAGE('A) Eingabe (Schüler)'!C45:AK45))","v":{"$error":"#N/A"}},{"$f":"IF(E36<2, #N/A, STDEVP('A) Eingabe (Schüler)'!C45:AK45))","v":{"$error":"#N/A"}},{"$error":"#N/A"},{"$f":"COUNT('A) Eingabe (Schüler)'!C45:AK45)","v":0},{"$f":"IF(E36<2,#N/A,COUNTIF('A) Eingabe (Schüler)'!C45:AK45,1))","v":{"$error":"#N/A"}},{"$f":"IF(E36<2,#N/A,COUNTIF('A) Eingabe (Schüler)'!C45:AK45,2))","v":{"$error":"#N/A"}},{"$f":"IF(E36<2,#N/A,COUNTIF('A) Eingabe (Schüler)'!C45:AK45,3))","v":{"$error":"#N/A"}},{"$f":"IF(E36<2,#N/A,COUNTIF('A) Eingabe (Schüler)'!C45:AK45,4))","v":{"$error":"#N/A"}},{"$f":"IF('A) Eingabe (Lehrer)'!C46=\"\", #N/A, 'A) Eingabe (Lehrer)'!C46)","v":{"$error":"#N/A"}},{"$f":"IF(N36=0, #N/A,AVERAGE('A) Eingabe (Lehrer)'!D46:BK46))","v":{"$error":"#N/A"}},{"$f":"IF(N36<2, #N/A, STDEVP('A) Eingabe (Lehrer)'!D46:BK46))","v":{"$error":"#N/A"}},{"$error":"#N/A"},{"$f":"COUNT('A) Eingabe (Lehrer)'!D46:BK46)","v":0},{"$f":"IF(N36<2,#N/A,COUNTIF('A) Eingabe (Lehrer)'!D46:BK46,1))","v":{"$error":"#N/A"}},{"$f":"IF(N36<2,#N/A,COUNTIF('A) Eingabe (Lehrer)'!D46:BK46,2))","v":{"$error":"#N/A"}},{"$f":"IF(N36<2,#N/A,COUNTIF('A) Eingabe (Lehrer)'!D46:BK46,3))","v":{"$error":"#N/A"}},{"$f":"IF(N36<2,#N/A,COUNTIF('A) Eingabe (Lehrer)'!D46:BK46,4))","v":{"$error":"#N/A"}},{"$f":"IF('A) Eingabe (Lehrer)'!C46=\"\", #N/A, 'A) Eingabe (Lehrer)'!C46)","v":{"$error":"#N/A"}}]
[4,{"$f":"IF(E37=0, #N/A,AVERAGE('A) Eingabe (Schüler)'!C46:AK46))","v":{"$error":"#N/A"}},{"$f":"IF(E37<2, #N/A, STDEVP('A) Eingabe (Schüler)'!C46:AK46))","v":{"$error":"#N/A"}},{"$error":"#N/A"},{"$f":"COUNT('A) Eingabe (Schüler)'!C46:AK46)","v":0},{"$f":"IF(E37<2,#N/A,COUNTIF('A) Eingabe (Schüler)'!C46:AK46,1))","v":{"$error":"#N/A"}},{"$f":"IF(E37<2,#N/A,COUNTIF('A) Eingabe (Schüler)'!C46:AK46,2))","v":{"$error":"#N/A"}},{"$f":"IF(E37<2,#N/A,COUNTIF('A) Eingabe (Schüler)'!C46:AK46,3))","v":{"$error":"#N/A"}},{"$f":"IF(E37<2,#N/A,COUNTIF('A) Eingabe (Schüler)'!C46:AK46,4))","v":{"$error":"#N/A"}},{"$f":"IF('A) Eingabe (Lehrer)'!C47=\"\", #N/A, 'A) Eingabe (Lehrer)'!C47)","v":{"$error":"#N/A"}},{"$f":"IF(N37=0, #N/A,AVERAGE('A) Eingabe (Lehrer)'!D47:BK47))","v":{"$error":"#N/A"}},{"$f":"IF(N37<2, #N/A, STDEVP('A) Eingabe (Lehrer)'!D47:BK47))","v":{"$error":"#N/A"}},{"$error":"#N/A"},{"$f":"COUNT('A) Eingabe (Lehrer)'!D47:BK47)","v":0},{"$f":"IF(N37<2,#N/A,COUNTIF('A) Eingabe (Lehrer)'!D47:BK47,1))","v":{"$error":"#N/A"}},{"$f":"IF(N37<2,#N/A,COUNTIF('A) Eingabe (Lehrer)'!D47:BK47,2))","v":{"$error":"#N/A"}},{"$f":"IF(N37<2,#N/A,COUNTIF('A) Eingabe (Lehrer)'!D47:BK47,3))","v":{"$error":"#N/A"}},{"$f":"IF(N37<2,#N/A,COUNTIF('A) Eingabe (Lehrer)'!D47:BK47,4))","v":{"$error":"#N/A"}},{"$f":"IF('A) Eingabe (Lehrer)'!C47=\"\", #N/A, 'A) Eingabe (Lehrer)'!C47)","v":{"$error":"#N/A"}}]
[5,{"$f":"IF(E38=0, #N/A,AVERAGE('A) Eingabe (Schüler)'!C47:AK47))","v":{"$error":"#N/A"}},{"$f":"IF(E38<2, #N/A, STDEVP('A) Eingabe (Schüler)'!C47:AK47))","v":{"$error":"#N/A"}},{"$error":"#N/A"},{"$f":"COUNT('A) Eingabe (Schüler)'!C47:AK47)","v":0},{"$f":"IF(E38<2,#N/A,COUNTIF('A) Eingabe (Schüler)'!C47:AK47,1))","v":{"$error":"#N/A"}},{"$f":"IF(E38<2,#N/A,COUNTIF('A) Eingabe (Schüler)'!C47:AK47,2))","v":{"$error":"#N/A"}},{"$f":"IF(E38<2,#N/A,COUNTIF('A) Eingabe (Schüler)'!C47:AK47,3))","v":{"$error":"#N/A"}},{"$f":"IF(E38<2,#N/A,COUNTIF('A) Eingabe (Schüler)'!C47:AK47,4))","v":{"$error":"#N/A"}},{"$f":"IF('A) Eingabe (Lehrer)'!C48=\"\", #N/A, 'A) Eingabe (Lehrer)'!C48)","v":{"$error":"#N/A"}},{"$f":"IF(N38=0, #N/A,AVERAGE('A) Eingabe (Lehrer)'!D48:BK48))","v":{"$error":"#N/A"}},{"$f":"IF(N38<2, #N/A, STDEVP('A) Eingabe (Lehrer)'!D48:BK48))","v":{"$error":"#N/A"}},{"$error":"#N/A"},{"$f":"COUNT('A) Eingabe (Lehrer)'!D48:BK48)","v":0},{"$f":"IF(N38<2,#N/A,COUNTIF('A) Eingabe (Lehrer)'!D48:BK48,1))","v":{"$error":"#N/A"}},{"$f":"IF(N38<2,#N/A,COUNTIF('A) Eingabe (Lehrer)'!D48:BK48,2))","v":{"$error":"#N/A"}},{"$f":"IF(N38<2,#N/A,COUNTIF('A) Eingabe (Lehrer)'!D48:BK48,3))","v":{"$error":"#N/A"}},{"$f":"IF(N38<2,#N/A,COUNTIF('A) Eingabe (Lehrer)'!D48:BK48,4))","v":{"$error":"#N/A"}},{"$f":"IF('A) Eingabe (Lehrer)'!C48=\"\", #N/A, 'A) Eingabe (Lehrer)'!C48)","v":{"$error":"#N/A"}}]
[6,{"$f":"IF(E39=0, #N/A,AVERAGE('A) Eingabe (Schüler)'!C48:AK48))","v":{"$error":"#N/A"}},{"$f":"IF(E39<2, #N/A, STDEVP('A) Eingabe (Schüler)'!C48:AK48))","v":{"$error":"#N/A"}},{"$error":"#N/A"},{"$f":"COUNT('A) Eingabe (Schüler)'!C48:AK48)","v":0},{"$f":"IF(E39<2,#N/A,COUNTIF('A) Eingabe (Schüler)'!C48:AK48,1))","v":{"$error":"#N/A"}},{"$f":"IF(E39<2,#N/A,COUNTIF('A) Eingabe (Schüler)'!C48:AK48,2))","v":{"$error":"#N/A"}},{"$f":"IF(E39<2,#N/A,COUNTIF('A) Eingabe (Schüler)'!C48:AK48,3))","v":{"$error":"#N/A"}},{"$f":"IF(E39<2,#N/A,COUNTIF('A) Eingabe (Schüler)'!C48:AK48,4))","v":{"$error":"#N/A"}},{"$f":"IF('A) Eingabe (Lehrer)'!C49=\"\", #N/A, 'A) Eingabe (Lehrer)'!C49)","v":{"$error":"#N/A"}},{"$f":"IF(N39=0, #N/A,AVERAGE('A) Eingabe (Lehrer)'!D49:BK49))","v":{"$error":"#N/A"}},{"$f":"IF(N39<2, #N/A, STDEVP('A) Eingabe (Lehrer)'!D49:BK49))","v":{"$error":"#N/A"}},{"$error":"#N/A"},{"$f":"COUNT('A) Eingabe (Lehrer)'!D49:BK49)","v":0},{"$f":"IF(N39<2,#N/A,COUNTIF('A) Eingabe (Lehrer)'!D49:BK49,1))","v":{"$error":"#N/A"}},{"$f":"IF(N39<2,#N/A,COUNTIF('A) Eingabe (Lehrer)'!D49:BK49,2))","v":{"$error":"#N/A"}},{"$f":"IF(N39<2,#N/A,COUNTIF('A) Eingabe (Lehrer)'!D49:BK49,3))","v":{"$error":"#N/A"}},{"$f":"IF(N39<2,#N/A,COUNTIF('A) Eingabe (Lehrer)'!D49:BK49,4))","v":{"$error":"#N/A"}},{"$f":"IF('A) Eingabe (Lehrer)'!C49=\"\", #N/A, 'A) Eingabe (Lehrer)'!C49)","v":{"$error":"#N/A"}}]
[7,{"$f":"IF(E40=0, #N/A,AVERAGE('A) Eingabe (Schüler)'!C49:AK49))","v":{"$error":"#N/A"}},{"$f":"IF(E40<2, #N/A, STDEVP('A) Eingabe (Schüler)'!C49:AK49))","v":{"$error":"#N/A"}},{"$error":"#N/A"},{"$f":"COUNT('A) Eingabe (Schüler)'!C49:AK49)","v":0},{"$f":"IF(E40<2,#N/A,COUNTIF('A) Eingabe (Schüler)'!C49:AK49,1))","v":{"$error":"#N/A"}},{"$f":"IF(E40<2,#N/A,COUNTIF('A) Eingabe (Schüler)'!C49:AK49,2))","v":{"$error":"#N/A"}},{"$f":"IF(E40<2,#N/A,COUNTIF('A) Eingabe (Schüler)'!C49:AK49,3))","v":{"$error":"#N/A"}},{"$f":"IF(E40<2,#N/A,COUNTIF('A) Eingabe (Schüler)'!C49:AK49,4))","v":{"$error":"#N/A"}},{"$f":"IF('A) Eingabe (Lehrer)'!C50=\"\", #N/A, 'A) Eingabe (Lehrer)'!C50)","v":{"$error":"#N/A"}},{"$f":"IF(N40=0, #N/A,AVERAGE('A) Eingabe (Lehrer)'!D50:BK50))","v":{"$error":"#N/A"}},{"$f":"IF(N40<2, #N/A, STDEVP('A) Eingabe (Lehrer)'!D50:BK50))","v":{"$error":"#N/A"}},{"$error":"#N/A"},{"$f":"COUNT('A) Eingabe (Lehrer)'!D50:BK50)","v":0},{"$f":"IF(N40<2,#N/A,COUNTIF('A) Eingabe (Lehrer)'!D50:BK50,1))","v":{"$error":"#N/A"}},{"$f":"IF(N40<2,#N/A,COUNTIF('A) Eingabe (Lehrer)'!D50:BK50,2))","v":{"$error":"#N/A"}},{"$f":"IF(N40<2,#N/A,COUNTIF('A) Eingabe (Lehrer)'!D50:BK50,3))","v":{"$error":"#N/A"}},{"$f":"IF(N40<2,#N/A,COUNTIF('A) Eingabe (Lehrer)'!D50:BK50,4))","v":{"$error":"#N/A"}},{"$f":"IF('A) Eingabe (Lehrer)'!C50=\"\", #N/A, 'A) Eingabe (Lehrer)'!C50)","v":{"$error":"#N/A"}}]
[8,{"$f":"IF(E41=0, #N/A,AVERAGE('A) Eingabe (Schüler)'!C50:AK50))","v":{"$error":"#N/A"}},{"$f":"IF(E41<2, #N/A, STDEVP('A) Eingabe (Schüler)'!C50:AK50))","v":{"$error":"#N/A"}},{"$error":"#N/A"},{"$f":"COUNT('A) Eingabe (Schüler)'!C50:AK50)","v":0},{"$f":"IF(E41<2,#N/A,COUNTIF('A) Eingabe (Schüler)'!C50:AK50,1))","v":{"$error":"#N/A"}},{"$f":"IF(E41<2,#N/A,COUNTIF('A) Eingabe (Schüler)'!C50:AK50,2))","v":{"$error":"#N/A"}},{"$f":"IF(E41<2,#N/A,COUNTIF('A) Eingabe (Schüler)'!C50:AK50,3))","v":{"$error":"#N/A"}},{"$f":"IF(E41<2,#N/A,COUNTIF('A) Eingabe (Schüler)'!C50:AK50,4))","v":{"$error":"#N/A"}},{"$f":"IF('A) Eingabe (Lehrer)'!C51=\"\", #N/A, 'A) Eingabe (Lehrer)'!C51)","v":{"$error":"#N/A"}},{"$f":"IF(N41=0, #N/A,AVERAGE('A) Eingabe (Lehrer)'!D51:BK51))","v":{"$error":"#N/A"}},{"$f":"IF(N41<2, #N/A, STDEVP('A) Eingabe (Lehrer)'!D51:BK51))","v":{"$error":"#N/A"}},{"$error":"#N/A"},{"$f":"COUNT('A) Eingabe (Lehrer)'!D51:BK51)","v":0},{"$f":"IF(N41<2,#N/A,COUNTIF('A) Eingabe (Lehrer)'!D51:BK51,1))","v":{"$error":"#N/A"}},{"$f":"IF(N41<2,#N/A,COUNTIF('A) Eingabe (Lehrer)'!D51:BK51,2))","v":{"$error":"#N/A"}},{"$f":"IF(N41<2,#N/A,COUNTIF('A) Eingabe (Lehrer)'!D51:BK51,3))","v":{"$error":"#N/A"}},{"$f":"IF(N41<2,#N/A,COUNTIF('A) Eingabe (Lehrer)'!D51:BK51,4))","v":{"$error":"#N/A"}},{"$f":"IF('A) Eingabe (Lehrer)'!C51=\"\", #N/A, 'A) Eingabe (Lehrer)'!C51)","v":{"$error":"#N/A"}}]
[9,{"$f":"IF(E42=0, #N/A,AVERAGE('A) Eingabe (Schüler)'!C51:AK51))","v":{"$error":"#N/A"}},{"$f":"IF(E42<2, #N/A, STDEVP('A) Eingabe (Schüler)'!C51:AK51))","v":{"$error":"#N/A"}},{"$error":"#N/A"},{"$f":"COUNT('A) Eingabe (Schüler)'!C51:AK51)","v":0},{"$f":"IF(E42<2,#N/A,COUNTIF('A) Eingabe (Schüler)'!C51:AK51,1))","v":{"$error":"#N/A"}},{"$f":"IF(E42<2,#N/A,COUNTIF('A) Eingabe (Schüler)'!C51:AK51,2))","v":{"$error":"#N/A"}},{"$f":"IF(E42<2,#N/A,COUNTIF('A) Eingabe (Schüler)'!C51:AK51,3))","v":{"$error":"#N/A"}},{"$f":"IF(E42<2,#N/A,COUNTIF('A) Eingabe (Schüler)'!C51:AK51,4))","v":{"$error":"#N/A"}},{"$f":"IF('A) Eingabe (Lehrer)'!C52=\"\", #N/A, 'A) Eingabe (Lehrer)'!C52)","v":{"$error":"#N/A"}},{"$f":"IF(N42=0, #N/A,AVERAGE('A) Eingabe (Lehrer)'!D52:BK52))","v":{"$error":"#N/A"}},{"$f":"IF(N42<2, #N/A, STDEVP('A) Eingabe (Lehrer)'!D52:BK52))","v":{"$error":"#N/A"}},{"$error":"#N/A"},{"$f":"COUNT('A) Eingabe (Lehrer)'!D52:BK52)","v":0},{"$f":"IF(N42<2,#N/A,COUNTIF('A) Eingabe (Lehrer)'!D52:BK52,1))","v":{"$error":"#N/A"}},{"$f":"IF(N42<2,#N/A,COUNTIF('A) Eingabe (Lehrer)'!D52:BK52,2))","v":{"$error":"#N/A"}},{"$f":"IF(N42<2,#N/A,COUNTIF('A) Eingabe (Lehrer)'!D52:BK52,3))","v":{"$error":"#N/A"}},{"$f":"IF(N42<2,#N/A,COUNTIF('A) Eingabe (Lehrer)'!D52:BK52,4))","v":{"$error":"#N/A"}},{"$f":"IF('A) Eingabe (Lehrer)'!C52=\"\", #N/A, 'A) Eingabe (Lehrer)'!C52)","v":{"$error":"#N/A"}}]
[10,{"$f":"IF(E43=0, #N/A,AVERAGE('A) Eingabe (Schüler)'!C52:AK52))","v":{"$error":"#N/A"}},{"$f":"IF(E43<2, #N/A, STDEVP('A) Eingabe (Schüler)'!C52:AK52))","v":{"$error":"#N/A"}},{"$error":"#N/A"},{"$f":"COUNT('A) Eingabe (Schüler)'!C52:AK52)","v":0},{"$f":"IF(E43<2,#N/A,COUNTIF('A) Eingabe (Schüler)'!C52:AK52,1))","v":{"$error":"#N/A"}},{"$f":"IF(E43<2,#N/A,COUNTIF('A) Eingabe (Schüler)'!C52:AK52,2))","v":{"$error":"#N/A"}},{"$f":"IF(E43<2,#N/A,COUNTIF('A) Eingabe (Schüler)'!C52:AK52,3))","v":{"$error":"#N/A"}},{"$f":"IF(E43<2,#N/A,COUNTIF('A) Eingabe (Schüler)'!C52:AK52,4))","v":{"$error":"#N/A"}},{"$f":"IF('A) Eingabe (Lehrer)'!C53=\"\", #N/A, 'A) Eingabe (Lehrer)'!C53)","v":{"$error":"#N/A"}},{"$f":"IF(N43=0, #N/A,AVERAGE('A) Eingabe (Lehrer)'!D53:BK53))","v":{"$error":"#N/A"}},{"$f":"IF(N43<2, #N/A, STDEVP('A) Eingabe (Lehrer)'!D53:BK53))","v":{"$error":"#N/A"}},{"$error":"#N/A"},{"$f":"COUNT('A) Eingabe (Lehrer)'!D53:BK53)","v":0},{"$f":"IF(N43<2,#N/A,COUNTIF('A) Eingabe (Lehrer)'!D53:BK53,1))","v":{"$error":"#N/A"}},{"$f":"IF(N43<2,#N/A,COUNTIF('A) Eingabe (Lehrer)'!D53:BK53,2))","v":{"$error":"#N/A"}},{"$f":"IF(N43<2,#N/A,COUNTIF('A) Eingabe (Lehrer)'!D53:BK53,3))","v":{"$error":"#N/A"}},{"$f":"IF(N43<2,#N/A,COUNTIF('A) Eingabe (Lehrer)'!D53:BK53,4))","v":{"$error":"#N/A"}},{"$f":"IF('A) Eingabe (Lehrer)'!C53=\"\", #N/A, 'A) Eingabe (Lehrer)'!C53)","v":{"$error":"#N/A"}}]
[11,{"$f":"IF(E44=0, #N/A,AVERAGE('A) Eingabe (Schüler)'!C53:AK53))","v":{"$error":"#N/A"}},{"$f":"IF(E44<2, #N/A, STDEVP('A) Eingabe (Schüler)'!C53:AK53))","v":{"$error":"#N/A"}},{"$error":"#N/A"},{"$f":"COUNT('A) Eingabe (Schüler)'!C53:AK53)","v":0},{"$f":"IF(E44<2,#N/A,COUNTIF('A) Eingabe (Schüler)'!C53:AK53,1))","v":{"$error":"#N/A"}},{"$f":"IF(E44<2,#N/A,COUNTIF('A) Eingabe (Schüler)'!C53:AK53,2))","v":{"$error":"#N/A"}},{"$f":"IF(E44<2,#N/A,COUNTIF('A) Eingabe (Schüler)'!C53:AK53,3))","v":{"$error":"#N/A"}},{"$f":"IF(E44<2,#N/A,COUNTIF('A) Eingabe (Schüler)'!C53:AK53,4))","v":{"$error":"#N/A"}},{"$f":"IF('A) Eingabe (Lehrer)'!C54=\"\", #N/A, 'A) Eingabe (Lehrer)'!C54)","v":{"$error":"#N/A"}},{"$f":"IF(N44=0, #N/A,AVERAGE('A) Eingabe (Lehrer)'!D54:BK54))","v":{"$error":"#N/A"}},{"$f":"IF(N44<2, #N/A, STDEVP('A) Eingabe (Lehrer)'!D54:BK54))","v":{"$error":"#N/A"}},{"$error":"#N/A"},{"$f":"COUNT('A) Eingabe (Lehrer)'!D54:BK54)","v":0},{"$f":"IF(N44<2,#N/A,COUNTIF('A) Eingabe (Lehrer)'!D54:BK54,1))","v":{"$error":"#N/A"}},{"$f":"IF(N44<2,#N/A,COUNTIF('A) Eingabe (Lehrer)'!D54:BK54,2))","v":{"$error":"#N/A"}},{"$f":"IF(N44<2,#N/A,COUNTIF('A) Eingabe (Lehrer)'!D54:BK54,3))","v":{"$error":"#N/A"}},{"$f":"IF(N44<2,#N/A,COUNTIF('A) Eingabe (Lehrer)'!D54:BK54,4))","v":{"$error":"#N/A"}},{"$f":"IF('A) Eingabe (Lehrer)'!C54=\"\", #N/A, 'A) Eingabe (Lehrer)'!C54)","v":{"$error":"#N/A"}}]
[12,{"$f":"IF(E45=0, #N/A,AVERAGE('A) Eingabe (Schüler)'!C54:AK54))","v":{"$error":"#N/A"}},{"$f":"IF(E45<2, #N/A, STDEVP('A) Eingabe (Schüler)'!C54:AK54))","v":{"$error":"#N/A"}},{"$error":"#N/A"},{"$f":"COUNT('A) Eingabe (Schüler)'!C54:AK54)","v":0},{"$f":"IF(E45<2,#N/A,COUNTIF('A) Eingabe (Schüler)'!C54:AK54,1))","v":{"$error":"#N/A"}},{"$f":"IF(E45<2,#N/A,COUNTIF('A) Eingabe (Schüler)'!C54:AK54,2))","v":{"$error":"#N/A"}},{"$f":"IF(E45<2,#N/A,COUNTIF('A) Eingabe (Schüler)'!C54:AK54,3))","v":{"$error":"#N/A"}},{"$f":"IF(E45<2,#N/A,COUNTIF('A) Eingabe (Schüler)'!C54:AK54,4))","v":{"$error":"#N/A"}},{"$f":"IF('A) Eingabe (Lehrer)'!C55=\"\", #N/A, 'A) Eingabe (Lehrer)'!C55)","v":{"$error":"#N/A"}},{"$f":"IF(N45=0, #N/A,AVERAGE('A) Eingabe (Lehrer)'!D55:BK55))","v":{"$error":"#N/A"}},{"$f":"IF(N45<2, #N/A, STDEVP('A) Eingabe (Lehrer)'!D55:BK55))","v":{"$error":"#N/A"}},{"$error":"#N/A"},{"$f":"COUNT('A) Eingabe (Lehrer)'!D55:BK55)","v":0},{"$f":"IF(N45<2,#N/A,COUNTIF('A) Eingabe (Lehrer)'!D55:BK55,1))","v":{"$error":"#N/A"}},{"$f":"IF(N45<2,#N/A,COUNTIF('A) Eingabe (Lehrer)'!D55:BK55,2))","v":{"$error":"#N/A"}},{"$f":"IF(N45<2,#N/A,COUNTIF('A) Eingabe (Lehrer)'!D55:BK55,3))","v":{"$error":"#N/A"}},{"$f":"IF(N45<2,#N/A,COUNTIF('A) Eingabe (Lehrer)'!D55:BK55,4))","v":{"$error":"#N/A"}},{"$f":"IF('A) Eingabe (Lehrer)'!C55=\"\", #N/A, 'A) Eingabe (Lehrer)'!C55)","v":{"$error":"#N/A"}}]
[13,{"$f":"IF(E46=0, #N/A,AVERAGE('A) Eingabe (Schüler)'!C55:AK55))","v":{"$error":"#N/A"}},{"$f":"IF(E46<2, #N/A, STDEVP('A) Eingabe (Schüler)'!C55:AK55))","v":{"$error":"#N/A"}},{"$error":"#N/A"},{"$f":"COUNT('A) Eingabe (Schüler)'!C55:AK55)","v":0},{"$f":"IF(E46<2,#N/A,COUNTIF('A) Eingabe (Schüler)'!C55:AK55,1))","v":{"$error":"#N/A"}},{"$f":"IF(E46<2,#N/A,COUNTIF('A) Eingabe (Schüler)'!C55:AK55,2))","v":{"$error":"#N/A"}},{"$f":"IF(E46<2,#N/A,COUNTIF('A) Eingabe (Schüler)'!C55:AK55,3))","v":{"$error":"#N/A"}},{"$f":"IF(E46<2,#N/A,COUNTIF('A) Eingabe (Schüler)'!C55:AK55,4))","v":{"$error":"#N/A"}},{"$f":"IF('A) Eingabe (Lehrer)'!C56=\"\", #N/A, 'A) Eingabe (Lehrer)'!C56)","v":{"$error":"#N/A"}},{"$f":"IF(N46=0, #N/A,AVERAGE('A) Eingabe (Lehrer)'!D56:BK56))","v":{"$error":"#N/A"}},{"$f":"IF(N46<2, #N/A, STDEVP('A) Eingabe (Lehrer)'!D56:BK56))","v":{"$error":"#N/A"}},{"$error":"#N/A"},{"$f":"COUNT('A) Eingabe (Lehrer)'!D56:BK56)","v":0},{"$f":"IF(N46<2,#N/A,COUNTIF('A) Eingabe (Lehrer)'!D56:BK56,1))","v":{"$error":"#N/A"}},{"$f":"IF(N46<2,#N/A,COUNTIF('A) Eingabe (Lehrer)'!D56:BK56,2))","v":{"$error":"#N/A"}},{"$f":"IF(N46<2,#N/A,COUNTIF('A) Eingabe (Lehrer)'!D56:BK56,3))","v":{"$error":"#N/A"}},{"$f":"IF(N46<2,#N/A,COUNTIF('A) Eingabe (Lehrer)'!D56:BK56,4))","v":{"$error":"#N/A"}},{"$f":"IF('A) Eingabe (Lehrer)'!C56=\"\", #N/A, 'A) Eingabe (Lehrer)'!C56)","v":{"$error":"#N/A"}}]
[14,{"$f":"IF(E47=0, #N/A,AVERAGE('A) Eingabe (Schüler)'!C56:AK56))","v":{"$error":"#N/A"}},{"$f":"IF(E47<2, #N/A, STDEVP('A) Eingabe (Schüler)'!C56:AK56))","v":{"$error":"#N/A"}},{"$error":"#N/A"},{"$f":"COUNT('A) Eingabe (Schüler)'!C56:AK56)","v":0},{"$f":"IF(E47<2,#N/A,COUNTIF('A) Eingabe (Schüler)'!C56:AK56,1))","v":{"$error":"#N/A"}},{"$f":"IF(E47<2,#N/A,COUNTIF('A) Eingabe (Schüler)'!C56:AK56,2))","v":{"$error":"#N/A"}},{"$f":"IF(E47<2,#N/A,COUNTIF('A) Eingabe (Schüler)'!C56:AK56,3))","v":{"$error":"#N/A"}},{"$f":"IF(E47<2,#N/A,COUNTIF('A) Eingabe (Schüler)'!C56:AK56,4))","v":{"$error":"#N/A"}},{"$f":"IF('A) Eingabe (Lehrer)'!C57=\"\", #N/A, 'A) Eingabe (Lehrer)'!C57)","v":{"$error":"#N/A"}},{"$f":"IF(N47=0, #N/A,AVERAGE('A) Eingabe (Lehrer)'!D57:BK57))","v":{"$error":"#N/A"}},{"$f":"IF(N47<2, #N/A, STDEVP('A) Eingabe (Lehrer)'!D57:BK57))","v":{"$error":"#N/A"}},{"$error":"#N/A"},{"$f":"COUNT('A) Eingabe (Lehrer)'!D57:BK57)","v":0},{"$f":"IF(N47<2,#N/A,COUNTIF('A) Eingabe (Lehrer)'!D57:BK57,1))","v":{"$error":"#N/A"}},{"$f":"IF(N47<2,#N/A,COUNTIF('A) Eingabe (Lehrer)'!D57:BK57,2))","v":{"$error":"#N/A"}},{"$f":"IF(N47<2,#N/A,COUNTIF('A) Eingabe (Lehrer)'!D57:BK57,3))","v":{"$error":"#N/A"}},{"$f":"IF(N47<2,#N/A,COUNTIF('A) Eingabe (Lehrer)'!D57:BK57,4))","v":{"$error":"#N/A"}},{"$f":"IF('A) Eingabe (Lehrer)'!C57=\"\", #N/A, 'A) Eingabe (Lehrer)'!C57)","v":{"$error":"#N/A"}}]
[15,{"$f":"IF(E48=0, #N/A,AVERAGE('A) Eingabe (Schüler)'!C57:AK57))","v":{"$error":"#N/A"}},{"$f":"IF(E48<2, #N/A, STDEVP('A) Eingabe (Schüler)'!C57:AK57))","v":{"$error":"#N/A"}},{"$error":"#N/A"},{"$f":"COUNT('A) Eingabe (Schüler)'!C57:AK57)","v":0},{"$f":"IF(E48<2,#N/A,COUNTIF('A) Eingabe (Schüler)'!C57:AK57,1))","v":{"$error":"#N/A"}},{"$f":"IF(E48<2,#N/A,COUNTIF('A) Eingabe (Schüler)'!C57:AK57,2))","v":{"$error":"#N/A"}},{"$f":"IF(E48<2,#N/A,COUNTIF('A) Eingabe (Schüler)'!C57:AK57,3))","v":{"$error":"#N/A"}},{"$f":"IF(E48<2,#N/A,COUNTIF('A) Eingabe (Schüler)'!C57:AK57,4))","v":{"$error":"#N/A"}},{"$f":"IF('A) Eingabe (Lehrer)'!C58=\"\", #N/A, 'A) Eingabe (Lehrer)'!C58)","v":{"$error":"#N/A"}},{"$f":"IF(N48=0, #N/A,AVERAGE('A) Eingabe (Lehrer)'!D58:BK58))","v":{"$error":"#N/A"}},{"$f":"IF(N48<2, #N/A, STDEVP('A) Eingabe (Lehrer)'!D58:BK58))","v":{"$error":"#N/A"}},{"$error":"#N/A"},{"$f":"COUNT('A) Eingabe (Lehrer)'!D58:BK58)","v":0},{"$f":"IF(N48<2,#N/A,COUNTIF('A) Eingabe (Lehrer)'!D58:BK58,1))","v":{"$error":"#N/A"}},{"$f":"IF(N48<2,#N/A,COUNTIF('A) Eingabe (Lehrer)'!D58:BK58,2))","v":{"$error":"#N/A"}},{"$f":"IF(N48<2,#N/A,COUNTIF('A) Eingabe (Lehrer)'!D58:BK58,3))","v":{"$error":"#N/A"}},{"$f":"IF(N48<2,#N/A,COUNTIF('A) Eingabe (Lehrer)'!D58:BK58,4))","v":{"$error":"#N/A"}},{"$f":"IF('A) Eingabe (Lehrer)'!C58=\"\", #N/A, 'A) Eingabe (Lehrer)'!C58)","v":{"$error":"#N/A"}}]
[16,{"$f":"IF(E49=0, #N/A,AVERAGE('A) Eingabe (Schüler)'!C58:AK58))","v":{"$error":"#N/A"}},{"$f":"IF(E49<2, #N/A, STDEVP('A) Eingabe (Schüler)'!C58:AK58))","v":{"$error":"#N/A"}},{"$error":"#N/A"},{"$f":"COUNT('A) Eingabe (Schüler)'!C58:AK58)","v":0},{"$f":"IF(E49<2,#N/A,COUNTIF('A) Eingabe (Schüler)'!C58:AK58,1))","v":{"$error":"#N/A"}},{"$f":"IF(E49<2,#N/A,COUNTIF('A) Eingabe (Schüler)'!C58:AK58,2))","v":{"$error":"#N/A"}},{"$f":"IF(E49<2,#N/A,COUNTIF('A) Eingabe (Schüler)'!C58:AK58,3))","v":{"$error":"#N/A"}},{"$f":"IF(E49<2,#N/A,COUNTIF('A) Eingabe (Schüler)'!C58:AK58,4))","v":{"$error":"#N/A"}},{"$f":"IF('A) Eingabe (Lehrer)'!C59=\"\", #N/A, 'A) Eingabe (Lehrer)'!C59)","v":{"$error":"#N/A"}},{"$f":"IF(N49=0, #N/A,AVERAGE('A) Eingabe (Lehrer)'!D59:BK59))","v":{"$error":"#N/A"}},{"$f":"IF(N49<2, #N/A, STDEVP('A) Eingabe (Lehrer)'!D59:BK59))","v":{"$error":"#N/A"}},{"$error":"#N/A"},{"$f":"COUNT('A) Eingabe (Lehrer)'!D59:BK59)","v":0},{"$f":"IF(N49<2,#N/A,COUNTIF('A) Eingabe (Lehrer)'!D59:BK59,1))","v":{"$error":"#N/A"}},{"$f":"IF(N49<2,#N/A,COUNTIF('A) Eingabe (Lehrer)'!D59:BK59,2))","v":{"$error":"#N/A"}},{"$f":"IF(N49<2,#N/A,COUNTIF('A) Eingabe (Lehrer)'!D59:BK59,3))","v":{"$error":"#N/A"}},{"$f":"IF(N49<2,#N/A,COUNTIF('A) Eingabe (Lehrer)'!D59:BK59,4))","v":{"$error":"#N/A"}},{"$f":"IF('A) Eingabe (Lehrer)'!C59=\"\", #N/A, 'A) Eingabe (Lehrer)'!C59)","v":{"$error":"#N/A"}}]
[17,{"$f":"IF(E50=0, #N/A,AVERAGE('A) Eingabe (Schüler)'!C59:AK59))","v":{"$error":"#N/A"}},{"$f":"IF(E50<2, #N/A, STDEVP('A) Eingabe (Schüler)'!C59:AK59))","v":{"$error":"#N/A"}},{"$error":"#N/A"},{"$f":"COUNT('A) Eingabe (Schüler)'!C59:AK59)","v":0},{"$f":"IF(E50<2,#N/A,COUNTIF('A) Eingabe (Schüler)'!C59:AK59,1))","v":{"$error":"#N/A"}},{"$f":"IF(E50<2,#N/A,COUNTIF('A) Eingabe (Schüler)'!C59:AK59,2))","v":{"$error":"#N/A"}},{"$f":"IF(E50<2,#N/A,COUNTIF('A) Eingabe (Schüler)'!C59:AK59,3))","v":{"$error":"#N/A"}},{"$f":"IF(E50<2,#N/A,COUNTIF('A) Eingabe (Schüler)'!C59:AK59,4))","v":{"$error":"#N/A"}},{"$f":"IF('A) Eingabe (Lehrer)'!C60=\"\", #N/A, 'A) Eingabe (Lehrer)'!C60)","v":{"$error":"#N/A"}},{"$f":"IF(N50=0, #N/A,AVERAGE('A) Eingabe (Lehrer)'!D60:BK60))","v":{"$error":"#N/A"}},{"$f":"IF(N50<2, #N/A, STDEVP('A) Eingabe (Lehrer)'!D60:BK60))","v":{"$error":"#N/A"}},{"$error":"#N/A"},{"$f":"COUNT('A) Eingabe (Lehrer)'!D60:BK60)","v":0},{"$f":"IF(N50<2,#N/A,COUNTIF('A) Eingabe (Lehrer)'!D60:BK60,1))","v":{"$error":"#N/A"}},{"$f":"IF(N50<2,#N/A,COUNTIF('A) Eingabe (Lehrer)'!D60:BK60,2))","v":{"$error":"#N/A"}},{"$f":"IF(N50<2,#N/A,COUNTIF('A) Eingabe (Lehrer)'!D60:BK60,3))","v":{"$error":"#N/A"}},{"$f":"IF(N50<2,#N/A,COUNTIF('A) Eingabe (Lehrer)'!D60:BK60,4))","v":{"$error":"#N/A"}},{"$f":"IF('A) Eingabe (Lehrer)'!C60=\"\", #N/A, 'A) Eingabe (Lehrer)'!C60)","v":{"$error":"#N/A"}}]
[18,{"$f":"IF(E51=0, #N/A,AVERAGE('A) Eingabe (Schüler)'!C60:AK60))","v":{"$error":"#N/A"}},{"$f":"IF(E51<2, #N/A, STDEVP('A) Eingabe (Schüler)'!C60:AK60))","v":{"$error":"#N/A"}},{"$error":"#N/A"},{"$f":"COUNT('A) Eingabe (Schüler)'!C60:AK60)","v":0},{"$f":"IF(E51<2,#N/A,COUNTIF('A) Eingabe (Schüler)'!C60:AK60,1))","v":{"$error":"#N/A"}},{"$f":"IF(E51<2,#N/A,COUNTIF('A) Eingabe (Schüler)'!C60:AK60,2))","v":{"$error":"#N/A"}},{"$f":"IF(E51<2,#N/A,COUNTIF('A) Eingabe (Schüler)'!C60:AK60,3))","v":{"$error":"#N/A"}},{"$f":"IF(E51<2,#N/A,COUNTIF('A) Eingabe (Schüler)'!C60:AK60,4))","v":{"$error":"#N/A"}},{"$f":"IF('A) Eingabe (Lehrer)'!C61=\"\", #N/A, 'A) Eingabe (Lehrer)'!C61)","v":{"$error":"#N/A"}},{"$f":"IF(N51=0, #N/A,AVERAGE('A) Eingabe (Lehrer)'!D61:BK61))","v":{"$error":"#N/A"}},{"$f":"IF(N51<2, #N/A, STDEVP('A) Eingabe (Lehrer)'!D61:BK61))","v":{"$error":"#N/A"}},{"$error":"#N/A"},{"$f":"COUNT('A) Eingabe (Lehrer)'!D61:BK61)","v":0},{"$f":"IF(N51<2,#N/A,COUNTIF('A) Eingabe (Lehrer)'!D61:BK61,1))","v":{"$error":"#N/A"}},{"$f":"IF(N51<2,#N/A,COUNTIF('A) Eingabe (Lehrer)'!D61:BK61,2))","v":{"$error":"#N/A"}},{"$f":"IF(N51<2,#N/A,COUNTIF('A) Eingabe (Lehrer)'!D61:BK61,3))","v":{"$error":"#N/A"}},{"$f":"IF(N51<2,#N/A,COUNTIF('A) Eingabe (Lehrer)'!D61:BK61,4))","v":{"$error":"#N/A"}},{"$f":"IF('A) Eingabe (Lehrer)'!C61=\"\", #N/A, 'A) Eingabe (Lehrer)'!C61)","v":{"$error":"#N/A"}}]
[19,{"$f":"IF(E52=0, #N/A,AVERAGE('A) Eingabe (Schüler)'!C61:AK61))","v":{"$error":"#N/A"}},{"$f":"IF(E52<2, #N/A, STDEVP('A) Eingabe (Schüler)'!C61:AK61))","v":{"$error":"#N/A"}},{"$error":"#N/A"},{"$f":"COUNT('A) Eingabe (Schüler)'!C61:AK61)","v":0},{"$f":"IF(E52<2,#N/A,COUNTIF('A) Eingabe (Schüler)'!C61:AK61,1))","v":{"$error":"#N/A"}},{"$f":"IF(E52<2,#N/A,COUNTIF('A) Eingabe (Schüler)'!C61:AK61,2))","v":{"$error":"#N/A"}},{"$f":"IF(E52<2,#N/A,COUNTIF('A) Eingabe (Schüler)'!C61:AK61,3))","v":{"$error":"#N/A"}},{"$f":"IF(E52<2,#N/A,COUNTIF('A) Eingabe (Schüler)'!C61:AK61,4))","v":{"$error":"#N/A"}},{"$f":"IF('A) Eingabe (Lehrer)'!C62=\"\", #N/A, 'A) Eingabe (Lehrer)'!C62)","v":{"$error":"#N/A"}},{"$f":"IF(N52=0, #N/A,AVERAGE('A) Eingabe (Lehrer)'!D62:BK62))","v":{"$error":"#N/A"}},{"$f":"IF(N52<2, #N/A, STDEVP('A) Eingabe (Lehrer)'!D62:BK62))","v":{"$error":"#N/A"}},{"$error":"#N/A"},{"$f":"COUNT('A) Eingabe (Lehrer)'!D62:BK62)","v":0},{"$f":"IF(N52<2,#N/A,COUNTIF('A) Eingabe (Lehrer)'!D62:BK62,1))","v":{"$error":"#N/A"}},{"$f":"IF(N52<2,#N/A,COUNTIF('A) Eingabe (Lehrer)'!D62:BK62,2))","v":{"$error":"#N/A"}},{"$f":"IF(N52<2,#N/A,COUNTIF('A) Eingabe (Lehrer)'!D62:BK62,3))","v":{"$error":"#N/A"}},{"$f":"IF(N52<2,#N/A,COUNTIF('A) Eingabe (Lehrer)'!D62:BK62,4))","v":{"$error":"#N/A"}},{"$f":"IF('A) Eingabe (Lehrer)'!C62=\"\", #N/A, 'A) Eingabe (Lehrer)'!C62)","v":{"$error":"#N/A"}}]
[20,{"$f":"IF(E53=0, #N/A,AVERAGE('A) Eingabe (Schüler)'!C62:AK62))","v":{"$error":"#N/A"}},{"$f":"IF(E53<2, #N/A, STDEVP('A) Eingabe (Schüler)'!C62:AK62))","v":{"$error":"#N/A"}},{"$error":"#N/A"},{"$f":"COUNT('A) Eingabe (Schüler)'!C62:AK62)","v":0},{"$f":"IF(E53<2,#N/A,COUNTIF('A) Eingabe (Schüler)'!C62:AK62,1))","v":{"$error":"#N/A"}},{"$f":"IF(E53<2,#N/A,COUNTIF('A) Eingabe (Schüler)'!C62:AK62,2))","v":{"$error":"#N/A"}},{"$f":"IF(E53<2,#N/A,COUNTIF('A) Eingabe (Schüler)'!C62:AK62,3))","v":{"$error":"#N/A"}},{"$f":"IF(E53<2,#N/A,COUNTIF('A) Eingabe (Schüler)'!C62:AK62,4))","v":{"$error":"#N/A"}},{"$f":"IF('A) Eingabe (Lehrer)'!C63=\"\", #N/A, 'A) Eingabe (Lehrer)'!C63)","v":{"$error":"#N/A"}},{"$f":"IF(N53=0, #N/A,AVERAGE('A) Eingabe (Lehrer)'!D63:BK63))","v":{"$error":"#N/A"}},{"$f":"IF(N53<2, #N/A, STDEVP('A) Eingabe (Lehrer)'!D63:BK63))","v":{"$error":"#N/A"}},{"$error":"#N/A"},{"$f":"COUNT('A) Eingabe (Lehrer)'!D63:BK63)","v":0},{"$f":"IF(N53<2,#N/A,COUNTIF('A) Eingabe (Lehrer)'!D63:BK63,1))","v":{"$error":"#N/A"}},{"$f":"IF(N53<2,#N/A,COUNTIF('A) Eingabe (Lehrer)'!D63:BK63,2))","v":{"$error":"#N/A"}},{"$f":"IF(N53<2,#N/A,COUNTIF('A) Eingabe (Lehrer)'!D63:BK63,3))","v":{"$error":"#N/A"}},{"$f":"IF(N53<2,#N/A,COUNTIF('A) Eingabe (Lehrer)'!D63:BK63,4))","v":{"$error":"#N/A"}},{"$f":"IF('A) Eingabe (Lehrer)'!C63=\"\", #N/A, 'A) Eingabe (Lehrer)'!C63)","v":{"$error":"#N/A"}}]
[21,{"$f":"IF(E54=0, #N/A,AVERAGE('A) Eingabe (Schüler)'!C63:AK63))","v":{"$error":"#N/A"}},{"$f":"IF(E54<2, #N/A, STDEVP('A) Eingabe (Schüler)'!C63:AK63))","v":{"$error":"#N/A"}},{"$f":"IF(E54<2, #N/A, 100*(H54+I54)/E54)","v":{"$error":"#N/A"}},{"$f":"COUNT('A) Eingabe (Schüler)'!C63:AK63)","v":0},{"$f":"IF(E54<2,#N/A,COUNTIF('A) Eingabe (Schüler)'!C63:AK63,1))","v":{"$error":"#N/A"}},{"$f":"IF(E54<2,#N/A,COUNTIF('A) Eingabe (Schüler)'!C63:AK63,2))","v":{"$error":"#N/A"}},{"$f":"IF(E54<2,#N/A,COUNTIF('A) Eingabe (Schüler)'!C63:AK63,3))","v":{"$error":"#N/A"}},{"$f":"IF(E54<2,#N/A,COUNTIF('A) Eingabe (Schüler)'!C63:AK63,4))","v":{"$error":"#N/A"}},{"$f":"IF('A) Eingabe (Lehrer)'!C64=\"\", #N/A, 'A) Eingabe (Lehrer)'!C64)","v":{"$error":"#N/A"}},{"$f":"IF(N54=0, #N/A,AVERAGE('A) Eingabe (Lehrer)'!D64:BK64))","v":{"$error":"#N/A"}},{"$f":"IF(N54<2, #N/A, STDEVP('A) Eingabe (Lehrer)'!D64:BK64))","v":{"$error":"#N/A"}},{"$f":"IF(N54<2, #N/A, 100*(Q54+R54)/N54)","v":{"$error":"#N/A"}},{"$f":"COUNT('A) Eingabe (Lehrer)'!D64:BK64)","v":0},{"$f":"IF(N54<2,#N/A,COUNTIF('A) Eingabe (Lehrer)'!D64:BK64,1))","v":{"$error":"#N/A"}},{"$f":"IF(N54<2,#N/A,COUNTIF('A) Eingabe (Lehrer)'!D64:BK64,2))","v":{"$error":"#N/A"}},{"$f":"IF(N54<2,#N/A,COUNTIF('A) Eingabe (Lehrer)'!D64:BK64,3))","v":{"$error":"#N/A"}},{"$f":"IF(N54<2,#N/A,COUNTIF('A) Eingabe (Lehrer)'!D64:BK64,4))","v":{"$error":"#N/A"}},{"$f":"IF('A) Eingabe (Lehrer)'!C64=\"\", #N/A, 'A) Eingabe (Lehrer)'!C64)","v":{"$error":"#N/A"}}]
[22,{"$f":"IF(E55=0, #N/A,AVERAGE('A) Eingabe (Schüler)'!C64:AK64))","v":{"$error":"#N/A"}},{"$f":"IF(E55<2, #N/A, STDEVP('A) Eingabe (Schüler)'!C64:AK64))","v":{"$error":"#N/A"}},{"$error":"#N/A"},{"$f":"COUNT('A) Eingabe (Schüler)'!C64:AK64)","v":0},{"$f":"IF(E55<2,#N/A,COUNTIF('A) Eingabe (Schüler)'!C64:AK64,1))","v":{"$error":"#N/A"}},{"$f":"IF(E55<2,#N/A,COUNTIF('A) Eingabe (Schüler)'!C64:AK64,2))","v":{"$error":"#N/A"}},{"$f":"IF(E55<2,#N/A,COUNTIF('A) Eingabe (Schüler)'!C64:AK64,3))","v":{"$error":"#N/A"}},{"$f":"IF(E55<2,#N/A,COUNTIF('A) Eingabe (Schüler)'!C64:AK64,4))","v":{"$error":"#N/A"}},{"$f":"IF('A) Eingabe (Lehrer)'!C65=\"\", #N/A, 'A) Eingabe (Lehrer)'!C65)","v":{"$error":"#N/A"}},{"$f":"IF(N55=0, #N/A,AVERAGE('A) Eingabe (Lehrer)'!D65:BK65))","v":{"$error":"#N/A"}},{"$f":"IF(N55<2, #N/A, STDEVP('A) Eingabe (Lehrer)'!D65:BK65))","v":{"$error":"#N/A"}},{"$error":"#N/A"},{"$f":"COUNT('A) Eingabe (Lehrer)'!D65:BK65)","v":0},{"$f":"IF(N55<2,#N/A,COUNTIF('A) Eingabe (Lehrer)'!D65:BK65,1))","v":{"$error":"#N/A"}},{"$f":"IF(N55<2,#N/A,COUNTIF('A) Eingabe (Lehrer)'!D65:BK65,2))","v":{"$error":"#N/A"}},{"$f":"IF(N55<2,#N/A,COUNTIF('A) Eingabe (Lehrer)'!D65:BK65,3))","v":{"$error":"#N/A"}},{"$f":"IF(N55<2,#N/A,COUNTIF('A) Eingabe (Lehrer)'!D65:BK65,4))","v":{"$error":"#N/A"}},{"$f":"IF('A) Eingabe (Lehrer)'!C65=\"\", #N/A, 'A) Eingabe (Lehrer)'!C65)","v":{"$error":"#N/A"}}]
[23,{"$f":"IF(E56=0, #N/A,AVERAGE('A) Eingabe (Schüler)'!C65:AK65))","v":{"$error":"#N/A"}},{"$f":"IF(E56<2, #N/A, STDEVP('A) Eingabe (Schüler)'!C65:AK65))","v":{"$error":"#N/A"}},{"$error":"#N/A"},{"$f":"COUNT('A) Eingabe (Schüler)'!C65:AK65)","v":0},{"$f":"IF(E56<2,#N/A,COUNTIF('A) Eingabe (Schüler)'!C65:AK65,1))","v":{"$error":"#N/A"}},{"$f":"IF(E56<2,#N/A,COUNTIF('A) Eingabe (Schüler)'!C65:AK65,2))","v":{"$error":"#N/A"}},{"$f":"IF(E56<2,#N/A,COUNTIF('A) Eingabe (Schüler)'!C65:AK65,3))","v":{"$error":"#N/A"}},{"$f":"IF(E56<2,#N/A,COUNTIF('A) Eingabe (Schüler)'!C65:AK65,4))","v":{"$error":"#N/A"}},{"$f":"IF('A) Eingabe (Lehrer)'!C66=\"\", #N/A, 'A) Eingabe (Lehrer)'!C66)","v":{"$error":"#N/A"}},{"$f":"IF(N56=0, #N/A,AVERAGE('A) Eingabe (Lehrer)'!D66:BK66))","v":{"$error":"#N/A"}},{"$f":"IF(N56<2, #N/A, STDEVP('A) Eingabe (Lehrer)'!D66:BK66))","v":{"$error":"#N/A"}},{"$error":"#N/A"},{"$f":"COUNT('A) Eingabe (Lehrer)'!D66:BK66)","v":0},{"$f":"IF(N56<2,#N/A,COUNTIF('A) Eingabe (Lehrer)'!D66:BK66,1))","v":{"$error":"#N/A"}},{"$f":"IF(N56<2,#N/A,COUNTIF('A) Eingabe (Lehrer)'!D66:BK66,2))","v":{"$error":"#N/A"}},{"$f":"IF(N56<2,#N/A,COUNTIF('A) Eingabe (Lehrer)'!D66:BK66,3))","v":{"$error":"#N/A"}},{"$f":"IF(N56<2,#N/A,COUNTIF('A) Eingabe (Lehrer)'!D66:BK66,4))","v":{"$error":"#N/A"}},{"$f":"IF('A) Eingabe (Lehrer)'!C66=\"\", #N/A, 'A) Eingabe (Lehrer)'!C66)","v":{"$error":"#N/A"}}]
[24,{"$f":"IF(E57=0, #N/A,AVERAGE('A) Eingabe (Schüler)'!C66:AK66))","v":{"$error":"#N/A"}},{"$f":"IF(E57<2, #N/A, STDEVP('A) Eingabe (Schüler)'!C66:AK66))","v":{"$error":"#N/A"}},{"$error":"#N/A"},{"$f":"COUNT('A) Eingabe (Schüler)'!C66:AK66)","v":0},{"$f":"IF(E57<2,#N/A,COUNTIF('A) Eingabe (Schüler)'!C66:AK66,1))","v":{"$error":"#N/A"}},{"$f":"IF(E57<2,#N/A,COUNTIF('A) Eingabe (Schüler)'!C66:AK66,2))","v":{"$error":"#N/A"}},{"$f":"IF(E57<2,#N/A,COUNTIF('A) Eingabe (Schüler)'!C66:AK66,3))","v":{"$error":"#N/A"}},{"$f":"IF(E57<2,#N/A,COUNTIF('A) Eingabe (Schüler)'!C66:AK66,4))","v":{"$error":"#N/A"}},{"$f":"IF('A) Eingabe (Lehrer)'!C67=\"\", #N/A, 'A) Eingabe (Lehrer)'!C67)","v":{"$error":"#N/A"}},{"$f":"IF(N57=0, #N/A,AVERAGE('A) Eingabe (Lehrer)'!D67:BK67))","v":{"$error":"#N/A"}},{"$f":"IF(N57<2, #N/A, STDEVP('A) Eingabe (Lehrer)'!D67:BK67))","v":{"$error":"#N/A"}},{"$error":"#N/A"},{"$f":"COUNT('A) Eingabe (Lehrer)'!D67:BK67)","v":0},{"$f":"IF(N57<2,#N/A,COUNTIF('A) Eingabe (Lehrer)'!D67:BK67,1))","v":{"$error":"#N/A"}},{"$f":"IF(N57<2,#N/A,COUNTIF('A) Eingabe (Lehrer)'!D67:BK67,2))","v":{"$error":"#N/A"}},{"$f":"IF(N57<2,#N/A,COUNTIF('A) Eingabe (Lehrer)'!D67:BK67,3))","v":{"$error":"#N/A"}},{"$f":"IF(N57<2,#N/A,COUNTIF('A) Eingabe (Lehrer)'!D67:BK67,4))","v":{"$error":"#N/A"}},{"$f":"IF('A) Eingabe (Lehrer)'!C67=\"\", #N/A, 'A) Eingabe (Lehrer)'!C67)","v":{"$error":"#N/A"}}]
[25,{"$f":"IF(E58=0, #N/A,AVERAGE('A) Eingabe (Schüler)'!C67:AK67))","v":{"$error":"#N/A"}},{"$f":"IF(E58<2, #N/A, STDEVP('A) Eingabe (Schüler)'!C67:AK67))","v":{"$error":"#N/A"}},{"$error":"#N/A"},{"$f":"COUNT('A) Eingabe (Schüler)'!C67:AK67)","v":0},{"$f":"IF(E58<2,#N/A,COUNTIF('A) Eingabe (Schüler)'!C67:AK67,1))","v":{"$error":"#N/A"}},{"$f":"IF(E58<2,#N/A,COUNTIF('A) Eingabe (Schüler)'!C67:AK67,2))","v":{"$error":"#N/A"}},{"$f":"IF(E58<2,#N/A,COUNTIF('A) Eingabe (Schüler)'!C67:AK67,3))","v":{"$error":"#N/A"}},{"$f":"IF(E58<2,#N/A,COUNTIF('A) Eingabe (Schüler)'!C67:AK67,4))","v":{"$error":"#N/A"}},{"$f":"IF('A) Eingabe (Lehrer)'!C68=\"\", #N/A, 'A) Eingabe (Lehrer)'!C68)","v":{"$error":"#N/A"}},{"$f":"IF(N58=0, #N/A,AVERAGE('A) Eingabe (Lehrer)'!D68:BK68))","v":{"$error":"#N/A"}},{"$f":"IF(N58<2, #N/A, STDEVP('A) Eingabe (Lehrer)'!D68:BK68))","v":{"$error":"#N/A"}},{"$error":"#N/A"},{"$f":"COUNT('A) Eingabe (Lehrer)'!D68:BK68)","v":0},{"$f":"IF(N58<2,#N/A,COUNTIF('A) Eingabe (Lehrer)'!D68:BK68,1))","v":{"$error":"#N/A"}},{"$f":"IF(N58<2,#N/A,COUNTIF('A) Eingabe (Lehrer)'!D68:BK68,2))","v":{"$error":"#N/A"}},{"$f":"IF(N58<2,#N/A,COUNTIF('A) Eingabe (Lehrer)'!D68:BK68,3))","v":{"$error":"#N/A"}},{"$f":"IF(N58<2,#N/A,COUNTIF('A) Eingabe (Lehrer)'!D68:BK68,4))","v":{"$error":"#N/A"}},{"$f":"IF('A) Eingabe (Lehrer)'!C68=\"\", #N/A, 'A) Eingabe (Lehrer)'!C68)","v":{"$error":"#N/A"}}]
[26,{"$f":"IF(E59=0, #N/A,AVERAGE('A) Eingabe (Schüler)'!C68:AK68))","v":{"$error":"#N/A"}},{"$f":"IF(E59<2, #N/A, STDEVP('A) Eingabe (Schüler)'!C68:AK68))","v":{"$error":"#N/A"}},{"$error":"#N/A"},{"$f":"COUNT('A) Eingabe (Schüler)'!C68:AK68)","v":0},{"$f":"IF(E59<2,#N/A,COUNTIF('A) Eingabe (Schüler)'!C68:AK68,1))","v":{"$error":"#N/A"}},{"$f":"IF(E59<2,#N/A,COUNTIF('A) Eingabe (Schüler)'!C68:AK68,2))","v":{"$error":"#N/A"}},{"$f":"IF(E59<2,#N/A,COUNTIF('A) Eingabe (Schüler)'!C68:AK68,3))","v":{"$error":"#N/A"}},{"$f":"IF(E59<2,#N/A,COUNTIF('A) Eingabe (Schüler)'!C68:AK68,4))","v":{"$error":"#N/A"}},{"$f":"IF('A) Eingabe (Lehrer)'!C69=\"\", #N/A, 'A) Eingabe (Lehrer)'!C69)","v":{"$error":"#N/A"}},{"$f":"IF(N59=0, #N/A,AVERAGE('A) Eingabe (Lehrer)'!D69:BK69))","v":{"$error":"#N/A"}},{"$f":"IF(N59<2, #N/A, STDEVP('A) Eingabe (Lehrer)'!D69:BK69))","v":{"$error":"#N/A"}},{"$error":"#N/A"},{"$f":"COUNT('A) Eingabe (Lehrer)'!D69:BK69)","v":0},{"$f":"IF(N59<2,#N/A,COUNTIF('A) Eingabe (Lehrer)'!D69:BK69,1))","v":{"$error":"#N/A"}},{"$f":"IF(N59<2,#N/A,COUNTIF('A) Eingabe (Lehrer)'!D69:BK69,2))","v":{"$error":"#N/A"}},{"$f":"IF(N59<2,#N/A,COUNTIF('A) Eingabe (Lehrer)'!D69:BK69,3))","v":{"$error":"#N/A"}},{"$f":"IF(N59<2,#N/A,COUNTIF('A) Eingabe (Lehrer)'!D69:BK69,4))","v":{"$error":"#N/A"}},{"$f":"IF('A) Eingabe (Lehrer)'!C69=\"\", #N/A, 'A) Eingabe (Lehrer)'!C69)","v":{"$error":"#N/A"}}]
[27,{"$f":"IF(E60=0, #N/A,AVERAGE('A) Eingabe (Schüler)'!C69:AK69))","v":{"$error":"#N/A"}},{"$f":"IF(E60<2, #N/A, STDEVP('A) Eingabe (Schüler)'!C69:AK69))","v":{"$error":"#N/A"}},{"$error":"#N/A"},{"$f":"COUNT('A) Eingabe (Schüler)'!C69:AK69)","v":0},{"$f":"IF(E60<2,#N/A,COUNTIF('A) Eingabe (Schüler)'!C69:AK69,1))","v":{"$error":"#N/A"}},{"$f":"IF(E60<2,#N/A,COUNTIF('A) Eingabe (Schüler)'!C69:AK69,2))","v":{"$error":"#N/A"}},{"$f":"IF(E60<2,#N/A,COUNTIF('A) Eingabe (Schüler)'!C69:AK69,3))","v":{"$error":"#N/A"}},{"$f":"IF(E60<2,#N/A,COUNTIF('A) Eingabe (Schüler)'!C69:AK69,4))","v":{"$error":"#N/A"}},{"$f":"IF('A) Eingabe (Lehrer)'!C70=\"\", #N/A, 'A) Eingabe (Lehrer)'!C70)","v":{"$error":"#N/A"}},{"$f":"IF(N60=0, #N/A,AVERAGE('A) Eingabe (Lehrer)'!D70:BK70))","v":{"$error":"#N/A"}},{"$f":"IF(N60<2, #N/A, STDEVP('A) Eingabe (Lehrer)'!D70:BK70))","v":{"$error":"#N/A"}},{"$error":"#N/A"},{"$f":"COUNT('A) Eingabe (Lehrer)'!D70:BK70)","v":0},{"$f":"IF(N60<2,#N/A,COUNTIF('A) Eingabe (Lehrer)'!D70:BK70,1))","v":{"$error":"#N/A"}},{"$f":"IF(N60<2,#N/A,COUNTIF('A) Eingabe (Lehrer)'!D70:BK70,2))","v":{"$error":"#N/A"}},{"$f":"IF(N60<2,#N/A,COUNTIF('A) Eingabe (Lehrer)'!D70:BK70,3))","v":{"$error":"#N/A"}},{"$f":"IF(N60<2,#N/A,COUNTIF('A) Eingabe (Lehrer)'!D70:BK70,4))","v":{"$error":"#N/A"}},{"$f":"IF('A) Eingabe (Lehrer)'!C70=\"\", #N/A, 'A) Eingabe (Lehrer)'!C70)","v":{"$error":"#N/A"}}]
[28,{"$f":"IF(E61=0, #N/A,AVERAGE('A) Eingabe (Schüler)'!C70:AK70))","v":{"$error":"#N/A"}},{"$f":"IF(E61<2, #N/A, STDEVP('A) Eingabe (Schüler)'!C70:AK70))","v":{"$error":"#N/A"}},{"$error":"#N/A"},{"$f":"COUNT('A) Eingabe (Schüler)'!C70:AK70)","v":0},{"$f":"IF(E61<2,#N/A,COUNTIF('A) Eingabe (Schüler)'!C70:AK70,1))","v":{"$error":"#N/A"}},{"$f":"IF(E61<2,#N/A,COUNTIF('A) Eingabe (Schüler)'!C70:AK70,2))","v":{"$error":"#N/A"}},{"$f":"IF(E61<2,#N/A,COUNTIF('A) Eingabe (Schüler)'!C70:AK70,3))","v":{"$error":"#N/A"}},{"$f":"IF(E61<2,#N/A,COUNTIF('A) Eingabe (Schüler)'!C70:AK70,4))","v":{"$error":"#N/A"}},{"$f":"IF('A) Eingabe (Lehrer)'!C71=\"\", #N/A, 'A) Eingabe (Lehrer)'!C71)","v":{"$error":"#N/A"}},{"$f":"IF(N61=0, #N/A,AVERAGE('A) Eingabe (Lehrer)'!D71:BK71))","v":{"$error":"#N/A"}},{"$f":"IF(N61<2, #N/A, STDEVP('A) Eingabe (Lehrer)'!D71:BK71))","v":{"$error":"#N/A"}},{"$error":"#N/A"},{"$f":"COUNT('A) Eingabe (Lehrer)'!D71:BK71)","v":0},{"$f":"IF(N61<2,#N/A,COUNTIF('A) Eingabe (Lehrer)'!D71:BK71,1))","v":{"$error":"#N/A"}},{"$f":"IF(N61<2,#N/A,COUNTIF('A) Eingabe (Lehrer)'!D71:BK71,2))","v":{"$error":"#N/A"}},{"$f":"IF(N61<2,#N/A,COUNTIF('A) Eingabe (Lehrer)'!D71:BK71,3))","v":{"$error":"#N/A"}},{"$f":"IF(N61<2,#N/A,COUNTIF('A) Eingabe (Lehrer)'!D71:BK71,4))","v":{"$error":"#N/A"}},{"$f":"IF('A) Eingabe (Lehrer)'!C71=\"\", #N/A, 'A) Eingabe (Lehrer)'!C71)","v":{"$error":"#N/A"}}]
[29,{"$f":"IF(E62=0, #N/A,AVERAGE('A) Eingabe (Schüler)'!C71:AK71))","v":{"$error":"#N/A"}},{"$f":"IF(E62<2, #N/A, STDEVP('A) Eingabe (Schüler)'!C71:AK71))","v":{"$error":"#N/A"}},{"$error":"#N/A"},{"$f":"COUNT('A) Eingabe (Schüler)'!C71:AK71)","v":0},{"$f":"IF(E62<2,#N/A,COUNTIF('A) Eingabe (Schüler)'!C71:AK71,1))","v":{"$error":"#N/A"}},{"$f":"IF(E62<2,#N/A,COUNTIF('A) Eingabe (Schüler)'!C71:AK71,2))","v":{"$error":"#N/A"}},{"$f":"IF(E62<2,#N/A,COUNTIF('A) Eingabe (Schüler)'!C71:AK71,3))","v":{"$error":"#N/A"}},{"$f":"IF(E62<2,#N/A,COUNTIF('A) Eingabe (Schüler)'!C71:AK71,4))","v":{"$error":"#N/A"}},{"$f":"IF('A) Eingabe (Lehrer)'!C72=\"\", #N/A, 'A) Eingabe (Lehrer)'!C72)","v":{"$error":"#N/A"}},{"$f":"IF(N62=0, #N/A,AVERAGE('A) Eingabe (Lehrer)'!D72:BK72))","v":{"$error":"#N/A"}},{"$f":"IF(N62<2, #N/A, STDEVP('A) Eingabe (Lehrer)'!D72:BK72))","v":{"$error":"#N/A"}},{"$error":"#N/A"},{"$f":"COUNT('A) Eingabe (Lehrer)'!D72:BK72)","v":0},{"$f":"IF(N62<2,#N/A,COUNTIF('A) Eingabe (Lehrer)'!D72:BK72,1))","v":{"$error":"#N/A"}},{"$f":"IF(N62<2,#N/A,COUNTIF('A) Eingabe (Lehrer)'!D72:BK72,2))","v":{"$error":"#N/A"}},{"$f":"IF(N62<2,#N/A,COUNTIF('A) Eingabe (Lehrer)'!D72:BK72,3))","v":{"$error":"#N/A"}},{"$f":"IF(N62<2,#N/A,COUNTIF('A) Eingabe (Lehrer)'!D72:BK72,4))","v":{"$error":"#N/A"}},{"$f":"IF('A) Eingabe (Lehrer)'!C72=\"\", #N/A, 'A) Eingabe (Lehrer)'!C72)","v":{"$error":"#N/A"}}]
[30,{"$f":"IF(E63=0, #N/A,AVERAGE('A) Eingabe (Schüler)'!C72:AK72))","v":{"$error":"#N/A"}},{"$f":"IF(E63<2, #N/A, STDEVP('A) Eingabe (Schüler)'!C72:AK72))","v":{"$error":"#N/A"}},{"$error":"#N/A"},{"$f":"COUNT('A) Eingabe (Schüler)'!C72:AK72)","v":0},{"$f":"IF(E63<2,#N/A,COUNTIF('A) Eingabe (Schüler)'!C72:AK72,1))","v":{"$error":"#N/A"}},{"$f":"IF(E63<2,#N/A,COUNTIF('A) Eingabe (Schüler)'!C72:AK72,2))","v":{"$error":"#N/A"}},{"$f":"IF(E63<2,#N/A,COUNTIF('A) Eingabe (Schüler)'!C72:AK72,3))","v":{"$error":"#N/A"}},{"$f":"IF(E63<2,#N/A,COUNTIF('A) Eingabe (Schüler)'!C72:AK72,4))","v":{"$error":"#N/A"}},{"$f":"IF('A) Eingabe (Lehrer)'!C73=\"\", #N/A, 'A) Eingabe (Lehrer)'!C73)","v":{"$error":"#N/A"}},{"$f":"IF(N63=0, #N/A,AVERAGE('A) Eingabe (Lehrer)'!D73:BK73))","v":{"$error":"#N/A"}},{"$f":"IF(N63<2, #N/A, STDEVP('A) Eingabe (Lehrer)'!D73:BK73))","v":{"$error":"#N/A"}},{"$error":"#N/A"},{"$f":"COUNT('A) Eingabe (Lehrer)'!D73:BK73)","v":0},{"$f":"IF(N63<2,#N/A,COUNTIF('A) Eingabe (Lehrer)'!D73:BK73,1))","v":{"$error":"#N/A"}},{"$f":"IF(N63<2,#N/A,COUNTIF('A) Eingabe (Lehrer)'!D73:BK73,2))","v":{"$error":"#N/A"}},{"$f":"IF(N63<2,#N/A,COUNTIF('A) Eingabe (Lehrer)'!D73:BK73,3))","v":{"$error":"#N/A"}},{"$f":"IF(N63<2,#N/A,COUNTIF('A) Eingabe (Lehrer)'!D73:BK73,4))","v":{"$error":"#N/A"}},{"$f":"IF('A) Eingabe (Lehrer)'!C73=\"\", #N/A, 'A) Eingabe (Lehrer)'!C73)","v":{"$error":"#N/A"}}]
[31,{"$f":"IF(E64=0, #N/A,AVERAGE('A) Eingabe (Schüler)'!C73:AK73))","v":{"$error":"#N/A"}},{"$f":"IF(E64<2, #N/A, STDEVP('A) Eingabe (Schüler)'!C73:AK73))","v":{"$error":"#N/A"}},{"$error":"#N/A"},{"$f":"COUNT('A) Eingabe (Schüler)'!C73:AK73)","v":0},{"$f":"IF(E64<2,#N/A,COUNTIF('A) Eingabe (Schüler)'!C73:AK73,1))","v":{"$error":"#N/A"}},{"$f":"IF(E64<2,#N/A,COUNTIF('A) Eingabe (Schüler)'!C73:AK73,2))","v":{"$error":"#N/A"}},{"$f":"IF(E64<2,#N/A,COUNTIF('A) Eingabe (Schüler)'!C73:AK73,3))","v":{"$error":"#N/A"}},{"$f":"IF(E64<2,#N/A,COUNTIF('A) Eingabe (Schüler)'!C73:AK73,4))","v":{"$error":"#N/A"}},{"$f":"IF('A) Eingabe (Lehrer)'!C74=\"\", #N/A, 'A) Eingabe (Lehrer)'!C74)","v":{"$error":"#N/A"}},{"$f":"IF(N64=0, #N/A,AVERAGE('A) Eingabe (Lehrer)'!D74:BK74))","v":{"$error":"#N/A"}},{"$f":"IF(N64<2, #N/A, STDEVP('A) Eingabe (Lehrer)'!D74:BK74))","v":{"$error":"#N/A"}},{"$error":"#N/A"},{"$f":"COUNT('A) Eingabe (Lehrer)'!D74:BK74)","v":0},{"$f":"IF(N64<2,#N/A,COUNTIF('A) Eingabe (Lehrer)'!D74:BK74,1))","v":{"$error":"#N/A"}},{"$f":"IF(N64<2,#N/A,COUNTIF('A) Eingabe (Lehrer)'!D74:BK74,2))","v":{"$error":"#N/A"}},{"$f":"IF(N64<2,#N/A,COUNTIF('A) Eingabe (Lehrer)'!D74:BK74,3))","v":{"$error":"#N/A"}},{"$f":"IF(N64<2,#N/A,COUNTIF('A) Eingabe (Lehrer)'!D74:BK74,4))","v":{"$error":"#N/A"}},{"$f":"IF('A) Eingabe (Lehrer)'!C74=\"\", #N/A, 'A) Eingabe (Lehrer)'!C74)","v":{"$error":"#N/A"}}]
[32,{"$f":"IF(E65=0, #N/A,AVERAGE('A) Eingabe (Schüler)'!C74:AK74))","v":{"$error":"#N/A"}},{"$f":"IF(E65<2, #N/A, STDEVP('A) Eingabe (Schüler)'!C74:AK74))","v":{"$error":"#N/A"}},{"$error":"#N/A"},{"$f":"COUNT('A) Eingabe (Schüler)'!C74:AK74)","v":0},{"$f":"IF(E65<2,#N/A,COUNTIF('A) Eingabe (Schüler)'!C74:AK74,1))","v":{"$error":"#N/A"}},{"$f":"IF(E65<2,#N/A,COUNTIF('A) Eingabe (Schüler)'!C74:AK74,2))","v":{"$error":"#N/A"}},{"$f":"IF(E65<2,#N/A,COUNTIF('A) Eingabe (Schüler)'!C74:AK74,3))","v":{"$error":"#N/A"}},{"$f":"IF(E65<2,#N/A,COUNTIF('A) Eingabe (Schüler)'!C74:AK74,4))","v":{"$error":"#N/A"}},{"$f":"IF('A) Eingabe (Lehrer)'!C75=\"\", #N/A, 'A) Eingabe (Lehrer)'!C75)","v":{"$error":"#N/A"}},{"$f":"IF(N65=0, #N/A,AVERAGE('A) Eingabe (Lehrer)'!D75:BK75))","v":{"$error":"#N/A"}},{"$f":"IF(N65<2, #N/A, STDEVP('A) Eingabe (Lehrer)'!D75:BK75))","v":{"$error":"#N/A"}},{"$error":"#N/A"},{"$f":"COUNT('A) Eingabe (Lehrer)'!D75:BK75)","v":0},{"$f":"IF(N65<2,#N/A,COUNTIF('A) Eingabe (Lehrer)'!D75:BK75,1))","v":{"$error":"#N/A"}},{"$f":"IF(N65<2,#N/A,COUNTIF('A) Eingabe (Lehrer)'!D75:BK75,2))","v":{"$error":"#N/A"}},{"$f":"IF(N65<2,#N/A,COUNTIF('A) Eingabe (Lehrer)'!D75:BK75,3))","v":{"$error":"#N/A"}},{"$f":"IF(N65<2,#N/A,COUNTIF('A) Eingabe (Lehrer)'!D75:BK75,4))","v":{"$error":"#N/A"}},{"$f":"IF('A) Eingabe (Lehrer)'!C75=\"\", #N/A, 'A) Eingabe (Lehrer)'!C75)","v":{"$error":"#N/A"}}]
[33,{"$f":"IF(E66=0, #N/A,AVERAGE('A) Eingabe (Schüler)'!C75:AK75))","v":{"$error":"#N/A"}},{"$f":"IF(E66<2, #N/A, STDEVP('A) Eingabe (Schüler)'!C75:AK75))","v":{"$error":"#N/A"}},{"$error":"#N/A"},{"$f":"COUNT('A) Eingabe (Schüler)'!C75:AK75)","v":0},{"$f":"IF(E66<2,#N/A,COUNTIF('A) Eingabe (Schüler)'!C75:AK75,1))","v":{"$error":"#N/A"}},{"$f":"IF(E66<2,#N/A,COUNTIF('A) Eingabe (Schüler)'!C75:AK75,2))","v":{"$error":"#N/A"}},{"$f":"IF(E66<2,#N/A,COUNTIF('A) Eingabe (Schüler)'!C75:AK75,3))","v":{"$error":"#N/A"}},{"$f":"IF(E66<2,#N/A,COUNTIF('A) Eingabe (Schüler)'!C75:AK75,4))","v":{"$error":"#N/A"}},{"$f":"IF('A) Eingabe (Lehrer)'!C76=\"\", #N/A, 'A) Eingabe (Lehrer)'!C76)","v":{"$error":"#N/A"}},{"$f":"IF(N66=0, #N/A,AVERAGE('A) Eingabe (Lehrer)'!D76:BK76))","v":{"$error":"#N/A"}},{"$f":"IF(N66<2, #N/A, STDEVP('A) Eingabe (Lehrer)'!D76:BK76))","v":{"$error":"#N/A"}},{"$error":"#N/A"},{"$f":"COUNT('A) Eingabe (Lehrer)'!D76:BK76)","v":0},{"$f":"IF(N66<2,#N/A,COUNTIF('A) Eingabe (Lehrer)'!D76:BK76,1))","v":{"$error":"#N/A"}},{"$f":"IF(N66<2,#N/A,COUNTIF('A) Eingabe (Lehrer)'!D76:BK76,2))","v":{"$error":"#N/A"}},{"$f":"IF(N66<2,#N/A,COUNTIF('A) Eingabe (Lehrer)'!D76:BK76,3))","v":{"$error":"#N/A"}},{"$f":"IF(N66<2,#N/A,COUNTIF('A) Eingabe (Lehrer)'!D76:BK76,4))","v":{"$error":"#N/A"}},{"$f":"IF('A) Eingabe (Lehrer)'!C76=\"\", #N/A, 'A) Eingabe (Lehrer)'!C76)","v":{"$error":"#N/A"}}]
[34,{"$f":"IF(E67=0, #N/A,AVERAGE('A) Eingabe (Schüler)'!C76:AK76))","v":{"$error":"#N/A"}},{"$f":"IF(E67<2, #N/A, STDEVP('A) Eingabe (Schüler)'!C76:AK76))","v":{"$error":"#N/A"}},{"$error":"#N/A"},{"$f":"COUNT('A) Eingabe (Schüler)'!C76:AK76)","v":0},{"$f":"IF(E67<2,#N/A,COUNTIF('A) Eingabe (Schüler)'!C76:AK76,1))","v":{"$error":"#N/A"}},{"$f":"IF(E67<2,#N/A,COUNTIF('A) Eingabe (Schüler)'!C76:AK76,2))","v":{"$error":"#N/A"}},{"$f":"IF(E67<2,#N/A,COUNTIF('A) Eingabe (Schüler)'!C76:AK76,3))","v":{"$error":"#N/A"}},{"$f":"IF(E67<2,#N/A,COUNTIF('A) Eingabe (Schüler)'!C76:AK76,4))","v":{"$error":"#N/A"}},{"$f":"IF('A) Eingabe (Lehrer)'!C77=\"\", #N/A, 'A) Eingabe (Lehrer)'!C77)","v":{"$error":"#N/A"}},{"$f":"IF(N67=0, #N/A,AVERAGE('A) Eingabe (Lehrer)'!D77:BK77))","v":{"$error":"#N/A"}},{"$f":"IF(N67<2, #N/A, STDEVP('A) Eingabe (Lehrer)'!D77:BK77))","v":{"$error":"#N/A"}},{"$error":"#N/A"},{"$f":"COUNT('A) Eingabe (Lehrer)'!D77:BK77)","v":0},{"$f":"IF(N67<2,#N/A,COUNTIF('A) Eingabe (Lehrer)'!D77:BK77,1))","v":{"$error":"#N/A"}},{"$f":"IF(N67<2,#N/A,COUNTIF('A) Eingabe (Lehrer)'!D77:BK77,2))","v":{"$error":"#N/A"}},{"$f":"IF(N67<2,#N/A,COUNTIF('A) Eingabe (Lehrer)'!D77:BK77,3))","v":{"$error":"#N/A"}},{"$f":"IF(N67<2,#N/A,COUNTIF('A) Eingabe (Lehrer)'!D77:BK77,4))","v":{"$error":"#N/A"}},{"$f":"IF('A) Eingabe (Lehrer)'!C77=\"\", #N/A, 'A) Eingabe (Lehrer)'!C77)","v":{"$error":"#N/A"}}]
[35,{"$f":"IF(E68=0, #N/A,AVERAGE('A) Eingabe (Schüler)'!C77:AK77))","v":{"$error":"#N/A"}},{"$f":"IF(E68<2, #N/A, STDEVP('A) Eingabe (Schüler)'!C77:AK77))","v":{"$error":"#N/A"}},{"$error":"#N/A"},{"$f":"COUNT('A) Eingabe (Schüler)'!C77:AK77)","v":0},{"$f":"IF(E68<2,#N/A,COUNTIF('A) Eingabe (Schüler)'!C77:AK77,1))","v":{"$error":"#N/A"}},{"$f":"IF(E68<2,#N/A,COUNTIF('A) Eingabe (Schüler)'!C77:AK77,2))","v":{"$error":"#N/A"}},{"$f":"IF(E68<2,#N/A,COUNTIF('A) Eingabe (Schüler)'!C77:AK77,3))","v":{"$error":"#N/A"}},{"$f":"IF(E68<2,#N/A,COUNTIF('A) Eingabe (Schüler)'!C77:AK77,4))","v":{"$error":"#N/A"}},{"$f":"IF('A) Eingabe (Lehrer)'!C78=\"\", #N/A, 'A) Eingabe (Lehrer)'!C78)","v":{"$error":"#N/A"}},{"$f":"IF(N68=0, #N/A,AVERAGE('A) Eingabe (Lehrer)'!D78:BK78))","v":{"$error":"#N/A"}},{"$f":"IF(N68<2, #N/A, STDEVP('A) Eingabe (Lehrer)'!D78:BK78))","v":{"$error":"#N/A"}},{"$error":"#N/A"},{"$f":"COUNT('A) Eingabe (Lehrer)'!D78:BK78)","v":0},{"$f":"IF(N68<2,#N/A,COUNTIF('A) Eingabe (Lehrer)'!D78:BK78,1))","v":{"$error":"#N/A"}},{"$f":"IF(N68<2,#N/A,COUNTIF('A) Eingabe (Lehrer)'!D78:BK78,2))","v":{"$error":"#N/A"}},{"$f":"IF(N68<2,#N/A,COUNTIF('A) Eingabe (Lehrer)'!D78:BK78,3))","v":{"$error":"#N/A"}},{"$f":"IF(N68<2,#N/A,COUNTIF('A) Eingabe (Lehrer)'!D78:BK78,4))","v":{"$error":"#N/A"}},{"$f":"IF('A) Eingabe (Lehrer)'!C78=\"\", #N/A, 'A) Eingabe (Lehrer)'!C78)","v":{"$error":"#N/A"}}]
[36,{"$f":"IF(E69=0, #N/A,AVERAGE('A) Eingabe (Schüler)'!C78:AK78))","v":{"$error":"#N/A"}},{"$f":"IF(E69<2, #N/A, STDEVP('A) Eingabe (Schüler)'!C78:AK78))","v":{"$error":"#N/A"}},{"$error":"#N/A"},{"$f":"COUNT('A) Eingabe (Schüler)'!C78:AK78)","v":0},{"$f":"IF(E69<2,#N/A,COUNTIF('A) Eingabe (Schüler)'!C78:AK78,1))","v":{"$error":"#N/A"}},{"$f":"IF(E69<2,#N/A,COUNTIF('A) Eingabe (Schüler)'!C78:AK78,2))","v":{"$error":"#N/A"}},{"$f":"IF(E69<2,#N/A,COUNTIF('A) Eingabe (Schüler)'!C78:AK78,3))","v":{"$error":"#N/A"}},{"$f":"IF(E69<2,#N/A,COUNTIF('A) Eingabe (Schüler)'!C78:AK78,4))","v":{"$error":"#N/A"}},{"$f":"IF('A) Eingabe (Lehrer)'!C79=\"\", #N/A, 'A) Eingabe (Lehrer)'!C79)","v":{"$error":"#N/A"}},{"$f":"IF(N69=0, #N/A,AVERAGE('A) Eingabe (Lehrer)'!D79:BK79))","v":{"$error":"#N/A"}},{"$f":"IF(N69<2, #N/A, STDEVP('A) Eingabe (Lehrer)'!D79:BK79))","v":{"$error":"#N/A"}},{"$error":"#N/A"},{"$f":"COUNT('A) Eingabe (Lehrer)'!D79:BK79)","v":0},{"$f":"IF(N69<2,#N/A,COUNTIF('A) Eingabe (Lehrer)'!D79:BK79,1))","v":{"$error":"#N/A"}},{"$f":"IF(N69<2,#N/A,COUNTIF('A) Eingabe (Lehrer)'!D79:BK79,2))","v":{"$error":"#N/A"}},{"$f":"IF(N69<2,#N/A,COUNTIF('A) Eingabe (Lehrer)'!D79:BK79,3))","v":{"$error":"#N/A"}},{"$f":"IF(N69<2,#N/A,COUNTIF('A) Eingabe (Lehrer)'!D79:BK79,4))","v":{"$error":"#N/A"}},{"$f":"IF('A) Eingabe (Lehrer)'!C79=\"\", #N/A, 'A) Eingabe (Lehrer)'!C79)","v":{"$error":"#N/A"}}]
[37,{"$f":"IF(E70=0, #N/A,AVERAGE('A) Eingabe (Schüler)'!C79:AK79))","v":{"$error":"#N/A"}},{"$f":"IF(E70<2, #N/A, STDEVP('A) Eingabe (Schüler)'!C79:AK79))","v":{"$error":"#N/A"}},{"$error":"#N/A"},{"$f":"COUNT('A) Eingabe (Schüler)'!C79:AK79)","v":0},{"$f":"IF(E70<2,#N/A,COUNTIF('A) Eingabe (Schüler)'!C79:AK79,1))","v":{"$error":"#N/A"}},{"$f":"IF(E70<2,#N/A,COUNTIF('A) Eingabe (Schüler)'!C79:AK79,2))","v":{"$error":"#N/A"}},{"$f":"IF(E70<2,#N/A,COUNTIF('A) Eingabe (Schüler)'!C79:AK79,3))","v":{"$error":"#N/A"}},{"$f":"IF(E70<2,#N/A,COUNTIF('A) Eingabe (Schüler)'!C79:AK79,4))","v":{"$error":"#N/A"}},{"$f":"IF('A) Eingabe (Lehrer)'!C80=\"\", #N/A, 'A) Eingabe (Lehrer)'!C80)","v":{"$error":"#N/A"}},{"$f":"IF(N70=0, #N/A,AVERAGE('A) Eingabe (Lehrer)'!D80:BK80))","v":{"$error":"#N/A"}},{"$f":"IF(N70<2, #N/A, STDEVP('A) Eingabe (Lehrer)'!D80:BK80))","v":{"$error":"#N/A"}},{"$error":"#N/A"},{"$f":"COUNT('A) Eingabe (Lehrer)'!D80:BK80)","v":0},{"$f":"IF(N70<2,#N/A,COUNTIF('A) Eingabe (Lehrer)'!D80:BK80,1))","v":{"$error":"#N/A"}},{"$f":"IF(N70<2,#N/A,COUNTIF('A) Eingabe (Lehrer)'!D80:BK80,2))","v":{"$error":"#N/A"}},{"$f":"IF(N70<2,#N/A,COUNTIF('A) Eingabe (Lehrer)'!D80:BK80,3))","v":{"$error":"#N/A"}},{"$f":"IF(N70<2,#N/A,COUNTIF('A) Eingabe (Lehrer)'!D80:BK80,4))","v":{"$error":"#N/A"}},{"$f":"IF('A) Eingabe (Lehrer)'!C80=\"\", #N/A, 'A) Eingabe (Lehrer)'!C80)","v":{"$error":"#N/A"}}]
[38,{"$f":"IF(E71=0, #N/A,AVERAGE('A) Eingabe (Schüler)'!C80:AK80))","v":{"$error":"#N/A"}},{"$f":"IF(E71<2, #N/A, STDEVP('A) Eingabe (Schüler)'!C80:AK80))","v":{"$error":"#N/A"}},{"$error":"#N/A"},{"$f":"COUNT('A) Eingabe (Schüler)'!C80:AK80)","v":0},{"$f":"IF(E71<2,#N/A,COUNTIF('A) Eingabe (Schüler)'!C80:AK80,1))","v":{"$error":"#N/A"}},{"$f":"IF(E71<2,#N/A,COUNTIF('A) Eingabe (Schüler)'!C80:AK80,2))","v":{"$error":"#N/A"}},{"$f":"IF(E71<2,#N/A,COUNTIF('A) Eingabe (Schüler)'!C80:AK80,3))","v":{"$error":"#N/A"}},{"$f":"IF(E71<2,#N/A,COUNTIF('A) Eingabe (Schüler)'!C80:AK80,4))","v":{"$error":"#N/A"}},{"$f":"IF('A) Eingabe (Lehrer)'!C81=\"\", #N/A, 'A) Eingabe (Lehrer)'!C81)","v":{"$error":"#N/A"}},{"$f":"IF(N71=0, #N/A,AVERAGE('A) Eingabe (Lehrer)'!D81:BK81))","v":{"$error":"#N/A"}},{"$f":"IF(N71<2, #N/A, STDEVP('A) Eingabe (Lehrer)'!D81:BK81))","v":{"$error":"#N/A"}},{"$error":"#N/A"},{"$f":"COUNT('A) Eingabe (Lehrer)'!D81:BK81)","v":0},{"$f":"IF(N71<2,#N/A,COUNTIF('A) Eingabe (Lehrer)'!D81:BK81,1))","v":{"$error":"#N/A"}},{"$f":"IF(N71<2,#N/A,COUNTIF('A) Eingabe (Lehrer)'!D81:BK81,2))","v":{"$error":"#N/A"}},{"$f":"IF(N71<2,#N/A,COUNTIF('A) Eingabe (Lehrer)'!D81:BK81,3))","v":{"$error":"#N/A"}},{"$f":"IF(N71<2,#N/A,COUNTIF('A) Eingabe (Lehrer)'!D81:BK81,4))","v":{"$error":"#N/A"}},{"$f":"IF('A) Eingabe (Lehrer)'!C81=\"\", #N/A, 'A) Eingabe (Lehrer)'!C81)","v":{"$error":"#N/A"}}]
[39,{"$f":"IF(E72=0, #N/A,AVERAGE('A) Eingabe (Schüler)'!C81:AK81))","v":{"$error":"#N/A"}},{"$f":"IF(E72<2, #N/A, STDEVP('A) Eingabe (Schüler)'!C81:AK81))","v":{"$error":"#N/A"}},{"$error":"#N/A"},{"$f":"COUNT('A) Eingabe (Schüler)'!C81:AK81)","v":0},{"$f":"IF(E72<2,#N/A,COUNTIF('A) Eingabe (Schüler)'!C81:AK81,1))","v":{"$error":"#N/A"}},{"$f":"IF(E72<2,#N/A,COUNTIF('A) Eingabe (Schüler)'!C81:AK81,2))","v":{"$error":"#N/A"}},{"$f":"IF(E72<2,#N/A,COUNTIF('A) Eingabe (Schüler)'!C81:AK81,3))","v":{"$error":"#N/A"}},{"$f":"IF(E72<2,#N/A,COUNTIF('A) Eingabe (Schüler)'!C81:AK81,4))","v":{"$error":"#N/A"}},{"$f":"IF('A) Eingabe (Lehrer)'!C82=\"\", #N/A, 'A) Eingabe (Lehrer)'!C82)","v":{"$error":"#N/A"}},{"$f":"IF(N72=0, #N/A,AVERAGE('A) Eingabe (Lehrer)'!D82:BK82))","v":{"$error":"#N/A"}},{"$f":"IF(N72<2, #N/A, STDEVP('A) Eingabe (Lehrer)'!D82:BK82))","v":{"$error":"#N/A"}},{"$error":"#N/A"},{"$f":"COUNT('A) Eingabe (Lehrer)'!D82:BK82)","v":0},{"$f":"IF(N72<2,#N/A,COUNTIF('A) Eingabe (Lehrer)'!D82:BK82,1))","v":{"$error":"#N/A"}},{"$f":"IF(N72<2,#N/A,COUNTIF('A) Eingabe (Lehrer)'!D82:BK82,2))","v":{"$error":"#N/A"}},{"$f":"IF(N72<2,#N/A,COUNTIF('A) Eingabe (Lehrer)'!D82:BK82,3))","v":{"$error":"#N/A"}},{"$f":"IF(N72<2,#N/A,COUNTIF('A) Eingabe (Lehrer)'!D82:BK82,4))","v":{"$error":"#N/A"}},{"$f":"IF('A) Eingabe (Lehrer)'!C82=\"\", #N/A, 'A) Eingabe (Lehrer)'!C82)","v":{"$error":"#N/A"}}]
[40,{"$f":"IF(E73=0, #N/A,AVERAGE('A) Eingabe (Schüler)'!C82:AK82))","v":{"$error":"#N/A"}},{"$f":"IF(E73<2, #N/A, STDEVP('A) Eingabe (Schüler)'!C82:AK82))","v":{"$error":"#N/A"}},{"$error":"#N/A"},{"$f":"COUNT('A) Eingabe (Schüler)'!C82:AK82)","v":0},{"$f":"IF(E73<2,#N/A,COUNTIF('A) Eingabe (Schüler)'!C82:AK82,1))","v":{"$error":"#N/A"}},{"$f":"IF(E73<2,#N/A,COUNTIF('A) Eingabe (Schüler)'!C82:AK82,2))","v":{"$error":"#N/A"}},{"$f":"IF(E73<2,#N/A,COUNTIF('A) Eingabe (Schüler)'!C82:AK82,3))","v":{"$error":"#N/A"}},{"$f":"IF(E73<2,#N/A,COUNTIF('A) Eingabe (Schüler)'!C82:AK82,4))","v":{"$error":"#N/A"}},{"$f":"IF('A) Eingabe (Lehrer)'!C83=\"\", #N/A, 'A) Eingabe (Lehrer)'!C83)","v":{"$error":"#N/A"}},{"$f":"IF(N73=0, #N/A,AVERAGE('A) Eingabe (Lehrer)'!D83:BK83))","v":{"$error":"#N/A"}},{"$f":"IF(N73<2, #N/A, STDEVP('A) Eingabe (Lehrer)'!D83:BK83))","v":{"$error":"#N/A"}},{"$error":"#N/A"},{"$f":"COUNT('A) Eingabe (Lehrer)'!D83:BK83)","v":0},{"$f":"IF(N73<2,#N/A,COUNTIF('A) Eingabe (Lehrer)'!D83:BK83,1))","v":{"$error":"#N/A"}},{"$f":"IF(N73<2,#N/A,COUNTIF('A) Eingabe (Lehrer)'!D83:BK83,2))","v":{"$error":"#N/A"}},{"$f":"IF(N73<2,#N/A,COUNTIF('A) Eingabe (Lehrer)'!D83:BK83,3))","v":{"$error":"#N/A"}},{"$f":"IF(N73<2,#N/A,COUNTIF('A) Eingabe (Lehrer)'!D83:BK83,4))","v":{"$error":"#N/A"}},{"$f":"IF('A) Eingabe (Lehrer)'!C83=\"\", #N/A, 'A) Eingabe (Lehrer)'!C83)","v":{"$error":"#N/A"}}]
[41,{"$f":"IF(E74=0, #N/A,AVERAGE('A) Eingabe (Schüler)'!C83:AK83))","v":{"$error":"#N/A"}},{"$f":"IF(E74<2, #N/A, STDEVP('A) Eingabe (Schüler)'!C83:AK83))","v":{"$error":"#N/A"}},{"$f":"IF(E74<2, #N/A, 100*(H74+I74)/E74)","v":{"$error":"#N/A"}},{"$f":"COUNT('A) Eingabe (Schüler)'!C83:AK83)","v":0},{"$f":"IF(E74<2,#N/A,COUNTIF('A) Eingabe (Schüler)'!C83:AK83,1))","v":{"$error":"#N/A"}},{"$f":"IF(E74<2,#N/A,COUNTIF('A) Eingabe (Schüler)'!C83:AK83,2))","v":{"$error":"#N/A"}},{"$f":"IF(E74<2,#N/A,COUNTIF('A) Eingabe (Schüler)'!C83:AK83,3))","v":{"$error":"#N/A"}},{"$f":"IF(E74<2,#N/A,COUNTIF('A) Eingabe (Schüler)'!C83:AK83,4))","v":{"$error":"#N/A"}},{"$f":"IF('A) Eingabe (Lehrer)'!C84=\"\", #N/A, 'A) Eingabe (Lehrer)'!C84)","v":{"$error":"#N/A"}},{"$f":"IF(N74=0, #N/A,AVERAGE('A) Eingabe (Lehrer)'!D84:BK84))","v":{"$error":"#N/A"}},{"$f":"IF(N74<2, #N/A, STDEVP('A) Eingabe (Lehrer)'!D84:BK84))","v":{"$error":"#N/A"}},{"$f":"IF(N74<2, #N/A, 100*(Q74+R74)/N74)","v":{"$error":"#N/A"}},{"$f":"COUNT('A) Eingabe (Lehrer)'!D84:BK84)","v":0},{"$f":"IF(N74<2,#N/A,COUNTIF('A) Eingabe (Lehrer)'!D84:BK84,1))","v":{"$error":"#N/A"}},{"$f":"IF(N74<2,#N/A,COUNTIF('A) Eingabe (Lehrer)'!D84:BK84,2))","v":{"$error":"#N/A"}},{"$f":"IF(N74<2,#N/A,COUNTIF('A) Eingabe (Lehrer)'!D84:BK84,3))","v":{"$error":"#N/A"}},{"$f":"IF(N74<2,#N/A,COUNTIF('A) Eingabe (Lehrer)'!D84:BK84,4))","v":{"$error":"#N/A"}},{"$f":"IF('A) Eingabe (Lehrer)'!C84=\"\", #N/A, 'A) Eingabe (Lehrer)'!C84)","v":{"$error":"#N/A"}}]
[42,{"$f":"IF(E75=0, #N/A,AVERAGE('A) Eingabe (Schüler)'!C84:AK84))","v":{"$error":"#N/A"}},{"$f":"IF(E75<2, #N/A, STDEVP('A) Eingabe (Schüler)'!C84:AK84))","v":{"$error":"#N/A"}},{"$error":"#N/A"},{"$f":"COUNT('A) Eingabe (Schüler)'!C84:AK84)","v":0},{"$f":"IF(E75<2,#N/A,COUNTIF('A) Eingabe (Schüler)'!C84:AK84,1))","v":{"$error":"#N/A"}},{"$f":"IF(E75<2,#N/A,COUNTIF('A) Eingabe (Schüler)'!C84:AK84,2))","v":{"$error":"#N/A"}},{"$f":"IF(E75<2,#N/A,COUNTIF('A) Eingabe (Schüler)'!C84:AK84,3))","v":{"$error":"#N/A"}},{"$f":"IF(E75<2,#N/A,COUNTIF('A) Eingabe (Schüler)'!C84:AK84,4))","v":{"$error":"#N/A"}},{"$f":"IF('A) Eingabe (Lehrer)'!C85=\"\", #N/A, 'A) Eingabe (Lehrer)'!C85)","v":{"$error":"#N/A"}},{"$f":"IF(N75=0, #N/A,AVERAGE('A) Eingabe (Lehrer)'!D85:BK85))","v":{"$error":"#N/A"}},{"$f":"IF(N75<2, #N/A, STDEVP('A) Eingabe (Lehrer)'!D85:BK85))","v":{"$error":"#N/A"}},{"$error":"#N/A"},{"$f":"COUNT('A) Eingabe (Lehrer)'!D85:BK85)","v":0},{"$f":"IF(N75<2,#N/A,COUNTIF('A) Eingabe (Lehrer)'!D85:BK85,1))","v":{"$error":"#N/A"}},{"$f":"IF(N75<2,#N/A,COUNTIF('A) Eingabe (Lehrer)'!D85:BK85,2))","v":{"$error":"#N/A"}},{"$f":"IF(N75<2,#N/A,COUNTIF('A) Eingabe (Lehrer)'!D85:BK85,3))","v":{"$error":"#N/A"}},{"$f":"IF(N75<2,#N/A,COUNTIF('A) Eingabe (Lehrer)'!D85:BK85,4))","v":{"$error":"#N/A"}},{"$f":"IF('A) Eingabe (Lehrer)'!C85=\"\", #N/A, 'A) Eingabe (Lehrer)'!C85)","v":{"$error":"#N/A"}}]
[43,{"$f":"IF(E76=0, #N/A,AVERAGE('A) Eingabe (Schüler)'!C85:AK85))","v":{"$error":"#N/A"}},{"$f":"IF(E76<2, #N/A, STDEVP('A) Eingabe (Schüler)'!C85:AK85))","v":{"$error":"#N/A"}},{"$error":"#N/A"},{"$f":"COUNT('A) Eingabe (Schüler)'!C85:AK85)","v":0},{"$f":"IF(E76<2,#N/A,COUNTIF('A) Eingabe (Schüler)'!C85:AK85,1))","v":{"$error":"#N/A"}},{"$f":"IF(E76<2,#N/A,COUNTIF('A) Eingabe (Schüler)'!C85:AK85,2))","v":{"$error":"#N/A"}},{"$f":"IF(E76<2,#N/A,COUNTIF('A) Eingabe (Schüler)'!C85:AK85,3))","v":{"$error":"#N/A"}},{"$f":"IF(E76<2,#N/A,COUNTIF('A) Eingabe (Schüler)'!C85:AK85,4))","v":{"$error":"#N/A"}},{"$f":"IF('A) Eingabe (Lehrer)'!C86=\"\", #N/A, 'A) Eingabe (Lehrer)'!C86)","v":{"$error":"#N/A"}},{"$f":"IF(N76=0, #N/A,AVERAGE('A) Eingabe (Lehrer)'!D86:BK86))","v":{"$error":"#N/A"}},{"$f":"IF(N76<2, #N/A, STDEVP('A) Eingabe (Lehrer)'!D86:BK86))","v":{"$error":"#N/A"}},{"$error":"#N/A"},{"$f":"COUNT('A) Eingabe (Lehrer)'!D86:BK86)","v":0},{"$f":"IF(N76<2,#N/A,COUNTIF('A) Eingabe (Lehrer)'!D86:BK86,1))","v":{"$error":"#N/A"}},{"$f":"IF(N76<2,#N/A,COUNTIF('A) Eingabe (Lehrer)'!D86:BK86,2))","v":{"$error":"#N/A"}},{"$f":"IF(N76<2,#N/A,COUNTIF('A) Eingabe (Lehrer)'!D86:BK86,3))","v":{"$error":"#N/A"}},{"$f":"IF(N76<2,#N/A,COUNTIF('A) Eingabe (Lehrer)'!D86:BK86,4))","v":{"$error":"#N/A"}},{"$f":"IF('A) Eingabe (Lehrer)'!C86=\"\", #N/A, 'A) Eingabe (Lehrer)'!C86)","v":{"$error":"#N/A"}}]
[44,{"$f":"IF(E77=0, #N/A,AVERAGE('A) Eingabe (Schüler)'!C86:AK86))","v":{"$error":"#N/A"}},{"$f":"IF(E77<2, #N/A, STDEVP('A) Eingabe (Schüler)'!C86:AK86))","v":{"$error":"#N/A"}},{"$error":"#N/A"},{"$f":"COUNT('A) Eingabe (Schüler)'!C86:AK86)","v":0},{"$f":"IF(E77<2,#N/A,COUNTIF('A) Eingabe (Schüler)'!C86:AK86,1))","v":{"$error":"#N/A"}},{"$f":"IF(E77<2,#N/A,COUNTIF('A) Eingabe (Schüler)'!C86:AK86,2))","v":{"$error":"#N/A"}},{"$f":"IF(E77<2,#N/A,COUNTIF('A) Eingabe (Schüler)'!C86:AK86,3))","v":{"$error":"#N/A"}},{"$f":"IF(E77<2,#N/A,COUNTIF('A) Eingabe (Schüler)'!C86:AK86,4))","v":{"$error":"#N/A"}},{"$f":"IF('A) Eingabe (Lehrer)'!C87=\"\", #N/A, 'A) Eingabe (Lehrer)'!C87)","v":{"$error":"#N/A"}},{"$f":"IF(N77=0, #N/A,AVERAGE('A) Eingabe (Lehrer)'!D87:BK87))","v":{"$error":"#N/A"}},{"$f":"IF(N77<2, #N/A, STDEVP('A) Eingabe (Lehrer)'!D87:BK87))","v":{"$error":"#N/A"}},{"$error":"#N/A"},{"$f":"COUNT('A) Eingabe (Lehrer)'!D87:BK87)","v":0},{"$f":"IF(N77<2,#N/A,COUNTIF('A) Eingabe (Lehrer)'!D87:BK87,1))","v":{"$error":"#N/A"}},{"$f":"IF(N77<2,#N/A,COUNTIF('A) Eingabe (Lehrer)'!D87:BK87,2))","v":{"$error":"#N/A"}},{"$f":"IF(N77<2,#N/A,COUNTIF('A) Eingabe (Lehrer)'!D87:BK87,3))","v":{"$error":"#N/A"}},{"$f":"IF(N77<2,#N/A,COUNTIF('A) Eingabe (Lehrer)'!D87:BK87,4))","v":{"$error":"#N/A"}},{"$f":"IF('A) Eingabe (Lehrer)'!C87=\"\", #N/A, 'A) Eingabe (Lehrer)'!C87)","v":{"$error":"#N/A"}}]
[45,{"$f":"IF(E78=0, #N/A,AVERAGE('A) Eingabe (Schüler)'!C87:AK87))","v":{"$error":"#N/A"}},{"$f":"IF(E78<2, #N/A, STDEVP('A) Eingabe (Schüler)'!C87:AK87))","v":{"$error":"#N/A"}},{"$error":"#N/A"},{"$f":"COUNT('A) Eingabe (Schüler)'!C87:AK87)","v":0},{"$f":"IF(E78<2,#N/A,COUNTIF('A) Eingabe (Schüler)'!C87:AK87,1))","v":{"$error":"#N/A"}},{"$f":"IF(E78<2,#N/A,COUNTIF('A) Eingabe (Schüler)'!C87:AK87,2))","v":{"$error":"#N/A"}},{"$f":"IF(E78<2,#N/A,COUNTIF('A) Eingabe (Schüler)'!C87:AK87,3))","v":{"$error":"#N/A"}},{"$f":"IF(E78<2,#N/A,COUNTIF('A) Eingabe (Schüler)'!C87:AK87,4))","v":{"$error":"#N/A"}},{"$f":"IF('A) Eingabe (Lehrer)'!C88=\"\", #N/A, 'A) Eingabe (Lehrer)'!C88)","v":{"$error":"#N/A"}},{"$f":"IF(N78=0, #N/A,AVERAGE('A) Eingabe (Lehrer)'!D88:BK88))","v":{"$error":"#N/A"}},{"$f":"IF(N78<2, #N/A, STDEVP('A) Eingabe (Lehrer)'!D88:BK88))","v":{"$error":"#N/A"}},{"$error":"#N/A"},{"$f":"COUNT('A) Eingabe (Lehrer)'!D88:BK88)","v":0},{"$f":"IF(N78<2,#N/A,COUNTIF('A) Eingabe (Lehrer)'!D88:BK88,1))","v":{"$error":"#N/A"}},{"$f":"IF(N78<2,#N/A,COUNTIF('A) Eingabe (Lehrer)'!D88:BK88,2))","v":{"$error":"#N/A"}},{"$f":"IF(N78<2,#N/A,COUNTIF('A) Eingabe (Lehrer)'!D88:BK88,3))","v":{"$error":"#N/A"}},{"$f":"IF(N78<2,#N/A,COUNTIF('A) Eingabe (Lehrer)'!D88:BK88,4))","v":{"$error":"#N/A"}},{"$f":"IF('A) Eingabe (Lehrer)'!C88=\"\", #N/A, 'A) Eingabe (Lehrer)'!C88)","v":{"$error":"#N/A"}}]
[46,{"$f":"IF(E79=0, #N/A,AVERAGE('A) Eingabe (Schüler)'!C88:AK88))","v":{"$error":"#N/A"}},{"$f":"IF(E79<2, #N/A, STDEVP('A) Eingabe (Schüler)'!C88:AK88))","v":{"$error":"#N/A"}},{"$error":"#N/A"},{"$f":"COUNT('A) Eingabe (Schüler)'!C88:AK88)","v":0},{"$f":"IF(E79<2,#N/A,COUNTIF('A) Eingabe (Schüler)'!C88:AK88,1))","v":{"$error":"#N/A"}},{"$f":"IF(E79<2,#N/A,COUNTIF('A) Eingabe (Schüler)'!C88:AK88,2))","v":{"$error":"#N/A"}},{"$f":"IF(E79<2,#N/A,COUNTIF('A) Eingabe (Schüler)'!C88:AK88,3))","v":{"$error":"#N/A"}},{"$f":"IF(E79<2,#N/A,COUNTIF('A) Eingabe (Schüler)'!C88:AK88,4))","v":{"$error":"#N/A"}},{"$f":"IF('A) Eingabe (Lehrer)'!C89=\"\", #N/A, 'A) Eingabe (Lehrer)'!C89)","v":{"$error":"#N/A"}},{"$f":"IF(N79=0, #N/A,AVERAGE('A) Eingabe (Lehrer)'!D89:BK89))","v":{"$error":"#N/A"}},{"$f":"IF(N79<2, #N/A, STDEVP('A) Eingabe (Lehrer)'!D89:BK89))","v":{"$error":"#N/A"}},{"$error":"#N/A"},{"$f":"COUNT('A) Eingabe (Lehrer)'!D89:BK89)","v":0},{"$f":"IF(N79<2,#N/A,COUNTIF('A) Eingabe (Lehrer)'!D89:BK89,1))","v":{"$error":"#N/A"}},{"$f":"IF(N79<2,#N/A,COUNTIF('A) Eingabe (Lehrer)'!D89:BK89,2))","v":{"$error":"#N/A"}},{"$f":"IF(N79<2,#N/A,COUNTIF('A) Eingabe (Lehrer)'!D89:BK89,3))","v":{"$error":"#N/A"}},{"$f":"IF(N79<2,#N/A,COUNTIF('A) Eingabe (Lehrer)'!D89:BK89,4))","v":{"$error":"#N/A"}},{"$f":"IF('A) Eingabe (Lehrer)'!C89=\"\", #N/A, 'A) Eingabe (Lehrer)'!C89)","v":{"$error":"#N/A"}}]
[47,{"$f":"IF(E80=0, #N/A,AVERAGE('A) Eingabe (Schüler)'!C89:AK89))","v":{"$error":"#N/A"}},{"$f":"IF(E80<2, #N/A, STDEVP('A) Eingabe (Schüler)'!C89:AK89))","v":{"$error":"#N/A"}},{"$error":"#N/A"},{"$f":"COUNT('A) Eingabe (Schüler)'!C89:AK89)","v":0},{"$f":"IF(E80<2,#N/A,COUNTIF('A) Eingabe (Schüler)'!C89:AK89,1))","v":{"$error":"#N/A"}},{"$f":"IF(E80<2,#N/A,COUNTIF('A) Eingabe (Schüler)'!C89:AK89,2))","v":{"$error":"#N/A"}},{"$f":"IF(E80<2,#N/A,COUNTIF('A) Eingabe (Schüler)'!C89:AK89,3))","v":{"$error":"#N/A"}},{"$f":"IF(E80<2,#N/A,COUNTIF('A) Eingabe (Schüler)'!C89:AK89,4))","v":{"$error":"#N/A"}},{"$f":"IF('A) Eingabe (Lehrer)'!C90=\"\", #N/A, 'A) Eingabe (Lehrer)'!C90)","v":{"$error":"#N/A"}},{"$f":"IF(N80=0, #N/A,AVERAGE('A) Eingabe (Lehrer)'!D90:BK90))","v":{"$error":"#N/A"}},{"$f":"IF(N80<2, #N/A, STDEVP('A) Eingabe (Lehrer)'!D90:BK90))","v":{"$error":"#N/A"}},{"$error":"#N/A"},{"$f":"COUNT('A) Eingabe (Lehrer)'!D90:BK90)","v":0},{"$f":"IF(N80<2,#N/A,COUNTIF('A) Eingabe (Lehrer)'!D90:BK90,1))","v":{"$error":"#N/A"}},{"$f":"IF(N80<2,#N/A,COUNTIF('A) Eingabe (Lehrer)'!D90:BK90,2))","v":{"$error":"#N/A"}},{"$f":"IF(N80<2,#N/A,COUNTIF('A) Eingabe (Lehrer)'!D90:BK90,3))","v":{"$error":"#N/A"}},{"$f":"IF(N80<2,#N/A,COUNTIF('A) Eingabe (Lehrer)'!D90:BK90,4))","v":{"$error":"#N/A"}},{"$f":"IF('A) Eingabe (Lehrer)'!C90=\"\", #N/A, 'A) Eingabe (Lehrer)'!C90)","v":{"$error":"#N/A"}}]
[48,{"$f":"IF(E81=0, #N/A,AVERAGE('A) Eingabe (Schüler)'!C90:AK90))","v":{"$error":"#N/A"}},{"$f":"IF(E81<2, #N/A, STDEVP('A) Eingabe (Schüler)'!C90:AK90))","v":{"$error":"#N/A"}},{"$error":"#N/A"},{"$f":"COUNT('A) Eingabe (Schüler)'!C90:AK90)","v":0},{"$f":"IF(E81<2,#N/A,COUNTIF('A) Eingabe (Schüler)'!C90:AK90,1))","v":{"$error":"#N/A"}},{"$f":"IF(E81<2,#N/A,COUNTIF('A) Eingabe (Schüler)'!C90:AK90,2))","v":{"$error":"#N/A"}},{"$f":"IF(E81<2,#N/A,COUNTIF('A) Eingabe (Schüler)'!C90:AK90,3))","v":{"$error":"#N/A"}},{"$f":"IF(E81<2,#N/A,COUNTIF('A) Eingabe (Schüler)'!C90:AK90,4))","v":{"$error":"#N/A"}},{"$f":"IF('A) Eingabe (Lehrer)'!C91=\"\", #N/A, 'A) Eingabe (Lehrer)'!C91)","v":{"$error":"#N/A"}},{"$f":"IF(N81=0, #N/A,AVERAGE('A) Eingabe (Lehrer)'!D91:BK91))","v":{"$error":"#N/A"}},{"$f":"IF(N81<2, #N/A, STDEVP('A) Eingabe (Lehrer)'!D91:BK91))","v":{"$error":"#N/A"}},{"$error":"#N/A"},{"$f":"COUNT('A) Eingabe (Lehrer)'!D91:BK91)","v":0},{"$f":"IF(N81<2,#N/A,COUNTIF('A) Eingabe (Lehrer)'!D91:BK91,1))","v":{"$error":"#N/A"}},{"$f":"IF(N81<2,#N/A,COUNTIF('A) Eingabe (Lehrer)'!D91:BK91,2))","v":{"$error":"#N/A"}},{"$f":"IF(N81<2,#N/A,COUNTIF('A) Eingabe (Lehrer)'!D91:BK91,3))","v":{"$error":"#N/A"}},{"$f":"IF(N81<2,#N/A,COUNTIF('A) Eingabe (Lehrer)'!D91:BK91,4))","v":{"$error":"#N/A"}},{"$f":"IF('A) Eingabe (Lehrer)'!C91=\"\", #N/A, 'A) Eingabe (Lehrer)'!C91)","v":{"$error":"#N/A"}}]
[49,{"$f":"IF(E82=0, #N/A,AVERAGE('A) Eingabe (Schüler)'!C91:AK91))","v":{"$error":"#N/A"}},{"$f":"IF(E82<2, #N/A, STDEVP('A) Eingabe (Schüler)'!C91:AK91))","v":{"$error":"#N/A"}},{"$error":"#N/A"},{"$f":"COUNT('A) Eingabe (Schüler)'!C91:AK91)","v":0},{"$f":"IF(E82<2,#N/A,COUNTIF('A) Eingabe (Schüler)'!C91:AK91,1))","v":{"$error":"#N/A"}},{"$f":"IF(E82<2,#N/A,COUNTIF('A) Eingabe (Schüler)'!C91:AK91,2))","v":{"$error":"#N/A"}},{"$f":"IF(E82<2,#N/A,COUNTIF('A) Eingabe (Schüler)'!C91:AK91,3))","v":{"$error":"#N/A"}},{"$f":"IF(E82<2,#N/A,COUNTIF('A) Eingabe (Schüler)'!C91:AK91,4))","v":{"$error":"#N/A"}},{"$f":"IF('A) Eingabe (Lehrer)'!C92=\"\", #N/A, 'A) Eingabe (Lehrer)'!C92)","v":{"$error":"#N/A"}},{"$f":"IF(N82=0, #N/A,AVERAGE('A) Eingabe (Lehrer)'!D92:BK92))","v":{"$error":"#N/A"}},{"$f":"IF(N82<2, #N/A, STDEVP('A) Eingabe (Lehrer)'!D92:BK92))","v":{"$error":"#N/A"}},{"$error":"#N/A"},{"$f":"COUNT('A) Eingabe (Lehrer)'!D92:BK92)","v":0},{"$f":"IF(N82<2,#N/A,COUNTIF('A) Eingabe (Lehrer)'!D92:BK92,1))","v":{"$error":"#N/A"}},{"$f":"IF(N82<2,#N/A,COUNTIF('A) Eingabe (Lehrer)'!D92:BK92,2))","v":{"$error":"#N/A"}},{"$f":"IF(N82<2,#N/A,COUNTIF('A) Eingabe (Lehrer)'!D92:BK92,3))","v":{"$error":"#N/A"}},{"$f":"IF(N82<2,#N/A,COUNTIF('A) Eingabe (Lehrer)'!D92:BK92,4))","v":{"$error":"#N/A"}},{"$f":"IF('A) Eingabe (Lehrer)'!C92=\"\", #N/A, 'A) Eingabe (Lehrer)'!C92)","v":{"$error":"#N/A"}}]
[50,{"$f":"IF(E83=0, #N/A,AVERAGE('A) Eingabe (Schüler)'!C92:AK92))","v":{"$error":"#N/A"}},{"$f":"IF(E83<2, #N/A, STDEVP('A) Eingabe (Schüler)'!C92:AK92))","v":{"$error":"#N/A"}},{"$error":"#N/A"},{"$f":"COUNT('A) Eingabe (Schüler)'!C92:AK92)","v":0},{"$f":"IF(E83<2,#N/A,COUNTIF('A) Eingabe (Schüler)'!C92:AK92,1))","v":{"$error":"#N/A"}},{"$f":"IF(E83<2,#N/A,COUNTIF('A) Eingabe (Schüler)'!C92:AK92,2))","v":{"$error":"#N/A"}},{"$f":"IF(E83<2,#N/A,COUNTIF('A) Eingabe (Schüler)'!C92:AK92,3))","v":{"$error":"#N/A"}},{"$f":"IF(E83<2,#N/A,COUNTIF('A) Eingabe (Schüler)'!C92:AK92,4))","v":{"$error":"#N/A"}},{"$f":"IF('A) Eingabe (Lehrer)'!C93=\"\", #N/A, 'A) Eingabe (Lehrer)'!C93)","v":{"$error":"#N/A"}},{"$f":"IF(N83=0, #N/A,AVERAGE('A) Eingabe (Lehrer)'!D93:BK93))","v":{"$error":"#N/A"}},{"$f":"IF(N83<2, #N/A, STDEVP('A) Eingabe (Lehrer)'!D93:BK93))","v":{"$error":"#N/A"}},{"$error":"#N/A"},{"$f":"COUNT('A) Eingabe (Lehrer)'!D93:BK93)","v":0},{"$f":"IF(N83<2,#N/A,COUNTIF('A) Eingabe (Lehrer)'!D93:BK93,1))","v":{"$error":"#N/A"}},{"$f":"IF(N83<2,#N/A,COUNTIF('A) Eingabe (Lehrer)'!D93:BK93,2))","v":{"$error":"#N/A"}},{"$f":"IF(N83<2,#N/A,COUNTIF('A) Eingabe (Lehrer)'!D93:BK93,3))","v":{"$error":"#N/A"}},{"$f":"IF(N83<2,#N/A,COUNTIF('A) Eingabe (Lehrer)'!D93:BK93,4))","v":{"$error":"#N/A"}},{"$f":"IF('A) Eingabe (Lehrer)'!C93=\"\", #N/A, 'A) Eingabe (Lehrer)'!C93)","v":{"$error":"#N/A"}}]
[51,{"$f":"IF(E84=0, #N/A,AVERAGE('A) Eingabe (Schüler)'!C93:AK93))","v":{"$error":"#N/A"}},{"$f":"IF(E84<2, #N/A, STDEVP('A) Eingabe (Schüler)'!C93:AK93))","v":{"$error":"#N/A"}},{"$error":"#N/A"},{"$f":"COUNT('A) Eingabe (Schüler)'!C93:AK93)","v":0},{"$f":"IF(E84<2,#N/A,COUNTIF('A) Eingabe (Schüler)'!C93:AK93,1))","v":{"$error":"#N/A"}},{"$f":"IF(E84<2,#N/A,COUNTIF('A) Eingabe (Schüler)'!C93:AK93,2))","v":{"$error":"#N/A"}},{"$f":"IF(E84<2,#N/A,COUNTIF('A) Eingabe (Schüler)'!C93:AK93,3))","v":{"$error":"#N/A"}},{"$f":"IF(E84<2,#N/A,COUNTIF('A) Eingabe (Schüler)'!C93:AK93,4))","v":{"$error":"#N/A"}},{"$f":"IF('A) Eingabe (Lehrer)'!C94=\"\", #N/A, 'A) Eingabe (Lehrer)'!C94)","v":{"$error":"#N/A"}},{"$f":"IF(N84=0, #N/A,AVERAGE('A) Eingabe (Lehrer)'!D94:BK94))","v":{"$error":"#N/A"}},{"$f":"IF(N84<2, #N/A, STDEVP('A) Eingabe (Lehrer)'!D94:BK94))","v":{"$error":"#N/A"}},{"$error":"#N/A"},{"$f":"COUNT('A) Eingabe (Lehrer)'!D94:BK94)","v":0},{"$f":"IF(N84<2,#N/A,COUNTIF('A) Eingabe (Lehrer)'!D94:BK94,1))","v":{"$error":"#N/A"}},{"$f":"IF(N84<2,#N/A,COUNTIF('A) Eingabe (Lehrer)'!D94:BK94,2))","v":{"$error":"#N/A"}},{"$f":"IF(N84<2,#N/A,COUNTIF('A) Eingabe (Lehrer)'!D94:BK94,3))","v":{"$error":"#N/A"}},{"$f":"IF(N84<2,#N/A,COUNTIF('A) Eingabe (Lehrer)'!D94:BK94,4))","v":{"$error":"#N/A"}},{"$f":"IF('A) Eingabe (Lehrer)'!C94=\"\", #N/A, 'A) Eingabe (Lehrer)'!C94)","v":{"$error":"#N/A"}}]
[52,{"$f":"IF(E85=0, #N/A,AVERAGE('A) Eingabe (Schüler)'!C94:AK94))","v":{"$error":"#N/A"}},{"$f":"IF(E85<2, #N/A, STDEVP('A) Eingabe (Schüler)'!C94:AK94))","v":{"$error":"#N/A"}},{"$error":"#N/A"},{"$f":"COUNT('A) Eingabe (Schüler)'!C94:AK94)","v":0},{"$f":"IF(E85<2,#N/A,COUNTIF('A) Eingabe (Schüler)'!C94:AK94,1))","v":{"$error":"#N/A"}},{"$f":"IF(E85<2,#N/A,COUNTIF('A) Eingabe (Schüler)'!C94:AK94,2))","v":{"$error":"#N/A"}},{"$f":"IF(E85<2,#N/A,COUNTIF('A) Eingabe (Schüler)'!C94:AK94,3))","v":{"$error":"#N/A"}},{"$f":"IF(E85<2,#N/A,COUNTIF('A) Eingabe (Schüler)'!C94:AK94,4))","v":{"$error":"#N/A"}},{"$f":"IF('A) Eingabe (Lehrer)'!C95=\"\", #N/A, 'A) Eingabe (Lehrer)'!C95)","v":{"$error":"#N/A"}},{"$f":"IF(N85=0, #N/A,AVERAGE('A) Eingabe (Lehrer)'!D95:BK95))","v":{"$error":"#N/A"}},{"$f":"IF(N85<2, #N/A, STDEVP('A) Eingabe (Lehrer)'!D95:BK95))","v":{"$error":"#N/A"}},{"$error":"#N/A"},{"$f":"COUNT('A) Eingabe (Lehrer)'!D95:BK95)","v":0},{"$f":"IF(N85<2,#N/A,COUNTIF('A) Eingabe (Lehrer)'!D95:BK95,1))","v":{"$error":"#N/A"}},{"$f":"IF(N85<2,#N/A,COUNTIF('A) Eingabe (Lehrer)'!D95:BK95,2))","v":{"$error":"#N/A"}},{"$f":"IF(N85<2,#N/A,COUNTIF('A) Eingabe (Lehrer)'!D95:BK95,3))","v":{"$error":"#N/A"}},{"$f":"IF(N85<2,#N/A,COUNTIF('A) Eingabe (Lehrer)'!D95:BK95,4))","v":{"$error":"#N/A"}},{"$f":"IF('A) Eingabe (Lehrer)'!C95=\"\", #N/A, 'A) Eingabe (Lehrer)'!C95)","v":{"$error":"#N/A"}}]
[53,{"$f":"IF(E86=0, #N/A,AVERAGE('A) Eingabe (Schüler)'!C95:AK95))","v":{"$error":"#N/A"}},{"$f":"IF(E86<2, #N/A, STDEVP('A) Eingabe (Schüler)'!C95:AK95))","v":{"$error":"#N/A"}},{"$error":"#N/A"},{"$f":"COUNT('A) Eingabe (Schüler)'!C95:AK95)","v":0},{"$f":"IF(E86<2,#N/A,COUNTIF('A) Eingabe (Schüler)'!C95:AK95,1))","v":{"$error":"#N/A"}},{"$f":"IF(E86<2,#N/A,COUNTIF('A) Eingabe (Schüler)'!C95:AK95,2))","v":{"$error":"#N/A"}},{"$f":"IF(E86<2,#N/A,COUNTIF('A) Eingabe (Schüler)'!C95:AK95,3))","v":{"$error":"#N/A"}},{"$f":"IF(E86<2,#N/A,COUNTIF('A) Eingabe (Schüler)'!C95:AK95,4))","v":{"$error":"#N/A"}},{"$f":"IF('A) Eingabe (Lehrer)'!C96=\"\", #N/A, 'A) Eingabe (Lehrer)'!C96)","v":{"$error":"#N/A"}},{"$f":"IF(N86=0, #N/A,AVERAGE('A) Eingabe (Lehrer)'!D96:BK96))","v":{"$error":"#N/A"}},{"$f":"IF(N86<2, #N/A, STDEVP('A) Eingabe (Lehrer)'!D96:BK96))","v":{"$error":"#N/A"}},{"$error":"#N/A"},{"$f":"COUNT('A) Eingabe (Lehrer)'!D96:BK96)","v":0},{"$f":"IF(N86<2,#N/A,COUNTIF('A) Eingabe (Lehrer)'!D96:BK96,1))","v":{"$error":"#N/A"}},{"$f":"IF(N86<2,#N/A,COUNTIF('A) Eingabe (Lehrer)'!D96:BK96,2))","v":{"$error":"#N/A"}},{"$f":"IF(N86<2,#N/A,COUNTIF('A) Eingabe (Lehrer)'!D96:BK96,3))","v":{"$error":"#N/A"}},{"$f":"IF(N86<2,#N/A,COUNTIF('A) Eingabe (Lehrer)'!D96:BK96,4))","v":{"$error":"#N/A"}},{"$f":"IF('A) Eingabe (Lehrer)'!C96=\"\", #N/A, 'A) Eingabe (Lehrer)'!C96)","v":{"$error":"#N/A"}}]
[54,{"$f":"IF(E87=0, #N/A,AVERAGE('A) Eingabe (Schüler)'!C96:AK96))","v":{"$error":"#N/A"}},{"$f":"IF(E87<2, #N/A, STDEVP('A) Eingabe (Schüler)'!C96:AK96))","v":{"$error":"#N/A"}},{"$error":"#N/A"},{"$f":"COUNT('A) Eingabe (Schüler)'!C96:AK96)","v":0},{"$f":"IF(E87<2,#N/A,COUNTIF('A) Eingabe (Schüler)'!C96:AK96,1))","v":{"$error":"#N/A"}},{"$f":"IF(E87<2,#N/A,COUNTIF('A) Eingabe (Schüler)'!C96:AK96,2))","v":{"$error":"#N/A"}},{"$f":"IF(E87<2,#N/A,COUNTIF('A) Eingabe (Schüler)'!C96:AK96,3))","v":{"$error":"#N/A"}},{"$f":"IF(E87<2,#N/A,COUNTIF('A) Eingabe (Schüler)'!C96:AK96,4))","v":{"$error":"#N/A"}},{"$f":"IF('A) Eingabe (Lehrer)'!C97=\"\", #N/A, 'A) Eingabe (Lehrer)'!C97)","v":{"$error":"#N/A"}},{"$f":"IF(N87=0, #N/A,AVERAGE('A) Eingabe (Lehrer)'!D97:BK97))","v":{"$error":"#N/A"}},{"$f":"IF(N87<2, #N/A, STDEVP('A) Eingabe (Lehrer)'!D97:BK97))","v":{"$error":"#N/A"}},{"$error":"#N/A"},{"$f":"COUNT('A) Eingabe (Lehrer)'!D97:BK97)","v":0},{"$f":"IF(N87<2,#N/A,COUNTIF('A) Eingabe (Lehrer)'!D97:BK97,1))","v":{"$error":"#N/A"}},{"$f":"IF(N87<2,#N/A,COUNTIF('A) Eingabe (Lehrer)'!D97:BK97,2))","v":{"$error":"#N/A"}},{"$f":"IF(N87<2,#N/A,COUNTIF('A) Eingabe (Lehrer)'!D97:BK97,3))","v":{"$error":"#N/A"}},{"$f":"IF(N87<2,#N/A,COUNTIF('A) Eingabe (Lehrer)'!D97:BK97,4))","v":{"$error":"#N/A"}},{"$f":"IF('A) Eingabe (Lehrer)'!C97=\"\", #N/A, 'A) Eingabe (Lehrer)'!C97)","v":{"$error":"#N/A"}}]
[55,{"$f":"IF(E88=0, #N/A,AVERAGE('A) Eingabe (Schüler)'!C97:AK97))","v":{"$error":"#N/A"}},{"$f":"IF(E88<2, #N/A, STDEVP('A) Eingabe (Schüler)'!C97:AK97))","v":{"$error":"#N/A"}},{"$error":"#N/A"},{"$f":"COUNT('A) Eingabe (Schüler)'!C97:AK97)","v":0},{"$f":"IF(E88<2,#N/A,COUNTIF('A) Eingabe (Schüler)'!C97:AK97,1))","v":{"$error":"#N/A"}},{"$f":"IF(E88<2,#N/A,COUNTIF('A) Eingabe (Schüler)'!C97:AK97,2))","v":{"$error":"#N/A"}},{"$f":"IF(E88<2,#N/A,COUNTIF('A) Eingabe (Schüler)'!C97:AK97,3))","v":{"$error":"#N/A"}},{"$f":"IF(E88<2,#N/A,COUNTIF('A) Eingabe (Schüler)'!C97:AK97,4))","v":{"$error":"#N/A"}},{"$f":"IF('A) Eingabe (Lehrer)'!C98=\"\", #N/A, 'A) Eingabe (Lehrer)'!C98)","v":{"$error":"#N/A"}},{"$f":"IF(N88=0, #N/A,AVERAGE('A) Eingabe (Lehrer)'!D98:BK98))","v":{"$error":"#N/A"}},{"$f":"IF(N88<2, #N/A, STDEVP('A) Eingabe (Lehrer)'!D98:BK98))","v":{"$error":"#N/A"}},{"$error":"#N/A"},{"$f":"COUNT('A) Eingabe (Lehrer)'!D98:BK98)","v":0},{"$f":"IF(N88<2,#N/A,COUNTIF('A) Eingabe (Lehrer)'!D98:BK98,1))","v":{"$error":"#N/A"}},{"$f":"IF(N88<2,#N/A,COUNTIF('A) Eingabe (Lehrer)'!D98:BK98,2))","v":{"$error":"#N/A"}},{"$f":"IF(N88<2,#N/A,COUNTIF('A) Eingabe (Lehrer)'!D98:BK98,3))","v":{"$error":"#N/A"}},{"$f":"IF(N88<2,#N/A,COUNTIF('A) Eingabe (Lehrer)'!D98:BK98,4))","v":{"$error":"#N/A"}},{"$f":"IF('A) Eingabe (Lehrer)'!C98=\"\", #N/A, 'A) Eingabe (Lehrer)'!C98)","v":{"$error":"#N/A"}}]
[56,{"$f":"IF(E89=0, #N/A,AVERAGE('A) Eingabe (Schüler)'!C98:AK98))","v":{"$error":"#N/A"}},{"$f":"IF(E89<2, #N/A, STDEVP('A) Eingabe (Schüler)'!C98:AK98))","v":{"$error":"#N/A"}},{"$error":"#N/A"},{"$f":"COUNT('A) Eingabe (Schüler)'!C98:AK98)","v":0},{"$f":"IF(E89<2,#N/A,COUNTIF('A) Eingabe (Schüler)'!C98:AK98,1))","v":{"$error":"#N/A"}},{"$f":"IF(E89<2,#N/A,COUNTIF('A) Eingabe (Schüler)'!C98:AK98,2))","v":{"$error":"#N/A"}},{"$f":"IF(E89<2,#N/A,COUNTIF('A) Eingabe (Schüler)'!C98:AK98,3))","v":{"$error":"#N/A"}},{"$f":"IF(E89<2,#N/A,COUNTIF('A) Eingabe (Schüler)'!C98:AK98,4))","v":{"$error":"#N/A"}},{"$f":"IF('A) Eingabe (Lehrer)'!C99=\"\", #N/A, 'A) Eingabe (Lehrer)'!C99)","v":{"$error":"#N/A"}},{"$f":"IF(N89=0, #N/A,AVERAGE('A) Eingabe (Lehrer)'!D99:BK99))","v":{"$error":"#N/A"}},{"$f":"IF(N89<2, #N/A, STDEVP('A) Eingabe (Lehrer)'!D99:BK99))","v":{"$error":"#N/A"}},{"$error":"#N/A"},{"$f":"COUNT('A) Eingabe (Lehrer)'!D99:BK99)","v":0},{"$f":"IF(N89<2,#N/A,COUNTIF('A) Eingabe (Lehrer)'!D99:BK99,1))","v":{"$error":"#N/A"}},{"$f":"IF(N89<2,#N/A,COUNTIF('A) Eingabe (Lehrer)'!D99:BK99,2))","v":{"$error":"#N/A"}},{"$f":"IF(N89<2,#N/A,COUNTIF('A) Eingabe (Lehrer)'!D99:BK99,3))","v":{"$error":"#N/A"}},{"$f":"IF(N89<2,#N/A,COUNTIF('A) Eingabe (Lehrer)'!D99:BK99,4))","v":{"$error":"#N/A"}},{"$f":"IF('A) Eingabe (Lehrer)'!C99=\"\", #N/A, 'A) Eingabe (Lehrer)'!C99)","v":{"$error":"#N/A"}}]
[57,{"$f":"IF(E90=0, #N/A,AVERAGE('A) Eingabe (Schüler)'!C99:AK99))","v":{"$error":"#N/A"}},{"$f":"IF(E90<2, #N/A, STDEVP('A) Eingabe (Schüler)'!C99:AK99))","v":{"$error":"#N/A"}},{"$error":"#N/A"},{"$f":"COUNT('A) Eingabe (Schüler)'!C99:AK99)","v":0},{"$f":"IF(E90<2,#N/A,COUNTIF('A) Eingabe (Schüler)'!C99:AK99,1))","v":{"$error":"#N/A"}},{"$f":"IF(E90<2,#N/A,COUNTIF('A) Eingabe (Schüler)'!C99:AK99,2))","v":{"$error":"#N/A"}},{"$f":"IF(E90<2,#N/A,COUNTIF('A) Eingabe (Schüler)'!C99:AK99,3))","v":{"$error":"#N/A"}},{"$f":"IF(E90<2,#N/A,COUNTIF('A) Eingabe (Schüler)'!C99:AK99,4))","v":{"$error":"#N/A"}},{"$f":"IF('A) Eingabe (Lehrer)'!C100=\"\", #N/A, 'A) Eingabe (Lehrer)'!C100)","v":{"$error":"#N/A"}},{"$f":"IF(N90=0, #N/A,AVERAGE('A) Eingabe (Lehrer)'!D100:BK100))","v":{"$error":"#N/A"}},{"$f":"IF(N90<2, #N/A, STDEVP('A) Eingabe (Lehrer)'!D100:BK100))","v":{"$error":"#N/A"}},{"$error":"#N/A"},{"$f":"COUNT('A) Eingabe (Lehrer)'!D100:BK100)","v":0},{"$f":"IF(N90<2,#N/A,COUNTIF('A) Eingabe (Lehrer)'!D100:BK100,1))","v":{"$error":"#N/A"}},{"$f":"IF(N90<2,#N/A,COUNTIF('A) Eingabe (Lehrer)'!D100:BK100,2))","v":{"$error":"#N/A"}},{"$f":"IF(N90<2,#N/A,COUNTIF('A) Eingabe (Lehrer)'!D100:BK100,3))","v":{"$error":"#N/A"}},{"$f":"IF(N90<2,#N/A,COUNTIF('A) Eingabe (Lehrer)'!D100:BK100,4))","v":{"$error":"#N/A"}},{"$f":"IF('A) Eingabe (Lehrer)'!C100=\"\", #N/A, 'A) Eingabe (Lehrer)'!C100)","v":{"$error":"#N/A"}}]
[58,{"$f":"IF(E91=0, #N/A,AVERAGE('A) Eingabe (Schüler)'!C100:AK100))","v":{"$error":"#N/A"}},{"$f":"IF(E91<2, #N/A, STDEVP('A) Eingabe (Schüler)'!C100:AK100))","v":{"$error":"#N/A"}},{"$error":"#N/A"},{"$f":"COUNT('A) Eingabe (Schüler)'!C100:AK100)","v":0},{"$f":"IF(E91<2,#N/A,COUNTIF('A) Eingabe (Schüler)'!C100:AK100,1))","v":{"$error":"#N/A"}},{"$f":"IF(E91<2,#N/A,COUNTIF('A) Eingabe (Schüler)'!C100:AK100,2))","v":{"$error":"#N/A"}},{"$f":"IF(E91<2,#N/A,COUNTIF('A) Eingabe (Schüler)'!C100:AK100,3))","v":{"$error":"#N/A"}},{"$f":"IF(E91<2,#N/A,COUNTIF('A) Eingabe (Schüler)'!C100:AK100,4))","v":{"$error":"#N/A"}},{"$f":"IF('A) Eingabe (Lehrer)'!C101=\"\", #N/A, 'A) Eingabe (Lehrer)'!C101)","v":{"$error":"#N/A"}},{"$f":"IF(N91=0, #N/A,AVERAGE('A) Eingabe (Lehrer)'!D101:BK101))","v":{"$error":"#N/A"}},{"$f":"IF(N91<2, #N/A, STDEVP('A) Eingabe (Lehrer)'!D101:BK101))","v":{"$error":"#N/A"}},{"$error":"#N/A"},{"$f":"COUNT('A) Eingabe (Lehrer)'!D101:BK101)","v":0},{"$f":"IF(N91<2,#N/A,COUNTIF('A) Eingabe (Lehrer)'!D101:BK101,1))","v":{"$error":"#N/A"}},{"$f":"IF(N91<2,#N/A,COUNTIF('A) Eingabe (Lehrer)'!D101:BK101,2))","v":{"$error":"#N/A"}},{"$f":"IF(N91<2,#N/A,COUNTIF('A) Eingabe (Lehrer)'!D101:BK101,3))","v":{"$error":"#N/A"}},{"$f":"IF(N91<2,#N/A,COUNTIF('A) Eingabe (Lehrer)'!D101:BK101,4))","v":{"$error":"#N/A"}},{"$f":"IF('A) Eingabe (Lehrer)'!C101=\"\", #N/A, 'A) Eingabe (Lehrer)'!C101)","v":{"$error":"#N/A"}}]
[59,{"$f":"IF(E92=0, #N/A,AVERAGE('A) Eingabe (Schüler)'!C101:AK101))","v":{"$error":"#N/A"}},{"$f":"IF(E92<2, #N/A, STDEVP('A) Eingabe (Schüler)'!C101:AK101))","v":{"$error":"#N/A"}},{"$error":"#N/A"},{"$f":"COUNT('A) Eingabe (Schüler)'!C101:AK101)","v":0},{"$f":"IF(E92<2,#N/A,COUNTIF('A) Eingabe (Schüler)'!C101:AK101,1))","v":{"$error":"#N/A"}},{"$f":"IF(E92<2,#N/A,COUNTIF('A) Eingabe (Schüler)'!C101:AK101,2))","v":{"$error":"#N/A"}},{"$f":"IF(E92<2,#N/A,COUNTIF('A) Eingabe (Schüler)'!C101:AK101,3))","v":{"$error":"#N/A"}},{"$f":"IF(E92<2,#N/A,COUNTIF('A) Eingabe (Schüler)'!C101:AK101,4))","v":{"$error":"#N/A"}},{"$f":"IF('A) Eingabe (Lehrer)'!C102=\"\", #N/A, 'A) Eingabe (Lehrer)'!C102)","v":{"$error":"#N/A"}},{"$f":"IF(N92=0, #N/A,AVERAGE('A) Eingabe (Lehrer)'!D102:BK102))","v":{"$error":"#N/A"}},{"$f":"IF(N92<2, #N/A, STDEVP('A) Eingabe (Lehrer)'!D102:BK102))","v":{"$error":"#N/A"}},{"$error":"#N/A"},{"$f":"COUNT('A) Eingabe (Lehrer)'!D102:BK102)","v":0},{"$f":"IF(N92<2,#N/A,COUNTIF('A) Eingabe (Lehrer)'!D102:BK102,1))","v":{"$error":"#N/A"}},{"$f":"IF(N92<2,#N/A,COUNTIF('A) Eingabe (Lehrer)'!D102:BK102,2))","v":{"$error":"#N/A"}},{"$f":"IF(N92<2,#N/A,COUNTIF('A) Eingabe (Lehrer)'!D102:BK102,3))","v":{"$error":"#N/A"}},{"$f":"IF(N92<2,#N/A,COUNTIF('A) Eingabe (Lehrer)'!D102:BK102,4))","v":{"$error":"#N/A"}},{"$f":"IF('A) Eingabe (Lehrer)'!C102=\"\", #N/A, 'A) Eingabe (Lehrer)'!C102)","v":{"$error":"#N/A"}}]
[60,{"$f":"IF(E93=0, #N/A,AVERAGE('A) Eingabe (Schüler)'!C102:AK102))","v":{"$error":"#N/A"}},{"$f":"IF(E93<2, #N/A, STDEVP('A) Eingabe (Schüler)'!C102:AK102))","v":{"$error":"#N/A"}},{"$error":"#N/A"},{"$f":"COUNT('A) Eingabe (Schüler)'!C102:AK102)","v":0},{"$f":"IF(E93<2,#N/A,COUNTIF('A) Eingabe (Schüler)'!C102:AK102,1))","v":{"$error":"#N/A"}},{"$f":"IF(E93<2,#N/A,COUNTIF('A) Eingabe (Schüler)'!C102:AK102,2))","v":{"$error":"#N/A"}},{"$f":"IF(E93<2,#N/A,COUNTIF('A) Eingabe (Schüler)'!C102:AK102,3))","v":{"$error":"#N/A"}},{"$f":"IF(E93<2,#N/A,COUNTIF('A) Eingabe (Schüler)'!C102:AK102,4))","v":{"$error":"#N/A"}},{"$f":"IF('A) Eingabe (Lehrer)'!C103=\"\", #N/A, 'A) Eingabe (Lehrer)'!C103)","v":{"$error":"#N/A"}},{"$f":"IF(N93=0, #N/A,AVERAGE('A) Eingabe (Lehrer)'!D103:BK103))","v":{"$error":"#N/A"}},{"$f":"IF(N93<2, #N/A, STDEVP('A) Eingabe (Lehrer)'!D103:BK103))","v":{"$error":"#N/A"}},{"$error":"#N/A"},{"$f":"COUNT('A) Eingabe (Lehrer)'!D103:BK103)","v":0},{"$f":"IF(N93<2,#N/A,COUNTIF('A) Eingabe (Lehrer)'!D103:BK103,1))","v":{"$error":"#N/A"}},{"$f":"IF(N93<2,#N/A,COUNTIF('A) Eingabe (Lehrer)'!D103:BK103,2))","v":{"$error":"#N/A"}},{"$f":"IF(N93<2,#N/A,COUNTIF('A) Eingabe (Lehrer)'!D103:BK103,3))","v":{"$error":"#N/A"}},{"$f":"IF(N93<2,#N/A,COUNTIF('A) Eingabe (Lehrer)'!D103:BK103,4))","v":{"$error":"#N/A"}},{"$f":"IF('A) Eingabe (Lehrer)'!C103=\"\", #N/A, 'A) Eingabe (Lehrer)'!C103)","v":{"$error":"#N/A"}}]
[]
[null,"Beurteilertendenzen"]
[null,null,"Rater ID","MW"]
[null,"Rater 1",{"$f":"'A) Temp'!B96","v":0},{"$f":"'A) Temp'!C96","v":""},{"$f":"IF(D97<>\"\",D158, #N/A)","v":{"$error":"#N/A"}}]
[null,"Rater 2",{"$f":"'A) Temp'!B97","v":0},{"$f":"'A) Temp'!C97","v":""},{"$f":"IF(D98<>\"\",D158, #N/A)","v":{"$error":"#N/A"}}]
[null,"Rater 3",{"$f":"'A) Temp'!B98","v":0},{"$f":"'A) Temp'!C98","v":""},{"$f":"IF(D99<>\"\",D158, #N/A)","v":{"$error":"#N/A"}}]
[null,"Rater 4",{"$f":"'A) Temp'!B99","v":0},{"$f":"'A) Temp'!C99","v":""},{"$f":"IF(D100<>\"\",D158, #N/A)","v":{"$error":"#N/A"}}]
[null,"Rater 5",{"$f":"'A) Temp'!B100","v":0},{"$f":"'A) Temp'!C100","v":""},{"$f":"IF(D101<>\"\",D158, #N/A)","v":{"$error":"#N/A"}}]
[null,"Rater 6",{"$f":"'A) Temp'!B101","v":0},{"$f":"'A) Temp'!C101","v":""},{"$f":"IF(D102<>\"\",D158, #N/A)","v":{"$error":"#N/A"}}]
[null,"Rater 7",{"$f":"'A) Temp'!B102","v":0},{"$f":"'A) Temp'!C102","v":""},{"$f":"IF(D103<>\"\",D158, #N/A)","v":{"$error":"#N/A"}}]
[null,"Rater 8",{"$f":"'A) Temp'!B103","v":0},{"$f":"'A) Temp'!C103","v":""},{"$f":"IF(D104<>\"\",D158, #N/A)","v":{"$error":"#N/A"}}]
[null,"Rater 9",{"$f":"'A) Temp'!B104","v":0},{"$f":"'A) Temp'!C104","v":""},{"$f":"IF(D105<>\"\",D158, #N/A)","v":{"$error":"#N/A"}}]
[null,"Rater 10",{"$f":"'A) Temp'!B105","v":0},{"$f":"'A) Temp'!C105","v":""},{"$f":"IF(D106<>\"\",D158, #N/A)","v":{"$error":"#N/A"}}]
[null,"Rater 11",{"$f":"'A) Temp'!B106","v":0},{"$f":"'A) Temp'!C106","v":""},{"$f":"IF(D107<>\"\",D158, #N/A)","v":{"$error":"#N/A"}}]
[null,"Rater 12",{"$f":"'A) Temp'!B107","v":0},{"$f":"'A) Temp'!C107","v":""},{"$f":"IF(D108<>\"\",D158, #N/A)","v":{"$error":"#N/A"}}]
[null,"Rater 13",{"$f":"'A) Temp'!B108","v":0},{"$f":"'A) Temp'!C108","v":""},{"$f":"IF(D109<>\"\",D158, #N/A)","v":{"$error":"#N/A"}}]
[null,"Rater 14",{"$f":"'A) Temp'!B109","v":0},{"$f":"'A) Temp'!C109","v":""},{"$f":"IF(D110<>\"\",D158, #N/A)","v":{"$error":"#N/A"}}]
[null,"Rater 15",{"$f":"'A) Temp'!B110","v":0},{"$f":"'A) Temp'!C110","v":""},{"$f":"IF(D111<>\"\",D158, #N/A)","v":{"$error":"#N/A"}}]
[null,"Rater 16",{"$f":"'A) Temp'!B111","v":0},{"$f":"'A) Temp'!C111","v":""},{"$f":"IF(D112<>\"\",D158, #N/A)","v":{"$error":"#N/A"}}]
[null,"Rater 17",{"$f":"'A) Temp'!B112","v":0},{"$f":"'A) Temp'!C112","v":""},{"$f":"IF(D113<>\"\",D158, #N/A)","v":{"$error":"#N/A"}}]
[null,"Rater 18",{"$f":"'A) Temp'!B113","v":0},{"$f":"'A) Temp'!C113","v":""},{"$f":"IF(D114<>\"\",D158, #N/A)","v":{"$error":"#N/A"}}]
[null,"Rater 19",{"$f":"'A) Temp'!B114","v":0},{"$f":"'A) Temp'!C114","v":""},{"$f":"IF(D115<>\"\",D158, #N/A)","v":{"$error":"#N/A"}}]
[null,"Rater 20",{"$f":"'A) Temp'!B115","v":0},{"$f":"'A) Temp'!C115","v":""},{"$f":"IF(D116<>\"\",D158, #N/A)","v":{"$error":"#N/A"}}]
[null,"Rater 21",{"$f":"'A) Temp'!B116","v":0},{"$f":"'A) Temp'!C116","v":""},{"$f":"IF(D117<>\"\",D158, #N/A)","v":{"$error":"#N/A"}}]
[null,"Rater 22",{"$f":"'A) Temp'!B117","v":0},{"$f":"'A) Temp'!C117","v":""},{"$f":"IF(D118<>\"\",D158, #N/A)","v":{"$error":"#N/A"}}]
[null,"Rater 23",{"$f":"'A) Temp'!B118","v":0},{"$f":"'A) Temp'!C118","v":""},{"$f":"IF(D119<>\"\",D158, #N/A)","v":{"$error":"#N/A"}}]
[null,"Rater 24",{"$f":"'A) Temp'!B119","v":0},{"$f":"'A) Temp'!C119","v":""},{"$f":"IF(D120<>\"\",D158, #N/A)","v":{"$error":"#N/A"}}]
[null,"Rater 25",{"$f":"'A) Temp'!B120","v":0},{"$f":"'A) Temp'!C120","v":""},{"$f":"IF(D121<>\"\",D158, #N/A)","v":{"$error":"#N/A"}}]
[null,"Rater 26",{"$f":"'A) Temp'!B121","v":0},{"$f":"'A) Temp'!C121","v":""},{"$f":"IF(D122<>\"\",D158, #N/A)","v":{"$error":"#N/A"}}]
[null,"Rater 27",{"$f":"'A) Temp'!B122","v":0},{"$f":"'A) Temp'!C122","v":""},{"$f":"IF(D123<>\"\",D158, #N/A)","v":{"$error":"#N/A"}}]
[null,"Rater 28",{"$f":"'A) Temp'!B123","v":0},{"$f":"'A) Temp'!C123","v":""},{"$f":"IF(D124<>\"\",D158, #N/A)","v":{"$error":"#N/A"}}]
[null,"Rater 29",{"$f":"'A) Temp'!B124","v":0},{"$f":"'A) Temp'!C124","v":""},{"$f":"IF(D125<>\"\",D158, #N/A)","v":{"$error":"#N/A"}}]
[null,"Rater 30",{"$f":"'A) Temp'!B125","v":0},{"$f":"'A) Temp'!C125","v":""},{"$f":"IF(D126<>\"\",D158, #N/A)","v":{"$error":"#N/A"}}]
[null,"Rater 31",{"$f":"'A) Temp'!B126","v":0},{"$f":"'A) Temp'!C126","v":""},{"$f":"IF(D127<>\"\",D158, #N/A)","v":{"$error":"#N/A"}}]
[null,"Rater 32",{"$f":"'A) Temp'!B127","v":0},{"$f":"'A) Temp'!C127","v":""},{"$f":"IF(D128<>\"\",D158, #N/A)","v":{"$error":"#N/A"}}]
[null,"Rater 33",{"$f":"'A) Temp'!B128","v":0},{"$f":"'A) Temp'!C128","v":""},{"$f":"IF(D129<>\"\",D158, #N/A)","v":{"$error":"#N/A"}}]
[null,"Rater 34",{"$f":"'A) Temp'!B129","v":0},{"$f":"'A) Temp'!C129","v":""},{"$f":"IF(D130<>\"\",D158, #N/A)","v":{"$error":"#N/A"}}]
[null,"Rater 35",{"$f":"'A) Temp'!B130","v":0},{"$f":"'A) Temp'!C130","v":""},{"$f":"IF(D131<>\"\",D158, #N/A)","v":{"$error":"#N/A"}}]
[null,"Rater 36",{"$f":"'A) Temp'!B131","v":0},{"$f":"'A) Temp'!C131","v":""},{"$f":"IF(D132<>\"\",D158, #N/A)","v":{"$error":"#N/A"}}]
[null,"Rater 37",{"$f":"'A) Temp'!B132","v":0},{"$f":"'A) Temp'!C132","v":""},{"$f":"IF(D133<>\"\",D158, #N/A)","v":{"$error":"#N/A"}}]
[null,"Rater 38",{"$f":"'A) Temp'!B133","v":0},{"$f":"'A) Temp'!C133","v":""},{"$f":"IF(D134<>\"\",D158, #N/A)","v":{"$error":"#N/A"}}]
[null,"Rater 39",{"$f":"'A) Temp'!B134","v":0},{"$f":"'A) Temp'!C134","v":""},{"$f":"IF(D135<>\"\",D158, #N/A)","v":{"$error":"#N/A"}}]
[null,"Rater 40",{"$f":"'A) Temp'!B135","v":0},{"$f":"'A) Temp'!C135","v":""},{"$f":"IF(D136<>\"\",D158, #N/A)","v":{"$error":"#N/A"}}]
[null,"Rater 41",{"$f":"'A) Temp'!B136","v":0},{"$f":"'A) Temp'!C136","v":""},{"$f":"IF(D137<>\"\",D158, #N/A)","v":{"$error":"#N/A"}}]
[null,"Rater 42",{"$f":"'A) Temp'!B137","v":0},{"$f":"'A) Temp'!C137","v":""},{"$f":"IF(D138<>\"\",D158, #N/A)","v":{"$error":"#N/A"}}]
[null,"Rater 43",{"$f":"'A) Temp'!B138","v":0},{"$f":"'A) Temp'!C138","v":""},{"$f":"IF(D139<>\"\",D158, #N/A)","v":{"$error":"#N/A"}}]
[null,"Rater 44",{"$f":"'A) Temp'!B139","v":0},{"$f":"'A) Temp'!C139","v":""},{"$f":"IF(D140<>\"\",D158, #N/A)","v":{"$error":"#N/A"}}]
[null,"Rater 45",{"$f":"'A) Temp'!B140","v":0},{"$f":"'A) Temp'!C140","v":""},{"$f":"IF(D141<>\"\",D158, #N/A)","v":{"$error":"#N/A"}}]
[null,"Rater 46",{"$f":"'A) Temp'!B141","v":0},{"$f":"'A) Temp'!C141","v":""},{"$f":"IF(D142<>\"\",D158, #N/A)","v":{"$error":"#N/A"}}]
[null,"Rater 47",{"$f":"'A) Temp'!B142","v":0},{"$f":"'A) Temp'!C142","v":""},{"$f":"IF(D143<>\"\",D158, #N/A)","v":{"$error":"#N/A"}}]
[null,"Rater 48",{"$f":"'A) Temp'!B143","v":0},{"$f":"'A) Temp'!C143","v":""},{"$f":"IF(D144<>\"\",D158, #N/A)","v":{"$error":"#N/A"}}]
[null,"Rater 49",{"$f":"'A) Temp'!B144","v":0},{"$f":"'A) Temp'!C144","v":""},{"$f":"IF(D145<>\"\",D158, #N/A)","v":{"$error":"#N/A"}}]
[null,"Rater 50",{"$f":"'A) Temp'!B145","v":0},{"$f":"'A) Temp'!C145","v":""},{"$f":"IF(D146<>\"\",D158, #N/A)","v":{"$error":"#N/A"}}]
[null,"Rater 51",{"$f":"'A) Temp'!B146","v":0},{"$f":"'A) Temp'!C146","v":""},{"$f":"IF(D147<>\"\",D158, #N/A)","v":{"$error":"#N/A"}}]
[null,"Rater 52",{"$f":"'A) Temp'!B147","v":0},{"$f":"'A) Temp'!C147","v":""},{"$f":"IF(D148<>\"\",D158, #N/A)","v":{"$error":"#N/A"}}]
[null,"Rater 53",{"$f":"'A) Temp'!B148","v":0},{"$f":"'A) Temp'!C148","v":""},{"$f":"IF(D149<>\"\",D158, #N/A)","v":{"$error":"#N/A"}}]
[null,"Rater 54",{"$f":"'A) Temp'!B149","v":0},{"$f":"'A) Temp'!C149","v":""},{"$f":"IF(D150<>\"\",D158, #N/A)","v":{"$error":"#N/A"}}]
[null,"Rater 55",{"$f":"'A) Temp'!B150","v":0},{"$f":"'A) Temp'!C150","v":""},{"$f":"IF(D151<>\"\",D158, #N/A)","v":{"$error":"#N/A"}}]
[null,"Rater 56",{"$f":"'A) Temp'!B151","v":0},{"$f":"'A) Temp'!C151","v":""},{"$f":"IF(D152<>\"\",D158, #N/A)","v":{"$error":"#N/A"}}]
[null,"Rater 57",{"$f":"'A) Temp'!B152","v":0},{"$f":"'A) Temp'!C152","v":""},{"$f":"IF(D153<>\"\",D158, #N/A)","v":{"$error":"#N/A"}}]
[null,"Rater 58",{"$f":"'A) Temp'!B153","v":85},{"$f":"'A) Temp'!C153","v":"Koll2"},{"$f":"IF(D154<>\"\",D158, #N/A)","v":{"$error":"#DIV/0!"}}]
[null,"Rater 59",{"$f":"'A) Temp'!B154","v":85},{"$f":"'A) Temp'!C154","v":"Kollege1"},{"$f":"IF(D155<>\"\",D158, #N/A)","v":{"$error":"#DIV/0!"}}]
[null,"Rater 60",{"$f":"'A) Temp'!B155","v":85},{"$f":"'A) Temp'!C155","v":"Lehrer"},{"$f":"IF(D156<>\"\",D158, #N/A)","v":{"$error":"#DIV/0!"}}]
[null,"Rater 61",{"$f":"'A) Temp'!B156","v":""},{"$f":"'A) Temp'!C156","v":""},{"$f":"IF(D157<>\"\",D158, #N/A)","v":{"$error":"#N/A"}}]
[null,null,"MW aller",{"$f":"AVERAGE(D97:D157)","v":{"$error":"#DIV/0!"}}]
[null,null,null,{"$f":"IF(D97<>\"\",D97, #N/A)","v":{"$error":"#N/A"}}]
[null,null,null,{"$f":"IF(D98<>\"\",D98, #N/A)","v":{"$error":"#N/A"}}]
[null,null,null,{"$error":"#N/A"}]
[null,null,null,{"$error":"#N/A"}]
[null,null,null,{"$error":"#N/A"}]
[null,null,null,{"$error":"#N/A"}]
[null,null,null,{"$error":"#N/A"}]
[null,null,null,{"$error":"#N/A"}]
[null,null,null,{"$error":"#N/A"}]
[null,null,null,{"$error":"#N/A"}]
[null,null,null,{"$error":"#N/A"}]
[null,null,null,{"$error":"#N/A"}]
[null,null,null,{"$error":"#N/A"}]
[null,null,null,{"$error":"#N/A"}]
[null,null,null,{"$error":"#N/A"}]
[null,null,null,{"$error":"#N/A"}]
[null,null,null,{"$error":"#N/A"}]
[null,null,null,{"$error":"#N/A"}]
[null,null,null,{"$error":"#N/A"}]
[null,null,null,{"$error":"#N/A"}]
[null,null,null,{"$error":"#N/A"}]
[null,null,null,{"$error":"#N/A"}]
[null,null,null,{"$error":"#N/A"}]
[null,null,null,{"$error":"#N/A"}]
[null,null,null,{"$error":"#N/A"}]
[null,null,null,{"$error":"#N/A"}]
[null,null,null,{"$error":"#N/A"}]
[null,null,null,{"$error":"#N/A"}]
[null,null,null,{"$error":"#N/A"}]
[null,null,null,{"$error":"#N/A"}]
[null,null,null,{"$error":"#N/A"}]
[null,null,null,{"$error":"#N/A"}]
[null,null,null,{"$error":"#N/A"}]
[null,null,null,{"$error":"#N/A"}]
[null,null,null,{"$error":"#N/A"}]
[null,null,null,{"$error":"#N/A"}]
[null,null,null,{"$error":"#N/A"}]
[null,null,null,{"$error":"#N/A"}]
[null,null,null,{"$error":"#N/A"}]
[null,null,null,{"$error":"#N/A"}]
[null,null,null,{"$error":"#N/A"}]
[null,null,null,{"$error":"#N/A"}]
[null,null,null,{"$error":"#N/A"}]
[null,null,null,{"$error":"#N/A"}]
[null,null,null,{"$error":"#N/A"}]
[null,null,null,{"$error":"#N/A"}]
[null,null,null,{"$error":"#N/A"}]
[null,null,null,{"$error":"#N/A"}]
[null,null,null,{"$error":"#N/A"}]
[null,null,null,{"$error":"#N/A"}]
[null,null,null,{"$error":"#N/A"}]
[null,null,null,{"$error":"#N/A"}]
[null,null,null,{"$error":"#N/A"}]
[null,null,null,{"$error":"#N/A"}]
[null,null,null,{"$error":"#N/A"}]
[null,null,null,{"$error":"#N/A"}]
[null,null,null,{"$error":"#N/A"}]
[null,null,null,"Koll2"]
[null,null,null,"Kollege1"]
[null,null,null,"Lehrer"]
[null,null,null,{"$error":"#N/A"}]
[null,"Item 30 Kollegen"]
[null,null,1,2,3,4,5,6,7,8,9,10,11,12,13,14,15,16,17,18,19,20,21,22,23,24,25,26,27,28,29,30,31,32,33,34,35,36,37,38,39,40,41,42,43,44,45,46,47,48,49,50,51,52,53,54,55,56,57,58,59,60,{"$error":"#N/A"},"Summe","N","MW","%"]
[]
["zu leicht","zu leicht"]
["etwas zu leicht","etwas zu leicht"]
["genau richtig","genau richtig"]
["etwas zu schwierig","etwas zu schwierig"]
["zu schwierig","zu schwierig"]
["fehlende Angaben","fehlende Angaben"]

{"sheet":"A) Temp","index":10,"n_rows":156,"n_cols":62,"rows_kept":156,"cut":false,"hidden":true,"merged":[]}
["Beurteilungstendenzen",1,2,3,4,5,6,7,8,9,10,11,12,13,14,15,16,17,18,19,20,21,22,23,24,25,26,27,28,29,30,31,32,33,34,35,36,37,38,39,40,41,42,43,44,45,46,47,48,49,50,51,52,53,54,55,56,57,58,59,60,61]
["ID",{"$f":"IF('A) Eingabe (Lehrer)'!C9=\"\", \"\", 'A) Eingabe (Lehrer)'!C9)","v":""},{"$f":"IF('A) Eingabe (Lehrer)'!D9=\"\", \"\", 'A) Eingabe (Lehrer)'!D9)","v":"1"},{"$f":"IF('A) Eingabe (Lehrer)'!E9=\"\", \"\", 'A) Eingabe (Lehrer)'!E9)","v":"2"},{"$f":"IF('A) Eingabe (Lehrer)'!F9=\"\", \"\", 'A) Eingabe (Lehrer)'!F9)","v":"3"},{"$f":"IF('A) Eingabe (Lehrer)'!G9=\"\", \"\", 'A) Eingabe (Lehrer)'!G9)","v":"4"},{"$f":"IF('A) Eingabe (Lehrer)'!H9=\"\", \"\", 'A) Eingabe (Lehrer)'!H9)","v":"5"},{"$f":"IF('A) Eingabe (Lehrer)'!I9=\"\", \"\", 'A) Eingabe (Lehrer)'!I9)","v":"6"},{"$f":"IF('A) Eingabe (Lehrer)'!J9=\"\", \"\", 'A) Eingabe (Lehrer)'!J9)","v":"7"},{"$f":"IF('A) Eingabe (Lehrer)'!K9=\"\", \"\", 'A) Eingabe (Lehrer)'!K9)","v":"8"},{"$f":"IF('A) Eingabe (Lehrer)'!L9=\"\", \"\", 'A) Eingabe (Lehrer)'!L9)","v":"9"},{"$f":"IF('A) Eingabe (Lehrer)'!M9=\"\", \"\", 'A) Eingabe (Lehrer)'!M9)","v":"10"},{"$f":"IF('A) Eingabe (Lehrer)'!N9=\"\", \"\", 'A) Eingabe (Lehrer)'!N9)","v":"11"},{"$f":"IF('A) Eingabe (Lehrer)'!O9=\"\", \"\", 'A) Eingabe (Lehrer)'!O9)","v":"12"},{"$f":"IF('A) Eingabe (Lehrer)'!P9=\"\", \"\", 'A) Eingabe (Lehrer)'!P9)","v":"13"},{"$f":"IF('A) Eingabe (Lehrer)'!Q9=\"\", \"\", 'A) Eingabe (Lehrer)'!Q9)","v":"14"},{"$f":"IF('A) Eingabe (Lehrer)'!R9=\"\", \"\", 'A) Eingabe (Lehrer)'!R9)","v":"15"},{"$f":"IF('A) Eingabe (Lehrer)'!S9=\"\", \"\", 'A) Eingabe (Lehrer)'!S9)","v":"16"},{"$f":"IF('A) Eingabe (Lehrer)'!T9=\"\", \"\", 'A) Eingabe (Lehrer)'!T9)","v":"17"},{"$f":"IF('A) Eingabe (Lehrer)'!U9=\"\", \"\", 'A) Eingabe (Lehrer)'!U9)","v":"18"},{"$f":"IF('A) Eingabe (Lehrer)'!V9=\"\", \"\", 'A) Eingabe (Lehrer)'!V9)","v":"19"},{"$f":"IF('A) Eingabe (Lehrer)'!W9=\"\", \"\", 'A) Eingabe (Lehrer)'!W9)","v":"20"},{"$f":"IF('A) Eingabe (Lehrer)'!X9=\"\", \"\", 'A) Eingabe (Lehrer)'!X9)","v":"21"},{"$f":"IF('A) Eingabe (Lehrer)'!Y9=\"\", \"\", 'A) Eingabe (Lehrer)'!Y9)","v":"22"},{"$f":"IF('A) Eingabe (Lehrer)'!Z9=\"\", \"\", 'A) Eingabe (Lehrer)'!Z9)","v":"23"},{"$f":"IF('A) Eingabe (Lehrer)'!AA9=\"\", \"\", 'A) Eingabe (Lehrer)'!AA9)","v":"24"},{"$f":"IF('A) Eingabe (Lehrer)'!AB9=\"\", \"\", 'A) Eingabe (Lehrer)'!AB9)","v":"25"},{"$f":"IF('A) Eingabe (Lehrer)'!AC9=\"\", \"\", 'A) Eingabe (Lehrer)'!AC9)","v":"26"},{"$f":"IF('A) Eingabe (Lehrer)'!AD9=\"\", \"\", 'A) Eingabe (Lehrer)'!AD9)","v":"27"},{"$f":"IF('A) Eingabe (Lehrer)'!AE9=\"\", \"\", 'A) Eingabe (Lehrer)'!AE9)","v":"28"},{"$f":"IF('A) Eingabe (Lehrer)'!AF9=\"\", \"\", 'A) Eingabe (Lehrer)'!AF9)","v":"29"},{"$f":"IF('A) Eingabe (Lehrer)'!AG9=\"\", \"\", 'A) Eingabe (Lehrer)'!AG9)","v":"30"},{"$f":"IF('A) Eingabe (Lehrer)'!AH9=\"\", \"\", 'A) Eingabe (Lehrer)'!AH9)","v":"31"},{"$f":"IF('A) Eingabe (Lehrer)'!AI9=\"\", \"\", 'A) Eingabe (Lehrer)'!AI9)","v":"32"},{"$f":"IF('A) Eingabe (Lehrer)'!AJ9=\"\", \"\", 'A) Eingabe (Lehrer)'!AJ9)","v":"33"},{"$f":"IF('A) Eingabe (Lehrer)'!AK9=\"\", \"\", 'A) Eingabe (Lehrer)'!AK9)","v":"34"},{"$f":"IF('A) Eingabe (Lehrer)'!AL9=\"\", \"\", 'A) Eingabe (Lehrer)'!AL9)","v":"35"},{"$f":"IF('A) Eingabe (Lehrer)'!AM9=\"\", \"\", 'A) Eingabe (Lehrer)'!AM9)","v":"36"},{"$f":"IF('A) Eingabe (Lehrer)'!AN9=\"\", \"\", 'A) Eingabe (Lehrer)'!AN9)","v":"37"},{"$f":"IF('A) Eingabe (Lehrer)'!AO9=\"\", \"\", 'A) Eingabe (Lehrer)'!AO9)","v":"38"},{"$f":"IF('A) Eingabe (Lehrer)'!AP9=\"\", \"\", 'A) Eingabe (Lehrer)'!AP9)","v":"39"},{"$f":"IF('A) Eingabe (Lehrer)'!AQ9=\"\", \"\", 'A) Eingabe (Lehrer)'!AQ9)","v":"40"},{"$f":"IF('A) Eingabe (Lehrer)'!AR9=\"\", \"\", 'A) Eingabe (Lehrer)'!AR9)","v":"41"},{"$f":"IF('A) Eingabe (Lehrer)'!AS9=\"\", \"\", 'A) Eingabe (Lehrer)'!AS9)","v":"42"},{"$f":"IF('A) Eingabe (Lehrer)'!AT9=\"\", \"\", 'A) Eingabe (Lehrer)'!AT9)","v":"43"},{"$f":"IF('A) Eingabe (Lehrer)'!AU9=\"\", \"\", 'A) Eingabe (Lehrer)'!AU9)","v":"44"},{"$f":"IF('A) Eingabe (Lehrer)'!AV9=\"\", \"\", 'A) Eingabe (Lehrer)'!AV9)","v":"45"},{"$f":"IF('A) Eingabe (Lehrer)'!AW9=\"\", \"\", 'A) Eingabe (Lehrer)'!AW9)","v":"46"},{"$f":"IF('A) Eingabe (Lehrer)'!AX9=\"\", \"\", 'A) Eingabe (Lehrer)'!AX9)","v":"47"},{"$f":"IF('A) Eingabe (Lehrer)'!AY9=\"\", \"\", 'A) Eingabe (Lehrer)'!AY9)","v":"48"},{"$f":"IF('A) Eingabe (Lehrer)'!AZ9=\"\", \"\", 'A) Eingabe (Lehrer)'!AZ9)","v":"49"},{"$f":"IF('A) Eingabe (Lehrer)'!BA9=\"\", \"\", 'A) Eingabe (Lehrer)'!BA9)","v":"50"},{"$f":"IF('A) Eingabe (Lehrer)'!BB9=\"\", \"\", 'A) Eingabe (Lehrer)'!BB9)","v":"51"},{"$f":"IF('A) Eingabe (Lehrer)'!BC9=\"\", \"\", 'A) Eingabe (Lehrer)'!BC9)","v":"52"},{"$f":"IF('A) Eingabe (Lehrer)'!BD9=\"\", \"\", 'A) Eingabe (Lehrer)'!BD9)","v":"53"},{"$f":"IF('A) Eingabe (Lehrer)'!BE9=\"\", \"\", 'A) Eingabe (Lehrer)'!BE9)","v":"54"},{"$f":"IF('A) Eingabe (Lehrer)'!BF9=\"\", \"\", 'A) Eingabe (Lehrer)'!BF9)","v":"55"},{"$f":"IF('A) Eingabe (Lehrer)'!BG9=\"\", \"\", 'A) Eingabe (Lehrer)'!BG9)","v":"56"},{"$f":"IF('A) Eingabe (Lehrer)'!BH9=\"\", \"\", 'A) Eingabe (Lehrer)'!BH9)","v":"57"},{"$f":"IF('A) Eingabe (Lehrer)'!BI9=\"\", \"\", 'A) Eingabe (Lehrer)'!BI9)","v":"58"},{"$f":"IF('A) Eingabe (Lehrer)'!BJ9=\"\", \"\", 'A) Eingabe (Lehrer)'!BJ9)","v":"59"},{"$f":"IF('A) Eingabe (Lehrer)'!BK9=\"\", \"\", 'A) Eingabe (Lehrer)'!BK9)","v":"60"}]
["Item 1",{"$f":"IF('A) Eingabe (Lehrer)'!C12=\"\", \"\",'A) Eingabe (Lehrer)'!C12)","v":""},{"$f":"IF('A) Eingabe (Lehrer)'!D12=\"\", \"\",'A) Eingabe (Lehrer)'!D12)","v":""},{"$f":"IF('A) Eingabe (Lehrer)'!E12=\"\", \"\",'A) Eingabe (Lehrer)'!E12)","v":""},{"$f":"IF('A) Eingabe (Lehrer)'!F12=\"\", \"\",'A) Eingabe (Lehrer)'!F12)","v":""},{"$f":"IF('A) Eingabe (Lehrer)'!G12=\"\", \"\",'A) Eingabe (Lehrer)'!G12)","v":""},{"$f":"IF('A) Eingabe (Lehrer)'!H12=\"\", \"\",'A) Eingabe (Lehrer)'!H12)","v":""},{"$f":"IF('A) Eingabe (Lehrer)'!I12=\"\", \"\",'A) Eingabe (Lehrer)'!I12)","v":""},{"$f":"IF('A) Eingabe (Lehrer)'!J12=\"\", \"\",'A) Eingabe (Lehrer)'!J12)","v":""},{"$f":"IF('A) Eingabe (Lehrer)'!K12=\"\", \"\",'A) Eingabe (Lehrer)'!K12)","v":""},{"$f":"IF('A) Eingabe (Lehrer)'!L12=\"\", \"\",'A) Eingabe (Lehrer)'!L12)","v":""},{"$f":"IF('A) Eingabe (Lehrer)'!M12=\"\", \"\",'A) Eingabe (Lehrer)'!M12)","v":""},{"$f":"IF('A) Eingabe (Lehrer)'!N12=\"\", \"\",'A) Eingabe (Lehrer)'!N12)","v":""},{"$f":"IF('A) Eingabe (Lehrer)'!O12=\"\", \"\",'A) Eingabe (Lehrer)'!O12)","v":""},{"$f":"IF('A) Eingabe (Lehrer)'!P12=\"\", \"\",'A) Eingabe (Lehrer)'!P12)","v":""},{"$f":"IF('A) Eingabe (Lehrer)'!Q12=\"\", \"\",'A) Eingabe (Lehrer)'!Q12)","v":""},{"$f":"IF('A) Eingabe (Lehrer)'!R12=\"\", \"\",'A) Eingabe (Lehrer)'!R12)","v":""},{"$f":"IF('A) Eingabe (Lehrer)'!S12=\"\", \"\",'A) Eingabe (Lehrer)'!S12)","v":""},{"$f":"IF('A) Eingabe (Lehrer)'!T12=\"\", \"\",'A) Eingabe (Lehrer)'!T12)","v":""},{"$f":"IF('A) Eingabe (Lehrer)'!U12=\"\", \"\",'A) Eingabe (Lehrer)'!U12)","v":""},{"$f":"IF('A) Eingabe (Lehrer)'!V12=\"\", \"\",'A) Eingabe (Lehrer)'!V12)","v":""},{"$f":"IF('A) Eingabe (Lehrer)'!W12=\"\", \"\",'A) Eingabe (Lehrer)'!W12)","v":""},{"$f":"IF('A) Eingabe (Lehrer)'!X12=\"\", \"\",'A) Eingabe (Lehrer)'!X12)","v":""},{"$f":"IF('A) Eingabe (Lehrer)'!Y12=\"\", \"\",'A) Eingabe (Lehrer)'!Y12)","v":""},{"$f":"IF('A) Eingabe (Lehrer)'!Z12=\"\", \"\",'A) Eingabe (Lehrer)'!Z12)","v":""},{"$f":"IF('A) Eingabe (Lehrer)'!AA12=\"\", \"\",'A) Eingabe (Lehrer)'!AA12)","v":""},{"$f":"IF('A) Eingabe (Lehrer)'!AB12=\"\", \"\",'A) Eingabe (Lehrer)'!AB12)","v":""},{"$f":"IF('A) Eingabe (Lehrer)'!AC12=\"\", \"\",'A) Eingabe (Lehrer)'!AC12)","v":""},{"$f":"IF('A) Eingabe (Lehrer)'!AD12=\"\", \"\",'A) Eingabe (Lehrer)'!AD12)","v":""},{"$f":"IF('A) Eingabe (Lehrer)'!AE12=\"\", \"\",'A) Eingabe (Lehrer)'!AE12)","v":""},{"$f":"IF('A) Eingabe (Lehrer)'!AF12=\"\", \"\",'A) Eingabe (Lehrer)'!AF12)","v":""},{"$f":"IF('A) Eingabe (Lehrer)'!AG12=\"\", \"\",'A) Eingabe (Lehrer)'!AG12)","v":""},{"$f":"IF('A) Eingabe (Lehrer)'!AH12=\"\", \"\",'A) Eingabe (Lehrer)'!AH12)","v":""},{"$f":"IF('A) Eingabe (Lehrer)'!AI12=\"\", \"\",'A) Eingabe (Lehrer)'!AI12)","v":""},{"$f":"IF('A) Eingabe (Lehrer)'!AJ12=\"\", \"\",'A) Eingabe (Lehrer)'!AJ12)","v":""},{"$f":"IF('A) Eingabe (Lehrer)'!AK12=\"\", \"\",'A) Eingabe (Lehrer)'!AK12)","v":""},{"$f":"IF('A) Eingabe (Lehrer)'!AL12=\"\", \"\",'A) Eingabe (Lehrer)'!AL12)","v":""},{"$f":"IF('A) Eingabe (Lehrer)'!AM12=\"\", \"\",'A) Eingabe (Lehrer)'!AM12)","v":""},{"$f":"IF('A) Eingabe (Lehrer)'!AN12=\"\", \"\",'A) Eingabe (Lehrer)'!AN12)","v":""},{"$f":"IF('A) Eingabe (Lehrer)'!AO12=\"\", \"\",'A) Eingabe (Lehrer)'!AO12)","v":""},{"$f":"IF('A) Eingabe (Lehrer)'!AP12=\"\", \"\",'A) Eingabe (Lehrer)'!AP12)","v":""},{"$f":"IF('A) Eingabe (Lehrer)'!AQ12=\"\", \"\",'A) Eingabe (Lehrer)'!AQ12)","v":""},{"$f":"IF('A) Eingabe (Lehrer)'!AR12=\"\", \"\",'A) Eingabe (Lehrer)'!AR12)","v":""},{"$f":"IF('A) Eingabe (Lehrer)'!AS12=\"\", \"\",'A) Eingabe (Lehrer)'!AS12)","v":""},{"$f":"IF('A) Eingabe (Lehrer)'!AT12=\"\", \"\",'A) Eingabe (Lehrer)'!AT12)","v":""},{"$f":"IF('A) Eingabe (Lehrer)'!AU12=\"\", \"\",'A) Eingabe (Lehrer)'!AU12)","v":""},{"$f":"IF('A) Eingabe (Lehrer)'!AV12=\"\", \"\",'A) Eingabe (Lehrer)'!AV12)","v":""},{"$f":"IF('A) Eingabe (Lehrer)'!AW12=\"\", \"\",'A) Eingabe (Lehrer)'!AW12)","v":""},{"$f":"IF('A) Eingabe (Lehrer)'!AX12=\"\", \"\",'A) Eingabe (Lehrer)'!AX12)","v":""},{"$f":"IF('A) Eingabe (Lehrer)'!AY12=\"\", \"\",'A) Eingabe (Lehrer)'!AY12)","v":""},{"$f":"IF('A) Eingabe (Lehrer)'!AZ12=\"\", \"\",'A) Eingabe (Lehrer)'!AZ12)","v":""},{"$f":"IF('A) Eingabe (Lehrer)'!BA12=\"\", \"\",'A) Eingabe (Lehrer)'!BA12)","v":""},{"$f":"IF('A) Eingabe (Lehrer)'!BB12=\"\", \"\",'A) Eingabe (Lehrer)'!BB12)","v":""},{"$f":"IF('A) Eingabe (Lehrer)'!BC12=\"\", \"\",'A) Eingabe (Lehrer)'!BC12)","v":""},{"$f":"IF('A) Eingabe (Lehrer)'!BD12=\"\", \"\",'A) Eingabe (Lehrer)'!BD12)","v":""},{"$f":"IF('A) Eingabe (Lehrer)'!BE12=\"\", \"\",'A) Eingabe (Lehrer)'!BE12)","v":""},{"$f":"IF('A) Eingabe (Lehrer)'!BF12=\"\", \"\",'A) Eingabe (Lehrer)'!BF12)","v":""},{"$f":"IF('A) Eingabe (Lehrer)'!BG12=\"\", \"\",'A) Eingabe (Lehrer)'!BG12)","v":""},{"$f":"IF('A) Eingabe (Lehrer)'!BH12=\"\", \"\",'A) Eingabe (Lehrer)'!BH12)","v":""},{"$f":"IF('A) Eingabe (Lehrer)'!BI12=\"\", \"\",'A) Eingabe (Lehrer)'!BI12)","v":""},{"$f":"IF('A) Eingabe (Lehrer)'!BJ12=\"\", \"\",'A) Eingabe (Lehrer)'!BJ12)","v":""},{"$f":"IF('A) Eingabe (Lehrer)'!BK12=\"\", \"\",'A) Eingabe (Lehrer)'!BK12)","v":""}]
["Item 2",{"$f":"IF('A) Eingabe (Lehrer)'!C13=\"\", \"\",'A) Eingabe (Lehrer)'!C13)","v":""},{"$f":"IF('A) Eingabe (Lehrer)'!D13=\"\", \"\",'A) Eingabe (Lehrer)'!D13)","v":""},{"$f":"IF('A) Eingabe (Lehrer)'!E13=\"\", \"\",'A) Eingabe (Lehrer)'!E13)","v":""},{"$f":"IF('A) Eingabe (Lehrer)'!F13=\"\", \"\",'A) Eingabe (Lehrer)'!F13)","v":""},{"$f":"IF('A) Eingabe (Lehrer)'!G13=\"\", \"\",'A) Eingabe (Lehrer)'!G13)","v":""},{"$f":"IF('A) Eingabe (Lehrer)'!H13=\"\", \"\",'A) Eingabe (Lehrer)'!H13)","v":""},{"$f":"IF('A) Eingabe (Lehrer)'!I13=\"\", \"\",'A) Eingabe (Lehrer)'!I13)","v":""},{"$f":"IF('A) Eingabe (Lehrer)'!J13=\"\", \"\",'A) Eingabe (Lehrer)'!J13)","v":""},{"$f":"IF('A) Eingabe (Lehrer)'!K13=\"\", \"\",'A) Eingabe (Lehrer)'!K13)","v":""},{"$f":"IF('A) Eingabe (Lehrer)'!L13=\"\", \"\",'A) Eingabe (Lehrer)'!L13)","v":""},{"$f":"IF('A) Eingabe (Lehrer)'!M13=\"\", \"\",'A) Eingabe (Lehrer)'!M13)","v":""},{"$f":"IF('A) Eingabe (Lehrer)'!N13=\"\", \"\",'A) Eingabe (Lehrer)'!N13)","v":""},{"$f":"IF('A) Eingabe (Lehrer)'!O13=\"\", \"\",'A) Eingabe (Lehrer)'!O13)","v":""},{"$f":"IF('A) Eingabe (Lehrer)'!P13=\"\", \"\",'A) Eingabe (Lehrer)'!P13)","v":""},{"$f":"IF('A) Eingabe (Lehrer)'!Q13=\"\", \"\",'A) Eingabe (Lehrer)'!Q13)","v":""},{"$f":"IF('A) Eingabe (Lehrer)'!R13=\"\", \"\",'A) Eingabe (Lehrer)'!R13)","v":""},{"$f":"IF('A) Eingabe (Lehrer)'!S13=\"\", \"\",'A) Eingabe (Lehrer)'!S13)","v":""},{"$f":"IF('A) Eingabe (Lehrer)'!T13=\"\", \"\",'A) Eingabe (Lehrer)'!T13)","v":""},{"$f":"IF('A) Eingabe (Lehrer)'!U13=\"\", \"\",'A) Eingabe (Lehrer)'!U13)","v":""},{"$f":"IF('A) Eingabe (Lehrer)'!V13=\"\", \"\",'A) Eingabe (Lehrer)'!V13)","v":""},{"$f":"IF('A) Eingabe (Lehrer)'!W13=\"\", \"\",'A) Eingabe (Lehrer)'!W13)","v":""},{"$f":"IF('A) Eingabe (Lehrer)'!X13=\"\", \"\",'A) Eingabe (Lehrer)'!X13)","v":""},{"$f":"IF('A) Eingabe (Lehrer)'!Y13=\"\", \"\",'A) Eingabe (Lehrer)'!Y13)","v":""},{"$f":"IF('A) Eingabe (Lehrer)'!Z13=\"\", \"\",'A) Eingabe (Lehrer)'!Z13)","v":""},{"$f":"IF('A) Eingabe (Lehrer)'!AA13=\"\", \"\",'A) Eingabe (Lehrer)'!AA13)","v":""},{"$f":"IF('A) Eingabe (Lehrer)'!AB13=\"\", \"\",'A) Eingabe (Lehrer)'!AB13)","v":""},{"$f":"IF('A) Eingabe (Lehrer)'!AC13=\"\", \"\",'A) Eingabe (Lehrer)'!AC13)","v":""},{"$f":"IF('A) Eingabe (Lehrer)'!AD13=\"\", \"\",'A) Eingabe (Lehrer)'!AD13)","v":""},{"$f":"IF('A) Eingabe (Lehrer)'!AE13=\"\", \"\",'A) Eingabe (Lehrer)'!AE13)","v":""},{"$f":"IF('A) Eingabe (Lehrer)'!AF13=\"\", \"\",'A) Eingabe (Lehrer)'!AF13)","v":""},{"$f":"IF('A) Eingabe (Lehrer)'!AG13=\"\", \"\",'A) Eingabe (Lehrer)'!AG13)","v":""},{"$f":"IF('A) Eingabe (Lehrer)'!AH13=\"\", \"\",'A) Eingabe (Lehrer)'!AH13)","v":""},{"$f":"IF('A) Eingabe (Lehrer)'!AI13=\"\", \"\",'A) Eingabe (Lehrer)'!AI13)","v":""},{"$f":"IF('A) Eingabe (Lehrer)'!AJ13=\"\", \"\",'A) Eingabe (Lehrer)'!AJ13)","v":""},{"$f":"IF('A) Eingabe (Lehrer)'!AK13=\"\", \"\",'A) Eingabe (Lehrer)'!AK13)","v":""},{"$f":"IF('A) Eingabe (Lehrer)'!AL13=\"\", \"\",'A) Eingabe (Lehrer)'!AL13)","v":""},{"$f":"IF('A) Eingabe (Lehrer)'!AM13=\"\", \"\",'A) Eingabe (Lehrer)'!AM13)","v":""},{"$f":"IF('A) Eingabe (Lehrer)'!AN13=\"\", \"\",'A) Eingabe (Lehrer)'!AN13)","v":""},{"$f":"IF('A) Eingabe (Lehrer)'!AO13=\"\", \"\",'A) Eingabe (Lehrer)'!AO13)","v":""},{"$f":"IF('A) Eingabe (Lehrer)'!AP13=\"\", \"\",'A) Eingabe (Lehrer)'!AP13)","v":""},{"$f":"IF('A) Eingabe (Lehrer)'!AQ13=\"\", \"\",'A) Eingabe (Lehrer)'!AQ13)","v":""},{"$f":"IF('A) Eingabe (Lehrer)'!AR13=\"\", \"\",'A) Eingabe (Lehrer)'!AR13)","v":""},{"$f":"IF('A) Eingabe (Lehrer)'!AS13=\"\", \"\",'A) Eingabe (Lehrer)'!AS13)","v":""},{"$f":"IF('A) Eingabe (Lehrer)'!AT13=\"\", \"\",'A) Eingabe (Lehrer)'!AT13)","v":""},{"$f":"IF('A) Eingabe (Lehrer)'!AU13=\"\", \"\",'A) Eingabe (Lehrer)'!AU13)","v":""},{"$f":"IF('A) Eingabe (Lehrer)'!AV13=\"\", \"\",'A) Eingabe (Lehrer)'!AV13)","v":""},{"$f":"IF('A) Eingabe (Lehrer)'!AW13=\"\", \"\",'A) Eingabe (Lehrer)'!AW13)","v":""},{"$f":"IF('A) Eingabe (Lehrer)'!AX13=\"\", \"\",'A) Eingabe (Lehrer)'!AX13)","v":""},{"$f":"IF('A) Eingabe (Lehrer)'!AY13=\"\", \"\",'A) Eingabe (Lehrer)'!AY13)","v":""},{"$f":"IF('A) Eingabe (Lehrer)'!AZ13=\"\", \"\",'A) Eingabe (Lehrer)'!AZ13)","v":""},{"$f":"IF('A) Eingabe (Lehrer)'!BA13=\"\", \"\",'A) Eingabe (Lehrer)'!BA13)","v":""},{"$f":"IF('A) Eingabe (Lehrer)'!BB13=\"\", \"\",'A) Eingabe (Lehrer)'!BB13)","v":""},{"$f":"IF('A) Eingabe (Lehrer)'!BC13=\"\", \"\",'A) Eingabe (Lehrer)'!BC13)","v":""},{"$f":"IF('A) Eingabe (Lehrer)'!BD13=\"\", \"\",'A) Eingabe (Lehrer)'!BD13)","v":""},{"$f":"IF('A) Eingabe (Lehrer)'!BE13=\"\", \"\",'A) Eingabe (Lehrer)'!BE13)","v":""},{"$f":"IF('A) Eingabe (Lehrer)'!BF13=\"\", \"\",'A) Eingabe (Lehrer)'!BF13)","v":""},{"$f":"IF('A) Eingabe (Lehrer)'!BG13=\"\", \"\",'A) Eingabe (Lehrer)'!BG13)","v":""},{"$f":"IF('A) Eingabe (Lehrer)'!BH13=\"\", \"\",'A) Eingabe (Lehrer)'!BH13)","v":""},{"$f":"IF('A) Eingabe (Lehrer)'!BI13=\"\", \"\",'A) Eingabe (Lehrer)'!BI13)","v":""},{"$f":"IF('A) Eingabe (Lehrer)'!BJ13=\"\", \"\",'A) Eingabe (Lehrer)'!BJ13)","v":""},{"$f":"IF('A) Eingabe (Lehrer)'!BK13=\"\", \"\",'A) Eingabe (Lehrer)'!BK13)","v":""}]
["Item 3",{"$f":"IF('A) Eingabe (Lehrer)'!C14=\"\", \"\",'A) Eingabe (Lehrer)'!C14)","v":""},{"$f":"IF('A) Eingabe (Lehrer)'!D14=\"\", \"\",'A) Eingabe (Lehrer)'!D14)","v":""},{"$f":"IF('A) Eingabe (Lehrer)'!E14=\"\", \"\",'A) Eingabe (Lehrer)'!E14)","v":""},{"$f":"IF('A) Eingabe (Lehrer)'!F14=\"\", \"\",'A) Eingabe (Lehrer)'!F14)","v":""},{"$f":"IF('A) Eingabe (Lehrer)'!G14=\"\", \"\",'A) Eingabe (Lehrer)'!G14)","v":""},{"$f":"IF('A) Eingabe (Lehrer)'!H14=\"\", \"\",'A) Eingabe (Lehrer)'!H14)","v":""},{"$f":"IF('A) Eingabe (Lehrer)'!I14=\"\", \"\",'A) Eingabe (Lehrer)'!I14)","v":""},{"$f":"IF('A) Eingabe (Lehrer)'!J14=\"\", \"\",'A) Eingabe (Lehrer)'!J14)","v":""},{"$f":"IF('A) Eingabe (Lehrer)'!K14=\"\", \"\",'A) Eingabe (Lehrer)'!K14)","v":""},{"$f":"IF('A) Eingabe (Lehrer)'!L14=\"\", \"\",'A) Eingabe (Lehrer)'!L14)","v":""},{"$f":"IF('A) Eingabe (Lehrer)'!M14=\"\", \"\",'A) Eingabe (Lehrer)'!M14)","v":""},{"$f":"IF('A) Eingabe (Lehrer)'!N14=\"\", \"\",'A) Eingabe (Lehrer)'!N14)","v":""},{"$f":"IF('A) Eingabe (Lehrer)'!O14=\"\", \"\",'A) Eingabe (Lehrer)'!O14)","v":""},{"$f":"IF('A) Eingabe (Lehrer)'!P14=\"\", \"\",'A) Eingabe (Lehrer)'!P14)","v":""},{"$f":"IF('A) Eingabe (Lehrer)'!Q14=\"\", \"\",'A) Eingabe (Lehrer)'!Q14)","v":""},{"$f":"IF('A) Eingabe (Lehrer)'!R14=\"\", \"\",'A) Eingabe (Lehrer)'!R14)","v":""},{"$f":"IF('A) Eingabe (Lehrer)'!S14=\"\", \"\",'A) Eingabe (Lehrer)'!S14)","v":""},{"$f":"IF('A) Eingabe (Lehrer)'!T14=\"\", \"\",'A) Eingabe (Lehrer)'!T14)","v":""},{"$f":"IF('A) Eingabe (Lehrer)'!U14=\"\", \"\",'A) Eingabe (Lehrer)'!U14)","v":""},{"$f":"IF('A) Eingabe (Lehrer)'!V14=\"\", \"\",'A) Eingabe (Lehrer)'!V14)","v":""},{"$f":"IF('A) Eingabe (Lehrer)'!W14=\"\", \"\",'A) Eingabe (Lehrer)'!W14)","v":""},{"$f":"IF('A) Eingabe (Lehrer)'!X14=\"\", \"\",'A) Eingabe (Lehrer)'!X14)","v":""},{"$f":"IF('A) Eingabe (Lehrer)'!Y14=\"\", \"\",'A) Eingabe (Lehrer)'!Y14)","v":""},{"$f":"IF('A) Eingabe (Lehrer)'!Z14=\"\", \"\",'A) Eingabe (Lehrer)'!Z14)","v":""},{"$f":"IF('A) Eingabe (Lehrer)'!AA14=\"\", \"\",'A) Eingabe (Lehrer)'!AA14)","v":""},{"$f":"IF('A) Eingabe (Lehrer)'!AB14=\"\", \"\",'A) Eingabe (Lehrer)'!AB14)","v":""},{"$f":"IF('A) Eingabe (Lehrer)'!AC14=\"\", \"\",'A) Eingabe (Lehrer)'!AC14)","v":""},{"$f":"IF('A) Eingabe (Lehrer)'!AD14=\"\", \"\",'A) Eingabe (Lehrer)'!AD14)","v":""},{"$f":"IF('A) Eingabe (Lehrer)'!AE14=\"\", \"\",'A) Eingabe (Lehrer)'!AE14)","v":""},{"$f":"IF('A) Eingabe (Lehrer)'!AF14=\"\", \"\",'A) Eingabe (Lehrer)'!AF14)","v":""},{"$f":"IF('A) Eingabe (Lehrer)'!AG14=\"\", \"\",'A) Eingabe (Lehrer)'!AG14)","v":""},{"$f":"IF('A) Eingabe (Lehrer)'!AH14=\"\", \"\",'A) Eingabe (Lehrer)'!AH14)","v":""},{"$f":"IF('A) Eingabe (Lehrer)'!AI14=\"\", \"\",'A) Eingabe (Lehrer)'!AI14)","v":""},{"$f":"IF('A) Eingabe (Lehrer)'!AJ14=\"\", \"\",'A) Eingabe (Lehrer)'!AJ14)","v":""},{"$f":"IF('A) Eingabe (Lehrer)'!AK14=\"\", \"\",'A) Eingabe (Lehrer)'!AK14)","v":""},{"$f":"IF('A) Eingabe (Lehrer)'!AL14=\"\", \"\",'A) Eingabe (Lehrer)'!AL14)","v":""},{"$f":"IF('A) Eingabe (Lehrer)'!AM14=\"\", \"\",'A) Eingabe (Lehrer)'!AM14)","v":""},{"$f":"IF('A) Eingabe (Lehrer)'!AN14=\"\", \"\",'A) Eingabe (Lehrer)'!AN14)","v":""},{"$f":"IF('A) Eingabe (Lehrer)'!AO14=\"\", \"\",'A) Eingabe (Lehrer)'!AO14)","v":""},{"$f":"IF('A) Eingabe (Lehrer)'!AP14=\"\", \"\",'A) Eingabe (Lehrer)'!AP14)","v":""},{"$f":"IF('A) Eingabe (Lehrer)'!AQ14=\"\", \"\",'A) Eingabe (Lehrer)'!AQ14)","v":""},{"$f":"IF('A) Eingabe (Lehrer)'!AR14=\"\", \"\",'A) Eingabe (Lehrer)'!AR14)","v":""},{"$f":"IF('A) Eingabe (Lehrer)'!AS14=\"\", \"\",'A) Eingabe (Lehrer)'!AS14)","v":""},{"$f":"IF('A) Eingabe (Lehrer)'!AT14=\"\", \"\",'A) Eingabe (Lehrer)'!AT14)","v":""},{"$f":"IF('A) Eingabe (Lehrer)'!AU14=\"\", \"\",'A) Eingabe (Lehrer)'!AU14)","v":""},{"$f":"IF('A) Eingabe (Lehrer)'!AV14=\"\", \"\",'A) Eingabe (Lehrer)'!AV14)","v":""},{"$f":"IF('A) Eingabe (Lehrer)'!AW14=\"\", \"\",'A) Eingabe (Lehrer)'!AW14)","v":""},{"$f":"IF('A) Eingabe (Lehrer)'!AX14=\"\", \"\",'A) Eingabe (Lehrer)'!AX14)","v":""},{"$f":"IF('A) Eingabe (Lehrer)'!AY14=\"\", \"\",'A) Eingabe (Lehrer)'!AY14)","v":""},{"$f":"IF('A) Eingabe (Lehrer)'!AZ14=\"\", \"\",'A) Eingabe (Lehrer)'!AZ14)","v":""},{"$f":"IF('A) Eingabe (Lehrer)'!BA14=\"\", \"\",'A) Eingabe (Lehrer)'!BA14)","v":""},{"$f":"IF('A) Eingabe (Lehrer)'!BB14=\"\", \"\",'A) Eingabe (Lehrer)'!BB14)","v":""},{"$f":"IF('A) Eingabe (Lehrer)'!BC14=\"\", \"\",'A) Eingabe (Lehrer)'!BC14)","v":""},{"$f":"IF('A) Eingabe (Lehrer)'!BD14=\"\", \"\",'A) Eingabe (Lehrer)'!BD14)","v":""},{"$f":"IF('A) Eingabe (Lehrer)'!BE14=\"\", \"\",'A) Eingabe (Lehrer)'!BE14)","v":""},{"$f":"IF('A) Eingabe (Lehrer)'!BF14=\"\", \"\",'A) Eingabe (Lehrer)'!BF14)","v":""},{"$f":"IF('A) Eingabe (Lehrer)'!BG14=\"\", \"\",'A) Eingabe (Lehrer)'!BG14)","v":""},{"$f":"IF('A) Eingabe (Lehrer)'!BH14=\"\", \"\",'A) Eingabe (Lehrer)'!BH14)","v":""},{"$f":"IF('A) Eingabe (Lehrer)'!BI14=\"\", \"\",'A) Eingabe (Lehrer)'!BI14)","v":""},{"$f":"IF('A) Eingabe (Lehrer)'!BJ14=\"\", \"\",'A) Eingabe (Lehrer)'!BJ14)","v":""},{"$f":"IF('A) Eingabe (Lehrer)'!BK14=\"\", \"\",'A) Eingabe (Lehrer)'!BK14)","v":""}]
["Item 4",{"$f":"IF('A) Eingabe (Lehrer)'!C15=\"\", \"\",'A) Eingabe (Lehrer)'!C15)","v":""},{"$f":"IF('A) Eingabe (Lehrer)'!D15=\"\", \"\",'A) Eingabe (Lehrer)'!D15)","v":""},{"$f":"IF('A) Eingabe (Lehrer)'!E15=\"\", \"\",'A) Eingabe (Lehrer)'!E15)","v":""},{"$f":"IF('A) Eingabe (Lehrer)'!F15=\"\", \"\",'A) Eingabe (Lehrer)'!F15)","v":""},{"$f":"IF('A) Eingabe (Lehrer)'!G15=\"\", \"\",'A) Eingabe (Lehrer)'!G15)","v":""},{"$f":"IF('A) Eingabe (Lehrer)'!H15=\"\", \"\",'A) Eingabe (Lehrer)'!H15)","v":""},{"$f":"IF('A) Eingabe (Lehrer)'!I15=\"\", \"\",'A) Eingabe (Lehrer)'!I15)","v":""},{"$f":"IF('A) Eingabe (Lehrer)'!J15=\"\", \"\",'A) Eingabe (Lehrer)'!J15)","v":""},{"$f":"IF('A) Eingabe (Lehrer)'!K15=\"\", \"\",'A) Eingabe (Lehrer)'!K15)","v":""},{"$f":"IF('A) Eingabe (Lehrer)'!L15=\"\", \"\",'A) Eingabe (Lehrer)'!L15)","v":""},{"$f":"IF('A) Eingabe (Lehrer)'!M15=\"\", \"\",'A) Eingabe (Lehrer)'!M15)","v":""},{"$f":"IF('A) Eingabe (Lehrer)'!N15=\"\", \"\",'A) Eingabe (Lehrer)'!N15)","v":""},{"$f":"IF('A) Eingabe (Lehrer)'!O15=\"\", \"\",'A) Eingabe (Lehrer)'!O15)","v":""},{"$f":"IF('A) Eingabe (Lehrer)'!P15=\"\", \"\",'A) Eingabe (Lehrer)'!P15)","v":""},{"$f":"IF('A) Eingabe (Lehrer)'!Q15=\"\", \"\",'A) Eingabe (Lehrer)'!Q15)","v":""},{"$f":"IF('A) Eingabe (Lehrer)'!R15=\"\", \"\",'A) Eingabe (Lehrer)'!R15)","v":""},{"$f":"IF('A) Eingabe (Lehrer)'!S15=\"\", \"\",'A) Eingabe (Lehrer)'!S15)","v":""},{"$f":"IF('A) Eingabe (Lehrer)'!T15=\"\", \"\",'A) Eingabe (Lehrer)'!T15)","v":""},{"$f":"IF('A) Eingabe (Lehrer)'!U15=\"\", \"\",'A) Eingabe (Lehrer)'!U15)","v":""},{"$f":"IF('A) Eingabe (Lehrer)'!V15=\"\", \"\",'A) Eingabe (Lehrer)'!V15)","v":""},{"$f":"IF('A) Eingabe (Lehrer)'!W15=\"\", \"\",'A) Eingabe (Lehrer)'!W15)","v":""},{"$f":"IF('A) Eingabe (Lehrer)'!X15=\"\", \"\",'A) Eingabe (Lehrer)'!X15)","v":""},{"$f":"IF('A) Eingabe (Lehrer)'!Y15=\"\", \"\",'A) Eingabe (Lehrer)'!Y15)","v":""},{"$f":"IF('A) Eingabe (Lehrer)'!Z15=\"\", \"\",'A) Eingabe (Lehrer)'!Z15)","v":""},{"$f":"IF('A) Eingabe (Lehrer)'!AA15=\"\", \"\",'A) Eingabe (Lehrer)'!AA15)","v":""},{"$f":"IF('A) Eingabe (Lehrer)'!AB15=\"\", \"\",'A) Eingabe (Lehrer)'!AB15)","v":""},{"$f":"IF('A) Eingabe (Lehrer)'!AC15=\"\", \"\",'A) Eingabe (Lehrer)'!AC15)","v":""},{"$f":"IF('A) Eingabe (Lehrer)'!AD15=\"\", \"\",'A) Eingabe (Lehrer)'!AD15)","v":""},{"$f":"IF('A) Eingabe (Lehrer)'!AE15=\"\", \"\",'A) Eingabe (Lehrer)'!AE15)","v":""},{"$f":"IF('A) Eingabe (Lehrer)'!AF15=\"\", \"\",'A) Eingabe (Lehrer)'!AF15)","v":""},{"$f":"IF('A) Eingabe (Lehrer)'!AG15=\"\", \"\",'A) Eingabe (Lehrer)'!AG15)","v":""},{"$f":"IF('A) Eingabe (Lehrer)'!AH15=\"\", \"\",'A) Eingabe (Lehrer)'!AH15)","v":""},{"$f":"IF('A) Eingabe (Lehrer)'!AI15=\"\", \"\",'A) Eingabe (Lehrer)'!AI15)","v":""},{"$f":"IF('A) Eingabe (Lehrer)'!AJ15=\"\", \"\",'A) Eingabe (Lehrer)'!AJ15)","v":""},{"$f":"IF('A) Eingabe (Lehrer)'!AK15=\"\", \"\",'A) Eingabe (Lehrer)'!AK15)","v":""},{"$f":"IF('A) Eingabe (Lehrer)'!AL15=\"\", \"\",'A) Eingabe (Lehrer)'!AL15)","v":""},{"$f":"IF('A) Eingabe (Lehrer)'!AM15=\"\", \"\",'A) Eingabe (Lehrer)'!AM15)","v":""},{"$f":"IF('A) Eingabe (Lehrer)'!AN15=\"\", \"\",'A) Eingabe (Lehrer)'!AN15)","v":""},{"$f":"IF('A) Eingabe (Lehrer)'!AO15=\"\", \"\",'A) Eingabe (Lehrer)'!AO15)","v":""},{"$f":"IF('A) Eingabe (Lehrer)'!AP15=\"\", \"\",'A) Eingabe (Lehrer)'!AP15)","v":""},{"$f":"IF('A) Eingabe (Lehrer)'!AQ15=\"\", \"\",'A) Eingabe (Lehrer)'!AQ15)","v":""},{"$f":"IF('A) Eingabe (Lehrer)'!AR15=\"\", \"\",'A) Eingabe (Lehrer)'!AR15)","v":""},{"$f":"IF('A) Eingabe (Lehrer)'!AS15=\"\", \"\",'A) Eingabe (Lehrer)'!AS15)","v":""},{"$f":"IF('A) Eingabe (Lehrer)'!AT15=\"\", \"\",'A) Eingabe (Lehrer)'!AT15)","v":""},{"$f":"IF('A) Eingabe (Lehrer)'!AU15=\"\", \"\",'A) Eingabe (Lehrer)'!AU15)","v":""},{"$f":"IF('A) Eingabe (Lehrer)'!AV15=\"\", \"\",'A) Eingabe (Lehrer)'!AV15)","v":""},{"$f":"IF('A) Eingabe (Lehrer)'!AW15=\"\", \"\",'A) Eingabe (Lehrer)'!AW15)","v":""},{"$f":"IF('A) Eingabe (Lehrer)'!AX15=\"\", \"\",'A) Eingabe (Lehrer)'!AX15)","v":""},{"$f":"IF('A) Eingabe (Lehrer)'!AY15=\"\", \"\",'A) Eingabe (Lehrer)'!AY15)","v":""},{"$f":"IF('A) Eingabe (Lehrer)'!AZ15=\"\", \"\",'A) Eingabe (Lehrer)'!AZ15)","v":""},{"$f":"IF('A) Eingabe (Lehrer)'!BA15=\"\", \"\",'A) Eingabe (Lehrer)'!BA15)","v":""},{"$f":"IF('A) Eingabe (Lehrer)'!BB15=\"\", \"\",'A) Eingabe (Lehrer)'!BB15)","v":""},{"$f":"IF('A) Eingabe (Lehrer)'!BC15=\"\", \"\",'A) Eingabe (Lehrer)'!BC15)","v":""},{"$f":"IF('A) Eingabe (Lehrer)'!BD15=\"\", \"\",'A) Eingabe (Lehrer)'!BD15)","v":""},{"$f":"IF('A) Eingabe (Lehrer)'!BE15=\"\", \"\",'A) Eingabe (Lehrer)'!BE15)","v":""},{"$f":"IF('A) Eingabe (Lehrer)'!BF15=\"\", \"\",'A) Eingabe (Lehrer)'!BF15)","v":""},{"$f":"IF('A) Eingabe (Lehrer)'!BG15=\"\", \"\",'A) Eingabe (Lehrer)'!BG15)","v":""},{"$f":"IF('A) Eingabe (Lehrer)'!BH15=\"\", \"\",'A) Eingabe (Lehrer)'!BH15)","v":""},{"$f":"IF('A) Eingabe (Lehrer)'!BI15=\"\", \"\",'A) Eingabe (Lehrer)'!BI15)","v":""},{"$f":"IF('A) Eingabe (Lehrer)'!BJ15=\"\", \"\",'A) Eingabe (Lehrer)'!BJ15)","v":""},{"$f":"IF('A) Eingabe (Lehrer)'!BK15=\"\", \"\",'A) Eingabe (Lehrer)'!BK15)","v":""}]
["Item 5",{"$f":"IF('A) Eingabe (Lehrer)'!C16=\"\", \"\",'A) Eingabe (Lehrer)'!C16)","v":""},{"$f":"IF('A) Eingabe (Lehrer)'!D16=\"\", \"\",'A) Eingabe (Lehrer)'!D16)","v":""},{"$f":"IF('A) Eingabe (Lehrer)'!E16=\"\", \"\",'A) Eingabe (Lehrer)'!E16)","v":""},{"$f":"IF('A) Eingabe (Lehrer)'!F16=\"\", \"\",'A) Eingabe (Lehrer)'!F16)","v":""},{"$f":"IF('A) Eingabe (Lehrer)'!G16=\"\", \"\",'A) Eingabe (Lehrer)'!G16)","v":""},{"$f":"IF('A) Eingabe (Lehrer)'!H16=\"\", \"\",'A) Eingabe (Lehrer)'!H16)","v":""},{"$f":"IF('A) Eingabe (Lehrer)'!I16=\"\", \"\",'A) Eingabe (Lehrer)'!I16)","v":""},{"$f":"IF('A) Eingabe (Lehrer)'!J16=\"\", \"\",'A) Eingabe (Lehrer)'!J16)","v":""},{"$f":"IF('A) Eingabe (Lehrer)'!K16=\"\", \"\",'A) Eingabe (Lehrer)'!K16)","v":""},{"$f":"IF('A) Eingabe (Lehrer)'!L16=\"\", \"\",'A) Eingabe (Lehrer)'!L16)","v":""},{"$f":"IF('A) Eingabe (Lehrer)'!M16=\"\", \"\",'A) Eingabe (Lehrer)'!M16)","v":""},{"$f":"IF('A) Eingabe (Lehrer)'!N16=\"\", \"\",'A) Eingabe (Lehrer)'!N16)","v":""},{"$f":"IF('A) Eingabe (Lehrer)'!O16=\"\", \"\",'A) Eingabe (Lehrer)'!O16)","v":""},{"$f":"IF('A) Eingabe (Lehrer)'!P16=\"\", \"\",'A) Eingabe (Lehrer)'!P16)","v":""},{"$f":"IF('A) Eingabe (Lehrer)'!Q16=\"\", \"\",'A) Eingabe (Lehrer)'!Q16)","v":""},{"$f":"IF('A) Eingabe (Lehrer)'!R16=\"\", \"\",'A) Eingabe (Lehrer)'!R16)","v":""},{"$f":"IF('A) Eingabe (Lehrer)'!S16=\"\", \"\",'A) Eingabe (Lehrer)'!S16)","v":""},{"$f":"IF('A) Eingabe (Lehrer)'!T16=\"\", \"\",'A) Eingabe (Lehrer)'!T16)","v":""},{"$f":"IF('A) Eingabe (Lehrer)'!U16=\"\", \"\",'A) Eingabe (Lehrer)'!U16)","v":""},{"$f":"IF('A) Eingabe (Lehrer)'!V16=\"\", \"\",'A) Eingabe (Lehrer)'!V16)","v":""},{"$f":"IF('A) Eingabe (Lehrer)'!W16=\"\", \"\",'A) Eingabe (Lehrer)'!W16)","v":""},{"$f":"IF('A) Eingabe (Lehrer)'!X16=\"\", \"\",'A) Eingabe (Lehrer)'!X16)","v":""},{"$f":"IF('A) Eingabe (Lehrer)'!Y16=\"\", \"\",'A) Eingabe (Lehrer)'!Y16)","v":""},{"$f":"IF('A) Eingabe (Lehrer)'!Z16=\"\", \"\",'A) Eingabe (Lehrer)'!Z16)","v":""},{"$f":"IF('A) Eingabe (Lehrer)'!AA16=\"\", \"\",'A) Eingabe (Lehrer)'!AA16)","v":""},{"$f":"IF('A) Eingabe (Lehrer)'!AB16=\"\", \"\",'A) Eingabe (Lehrer)'!AB16)","v":""},{"$f":"IF('A) Eingabe (Lehrer)'!AC16=\"\", \"\",'A) Eingabe (Lehrer)'!AC16)","v":""},{"$f":"IF('A) Eingabe (Lehrer)'!AD16=\"\", \"\",'A) Eingabe (Lehrer)'!AD16)","v":""},{"$f":"IF('A) Eingabe (Lehrer)'!AE16=\"\", \"\",'A) Eingabe (Lehrer)'!AE16)","v":""},{"$f":"IF('A) Eingabe (Lehrer)'!AF16=\"\", \"\",'A) Eingabe (Lehrer)'!AF16)","v":""},{"$f":"IF('A) Eingabe (Lehrer)'!AG16=\"\", \"\",'A) Eingabe (Lehrer)'!AG16)","v":""},{"$f":"IF('A) Eingabe (Lehrer)'!AH16=\"\", \"\",'A) Eingabe (Lehrer)'!AH16)","v":""},{"$f":"IF('A) Eingabe (Lehrer)'!AI16=\"\", \"\",'A) Eingabe (Lehrer)'!AI16)","v":""},{"$f":"IF('A) Eingabe (Lehrer)'!AJ16=\"\", \"\",'A) Eingabe (Lehrer)'!AJ16)","v":""},{"$f":"IF('A) Eingabe (Lehrer)'!AK16=\"\", \"\",'A) Eingabe (Lehrer)'!AK16)","v":""},{"$f":"IF('A) Eingabe (Lehrer)'!AL16=\"\", \"\",'A) Eingabe (Lehrer)'!AL16)","v":""},{"$f":"IF('A) Eingabe (Lehrer)'!AM16=\"\", \"\",'A) Eingabe (Lehrer)'!AM16)","v":""},{"$f":"IF('A) Eingabe (Lehrer)'!AN16=\"\", \"\",'A) Eingabe (Lehrer)'!AN16)","v":""},{"$f":"IF('A) Eingabe (Lehrer)'!AO16=\"\", \"\",'A) Eingabe (Lehrer)'!AO16)","v":""},{"$f":"IF('A) Eingabe (Lehrer)'!AP16=\"\", \"\",'A) Eingabe (Lehrer)'!AP16)","v":""},{"$f":"IF('A) Eingabe (Lehrer)'!AQ16=\"\", \"\",'A) Eingabe (Lehrer)'!AQ16)","v":""},{"$f":"IF('A) Eingabe (Lehrer)'!AR16=\"\", \"\",'A) Eingabe (Lehrer)'!AR16)","v":""},{"$f":"IF('A) Eingabe (Lehrer)'!AS16=\"\", \"\",'A) Eingabe (Lehrer)'!AS16)","v":""},{"$f":"IF('A) Eingabe (Lehrer)'!AT16=\"\", \"\",'A) Eingabe (Lehrer)'!AT16)","v":""},{"$f":"IF('A) Eingabe (Lehrer)'!AU16=\"\", \"\",'A) Eingabe (Lehrer)'!AU16)","v":""},{"$f":"IF('A) Eingabe (Lehrer)'!AV16=\"\", \"\",'A) Eingabe (Lehrer)'!AV16)","v":""},{"$f":"IF('A) Eingabe (Lehrer)'!AW16=\"\", \"\",'A) Eingabe (Lehrer)'!AW16)","v":""},{"$f":"IF('A) Eingabe (Lehrer)'!AX16=\"\", \"\",'A) Eingabe (Lehrer)'!AX16)","v":""},{"$f":"IF('A) Eingabe (Lehrer)'!AY16=\"\", \"\",'A) Eingabe (Lehrer)'!AY16)","v":""},{"$f":"IF('A) Eingabe (Lehrer)'!AZ16=\"\", \"\",'A) Eingabe (Lehrer)'!AZ16)","v":""},{"$f":"IF('A) Eingabe (Lehrer)'!BA16=\"\", \"\",'A) Eingabe (Lehrer)'!BA16)","v":""},{"$f":"IF('A) Eingabe (Lehrer)'!BB16=\"\", \"\",'A) Eingabe (Lehrer)'!BB16)","v":""},{"$f":"IF('A) Eingabe (Lehrer)'!BC16=\"\", \"\",'A) Eingabe (Lehrer)'!BC16)","v":""},{"$f":"IF('A) Eingabe (Lehrer)'!BD16=\"\", \"\",'A) Eingabe (Lehrer)'!BD16)","v":""},{"$f":"IF('A) Eingabe (Lehrer)'!BE16=\"\", \"\",'A) Eingabe (Lehrer)'!BE16)","v":""},{"$f":"IF('A) Eingabe (Lehrer)'!BF16=\"\", \"\",'A) Eingabe (Lehrer)'!BF16)","v":""},{"$f":"IF('A) Eingabe (Lehrer)'!BG16=\"\", \"\",'A) Eingabe (Lehrer)'!BG16)","v":""},{"$f":"IF('A) Eingabe (Lehrer)'!BH16=\"\", \"\",'A) Eingabe (Lehrer)'!BH16)","v":""},{"$f":"IF('A) Eingabe (Lehrer)'!BI16=\"\", \"\",'A) Eingabe (Lehrer)'!BI16)","v":""},{"$f":"IF('A) Eingabe (Lehrer)'!BJ16=\"\", \"\",'A) Eingabe (Lehrer)'!BJ16)","v":""},{"$f":"IF('A) Eingabe (Lehrer)'!BK16=\"\", \"\",'A) Eingabe (Lehrer)'!BK16)","v":""}]
["Item 6",{"$f":"IF('A) Eingabe (Lehrer)'!C18=\"\", \"\",'A) Eingabe (Lehrer)'!C18)","v":""},{"$f":"IF('A) Eingabe (Lehrer)'!D18=\"\", \"\",'A) Eingabe (Lehrer)'!D18)","v":""},{"$f":"IF('A) Eingabe (Lehrer)'!E18=\"\", \"\",'A) Eingabe (Lehrer)'!E18)","v":""},{"$f":"IF('A) Eingabe (Lehrer)'!F18=\"\", \"\",'A) Eingabe (Lehrer)'!F18)","v":""},{"$f":"IF('A) Eingabe (Lehrer)'!G18=\"\", \"\",'A) Eingabe (Lehrer)'!G18)","v":""},{"$f":"IF('A) Eingabe (Lehrer)'!H18=\"\", \"\",'A) Eingabe (Lehrer)'!H18)","v":""},{"$f":"IF('A) Eingabe (Lehrer)'!I18=\"\", \"\",'A) Eingabe (Lehrer)'!I18)","v":""},{"$f":"IF('A) Eingabe (Lehrer)'!J18=\"\", \"\",'A) Eingabe (Lehrer)'!J18)","v":""},{"$f":"IF('A) Eingabe (Lehrer)'!K18=\"\", \"\",'A) Eingabe (Lehrer)'!K18)","v":""},{"$f":"IF('A) Eingabe (Lehrer)'!L18=\"\", \"\",'A) Eingabe (Lehrer)'!L18)","v":""},{"$f":"IF('A) Eingabe (Lehrer)'!M18=\"\", \"\",'A) Eingabe (Lehrer)'!M18)","v":""},{"$f":"IF('A) Eingabe (Lehrer)'!N18=\"\", \"\",'A) Eingabe (Lehrer)'!N18)","v":""},{"$f":"IF('A) Eingabe (Lehrer)'!O18=\"\", \"\",'A) Eingabe (Lehrer)'!O18)","v":""},{"$f":"IF('A) Eingabe (Lehrer)'!P18=\"\", \"\",'A) Eingabe (Lehrer)'!P18)","v":""},{"$f":"IF('A) Eingabe (Lehrer)'!Q18=\"\", \"\",'A) Eingabe (Lehrer)'!Q18)","v":""},{"$f":"IF('A) Eingabe (Lehrer)'!R18=\"\", \"\",'A) Eingabe (Lehrer)'!R18)","v":""},{"$f":"IF('A) Eingabe (Lehrer)'!S18=\"\", \"\",'A) Eingabe (Lehrer)'!S18)","v":""},{"$f":"IF('A) Eingabe (Lehrer)'!T18=\"\", \"\",'A) Eingabe (Lehrer)'!T18)","v":""},{"$f":"IF('A) Eingabe (Lehrer)'!U18=\"\", \"\",'A) Eingabe (Lehrer)'!U18)","v":""},{"$f":"IF('A) Eingabe (Lehrer)'!V18=\"\", \"\",'A) Eingabe (Lehrer)'!V18)","v":""},{"$f":"IF('A) Eingabe (Lehrer)'!W18=\"\", \"\",'A) Eingabe (Lehrer)'!W18)","v":""},{"$f":"IF('A) Eingabe (Lehrer)'!X18=\"\", \"\",'A) Eingabe (Lehrer)'!X18)","v":""},{"$f":"IF('A) Eingabe (Lehrer)'!Y18=\"\", \"\",'A) Eingabe (Lehrer)'!Y18)","v":""},{"$f":"IF('A) Eingabe (Lehrer)'!Z18=\"\", \"\",'A) Eingabe (Lehrer)'!Z18)","v":""},{"$f":"IF('A) Eingabe (Lehrer)'!AA18=\"\", \"\",'A) Eingabe (Lehrer)'!AA18)","v":""},{"$f":"IF('A) Eingabe (Lehrer)'!AB18=\"\", \"\",'A) Eingabe (Lehrer)'!AB18)","v":""},{"$f":"IF('A) Eingabe (Lehrer)'!AC18=\"\", \"\",'A) Eingabe (Lehrer)'!AC18)","v":""},{"$f":"IF('A) Eingabe (Lehrer)'!AD18=\"\", \"\",'A) Eingabe (Lehrer)'!AD18)","v":""},{"$f":"IF('A) Eingabe (Lehrer)'!AE18=\"\", \"\",'A) Eingabe (Lehrer)'!AE18)","v":""},{"$f":"IF('A) Eingabe (Lehrer)'!AF18=\"\", \"\",'A) Eingabe (Lehrer)'!AF18)","v":""},{"$f":"IF('A) Eingabe (Lehrer)'!AG18=\"\", \"\",'A) Eingabe (Lehrer)'!AG18)","v":""},{"$f":"IF('A) Eingabe (Lehrer)'!AH18=\"\", \"\",'A) Eingabe (Lehrer)'!AH18)","v":""},{"$f":"IF('A) Eingabe (Lehrer)'!AI18=\"\", \"\",'A) Eingabe (Lehrer)'!AI18)","v":""},{"$f":"IF('A) Eingabe (Lehrer)'!AJ18=\"\", \"\",'A) Eingabe (Lehrer)'!AJ18)","v":""},{"$f":"IF('A) Eingabe (Lehrer)'!AK18=\"\", \"\",'A) Eingabe (Lehrer)'!AK18)","v":""},{"$f":"IF('A) Eingabe (Lehrer)'!AL18=\"\", \"\",'A) Eingabe (Lehrer)'!AL18)","v":""},{"$f":"IF('A) Eingabe (Lehrer)'!AM18=\"\", \"\",'A) Eingabe (Lehrer)'!AM18)","v":""},{"$f":"IF('A) Eingabe (Lehrer)'!AN18=\"\", \"\",'A) Eingabe (Lehrer)'!AN18)","v":""},{"$f":"IF('A) Eingabe (Lehrer)'!AO18=\"\", \"\",'A) Eingabe (Lehrer)'!AO18)","v":""},{"$f":"IF('A) Eingabe (Lehrer)'!AP18=\"\", \"\",'A) Eingabe (Lehrer)'!AP18)","v":""},{"$f":"IF('A) Eingabe (Lehrer)'!AQ18=\"\", \"\",'A) Eingabe (Lehrer)'!AQ18)","v":""},{"$f":"IF('A) Eingabe (Lehrer)'!AR18=\"\", \"\",'A) Eingabe (Lehrer)'!AR18)","v":""},{"$f":"IF('A) Eingabe (Lehrer)'!AS18=\"\", \"\",'A) Eingabe (Lehrer)'!AS18)","v":""},{"$f":"IF('A) Eingabe (Lehrer)'!AT18=\"\", \"\",'A) Eingabe (Lehrer)'!AT18)","v":""},{"$f":"IF('A) Eingabe (Lehrer)'!AU18=\"\", \"\",'A) Eingabe (Lehrer)'!AU18)","v":""},{"$f":"IF('A) Eingabe (Lehrer)'!AV18=\"\", \"\",'A) Eingabe (Lehrer)'!AV18)","v":""},{"$f":"IF('A) Eingabe (Lehrer)'!AW18=\"\", \"\",'A) Eingabe (Lehrer)'!AW18)","v":""},{"$f":"IF('A) Eingabe (Lehrer)'!AX18=\"\", \"\",'A) Eingabe (Lehrer)'!AX18)","v":""},{"$f":"IF('A) Eingabe (Lehrer)'!AY18=\"\", \"\",'A) Eingabe (Lehrer)'!AY18)","v":""},{"$f":"IF('A) Eingabe (Lehrer)'!AZ18=\"\", \"\",'A) Eingabe (Lehrer)'!AZ18)","v":""},{"$f":"IF('A) Eingabe (Lehrer)'!BA18=\"\", \"\",'A) Eingabe (Lehrer)'!BA18)","v":""},{"$f":"IF('A) Eingabe (Lehrer)'!BB18=\"\", \"\",'A) Eingabe (Lehrer)'!BB18)","v":""},{"$f":"IF('A) Eingabe (Lehrer)'!BC18=\"\", \"\",'A) Eingabe (Lehrer)'!BC18)","v":""},{"$f":"IF('A) Eingabe (Lehrer)'!BD18=\"\", \"\",'A) Eingabe (Lehrer)'!BD18)","v":""},{"$f":"IF('A) Eingabe (Lehrer)'!BE18=\"\", \"\",'A) Eingabe (Lehrer)'!BE18)","v":""},{"$f":"IF('A) Eingabe (Lehrer)'!BF18=\"\", \"\",'A) Eingabe (Lehrer)'!BF18)","v":""},{"$f":"IF('A) Eingabe (Lehrer)'!BG18=\"\", \"\",'A) Eingabe (Lehrer)'!BG18)","v":""},{"$f":"IF('A) Eingabe (Lehrer)'!BH18=\"\", \"\",'A) Eingabe (Lehrer)'!BH18)","v":""},{"$f":"IF('A) Eingabe (Lehrer)'!BI18=\"\", \"\",'A) Eingabe (Lehrer)'!BI18)","v":""},{"$f":"IF('A) Eingabe (Lehrer)'!BJ18=\"\", \"\",'A) Eingabe (Lehrer)'!BJ18)","v":""},{"$f":"IF('A) Eingabe (Lehrer)'!BK18=\"\", \"\",'A) Eingabe (Lehrer)'!BK18)","v":""}]
["Item 7",{"$f":"IF('A) Eingabe (Lehrer)'!C19=\"\", \"\",'A) Eingabe (Lehrer)'!C19)","v":""},{"$f":"IF('A) Eingabe (Lehrer)'!D19=\"\", \"\",'A) Eingabe (Lehrer)'!D19)","v":""},{"$f":"IF('A) Eingabe (Lehrer)'!E19=\"\", \"\",'A) Eingabe (Lehrer)'!E19)","v":""},{"$f":"IF('A) Eingabe (Lehrer)'!F19=\"\", \"\",'A) Eingabe (Lehrer)'!F19)","v":""},{"$f":"IF('A) Eingabe (Lehrer)'!G19=\"\", \"\",'A) Eingabe (Lehrer)'!G19)","v":""},{"$f":"IF('A) Eingabe (Lehrer)'!H19=\"\", \"\",'A) Eingabe (Lehrer)'!H19)","v":""},{"$f":"IF('A) Eingabe (Lehrer)'!I19=\"\", \"\",'A) Eingabe (Lehrer)'!I19)","v":""},{"$f":"IF('A) Eingabe (Lehrer)'!J19=\"\", \"\",'A) Eingabe (Lehrer)'!J19)","v":""},{"$f":"IF('A) Eingabe (Lehrer)'!K19=\"\", \"\",'A) Eingabe (Lehrer)'!K19)","v":""},{"$f":"IF('A) Eingabe (Lehrer)'!L19=\"\", \"\",'A) Eingabe (Lehrer)'!L19)","v":""},{"$f":"IF('A) Eingabe (Lehrer)'!M19=\"\", \"\",'A) Eingabe (Lehrer)'!M19)","v":""},{"$f":"IF('A) Eingabe (Lehrer)'!N19=\"\", \"\",'A) Eingabe (Lehrer)'!N19)","v":""},{"$f":"IF('A) Eingabe (Lehrer)'!O19=\"\", \"\",'A) Eingabe (Lehrer)'!O19)","v":""},{"$f":"IF('A) Eingabe (Lehrer)'!P19=\"\", \"\",'A) Eingabe (Lehrer)'!P19)","v":""},{"$f":"IF('A) Eingabe (Lehrer)'!Q19=\"\", \"\",'A) Eingabe (Lehrer)'!Q19)","v":""},{"$f":"IF('A) Eingabe (Lehrer)'!R19=\"\", \"\",'A) Eingabe (Lehrer)'!R19)","v":""},{"$f":"IF('A) Eingabe (Lehrer)'!S19=\"\", \"\",'A) Eingabe (Lehrer)'!S19)","v":""},{"$f":"IF('A) Eingabe (Lehrer)'!T19=\"\", \"\",'A) Eingabe (Lehrer)'!T19)","v":""},{"$f":"IF('A) Eingabe (Lehrer)'!U19=\"\", \"\",'A) Eingabe (Lehrer)'!U19)","v":""},{"$f":"IF('A) Eingabe (Lehrer)'!V19=\"\", \"\",'A) Eingabe (Lehrer)'!V19)","v":""},{"$f":"IF('A) Eingabe (Lehrer)'!W19=\"\", \"\",'A) Eingabe (Lehrer)'!W19)","v":""},{"$f":"IF('A) Eingabe (Lehrer)'!X19=\"\", \"\",'A) Eingabe (Lehrer)'!X19)","v":""},{"$f":"IF('A) Eingabe (Lehrer)'!Y19=\"\", \"\",'A) Eingabe (Lehrer)'!Y19)","v":""},{"$f":"IF('A) Eingabe (Lehrer)'!Z19=\"\", \"\",'A) Eingabe (Lehrer)'!Z19)","v":""},{"$f":"IF('A) Eingabe (Lehrer)'!AA19=\"\", \"\",'A) Eingabe (Lehrer)'!AA19)","v":""},{"$f":"IF('A) Eingabe (Lehrer)'!AB19=\"\", \"\",'A) Eingabe (Lehrer)'!AB19)","v":""},{"$f":"IF('A) Eingabe (Lehrer)'!AC19=\"\", \"\",'A) Eingabe (Lehrer)'!AC19)","v":""},{"$f":"IF('A) Eingabe (Lehrer)'!AD19=\"\", \"\",'A) Eingabe (Lehrer)'!AD19)","v":""},{"$f":"IF('A) Eingabe (Lehrer)'!AE19=\"\", \"\",'A) Eingabe (Lehrer)'!AE19)","v":""},{"$f":"IF('A) Eingabe (Lehrer)'!AF19=\"\", \"\",'A) Eingabe (Lehrer)'!AF19)","v":""},{"$f":"IF('A) Eingabe (Lehrer)'!AG19=\"\", \"\",'A) Eingabe (Lehrer)'!AG19)","v":""},{"$f":"IF('A) Eingabe (Lehrer)'!AH19=\"\", \"\",'A) Eingabe (Lehrer)'!AH19)","v":""},{"$f":"IF('A) Eingabe (Lehrer)'!AI19=\"\", \"\",'A) Eingabe (Lehrer)'!AI19)","v":""},{"$f":"IF('A) Eingabe (Lehrer)'!AJ19=\"\", \"\",'A) Eingabe (Lehrer)'!AJ19)","v":""},{"$f":"IF('A) Eingabe (Lehrer)'!AK19=\"\", \"\",'A) Eingabe (Lehrer)'!AK19)","v":""},{"$f":"IF('A) Eingabe (Lehrer)'!AL19=\"\", \"\",'A) Eingabe (Lehrer)'!AL19)","v":""},{"$f":"IF('A) Eingabe (Lehrer)'!AM19=\"\", \"\",'A) Eingabe (Lehrer)'!AM19)","v":""},{"$f":"IF('A) Eingabe (Lehrer)'!AN19=\"\", \"\",'A) Eingabe (Lehrer)'!AN19)","v":""},{"$f":"IF('A) Eingabe (Lehrer)'!AO19=\"\", \"\",'A) Eingabe (Lehrer)'!AO19)","v":""},{"$f":"IF('A) Eingabe (Lehrer)'!AP19=\"\", \"\",'A) Eingabe (Lehrer)'!AP19)","v":""},{"$f":"IF('A) Eingabe (Lehrer)'!AQ19=\"\", \"\",'A) Eingabe (Lehrer)'!AQ19)","v":""},{"$f":"IF('A) Eingabe (Lehrer)'!AR19=\"\", \"\",'A) Eingabe (Lehrer)'!AR19)","v":""},{"$f":"IF('A) Eingabe (Lehrer)'!AS19=\"\", \"\",'A) Eingabe (Lehrer)'!AS19)","v":""},{"$f":"IF('A) Eingabe (Lehrer)'!AT19=\"\", \"\",'A) Eingabe (Lehrer)'!AT19)","v":""},{"$f":"IF('A) Eingabe (Lehrer)'!AU19=\"\", \"\",'A) Eingabe (Lehrer)'!AU19)","v":""},{"$f":"IF('A) Eingabe (Lehrer)'!AV19=\"\", \"\",'A) Eingabe (Lehrer)'!AV19)","v":""},{"$f":"IF('A) Eingabe (Lehrer)'!AW19=\"\", \"\",'A) Eingabe (Lehrer)'!AW19)","v":""},{"$f":"IF('A) Eingabe (Lehrer)'!AX19=\"\", \"\",'A) Eingabe (Lehrer)'!AX19)","v":""},{"$f":"IF('A) Eingabe (Lehrer)'!AY19=\"\", \"\",'A) Eingabe (Lehrer)'!AY19)","v":""},{"$f":"IF('A) Eingabe (Lehrer)'!AZ19=\"\", \"\",'A) Eingabe (Lehrer)'!AZ19)","v":""},{"$f":"IF('A) Eingabe (Lehrer)'!BA19=\"\", \"\",'A) Eingabe (Lehrer)'!BA19)","v":""},{"$f":"IF('A) Eingabe (Lehrer)'!BB19=\"\", \"\",'A) Eingabe (Lehrer)'!BB19)","v":""},{"$f":"IF('A) Eingabe (Lehrer)'!BC19=\"\", \"\",'A) Eingabe (Lehrer)'!BC19)","v":""},{"$f":"IF('A) Eingabe (Lehrer)'!BD19=\"\", \"\",'A) Eingabe (Lehrer)'!BD19)","v":""},{"$f":"IF('A) Eingabe (Lehrer)'!BE19=\"\", \"\",'A) Eingabe (Lehrer)'!BE19)","v":""},{"$f":"IF('A) Eingabe (Lehrer)'!BF19=\"\", \"\",'A) Eingabe (Lehrer)'!BF19)","v":""},{"$f":"IF('A) Eingabe (Lehrer)'!BG19=\"\", \"\",'A) Eingabe (Lehrer)'!BG19)","v":""},{"$f":"IF('A) Eingabe (Lehrer)'!BH19=\"\", \"\",'A) Eingabe (Lehrer)'!BH19)","v":""},{"$f":"IF('A) Eingabe (Lehrer)'!BI19=\"\", \"\",'A) Eingabe (Lehrer)'!BI19)","v":""},{"$f":"IF('A) Eingabe (Lehrer)'!BJ19=\"\", \"\",'A) Eingabe (Lehrer)'!BJ19)","v":""},{"$f":"IF('A) Eingabe (Lehrer)'!BK19=\"\", \"\",'A) Eingabe (Lehrer)'!BK19)","v":""}]
["Item 8",{"$f":"IF('A) Eingabe (Lehrer)'!C20=\"\", \"\",'A) Eingabe (Lehrer)'!C20)","v":""},{"$f":"IF('A) Eingabe (Lehrer)'!D20=\"\", \"\",'A) Eingabe (Lehrer)'!D20)","v":""},{"$f":"IF('A) Eingabe (Lehrer)'!E20=\"\", \"\",'A) Eingabe (Lehrer)'!E20)","v":""},{"$f":"IF('A) Eingabe (Lehrer)'!F20=\"\", \"\",'A) Eingabe (Lehrer)'!F20)","v":""},{"$f":"IF('A) Eingabe (Lehrer)'!G20=\"\", \"\",'A) Eingabe (Lehrer)'!G20)","v":""},{"$f":"IF('A) Eingabe (Lehrer)'!H20=\"\", \"\",'A) Eingabe (Lehrer)'!H20)","v":""},{"$f":"IF('A) Eingabe (Lehrer)'!I20=\"\", \"\",'A) Eingabe (Lehrer)'!I20)","v":""},{"$f":"IF('A) Eingabe (Lehrer)'!J20=\"\", \"\",'A) Eingabe (Lehrer)'!J20)","v":""},{"$f":"IF('A) Eingabe (Lehrer)'!K20=\"\", \"\",'A) Eingabe (Lehrer)'!K20)","v":""},{"$f":"IF('A) Eingabe (Lehrer)'!L20=\"\", \"\",'A) Eingabe (Lehrer)'!L20)","v":""},{"$f":"IF('A) Eingabe (Lehrer)'!M20=\"\", \"\",'A) Eingabe (Lehrer)'!M20)","v":""},{"$f":"IF('A) Eingabe (Lehrer)'!N20=\"\", \"\",'A) Eingabe (Lehrer)'!N20)","v":""},{"$f":"IF('A) Eingabe (Lehrer)'!O20=\"\", \"\",'A) Eingabe (Lehrer)'!O20)","v":""},{"$f":"IF('A) Eingabe (Lehrer)'!P20=\"\", \"\",'A) Eingabe (Lehrer)'!P20)","v":""},{"$f":"IF('A) Eingabe (Lehrer)'!Q20=\"\", \"\",'A) Eingabe (Lehrer)'!Q20)","v":""},{"$f":"IF('A) Eingabe (Lehrer)'!R20=\"\", \"\",'A) Eingabe (Lehrer)'!R20)","v":""},{"$f":"IF('A) Eingabe (Lehrer)'!S20=\"\", \"\",'A) Eingabe (Lehrer)'!S20)","v":""},{"$f":"IF('A) Eingabe (Lehrer)'!T20=\"\", \"\",'A) Eingabe (Lehrer)'!T20)","v":""},{"$f":"IF('A) Eingabe (Lehrer)'!U20=\"\", \"\",'A) Eingabe (Lehrer)'!U20)","v":""},{"$f":"IF('A) Eingabe (Lehrer)'!V20=\"\", \"\",'A) Eingabe (Lehrer)'!V20)","v":""},{"$f":"IF('A) Eingabe (Lehrer)'!W20=\"\", \"\",'A) Eingabe (Lehrer)'!W20)","v":""},{"$f":"IF('A) Eingabe (Lehrer)'!X20=\"\", \"\",'A) Eingabe (Lehrer)'!X20)","v":""},{"$f":"IF('A) Eingabe (Lehrer)'!Y20=\"\", \"\",'A) Eingabe (Lehrer)'!Y20)","v":""},{"$f":"IF('A) Eingabe (Lehrer)'!Z20=\"\", \"\",'A) Eingabe (Lehrer)'!Z20)","v":""},{"$f":"IF('A) Eingabe (Lehrer)'!AA20=\"\", \"\",'A) Eingabe (Lehrer)'!AA20)","v":""},{"$f":"IF('A) Eingabe (Lehrer)'!AB20=\"\", \"\",'A) Eingabe (Lehrer)'!AB20)","v":""},{"$f":"IF('A) Eingabe (Lehrer)'!AC20=\"\", \"\",'A) Eingabe (Lehrer)'!AC20)","v":""},{"$f":"IF('A) Eingabe (Lehrer)'!AD20=\"\", \"\",'A) Eingabe (Lehrer)'!AD20)","v":""},{"$f":"IF('A) Eingabe (Lehrer)'!AE20=\"\", \"\",'A) Eingabe (Lehrer)'!AE20)","v":""},{"$f":"IF('A) Eingabe (Lehrer)'!AF20=\"\", \"\",'A) Eingabe (Lehrer)'!AF20)","v":""},{"$f":"IF('A) Eingabe (Lehrer)'!AG20=\"\", \"\",'A) Eingabe (Lehrer)'!AG20)","v":""},{"$f":"IF('A) Eingabe (Lehrer)'!AH20=\"\", \"\",'A) Eingabe (Lehrer)'!AH20)","v":""},{"$f":"IF('A) Eingabe (Lehrer)'!AI20=\"\", \"\",'A) Eingabe (Lehrer)'!AI20)","v":""},{"$f":"IF('A) Eingabe (Lehrer)'!AJ20=\"\", \"\",'A) Eingabe (Lehrer)'!AJ20)","v":""},{"$f":"IF('A) Eingabe (Lehrer)'!AK20=\"\", \"\",'A) Eingabe (Lehrer)'!AK20)","v":""},{"$f":"IF('A) Eingabe (Lehrer)'!AL20=\"\", \"\",'A) Eingabe (Lehrer)'!AL20)","v":""},{"$f":"IF('A) Eingabe (Lehrer)'!AM20=\"\", \"\",'A) Eingabe (Lehrer)'!AM20)","v":""},{"$f":"IF('A) Eingabe (Lehrer)'!AN20=\"\", \"\",'A) Eingabe (Lehrer)'!AN20)","v":""},{"$f":"IF('A) Eingabe (Lehrer)'!AO20=\"\", \"\",'A) Eingabe (Lehrer)'!AO20)","v":""},{"$f":"IF('A) Eingabe (Lehrer)'!AP20=\"\", \"\",'A) Eingabe (Lehrer)'!AP20)","v":""},{"$f":"IF('A) Eingabe (Lehrer)'!AQ20=\"\", \"\",'A) Eingabe (Lehrer)'!AQ20)","v":""},{"$f":"IF('A) Eingabe (Lehrer)'!AR20=\"\", \"\",'A) Eingabe (Lehrer)'!AR20)","v":""},{"$f":"IF('A) Eingabe (Lehrer)'!AS20=\"\", \"\",'A) Eingabe (Lehrer)'!AS20)","v":""},{"$f":"IF('A) Eingabe (Lehrer)'!AT20=\"\", \"\",'A) Eingabe (Lehrer)'!AT20)","v":""},{"$f":"IF('A) Eingabe (Lehrer)'!AU20=\"\", \"\",'A) Eingabe (Lehrer)'!AU20)","v":""},{"$f":"IF('A) Eingabe (Lehrer)'!AV20=\"\", \"\",'A) Eingabe (Lehrer)'!AV20)","v":""},{"$f":"IF('A) Eingabe (Lehrer)'!AW20=\"\", \"\",'A) Eingabe (Lehrer)'!AW20)","v":""},{"$f":"IF('A) Eingabe (Lehrer)'!AX20=\"\", \"\",'A) Eingabe (Lehrer)'!AX20)","v":""},{"$f":"IF('A) Eingabe (Lehrer)'!AY20=\"\", \"\",'A) Eingabe (Lehrer)'!AY20)","v":""},{"$f":"IF('A) Eingabe (Lehrer)'!AZ20=\"\", \"\",'A) Eingabe (Lehrer)'!AZ20)","v":""},{"$f":"IF('A) Eingabe (Lehrer)'!BA20=\"\", \"\",'A) Eingabe (Lehrer)'!BA20)","v":""},{"$f":"IF('A) Eingabe (Lehrer)'!BB20=\"\", \"\",'A) Eingabe (Lehrer)'!BB20)","v":""},{"$f":"IF('A) Eingabe (Lehrer)'!BC20=\"\", \"\",'A) Eingabe (Lehrer)'!BC20)","v":""},{"$f":"IF('A) Eingabe (Lehrer)'!BD20=\"\", \"\",'A) Eingabe (Lehrer)'!BD20)","v":""},{"$f":"IF('A) Eingabe (Lehrer)'!BE20=\"\", \"\",'A) Eingabe (Lehrer)'!BE20)","v":""},{"$f":"IF('A) Eingabe (Lehrer)'!BF20=\"\", \"\",'A) Eingabe (Lehrer)'!BF20)","v":""},{"$f":"IF('A) Eingabe (Lehrer)'!BG20=\"\", \"\",'A) Eingabe (Lehrer)'!BG20)","v":""},{"$f":"IF('A) Eingabe (Lehrer)'!BH20=\"\", \"\",'A) Eingabe (Lehrer)'!BH20)","v":""},{"$f":"IF('A) Eingabe (Lehrer)'!BI20=\"\", \"\",'A) Eingabe (Lehrer)'!BI20)","v":""},{"$f":"IF('A) Eingabe (Lehrer)'!BJ20=\"\", \"\",'A) Eingabe (Lehrer)'!BJ20)","v":""},{"$f":"IF('A) Eingabe (Lehrer)'!BK20=\"\", \"\",'A) Eingabe (Lehrer)'!BK20)","v":""}]
["Item 9",{"$f":"IF('A) Eingabe (Lehrer)'!C21=\"\", \"\",'A) Eingabe (Lehrer)'!C21)","v":""},{"$f":"IF('A) Eingabe (Lehrer)'!D21=\"\", \"\",'A) Eingabe (Lehrer)'!D21)","v":""},{"$f":"IF('A) Eingabe (Lehrer)'!E21=\"\", \"\",'A) Eingabe (Lehrer)'!E21)","v":""},{"$f":"IF('A) Eingabe (Lehrer)'!F21=\"\", \"\",'A) Eingabe (Lehrer)'!F21)","v":""},{"$f":"IF('A) Eingabe (Lehrer)'!G21=\"\", \"\",'A) Eingabe (Lehrer)'!G21)","v":""},{"$f":"IF('A) Eingabe (Lehrer)'!H21=\"\", \"\",'A) Eingabe (Lehrer)'!H21)","v":""},{"$f":"IF('A) Eingabe (Lehrer)'!I21=\"\", \"\",'A) Eingabe (Lehrer)'!I21)","v":""},{"$f":"IF('A) Eingabe (Lehrer)'!J21=\"\", \"\",'A) Eingabe (Lehrer)'!J21)","v":""},{"$f":"IF('A) Eingabe (Lehrer)'!K21=\"\", \"\",'A) Eingabe (Lehrer)'!K21)","v":""},{"$f":"IF('A) Eingabe (Lehrer)'!L21=\"\", \"\",'A) Eingabe (Lehrer)'!L21)","v":""},{"$f":"IF('A) Eingabe (Lehrer)'!M21=\"\", \"\",'A) Eingabe (Lehrer)'!M21)","v":""},{"$f":"IF('A) Eingabe (Lehrer)'!N21=\"\", \"\",'A) Eingabe (Lehrer)'!N21)","v":""},{"$f":"IF('A) Eingabe (Lehrer)'!O21=\"\", \"\",'A) Eingabe (Lehrer)'!O21)","v":""},{"$f":"IF('A) Eingabe (Lehrer)'!P21=\"\", \"\",'A) Eingabe (Lehrer)'!P21)","v":""},{"$f":"IF('A) Eingabe (Lehrer)'!Q21=\"\", \"\",'A) Eingabe (Lehrer)'!Q21)","v":""},{"$f":"IF('A) Eingabe (Lehrer)'!R21=\"\", \"\",'A) Eingabe (Lehrer)'!R21)","v":""},{"$f":"IF('A) Eingabe (Lehrer)'!S21=\"\", \"\",'A) Eingabe (Lehrer)'!S21)","v":""},{"$f":"IF('A) Eingabe (Lehrer)'!T21=\"\", \"\",'A) Eingabe (Lehrer)'!T21)","v":""},{"$f":"IF('A) Eingabe (Lehrer)'!U21=\"\", \"\",'A) Eingabe (Lehrer)'!U21)","v":""},{"$f":"IF('A) Eingabe (Lehrer)'!V21=\"\", \"\",'A) Eingabe (Lehrer)'!V21)","v":""},{"$f":"IF('A) Eingabe (Lehrer)'!W21=\"\", \"\",'A) Eingabe (Lehrer)'!W21)","v":""},{"$f":"IF('A) Eingabe (Lehrer)'!X21=\"\", \"\",'A) Eingabe (Lehrer)'!X21)","v":""},{"$f":"IF('A) Eingabe (Lehrer)'!Y21=\"\", \"\",'A) Eingabe (Lehrer)'!Y21)","v":""},{"$f":"IF('A) Eingabe (Lehrer)'!Z21=\"\", \"\",'A) Eingabe (Lehrer)'!Z21)","v":""},{"$f":"IF('A) Eingabe (Lehrer)'!AA21=\"\", \"\",'A) Eingabe (Lehrer)'!AA21)","v":""},{"$f":"IF('A) Eingabe (Lehrer)'!AB21=\"\", \"\",'A) Eingabe (Lehrer)'!AB21)","v":""},{"$f":"IF('A) Eingabe (Lehrer)'!AC21=\"\", \"\",'A) Eingabe (Lehrer)'!AC21)","v":""},{"$f":"IF('A) Eingabe (Lehrer)'!AD21=\"\", \"\",'A) Eingabe (Lehrer)'!AD21)","v":""},{"$f":"IF('A) Eingabe (Lehrer)'!AE21=\"\", \"\",'A) Eingabe (Lehrer)'!AE21)","v":""},{"$f":"IF('A) Eingabe (Lehrer)'!AF21=\"\", \"\",'A) Eingabe (Lehrer)'!AF21)","v":""},{"$f":"IF('A) Eingabe (Lehrer)'!AG21=\"\", \"\",'A) Eingabe (Lehrer)'!AG21)","v":""},{"$f":"IF('A) Eingabe (Lehrer)'!AH21=\"\", \"\",'A) Eingabe (Lehrer)'!AH21)","v":""},{"$f":"IF('A) Eingabe (Lehrer)'!AI21=\"\", \"\",'A) Eingabe (Lehrer)'!AI21)","v":""},{"$f":"IF('A) Eingabe (Lehrer)'!AJ21=\"\", \"\",'A) Eingabe (Lehrer)'!AJ21)","v":""},{"$f":"IF('A) Eingabe (Lehrer)'!AK21=\"\", \"\",'A) Eingabe (Lehrer)'!AK21)","v":""},{"$f":"IF('A) Eingabe (Lehrer)'!AL21=\"\", \"\",'A) Eingabe (Lehrer)'!AL21)","v":""},{"$f":"IF('A) Eingabe (Lehrer)'!AM21=\"\", \"\",'A) Eingabe (Lehrer)'!AM21)","v":""},{"$f":"IF('A) Eingabe (Lehrer)'!AN21=\"\", \"\",'A) Eingabe (Lehrer)'!AN21)","v":""},{"$f":"IF('A) Eingabe (Lehrer)'!AO21=\"\", \"\",'A) Eingabe (Lehrer)'!AO21)","v":""},{"$f":"IF('A) Eingabe (Lehrer)'!AP21=\"\", \"\",'A) Eingabe (Lehrer)'!AP21)","v":""},{"$f":"IF('A) Eingabe (Lehrer)'!AQ21=\"\", \"\",'A) Eingabe (Lehrer)'!AQ21)","v":""},{"$f":"IF('A) Eingabe (Lehrer)'!AR21=\"\", \"\",'A) Eingabe (Lehrer)'!AR21)","v":""},{"$f":"IF('A) Eingabe (Lehrer)'!AS21=\"\", \"\",'A) Eingabe (Lehrer)'!AS21)","v":""},{"$f":"IF('A) Eingabe (Lehrer)'!AT21=\"\", \"\",'A) Eingabe (Lehrer)'!AT21)","v":""},{"$f":"IF('A) Eingabe (Lehrer)'!AU21=\"\", \"\",'A) Eingabe (Lehrer)'!AU21)","v":""},{"$f":"IF('A) Eingabe (Lehrer)'!AV21=\"\", \"\",'A) Eingabe (Lehrer)'!AV21)","v":""},{"$f":"IF('A) Eingabe (Lehrer)'!AW21=\"\", \"\",'A) Eingabe (Lehrer)'!AW21)","v":""},{"$f":"IF('A) Eingabe (Lehrer)'!AX21=\"\", \"\",'A) Eingabe (Lehrer)'!AX21)","v":""},{"$f":"IF('A) Eingabe (Lehrer)'!AY21=\"\", \"\",'A) Eingabe (Lehrer)'!AY21)","v":""},{"$f":"IF('A) Eingabe (Lehrer)'!AZ21=\"\", \"\",'A) Eingabe (Lehrer)'!AZ21)","v":""},{"$f":"IF('A) Eingabe (Lehrer)'!BA21=\"\", \"\",'A) Eingabe (Lehrer)'!BA21)","v":""},{"$f":"IF('A) Eingabe (Lehrer)'!BB21=\"\", \"\",'A) Eingabe (Lehrer)'!BB21)","v":""},{"$f":"IF('A) Eingabe (Lehrer)'!BC21=\"\", \"\",'A) Eingabe (Lehrer)'!BC21)","v":""},{"$f":"IF('A) Eingabe (Lehrer)'!BD21=\"\", \"\",'A) Eingabe (Lehrer)'!BD21)","v":""},{"$f":"IF('A) Eingabe (Lehrer)'!BE21=\"\", \"\",'A) Eingabe (Lehrer)'!BE21)","v":""},{"$f":"IF('A) Eingabe (Lehrer)'!BF21=\"\", \"\",'A) Eingabe (Lehrer)'!BF21)","v":""},{"$f":"IF('A) Eingabe (Lehrer)'!BG21=\"\", \"\",'A) Eingabe (Lehrer)'!BG21)","v":""},{"$f":"IF('A) Eingabe (Lehrer)'!BH21=\"\", \"\",'A) Eingabe (Lehrer)'!BH21)","v":""},{"$f":"IF('A) Eingabe (Lehrer)'!BI21=\"\", \"\",'A) Eingabe (Lehrer)'!BI21)","v":""},{"$f":"IF('A) Eingabe (Lehrer)'!BJ21=\"\", \"\",'A) Eingabe (Lehrer)'!BJ21)","v":""},{"$f":"IF('A) Eingabe (Lehrer)'!BK21=\"\", \"\",'A) Eingabe (Lehrer)'!BK21)","v":""}]
["Item 10",{"$f":"IF('A) Eingabe (Lehrer)'!C22=\"\", \"\",'A) Eingabe (Lehrer)'!C22)","v":""},{"$f":"IF('A) Eingabe (Lehrer)'!D22=\"\", \"\",'A) Eingabe (Lehrer)'!D22)","v":""},{"$f":"IF('A) Eingabe (Lehrer)'!E22=\"\", \"\",'A) Eingabe (Lehrer)'!E22)","v":""},{"$f":"IF('A) Eingabe (Lehrer)'!F22=\"\", \"\",'A) Eingabe (Lehrer)'!F22)","v":""},{"$f":"IF('A) Eingabe (Lehrer)'!G22=\"\", \"\",'A) Eingabe (Lehrer)'!G22)","v":""},{"$f":"IF('A) Eingabe (Lehrer)'!H22=\"\", \"\",'A) Eingabe (Lehrer)'!H22)","v":""},{"$f":"IF('A) Eingabe (Lehrer)'!I22=\"\", \"\",'A) Eingabe (Lehrer)'!I22)","v":""},{"$f":"IF('A) Eingabe (Lehrer)'!J22=\"\", \"\",'A) Eingabe (Lehrer)'!J22)","v":""},{"$f":"IF('A) Eingabe (Lehrer)'!K22=\"\", \"\",'A) Eingabe (Lehrer)'!K22)","v":""},{"$f":"IF('A) Eingabe (Lehrer)'!L22=\"\", \"\",'A) Eingabe (Lehrer)'!L22)","v":""},{"$f":"IF('A) Eingabe (Lehrer)'!M22=\"\", \"\",'A) Eingabe (Lehrer)'!M22)","v":""},{"$f":"IF('A) Eingabe (Lehrer)'!N22=\"\", \"\",'A) Eingabe (Lehrer)'!N22)","v":""},{"$f":"IF('A) Eingabe (Lehrer)'!O22=\"\", \"\",'A) Eingabe (Lehrer)'!O22)","v":""},{"$f":"IF('A) Eingabe (Lehrer)'!P22=\"\", \"\",'A) Eingabe (Lehrer)'!P22)","v":""},{"$f":"IF('A) Eingabe (Lehrer)'!Q22=\"\", \"\",'A) Eingabe (Lehrer)'!Q22)","v":""},{"$f":"IF('A) Eingabe (Lehrer)'!R22=\"\", \"\",'A) Eingabe (Lehrer)'!R22)","v":""},{"$f":"IF('A) Eingabe (Lehrer)'!S22=\"\", \"\",'A) Eingabe (Lehrer)'!S22)","v":""},{"$f":"IF('A) Eingabe (Lehrer)'!T22=\"\", \"\",'A) Eingabe (Lehrer)'!T22)","v":""},{"$f":"IF('A) Eingabe (Lehrer)'!U22=\"\", \"\",'A) Eingabe (Lehrer)'!U22)","v":""},{"$f":"IF('A) Eingabe (Lehrer)'!V22=\"\", \"\",'A) Eingabe (Lehrer)'!V22)","v":""},{"$f":"IF('A) Eingabe (Lehrer)'!W22=\"\", \"\",'A) Eingabe (Lehrer)'!W22)","v":""},{"$f":"IF('A) Eingabe (Lehrer)'!X22=\"\", \"\",'A) Eingabe (Lehrer)'!X22)","v":""},{"$f":"IF('A) Eingabe (Lehrer)'!Y22=\"\", \"\",'A) Eingabe (Lehrer)'!Y22)","v":""},{"$f":"IF('A) Eingabe (Lehrer)'!Z22=\"\", \"\",'A) Eingabe (Lehrer)'!Z22)","v":""},{"$f":"IF('A) Eingabe (Lehrer)'!AA22=\"\", \"\",'A) Eingabe (Lehrer)'!AA22)","v":""},{"$f":"IF('A) Eingabe (Lehrer)'!AB22=\"\", \"\",'A) Eingabe (Lehrer)'!AB22)","v":""},{"$f":"IF('A) Eingabe (Lehrer)'!AC22=\"\", \"\",'A) Eingabe (Lehrer)'!AC22)","v":""},{"$f":"IF('A) Eingabe (Lehrer)'!AD22=\"\", \"\",'A) Eingabe (Lehrer)'!AD22)","v":""},{"$f":"IF('A) Eingabe (Lehrer)'!AE22=\"\", \"\",'A) Eingabe (Lehrer)'!AE22)","v":""},{"$f":"IF('A) Eingabe (Lehrer)'!AF22=\"\", \"\",'A) Eingabe (Lehrer)'!AF22)","v":""},{"$f":"IF('A) Eingabe (Lehrer)'!AG22=\"\", \"\",'A) Eingabe (Lehrer)'!AG22)","v":""},{"$f":"IF('A) Eingabe (Lehrer)'!AH22=\"\", \"\",'A) Eingabe (Lehrer)'!AH22)","v":""},{"$f":"IF('A) Eingabe (Lehrer)'!AI22=\"\", \"\",'A) Eingabe (Lehrer)'!AI22)","v":""},{"$f":"IF('A) Eingabe (Lehrer)'!AJ22=\"\", \"\",'A) Eingabe (Lehrer)'!AJ22)","v":""},{"$f":"IF('A) Eingabe (Lehrer)'!AK22=\"\", \"\",'A) Eingabe (Lehrer)'!AK22)","v":""},{"$f":"IF('A) Eingabe (Lehrer)'!AL22=\"\", \"\",'A) Eingabe (Lehrer)'!AL22)","v":""},{"$f":"IF('A) Eingabe (Lehrer)'!AM22=\"\", \"\",'A) Eingabe (Lehrer)'!AM22)","v":""},{"$f":"IF('A) Eingabe (Lehrer)'!AN22=\"\", \"\",'A) Eingabe (Lehrer)'!AN22)","v":""},{"$f":"IF('A) Eingabe (Lehrer)'!AO22=\"\", \"\",'A) Eingabe (Lehrer)'!AO22)","v":""},{"$f":"IF('A) Eingabe (Lehrer)'!AP22=\"\", \"\",'A) Eingabe (Lehrer)'!AP22)","v":""},{"$f":"IF('A) Eingabe (Lehrer)'!AQ22=\"\", \"\",'A) Eingabe (Lehrer)'!AQ22)","v":""},{"$f":"IF('A) Eingabe (Lehrer)'!AR22=\"\", \"\",'A) Eingabe (Lehrer)'!AR22)","v":""},{"$f":"IF('A) Eingabe (Lehrer)'!AS22=\"\", \"\",'A) Eingabe (Lehrer)'!AS22)","v":""},{"$f":"IF('A) Eingabe (Lehrer)'!AT22=\"\", \"\",'A) Eingabe (Lehrer)'!AT22)","v":""},{"$f":"IF('A) Eingabe (Lehrer)'!AU22=\"\", \"\",'A) Eingabe (Lehrer)'!AU22)","v":""},{"$f":"IF('A) Eingabe (Lehrer)'!AV22=\"\", \"\",'A) Eingabe (Lehrer)'!AV22)","v":""},{"$f":"IF('A) Eingabe (Lehrer)'!AW22=\"\", \"\",'A) Eingabe (Lehrer)'!AW22)","v":""},{"$f":"IF('A) Eingabe (Lehrer)'!AX22=\"\", \"\",'A) Eingabe (Lehrer)'!AX22)","v":""},{"$f":"IF('A) Eingabe (Lehrer)'!AY22=\"\", \"\",'A) Eingabe (Lehrer)'!AY22)","v":""},{"$f":"IF('A) Eingabe (Lehrer)'!AZ22=\"\", \"\",'A) Eingabe (Lehrer)'!AZ22)","v":""},{"$f":"IF('A) Eingabe (Lehrer)'!BA22=\"\", \"\",'A) Eingabe (Lehrer)'!BA22)","v":""},{"$f":"IF('A) Eingabe (Lehrer)'!BB22=\"\", \"\",'A) Eingabe (Lehrer)'!BB22)","v":""},{"$f":"IF('A) Eingabe (Lehrer)'!BC22=\"\", \"\",'A) Eingabe (Lehrer)'!BC22)","v":""},{"$f":"IF('A) Eingabe (Lehrer)'!BD22=\"\", \"\",'A) Eingabe (Lehrer)'!BD22)","v":""},{"$f":"IF('A) Eingabe (Lehrer)'!BE22=\"\", \"\",'A) Eingabe (Lehrer)'!BE22)","v":""},{"$f":"IF('A) Eingabe (Lehrer)'!BF22=\"\", \"\",'A) Eingabe (Lehrer)'!BF22)","v":""},{"$f":"IF('A) Eingabe (Lehrer)'!BG22=\"\", \"\",'A) Eingabe (Lehrer)'!BG22)","v":""},{"$f":"IF('A) Eingabe (Lehrer)'!BH22=\"\", \"\",'A) Eingabe (Lehrer)'!BH22)","v":""},{"$f":"IF('A) Eingabe (Lehrer)'!BI22=\"\", \"\",'A) Eingabe (Lehrer)'!BI22)","v":""},{"$f":"IF('A) Eingabe (Lehrer)'!BJ22=\"\", \"\",'A) Eingabe (Lehrer)'!BJ22)","v":""},{"$f":"IF('A) Eingabe (Lehrer)'!BK22=\"\", \"\",'A) Eingabe (Lehrer)'!BK22)","v":""}]
["Item 11",{"$f":"IF('A) Eingabe (Lehrer)'!C23=\"\", \"\",'A) Eingabe (Lehrer)'!C23)","v":""},{"$f":"IF('A) Eingabe (Lehrer)'!D23=\"\", \"\",'A) Eingabe (Lehrer)'!D23)","v":""},{"$f":"IF('A) Eingabe (Lehrer)'!E23=\"\", \"\",'A) Eingabe (Lehrer)'!E23)","v":""},{"$f":"IF('A) Eingabe (Lehrer)'!F23=\"\", \"\",'A) Eingabe (Lehrer)'!F23)","v":""},{"$f":"IF('A) Eingabe (Lehrer)'!G23=\"\", \"\",'A) Eingabe (Lehrer)'!G23)","v":""},{"$f":"IF('A) Eingabe (Lehrer)'!H23=\"\", \"\",'A) Eingabe (Lehrer)'!H23)","v":""},{"$f":"IF('A) Eingabe (Lehrer)'!I23=\"\", \"\",'A) Eingabe (Lehrer)'!I23)","v":""},{"$f":"IF('A) Eingabe (Lehrer)'!J23=\"\", \"\",'A) Eingabe (Lehrer)'!J23)","v":""},{"$f":"IF('A) Eingabe (Lehrer)'!K23=\"\", \"\",'A) Eingabe (Lehrer)'!K23)","v":""},{"$f":"IF('A) Eingabe (Lehrer)'!L23=\"\", \"\",'A) Eingabe (Lehrer)'!L23)","v":""},{"$f":"IF('A) Eingabe (Lehrer)'!M23=\"\", \"\",'A) Eingabe (Lehrer)'!M23)","v":""},{"$f":"IF('A) Eingabe (Lehrer)'!N23=\"\", \"\",'A) Eingabe (Lehrer)'!N23)","v":""},{"$f":"IF('A) Eingabe (Lehrer)'!O23=\"\", \"\",'A) Eingabe (Lehrer)'!O23)","v":""},{"$f":"IF('A) Eingabe (Lehrer)'!P23=\"\", \"\",'A) Eingabe (Lehrer)'!P23)","v":""},{"$f":"IF('A) Eingabe (Lehrer)'!Q23=\"\", \"\",'A) Eingabe (Lehrer)'!Q23)","v":""},{"$f":"IF('A) Eingabe (Lehrer)'!R23=\"\", \"\",'A) Eingabe (Lehrer)'!R23)","v":""},{"$f":"IF('A) Eingabe (Lehrer)'!S23=\"\", \"\",'A) Eingabe (Lehrer)'!S23)","v":""},{"$f":"IF('A) Eingabe (Lehrer)'!T23=\"\", \"\",'A) Eingabe (Lehrer)'!T23)","v":""},{"$f":"IF('A) Eingabe (Lehrer)'!U23=\"\", \"\",'A) Eingabe (Lehrer)'!U23)","v":""},{"$f":"IF('A) Eingabe (Lehrer)'!V23=\"\", \"\",'A) Eingabe (Lehrer)'!V23)","v":""},{"$f":"IF('A) Eingabe (Lehrer)'!W23=\"\", \"\",'A) Eingabe (Lehrer)'!W23)","v":""},{"$f":"IF('A) Eingabe (Lehrer)'!X23=\"\", \"\",'A) Eingabe (Lehrer)'!X23)","v":""},{"$f":"IF('A) Eingabe (Lehrer)'!Y23=\"\", \"\",'A) Eingabe (Lehrer)'!Y23)","v":""},{"$f":"IF('A) Eingabe (Lehrer)'!Z23=\"\", \"\",'A) Eingabe (Lehrer)'!Z23)","v":""},{"$f":"IF('A) Eingabe (Lehrer)'!AA23=\"\", \"\",'A) Eingabe (Lehrer)'!AA23)","v":""},{"$f":"IF('A) Eingabe (Lehrer)'!AB23=\"\", \"\",'A) Eingabe (Lehrer)'!AB23)","v":""},{"$f":"IF('A) Eingabe (Lehrer)'!AC23=\"\", \"\",'A) Eingabe (Lehrer)'!AC23)","v":""},{"$f":"IF('A) Eingabe (Lehrer)'!AD23=\"\", \"\",'A) Eingabe (Lehrer)'!AD23)","v":""},{"$f":"IF('A) Eingabe (Lehrer)'!AE23=\"\", \"\",'A) Eingabe (Lehrer)'!AE23)","v":""},{"$f":"IF('A) Eingabe (Lehrer)'!AF23=\"\", \"\",'A) Eingabe (Lehrer)'!AF23)","v":""},{"$f":"IF('A) Eingabe (Lehrer)'!AG23=\"\", \"\",'A) Eingabe (Lehrer)'!AG23)","v":""},{"$f":"IF('A) Eingabe (Lehrer)'!AH23=\"\", \"\",'A) Eingabe (Lehrer)'!AH23)","v":""},{"$f":"IF('A) Eingabe (Lehrer)'!AI23=\"\", \"\",'A) Eingabe (Lehrer)'!AI23)","v":""},{"$f":"IF('A) Eingabe (Lehrer)'!AJ23=\"\", \"\",'A) Eingabe (Lehrer)'!AJ23)","v":""},{"$f":"IF('A) Eingabe (Lehrer)'!AK23=\"\", \"\",'A) Eingabe (Lehrer)'!AK23)","v":""},{"$f":"IF('A) Eingabe (Lehrer)'!AL23=\"\", \"\",'A) Eingabe (Lehrer)'!AL23)","v":""},{"$f":"IF('A) Eingabe (Lehrer)'!AM23=\"\", \"\",'A) Eingabe (Lehrer)'!AM23)","v":""},{"$f":"IF('A) Eingabe (Lehrer)'!AN23=\"\", \"\",'A) Eingabe (Lehrer)'!AN23)","v":""},{"$f":"IF('A) Eingabe (Lehrer)'!AO23=\"\", \"\",'A) Eingabe (Lehrer)'!AO23)","v":""},{"$f":"IF('A) Eingabe (Lehrer)'!AP23=\"\", \"\",'A) Eingabe (Lehrer)'!AP23)","v":""},{"$f":"IF('A) Eingabe (Lehrer)'!AQ23=\"\", \"\",'A) Eingabe (Lehrer)'!AQ23)","v":""},{"$f":"IF('A) Eingabe (Lehrer)'!AR23=\"\", \"\",'A) Eingabe (Lehrer)'!AR23)","v":""},{"$f":"IF('A) Eingabe (Lehrer)'!AS23=\"\", \"\",'A) Eingabe (Lehrer)'!AS23)","v":""},{"$f":"IF('A) Eingabe (Lehrer)'!AT23=\"\", \"\",'A) Eingabe (Lehrer)'!AT23)","v":""},{"$f":"IF('A) Eingabe (Lehrer)'!AU23=\"\", \"\",'A) Eingabe (Lehrer)'!AU23)","v":""},{"$f":"IF('A) Eingabe (Lehrer)'!AV23=\"\", \"\",'A) Eingabe (Lehrer)'!AV23)","v":""},{"$f":"IF('A) Eingabe (Lehrer)'!AW23=\"\", \"\",'A) Eingabe (Lehrer)'!AW23)","v":""},{"$f":"IF('A) Eingabe (Lehrer)'!AX23=\"\", \"\",'A) Eingabe (Lehrer)'!AX23)","v":""},{"$f":"IF('A) Eingabe (Lehrer)'!AY23=\"\", \"\",'A) Eingabe (Lehrer)'!AY23)","v":""},{"$f":"IF('A) Eingabe (Lehrer)'!AZ23=\"\", \"\",'A) Eingabe (Lehrer)'!AZ23)","v":""},{"$f":"IF('A) Eingabe (Lehrer)'!BA23=\"\", \"\",'A) Eingabe (Lehrer)'!BA23)","v":""},{"$f":"IF('A) Eingabe (Lehrer)'!BB23=\"\", \"\",'A) Eingabe (Lehrer)'!BB23)","v":""},{"$f":"IF('A) Eingabe (Lehrer)'!BC23=\"\", \"\",'A) Eingabe (Lehrer)'!BC23)","v":""},{"$f":"IF('A) Eingabe (Lehrer)'!BD23=\"\", \"\",'A) Eingabe (Lehrer)'!BD23)","v":""},{"$f":"IF('A) Eingabe (Lehrer)'!BE23=\"\", \"\",'A) Eingabe (Lehrer)'!BE23)","v":""},{"$f":"IF('A) Eingabe (Lehrer)'!BF23=\"\", \"\",'A) Eingabe (Lehrer)'!BF23)","v":""},{"$f":"IF('A) Eingabe (Lehrer)'!BG23=\"\", \"\",'A) Eingabe (Lehrer)'!BG23)","v":""},{"$f":"IF('A) Eingabe (Lehrer)'!BH23=\"\", \"\",'A) Eingabe (Lehrer)'!BH23)","v":""},{"$f":"IF('A) Eingabe (Lehrer)'!BI23=\"\", \"\",'A) Eingabe (Lehrer)'!BI23)","v":""},{"$f":"IF('A) Eingabe (Lehrer)'!BJ23=\"\", \"\",'A) Eingabe (Lehrer)'!BJ23)","v":""},{"$f":"IF('A) Eingabe (Lehrer)'!BK23=\"\", \"\",'A) Eingabe (Lehrer)'!BK23)","v":""}]
["Item 12",{"$f":"IF('A) Eingabe (Lehrer)'!C25=\"\", \"\",'A) Eingabe (Lehrer)'!C25)","v":""},{"$f":"IF('A) Eingabe (Lehrer)'!D25=\"\", \"\",'A) Eingabe (Lehrer)'!D25)","v":""},{"$f":"IF('A) Eingabe (Lehrer)'!E25=\"\", \"\",'A) Eingabe (Lehrer)'!E25)","v":""},{"$f":"IF('A) Eingabe (Lehrer)'!F25=\"\", \"\",'A) Eingabe (Lehrer)'!F25)","v":""},{"$f":"IF('A) Eingabe (Lehrer)'!G25=\"\", \"\",'A) Eingabe (Lehrer)'!G25)","v":""},{"$f":"IF('A) Eingabe (Lehrer)'!H25=\"\", \"\",'A) Eingabe (Lehrer)'!H25)","v":""},{"$f":"IF('A) Eingabe (Lehrer)'!I25=\"\", \"\",'A) Eingabe (Lehrer)'!I25)","v":""},{"$f":"IF('A) Eingabe (Lehrer)'!J25=\"\", \"\",'A) Eingabe (Lehrer)'!J25)","v":""},{"$f":"IF('A) Eingabe (Lehrer)'!K25=\"\", \"\",'A) Eingabe (Lehrer)'!K25)","v":""},{"$f":"IF('A) Eingabe (Lehrer)'!L25=\"\", \"\",'A) Eingabe (Lehrer)'!L25)","v":""},{"$f":"IF('A) Eingabe (Lehrer)'!M25=\"\", \"\",'A) Eingabe (Lehrer)'!M25)","v":""},{"$f":"IF('A) Eingabe (Lehrer)'!N25=\"\", \"\",'A) Eingabe (Lehrer)'!N25)","v":""},{"$f":"IF('A) Eingabe (Lehrer)'!O25=\"\", \"\",'A) Eingabe (Lehrer)'!O25)","v":""},{"$f":"IF('A) Eingabe (Lehrer)'!P25=\"\", \"\",'A) Eingabe (Lehrer)'!P25)","v":""},{"$f":"IF('A) Eingabe (Lehrer)'!Q25=\"\", \"\",'A) Eingabe (Lehrer)'!Q25)","v":""},{"$f":"IF('A) Eingabe (Lehrer)'!R25=\"\", \"\",'A) Eingabe (Lehrer)'!R25)","v":""},{"$f":"IF('A) Eingabe (Lehrer)'!S25=\"\", \"\",'A) Eingabe (Lehrer)'!S25)","v":""},{"$f":"IF('A) Eingabe (Lehrer)'!T25=\"\", \"\",'A) Eingabe (Lehrer)'!T25)","v":""},{"$f":"IF('A) Eingabe (Lehrer)'!U25=\"\", \"\",'A) Eingabe (Lehrer)'!U25)","v":""},{"$f":"IF('A) Eingabe (Lehrer)'!V25=\"\", \"\",'A) Eingabe (Lehrer)'!V25)","v":""},{"$f":"IF('A) Eingabe (Lehrer)'!W25=\"\", \"\",'A) Eingabe (Lehrer)'!W25)","v":""},{"$f":"IF('A) Eingabe (Lehrer)'!X25=\"\", \"\",'A) Eingabe (Lehrer)'!X25)","v":""},{"$f":"IF('A) Eingabe (Lehrer)'!Y25=\"\", \"\",'A) Eingabe (Lehrer)'!Y25)","v":""},{"$f":"IF('A) Eingabe (Lehrer)'!Z25=\"\", \"\",'A) Eingabe (Lehrer)'!Z25)","v":""},{"$f":"IF('A) Eingabe (Lehrer)'!AA25=\"\", \"\",'A) Eingabe (Lehrer)'!AA25)","v":""},{"$f":"IF('A) Eingabe (Lehrer)'!AB25=\"\", \"\",'A) Eingabe (Lehrer)'!AB25)","v":""},{"$f":"IF('A) Eingabe (Lehrer)'!AC25=\"\", \"\",'A) Eingabe (Lehrer)'!AC25)","v":""},{"$f":"IF('A) Eingabe (Lehrer)'!AD25=\"\", \"\",'A) Eingabe (Lehrer)'!AD25)","v":""},{"$f":"IF('A) Eingabe (Lehrer)'!AE25=\"\", \"\",'A) Eingabe (Lehrer)'!AE25)","v":""},{"$f":"IF('A) Eingabe (Lehrer)'!AF25=\"\", \"\",'A) Eingabe (Lehrer)'!AF25)","v":""},{"$f":"IF('A) Eingabe (Lehrer)'!AG25=\"\", \"\",'A) Eingabe (Lehrer)'!AG25)","v":""},{"$f":"IF('A) Eingabe (Lehrer)'!AH25=\"\", \"\",'A) Eingabe (Lehrer)'!AH25)","v":""},{"$f":"IF('A) Eingabe (Lehrer)'!AI25=\"\", \"\",'A) Eingabe (Lehrer)'!AI25)","v":""},{"$f":"IF('A) Eingabe (Lehrer)'!AJ25=\"\", \"\",'A) Eingabe (Lehrer)'!AJ25)","v":""},{"$f":"IF('A) Eingabe (Lehrer)'!AK25=\"\", \"\",'A) Eingabe (Lehrer)'!AK25)","v":""},{"$f":"IF('A) Eingabe (Lehrer)'!AL25=\"\", \"\",'A) Eingabe (Lehrer)'!AL25)","v":""},{"$f":"IF('A) Eingabe (Lehrer)'!AM25=\"\", \"\",'A) Eingabe (Lehrer)'!AM25)","v":""},{"$f":"IF('A) Eingabe (Lehrer)'!AN25=\"\", \"\",'A) Eingabe (Lehrer)'!AN25)","v":""},{"$f":"IF('A) Eingabe (Lehrer)'!AO25=\"\", \"\",'A) Eingabe (Lehrer)'!AO25)","v":""},{"$f":"IF('A) Eingabe (Lehrer)'!AP25=\"\", \"\",'A) Eingabe (Lehrer)'!AP25)","v":""},{"$f":"IF('A) Eingabe (Lehrer)'!AQ25=\"\", \"\",'A) Eingabe (Lehrer)'!AQ25)","v":""},{"$f":"IF('A) Eingabe (Lehrer)'!AR25=\"\", \"\",'A) Eingabe (Lehrer)'!AR25)","v":""},{"$f":"IF('A) Eingabe (Lehrer)'!AS25=\"\", \"\",'A) Eingabe (Lehrer)'!AS25)","v":""},{"$f":"IF('A) Eingabe (Lehrer)'!AT25=\"\", \"\",'A) Eingabe (Lehrer)'!AT25)","v":""},{"$f":"IF('A) Eingabe (Lehrer)'!AU25=\"\", \"\",'A) Eingabe (Lehrer)'!AU25)","v":""},{"$f":"IF('A) Eingabe (Lehrer)'!AV25=\"\", \"\",'A) Eingabe (Lehrer)'!AV25)","v":""},{"$f":"IF('A) Eingabe (Lehrer)'!AW25=\"\", \"\",'A) Eingabe (Lehrer)'!AW25)","v":""},{"$f":"IF('A) Eingabe (Lehrer)'!AX25=\"\", \"\",'A) Eingabe (Lehrer)'!AX25)","v":""},{"$f":"IF('A) Eingabe (Lehrer)'!AY25=\"\", \"\",'A) Eingabe (Lehrer)'!AY25)","v":""},{"$f":"IF('A) Eingabe (Lehrer)'!AZ25=\"\", \"\",'A) Eingabe (Lehrer)'!AZ25)","v":""},{"$f":"IF('A) Eingabe (Lehrer)'!BA25=\"\", \"\",'A) Eingabe (Lehrer)'!BA25)","v":""},{"$f":"IF('A) Eingabe (Lehrer)'!BB25=\"\", \"\",'A) Eingabe (Lehrer)'!BB25)","v":""},{"$f":"IF('A) Eingabe (Lehrer)'!BC25=\"\", \"\",'A) Eingabe (Lehrer)'!BC25)","v":""},{"$f":"IF('A) Eingabe (Lehrer)'!BD25=\"\", \"\",'A) Eingabe (Lehrer)'!BD25)","v":""},{"$f":"IF('A) Eingabe (Lehrer)'!BE25=\"\", \"\",'A) Eingabe (Lehrer)'!BE25)","v":""},{"$f":"IF('A) Eingabe (Lehrer)'!BF25=\"\", \"\",'A) Eingabe (Lehrer)'!BF25)","v":""},{"$f":"IF('A) Eingabe (Lehrer)'!BG25=\"\", \"\",'A) Eingabe (Lehrer)'!BG25)","v":""},{"$f":"IF('A) Eingabe (Lehrer)'!BH25=\"\", \"\",'A) Eingabe (Lehrer)'!BH25)","v":""},{"$f":"IF('A) Eingabe (Lehrer)'!BI25=\"\", \"\",'A) Eingabe (Lehrer)'!BI25)","v":""},{"$f":"IF('A) Eingabe (Lehrer)'!BJ25=\"\", \"\",'A) Eingabe (Lehrer)'!BJ25)","v":""},{"$f":"IF('A) Eingabe (Lehrer)'!BK25=\"\", \"\",'A) Eingabe (Lehrer)'!BK25)","v":""}]
["Item 13",{"$f":"IF('A) Eingabe (Lehrer)'!C26=\"\", \"\",'A) Eingabe (Lehrer)'!C26)","v":""},{"$f":"IF('A) Eingabe (Lehrer)'!D26=\"\", \"\",'A) Eingabe (Lehrer)'!D26)","v":""},{"$f":"IF('A) Eingabe (Lehrer)'!E26=\"\", \"\",'A) Eingabe (Lehrer)'!E26)","v":""},{"$f":"IF('A) Eingabe (Lehrer)'!F26=\"\", \"\",'A) Eingabe (Lehrer)'!F26)","v":""},{"$f":"IF('A) Eingabe (Lehrer)'!G26=\"\", \"\",'A) Eingabe (Lehrer)'!G26)","v":""},{"$f":"IF('A) Eingabe (Lehrer)'!H26=\"\", \"\",'A) Eingabe (Lehrer)'!H26)","v":""},{"$f":"IF('A) Eingabe (Lehrer)'!I26=\"\", \"\",'A) Eingabe (Lehrer)'!I26)","v":""},{"$f":"IF('A) Eingabe (Lehrer)'!J26=\"\", \"\",'A) Eingabe (Lehrer)'!J26)","v":""},{"$f":"IF('A) Eingabe (Lehrer)'!K26=\"\", \"\",'A) Eingabe (Lehrer)'!K26)","v":""},{"$f":"IF('A) Eingabe (Lehrer)'!L26=\"\", \"\",'A) Eingabe (Lehrer)'!L26)","v":""},{"$f":"IF('A) Eingabe (Lehrer)'!M26=\"\", \"\",'A) Eingabe (Lehrer)'!M26)","v":""},{"$f":"IF('A) Eingabe (Lehrer)'!N26=\"\", \"\",'A) Eingabe (Lehrer)'!N26)","v":""},{"$f":"IF('A) Eingabe (Lehrer)'!O26=\"\", \"\",'A) Eingabe (Lehrer)'!O26)","v":""},{"$f":"IF('A) Eingabe (Lehrer)'!P26=\"\", \"\",'A) Eingabe (Lehrer)'!P26)","v":""},{"$f":"IF('A) Eingabe (Lehrer)'!Q26=\"\", \"\",'A) Eingabe (Lehrer)'!Q26)","v":""},{"$f":"IF('A) Eingabe (Lehrer)'!R26=\"\", \"\",'A) Eingabe (Lehrer)'!R26)","v":""},{"$f":"IF('A) Eingabe (Lehrer)'!S26=\"\", \"\",'A) Eingabe (Lehrer)'!S26)","v":""},{"$f":"IF('A) Eingabe (Lehrer)'!T26=\"\", \"\",'A) Eingabe (Lehrer)'!T26)","v":""},{"$f":"IF('A) Eingabe (Lehrer)'!U26=\"\", \"\",'A) Eingabe (Lehrer)'!U26)","v":""},{"$f":"IF('A) Eingabe (Lehrer)'!V26=\"\", \"\",'A) Eingabe (Lehrer)'!V26)","v":""},{"$f":"IF('A) Eingabe (Lehrer)'!W26=\"\", \"\",'A) Eingabe (Lehrer)'!W26)","v":""},{"$f":"IF('A) Eingabe (Lehrer)'!X26=\"\", \"\",'A) Eingabe (Lehrer)'!X26)","v":""},{"$f":"IF('A) Eingabe (Lehrer)'!Y26=\"\", \"\",'A) Eingabe (Lehrer)'!Y26)","v":""},{"$f":"IF('A) Eingabe (Lehrer)'!Z26=\"\", \"\",'A) Eingabe (Lehrer)'!Z26)","v":""},{"$f":"IF('A) Eingabe (Lehrer)'!AA26=\"\", \"\",'A) Eingabe (Lehrer)'!AA26)","v":""},{"$f":"IF('A) Eingabe (Lehrer)'!AB26=\"\", \"\",'A) Eingabe (Lehrer)'!AB26)","v":""},{"$f":"IF('A) Eingabe (Lehrer)'!AC26=\"\", \"\",'A) Eingabe (Lehrer)'!AC26)","v":""},{"$f":"IF('A) Eingabe (Lehrer)'!AD26=\"\", \"\",'A) Eingabe (Lehrer)'!AD26)","v":""},{"$f":"IF('A) Eingabe (Lehrer)'!AE26=\"\", \"\",'A) Eingabe (Lehrer)'!AE26)","v":""},{"$f":"IF('A) Eingabe (Lehrer)'!AF26=\"\", \"\",'A) Eingabe (Lehrer)'!AF26)","v":""},{"$f":"IF('A) Eingabe (Lehrer)'!AG26=\"\", \"\",'A) Eingabe (Lehrer)'!AG26)","v":""},{"$f":"IF('A) Eingabe (Lehrer)'!AH26=\"\", \"\",'A) Eingabe (Lehrer)'!AH26)","v":""},{"$f":"IF('A) Eingabe (Lehrer)'!AI26=\"\", \"\",'A) Eingabe (Lehrer)'!AI26)","v":""},{"$f":"IF('A) Eingabe (Lehrer)'!AJ26=\"\", \"\",'A) Eingabe (Lehrer)'!AJ26)","v":""},{"$f":"IF('A) Eingabe (Lehrer)'!AK26=\"\", \"\",'A) Eingabe (Lehrer)'!AK26)","v":""},{"$f":"IF('A) Eingabe (Lehrer)'!AL26=\"\", \"\",'A) Eingabe (Lehrer)'!AL26)","v":""},{"$f":"IF('A) Eingabe (Lehrer)'!AM26=\"\", \"\",'A) Eingabe (Lehrer)'!AM26)","v":""},{"$f":"IF('A) Eingabe (Lehrer)'!AN26=\"\", \"\",'A) Eingabe (Lehrer)'!AN26)","v":""},{"$f":"IF('A) Eingabe (Lehrer)'!AO26=\"\", \"\",'A) Eingabe (Lehrer)'!AO26)","v":""},{"$f":"IF('A) Eingabe (Lehrer)'!AP26=\"\", \"\",'A) Eingabe (Lehrer)'!AP26)","v":""},{"$f":"IF('A) Eingabe (Lehrer)'!AQ26=\"\", \"\",'A) Eingabe (Lehrer)'!AQ26)","v":""},{"$f":"IF('A) Eingabe (Lehrer)'!AR26=\"\", \"\",'A) Eingabe (Lehrer)'!AR26)","v":""},{"$f":"IF('A) Eingabe (Lehrer)'!AS26=\"\", \"\",'A) Eingabe (Lehrer)'!AS26)","v":""},{"$f":"IF('A) Eingabe (Lehrer)'!AT26=\"\", \"\",'A) Eingabe (Lehrer)'!AT26)","v":""},{"$f":"IF('A) Eingabe (Lehrer)'!AU26=\"\", \"\",'A) Eingabe (Lehrer)'!AU26)","v":""},{"$f":"IF('A) Eingabe (Lehrer)'!AV26=\"\", \"\",'A) Eingabe (Lehrer)'!AV26)","v":""},{"$f":"IF('A) Eingabe (Lehrer)'!AW26=\"\", \"\",'A) Eingabe (Lehrer)'!AW26)","v":""},{"$f":"IF('A) Eingabe (Lehrer)'!AX26=\"\", \"\",'A) Eingabe (Lehrer)'!AX26)","v":""},{"$f":"IF('A) Eingabe (Lehrer)'!AY26=\"\", \"\",'A) Eingabe (Lehrer)'!AY26)","v":""},{"$f":"IF('A) Eingabe (Lehrer)'!AZ26=\"\", \"\",'A) Eingabe (Lehrer)'!AZ26)","v":""},{"$f":"IF('A) Eingabe (Lehrer)'!BA26=\"\", \"\",'A) Eingabe (Lehrer)'!BA26)","v":""},{"$f":"IF('A) Eingabe (Lehrer)'!BB26=\"\", \"\",'A) Eingabe (Lehrer)'!BB26)","v":""},{"$f":"IF('A) Eingabe (Lehrer)'!BC26=\"\", \"\",'A) Eingabe (Lehrer)'!BC26)","v":""},{"$f":"IF('A) Eingabe (Lehrer)'!BD26=\"\", \"\",'A) Eingabe (Lehrer)'!BD26)","v":""},{"$f":"IF('A) Eingabe (Lehrer)'!BE26=\"\", \"\",'A) Eingabe (Lehrer)'!BE26)","v":""},{"$f":"IF('A) Eingabe (Lehrer)'!BF26=\"\", \"\",'A) Eingabe (Lehrer)'!BF26)","v":""},{"$f":"IF('A) Eingabe (Lehrer)'!BG26=\"\", \"\",'A) Eingabe (Lehrer)'!BG26)","v":""},{"$f":"IF('A) Eingabe (Lehrer)'!BH26=\"\", \"\",'A) Eingabe (Lehrer)'!BH26)","v":""},{"$f":"IF('A) Eingabe (Lehrer)'!BI26=\"\", \"\",'A) Eingabe (Lehrer)'!BI26)","v":""},{"$f":"IF('A) Eingabe (Lehrer)'!BJ26=\"\", \"\",'A) Eingabe (Lehrer)'!BJ26)","v":""},{"$f":"IF('A) Eingabe (Lehrer)'!BK26=\"\", \"\",'A) Eingabe (Lehrer)'!BK26)","v":""}]
["Item 14",{"$f":"IF('A) Eingabe (Lehrer)'!C27=\"\", \"\",'A) Eingabe (Lehrer)'!C27)","v":""},{"$f":"IF('A) Eingabe (Lehrer)'!D27=\"\", \"\",'A) Eingabe (Lehrer)'!D27)","v":""},{"$f":"IF('A) Eingabe (Lehrer)'!E27=\"\", \"\",'A) Eingabe (Lehrer)'!E27)","v":""},{"$f":"IF('A) Eingabe (Lehrer)'!F27=\"\", \"\",'A) Eingabe (Lehrer)'!F27)","v":""},{"$f":"IF('A) Eingabe (Lehrer)'!G27=\"\", \"\",'A) Eingabe (Lehrer)'!G27)","v":""},{"$f":"IF('A) Eingabe (Lehrer)'!H27=\"\", \"\",'A) Eingabe (Lehrer)'!H27)","v":""},{"$f":"IF('A) Eingabe (Lehrer)'!I27=\"\", \"\",'A) Eingabe (Lehrer)'!I27)","v":""},{"$f":"IF('A) Eingabe (Lehrer)'!J27=\"\", \"\",'A) Eingabe (Lehrer)'!J27)","v":""},{"$f":"IF('A) Eingabe (Lehrer)'!K27=\"\", \"\",'A) Eingabe (Lehrer)'!K27)","v":""},{"$f":"IF('A) Eingabe (Lehrer)'!L27=\"\", \"\",'A) Eingabe (Lehrer)'!L27)","v":""},{"$f":"IF('A) Eingabe (Lehrer)'!M27=\"\", \"\",'A) Eingabe (Lehrer)'!M27)","v":""},{"$f":"IF('A) Eingabe (Lehrer)'!N27=\"\", \"\",'A) Eingabe (Lehrer)'!N27)","v":""},{"$f":"IF('A) Eingabe (Lehrer)'!O27=\"\", \"\",'A) Eingabe (Lehrer)'!O27)","v":""},{"$f":"IF('A) Eingabe (Lehrer)'!P27=\"\", \"\",'A) Eingabe (Lehrer)'!P27)","v":""},{"$f":"IF('A) Eingabe (Lehrer)'!Q27=\"\", \"\",'A) Eingabe (Lehrer)'!Q27)","v":""},{"$f":"IF('A) Eingabe (Lehrer)'!R27=\"\", \"\",'A) Eingabe (Lehrer)'!R27)","v":""},{"$f":"IF('A) Eingabe (Lehrer)'!S27=\"\", \"\",'A) Eingabe (Lehrer)'!S27)","v":""},{"$f":"IF('A) Eingabe (Lehrer)'!T27=\"\", \"\",'A) Eingabe (Lehrer)'!T27)","v":""},{"$f":"IF('A) Eingabe (Lehrer)'!U27=\"\", \"\",'A) Eingabe (Lehrer)'!U27)","v":""},{"$f":"IF('A) Eingabe (Lehrer)'!V27=\"\", \"\",'A) Eingabe (Lehrer)'!V27)","v":""},{"$f":"IF('A) Eingabe (Lehrer)'!W27=\"\", \"\",'A) Eingabe (Lehrer)'!W27)","v":""},{"$f":"IF('A) Eingabe (Lehrer)'!X27=\"\", \"\",'A) Eingabe (Lehrer)'!X27)","v":""},{"$f":"IF('A) Eingabe (Lehrer)'!Y27=\"\", \"\",'A) Eingabe (Lehrer)'!Y27)","v":""},{"$f":"IF('A) Eingabe (Lehrer)'!Z27=\"\", \"\",'A) Eingabe (Lehrer)'!Z27)","v":""},{"$f":"IF('A) Eingabe (Lehrer)'!AA27=\"\", \"\",'A) Eingabe (Lehrer)'!AA27)","v":""},{"$f":"IF('A) Eingabe (Lehrer)'!AB27=\"\", \"\",'A) Eingabe (Lehrer)'!AB27)","v":""},{"$f":"IF('A) Eingabe (Lehrer)'!AC27=\"\", \"\",'A) Eingabe (Lehrer)'!AC27)","v":""},{"$f":"IF('A) Eingabe (Lehrer)'!AD27=\"\", \"\",'A) Eingabe (Lehrer)'!AD27)","v":""},{"$f":"IF('A) Eingabe (Lehrer)'!AE27=\"\", \"\",'A) Eingabe (Lehrer)'!AE27)","v":""},{"$f":"IF('A) Eingabe (Lehrer)'!AF27=\"\", \"\",'A) Eingabe (Lehrer)'!AF27)","v":""},{"$f":"IF('A) Eingabe (Lehrer)'!AG27=\"\", \"\",'A) Eingabe (Lehrer)'!AG27)","v":""},{"$f":"IF('A) Eingabe (Lehrer)'!AH27=\"\", \"\",'A) Eingabe (Lehrer)'!AH27)","v":""},{"$f":"IF('A) Eingabe (Lehrer)'!AI27=\"\", \"\",'A) Eingabe (Lehrer)'!AI27)","v":""},{"$f":"IF('A) Eingabe (Lehrer)'!AJ27=\"\", \"\",'A) Eingabe (Lehrer)'!AJ27)","v":""},{"$f":"IF('A) Eingabe (Lehrer)'!AK27=\"\", \"\",'A) Eingabe (Lehrer)'!AK27)","v":""},{"$f":"IF('A) Eingabe (Lehrer)'!AL27=\"\", \"\",'A) Eingabe (Lehrer)'!AL27)","v":""},{"$f":"IF('A) Eingabe (Lehrer)'!AM27=\"\", \"\",'A) Eingabe (Lehrer)'!AM27)","v":""},{"$f":"IF('A) Eingabe (Lehrer)'!AN27=\"\", \"\",'A) Eingabe (Lehrer)'!AN27)","v":""},{"$f":"IF('A) Eingabe (Lehrer)'!AO27=\"\", \"\",'A) Eingabe (Lehrer)'!AO27)","v":""},{"$f":"IF('A) Eingabe (Lehrer)'!AP27=\"\", \"\",'A) Eingabe (Lehrer)'!AP27)","v":""},{"$f":"IF('A) Eingabe (Lehrer)'!AQ27=\"\", \"\",'A) Eingabe (Lehrer)'!AQ27)","v":""},{"$f":"IF('A) Eingabe (Lehrer)'!AR27=\"\", \"\",'A) Eingabe (Lehrer)'!AR27)","v":""},{"$f":"IF('A) Eingabe (Lehrer)'!AS27=\"\", \"\",'A) Eingabe (Lehrer)'!AS27)","v":""},{"$f":"IF('A) Eingabe (Lehrer)'!AT27=\"\", \"\",'A) Eingabe (Lehrer)'!AT27)","v":""},{"$f":"IF('A) Eingabe (Lehrer)'!AU27=\"\", \"\",'A) Eingabe (Lehrer)'!AU27)","v":""},{"$f":"IF('A) Eingabe (Lehrer)'!AV27=\"\", \"\",'A) Eingabe (Lehrer)'!AV27)","v":""},{"$f":"IF('A) Eingabe (Lehrer)'!AW27=\"\", \"\",'A) Eingabe (Lehrer)'!AW27)","v":""},{"$f":"IF('A) Eingabe (Lehrer)'!AX27=\"\", \"\",'A) Eingabe (Lehrer)'!AX27)","v":""},{"$f":"IF('A) Eingabe (Lehrer)'!AY27=\"\", \"\",'A) Eingabe (Lehrer)'!AY27)","v":""},{"$f":"IF('A) Eingabe (Lehrer)'!AZ27=\"\", \"\",'A) Eingabe (Lehrer)'!AZ27)","v":""},{"$f":"IF('A) Eingabe (Lehrer)'!BA27=\"\", \"\",'A) Eingabe (Lehrer)'!BA27)","v":""},{"$f":"IF('A) Eingabe (Lehrer)'!BB27=\"\", \"\",'A) Eingabe (Lehrer)'!BB27)","v":""},{"$f":"IF('A) Eingabe (Lehrer)'!BC27=\"\", \"\",'A) Eingabe (Lehrer)'!BC27)","v":""},{"$f":"IF('A) Eingabe (Lehrer)'!BD27=\"\", \"\",'A) Eingabe (Lehrer)'!BD27)","v":""},{"$f":"IF('A) Eingabe (Lehrer)'!BE27=\"\", \"\",'A) Eingabe (Lehrer)'!BE27)","v":""},{"$f":"IF('A) Eingabe (Lehrer)'!BF27=\"\", \"\",'A) Eingabe (Lehrer)'!BF27)","v":""},{"$f":"IF('A) Eingabe (Lehrer)'!BG27=\"\", \"\",'A) Eingabe (Lehrer)'!BG27)","v":""},{"$f":"IF('A) Eingabe (Lehrer)'!BH27=\"\", \"\",'A) Eingabe (Lehrer)'!BH27)","v":""},{"$f":"IF('A) Eingabe (Lehrer)'!BI27=\"\", \"\",'A) Eingabe (Lehrer)'!BI27)","v":""},{"$f":"IF('A) Eingabe (Lehrer)'!BJ27=\"\", \"\",'A) Eingabe (Lehrer)'!BJ27)","v":""},{"$f":"IF('A) Eingabe (Lehrer)'!BK27=\"\", \"\",'A) Eingabe (Lehrer)'!BK27)","v":""}]
["Item 15",{"$f":"IF('A) Eingabe (Lehrer)'!C28=\"\", \"\",'A) Eingabe (Lehrer)'!C28)","v":""},{"$f":"IF('A) Eingabe (Lehrer)'!D28=\"\", \"\",'A) Eingabe (Lehrer)'!D28)","v":""},{"$f":"IF('A) Eingabe (Lehrer)'!E28=\"\", \"\",'A) Eingabe (Lehrer)'!E28)","v":""},{"$f":"IF('A) Eingabe (Lehrer)'!F28=\"\", \"\",'A) Eingabe (Lehrer)'!F28)","v":""},{"$f":"IF('A) Eingabe (Lehrer)'!G28=\"\", \"\",'A) Eingabe (Lehrer)'!G28)","v":""},{"$f":"IF('A) Eingabe (Lehrer)'!H28=\"\", \"\",'A) Eingabe (Lehrer)'!H28)","v":""},{"$f":"IF('A) Eingabe (Lehrer)'!I28=\"\", \"\",'A) Eingabe (Lehrer)'!I28)","v":""},{"$f":"IF('A) Eingabe (Lehrer)'!J28=\"\", \"\",'A) Eingabe (Lehrer)'!J28)","v":""},{"$f":"IF('A) Eingabe (Lehrer)'!K28=\"\", \"\",'A) Eingabe (Lehrer)'!K28)","v":""},{"$f":"IF('A) Eingabe (Lehrer)'!L28=\"\", \"\",'A) Eingabe (Lehrer)'!L28)","v":""},{"$f":"IF('A) Eingabe (Lehrer)'!M28=\"\", \"\",'A) Eingabe (Lehrer)'!M28)","v":""},{"$f":"IF('A) Eingabe (Lehrer)'!N28=\"\", \"\",'A) Eingabe (Lehrer)'!N28)","v":""},{"$f":"IF('A) Eingabe (Lehrer)'!O28=\"\", \"\",'A) Eingabe (Lehrer)'!O28)","v":""},{"$f":"IF('A) Eingabe (Lehrer)'!P28=\"\", \"\",'A) Eingabe (Lehrer)'!P28)","v":""},{"$f":"IF('A) Eingabe (Lehrer)'!Q28=\"\", \"\",'A) Eingabe (Lehrer)'!Q28)","v":""},{"$f":"IF('A) Eingabe (Lehrer)'!R28=\"\", \"\",'A) Eingabe (Lehrer)'!R28)","v":""},{"$f":"IF('A) Eingabe (Lehrer)'!S28=\"\", \"\",'A) Eingabe (Lehrer)'!S28)","v":""},{"$f":"IF('A) Eingabe (Lehrer)'!T28=\"\", \"\",'A) Eingabe (Lehrer)'!T28)","v":""},{"$f":"IF('A) Eingabe (Lehrer)'!U28=\"\", \"\",'A) Eingabe (Lehrer)'!U28)","v":""},{"$f":"IF('A) Eingabe (Lehrer)'!V28=\"\", \"\",'A) Eingabe (Lehrer)'!V28)","v":""},{"$f":"IF('A) Eingabe (Lehrer)'!W28=\"\", \"\",'A) Eingabe (Lehrer)'!W28)","v":""},{"$f":"IF('A) Eingabe (Lehrer)'!X28=\"\", \"\",'A) Eingabe (Lehrer)'!X28)","v":""},{"$f":"IF('A) Eingabe (Lehrer)'!Y28=\"\", \"\",'A) Eingabe (Lehrer)'!Y28)","v":""},{"$f":"IF('A) Eingabe (Lehrer)'!Z28=\"\", \"\",'A) Eingabe (Lehrer)'!Z28)","v":""},{"$f":"IF('A) Eingabe (Lehrer)'!AA28=\"\", \"\",'A) Eingabe (Lehrer)'!AA28)","v":""},{"$f":"IF('A) Eingabe (Lehrer)'!AB28=\"\", \"\",'A) Eingabe (Lehrer)'!AB28)","v":""},{"$f":"IF('A) Eingabe (Lehrer)'!AC28=\"\", \"\",'A) Eingabe (Lehrer)'!AC28)","v":""},{"$f":"IF('A) Eingabe (Lehrer)'!AD28=\"\", \"\",'A) Eingabe (Lehrer)'!AD28)","v":""},{"$f":"IF('A) Eingabe (Lehrer)'!AE28=\"\", \"\",'A) Eingabe (Lehrer)'!AE28)","v":""},{"$f":"IF('A) Eingabe (Lehrer)'!AF28=\"\", \"\",'A) Eingabe (Lehrer)'!AF28)","v":""},{"$f":"IF('A) Eingabe (Lehrer)'!AG28=\"\", \"\",'A) Eingabe (Lehrer)'!AG28)","v":""},{"$f":"IF('A) Eingabe (Lehrer)'!AH28=\"\", \"\",'A) Eingabe (Lehrer)'!AH28)","v":""},{"$f":"IF('A) Eingabe (Lehrer)'!AI28=\"\", \"\",'A) Eingabe (Lehrer)'!AI28)","v":""},{"$f":"IF('A) Eingabe (Lehrer)'!AJ28=\"\", \"\",'A) Eingabe (Lehrer)'!AJ28)","v":""},{"$f":"IF('A) Eingabe (Lehrer)'!AK28=\"\", \"\",'A) Eingabe (Lehrer)'!AK28)","v":""},{"$f":"IF('A) Eingabe (Lehrer)'!AL28=\"\", \"\",'A) Eingabe (Lehrer)'!AL28)","v":""},{"$f":"IF('A) Eingabe (Lehrer)'!AM28=\"\", \"\",'A) Eingabe (Lehrer)'!AM28)","v":""},{"$f":"IF('A) Eingabe (Lehrer)'!AN28=\"\", \"\",'A) Eingabe (Lehrer)'!AN28)","v":""},{"$f":"IF('A) Eingabe (Lehrer)'!AO28=\"\", \"\",'A) Eingabe (Lehrer)'!AO28)","v":""},{"$f":"IF('A) Eingabe (Lehrer)'!AP28=\"\", \"\",'A) Eingabe (Lehrer)'!AP28)","v":""},{"$f":"IF('A) Eingabe (Lehrer)'!AQ28=\"\", \"\",'A) Eingabe (Lehrer)'!AQ28)","v":""},{"$f":"IF('A) Eingabe (Lehrer)'!AR28=\"\", \"\",'A) Eingabe (Lehrer)'!AR28)","v":""},{"$f":"IF('A) Eingabe (Lehrer)'!AS28=\"\", \"\",'A) Eingabe (Lehrer)'!AS28)","v":""},{"$f":"IF('A) Eingabe (Lehrer)'!AT28=\"\", \"\",'A) Eingabe (Lehrer)'!AT28)","v":""},{"$f":"IF('A) Eingabe (Lehrer)'!AU28=\"\", \"\",'A) Eingabe (Lehrer)'!AU28)","v":""},{"$f":"IF('A) Eingabe (Lehrer)'!AV28=\"\", \"\",'A) Eingabe (Lehrer)'!AV28)","v":""},{"$f":"IF('A) Eingabe (Lehrer)'!AW28=\"\", \"\",'A) Eingabe (Lehrer)'!AW28)","v":""},{"$f":"IF('A) Eingabe (Lehrer)'!AX28=\"\", \"\",'A) Eingabe (Lehrer)'!AX28)","v":""},{"$f":"IF('A) Eingabe (Lehrer)'!AY28=\"\", \"\",'A) Eingabe (Lehrer)'!AY28)","v":""},{"$f":"IF('A) Eingabe (Lehrer)'!AZ28=\"\", \"\",'A) Eingabe (Lehrer)'!AZ28)","v":""},{"$f":"IF('A) Eingabe (Lehrer)'!BA28=\"\", \"\",'A) Eingabe (Lehrer)'!BA28)","v":""},{"$f":"IF('A) Eingabe (Lehrer)'!BB28=\"\", \"\",'A) Eingabe (Lehrer)'!BB28)","v":""},{"$f":"IF('A) Eingabe (Lehrer)'!BC28=\"\", \"\",'A) Eingabe (Lehrer)'!BC28)","v":""},{"$f":"IF('A) Eingabe (Lehrer)'!BD28=\"\", \"\",'A) Eingabe (Lehrer)'!BD28)","v":""},{"$f":"IF('A) Eingabe (Lehrer)'!BE28=\"\", \"\",'A) Eingabe (Lehrer)'!BE28)","v":""},{"$f":"IF('A) Eingabe (Lehrer)'!BF28=\"\", \"\",'A) Eingabe (Lehrer)'!BF28)","v":""},{"$f":"IF('A) Eingabe (Lehrer)'!BG28=\"\", \"\",'A) Eingabe (Lehrer)'!BG28)","v":""},{"$f":"IF('A) Eingabe (Lehrer)'!BH28=\"\", \"\",'A) Eingabe (Lehrer)'!BH28)","v":""},{"$f":"IF('A) Eingabe (Lehrer)'!BI28=\"\", \"\",'A) Eingabe (Lehrer)'!BI28)","v":""},{"$f":"IF('A) Eingabe (Lehrer)'!BJ28=\"\", \"\",'A) Eingabe (Lehrer)'!BJ28)","v":""},{"$f":"IF('A) Eingabe (Lehrer)'!BK28=\"\", \"\",'A) Eingabe (Lehrer)'!BK28)","v":""}]
["Item 16",{"$f":"IF('A) Eingabe (Lehrer)'!C29=\"\", \"\",'A) Eingabe (Lehrer)'!C29)","v":""},{"$f":"IF('A) Eingabe (Lehrer)'!D29=\"\", \"\",'A) Eingabe (Lehrer)'!D29)","v":""},{"$f":"IF('A) Eingabe (Lehrer)'!E29=\"\", \"\",'A) Eingabe (Lehrer)'!E29)","v":""},{"$f":"IF('A) Eingabe (Lehrer)'!F29=\"\", \"\",'A) Eingabe (Lehrer)'!F29)","v":""},{"$f":"IF('A) Eingabe (Lehrer)'!G29=\"\", \"\",'A) Eingabe (Lehrer)'!G29)","v":""},{"$f":"IF('A) Eingabe (Lehrer)'!H29=\"\", \"\",'A) Eingabe (Lehrer)'!H29)","v":""},{"$f":"IF('A) Eingabe (Lehrer)'!I29=\"\", \"\",'A) Eingabe (Lehrer)'!I29)","v":""},{"$f":"IF('A) Eingabe (Lehrer)'!J29=\"\", \"\",'A) Eingabe (Lehrer)'!J29)","v":""},{"$f":"IF('A) Eingabe (Lehrer)'!K29=\"\", \"\",'A) Eingabe (Lehrer)'!K29)","v":""},{"$f":"IF('A) Eingabe (Lehrer)'!L29=\"\", \"\",'A) Eingabe (Lehrer)'!L29)","v":""},{"$f":"IF('A) Eingabe (Lehrer)'!M29=\"\", \"\",'A) Eingabe (Lehrer)'!M29)","v":""},{"$f":"IF('A) Eingabe (Lehrer)'!N29=\"\", \"\",'A) Eingabe (Lehrer)'!N29)","v":""},{"$f":"IF('A) Eingabe (Lehrer)'!O29=\"\", \"\",'A) Eingabe (Lehrer)'!O29)","v":""},{"$f":"IF('A) Eingabe (Lehrer)'!P29=\"\", \"\",'A) Eingabe (Lehrer)'!P29)","v":""},{"$f":"IF('A) Eingabe (Lehrer)'!Q29=\"\", \"\",'A) Eingabe (Lehrer)'!Q29)","v":""},{"$f":"IF('A) Eingabe (Lehrer)'!R29=\"\", \"\",'A) Eingabe (Lehrer)'!R29)","v":""},{"$f":"IF('A) Eingabe (Lehrer)'!S29=\"\", \"\",'A) Eingabe (Lehrer)'!S29)","v":""},{"$f":"IF('A) Eingabe (Lehrer)'!T29=\"\", \"\",'A) Eingabe (Lehrer)'!T29)","v":""},{"$f":"IF('A) Eingabe (Lehrer)'!U29=\"\", \"\",'A) Eingabe (Lehrer)'!U29)","v":""},{"$f":"IF('A) Eingabe (Lehrer)'!V29=\"\", \"\",'A) Eingabe (Lehrer)'!V29)","v":""},{"$f":"IF('A) Eingabe (Lehrer)'!W29=\"\", \"\",'A) Eingabe (Lehrer)'!W29)","v":""},{"$f":"IF('A) Eingabe (Lehrer)'!X29=\"\", \"\",'A) Eingabe (Lehrer)'!X29)","v":""},{"$f":"IF('A) Eingabe (Lehrer)'!Y29=\"\", \"\",'A) Eingabe (Lehrer)'!Y29)","v":""},{"$f":"IF('A) Eingabe (Lehrer)'!Z29=\"\", \"\",'A) Eingabe (Lehrer)'!Z29)","v":""},{"$f":"IF('A) Eingabe (Lehrer)'!AA29=\"\", \"\",'A) Eingabe (Lehrer)'!AA29)","v":""},{"$f":"IF('A) Eingabe (Lehrer)'!AB29=\"\", \"\",'A) Eingabe (Lehrer)'!AB29)","v":""},{"$f":"IF('A) Eingabe (Lehrer)'!AC29=\"\", \"\",'A) Eingabe (Lehrer)'!AC29)","v":""},{"$f":"IF('A) Eingabe (Lehrer)'!AD29=\"\", \"\",'A) Eingabe (Lehrer)'!AD29)","v":""},{"$f":"IF('A) Eingabe (Lehrer)'!AE29=\"\", \"\",'A) Eingabe (Lehrer)'!AE29)","v":""},{"$f":"IF('A) Eingabe (Lehrer)'!AF29=\"\", \"\",'A) Eingabe (Lehrer)'!AF29)","v":""},{"$f":"IF('A) Eingabe (Lehrer)'!AG29=\"\", \"\",'A) Eingabe (Lehrer)'!AG29)","v":""},{"$f":"IF('A) Eingabe (Lehrer)'!AH29=\"\", \"\",'A) Eingabe (Lehrer)'!AH29)","v":""},{"$f":"IF('A) Eingabe (Lehrer)'!AI29=\"\", \"\",'A) Eingabe (Lehrer)'!AI29)","v":""},{"$f":"IF('A) Eingabe (Lehrer)'!AJ29=\"\", \"\",'A) Eingabe (Lehrer)'!AJ29)","v":""},{"$f":"IF('A) Eingabe (Lehrer)'!AK29=\"\", \"\",'A) Eingabe (Lehrer)'!AK29)","v":""},{"$f":"IF('A) Eingabe (Lehrer)'!AL29=\"\", \"\",'A) Eingabe (Lehrer)'!AL29)","v":""},{"$f":"IF('A) Eingabe (Lehrer)'!AM29=\"\", \"\",'A) Eingabe (Lehrer)'!AM29)","v":""},{"$f":"IF('A) Eingabe (Lehrer)'!AN29=\"\", \"\",'A) Eingabe (Lehrer)'!AN29)","v":""},{"$f":"IF('A) Eingabe (Lehrer)'!AO29=\"\", \"\",'A) Eingabe (Lehrer)'!AO29)","v":""},{"$f":"IF('A) Eingabe (Lehrer)'!AP29=\"\", \"\",'A) Eingabe (Lehrer)'!AP29)","v":""},{"$f":"IF('A) Eingabe (Lehrer)'!AQ29=\"\", \"\",'A) Eingabe (Lehrer)'!AQ29)","v":""},{"$f":"IF('A) Eingabe (Lehrer)'!AR29=\"\", \"\",'A) Eingabe (Lehrer)'!AR29)","v":""},{"$f":"IF('A) Eingabe (Lehrer)'!AS29=\"\", \"\",'A) Eingabe (Lehrer)'!AS29)","v":""},{"$f":"IF('A) Eingabe (Lehrer)'!AT29=\"\", \"\",'A) Eingabe (Lehrer)'!AT29)","v":""},{"$f":"IF('A) Eingabe (Lehrer)'!AU29=\"\", \"\",'A) Eingabe (Lehrer)'!AU29)","v":""},{"$f":"IF('A) Eingabe (Lehrer)'!AV29=\"\", \"\",'A) Eingabe (Lehrer)'!AV29)","v":""},{"$f":"IF('A) Eingabe (Lehrer)'!AW29=\"\", \"\",'A) Eingabe (Lehrer)'!AW29)","v":""},{"$f":"IF('A) Eingabe (Lehrer)'!AX29=\"\", \"\",'A) Eingabe (Lehrer)'!AX29)","v":""},{"$f":"IF('A) Eingabe (Lehrer)'!AY29=\"\", \"\",'A) Eingabe (Lehrer)'!AY29)","v":""},{"$f":"IF('A) Eingabe (Lehrer)'!AZ29=\"\", \"\",'A) Eingabe (Lehrer)'!AZ29)","v":""},{"$f":"IF('A) Eingabe (Lehrer)'!BA29=\"\", \"\",'A) Eingabe (Lehrer)'!BA29)","v":""},{"$f":"IF('A) Eingabe (Lehrer)'!BB29=\"\", \"\",'A) Eingabe (Lehrer)'!BB29)","v":""},{"$f":"IF('A) Eingabe (Lehrer)'!BC29=\"\", \"\",'A) Eingabe (Lehrer)'!BC29)","v":""},{"$f":"IF('A) Eingabe (Lehrer)'!BD29=\"\", \"\",'A) Eingabe (Lehrer)'!BD29)","v":""},{"$f":"IF('A) Eingabe (Lehrer)'!BE29=\"\", \"\",'A) Eingabe (Lehrer)'!BE29)","v":""},{"$f":"IF('A) Eingabe (Lehrer)'!BF29=\"\", \"\",'A) Eingabe (Lehrer)'!BF29)","v":""},{"$f":"IF('A) Eingabe (Lehrer)'!BG29=\"\", \"\",'A) Eingabe (Lehrer)'!BG29)","v":""},{"$f":"IF('A) Eingabe (Lehrer)'!BH29=\"\", \"\",'A) Eingabe (Lehrer)'!BH29)","v":""},{"$f":"IF('A) Eingabe (Lehrer)'!BI29=\"\", \"\",'A) Eingabe (Lehrer)'!BI29)","v":""},{"$f":"IF('A) Eingabe (Lehrer)'!BJ29=\"\", \"\",'A) Eingabe (Lehrer)'!BJ29)","v":""},{"$f":"IF('A) Eingabe (Lehrer)'!BK29=\"\", \"\",'A) Eingabe (Lehrer)'!BK29)","v":""}]
["Item 17",{"$f":"IF('A) Eingabe (Lehrer)'!C31=\"\", \"\",'A) Eingabe (Lehrer)'!C31)","v":""},{"$f":"IF('A) Eingabe (Lehrer)'!D31=\"\", \"\",'A) Eingabe (Lehrer)'!D31)","v":""},{"$f":"IF('A) Eingabe (Lehrer)'!E31=\"\", \"\",'A) Eingabe (Lehrer)'!E31)","v":""},{"$f":"IF('A) Eingabe (Lehrer)'!F31=\"\", \"\",'A) Eingabe (Lehrer)'!F31)","v":""},{"$f":"IF('A) Eingabe (Lehrer)'!G31=\"\", \"\",'A) Eingabe (Lehrer)'!G31)","v":""},{"$f":"IF('A) Eingabe (Lehrer)'!H31=\"\", \"\",'A) Eingabe (Lehrer)'!H31)","v":""},{"$f":"IF('A) Eingabe (Lehrer)'!I31=\"\", \"\",'A) Eingabe (Lehrer)'!I31)","v":""},{"$f":"IF('A) Eingabe (Lehrer)'!J31=\"\", \"\",'A) Eingabe (Lehrer)'!J31)","v":""},{"$f":"IF('A) Eingabe (Lehrer)'!K31=\"\", \"\",'A) Eingabe (Lehrer)'!K31)","v":""},{"$f":"IF('A) Eingabe (Lehrer)'!L31=\"\", \"\",'A) Eingabe (Lehrer)'!L31)","v":""},{"$f":"IF('A) Eingabe (Lehrer)'!M31=\"\", \"\",'A) Eingabe (Lehrer)'!M31)","v":""},{"$f":"IF('A) Eingabe (Lehrer)'!N31=\"\", \"\",'A) Eingabe (Lehrer)'!N31)","v":""},{"$f":"IF('A) Eingabe (Lehrer)'!O31=\"\", \"\",'A) Eingabe (Lehrer)'!O31)","v":""},{"$f":"IF('A) Eingabe (Lehrer)'!P31=\"\", \"\",'A) Eingabe (Lehrer)'!P31)","v":""},{"$f":"IF('A) Eingabe (Lehrer)'!Q31=\"\", \"\",'A) Eingabe (Lehrer)'!Q31)","v":""},{"$f":"IF('A) Eingabe (Lehrer)'!R31=\"\", \"\",'A) Eingabe (Lehrer)'!R31)","v":""},{"$f":"IF('A) Eingabe (Lehrer)'!S31=\"\", \"\",'A) Eingabe (Lehrer)'!S31)","v":""},{"$f":"IF('A) Eingabe (Lehrer)'!T31=\"\", \"\",'A) Eingabe (Lehrer)'!T31)","v":""},{"$f":"IF('A) Eingabe (Lehrer)'!U31=\"\", \"\",'A) Eingabe (Lehrer)'!U31)","v":""},{"$f":"IF('A) Eingabe (Lehrer)'!V31=\"\", \"\",'A) Eingabe (Lehrer)'!V31)","v":""},{"$f":"IF('A) Eingabe (Lehrer)'!W31=\"\", \"\",'A) Eingabe (Lehrer)'!W31)","v":""},{"$f":"IF('A) Eingabe (Lehrer)'!X31=\"\", \"\",'A) Eingabe (Lehrer)'!X31)","v":""},{"$f":"IF('A) Eingabe (Lehrer)'!Y31=\"\", \"\",'A) Eingabe (Lehrer)'!Y31)","v":""},{"$f":"IF('A) Eingabe (Lehrer)'!Z31=\"\", \"\",'A) Eingabe (Lehrer)'!Z31)","v":""},{"$f":"IF('A) Eingabe (Lehrer)'!AA31=\"\", \"\",'A) Eingabe (Lehrer)'!AA31)","v":""},{"$f":"IF('A) Eingabe (Lehrer)'!AB31=\"\", \"\",'A) Eingabe (Lehrer)'!AB31)","v":""},{"$f":"IF('A) Eingabe (Lehrer)'!AC31=\"\", \"\",'A) Eingabe (Lehrer)'!AC31)","v":""},{"$f":"IF('A) Eingabe (Lehrer)'!AD31=\"\", \"\",'A) Eingabe (Lehrer)'!AD31)","v":""},{"$f":"IF('A) Eingabe (Lehrer)'!AE31=\"\", \"\",'A) Eingabe (Lehrer)'!AE31)","v":""},{"$f":"IF('A) Eingabe (Lehrer)'!AF31=\"\", \"\",'A) Eingabe (Lehrer)'!AF31)","v":""},{"$f":"IF('A) Eingabe (Lehrer)'!AG31=\"\", \"\",'A) Eingabe (Lehrer)'!AG31)","v":""},{"$f":"IF('A) Eingabe (Lehrer)'!AH31=\"\", \"\",'A) Eingabe (Lehrer)'!AH31)","v":""},{"$f":"IF('A) Eingabe (Lehrer)'!AI31=\"\", \"\",'A) Eingabe (Lehrer)'!AI31)","v":""},{"$f":"IF('A) Eingabe (Lehrer)'!AJ31=\"\", \"\",'A) Eingabe (Lehrer)'!AJ31)","v":""},{"$f":"IF('A) Eingabe (Lehrer)'!AK31=\"\", \"\",'A) Eingabe (Lehrer)'!AK31)","v":""},{"$f":"IF('A) Eingabe (Lehrer)'!AL31=\"\", \"\",'A) Eingabe (Lehrer)'!AL31)","v":""},{"$f":"IF('A) Eingabe (Lehrer)'!AM31=\"\", \"\",'A) Eingabe (Lehrer)'!AM31)","v":""},{"$f":"IF('A) Eingabe (Lehrer)'!AN31=\"\", \"\",'A) Eingabe (Lehrer)'!AN31)","v":""},{"$f":"IF('A) Eingabe (Lehrer)'!AO31=\"\", \"\",'A) Eingabe (Lehrer)'!AO31)","v":""},{"$f":"IF('A) Eingabe (Lehrer)'!AP31=\"\", \"\",'A) Eingabe (Lehrer)'!AP31)","v":""},{"$f":"IF('A) Eingabe (Lehrer)'!AQ31=\"\", \"\",'A) Eingabe (Lehrer)'!AQ31)","v":""},{"$f":"IF('A) Eingabe (Lehrer)'!AR31=\"\", \"\",'A) Eingabe (Lehrer)'!AR31)","v":""},{"$f":"IF('A) Eingabe (Lehrer)'!AS31=\"\", \"\",'A) Eingabe (Lehrer)'!AS31)","v":""},{"$f":"IF('A) Eingabe (Lehrer)'!AT31=\"\", \"\",'A) Eingabe (Lehrer)'!AT31)","v":""},{"$f":"IF('A) Eingabe (Lehrer)'!AU31=\"\", \"\",'A) Eingabe (Lehrer)'!AU31)","v":""},{"$f":"IF('A) Eingabe (Lehrer)'!AV31=\"\", \"\",'A) Eingabe (Lehrer)'!AV31)","v":""},{"$f":"IF('A) Eingabe (Lehrer)'!AW31=\"\", \"\",'A) Eingabe (Lehrer)'!AW31)","v":""},{"$f":"IF('A) Eingabe (Lehrer)'!AX31=\"\", \"\",'A) Eingabe (Lehrer)'!AX31)","v":""},{"$f":"IF('A) Eingabe (Lehrer)'!AY31=\"\", \"\",'A) Eingabe (Lehrer)'!AY31)","v":""},{"$f":"IF('A) Eingabe (Lehrer)'!AZ31=\"\", \"\",'A) Eingabe (Lehrer)'!AZ31)","v":""},{"$f":"IF('A) Eingabe (Lehrer)'!BA31=\"\", \"\",'A) Eingabe (Lehrer)'!BA31)","v":""},{"$f":"IF('A) Eingabe (Lehrer)'!BB31=\"\", \"\",'A) Eingabe (Lehrer)'!BB31)","v":""},{"$f":"IF('A) Eingabe (Lehrer)'!BC31=\"\", \"\",'A) Eingabe (Lehrer)'!BC31)","v":""},{"$f":"IF('A) Eingabe (Lehrer)'!BD31=\"\", \"\",'A) Eingabe (Lehrer)'!BD31)","v":""},{"$f":"IF('A) Eingabe (Lehrer)'!BE31=\"\", \"\",'A) Eingabe (Lehrer)'!BE31)","v":""},{"$f":"IF('A) Eingabe (Lehrer)'!BF31=\"\", \"\",'A) Eingabe (Lehrer)'!BF31)","v":""},{"$f":"IF('A) Eingabe (Lehrer)'!BG31=\"\", \"\",'A) Eingabe (Lehrer)'!BG31)","v":""},{"$f":"IF('A) Eingabe (Lehrer)'!BH31=\"\", \"\",'A) Eingabe (Lehrer)'!BH31)","v":""},{"$f":"IF('A) Eingabe (Lehrer)'!BI31=\"\", \"\",'A) Eingabe (Lehrer)'!BI31)","v":""},{"$f":"IF('A) Eingabe (Lehrer)'!BJ31=\"\", \"\",'A) Eingabe (Lehrer)'!BJ31)","v":""},{"$f":"IF('A) Eingabe (Lehrer)'!BK31=\"\", \"\",'A) Eingabe (Lehrer)'!BK31)","v":""}]
["Item 18",{"$f":"IF('A) Eingabe (Lehrer)'!C32=\"\", \"\",'A) Eingabe (Lehrer)'!C32)","v":""},{"$f":"IF('A) Eingabe (Lehrer)'!D32=\"\", \"\",'A) Eingabe (Lehrer)'!D32)","v":""},{"$f":"IF('A) Eingabe (Lehrer)'!E32=\"\", \"\",'A) Eingabe (Lehrer)'!E32)","v":""},{"$f":"IF('A) Eingabe (Lehrer)'!F32=\"\", \"\",'A) Eingabe (Lehrer)'!F32)","v":""},{"$f":"IF('A) Eingabe (Lehrer)'!G32=\"\", \"\",'A) Eingabe (Lehrer)'!G32)","v":""},{"$f":"IF('A) Eingabe (Lehrer)'!H32=\"\", \"\",'A) Eingabe (Lehrer)'!H32)","v":""},{"$f":"IF('A) Eingabe (Lehrer)'!I32=\"\", \"\",'A) Eingabe (Lehrer)'!I32)","v":""},{"$f":"IF('A) Eingabe (Lehrer)'!J32=\"\", \"\",'A) Eingabe (Lehrer)'!J32)","v":""},{"$f":"IF('A) Eingabe (Lehrer)'!K32=\"\", \"\",'A) Eingabe (Lehrer)'!K32)","v":""},{"$f":"IF('A) Eingabe (Lehrer)'!L32=\"\", \"\",'A) Eingabe (Lehrer)'!L32)","v":""},{"$f":"IF('A) Eingabe (Lehrer)'!M32=\"\", \"\",'A) Eingabe (Lehrer)'!M32)","v":""},{"$f":"IF('A) Eingabe (Lehrer)'!N32=\"\", \"\",'A) Eingabe (Lehrer)'!N32)","v":""},{"$f":"IF('A) Eingabe (Lehrer)'!O32=\"\", \"\",'A) Eingabe (Lehrer)'!O32)","v":""},{"$f":"IF('A) Eingabe (Lehrer)'!P32=\"\", \"\",'A) Eingabe (Lehrer)'!P32)","v":""},{"$f":"IF('A) Eingabe (Lehrer)'!Q32=\"\", \"\",'A) Eingabe (Lehrer)'!Q32)","v":""},{"$f":"IF('A) Eingabe (Lehrer)'!R32=\"\", \"\",'A) Eingabe (Lehrer)'!R32)","v":""},{"$f":"IF('A) Eingabe (Lehrer)'!S32=\"\", \"\",'A) Eingabe (Lehrer)'!S32)","v":""},{"$f":"IF('A) Eingabe (Lehrer)'!T32=\"\", \"\",'A) Eingabe (Lehrer)'!T32)","v":""},{"$f":"IF('A) Eingabe (Lehrer)'!U32=\"\", \"\",'A) Eingabe (Lehrer)'!U32)","v":""},{"$f":"IF('A) Eingabe (Lehrer)'!V32=\"\", \"\",'A) Eingabe (Lehrer)'!V32)","v":""},{"$f":"IF('A) Eingabe (Lehrer)'!W32=\"\", \"\",'A) Eingabe (Lehrer)'!W32)","v":""},{"$f":"IF('A) Eingabe (Lehrer)'!X32=\"\", \"\",'A) Eingabe (Lehrer)'!X32)","v":""},{"$f":"IF('A) Eingabe (Lehrer)'!Y32=\"\", \"\",'A) Eingabe (Lehrer)'!Y32)","v":""},{"$f":"IF('A) Eingabe (Lehrer)'!Z32=\"\", \"\",'A) Eingabe (Lehrer)'!Z32)","v":""},{"$f":"IF('A) Eingabe (Lehrer)'!AA32=\"\", \"\",'A) Eingabe (Lehrer)'!AA32)","v":""},{"$f":"IF('A) Eingabe (Lehrer)'!AB32=\"\", \"\",'A) Eingabe (Lehrer)'!AB32)","v":""},{"$f":"IF('A) Eingabe (Lehrer)'!AC32=\"\", \"\",'A) Eingabe (Lehrer)'!AC32)","v":""},{"$f":"IF('A) Eingabe (Lehrer)'!AD32=\"\", \"\",'A) Eingabe (Lehrer)'!AD32)","v":""},{"$f":"IF('A) Eingabe (Lehrer)'!AE32=\"\", \"\",'A) Eingabe (Lehrer)'!AE32)","v":""},{"$f":"IF('A) Eingabe (Lehrer)'!AF32=\"\", \"\",'A) Eingabe (Lehrer)'!AF32)","v":""},{"$f":"IF('A) Eingabe (Lehrer)'!AG32=\"\", \"\",'A) Eingabe (Lehrer)'!AG32)","v":""},{"$f":"IF('A) Eingabe (Lehrer)'!AH32=\"\", \"\",'A) Eingabe (Lehrer)'!AH32)","v":""},{"$f":"IF('A) Eingabe (Lehrer)'!AI32=\"\", \"\",'A) Eingabe (Lehrer)'!AI32)","v":""},{"$f":"IF('A) Eingabe (Lehrer)'!AJ32=\"\", \"\",'A) Eingabe (Lehrer)'!AJ32)","v":""},{"$f":"IF('A) Eingabe (Lehrer)'!AK32=\"\", \"\",'A) Eingabe (Lehrer)'!AK32)","v":""},{"$f":"IF('A) Eingabe (Lehrer)'!AL32=\"\", \"\",'A) Eingabe (Lehrer)'!AL32)","v":""},{"$f":"IF('A) Eingabe (Lehrer)'!AM32=\"\", \"\",'A) Eingabe (Lehrer)'!AM32)","v":""},{"$f":"IF('A) Eingabe (Lehrer)'!AN32=\"\", \"\",'A) Eingabe (Lehrer)'!AN32)","v":""},{"$f":"IF('A) Eingabe (Lehrer)'!AO32=\"\", \"\",'A) Eingabe (Lehrer)'!AO32)","v":""},{"$f":"IF('A) Eingabe (Lehrer)'!AP32=\"\", \"\",'A) Eingabe (Lehrer)'!AP32)","v":""},{"$f":"IF('A) Eingabe (Lehrer)'!AQ32=\"\", \"\",'A) Eingabe (Lehrer)'!AQ32)","v":""},{"$f":"IF('A) Eingabe (Lehrer)'!AR32=\"\", \"\",'A) Eingabe (Lehrer)'!AR32)","v":""},{"$f":"IF('A) Eingabe (Lehrer)'!AS32=\"\", \"\",'A) Eingabe (Lehrer)'!AS32)","v":""},{"$f":"IF('A) Eingabe (Lehrer)'!AT32=\"\", \"\",'A) Eingabe (Lehrer)'!AT32)","v":""},{"$f":"IF('A) Eingabe (Lehrer)'!AU32=\"\", \"\",'A) Eingabe (Lehrer)'!AU32)","v":""},{"$f":"IF('A) Eingabe (Lehrer)'!AV32=\"\", \"\",'A) Eingabe (Lehrer)'!AV32)","v":""},{"$f":"IF('A) Eingabe (Lehrer)'!AW32=\"\", \"\",'A) Eingabe (Lehrer)'!AW32)","v":""},{"$f":"IF('A) Eingabe (Lehrer)'!AX32=\"\", \"\",'A) Eingabe (Lehrer)'!AX32)","v":""},{"$f":"IF('A) Eingabe (Lehrer)'!AY32=\"\", \"\",'A) Eingabe (Lehrer)'!AY32)","v":""},{"$f":"IF('A) Eingabe (Lehrer)'!AZ32=\"\", \"\",'A) Eingabe (Lehrer)'!AZ32)","v":""},{"$f":"IF('A) Eingabe (Lehrer)'!BA32=\"\", \"\",'A) Eingabe (Lehrer)'!BA32)","v":""},{"$f":"IF('A) Eingabe (Lehrer)'!BB32=\"\", \"\",'A) Eingabe (Lehrer)'!BB32)","v":""},{"$f":"IF('A) Eingabe (Lehrer)'!BC32=\"\", \"\",'A) Eingabe (Lehrer)'!BC32)","v":""},{"$f":"IF('A) Eingabe (Lehrer)'!BD32=\"\", \"\",'A) Eingabe (Lehrer)'!BD32)","v":""},{"$f":"IF('A) Eingabe (Lehrer)'!BE32=\"\", \"\",'A) Eingabe (Lehrer)'!BE32)","v":""},{"$f":"IF('A) Eingabe (Lehrer)'!BF32=\"\", \"\",'A) Eingabe (Lehrer)'!BF32)","v":""},{"$f":"IF('A) Eingabe (Lehrer)'!BG32=\"\", \"\",'A) Eingabe (Lehrer)'!BG32)","v":""},{"$f":"IF('A) Eingabe (Lehrer)'!BH32=\"\", \"\",'A) Eingabe (Lehrer)'!BH32)","v":""},{"$f":"IF('A) Eingabe (Lehrer)'!BI32=\"\", \"\",'A) Eingabe (Lehrer)'!BI32)","v":""},{"$f":"IF('A) Eingabe (Lehrer)'!BJ32=\"\", \"\",'A) Eingabe (Lehrer)'!BJ32)","v":""},{"$f":"IF('A) Eingabe (Lehrer)'!BK32=\"\", \"\",'A) Eingabe (Lehrer)'!BK32)","v":""}]
["Item 19",{"$f":"IF('A) Eingabe (Lehrer)'!C33=\"\", \"\",'A) Eingabe (Lehrer)'!C33)","v":""},{"$f":"IF('A) Eingabe (Lehrer)'!D33=\"\", \"\",'A) Eingabe (Lehrer)'!D33)","v":""},{"$f":"IF('A) Eingabe (Lehrer)'!E33=\"\", \"\",'A) Eingabe (Lehrer)'!E33)","v":""},{"$f":"IF('A) Eingabe (Lehrer)'!F33=\"\", \"\",'A) Eingabe (Lehrer)'!F33)","v":""},{"$f":"IF('A) Eingabe (Lehrer)'!G33=\"\", \"\",'A) Eingabe (Lehrer)'!G33)","v":""},{"$f":"IF('A) Eingabe (Lehrer)'!H33=\"\", \"\",'A) Eingabe (Lehrer)'!H33)","v":""},{"$f":"IF('A) Eingabe (Lehrer)'!I33=\"\", \"\",'A) Eingabe (Lehrer)'!I33)","v":""},{"$f":"IF('A) Eingabe (Lehrer)'!J33=\"\", \"\",'A) Eingabe (Lehrer)'!J33)","v":""},{"$f":"IF('A) Eingabe (Lehrer)'!K33=\"\", \"\",'A) Eingabe (Lehrer)'!K33)","v":""},{"$f":"IF('A) Eingabe (Lehrer)'!L33=\"\", \"\",'A) Eingabe (Lehrer)'!L33)","v":""},{"$f":"IF('A) Eingabe (Lehrer)'!M33=\"\", \"\",'A) Eingabe (Lehrer)'!M33)","v":""},{"$f":"IF('A) Eingabe (Lehrer)'!N33=\"\", \"\",'A) Eingabe (Lehrer)'!N33)","v":""},{"$f":"IF('A) Eingabe (Lehrer)'!O33=\"\", \"\",'A) Eingabe (Lehrer)'!O33)","v":""},{"$f":"IF('A) Eingabe (Lehrer)'!P33=\"\", \"\",'A) Eingabe (Lehrer)'!P33)","v":""},{"$f":"IF('A) Eingabe (Lehrer)'!Q33=\"\", \"\",'A) Eingabe (Lehrer)'!Q33)","v":""},{"$f":"IF('A) Eingabe (Lehrer)'!R33=\"\", \"\",'A) Eingabe (Lehrer)'!R33)","v":""},{"$f":"IF('A) Eingabe (Lehrer)'!S33=\"\", \"\",'A) Eingabe (Lehrer)'!S33)","v":""},{"$f":"IF('A) Eingabe (Lehrer)'!T33=\"\", \"\",'A) Eingabe (Lehrer)'!T33)","v":""},{"$f":"IF('A) Eingabe (Lehrer)'!U33=\"\", \"\",'A) Eingabe (Lehrer)'!U33)","v":""},{"$f":"IF('A) Eingabe (Lehrer)'!V33=\"\", \"\",'A) Eingabe (Lehrer)'!V33)","v":""},{"$f":"IF('A) Eingabe (Lehrer)'!W33=\"\", \"\",'A) Eingabe (Lehrer)'!W33)","v":""},{"$f":"IF('A) Eingabe (Lehrer)'!X33=\"\", \"\",'A) Eingabe (Lehrer)'!X33)","v":""},{"$f":"IF('A) Eingabe (Lehrer)'!Y33=\"\", \"\",'A) Eingabe (Lehrer)'!Y33)","v":""},{"$f":"IF('A) Eingabe (Lehrer)'!Z33=\"\", \"\",'A) Eingabe (Lehrer)'!Z33)","v":""},{"$f":"IF('A) Eingabe (Lehrer)'!AA33=\"\", \"\",'A) Eingabe (Lehrer)'!AA33)","v":""},{"$f":"IF('A) Eingabe (Lehrer)'!AB33=\"\", \"\",'A) Eingabe (Lehrer)'!AB33)","v":""},{"$f":"IF('A) Eingabe (Lehrer)'!AC33=\"\", \"\",'A) Eingabe (Lehrer)'!AC33)","v":""},{"$f":"IF('A) Eingabe (Lehrer)'!AD33=\"\", \"\",'A) Eingabe (Lehrer)'!AD33)","v":""},{"$f":"IF('A) Eingabe (Lehrer)'!AE33=\"\", \"\",'A) Eingabe (Lehrer)'!AE33)","v":""},{"$f":"IF('A) Eingabe (Lehrer)'!AF33=\"\", \"\",'A) Eingabe (Lehrer)'!AF33)","v":""},{"$f":"IF('A) Eingabe (Lehrer)'!AG33=\"\", \"\",'A) Eingabe (Lehrer)'!AG33)","v":""},{"$f":"IF('A) Eingabe (Lehrer)'!AH33=\"\", \"\",'A) Eingabe (Lehrer)'!AH33)","v":""},{"$f":"IF('A) Eingabe (Lehrer)'!AI33=\"\", \"\",'A) Eingabe (Lehrer)'!AI33)","v":""},{"$f":"IF('A) Eingabe (Lehrer)'!AJ33=\"\", \"\",'A) Eingabe (Lehrer)'!AJ33)","v":""},{"$f":"IF('A) Eingabe (Lehrer)'!AK33=\"\", \"\",'A) Eingabe (Lehrer)'!AK33)","v":""},{"$f":"IF('A) Eingabe (Lehrer)'!AL33=\"\", \"\",'A) Eingabe (Lehrer)'!AL33)","v":""},{"$f":"IF('A) Eingabe (Lehrer)'!AM33=\"\", \"\",'A) Eingabe (Lehrer)'!AM33)","v":""},{"$f":"IF('A) Eingabe (Lehrer)'!AN33=\"\", \"\",'A) Eingabe (Lehrer)'!AN33)","v":""},{"$f":"IF('A) Eingabe (Lehrer)'!AO33=\"\", \"\",'A) Eingabe (Lehrer)'!AO33)","v":""},{"$f":"IF('A) Eingabe (Lehrer)'!AP33=\"\", \"\",'A) Eingabe (Lehrer)'!AP33)","v":""},{"$f":"IF('A) Eingabe (Lehrer)'!AQ33=\"\", \"\",'A) Eingabe (Lehrer)'!AQ33)","v":""},{"$f":"IF('A) Eingabe (Lehrer)'!AR33=\"\", \"\",'A) Eingabe (Lehrer)'!AR33)","v":""},{"$f":"IF('A) Eingabe (Lehrer)'!AS33=\"\", \"\",'A) Eingabe (Lehrer)'!AS33)","v":""},{"$f":"IF('A) Eingabe (Lehrer)'!AT33=\"\", \"\",'A) Eingabe (Lehrer)'!AT33)","v":""},{"$f":"IF('A) Eingabe (Lehrer)'!AU33=\"\", \"\",'A) Eingabe (Lehrer)'!AU33)","v":""},{"$f":"IF('A) Eingabe (Lehrer)'!AV33=\"\", \"\",'A) Eingabe (Lehrer)'!AV33)","v":""},{"$f":"IF('A) Eingabe (Lehrer)'!AW33=\"\", \"\",'A) Eingabe (Lehrer)'!AW33)","v":""},{"$f":"IF('A) Eingabe (Lehrer)'!AX33=\"\", \"\",'A) Eingabe (Lehrer)'!AX33)","v":""},{"$f":"IF('A) Eingabe (Lehrer)'!AY33=\"\", \"\",'A) Eingabe (Lehrer)'!AY33)","v":""},{"$f":"IF('A) Eingabe (Lehrer)'!AZ33=\"\", \"\",'A) Eingabe (Lehrer)'!AZ33)","v":""},{"$f":"IF('A) Eingabe (Lehrer)'!BA33=\"\", \"\",'A) Eingabe (Lehrer)'!BA33)","v":""},{"$f":"IF('A) Eingabe (Lehrer)'!BB33=\"\", \"\",'A) Eingabe (Lehrer)'!BB33)","v":""},{"$f":"IF('A) Eingabe (Lehrer)'!BC33=\"\", \"\",'A) Eingabe (Lehrer)'!BC33)","v":""},{"$f":"IF('A) Eingabe (Lehrer)'!BD33=\"\", \"\",'A) Eingabe (Lehrer)'!BD33)","v":""},{"$f":"IF('A) Eingabe (Lehrer)'!BE33=\"\", \"\",'A) Eingabe (Lehrer)'!BE33)","v":""},{"$f":"IF('A) Eingabe (Lehrer)'!BF33=\"\", \"\",'A) Eingabe (Lehrer)'!BF33)","v":""},{"$f":"IF('A) Eingabe (Lehrer)'!BG33=\"\", \"\",'A) Eingabe (Lehrer)'!BG33)","v":""},{"$f":"IF('A) Eingabe (Lehrer)'!BH33=\"\", \"\",'A) Eingabe (Lehrer)'!BH33)","v":""},{"$f":"IF('A) Eingabe (Lehrer)'!BI33=\"\", \"\",'A) Eingabe (Lehrer)'!BI33)","v":""},{"$f":"IF('A) Eingabe (Lehrer)'!BJ33=\"\", \"\",'A) Eingabe (Lehrer)'!BJ33)","v":""},{"$f":"IF('A) Eingabe (Lehrer)'!BK33=\"\", \"\",'A) Eingabe (Lehrer)'!BK33)","v":""}]
["Item 20",{"$f":"IF('A) Eingabe (Lehrer)'!C34=\"\", \"\",'A) Eingabe (Lehrer)'!C34)","v":""},{"$f":"IF('A) Eingabe (Lehrer)'!D34=\"\", \"\",'A) Eingabe (Lehrer)'!D34)","v":""},{"$f":"IF('A) Eingabe (Lehrer)'!E34=\"\", \"\",'A) Eingabe (Lehrer)'!E34)","v":""},{"$f":"IF('A) Eingabe (Lehrer)'!F34=\"\", \"\",'A) Eingabe (Lehrer)'!F34)","v":""},{"$f":"IF('A) Eingabe (Lehrer)'!G34=\"\", \"\",'A) Eingabe (Lehrer)'!G34)","v":""},{"$f":"IF('A) Eingabe (Lehrer)'!H34=\"\", \"\",'A) Eingabe (Lehrer)'!H34)","v":""},{"$f":"IF('A) Eingabe (Lehrer)'!I34=\"\", \"\",'A) Eingabe (Lehrer)'!I34)","v":""},{"$f":"IF('A) Eingabe (Lehrer)'!J34=\"\", \"\",'A) Eingabe (Lehrer)'!J34)","v":""},{"$f":"IF('A) Eingabe (Lehrer)'!K34=\"\", \"\",'A) Eingabe (Lehrer)'!K34)","v":""},{"$f":"IF('A) Eingabe (Lehrer)'!L34=\"\", \"\",'A) Eingabe (Lehrer)'!L34)","v":""},{"$f":"IF('A) Eingabe (Lehrer)'!M34=\"\", \"\",'A) Eingabe (Lehrer)'!M34)","v":""},{"$f":"IF('A) Eingabe (Lehrer)'!N34=\"\", \"\",'A) Eingabe (Lehrer)'!N34)","v":""},{"$f":"IF('A) Eingabe (Lehrer)'!O34=\"\", \"\",'A) Eingabe (Lehrer)'!O34)","v":""},{"$f":"IF('A) Eingabe (Lehrer)'!P34=\"\", \"\",'A) Eingabe (Lehrer)'!P34)","v":""},{"$f":"IF('A) Eingabe (Lehrer)'!Q34=\"\", \"\",'A) Eingabe (Lehrer)'!Q34)","v":""},{"$f":"IF('A) Eingabe (Lehrer)'!R34=\"\", \"\",'A) Eingabe (Lehrer)'!R34)","v":""},{"$f":"IF('A) Eingabe (Lehrer)'!S34=\"\", \"\",'A) Eingabe (Lehrer)'!S34)","v":""},{"$f":"IF('A) Eingabe (Lehrer)'!T34=\"\", \"\",'A) Eingabe (Lehrer)'!T34)","v":""},{"$f":"IF('A) Eingabe (Lehrer)'!U34=\"\", \"\",'A) Eingabe (Lehrer)'!U34)","v":""},{"$f":"IF('A) Eingabe (Lehrer)'!V34=\"\", \"\",'A) Eingabe (Lehrer)'!V34)","v":""},{"$f":"IF('A) Eingabe (Lehrer)'!W34=\"\", \"\",'A) Eingabe (Lehrer)'!W34)","v":""},{"$f":"IF('A) Eingabe (Lehrer)'!X34=\"\", \"\",'A) Eingabe (Lehrer)'!X34)","v":""},{"$f":"IF('A) Eingabe (Lehrer)'!Y34=\"\", \"\",'A) Eingabe (Lehrer)'!Y34)","v":""},{"$f":"IF('A) Eingabe (Lehrer)'!Z34=\"\", \"\",'A) Eingabe (Lehrer)'!Z34)","v":""},{"$f":"IF('A) Eingabe (Lehrer)'!AA34=\"\", \"\",'A) Eingabe (Lehrer)'!AA34)","v":""},{"$f":"IF('A) Eingabe (Lehrer)'!AB34=\"\", \"\",'A) Eingabe (Lehrer)'!AB34)","v":""},{"$f":"IF('A) Eingabe (Lehrer)'!AC34=\"\", \"\",'A) Eingabe (Lehrer)'!AC34)","v":""},{"$f":"IF('A) Eingabe (Lehrer)'!AD34=\"\", \"\",'A) Eingabe (Lehrer)'!AD34)","v":""},{"$f":"IF('A) Eingabe (Lehrer)'!AE34=\"\", \"\",'A) Eingabe (Lehrer)'!AE34)","v":""},{"$f":"IF('A) Eingabe (Lehrer)'!AF34=\"\", \"\",'A) Eingabe (Lehrer)'!AF34)","v":""},{"$f":"IF('A) Eingabe (Lehrer)'!AG34=\"\", \"\",'A) Eingabe (Lehrer)'!AG34)","v":""},{"$f":"IF('A) Eingabe (Lehrer)'!AH34=\"\", \"\",'A) Eingabe (Lehrer)'!AH34)","v":""},{"$f":"IF('A) Eingabe (Lehrer)'!AI34=\"\", \"\",'A) Eingabe (Lehrer)'!AI34)","v":""},{"$f":"IF('A) Eingabe (Lehrer)'!AJ34=\"\", \"\",'A) Eingabe (Lehrer)'!AJ34)","v":""},{"$f":"IF('A) Eingabe (Lehrer)'!AK34=\"\", \"\",'A) Eingabe (Lehrer)'!AK34)","v":""},{"$f":"IF('A) Eingabe (Lehrer)'!AL34=\"\", \"\",'A) Eingabe (Lehrer)'!AL34)","v":""},{"$f":"IF('A) Eingabe (Lehrer)'!AM34=\"\", \"\",'A) Eingabe (Lehrer)'!AM34)","v":""},{"$f":"IF('A) Eingabe (Lehrer)'!AN34=\"\", \"\",'A) Eingabe (Lehrer)'!AN34)","v":""},{"$f":"IF('A) Eingabe (Lehrer)'!AO34=\"\", \"\",'A) Eingabe (Lehrer)'!AO34)","v":""},{"$f":"IF('A) Eingabe (Lehrer)'!AP34=\"\", \"\",'A) Eingabe (Lehrer)'!AP34)","v":""},{"$f":"IF('A) Eingabe (Lehrer)'!AQ34=\"\", \"\",'A) Eingabe (Lehrer)'!AQ34)","v":""},{"$f":"IF('A) Eingabe (Lehrer)'!AR34=\"\", \"\",'A) Eingabe (Lehrer)'!AR34)","v":""},{"$f":"IF('A) Eingabe (Lehrer)'!AS34=\"\", \"\",'A) Eingabe (Lehrer)'!AS34)","v":""},{"$f":"IF('A) Eingabe (Lehrer)'!AT34=\"\", \"\",'A) Eingabe (Lehrer)'!AT34)","v":""},{"$f":"IF('A) Eingabe (Lehrer)'!AU34=\"\", \"\",'A) Eingabe (Lehrer)'!AU34)","v":""},{"$f":"IF('A) Eingabe (Lehrer)'!AV34=\"\", \"\",'A) Eingabe (Lehrer)'!AV34)","v":""},{"$f":"IF('A) Eingabe (Lehrer)'!AW34=\"\", \"\",'A) Eingabe (Lehrer)'!AW34)","v":""},{"$f":"IF('A) Eingabe (Lehrer)'!AX34=\"\", \"\",'A) Eingabe (Lehrer)'!AX34)","v":""},{"$f":"IF('A) Eingabe (Lehrer)'!AY34=\"\", \"\",'A) Eingabe (Lehrer)'!AY34)","v":""},{"$f":"IF('A) Eingabe (Lehrer)'!AZ34=\"\", \"\",'A) Eingabe (Lehrer)'!AZ34)","v":""},{"$f":"IF('A) Eingabe (Lehrer)'!BA34=\"\", \"\",'A) Eingabe (Lehrer)'!BA34)","v":""},{"$f":"IF('A) Eingabe (Lehrer)'!BB34=\"\", \"\",'A) Eingabe (Lehrer)'!BB34)","v":""},{"$f":"IF('A) Eingabe (Lehrer)'!BC34=\"\", \"\",'A) Eingabe (Lehrer)'!BC34)","v":""},{"$f":"IF('A) Eingabe (Lehrer)'!BD34=\"\", \"\",'A) Eingabe (Lehrer)'!BD34)","v":""},{"$f":"IF('A) Eingabe (Lehrer)'!BE34=\"\", \"\",'A) Eingabe (Lehrer)'!BE34)","v":""},{"$f":"IF('A) Eingabe (Lehrer)'!BF34=\"\", \"\",'A) Eingabe (Lehrer)'!BF34)","v":""},{"$f":"IF('A) Eingabe (Lehrer)'!BG34=\"\", \"\",'A) Eingabe (Lehrer)'!BG34)","v":""},{"$f":"IF('A) Eingabe (Lehrer)'!BH34=\"\", \"\",'A) Eingabe (Lehrer)'!BH34)","v":""},{"$f":"IF('A) Eingabe (Lehrer)'!BI34=\"\", \"\",'A) Eingabe (Lehrer)'!BI34)","v":""},{"$f":"IF('A) Eingabe (Lehrer)'!BJ34=\"\", \"\",'A) Eingabe (Lehrer)'!BJ34)","v":""},{"$f":"IF('A) Eingabe (Lehrer)'!BK34=\"\", \"\",'A) Eingabe (Lehrer)'!BK34)","v":""}]
["Item 21",{"$f":"IF('A) Eingabe (Lehrer)'!C35=\"\", \"\",'A) Eingabe (Lehrer)'!C35)","v":""},{"$f":"IF('A) Eingabe (Lehrer)'!D35=\"\", \"\",'A) Eingabe (Lehrer)'!D35)","v":""},{"$f":"IF('A) Eingabe (Lehrer)'!E35=\"\", \"\",'A) Eingabe (Lehrer)'!E35)","v":""},{"$f":"IF('A) Eingabe (Lehrer)'!F35=\"\", \"\",'A) Eingabe (Lehrer)'!F35)","v":""},{"$f":"IF('A) Eingabe (Lehrer)'!G35=\"\", \"\",'A) Eingabe (Lehrer)'!G35)","v":""},{"$f":"IF('A) Eingabe (Lehrer)'!H35=\"\", \"\",'A) Eingabe (Lehrer)'!H35)","v":""},{"$f":"IF('A) Eingabe (Lehrer)'!I35=\"\", \"\",'A) Eingabe (Lehrer)'!I35)","v":""},{"$f":"IF('A) Eingabe (Lehrer)'!J35=\"\", \"\",'A) Eingabe (Lehrer)'!J35)","v":""},{"$f":"IF('A) Eingabe (Lehrer)'!K35=\"\", \"\",'A) Eingabe (Lehrer)'!K35)","v":""},{"$f":"IF('A) Eingabe (Lehrer)'!L35=\"\", \"\",'A) Eingabe (Lehrer)'!L35)","v":""},{"$f":"IF('A) Eingabe (Lehrer)'!M35=\"\", \"\",'A) Eingabe (Lehrer)'!M35)","v":""},{"$f":"IF('A) Eingabe (Lehrer)'!N35=\"\", \"\",'A) Eingabe (Lehrer)'!N35)","v":""},{"$f":"IF('A) Eingabe (Lehrer)'!O35=\"\", \"\",'A) Eingabe (Lehrer)'!O35)","v":""},{"$f":"IF('A) Eingabe (Lehrer)'!P35=\"\", \"\",'A) Eingabe (Lehrer)'!P35)","v":""},{"$f":"IF('A) Eingabe (Lehrer)'!Q35=\"\", \"\",'A) Eingabe (Lehrer)'!Q35)","v":""},{"$f":"IF('A) Eingabe (Lehrer)'!R35=\"\", \"\",'A) Eingabe (Lehrer)'!R35)","v":""},{"$f":"IF('A) Eingabe (Lehrer)'!S35=\"\", \"\",'A) Eingabe (Lehrer)'!S35)","v":""},{"$f":"IF('A) Eingabe (Lehrer)'!T35=\"\", \"\",'A) Eingabe (Lehrer)'!T35)","v":""},{"$f":"IF('A) Eingabe (Lehrer)'!U35=\"\", \"\",'A) Eingabe (Lehrer)'!U35)","v":""},{"$f":"IF('A) Eingabe (Lehrer)'!V35=\"\", \"\",'A) Eingabe (Lehrer)'!V35)","v":""},{"$f":"IF('A) Eingabe (Lehrer)'!W35=\"\", \"\",'A) Eingabe (Lehrer)'!W35)","v":""},{"$f":"IF('A) Eingabe (Lehrer)'!X35=\"\", \"\",'A) Eingabe (Lehrer)'!X35)","v":""},{"$f":"IF('A) Eingabe (Lehrer)'!Y35=\"\", \"\",'A) Eingabe (Lehrer)'!Y35)","v":""},{"$f":"IF('A) Eingabe (Lehrer)'!Z35=\"\", \"\",'A) Eingabe (Lehrer)'!Z35)","v":""},{"$f":"IF('A) Eingabe (Lehrer)'!AA35=\"\", \"\",'A) Eingabe (Lehrer)'!AA35)","v":""},{"$f":"IF('A) Eingabe (Lehrer)'!AB35=\"\", \"\",'A) Eingabe (Lehrer)'!AB35)","v":""},{"$f":"IF('A) Eingabe (Lehrer)'!AC35=\"\", \"\",'A) Eingabe (Lehrer)'!AC35)","v":""},{"$f":"IF('A) Eingabe (Lehrer)'!AD35=\"\", \"\",'A) Eingabe (Lehrer)'!AD35)","v":""},{"$f":"IF('A) Eingabe (Lehrer)'!AE35=\"\", \"\",'A) Eingabe (Lehrer)'!AE35)","v":""},{"$f":"IF('A) Eingabe (Lehrer)'!AF35=\"\", \"\",'A) Eingabe (Lehrer)'!AF35)","v":""},{"$f":"IF('A) Eingabe (Lehrer)'!AG35=\"\", \"\",'A) Eingabe (Lehrer)'!AG35)","v":""},{"$f":"IF('A) Eingabe (Lehrer)'!AH35=\"\", \"\",'A) Eingabe (Lehrer)'!AH35)","v":""},{"$f":"IF('A) Eingabe (Lehrer)'!AI35=\"\", \"\",'A) Eingabe (Lehrer)'!AI35)","v":""},{"$f":"IF('A) Eingabe (Lehrer)'!AJ35=\"\", \"\",'A) Eingabe (Lehrer)'!AJ35)","v":""},{"$f":"IF('A) Eingabe (Lehrer)'!AK35=\"\", \"\",'A) Eingabe (Lehrer)'!AK35)","v":""},{"$f":"IF('A) Eingabe (Lehrer)'!AL35=\"\", \"\",'A) Eingabe (Lehrer)'!AL35)","v":""},{"$f":"IF('A) Eingabe (Lehrer)'!AM35=\"\", \"\",'A) Eingabe (Lehrer)'!AM35)","v":""},{"$f":"IF('A) Eingabe (Lehrer)'!AN35=\"\", \"\",'A) Eingabe (Lehrer)'!AN35)","v":""},{"$f":"IF('A) Eingabe (Lehrer)'!AO35=\"\", \"\",'A) Eingabe (Lehrer)'!AO35)","v":""},{"$f":"IF('A) Eingabe (Lehrer)'!AP35=\"\", \"\",'A) Eingabe (Lehrer)'!AP35)","v":""},{"$f":"IF('A) Eingabe (Lehrer)'!AQ35=\"\", \"\",'A) Eingabe (Lehrer)'!AQ35)","v":""},{"$f":"IF('A) Eingabe (Lehrer)'!AR35=\"\", \"\",'A) Eingabe (Lehrer)'!AR35)","v":""},{"$f":"IF('A) Eingabe (Lehrer)'!AS35=\"\", \"\",'A) Eingabe (Lehrer)'!AS35)","v":""},{"$f":"IF('A) Eingabe (Lehrer)'!AT35=\"\", \"\",'A) Eingabe (Lehrer)'!AT35)","v":""},{"$f":"IF('A) Eingabe (Lehrer)'!AU35=\"\", \"\",'A) Eingabe (Lehrer)'!AU35)","v":""},{"$f":"IF('A) Eingabe (Lehrer)'!AV35=\"\", \"\",'A) Eingabe (Lehrer)'!AV35)","v":""},{"$f":"IF('A) Eingabe (Lehrer)'!AW35=\"\", \"\",'A) Eingabe (Lehrer)'!AW35)","v":""},{"$f":"IF('A) Eingabe (Lehrer)'!AX35=\"\", \"\",'A) Eingabe (Lehrer)'!AX35)","v":""},{"$f":"IF('A) Eingabe (Lehrer)'!AY35=\"\", \"\",'A) Eingabe (Lehrer)'!AY35)","v":""},{"$f":"IF('A) Eingabe (Lehrer)'!AZ35=\"\", \"\",'A) Eingabe (Lehrer)'!AZ35)","v":""},{"$f":"IF('A) Eingabe (Lehrer)'!BA35=\"\", \"\",'A) Eingabe (Lehrer)'!BA35)","v":""},{"$f":"IF('A) Eingabe (Lehrer)'!BB35=\"\", \"\",'A) Eingabe (Lehrer)'!BB35)","v":""},{"$f":"IF('A) Eingabe (Lehrer)'!BC35=\"\", \"\",'A) Eingabe (Lehrer)'!BC35)","v":""},{"$f":"IF('A) Eingabe (Lehrer)'!BD35=\"\", \"\",'A) Eingabe (Lehrer)'!BD35)","v":""},{"$f":"IF('A) Eingabe (Lehrer)'!BE35=\"\", \"\",'A) Eingabe (Lehrer)'!BE35)","v":""},{"$f":"IF('A) Eingabe (Lehrer)'!BF35=\"\", \"\",'A) Eingabe (Lehrer)'!BF35)","v":""},{"$f":"IF('A) Eingabe (Lehrer)'!BG35=\"\", \"\",'A) Eingabe (Lehrer)'!BG35)","v":""},{"$f":"IF('A) Eingabe (Lehrer)'!BH35=\"\", \"\",'A) Eingabe (Lehrer)'!BH35)","v":""},{"$f":"IF('A) Eingabe (Lehrer)'!BI35=\"\", \"\",'A) Eingabe (Lehrer)'!BI35)","v":""},{"$f":"IF('A) Eingabe (Lehrer)'!BJ35=\"\", \"\",'A) Eingabe (Lehrer)'!BJ35)","v":""},{"$f":"IF('A) Eingabe (Lehrer)'!BK35=\"\", \"\",'A) Eingabe (Lehrer)'!BK35)","v":""}]
["Item 22",{"$f":"IF('A) Eingabe (Lehrer)'!C36=\"\", \"\",'A) Eingabe (Lehrer)'!C36)","v":""},{"$f":"IF('A) Eingabe (Lehrer)'!D36=\"\", \"\",'A) Eingabe (Lehrer)'!D36)","v":""},{"$f":"IF('A) Eingabe (Lehrer)'!E36=\"\", \"\",'A) Eingabe (Lehrer)'!E36)","v":""},{"$f":"IF('A) Eingabe (Lehrer)'!F36=\"\", \"\",'A) Eingabe (Lehrer)'!F36)","v":""},{"$f":"IF('A) Eingabe (Lehrer)'!G36=\"\", \"\",'A) Eingabe (Lehrer)'!G36)","v":""},{"$f":"IF('A) Eingabe (Lehrer)'!H36=\"\", \"\",'A) Eingabe (Lehrer)'!H36)","v":""},{"$f":"IF('A) Eingabe (Lehrer)'!I36=\"\", \"\",'A) Eingabe (Lehrer)'!I36)","v":""},{"$f":"IF('A) Eingabe (Lehrer)'!J36=\"\", \"\",'A) Eingabe (Lehrer)'!J36)","v":""},{"$f":"IF('A) Eingabe (Lehrer)'!K36=\"\", \"\",'A) Eingabe (Lehrer)'!K36)","v":""},{"$f":"IF('A) Eingabe (Lehrer)'!L36=\"\", \"\",'A) Eingabe (Lehrer)'!L36)","v":""},{"$f":"IF('A) Eingabe (Lehrer)'!M36=\"\", \"\",'A) Eingabe (Lehrer)'!M36)","v":""},{"$f":"IF('A) Eingabe (Lehrer)'!N36=\"\", \"\",'A) Eingabe (Lehrer)'!N36)","v":""},{"$f":"IF('A) Eingabe (Lehrer)'!O36=\"\", \"\",'A) Eingabe (Lehrer)'!O36)","v":""},{"$f":"IF('A) Eingabe (Lehrer)'!P36=\"\", \"\",'A) Eingabe (Lehrer)'!P36)","v":""},{"$f":"IF('A) Eingabe (Lehrer)'!Q36=\"\", \"\",'A) Eingabe (Lehrer)'!Q36)","v":""},{"$f":"IF('A) Eingabe (Lehrer)'!R36=\"\", \"\",'A) Eingabe (Lehrer)'!R36)","v":""},{"$f":"IF('A) Eingabe (Lehrer)'!S36=\"\", \"\",'A) Eingabe (Lehrer)'!S36)","v":""},{"$f":"IF('A) Eingabe (Lehrer)'!T36=\"\", \"\",'A) Eingabe (Lehrer)'!T36)","v":""},{"$f":"IF('A) Eingabe (Lehrer)'!U36=\"\", \"\",'A) Eingabe (Lehrer)'!U36)","v":""},{"$f":"IF('A) Eingabe (Lehrer)'!V36=\"\", \"\",'A) Eingabe (Lehrer)'!V36)","v":""},{"$f":"IF('A) Eingabe (Lehrer)'!W36=\"\", \"\",'A) Eingabe (Lehrer)'!W36)","v":""},{"$f":"IF('A) Eingabe (Lehrer)'!X36=\"\", \"\",'A) Eingabe (Lehrer)'!X36)","v":""},{"$f":"IF('A) Eingabe (Lehrer)'!Y36=\"\", \"\",'A) Eingabe (Lehrer)'!Y36)","v":""},{"$f":"IF('A) Eingabe (Lehrer)'!Z36=\"\", \"\",'A) Eingabe (Lehrer)'!Z36)","v":""},{"$f":"IF('A) Eingabe (Lehrer)'!AA36=\"\", \"\",'A) Eingabe (Lehrer)'!AA36)","v":""},{"$f":"IF('A) Eingabe (Lehrer)'!AB36=\"\", \"\",'A) Eingabe (Lehrer)'!AB36)","v":""},{"$f":"IF('A) Eingabe (Lehrer)'!AC36=\"\", \"\",'A) Eingabe (Lehrer)'!AC36)","v":""},{"$f":"IF('A) Eingabe (Lehrer)'!AD36=\"\", \"\",'A) Eingabe (Lehrer)'!AD36)","v":""},{"$f":"IF('A) Eingabe (Lehrer)'!AE36=\"\", \"\",'A) Eingabe (Lehrer)'!AE36)","v":""},{"$f":"IF('A) Eingabe (Lehrer)'!AF36=\"\", \"\",'A) Eingabe (Lehrer)'!AF36)","v":""},{"$f":"IF('A) Eingabe (Lehrer)'!AG36=\"\", \"\",'A) Eingabe (Lehrer)'!AG36)","v":""},{"$f":"IF('A) Eingabe (Lehrer)'!AH36=\"\", \"\",'A) Eingabe (Lehrer)'!AH36)","v":""},{"$f":"IF('A) Eingabe (Lehrer)'!AI36=\"\", \"\",'A) Eingabe (Lehrer)'!AI36)","v":""},{"$f":"IF('A) Eingabe (Lehrer)'!AJ36=\"\", \"\",'A) Eingabe (Lehrer)'!AJ36)","v":""},{"$f":"IF('A) Eingabe (Lehrer)'!AK36=\"\", \"\",'A) Eingabe (Lehrer)'!AK36)","v":""},{"$f":"IF('A) Eingabe (Lehrer)'!AL36=\"\", \"\",'A) Eingabe (Lehrer)'!AL36)","v":""},{"$f":"IF('A) Eingabe (Lehrer)'!AM36=\"\", \"\",'A) Eingabe (Lehrer)'!AM36)","v":""},{"$f":"IF('A) Eingabe (Lehrer)'!AN36=\"\", \"\",'A) Eingabe (Lehrer)'!AN36)","v":""},{"$f":"IF('A) Eingabe (Lehrer)'!AO36=\"\", \"\",'A) Eingabe (Lehrer)'!AO36)","v":""},{"$f":"IF('A) Eingabe (Lehrer)'!AP36=\"\", \"\",'A) Eingabe (Lehrer)'!AP36)","v":""},{"$f":"IF('A) Eingabe (Lehrer)'!AQ36=\"\", \"\",'A) Eingabe (Lehrer)'!AQ36)","v":""},{"$f":"IF('A) Eingabe (Lehrer)'!AR36=\"\", \"\",'A) Eingabe (Lehrer)'!AR36)","v":""},{"$f":"IF('A) Eingabe (Lehrer)'!AS36=\"\", \"\",'A) Eingabe (Lehrer)'!AS36)","v":""},{"$f":"IF('A) Eingabe (Lehrer)'!AT36=\"\", \"\",'A) Eingabe (Lehrer)'!AT36)","v":""},{"$f":"IF('A) Eingabe (Lehrer)'!AU36=\"\", \"\",'A) Eingabe (Lehrer)'!AU36)","v":""},{"$f":"IF('A) Eingabe (Lehrer)'!AV36=\"\", \"\",'A) Eingabe (Lehrer)'!AV36)","v":""},{"$f":"IF('A) Eingabe (Lehrer)'!AW36=\"\", \"\",'A) Eingabe (Lehrer)'!AW36)","v":""},{"$f":"IF('A) Eingabe (Lehrer)'!AX36=\"\", \"\",'A) Eingabe (Lehrer)'!AX36)","v":""},{"$f":"IF('A) Eingabe (Lehrer)'!AY36=\"\", \"\",'A) Eingabe (Lehrer)'!AY36)","v":""},{"$f":"IF('A) Eingabe (Lehrer)'!AZ36=\"\", \"\",'A) Eingabe (Lehrer)'!AZ36)","v":""},{"$f":"IF('A) Eingabe (Lehrer)'!BA36=\"\", \"\",'A) Eingabe (Lehrer)'!BA36)","v":""},{"$f":"IF('A) Eingabe (Lehrer)'!BB36=\"\", \"\",'A) Eingabe (Lehrer)'!BB36)","v":""},{"$f":"IF('A) Eingabe (Lehrer)'!BC36=\"\", \"\",'A) Eingabe (Lehrer)'!BC36)","v":""},{"$f":"IF('A) Eingabe (Lehrer)'!BD36=\"\", \"\",'A) Eingabe (Lehrer)'!BD36)","v":""},{"$f":"IF('A) Eingabe (Lehrer)'!BE36=\"\", \"\",'A) Eingabe (Lehrer)'!BE36)","v":""},{"$f":"IF('A) Eingabe (Lehrer)'!BF36=\"\", \"\",'A) Eingabe (Lehrer)'!BF36)","v":""},{"$f":"IF('A) Eingabe (Lehrer)'!BG36=\"\", \"\",'A) Eingabe (Lehrer)'!BG36)","v":""},{"$f":"IF('A) Eingabe (Lehrer)'!BH36=\"\", \"\",'A) Eingabe (Lehrer)'!BH36)","v":""},{"$f":"IF('A) Eingabe (Lehrer)'!BI36=\"\", \"\",'A) Eingabe (Lehrer)'!BI36)","v":""},{"$f":"IF('A) Eingabe (Lehrer)'!BJ36=\"\", \"\",'A) Eingabe (Lehrer)'!BJ36)","v":""},{"$f":"IF('A) Eingabe (Lehrer)'!BK36=\"\", \"\",'A) Eingabe (Lehrer)'!BK36)","v":""}]
["Item 23",{"$f":"IF('A) Eingabe (Lehrer)'!C38=\"\", \"\",'A) Eingabe (Lehrer)'!C38)","v":""},{"$f":"IF('A) Eingabe (Lehrer)'!D38=\"\", \"\",'A) Eingabe (Lehrer)'!D38)","v":""},{"$f":"IF('A) Eingabe (Lehrer)'!E38=\"\", \"\",'A) Eingabe (Lehrer)'!E38)","v":""},{"$f":"IF('A) Eingabe (Lehrer)'!F38=\"\", \"\",'A) Eingabe (Lehrer)'!F38)","v":""},{"$f":"IF('A) Eingabe (Lehrer)'!G38=\"\", \"\",'A) Eingabe (Lehrer)'!G38)","v":""},{"$f":"IF('A) Eingabe (Lehrer)'!H38=\"\", \"\",'A) Eingabe (Lehrer)'!H38)","v":""},{"$f":"IF('A) Eingabe (Lehrer)'!I38=\"\", \"\",'A) Eingabe (Lehrer)'!I38)","v":""},{"$f":"IF('A) Eingabe (Lehrer)'!J38=\"\", \"\",'A) Eingabe (Lehrer)'!J38)","v":""},{"$f":"IF('A) Eingabe (Lehrer)'!K38=\"\", \"\",'A) Eingabe (Lehrer)'!K38)","v":""},{"$f":"IF('A) Eingabe (Lehrer)'!L38=\"\", \"\",'A) Eingabe (Lehrer)'!L38)","v":""},{"$f":"IF('A) Eingabe (Lehrer)'!M38=\"\", \"\",'A) Eingabe (Lehrer)'!M38)","v":""},{"$f":"IF('A) Eingabe (Lehrer)'!N38=\"\", \"\",'A) Eingabe (Lehrer)'!N38)","v":""},{"$f":"IF('A) Eingabe (Lehrer)'!O38=\"\", \"\",'A) Eingabe (Lehrer)'!O38)","v":""},{"$f":"IF('A) Eingabe (Lehrer)'!P38=\"\", \"\",'A) Eingabe (Lehrer)'!P38)","v":""},{"$f":"IF('A) Eingabe (Lehrer)'!Q38=\"\", \"\",'A) Eingabe (Lehrer)'!Q38)","v":""},{"$f":"IF('A) Eingabe (Lehrer)'!R38=\"\", \"\",'A) Eingabe (Lehrer)'!R38)","v":""},{"$f":"IF('A) Eingabe (Lehrer)'!S38=\"\", \"\",'A) Eingabe (Lehrer)'!S38)","v":""},{"$f":"IF('A) Eingabe (Lehrer)'!T38=\"\", \"\",'A) Eingabe (Lehrer)'!T38)","v":""},{"$f":"IF('A) Eingabe (Lehrer)'!U38=\"\", \"\",'A) Eingabe (Lehrer)'!U38)","v":""},{"$f":"IF('A) Eingabe (Lehrer)'!V38=\"\", \"\",'A) Eingabe (Lehrer)'!V38)","v":""},{"$f":"IF('A) Eingabe (Lehrer)'!W38=\"\", \"\",'A) Eingabe (Lehrer)'!W38)","v":""},{"$f":"IF('A) Eingabe (Lehrer)'!X38=\"\", \"\",'A) Eingabe (Lehrer)'!X38)","v":""},{"$f":"IF('A) Eingabe (Lehrer)'!Y38=\"\", \"\",'A) Eingabe (Lehrer)'!Y38)","v":""},{"$f":"IF('A) Eingabe (Lehrer)'!Z38=\"\", \"\",'A) Eingabe (Lehrer)'!Z38)","v":""},{"$f":"IF('A) Eingabe (Lehrer)'!AA38=\"\", \"\",'A) Eingabe (Lehrer)'!AA38)","v":""},{"$f":"IF('A) Eingabe (Lehrer)'!AB38=\"\", \"\",'A) Eingabe (Lehrer)'!AB38)","v":""},{"$f":"IF('A) Eingabe (Lehrer)'!AC38=\"\", \"\",'A) Eingabe (Lehrer)'!AC38)","v":""},{"$f":"IF('A) Eingabe (Lehrer)'!AD38=\"\", \"\",'A) Eingabe (Lehrer)'!AD38)","v":""},{"$f":"IF('A) Eingabe (Lehrer)'!AE38=\"\", \"\",'A) Eingabe (Lehrer)'!AE38)","v":""},{"$f":"IF('A) Eingabe (Lehrer)'!AF38=\"\", \"\",'A) Eingabe (Lehrer)'!AF38)","v":""},{"$f":"IF('A) Eingabe (Lehrer)'!AG38=\"\", \"\",'A) Eingabe (Lehrer)'!AG38)","v":""},{"$f":"IF('A) Eingabe (Lehrer)'!AH38=\"\", \"\",'A) Eingabe (Lehrer)'!AH38)","v":""},{"$f":"IF('A) Eingabe (Lehrer)'!AI38=\"\", \"\",'A) Eingabe (Lehrer)'!AI38)","v":""},{"$f":"IF('A) Eingabe (Lehrer)'!AJ38=\"\", \"\",'A) Eingabe (Lehrer)'!AJ38)","v":""},{"$f":"IF('A) Eingabe (Lehrer)'!AK38=\"\", \"\",'A) Eingabe (Lehrer)'!AK38)","v":""},{"$f":"IF('A) Eingabe (Lehrer)'!AL38=\"\", \"\",'A) Eingabe (Lehrer)'!AL38)","v":""},{"$f":"IF('A) Eingabe (Lehrer)'!AM38=\"\", \"\",'A) Eingabe (Lehrer)'!AM38)","v":""},{"$f":"IF('A) Eingabe (Lehrer)'!AN38=\"\", \"\",'A) Eingabe (Lehrer)'!AN38)","v":""},{"$f":"IF('A) Eingabe (Lehrer)'!AO38=\"\", \"\",'A) Eingabe (Lehrer)'!AO38)","v":""},{"$f":"IF('A) Eingabe (Lehrer)'!AP38=\"\", \"\",'A) Eingabe (Lehrer)'!AP38)","v":""},{"$f":"IF('A) Eingabe (Lehrer)'!AQ38=\"\", \"\",'A) Eingabe (Lehrer)'!AQ38)","v":""},{"$f":"IF('A) Eingabe (Lehrer)'!AR38=\"\", \"\",'A) Eingabe (Lehrer)'!AR38)","v":""},{"$f":"IF('A) Eingabe (Lehrer)'!AS38=\"\", \"\",'A) Eingabe (Lehrer)'!AS38)","v":""},{"$f":"IF('A) Eingabe (Lehrer)'!AT38=\"\", \"\",'A) Eingabe (Lehrer)'!AT38)","v":""},{"$f":"IF('A) Eingabe (Lehrer)'!AU38=\"\", \"\",'A) Eingabe (Lehrer)'!AU38)","v":""},{"$f":"IF('A) Eingabe (Lehrer)'!AV38=\"\", \"\",'A) Eingabe (Lehrer)'!AV38)","v":""},{"$f":"IF('A) Eingabe (Lehrer)'!AW38=\"\", \"\",'A) Eingabe (Lehrer)'!AW38)","v":""},{"$f":"IF('A) Eingabe (Lehrer)'!AX38=\"\", \"\",'A) Eingabe (Lehrer)'!AX38)","v":""},{"$f":"IF('A) Eingabe (Lehrer)'!AY38=\"\", \"\",'A) Eingabe (Lehrer)'!AY38)","v":""},{"$f":"IF('A) Eingabe (Lehrer)'!AZ38=\"\", \"\",'A) Eingabe (Lehrer)'!AZ38)","v":""},{"$f":"IF('A) Eingabe (Lehrer)'!BA38=\"\", \"\",'A) Eingabe (Lehrer)'!BA38)","v":""},{"$f":"IF('A) Eingabe (Lehrer)'!BB38=\"\", \"\",'A) Eingabe (Lehrer)'!BB38)","v":""},{"$f":"IF('A) Eingabe (Lehrer)'!BC38=\"\", \"\",'A) Eingabe (Lehrer)'!BC38)","v":""},{"$f":"IF('A) Eingabe (Lehrer)'!BD38=\"\", \"\",'A) Eingabe (Lehrer)'!BD38)","v":""},{"$f":"IF('A) Eingabe (Lehrer)'!BE38=\"\", \"\",'A) Eingabe (Lehrer)'!BE38)","v":""},{"$f":"IF('A) Eingabe (Lehrer)'!BF38=\"\", \"\",'A) Eingabe (Lehrer)'!BF38)","v":""},{"$f":"IF('A) Eingabe (Lehrer)'!BG38=\"\", \"\",'A) Eingabe (Lehrer)'!BG38)","v":""},{"$f":"IF('A) Eingabe (Lehrer)'!BH38=\"\", \"\",'A) Eingabe (Lehrer)'!BH38)","v":""},{"$f":"IF('A) Eingabe (Lehrer)'!BI38=\"\", \"\",'A) Eingabe (Lehrer)'!BI38)","v":""},{"$f":"IF('A) Eingabe (Lehrer)'!BJ38=\"\", \"\",'A) Eingabe (Lehrer)'!BJ38)","v":""},{"$f":"IF('A) Eingabe (Lehrer)'!BK38=\"\", \"\",'A) Eingabe (Lehrer)'!BK38)","v":""}]
["Item 24",{"$f":"IF('A) Eingabe (Lehrer)'!C39=\"\", \"\",'A) Eingabe (Lehrer)'!C39)","v":""},{"$f":"IF('A) Eingabe (Lehrer)'!D39=\"\", \"\",'A) Eingabe (Lehrer)'!D39)","v":""},{"$f":"IF('A) Eingabe (Lehrer)'!E39=\"\", \"\",'A) Eingabe (Lehrer)'!E39)","v":""},{"$f":"IF('A) Eingabe (Lehrer)'!F39=\"\", \"\",'A) Eingabe (Lehrer)'!F39)","v":""},{"$f":"IF('A) Eingabe (Lehrer)'!G39=\"\", \"\",'A) Eingabe (Lehrer)'!G39)","v":""},{"$f":"IF('A) Eingabe (Lehrer)'!H39=\"\", \"\",'A) Eingabe (Lehrer)'!H39)","v":""},{"$f":"IF('A) Eingabe (Lehrer)'!I39=\"\", \"\",'A) Eingabe (Lehrer)'!I39)","v":""},{"$f":"IF('A) Eingabe (Lehrer)'!J39=\"\", \"\",'A) Eingabe (Lehrer)'!J39)","v":""},{"$f":"IF('A) Eingabe (Lehrer)'!K39=\"\", \"\",'A) Eingabe (Lehrer)'!K39)","v":""},{"$f":"IF('A) Eingabe (Lehrer)'!L39=\"\", \"\",'A) Eingabe (Lehrer)'!L39)","v":""},{"$f":"IF('A) Eingabe (Lehrer)'!M39=\"\", \"\",'A) Eingabe (Lehrer)'!M39)","v":""},{"$f":"IF('A) Eingabe (Lehrer)'!N39=\"\", \"\",'A) Eingabe (Lehrer)'!N39)","v":""},{"$f":"IF('A) Eingabe (Lehrer)'!O39=\"\", \"\",'A) Eingabe (Lehrer)'!O39)","v":""},{"$f":"IF('A) Eingabe (Lehrer)'!P39=\"\", \"\",'A) Eingabe (Lehrer)'!P39)","v":""},{"$f":"IF('A) Eingabe (Lehrer)'!Q39=\"\", \"\",'A) Eingabe (Lehrer)'!Q39)","v":""},{"$f":"IF('A) Eingabe (Lehrer)'!R39=\"\", \"\",'A) Eingabe (Lehrer)'!R39)","v":""},{"$f":"IF('A) Eingabe (Lehrer)'!S39=\"\", \"\",'A) Eingabe (Lehrer)'!S39)","v":""},{"$f":"IF('A) Eingabe (Lehrer)'!T39=\"\", \"\",'A) Eingabe (Lehrer)'!T39)","v":""},{"$f":"IF('A) Eingabe (Lehrer)'!U39=\"\", \"\",'A) Eingabe (Lehrer)'!U39)","v":""},{"$f":"IF('A) Eingabe (Lehrer)'!V39=\"\", \"\",'A) Eingabe (Lehrer)'!V39)","v":""},{"$f":"IF('A) Eingabe (Lehrer)'!W39=\"\", \"\",'A) Eingabe (Lehrer)'!W39)","v":""},{"$f":"IF('A) Eingabe (Lehrer)'!X39=\"\", \"\",'A) Eingabe (Lehrer)'!X39)","v":""},{"$f":"IF('A) Eingabe (Lehrer)'!Y39=\"\", \"\",'A) Eingabe (Lehrer)'!Y39)","v":""},{"$f":"IF('A) Eingabe (Lehrer)'!Z39=\"\", \"\",'A) Eingabe (Lehrer)'!Z39)","v":""},{"$f":"IF('A) Eingabe (Lehrer)'!AA39=\"\", \"\",'A) Eingabe (Lehrer)'!AA39)","v":""},{"$f":"IF('A) Eingabe (Lehrer)'!AB39=\"\", \"\",'A) Eingabe (Lehrer)'!AB39)","v":""},{"$f":"IF('A) Eingabe (Lehrer)'!AC39=\"\", \"\",'A) Eingabe (Lehrer)'!AC39)","v":""},{"$f":"IF('A) Eingabe (Lehrer)'!AD39=\"\", \"\",'A) Eingabe (Lehrer)'!AD39)","v":""},{"$f":"IF('A) Eingabe (Lehrer)'!AE39=\"\", \"\",'A) Eingabe (Lehrer)'!AE39)","v":""},{"$f":"IF('A) Eingabe (Lehrer)'!AF39=\"\", \"\",'A) Eingabe (Lehrer)'!AF39)","v":""},{"$f":"IF('A) Eingabe (Lehrer)'!AG39=\"\", \"\",'A) Eingabe (Lehrer)'!AG39)","v":""},{"$f":"IF('A) Eingabe (Lehrer)'!AH39=\"\", \"\",'A) Eingabe (Lehrer)'!AH39)","v":""},{"$f":"IF('A) Eingabe (Lehrer)'!AI39=\"\", \"\",'A) Eingabe (Lehrer)'!AI39)","v":""},{"$f":"IF('A) Eingabe (Lehrer)'!AJ39=\"\", \"\",'A) Eingabe (Lehrer)'!AJ39)","v":""},{"$f":"IF('A) Eingabe (Lehrer)'!AK39=\"\", \"\",'A) Eingabe (Lehrer)'!AK39)","v":""},{"$f":"IF('A) Eingabe (Lehrer)'!AL39=\"\", \"\",'A) Eingabe (Lehrer)'!AL39)","v":""},{"$f":"IF('A) Eingabe (Lehrer)'!AM39=\"\", \"\",'A) Eingabe (Lehrer)'!AM39)","v":""},{"$f":"IF('A) Eingabe (Lehrer)'!AN39=\"\", \"\",'A) Eingabe (Lehrer)'!AN39)","v":""},{"$f":"IF('A) Eingabe (Lehrer)'!AO39=\"\", \"\",'A) Eingabe (Lehrer)'!AO39)","v":""},{"$f":"IF('A) Eingabe (Lehrer)'!AP39=\"\", \"\",'A) Eingabe (Lehrer)'!AP39)","v":""},{"$f":"IF('A) Eingabe (Lehrer)'!AQ39=\"\", \"\",'A) Eingabe (Lehrer)'!AQ39)","v":""},{"$f":"IF('A) Eingabe (Lehrer)'!AR39=\"\", \"\",'A) Eingabe (Lehrer)'!AR39)","v":""},{"$f":"IF('A) Eingabe (Lehrer)'!AS39=\"\", \"\",'A) Eingabe (Lehrer)'!AS39)","v":""},{"$f":"IF('A) Eingabe (Lehrer)'!AT39=\"\", \"\",'A) Eingabe (Lehrer)'!AT39)","v":""},{"$f":"IF('A) Eingabe (Lehrer)'!AU39=\"\", \"\",'A) Eingabe (Lehrer)'!AU39)","v":""},{"$f":"IF('A) Eingabe (Lehrer)'!AV39=\"\", \"\",'A) Eingabe (Lehrer)'!AV39)","v":""},{"$f":"IF('A) Eingabe (Lehrer)'!AW39=\"\", \"\",'A) Eingabe (Lehrer)'!AW39)","v":""},{"$f":"IF('A) Eingabe (Lehrer)'!AX39=\"\", \"\",'A) Eingabe (Lehrer)'!AX39)","v":""},{"$f":"IF('A) Eingabe (Lehrer)'!AY39=\"\", \"\",'A) Eingabe (Lehrer)'!AY39)","v":""},{"$f":"IF('A) Eingabe (Lehrer)'!AZ39=\"\", \"\",'A) Eingabe (Lehrer)'!AZ39)","v":""},{"$f":"IF('A) Eingabe (Lehrer)'!BA39=\"\", \"\",'A) Eingabe (Lehrer)'!BA39)","v":""},{"$f":"IF('A) Eingabe (Lehrer)'!BB39=\"\", \"\",'A) Eingabe (Lehrer)'!BB39)","v":""},{"$f":"IF('A) Eingabe (Lehrer)'!BC39=\"\", \"\",'A) Eingabe (Lehrer)'!BC39)","v":""},{"$f":"IF('A) Eingabe (Lehrer)'!BD39=\"\", \"\",'A) Eingabe (Lehrer)'!BD39)","v":""},{"$f":"IF('A) Eingabe (Lehrer)'!BE39=\"\", \"\",'A) Eingabe (Lehrer)'!BE39)","v":""},{"$f":"IF('A) Eingabe (Lehrer)'!BF39=\"\", \"\",'A) Eingabe (Lehrer)'!BF39)","v":""},{"$f":"IF('A) Eingabe (Lehrer)'!BG39=\"\", \"\",'A) Eingabe (Lehrer)'!BG39)","v":""},{"$f":"IF('A) Eingabe (Lehrer)'!BH39=\"\", \"\",'A) Eingabe (Lehrer)'!BH39)","v":""},{"$f":"IF('A) Eingabe (Lehrer)'!BI39=\"\", \"\",'A) Eingabe (Lehrer)'!BI39)","v":""},{"$f":"IF('A) Eingabe (Lehrer)'!BJ39=\"\", \"\",'A) Eingabe (Lehrer)'!BJ39)","v":""},{"$f":"IF('A) Eingabe (Lehrer)'!BK39=\"\", \"\",'A) Eingabe (Lehrer)'!BK39)","v":""}]
["Item 25",{"$f":"IF('A) Eingabe (Lehrer)'!C40=\"\", \"\",'A) Eingabe (Lehrer)'!C40)","v":""},{"$f":"IF('A) Eingabe (Lehrer)'!D40=\"\", \"\",'A) Eingabe (Lehrer)'!D40)","v":""},{"$f":"IF('A) Eingabe (Lehrer)'!E40=\"\", \"\",'A) Eingabe (Lehrer)'!E40)","v":""},{"$f":"IF('A) Eingabe (Lehrer)'!F40=\"\", \"\",'A) Eingabe (Lehrer)'!F40)","v":""},{"$f":"IF('A) Eingabe (Lehrer)'!G40=\"\", \"\",'A) Eingabe (Lehrer)'!G40)","v":""},{"$f":"IF('A) Eingabe (Lehrer)'!H40=\"\", \"\",'A) Eingabe (Lehrer)'!H40)","v":""},{"$f":"IF('A) Eingabe (Lehrer)'!I40=\"\", \"\",'A) Eingabe (Lehrer)'!I40)","v":""},{"$f":"IF('A) Eingabe (Lehrer)'!J40=\"\", \"\",'A) Eingabe (Lehrer)'!J40)","v":""},{"$f":"IF('A) Eingabe (Lehrer)'!K40=\"\", \"\",'A) Eingabe (Lehrer)'!K40)","v":""},{"$f":"IF('A) Eingabe (Lehrer)'!L40=\"\", \"\",'A) Eingabe (Lehrer)'!L40)","v":""},{"$f":"IF('A) Eingabe (Lehrer)'!M40=\"\", \"\",'A) Eingabe (Lehrer)'!M40)","v":""},{"$f":"IF('A) Eingabe (Lehrer)'!N40=\"\", \"\",'A) Eingabe (Lehrer)'!N40)","v":""},{"$f":"IF('A) Eingabe (Lehrer)'!O40=\"\", \"\",'A) Eingabe (Lehrer)'!O40)","v":""},{"$f":"IF('A) Eingabe (Lehrer)'!P40=\"\", \"\",'A) Eingabe (Lehrer)'!P40)","v":""},{"$f":"IF('A) Eingabe (Lehrer)'!Q40=\"\", \"\",'A) Eingabe (Lehrer)'!Q40)","v":""},{"$f":"IF('A) Eingabe (Lehrer)'!R40=\"\", \"\",'A) Eingabe (Lehrer)'!R40)","v":""},{"$f":"IF('A) Eingabe (Lehrer)'!S40=\"\", \"\",'A) Eingabe (Lehrer)'!S40)","v":""},{"$f":"IF('A) Eingabe (Lehrer)'!T40=\"\", \"\",'A) Eingabe (Lehrer)'!T40)","v":""},{"$f":"IF('A) Eingabe (Lehrer)'!U40=\"\", \"\",'A) Eingabe (Lehrer)'!U40)","v":""},{"$f":"IF('A) Eingabe (Lehrer)'!V40=\"\", \"\",'A) Eingabe (Lehrer)'!V40)","v":""},{"$f":"IF('A) Eingabe (Lehrer)'!W40=\"\", \"\",'A) Eingabe (Lehrer)'!W40)","v":""},{"$f":"IF('A) Eingabe (Lehrer)'!X40=\"\", \"\",'A) Eingabe (Lehrer)'!X40)","v":""},{"$f":"IF('A) Eingabe (Lehrer)'!Y40=\"\", \"\",'A) Eingabe (Lehrer)'!Y40)","v":""},{"$f":"IF('A) Eingabe (Lehrer)'!Z40=\"\", \"\",'A) Eingabe (Lehrer)'!Z40)","v":""},{"$f":"IF('A) Eingabe (Lehrer)'!AA40=\"\", \"\",'A) Eingabe (Lehrer)'!AA40)","v":""},{"$f":"IF('A) Eingabe (Lehrer)'!AB40=\"\", \"\",'A) Eingabe (Lehrer)'!AB40)","v":""},{"$f":"IF('A) Eingabe (Lehrer)'!AC40=\"\", \"\",'A) Eingabe (Lehrer)'!AC40)","v":""},{"$f":"IF('A) Eingabe (Lehrer)'!AD40=\"\", \"\",'A) Eingabe (Lehrer)'!AD40)","v":""},{"$f":"IF('A) Eingabe (Lehrer)'!AE40=\"\", \"\",'A) Eingabe (Lehrer)'!AE40)","v":""},{"$f":"IF('A) Eingabe (Lehrer)'!AF40=\"\", \"\",'A) Eingabe (Lehrer)'!AF40)","v":""},{"$f":"IF('A) Eingabe (Lehrer)'!AG40=\"\", \"\",'A) Eingabe (Lehrer)'!AG40)","v":""},{"$f":"IF('A) Eingabe (Lehrer)'!AH40=\"\", \"\",'A) Eingabe (Lehrer)'!AH40)","v":""},{"$f":"IF('A) Eingabe (Lehrer)'!AI40=\"\", \"\",'A) Eingabe (Lehrer)'!AI40)","v":""},{"$f":"IF('A) Eingabe (Lehrer)'!AJ40=\"\", \"\",'A) Eingabe (Lehrer)'!AJ40)","v":""},{"$f":"IF('A) Eingabe (Lehrer)'!AK40=\"\", \"\",'A) Eingabe (Lehrer)'!AK40)","v":""},{"$f":"IF('A) Eingabe (Lehrer)'!AL40=\"\", \"\",'A) Eingabe (Lehrer)'!AL40)","v":""},{"$f":"IF('A) Eingabe (Lehrer)'!AM40=\"\", \"\",'A) Eingabe (Lehrer)'!AM40)","v":""},{"$f":"IF('A) Eingabe (Lehrer)'!AN40=\"\", \"\",'A) Eingabe (Lehrer)'!AN40)","v":""},{"$f":"IF('A) Eingabe (Lehrer)'!AO40=\"\", \"\",'A) Eingabe (Lehrer)'!AO40)","v":""},{"$f":"IF('A) Eingabe (Lehrer)'!AP40=\"\", \"\",'A) Eingabe (Lehrer)'!AP40)","v":""},{"$f":"IF('A) Eingabe (Lehrer)'!AQ40=\"\", \"\",'A) Eingabe (Lehrer)'!AQ40)","v":""},{"$f":"IF('A) Eingabe (Lehrer)'!AR40=\"\", \"\",'A) Eingabe (Lehrer)'!AR40)","v":""},{"$f":"IF('A) Eingabe (Lehrer)'!AS40=\"\", \"\",'A) Eingabe (Lehrer)'!AS40)","v":""},{"$f":"IF('A) Eingabe (Lehrer)'!AT40=\"\", \"\",'A) Eingabe (Lehrer)'!AT40)","v":""},{"$f":"IF('A) Eingabe (Lehrer)'!AU40=\"\", \"\",'A) Eingabe (Lehrer)'!AU40)","v":""},{"$f":"IF('A) Eingabe (Lehrer)'!AV40=\"\", \"\",'A) Eingabe (Lehrer)'!AV40)","v":""},{"$f":"IF('A) Eingabe (Lehrer)'!AW40=\"\", \"\",'A) Eingabe (Lehrer)'!AW40)","v":""},{"$f":"IF('A) Eingabe (Lehrer)'!AX40=\"\", \"\",'A) Eingabe (Lehrer)'!AX40)","v":""},{"$f":"IF('A) Eingabe (Lehrer)'!AY40=\"\", \"\",'A) Eingabe (Lehrer)'!AY40)","v":""},{"$f":"IF('A) Eingabe (Lehrer)'!AZ40=\"\", \"\",'A) Eingabe (Lehrer)'!AZ40)","v":""},{"$f":"IF('A) Eingabe (Lehrer)'!BA40=\"\", \"\",'A) Eingabe (Lehrer)'!BA40)","v":""},{"$f":"IF('A) Eingabe (Lehrer)'!BB40=\"\", \"\",'A) Eingabe (Lehrer)'!BB40)","v":""},{"$f":"IF('A) Eingabe (Lehrer)'!BC40=\"\", \"\",'A) Eingabe (Lehrer)'!BC40)","v":""},{"$f":"IF('A) Eingabe (Lehrer)'!BD40=\"\", \"\",'A) Eingabe (Lehrer)'!BD40)","v":""},{"$f":"IF('A) Eingabe (Lehrer)'!BE40=\"\", \"\",'A) Eingabe (Lehrer)'!BE40)","v":""},{"$f":"IF('A) Eingabe (Lehrer)'!BF40=\"\", \"\",'A) Eingabe (Lehrer)'!BF40)","v":""},{"$f":"IF('A) Eingabe (Lehrer)'!BG40=\"\", \"\",'A) Eingabe (Lehrer)'!BG40)","v":""},{"$f":"IF('A) Eingabe (Lehrer)'!BH40=\"\", \"\",'A) Eingabe (Lehrer)'!BH40)","v":""},{"$f":"IF('A) Eingabe (Lehrer)'!BI40=\"\", \"\",'A) Eingabe (Lehrer)'!BI40)","v":""},{"$f":"IF('A) Eingabe (Lehrer)'!BJ40=\"\", \"\",'A) Eingabe (Lehrer)'!BJ40)","v":""},{"$f":"IF('A) Eingabe (Lehrer)'!BK40=\"\", \"\",'A) Eingabe (Lehrer)'!BK40)","v":""}]
["Item 26",{"$f":"IF('A) Eingabe (Lehrer)'!C41=\"\", \"\",'A) Eingabe (Lehrer)'!C41)","v":""},{"$f":"IF('A) Eingabe (Lehrer)'!D41=\"\", \"\",'A) Eingabe (Lehrer)'!D41)","v":""},{"$f":"IF('A) Eingabe (Lehrer)'!E41=\"\", \"\",'A) Eingabe (Lehrer)'!E41)","v":""},{"$f":"IF('A) Eingabe (Lehrer)'!F41=\"\", \"\",'A) Eingabe (Lehrer)'!F41)","v":""},{"$f":"IF('A) Eingabe (Lehrer)'!G41=\"\", \"\",'A) Eingabe (Lehrer)'!G41)","v":""},{"$f":"IF('A) Eingabe (Lehrer)'!H41=\"\", \"\",'A) Eingabe (Lehrer)'!H41)","v":""},{"$f":"IF('A) Eingabe (Lehrer)'!I41=\"\", \"\",'A) Eingabe (Lehrer)'!I41)","v":""},{"$f":"IF('A) Eingabe (Lehrer)'!J41=\"\", \"\",'A) Eingabe (Lehrer)'!J41)","v":""},{"$f":"IF('A) Eingabe (Lehrer)'!K41=\"\", \"\",'A) Eingabe (Lehrer)'!K41)","v":""},{"$f":"IF('A) Eingabe (Lehrer)'!L41=\"\", \"\",'A) Eingabe (Lehrer)'!L41)","v":""},{"$f":"IF('A) Eingabe (Lehrer)'!M41=\"\", \"\",'A) Eingabe (Lehrer)'!M41)","v":""},{"$f":"IF('A) Eingabe (Lehrer)'!N41=\"\", \"\",'A) Eingabe (Lehrer)'!N41)","v":""},{"$f":"IF('A) Eingabe (Lehrer)'!O41=\"\", \"\",'A) Eingabe (Lehrer)'!O41)","v":""},{"$f":"IF('A) Eingabe (Lehrer)'!P41=\"\", \"\",'A) Eingabe (Lehrer)'!P41)","v":""},{"$f":"IF('A) Eingabe (Lehrer)'!Q41=\"\", \"\",'A) Eingabe (Lehrer)'!Q41)","v":""},{"$f":"IF('A) Eingabe (Lehrer)'!R41=\"\", \"\",'A) Eingabe (Lehrer)'!R41)","v":""},{"$f":"IF('A) Eingabe (Lehrer)'!S41=\"\", \"\",'A) Eingabe (Lehrer)'!S41)","v":""},{"$f":"IF('A) Eingabe (Lehrer)'!T41=\"\", \"\",'A) Eingabe (Lehrer)'!T41)","v":""},{"$f":"IF('A) Eingabe (Lehrer)'!U41=\"\", \"\",'A) Eingabe (Lehrer)'!U41)","v":""},{"$f":"IF('A) Eingabe (Lehrer)'!V41=\"\", \"\",'A) Eingabe (Lehrer)'!V41)","v":""},{"$f":"IF('A) Eingabe (Lehrer)'!W41=\"\", \"\",'A) Eingabe (Lehrer)'!W41)","v":""},{"$f":"IF('A) Eingabe (Lehrer)'!X41=\"\", \"\",'A) Eingabe (Lehrer)'!X41)","v":""},{"$f":"IF('A) Eingabe (Lehrer)'!Y41=\"\", \"\",'A) Eingabe (Lehrer)'!Y41)","v":""},{"$f":"IF('A) Eingabe (Lehrer)'!Z41=\"\", \"\",'A) Eingabe (Lehrer)'!Z41)","v":""},{"$f":"IF('A) Eingabe (Lehrer)'!AA41=\"\", \"\",'A) Eingabe (Lehrer)'!AA41)","v":""},{"$f":"IF('A) Eingabe (Lehrer)'!AB41=\"\", \"\",'A) Eingabe (Lehrer)'!AB41)","v":""},{"$f":"IF('A) Eingabe (Lehrer)'!AC41=\"\", \"\",'A) Eingabe (Lehrer)'!AC41)","v":""},{"$f":"IF('A) Eingabe (Lehrer)'!AD41=\"\", \"\",'A) Eingabe (Lehrer)'!AD41)","v":""},{"$f":"IF('A) Eingabe (Lehrer)'!AE41=\"\", \"\",'A) Eingabe (Lehrer)'!AE41)","v":""},{"$f":"IF('A) Eingabe (Lehrer)'!AF41=\"\", \"\",'A) Eingabe (Lehrer)'!AF41)","v":""},{"$f":"IF('A) Eingabe (Lehrer)'!AG41=\"\", \"\",'A) Eingabe (Lehrer)'!AG41)","v":""},{"$f":"IF('A) Eingabe (Lehrer)'!AH41=\"\", \"\",'A) Eingabe (Lehrer)'!AH41)","v":""},{"$f":"IF('A) Eingabe (Lehrer)'!AI41=\"\", \"\",'A) Eingabe (Lehrer)'!AI41)","v":""},{"$f":"IF('A) Eingabe (Lehrer)'!AJ41=\"\", \"\",'A) Eingabe (Lehrer)'!AJ41)","v":""},{"$f":"IF('A) Eingabe (Lehrer)'!AK41=\"\", \"\",'A) Eingabe (Lehrer)'!AK41)","v":""},{"$f":"IF('A) Eingabe (Lehrer)'!AL41=\"\", \"\",'A) Eingabe (Lehrer)'!AL41)","v":""},{"$f":"IF('A) Eingabe (Lehrer)'!AM41=\"\", \"\",'A) Eingabe (Lehrer)'!AM41)","v":""},{"$f":"IF('A) Eingabe (Lehrer)'!AN41=\"\", \"\",'A) Eingabe (Lehrer)'!AN41)","v":""},{"$f":"IF('A) Eingabe (Lehrer)'!AO41=\"\", \"\",'A) Eingabe (Lehrer)'!AO41)","v":""},{"$f":"IF('A) Eingabe (Lehrer)'!AP41=\"\", \"\",'A) Eingabe (Lehrer)'!AP41)","v":""},{"$f":"IF('A) Eingabe (Lehrer)'!AQ41=\"\", \"\",'A) Eingabe (Lehrer)'!AQ41)","v":""},{"$f":"IF('A) Eingabe (Lehrer)'!AR41=\"\", \"\",'A) Eingabe (Lehrer)'!AR41)","v":""},{"$f":"IF('A) Eingabe (Lehrer)'!AS41=\"\", \"\",'A) Eingabe (Lehrer)'!AS41)","v":""},{"$f":"IF('A) Eingabe (Lehrer)'!AT41=\"\", \"\",'A) Eingabe (Lehrer)'!AT41)","v":""},{"$f":"IF('A) Eingabe (Lehrer)'!AU41=\"\", \"\",'A) Eingabe (Lehrer)'!AU41)","v":""},{"$f":"IF('A) Eingabe (Lehrer)'!AV41=\"\", \"\",'A) Eingabe (Lehrer)'!AV41)","v":""},{"$f":"IF('A) Eingabe (Lehrer)'!AW41=\"\", \"\",'A) Eingabe (Lehrer)'!AW41)","v":""},{"$f":"IF('A) Eingabe (Lehrer)'!AX41=\"\", \"\",'A) Eingabe (Lehrer)'!AX41)","v":""},{"$f":"IF('A) Eingabe (Lehrer)'!AY41=\"\", \"\",'A) Eingabe (Lehrer)'!AY41)","v":""},{"$f":"IF('A) Eingabe (Lehrer)'!AZ41=\"\", \"\",'A) Eingabe (Lehrer)'!AZ41)","v":""},{"$f":"IF('A) Eingabe (Lehrer)'!BA41=\"\", \"\",'A) Eingabe (Lehrer)'!BA41)","v":""},{"$f":"IF('A) Eingabe (Lehrer)'!BB41=\"\", \"\",'A) Eingabe (Lehrer)'!BB41)","v":""},{"$f":"IF('A) Eingabe (Lehrer)'!BC41=\"\", \"\",'A) Eingabe (Lehrer)'!BC41)","v":""},{"$f":"IF('A) Eingabe (Lehrer)'!BD41=\"\", \"\",'A) Eingabe (Lehrer)'!BD41)","v":""},{"$f":"IF('A) Eingabe (Lehrer)'!BE41=\"\", \"\",'A) Eingabe (Lehrer)'!BE41)","v":""},{"$f":"IF('A) Eingabe (Lehrer)'!BF41=\"\", \"\",'A) Eingabe (Lehrer)'!BF41)","v":""},{"$f":"IF('A) Eingabe (Lehrer)'!BG41=\"\", \"\",'A) Eingabe (Lehrer)'!BG41)","v":""},{"$f":"IF('A) Eingabe (Lehrer)'!BH41=\"\", \"\",'A) Eingabe (Lehrer)'!BH41)","v":""},{"$f":"IF('A) Eingabe (Lehrer)'!BI41=\"\", \"\",'A) Eingabe (Lehrer)'!BI41)","v":""},{"$f":"IF('A) Eingabe (Lehrer)'!BJ41=\"\", \"\",'A) Eingabe (Lehrer)'!BJ41)","v":""},{"$f":"IF('A) Eingabe (Lehrer)'!BK41=\"\", \"\",'A) Eingabe (Lehrer)'!BK41)","v":""}]
["Item 27",{"$f":"IF('A) Eingabe (Lehrer)'!C42=\"\", \"\",'A) Eingabe (Lehrer)'!C42)","v":""},{"$f":"IF('A) Eingabe (Lehrer)'!D42=\"\", \"\",'A) Eingabe (Lehrer)'!D42)","v":""},{"$f":"IF('A) Eingabe (Lehrer)'!E42=\"\", \"\",'A) Eingabe (Lehrer)'!E42)","v":""},{"$f":"IF('A) Eingabe (Lehrer)'!F42=\"\", \"\",'A) Eingabe (Lehrer)'!F42)","v":""},{"$f":"IF('A) Eingabe (Lehrer)'!G42=\"\", \"\",'A) Eingabe (Lehrer)'!G42)","v":""},{"$f":"IF('A) Eingabe (Lehrer)'!H42=\"\", \"\",'A) Eingabe (Lehrer)'!H42)","v":""},{"$f":"IF('A) Eingabe (Lehrer)'!I42=\"\", \"\",'A) Eingabe (Lehrer)'!I42)","v":""},{"$f":"IF('A) Eingabe (Lehrer)'!J42=\"\", \"\",'A) Eingabe (Lehrer)'!J42)","v":""},{"$f":"IF('A) Eingabe (Lehrer)'!K42=\"\", \"\",'A) Eingabe (Lehrer)'!K42)","v":""},{"$f":"IF('A) Eingabe (Lehrer)'!L42=\"\", \"\",'A) Eingabe (Lehrer)'!L42)","v":""},{"$f":"IF('A) Eingabe (Lehrer)'!M42=\"\", \"\",'A) Eingabe (Lehrer)'!M42)","v":""},{"$f":"IF('A) Eingabe (Lehrer)'!N42=\"\", \"\",'A) Eingabe (Lehrer)'!N42)","v":""},{"$f":"IF('A) Eingabe (Lehrer)'!O42=\"\", \"\",'A) Eingabe (Lehrer)'!O42)","v":""},{"$f":"IF('A) Eingabe (Lehrer)'!P42=\"\", \"\",'A) Eingabe (Lehrer)'!P42)","v":""},{"$f":"IF('A) Eingabe (Lehrer)'!Q42=\"\", \"\",'A) Eingabe (Lehrer)'!Q42)","v":""},{"$f":"IF('A) Eingabe (Lehrer)'!R42=\"\", \"\",'A) Eingabe (Lehrer)'!R42)","v":""},{"$f":"IF('A) Eingabe (Lehrer)'!S42=\"\", \"\",'A) Eingabe (Lehrer)'!S42)","v":""},{"$f":"IF('A) Eingabe (Lehrer)'!T42=\"\", \"\",'A) Eingabe (Lehrer)'!T42)","v":""},{"$f":"IF('A) Eingabe (Lehrer)'!U42=\"\", \"\",'A) Eingabe (Lehrer)'!U42)","v":""},{"$f":"IF('A) Eingabe (Lehrer)'!V42=\"\", \"\",'A) Eingabe (Lehrer)'!V42)","v":""},{"$f":"IF('A) Eingabe (Lehrer)'!W42=\"\", \"\",'A) Eingabe (Lehrer)'!W42)","v":""},{"$f":"IF('A) Eingabe (Lehrer)'!X42=\"\", \"\",'A) Eingabe (Lehrer)'!X42)","v":""},{"$f":"IF('A) Eingabe (Lehrer)'!Y42=\"\", \"\",'A) Eingabe (Lehrer)'!Y42)","v":""},{"$f":"IF('A) Eingabe (Lehrer)'!Z42=\"\", \"\",'A) Eingabe (Lehrer)'!Z42)","v":""},{"$f":"IF('A) Eingabe (Lehrer)'!AA42=\"\", \"\",'A) Eingabe (Lehrer)'!AA42)","v":""},{"$f":"IF('A) Eingabe (Lehrer)'!AB42=\"\", \"\",'A) Eingabe (Lehrer)'!AB42)","v":""},{"$f":"IF('A) Eingabe (Lehrer)'!AC42=\"\", \"\",'A) Eingabe (Lehrer)'!AC42)","v":""},{"$f":"IF('A) Eingabe (Lehrer)'!AD42=\"\", \"\",'A) Eingabe (Lehrer)'!AD42)","v":""},{"$f":"IF('A) Eingabe (Lehrer)'!AE42=\"\", \"\",'A) Eingabe (Lehrer)'!AE42)","v":""},{"$f":"IF('A) Eingabe (Lehrer)'!AF42=\"\", \"\",'A) Eingabe (Lehrer)'!AF42)","v":""},{"$f":"IF('A) Eingabe (Lehrer)'!AG42=\"\", \"\",'A) Eingabe (Lehrer)'!AG42)","v":""},{"$f":"IF('A) Eingabe (Lehrer)'!AH42=\"\", \"\",'A) Eingabe (Lehrer)'!AH42)","v":""},{"$f":"IF('A) Eingabe (Lehrer)'!AI42=\"\", \"\",'A) Eingabe (Lehrer)'!AI42)","v":""},{"$f":"IF('A) Eingabe (Lehrer)'!AJ42=\"\", \"\",'A) Eingabe (Lehrer)'!AJ42)","v":""},{"$f":"IF('A) Eingabe (Lehrer)'!AK42=\"\", \"\",'A) Eingabe (Lehrer)'!AK42)","v":""},{"$f":"IF('A) Eingabe (Lehrer)'!AL42=\"\", \"\",'A) Eingabe (Lehrer)'!AL42)","v":""},{"$f":"IF('A) Eingabe (Lehrer)'!AM42=\"\", \"\",'A) Eingabe (Lehrer)'!AM42)","v":""},{"$f":"IF('A) Eingabe (Lehrer)'!AN42=\"\", \"\",'A) Eingabe (Lehrer)'!AN42)","v":""},{"$f":"IF('A) Eingabe (Lehrer)'!AO42=\"\", \"\",'A) Eingabe (Lehrer)'!AO42)","v":""},{"$f":"IF('A) Eingabe (Lehrer)'!AP42=\"\", \"\",'A) Eingabe (Lehrer)'!AP42)","v":""},{"$f":"IF('A) Eingabe (Lehrer)'!AQ42=\"\", \"\",'A) Eingabe (Lehrer)'!AQ42)","v":""},{"$f":"IF('A) Eingabe (Lehrer)'!AR42=\"\", \"\",'A) Eingabe (Lehrer)'!AR42)","v":""},{"$f":"IF('A) Eingabe (Lehrer)'!AS42=\"\", \"\",'A) Eingabe (Lehrer)'!AS42)","v":""},{"$f":"IF('A) Eingabe (Lehrer)'!AT42=\"\", \"\",'A) Eingabe (Lehrer)'!AT42)","v":""},{"$f":"IF('A) Eingabe (Lehrer)'!AU42=\"\", \"\",'A) Eingabe (Lehrer)'!AU42)","v":""},{"$f":"IF('A) Eingabe (Lehrer)'!AV42=\"\", \"\",'A) Eingabe (Lehrer)'!AV42)","v":""},{"$f":"IF('A) Eingabe (Lehrer)'!AW42=\"\", \"\",'A) Eingabe (Lehrer)'!AW42)","v":""},{"$f":"IF('A) Eingabe (Lehrer)'!AX42=\"\", \"\",'A) Eingabe (Lehrer)'!AX42)","v":""},{"$f":"IF('A) Eingabe (Lehrer)'!AY42=\"\", \"\",'A) Eingabe (Lehrer)'!AY42)","v":""},{"$f":"IF('A) Eingabe (Lehrer)'!AZ42=\"\", \"\",'A) Eingabe (Lehrer)'!AZ42)","v":""},{"$f":"IF('A) Eingabe (Lehrer)'!BA42=\"\", \"\",'A) Eingabe (Lehrer)'!BA42)","v":""},{"$f":"IF('A) Eingabe (Lehrer)'!BB42=\"\", \"\",'A) Eingabe (Lehrer)'!BB42)","v":""},{"$f":"IF('A) Eingabe (Lehrer)'!BC42=\"\", \"\",'A) Eingabe (Lehrer)'!BC42)","v":""},{"$f":"IF('A) Eingabe (Lehrer)'!BD42=\"\", \"\",'A) Eingabe (Lehrer)'!BD42)","v":""},{"$f":"IF('A) Eingabe (Lehrer)'!BE42=\"\", \"\",'A) Eingabe (Lehrer)'!BE42)","v":""},{"$f":"IF('A) Eingabe (Lehrer)'!BF42=\"\", \"\",'A) Eingabe (Lehrer)'!BF42)","v":""},{"$f":"IF('A) Eingabe (Lehrer)'!BG42=\"\", \"\",'A) Eingabe (Lehrer)'!BG42)","v":""},{"$f":"IF('A) Eingabe (Lehrer)'!BH42=\"\", \"\",'A) Eingabe (Lehrer)'!BH42)","v":""},{"$f":"IF('A) Eingabe (Lehrer)'!BI42=\"\", \"\",'A) Eingabe (Lehrer)'!BI42)","v":""},{"$f":"IF('A) Eingabe (Lehrer)'!BJ42=\"\", \"\",'A) Eingabe (Lehrer)'!BJ42)","v":""},{"$f":"IF('A) Eingabe (Lehrer)'!BK42=\"\", \"\",'A) Eingabe (Lehrer)'!BK42)","v":""}]
["Item 28",{"$f":"IF('A) Eingabe (Lehrer)'!C44=\"\", \"\",'A) Eingabe (Lehrer)'!C44)","v":""},{"$f":"IF('A) Eingabe (Lehrer)'!D44=\"\", \"\",'A) Eingabe (Lehrer)'!D44)","v":""},{"$f":"IF('A) Eingabe (Lehrer)'!E44=\"\", \"\",'A) Eingabe (Lehrer)'!E44)","v":""},{"$f":"IF('A) Eingabe (Lehrer)'!F44=\"\", \"\",'A) Eingabe (Lehrer)'!F44)","v":""},{"$f":"IF('A) Eingabe (Lehrer)'!G44=\"\", \"\",'A) Eingabe (Lehrer)'!G44)","v":""},{"$f":"IF('A) Eingabe (Lehrer)'!H44=\"\", \"\",'A) Eingabe (Lehrer)'!H44)","v":""},{"$f":"IF('A) Eingabe (Lehrer)'!I44=\"\", \"\",'A) Eingabe (Lehrer)'!I44)","v":""},{"$f":"IF('A) Eingabe (Lehrer)'!J44=\"\", \"\",'A) Eingabe (Lehrer)'!J44)","v":""},{"$f":"IF('A) Eingabe (Lehrer)'!K44=\"\", \"\",'A) Eingabe (Lehrer)'!K44)","v":""},{"$f":"IF('A) Eingabe (Lehrer)'!L44=\"\", \"\",'A) Eingabe (Lehrer)'!L44)","v":""},{"$f":"IF('A) Eingabe (Lehrer)'!M44=\"\", \"\",'A) Eingabe (Lehrer)'!M44)","v":""},{"$f":"IF('A) Eingabe (Lehrer)'!N44=\"\", \"\",'A) Eingabe (Lehrer)'!N44)","v":""},{"$f":"IF('A) Eingabe (Lehrer)'!O44=\"\", \"\",'A) Eingabe (Lehrer)'!O44)","v":""},{"$f":"IF('A) Eingabe (Lehrer)'!P44=\"\", \"\",'A) Eingabe (Lehrer)'!P44)","v":""},{"$f":"IF('A) Eingabe (Lehrer)'!Q44=\"\", \"\",'A) Eingabe (Lehrer)'!Q44)","v":""},{"$f":"IF('A) Eingabe (Lehrer)'!R44=\"\", \"\",'A) Eingabe (Lehrer)'!R44)","v":""},{"$f":"IF('A) Eingabe (Lehrer)'!S44=\"\", \"\",'A) Eingabe (Lehrer)'!S44)","v":""},{"$f":"IF('A) Eingabe (Lehrer)'!T44=\"\", \"\",'A) Eingabe (Lehrer)'!T44)","v":""},{"$f":"IF('A) Eingabe (Lehrer)'!U44=\"\", \"\",'A) Eingabe (Lehrer)'!U44)","v":""},{"$f":"IF('A) Eingabe (Lehrer)'!V44=\"\", \"\",'A) Eingabe (Lehrer)'!V44)","v":""},{"$f":"IF('A) Eingabe (Lehrer)'!W44=\"\", \"\",'A) Eingabe (Lehrer)'!W44)","v":""},{"$f":"IF('A) Eingabe (Lehrer)'!X44=\"\", \"\",'A) Eingabe (Lehrer)'!X44)","v":""},{"$f":"IF('A) Eingabe (Lehrer)'!Y44=\"\", \"\",'A) Eingabe (Lehrer)'!Y44)","v":""},{"$f":"IF('A) Eingabe (Lehrer)'!Z44=\"\", \"\",'A) Eingabe (Lehrer)'!Z44)","v":""},{"$f":"IF('A) Eingabe (Lehrer)'!AA44=\"\", \"\",'A) Eingabe (Lehrer)'!AA44)","v":""},{"$f":"IF('A) Eingabe (Lehrer)'!AB44=\"\", \"\",'A) Eingabe (Lehrer)'!AB44)","v":""},{"$f":"IF('A) Eingabe (Lehrer)'!AC44=\"\", \"\",'A) Eingabe (Lehrer)'!AC44)","v":""},{"$f":"IF('A) Eingabe (Lehrer)'!AD44=\"\", \"\",'A) Eingabe (Lehrer)'!AD44)","v":""},{"$f":"IF('A) Eingabe (Lehrer)'!AE44=\"\", \"\",'A) Eingabe (Lehrer)'!AE44)","v":""},{"$f":"IF('A) Eingabe (Lehrer)'!AF44=\"\", \"\",'A) Eingabe (Lehrer)'!AF44)","v":""},{"$f":"IF('A) Eingabe (Lehrer)'!AG44=\"\", \"\",'A) Eingabe (Lehrer)'!AG44)","v":""},{"$f":"IF('A) Eingabe (Lehrer)'!AH44=\"\", \"\",'A) Eingabe (Lehrer)'!AH44)","v":""},{"$f":"IF('A) Eingabe (Lehrer)'!AI44=\"\", \"\",'A) Eingabe (Lehrer)'!AI44)","v":""},{"$f":"IF('A) Eingabe (Lehrer)'!AJ44=\"\", \"\",'A) Eingabe (Lehrer)'!AJ44)","v":""},{"$f":"IF('A) Eingabe (Lehrer)'!AK44=\"\", \"\",'A) Eingabe (Lehrer)'!AK44)","v":""},{"$f":"IF('A) Eingabe (Lehrer)'!AL44=\"\", \"\",'A) Eingabe (Lehrer)'!AL44)","v":""},{"$f":"IF('A) Eingabe (Lehrer)'!AM44=\"\", \"\",'A) Eingabe (Lehrer)'!AM44)","v":""},{"$f":"IF('A) Eingabe (Lehrer)'!AN44=\"\", \"\",'A) Eingabe (Lehrer)'!AN44)","v":""},{"$f":"IF('A) Eingabe (Lehrer)'!AO44=\"\", \"\",'A) Eingabe (Lehrer)'!AO44)","v":""},{"$f":"IF('A) Eingabe (Lehrer)'!AP44=\"\", \"\",'A) Eingabe (Lehrer)'!AP44)","v":""},{"$f":"IF('A) Eingabe (Lehrer)'!AQ44=\"\", \"\",'A) Eingabe (Lehrer)'!AQ44)","v":""},{"$f":"IF('A) Eingabe (Lehrer)'!AR44=\"\", \"\",'A) Eingabe (Lehrer)'!AR44)","v":""},{"$f":"IF('A) Eingabe (Lehrer)'!AS44=\"\", \"\",'A) Eingabe (Lehrer)'!AS44)","v":""},{"$f":"IF('A) Eingabe (Lehrer)'!AT44=\"\", \"\",'A) Eingabe (Lehrer)'!AT44)","v":""},{"$f":"IF('A) Eingabe (Lehrer)'!AU44=\"\", \"\",'A) Eingabe (Lehrer)'!AU44)","v":""},{"$f":"IF('A) Eingabe (Lehrer)'!AV44=\"\", \"\",'A) Eingabe (Lehrer)'!AV44)","v":""},{"$f":"IF('A) Eingabe (Lehrer)'!AW44=\"\", \"\",'A) Eingabe (Lehrer)'!AW44)","v":""},{"$f":"IF('A) Eingabe (Lehrer)'!AX44=\"\", \"\",'A) Eingabe (Lehrer)'!AX44)","v":""},{"$f":"IF('A) Eingabe (Lehrer)'!AY44=\"\", \"\",'A) Eingabe (Lehrer)'!AY44)","v":""},{"$f":"IF('A) Eingabe (Lehrer)'!AZ44=\"\", \"\",'A) Eingabe (Lehrer)'!AZ44)","v":""},{"$f":"IF('A) Eingabe (Lehrer)'!BA44=\"\", \"\",'A) Eingabe (Lehrer)'!BA44)","v":""},{"$f":"IF('A) Eingabe (Lehrer)'!BB44=\"\", \"\",'A) Eingabe (Lehrer)'!BB44)","v":""},{"$f":"IF('A) Eingabe (Lehrer)'!BC44=\"\", \"\",'A) Eingabe (Lehrer)'!BC44)","v":""},{"$f":"IF('A) Eingabe (Lehrer)'!BD44=\"\", \"\",'A) Eingabe (Lehrer)'!BD44)","v":""},{"$f":"IF('A) Eingabe (Lehrer)'!BE44=\"\", \"\",'A) Eingabe (Lehrer)'!BE44)","v":""},{"$f":"IF('A) Eingabe (Lehrer)'!BF44=\"\", \"\",'A) Eingabe (Lehrer)'!BF44)","v":""},{"$f":"IF('A) Eingabe (Lehrer)'!BG44=\"\", \"\",'A) Eingabe (Lehrer)'!BG44)","v":""},{"$f":"IF('A) Eingabe (Lehrer)'!BH44=\"\", \"\",'A) Eingabe (Lehrer)'!BH44)","v":""},{"$f":"IF('A) Eingabe (Lehrer)'!BI44=\"\", \"\",'A) Eingabe (Lehrer)'!BI44)","v":""},{"$f":"IF('A) Eingabe (Lehrer)'!BJ44=\"\", \"\",'A) Eingabe (Lehrer)'!BJ44)","v":""},{"$f":"IF('A) Eingabe (Lehrer)'!BK44=\"\", \"\",'A) Eingabe (Lehrer)'!BK44)","v":""}]
["Item 29",{"$f":"IF('A) Eingabe (Lehrer)'!C45=\"\", \"\",'A) Eingabe (Lehrer)'!C45)","v":""},{"$f":"IF('A) Eingabe (Lehrer)'!D45=\"\", \"\",'A) Eingabe (Lehrer)'!D45)","v":""},{"$f":"IF('A) Eingabe (Lehrer)'!E45=\"\", \"\",'A) Eingabe (Lehrer)'!E45)","v":""},{"$f":"IF('A) Eingabe (Lehrer)'!F45=\"\", \"\",'A) Eingabe (Lehrer)'!F45)","v":""},{"$f":"IF('A) Eingabe (Lehrer)'!G45=\"\", \"\",'A) Eingabe (Lehrer)'!G45)","v":""},{"$f":"IF('A) Eingabe (Lehrer)'!H45=\"\", \"\",'A) Eingabe (Lehrer)'!H45)","v":""},{"$f":"IF('A) Eingabe (Lehrer)'!I45=\"\", \"\",'A) Eingabe (Lehrer)'!I45)","v":""},{"$f":"IF('A) Eingabe (Lehrer)'!J45=\"\", \"\",'A) Eingabe (Lehrer)'!J45)","v":""},{"$f":"IF('A) Eingabe (Lehrer)'!K45=\"\", \"\",'A) Eingabe (Lehrer)'!K45)","v":""},{"$f":"IF('A) Eingabe (Lehrer)'!L45=\"\", \"\",'A) Eingabe (Lehrer)'!L45)","v":""},{"$f":"IF('A) Eingabe (Lehrer)'!M45=\"\", \"\",'A) Eingabe (Lehrer)'!M45)","v":""},{"$f":"IF('A) Eingabe (Lehrer)'!N45=\"\", \"\",'A) Eingabe (Lehrer)'!N45)","v":""},{"$f":"IF('A) Eingabe (Lehrer)'!O45=\"\", \"\",'A) Eingabe (Lehrer)'!O45)","v":""},{"$f":"IF('A) Eingabe (Lehrer)'!P45=\"\", \"\",'A) Eingabe (Lehrer)'!P45)","v":""},{"$f":"IF('A) Eingabe (Lehrer)'!Q45=\"\", \"\",'A) Eingabe (Lehrer)'!Q45)","v":""},{"$f":"IF('A) Eingabe (Lehrer)'!R45=\"\", \"\",'A) Eingabe (Lehrer)'!R45)","v":""},{"$f":"IF('A) Eingabe (Lehrer)'!S45=\"\", \"\",'A) Eingabe (Lehrer)'!S45)","v":""},{"$f":"IF('A) Eingabe (Lehrer)'!T45=\"\", \"\",'A) Eingabe (Lehrer)'!T45)","v":""},{"$f":"IF('A) Eingabe (Lehrer)'!U45=\"\", \"\",'A) Eingabe (Lehrer)'!U45)","v":""},{"$f":"IF('A) Eingabe (Lehrer)'!V45=\"\", \"\",'A) Eingabe (Lehrer)'!V45)","v":""},{"$f":"IF('A) Eingabe (Lehrer)'!W45=\"\", \"\",'A) Eingabe (Lehrer)'!W45)","v":""},{"$f":"IF('A) Eingabe (Lehrer)'!X45=\"\", \"\",'A) Eingabe (Lehrer)'!X45)","v":""},{"$f":"IF('A) Eingabe (Lehrer)'!Y45=\"\", \"\",'A) Eingabe (Lehrer)'!Y45)","v":""},{"$f":"IF('A) Eingabe (Lehrer)'!Z45=\"\", \"\",'A) Eingabe (Lehrer)'!Z45)","v":""},{"$f":"IF('A) Eingabe (Lehrer)'!AA45=\"\", \"\",'A) Eingabe (Lehrer)'!AA45)","v":""},{"$f":"IF('A) Eingabe (Lehrer)'!AB45=\"\", \"\",'A) Eingabe (Lehrer)'!AB45)","v":""},{"$f":"IF('A) Eingabe (Lehrer)'!AC45=\"\", \"\",'A) Eingabe (Lehrer)'!AC45)","v":""},{"$f":"IF('A) Eingabe (Lehrer)'!AD45=\"\", \"\",'A) Eingabe (Lehrer)'!AD45)","v":""},{"$f":"IF('A) Eingabe (Lehrer)'!AE45=\"\", \"\",'A) Eingabe (Lehrer)'!AE45)","v":""},{"$f":"IF('A) Eingabe (Lehrer)'!AF45=\"\", \"\",'A) Eingabe (Lehrer)'!AF45)","v":""},{"$f":"IF('A) Eingabe (Lehrer)'!AG45=\"\", \"\",'A) Eingabe (Lehrer)'!AG45)","v":""},{"$f":"IF('A) Eingabe (Lehrer)'!AH45=\"\", \"\",'A) Eingabe (Lehrer)'!AH45)","v":""},{"$f":"IF('A) Eingabe (Lehrer)'!AI45=\"\", \"\",'A) Eingabe (Lehrer)'!AI45)","v":""},{"$f":"IF('A) Eingabe (Lehrer)'!AJ45=\"\", \"\",'A) Eingabe (Lehrer)'!AJ45)","v":""},{"$f":"IF('A) Eingabe (Lehrer)'!AK45=\"\", \"\",'A) Eingabe (Lehrer)'!AK45)","v":""},{"$f":"IF('A) Eingabe (Lehrer)'!AL45=\"\", \"\",'A) Eingabe (Lehrer)'!AL45)","v":""},{"$f":"IF('A) Eingabe (Lehrer)'!AM45=\"\", \"\",'A) Eingabe (Lehrer)'!AM45)","v":""},{"$f":"IF('A) Eingabe (Lehrer)'!AN45=\"\", \"\",'A) Eingabe (Lehrer)'!AN45)","v":""},{"$f":"IF('A) Eingabe (Lehrer)'!AO45=\"\", \"\",'A) Eingabe (Lehrer)'!AO45)","v":""},{"$f":"IF('A) Eingabe (Lehrer)'!AP45=\"\", \"\",'A) Eingabe (Lehrer)'!AP45)","v":""},{"$f":"IF('A) Eingabe (Lehrer)'!AQ45=\"\", \"\",'A) Eingabe (Lehrer)'!AQ45)","v":""},{"$f":"IF('A) Eingabe (Lehrer)'!AR45=\"\", \"\",'A) Eingabe (Lehrer)'!AR45)","v":""},{"$f":"IF('A) Eingabe (Lehrer)'!AS45=\"\", \"\",'A) Eingabe (Lehrer)'!AS45)","v":""},{"$f":"IF('A) Eingabe (Lehrer)'!AT45=\"\", \"\",'A) Eingabe (Lehrer)'!AT45)","v":""},{"$f":"IF('A) Eingabe (Lehrer)'!AU45=\"\", \"\",'A) Eingabe (Lehrer)'!AU45)","v":""},{"$f":"IF('A) Eingabe (Lehrer)'!AV45=\"\", \"\",'A) Eingabe (Lehrer)'!AV45)","v":""},{"$f":"IF('A) Eingabe (Lehrer)'!AW45=\"\", \"\",'A) Eingabe (Lehrer)'!AW45)","v":""},{"$f":"IF('A) Eingabe (Lehrer)'!AX45=\"\", \"\",'A) Eingabe (Lehrer)'!AX45)","v":""},{"$f":"IF('A) Eingabe (Lehrer)'!AY45=\"\", \"\",'A) Eingabe (Lehrer)'!AY45)","v":""},{"$f":"IF('A) Eingabe (Lehrer)'!AZ45=\"\", \"\",'A) Eingabe (Lehrer)'!AZ45)","v":""},{"$f":"IF('A) Eingabe (Lehrer)'!BA45=\"\", \"\",'A) Eingabe (Lehrer)'!BA45)","v":""},{"$f":"IF('A) Eingabe (Lehrer)'!BB45=\"\", \"\",'A) Eingabe (Lehrer)'!BB45)","v":""},{"$f":"IF('A) Eingabe (Lehrer)'!BC45=\"\", \"\",'A) Eingabe (Lehrer)'!BC45)","v":""},{"$f":"IF('A) Eingabe (Lehrer)'!BD45=\"\", \"\",'A) Eingabe (Lehrer)'!BD45)","v":""},{"$f":"IF('A) Eingabe (Lehrer)'!BE45=\"\", \"\",'A) Eingabe (Lehrer)'!BE45)","v":""},{"$f":"IF('A) Eingabe (Lehrer)'!BF45=\"\", \"\",'A) Eingabe (Lehrer)'!BF45)","v":""},{"$f":"IF('A) Eingabe (Lehrer)'!BG45=\"\", \"\",'A) Eingabe (Lehrer)'!BG45)","v":""},{"$f":"IF('A) Eingabe (Lehrer)'!BH45=\"\", \"\",'A) Eingabe (Lehrer)'!BH45)","v":""},{"$f":"IF('A) Eingabe (Lehrer)'!BI45=\"\", \"\",'A) Eingabe (Lehrer)'!BI45)","v":""},{"$f":"IF('A) Eingabe (Lehrer)'!BJ45=\"\", \"\",'A) Eingabe (Lehrer)'!BJ45)","v":""},{"$f":"IF('A) Eingabe (Lehrer)'!BK45=\"\", \"\",'A) Eingabe (Lehrer)'!BK45)","v":""}]
["Item 30",{"$f":"IF('A) Eingabe (Lehrer)'!C46=\"\", \"\",'A) Eingabe (Lehrer)'!C46)","v":""},{"$f":"IF('A) Eingabe (Lehrer)'!D46=\"\", \"\",'A) Eingabe (Lehrer)'!D46)","v":""},{"$f":"IF('A) Eingabe (Lehrer)'!E46=\"\", \"\",'A) Eingabe (Lehrer)'!E46)","v":""},{"$f":"IF('A) Eingabe (Lehrer)'!F46=\"\", \"\",'A) Eingabe (Lehrer)'!F46)","v":""},{"$f":"IF('A) Eingabe (Lehrer)'!G46=\"\", \"\",'A) Eingabe (Lehrer)'!G46)","v":""},{"$f":"IF('A) Eingabe (Lehrer)'!H46=\"\", \"\",'A) Eingabe (Lehrer)'!H46)","v":""},{"$f":"IF('A) Eingabe (Lehrer)'!I46=\"\", \"\",'A) Eingabe (Lehrer)'!I46)","v":""},{"$f":"IF('A) Eingabe (Lehrer)'!J46=\"\", \"\",'A) Eingabe (Lehrer)'!J46)","v":""},{"$f":"IF('A) Eingabe (Lehrer)'!K46=\"\", \"\",'A) Eingabe (Lehrer)'!K46)","v":""},{"$f":"IF('A) Eingabe (Lehrer)'!L46=\"\", \"\",'A) Eingabe (Lehrer)'!L46)","v":""},{"$f":"IF('A) Eingabe (Lehrer)'!M46=\"\", \"\",'A) Eingabe (Lehrer)'!M46)","v":""},{"$f":"IF('A) Eingabe (Lehrer)'!N46=\"\", \"\",'A) Eingabe (Lehrer)'!N46)","v":""},{"$f":"IF('A) Eingabe (Lehrer)'!O46=\"\", \"\",'A) Eingabe (Lehrer)'!O46)","v":""},{"$f":"IF('A) Eingabe (Lehrer)'!P46=\"\", \"\",'A) Eingabe (Lehrer)'!P46)","v":""},{"$f":"IF('A) Eingabe (Lehrer)'!Q46=\"\", \"\",'A) Eingabe (Lehrer)'!Q46)","v":""},{"$f":"IF('A) Eingabe (Lehrer)'!R46=\"\", \"\",'A) Eingabe (Lehrer)'!R46)","v":""},{"$f":"IF('A) Eingabe (Lehrer)'!S46=\"\", \"\",'A) Eingabe (Lehrer)'!S46)","v":""},{"$f":"IF('A) Eingabe (Lehrer)'!T46=\"\", \"\",'A) Eingabe (Lehrer)'!T46)","v":""},{"$f":"IF('A) Eingabe (Lehrer)'!U46=\"\", \"\",'A) Eingabe (Lehrer)'!U46)","v":""},{"$f":"IF('A) Eingabe (Lehrer)'!V46=\"\", \"\",'A) Eingabe (Lehrer)'!V46)","v":""},{"$f":"IF('A) Eingabe (Lehrer)'!W46=\"\", \"\",'A) Eingabe (Lehrer)'!W46)","v":""},{"$f":"IF('A) Eingabe (Lehrer)'!X46=\"\", \"\",'A) Eingabe (Lehrer)'!X46)","v":""},{"$f":"IF('A) Eingabe (Lehrer)'!Y46=\"\", \"\",'A) Eingabe (Lehrer)'!Y46)","v":""},{"$f":"IF('A) Eingabe (Lehrer)'!Z46=\"\", \"\",'A) Eingabe (Lehrer)'!Z46)","v":""},{"$f":"IF('A) Eingabe (Lehrer)'!AA46=\"\", \"\",'A) Eingabe (Lehrer)'!AA46)","v":""},{"$f":"IF('A) Eingabe (Lehrer)'!AB46=\"\", \"\",'A) Eingabe (Lehrer)'!AB46)","v":""},{"$f":"IF('A) Eingabe (Lehrer)'!AC46=\"\", \"\",'A) Eingabe (Lehrer)'!AC46)","v":""},{"$f":"IF('A) Eingabe (Lehrer)'!AD46=\"\", \"\",'A) Eingabe (Lehrer)'!AD46)","v":""},{"$f":"IF('A) Eingabe (Lehrer)'!AE46=\"\", \"\",'A) Eingabe (Lehrer)'!AE46)","v":""},{"$f":"IF('A) Eingabe (Lehrer)'!AF46=\"\", \"\",'A) Eingabe (Lehrer)'!AF46)","v":""},{"$f":"IF('A) Eingabe (Lehrer)'!AG46=\"\", \"\",'A) Eingabe (Lehrer)'!AG46)","v":""},{"$f":"IF('A) Eingabe (Lehrer)'!AH46=\"\", \"\",'A) Eingabe (Lehrer)'!AH46)","v":""},{"$f":"IF('A) Eingabe (Lehrer)'!AI46=\"\", \"\",'A) Eingabe (Lehrer)'!AI46)","v":""},{"$f":"IF('A) Eingabe (Lehrer)'!AJ46=\"\", \"\",'A) Eingabe (Lehrer)'!AJ46)","v":""},{"$f":"IF('A) Eingabe (Lehrer)'!AK46=\"\", \"\",'A) Eingabe (Lehrer)'!AK46)","v":""},{"$f":"IF('A) Eingabe (Lehrer)'!AL46=\"\", \"\",'A) Eingabe (Lehrer)'!AL46)","v":""},{"$f":"IF('A) Eingabe (Lehrer)'!AM46=\"\", \"\",'A) Eingabe (Lehrer)'!AM46)","v":""},{"$f":"IF('A) Eingabe (Lehrer)'!AN46=\"\", \"\",'A) Eingabe (Lehrer)'!AN46)","v":""},{"$f":"IF('A) Eingabe (Lehrer)'!AO46=\"\", \"\",'A) Eingabe (Lehrer)'!AO46)","v":""},{"$f":"IF('A) Eingabe (Lehrer)'!AP46=\"\", \"\",'A) Eingabe (Lehrer)'!AP46)","v":""},{"$f":"IF('A) Eingabe (Lehrer)'!AQ46=\"\", \"\",'A) Eingabe (Lehrer)'!AQ46)","v":""},{"$f":"IF('A) Eingabe (Lehrer)'!AR46=\"\", \"\",'A) Eingabe (Lehrer)'!AR46)","v":""},{"$f":"IF('A) Eingabe (Lehrer)'!AS46=\"\", \"\",'A) Eingabe (Lehrer)'!AS46)","v":""},{"$f":"IF('A) Eingabe (Lehrer)'!AT46=\"\", \"\",'A) Eingabe (Lehrer)'!AT46)","v":""},{"$f":"IF('A) Eingabe (Lehrer)'!AU46=\"\", \"\",'A) Eingabe (Lehrer)'!AU46)","v":""},{"$f":"IF('A) Eingabe (Lehrer)'!AV46=\"\", \"\",'A) Eingabe (Lehrer)'!AV46)","v":""},{"$f":"IF('A) Eingabe (Lehrer)'!AW46=\"\", \"\",'A) Eingabe (Lehrer)'!AW46)","v":""},{"$f":"IF('A) Eingabe (Lehrer)'!AX46=\"\", \"\",'A) Eingabe (Lehrer)'!AX46)","v":""},{"$f":"IF('A) Eingabe (Lehrer)'!AY46=\"\", \"\",'A) Eingabe (Lehrer)'!AY46)","v":""},{"$f":"IF('A) Eingabe (Lehrer)'!AZ46=\"\", \"\",'A) Eingabe (Lehrer)'!AZ46)","v":""},{"$f":"IF('A) Eingabe (Lehrer)'!BA46=\"\", \"\",'A) Eingabe (Lehrer)'!BA46)","v":""},{"$f":"IF('A) Eingabe (Lehrer)'!BB46=\"\", \"\",'A) Eingabe (Lehrer)'!BB46)","v":""},{"$f":"IF('A) Eingabe (Lehrer)'!BC46=\"\", \"\",'A) Eingabe (Lehrer)'!BC46)","v":""},{"$f":"IF('A) Eingabe (Lehrer)'!BD46=\"\", \"\",'A) Eingabe (Lehrer)'!BD46)","v":""},{"$f":"IF('A) Eingabe (Lehrer)'!BE46=\"\", \"\",'A) Eingabe (Lehrer)'!BE46)","v":""},{"$f":"IF('A) Eingabe (Lehrer)'!BF46=\"\", \"\",'A) Eingabe (Lehrer)'!BF46)","v":""},{"$f":"IF('A) Eingabe (Lehrer)'!BG46=\"\", \"\",'A) Eingabe (Lehrer)'!BG46)","v":""},{"$f":"IF('A) Eingabe (Lehrer)'!BH46=\"\", \"\",'A) Eingabe (Lehrer)'!BH46)","v":""},{"$f":"IF('A) Eingabe (Lehrer)'!BI46=\"\", \"\",'A) Eingabe (Lehrer)'!BI46)","v":""},{"$f":"IF('A) Eingabe (Lehrer)'!BJ46=\"\", \"\",'A) Eingabe (Lehrer)'!BJ46)","v":""},{"$f":"IF('A) Eingabe (Lehrer)'!BK46=\"\", \"\",'A) Eingabe (Lehrer)'!BK46)","v":""}]
["Item 31",{"$f":"IF('A) Eingabe (Lehrer)'!C47=\"\", \"\",'A) Eingabe (Lehrer)'!C47)","v":""},{"$f":"IF('A) Eingabe (Lehrer)'!D47=\"\", \"\",'A) Eingabe (Lehrer)'!D47)","v":""},{"$f":"IF('A) Eingabe (Lehrer)'!E47=\"\", \"\",'A) Eingabe (Lehrer)'!E47)","v":""},{"$f":"IF('A) Eingabe (Lehrer)'!F47=\"\", \"\",'A) Eingabe (Lehrer)'!F47)","v":""},{"$f":"IF('A) Eingabe (Lehrer)'!G47=\"\", \"\",'A) Eingabe (Lehrer)'!G47)","v":""},{"$f":"IF('A) Eingabe (Lehrer)'!H47=\"\", \"\",'A) Eingabe (Lehrer)'!H47)","v":""},{"$f":"IF('A) Eingabe (Lehrer)'!I47=\"\", \"\",'A) Eingabe (Lehrer)'!I47)","v":""},{"$f":"IF('A) Eingabe (Lehrer)'!J47=\"\", \"\",'A) Eingabe (Lehrer)'!J47)","v":""},{"$f":"IF('A) Eingabe (Lehrer)'!K47=\"\", \"\",'A) Eingabe (Lehrer)'!K47)","v":""},{"$f":"IF('A) Eingabe (Lehrer)'!L47=\"\", \"\",'A) Eingabe (Lehrer)'!L47)","v":""},{"$f":"IF('A) Eingabe (Lehrer)'!M47=\"\", \"\",'A) Eingabe (Lehrer)'!M47)","v":""},{"$f":"IF('A) Eingabe (Lehrer)'!N47=\"\", \"\",'A) Eingabe (Lehrer)'!N47)","v":""},{"$f":"IF('A) Eingabe (Lehrer)'!O47=\"\", \"\",'A) Eingabe (Lehrer)'!O47)","v":""},{"$f":"IF('A) Eingabe (Lehrer)'!P47=\"\", \"\",'A) Eingabe (Lehrer)'!P47)","v":""},{"$f":"IF('A) Eingabe (Lehrer)'!Q47=\"\", \"\",'A) Eingabe (Lehrer)'!Q47)","v":""},{"$f":"IF('A) Eingabe (Lehrer)'!R47=\"\", \"\",'A) Eingabe (Lehrer)'!R47)","v":""},{"$f":"IF('A) Eingabe (Lehrer)'!S47=\"\", \"\",'A) Eingabe (Lehrer)'!S47)","v":""},{"$f":"IF('A) Eingabe (Lehrer)'!T47=\"\", \"\",'A) Eingabe (Lehrer)'!T47)","v":""},{"$f":"IF('A) Eingabe (Lehrer)'!U47=\"\", \"\",'A) Eingabe (Lehrer)'!U47)","v":""},{"$f":"IF('A) Eingabe (Lehrer)'!V47=\"\", \"\",'A) Eingabe (Lehrer)'!V47)","v":""},{"$f":"IF('A) Eingabe (Lehrer)'!W47=\"\", \"\",'A) Eingabe (Lehrer)'!W47)","v":""},{"$f":"IF('A) Eingabe (Lehrer)'!X47=\"\", \"\",'A) Eingabe (Lehrer)'!X47)","v":""},{"$f":"IF('A) Eingabe (Lehrer)'!Y47=\"\", \"\",'A) Eingabe (Lehrer)'!Y47)","v":""},{"$f":"IF('A) Eingabe (Lehrer)'!Z47=\"\", \"\",'A) Eingabe (Lehrer)'!Z47)","v":""},{"$f":"IF('A) Eingabe (Lehrer)'!AA47=\"\", \"\",'A) Eingabe (Lehrer)'!AA47)","v":""},{"$f":"IF('A) Eingabe (Lehrer)'!AB47=\"\", \"\",'A) Eingabe (Lehrer)'!AB47)","v":""},{"$f":"IF('A) Eingabe (Lehrer)'!AC47=\"\", \"\",'A) Eingabe (Lehrer)'!AC47)","v":""},{"$f":"IF('A) Eingabe (Lehrer)'!AD47=\"\", \"\",'A) Eingabe (Lehrer)'!AD47)","v":""},{"$f":"IF('A) Eingabe (Lehrer)'!AE47=\"\", \"\",'A) Eingabe (Lehrer)'!AE47)","v":""},{"$f":"IF('A) Eingabe (Lehrer)'!AF47=\"\", \"\",'A) Eingabe (Lehrer)'!AF47)","v":""},{"$f":"IF('A) Eingabe (Lehrer)'!AG47=\"\", \"\",'A) Eingabe (Lehrer)'!AG47)","v":""},{"$f":"IF('A) Eingabe (Lehrer)'!AH47=\"\", \"\",'A) Eingabe (Lehrer)'!AH47)","v":""},{"$f":"IF('A) Eingabe (Lehrer)'!AI47=\"\", \"\",'A) Eingabe (Lehrer)'!AI47)","v":""},{"$f":"IF('A) Eingabe (Lehrer)'!AJ47=\"\", \"\",'A) Eingabe (Lehrer)'!AJ47)","v":""},{"$f":"IF('A) Eingabe (Lehrer)'!AK47=\"\", \"\",'A) Eingabe (Lehrer)'!AK47)","v":""},{"$f":"IF('A) Eingabe (Lehrer)'!AL47=\"\", \"\",'A) Eingabe (Lehrer)'!AL47)","v":""},{"$f":"IF('A) Eingabe (Lehrer)'!AM47=\"\", \"\",'A) Eingabe (Lehrer)'!AM47)","v":""},{"$f":"IF('A) Eingabe (Lehrer)'!AN47=\"\", \"\",'A) Eingabe (Lehrer)'!AN47)","v":""},{"$f":"IF('A) Eingabe (Lehrer)'!AO47=\"\", \"\",'A) Eingabe (Lehrer)'!AO47)","v":""},{"$f":"IF('A) Eingabe (Lehrer)'!AP47=\"\", \"\",'A) Eingabe (Lehrer)'!AP47)","v":""},{"$f":"IF('A) Eingabe (Lehrer)'!AQ47=\"\", \"\",'A) Eingabe (Lehrer)'!AQ47)","v":""},{"$f":"IF('A) Eingabe (Lehrer)'!AR47=\"\", \"\",'A) Eingabe (Lehrer)'!AR47)","v":""},{"$f":"IF('A) Eingabe (Lehrer)'!AS47=\"\", \"\",'A) Eingabe (Lehrer)'!AS47)","v":""},{"$f":"IF('A) Eingabe (Lehrer)'!AT47=\"\", \"\",'A) Eingabe (Lehrer)'!AT47)","v":""},{"$f":"IF('A) Eingabe (Lehrer)'!AU47=\"\", \"\",'A) Eingabe (Lehrer)'!AU47)","v":""},{"$f":"IF('A) Eingabe (Lehrer)'!AV47=\"\", \"\",'A) Eingabe (Lehrer)'!AV47)","v":""},{"$f":"IF('A) Eingabe (Lehrer)'!AW47=\"\", \"\",'A) Eingabe (Lehrer)'!AW47)","v":""},{"$f":"IF('A) Eingabe (Lehrer)'!AX47=\"\", \"\",'A) Eingabe (Lehrer)'!AX47)","v":""},{"$f":"IF('A) Eingabe (Lehrer)'!AY47=\"\", \"\",'A) Eingabe (Lehrer)'!AY47)","v":""},{"$f":"IF('A) Eingabe (Lehrer)'!AZ47=\"\", \"\",'A) Eingabe (Lehrer)'!AZ47)","v":""},{"$f":"IF('A) Eingabe (Lehrer)'!BA47=\"\", \"\",'A) Eingabe (Lehrer)'!BA47)","v":""},{"$f":"IF('A) Eingabe (Lehrer)'!BB47=\"\", \"\",'A) Eingabe (Lehrer)'!BB47)","v":""},{"$f":"IF('A) Eingabe (Lehrer)'!BC47=\"\", \"\",'A) Eingabe (Lehrer)'!BC47)","v":""},{"$f":"IF('A) Eingabe (Lehrer)'!BD47=\"\", \"\",'A) Eingabe (Lehrer)'!BD47)","v":""},{"$f":"IF('A) Eingabe (Lehrer)'!BE47=\"\", \"\",'A) Eingabe (Lehrer)'!BE47)","v":""},{"$f":"IF('A) Eingabe (Lehrer)'!BF47=\"\", \"\",'A) Eingabe (Lehrer)'!BF47)","v":""},{"$f":"IF('A) Eingabe (Lehrer)'!BG47=\"\", \"\",'A) Eingabe (Lehrer)'!BG47)","v":""},{"$f":"IF('A) Eingabe (Lehrer)'!BH47=\"\", \"\",'A) Eingabe (Lehrer)'!BH47)","v":""},{"$f":"IF('A) Eingabe (Lehrer)'!BI47=\"\", \"\",'A) Eingabe (Lehrer)'!BI47)","v":""},{"$f":"IF('A) Eingabe (Lehrer)'!BJ47=\"\", \"\",'A) Eingabe (Lehrer)'!BJ47)","v":""},{"$f":"IF('A) Eingabe (Lehrer)'!BK47=\"\", \"\",'A) Eingabe (Lehrer)'!BK47)","v":""}]
["Item 32",{"$f":"IF('A) Eingabe (Lehrer)'!C48=\"\", \"\",'A) Eingabe (Lehrer)'!C48)","v":""},{"$f":"IF('A) Eingabe (Lehrer)'!D48=\"\", \"\",'A) Eingabe (Lehrer)'!D48)","v":""},{"$f":"IF('A) Eingabe (Lehrer)'!E48=\"\", \"\",'A) Eingabe (Lehrer)'!E48)","v":""},{"$f":"IF('A) Eingabe (Lehrer)'!F48=\"\", \"\",'A) Eingabe (Lehrer)'!F48)","v":""},{"$f":"IF('A) Eingabe (Lehrer)'!G48=\"\", \"\",'A) Eingabe (Lehrer)'!G48)","v":""},{"$f":"IF('A) Eingabe (Lehrer)'!H48=\"\", \"\",'A) Eingabe (Lehrer)'!H48)","v":""},{"$f":"IF('A) Eingabe (Lehrer)'!I48=\"\", \"\",'A) Eingabe (Lehrer)'!I48)","v":""},{"$f":"IF('A) Eingabe (Lehrer)'!J48=\"\", \"\",'A) Eingabe (Lehrer)'!J48)","v":""},{"$f":"IF('A) Eingabe (Lehrer)'!K48=\"\", \"\",'A) Eingabe (Lehrer)'!K48)","v":""},{"$f":"IF('A) Eingabe (Lehrer)'!L48=\"\", \"\",'A) Eingabe (Lehrer)'!L48)","v":""},{"$f":"IF('A) Eingabe (Lehrer)'!M48=\"\", \"\",'A) Eingabe (Lehrer)'!M48)","v":""},{"$f":"IF('A) Eingabe (Lehrer)'!N48=\"\", \"\",'A) Eingabe (Lehrer)'!N48)","v":""},{"$f":"IF('A) Eingabe (Lehrer)'!O48=\"\", \"\",'A) Eingabe (Lehrer)'!O48)","v":""},{"$f":"IF('A) Eingabe (Lehrer)'!P48=\"\", \"\",'A) Eingabe (Lehrer)'!P48)","v":""},{"$f":"IF('A) Eingabe (Lehrer)'!Q48=\"\", \"\",'A) Eingabe (Lehrer)'!Q48)","v":""},{"$f":"IF('A) Eingabe (Lehrer)'!R48=\"\", \"\",'A) Eingabe (Lehrer)'!R48)","v":""},{"$f":"IF('A) Eingabe (Lehrer)'!S48=\"\", \"\",'A) Eingabe (Lehrer)'!S48)","v":""},{"$f":"IF('A) Eingabe (Lehrer)'!T48=\"\", \"\",'A) Eingabe (Lehrer)'!T48)","v":""},{"$f":"IF('A) Eingabe (Lehrer)'!U48=\"\", \"\",'A) Eingabe (Lehrer)'!U48)","v":""},{"$f":"IF('A) Eingabe (Lehrer)'!V48=\"\", \"\",'A) Eingabe (Lehrer)'!V48)","v":""},{"$f":"IF('A) Eingabe (Lehrer)'!W48=\"\", \"\",'A) Eingabe (Lehrer)'!W48)","v":""},{"$f":"IF('A) Eingabe (Lehrer)'!X48=\"\", \"\",'A) Eingabe (Lehrer)'!X48)","v":""},{"$f":"IF('A) Eingabe (Lehrer)'!Y48=\"\", \"\",'A) Eingabe (Lehrer)'!Y48)","v":""},{"$f":"IF('A) Eingabe (Lehrer)'!Z48=\"\", \"\",'A) Eingabe (Lehrer)'!Z48)","v":""},{"$f":"IF('A) Eingabe (Lehrer)'!AA48=\"\", \"\",'A) Eingabe (Lehrer)'!AA48)","v":""},{"$f":"IF('A) Eingabe (Lehrer)'!AB48=\"\", \"\",'A) Eingabe (Lehrer)'!AB48)","v":""},{"$f":"IF('A) Eingabe (Lehrer)'!AC48=\"\", \"\",'A) Eingabe (Lehrer)'!AC48)","v":""},{"$f":"IF('A) Eingabe (Lehrer)'!AD48=\"\", \"\",'A) Eingabe (Lehrer)'!AD48)","v":""},{"$f":"IF('A) Eingabe (Lehrer)'!AE48=\"\", \"\",'A) Eingabe (Lehrer)'!AE48)","v":""},{"$f":"IF('A) Eingabe (Lehrer)'!AF48=\"\", \"\",'A) Eingabe (Lehrer)'!AF48)","v":""},{"$f":"IF('A) Eingabe (Lehrer)'!AG48=\"\", \"\",'A) Eingabe (Lehrer)'!AG48)","v":""},{"$f":"IF('A) Eingabe (Lehrer)'!AH48=\"\", \"\",'A) Eingabe (Lehrer)'!AH48)","v":""},{"$f":"IF('A) Eingabe (Lehrer)'!AI48=\"\", \"\",'A) Eingabe (Lehrer)'!AI48)","v":""},{"$f":"IF('A) Eingabe (Lehrer)'!AJ48=\"\", \"\",'A) Eingabe (Lehrer)'!AJ48)","v":""},{"$f":"IF('A) Eingabe (Lehrer)'!AK48=\"\", \"\",'A) Eingabe (Lehrer)'!AK48)","v":""},{"$f":"IF('A) Eingabe (Lehrer)'!AL48=\"\", \"\",'A) Eingabe (Lehrer)'!AL48)","v":""},{"$f":"IF('A) Eingabe (Lehrer)'!AM48=\"\", \"\",'A) Eingabe (Lehrer)'!AM48)","v":""},{"$f":"IF('A) Eingabe (Lehrer)'!AN48=\"\", \"\",'A) Eingabe (Lehrer)'!AN48)","v":""},{"$f":"IF('A) Eingabe (Lehrer)'!AO48=\"\", \"\",'A) Eingabe (Lehrer)'!AO48)","v":""},{"$f":"IF('A) Eingabe (Lehrer)'!AP48=\"\", \"\",'A) Eingabe (Lehrer)'!AP48)","v":""},{"$f":"IF('A) Eingabe (Lehrer)'!AQ48=\"\", \"\",'A) Eingabe (Lehrer)'!AQ48)","v":""},{"$f":"IF('A) Eingabe (Lehrer)'!AR48=\"\", \"\",'A) Eingabe (Lehrer)'!AR48)","v":""},{"$f":"IF('A) Eingabe (Lehrer)'!AS48=\"\", \"\",'A) Eingabe (Lehrer)'!AS48)","v":""},{"$f":"IF('A) Eingabe (Lehrer)'!AT48=\"\", \"\",'A) Eingabe (Lehrer)'!AT48)","v":""},{"$f":"IF('A) Eingabe (Lehrer)'!AU48=\"\", \"\",'A) Eingabe (Lehrer)'!AU48)","v":""},{"$f":"IF('A) Eingabe (Lehrer)'!AV48=\"\", \"\",'A) Eingabe (Lehrer)'!AV48)","v":""},{"$f":"IF('A) Eingabe (Lehrer)'!AW48=\"\", \"\",'A) Eingabe (Lehrer)'!AW48)","v":""},{"$f":"IF('A) Eingabe (Lehrer)'!AX48=\"\", \"\",'A) Eingabe (Lehrer)'!AX48)","v":""},{"$f":"IF('A) Eingabe (Lehrer)'!AY48=\"\", \"\",'A) Eingabe (Lehrer)'!AY48)","v":""},{"$f":"IF('A) Eingabe (Lehrer)'!AZ48=\"\", \"\",'A) Eingabe (Lehrer)'!AZ48)","v":""},{"$f":"IF('A) Eingabe (Lehrer)'!BA48=\"\", \"\",'A) Eingabe (Lehrer)'!BA48)","v":""},{"$f":"IF('A) Eingabe (Lehrer)'!BB48=\"\", \"\",'A) Eingabe (Lehrer)'!BB48)","v":""},{"$f":"IF('A) Eingabe (Lehrer)'!BC48=\"\", \"\",'A) Eingabe (Lehrer)'!BC48)","v":""},{"$f":"IF('A) Eingabe (Lehrer)'!BD48=\"\", \"\",'A) Eingabe (Lehrer)'!BD48)","v":""},{"$f":"IF('A) Eingabe (Lehrer)'!BE48=\"\", \"\",'A) Eingabe (Lehrer)'!BE48)","v":""},{"$f":"IF('A) Eingabe (Lehrer)'!BF48=\"\", \"\",'A) Eingabe (Lehrer)'!BF48)","v":""},{"$f":"IF('A) Eingabe (Lehrer)'!BG48=\"\", \"\",'A) Eingabe (Lehrer)'!BG48)","v":""},{"$f":"IF('A) Eingabe (Lehrer)'!BH48=\"\", \"\",'A) Eingabe (Lehrer)'!BH48)","v":""},{"$f":"IF('A) Eingabe (Lehrer)'!BI48=\"\", \"\",'A) Eingabe (Lehrer)'!BI48)","v":""},{"$f":"IF('A) Eingabe (Lehrer)'!BJ48=\"\", \"\",'A) Eingabe (Lehrer)'!BJ48)","v":""},{"$f":"IF('A) Eingabe (Lehrer)'!BK48=\"\", \"\",'A) Eingabe (Lehrer)'!BK48)","v":""}]
["Item 33",{"$f":"IF('A) Eingabe (Lehrer)'!C49=\"\", \"\",'A) Eingabe (Lehrer)'!C49)","v":""},{"$f":"IF('A) Eingabe (Lehrer)'!D49=\"\", \"\",'A) Eingabe (Lehrer)'!D49)","v":""},{"$f":"IF('A) Eingabe (Lehrer)'!E49=\"\", \"\",'A) Eingabe (Lehrer)'!E49)","v":""},{"$f":"IF('A) Eingabe (Lehrer)'!F49=\"\", \"\",'A) Eingabe (Lehrer)'!F49)","v":""},{"$f":"IF('A) Eingabe (Lehrer)'!G49=\"\", \"\",'A) Eingabe (Lehrer)'!G49)","v":""},{"$f":"IF('A) Eingabe (Lehrer)'!H49=\"\", \"\",'A) Eingabe (Lehrer)'!H49)","v":""},{"$f":"IF('A) Eingabe (Lehrer)'!I49=\"\", \"\",'A) Eingabe (Lehrer)'!I49)","v":""},{"$f":"IF('A) Eingabe (Lehrer)'!J49=\"\", \"\",'A) Eingabe (Lehrer)'!J49)","v":""},{"$f":"IF('A) Eingabe (Lehrer)'!K49=\"\", \"\",'A) Eingabe (Lehrer)'!K49)","v":""},{"$f":"IF('A) Eingabe (Lehrer)'!L49=\"\", \"\",'A) Eingabe (Lehrer)'!L49)","v":""},{"$f":"IF('A) Eingabe (Lehrer)'!M49=\"\", \"\",'A) Eingabe (Lehrer)'!M49)","v":""},{"$f":"IF('A) Eingabe (Lehrer)'!N49=\"\", \"\",'A) Eingabe (Lehrer)'!N49)","v":""},{"$f":"IF('A) Eingabe (Lehrer)'!O49=\"\", \"\",'A) Eingabe (Lehrer)'!O49)","v":""},{"$f":"IF('A) Eingabe (Lehrer)'!P49=\"\", \"\",'A) Eingabe (Lehrer)'!P49)","v":""},{"$f":"IF('A) Eingabe (Lehrer)'!Q49=\"\", \"\",'A) Eingabe (Lehrer)'!Q49)","v":""},{"$f":"IF('A) Eingabe (Lehrer)'!R49=\"\", \"\",'A) Eingabe (Lehrer)'!R49)","v":""},{"$f":"IF('A) Eingabe (Lehrer)'!S49=\"\", \"\",'A) Eingabe (Lehrer)'!S49)","v":""},{"$f":"IF('A) Eingabe (Lehrer)'!T49=\"\", \"\",'A) Eingabe (Lehrer)'!T49)","v":""},{"$f":"IF('A) Eingabe (Lehrer)'!U49=\"\", \"\",'A) Eingabe (Lehrer)'!U49)","v":""},{"$f":"IF('A) Eingabe (Lehrer)'!V49=\"\", \"\",'A) Eingabe (Lehrer)'!V49)","v":""},{"$f":"IF('A) Eingabe (Lehrer)'!W49=\"\", \"\",'A) Eingabe (Lehrer)'!W49)","v":""},{"$f":"IF('A) Eingabe (Lehrer)'!X49=\"\", \"\",'A) Eingabe (Lehrer)'!X49)","v":""},{"$f":"IF('A) Eingabe (Lehrer)'!Y49=\"\", \"\",'A) Eingabe (Lehrer)'!Y49)","v":""},{"$f":"IF('A) Eingabe (Lehrer)'!Z49=\"\", \"\",'A) Eingabe (Lehrer)'!Z49)","v":""},{"$f":"IF('A) Eingabe (Lehrer)'!AA49=\"\", \"\",'A) Eingabe (Lehrer)'!AA49)","v":""},{"$f":"IF('A) Eingabe (Lehrer)'!AB49=\"\", \"\",'A) Eingabe (Lehrer)'!AB49)","v":""},{"$f":"IF('A) Eingabe (Lehrer)'!AC49=\"\", \"\",'A) Eingabe (Lehrer)'!AC49)","v":""},{"$f":"IF('A) Eingabe (Lehrer)'!AD49=\"\", \"\",'A) Eingabe (Lehrer)'!AD49)","v":""},{"$f":"IF('A) Eingabe (Lehrer)'!AE49=\"\", \"\",'A) Eingabe (Lehrer)'!AE49)","v":""},{"$f":"IF('A) Eingabe (Lehrer)'!AF49=\"\", \"\",'A) Eingabe (Lehrer)'!AF49)","v":""},{"$f":"IF('A) Eingabe (Lehrer)'!AG49=\"\", \"\",'A) Eingabe (Lehrer)'!AG49)","v":""},{"$f":"IF('A) Eingabe (Lehrer)'!AH49=\"\", \"\",'A) Eingabe (Lehrer)'!AH49)","v":""},{"$f":"IF('A) Eingabe (Lehrer)'!AI49=\"\", \"\",'A) Eingabe (Lehrer)'!AI49)","v":""},{"$f":"IF('A) Eingabe (Lehrer)'!AJ49=\"\", \"\",'A) Eingabe (Lehrer)'!AJ49)","v":""},{"$f":"IF('A) Eingabe (Lehrer)'!AK49=\"\", \"\",'A) Eingabe (Lehrer)'!AK49)","v":""},{"$f":"IF('A) Eingabe (Lehrer)'!AL49=\"\", \"\",'A) Eingabe (Lehrer)'!AL49)","v":""},{"$f":"IF('A) Eingabe (Lehrer)'!AM49=\"\", \"\",'A) Eingabe (Lehrer)'!AM49)","v":""},{"$f":"IF('A) Eingabe (Lehrer)'!AN49=\"\", \"\",'A) Eingabe (Lehrer)'!AN49)","v":""},{"$f":"IF('A) Eingabe (Lehrer)'!AO49=\"\", \"\",'A) Eingabe (Lehrer)'!AO49)","v":""},{"$f":"IF('A) Eingabe (Lehrer)'!AP49=\"\", \"\",'A) Eingabe (Lehrer)'!AP49)","v":""},{"$f":"IF('A) Eingabe (Lehrer)'!AQ49=\"\", \"\",'A) Eingabe (Lehrer)'!AQ49)","v":""},{"$f":"IF('A) Eingabe (Lehrer)'!AR49=\"\", \"\",'A) Eingabe (Lehrer)'!AR49)","v":""},{"$f":"IF('A) Eingabe (Lehrer)'!AS49=\"\", \"\",'A) Eingabe (Lehrer)'!AS49)","v":""},{"$f":"IF('A) Eingabe (Lehrer)'!AT49=\"\", \"\",'A) Eingabe (Lehrer)'!AT49)","v":""},{"$f":"IF('A) Eingabe (Lehrer)'!AU49=\"\", \"\",'A) Eingabe (Lehrer)'!AU49)","v":""},{"$f":"IF('A) Eingabe (Lehrer)'!AV49=\"\", \"\",'A) Eingabe (Lehrer)'!AV49)","v":""},{"$f":"IF('A) Eingabe (Lehrer)'!AW49=\"\", \"\",'A) Eingabe (Lehrer)'!AW49)","v":""},{"$f":"IF('A) Eingabe (Lehrer)'!AX49=\"\", \"\",'A) Eingabe (Lehrer)'!AX49)","v":""},{"$f":"IF('A) Eingabe (Lehrer)'!AY49=\"\", \"\",'A) Eingabe (Lehrer)'!AY49)","v":""},{"$f":"IF('A) Eingabe (Lehrer)'!AZ49=\"\", \"\",'A) Eingabe (Lehrer)'!AZ49)","v":""},{"$f":"IF('A) Eingabe (Lehrer)'!BA49=\"\", \"\",'A) Eingabe (Lehrer)'!BA49)","v":""},{"$f":"IF('A) Eingabe (Lehrer)'!BB49=\"\", \"\",'A) Eingabe (Lehrer)'!BB49)","v":""},{"$f":"IF('A) Eingabe (Lehrer)'!BC49=\"\", \"\",'A) Eingabe (Lehrer)'!BC49)","v":""},{"$f":"IF('A) Eingabe (Lehrer)'!BD49=\"\", \"\",'A) Eingabe (Lehrer)'!BD49)","v":""},{"$f":"IF('A) Eingabe (Lehrer)'!BE49=\"\", \"\",'A) Eingabe (Lehrer)'!BE49)","v":""},{"$f":"IF('A) Eingabe (Lehrer)'!BF49=\"\", \"\",'A) Eingabe (Lehrer)'!BF49)","v":""},{"$f":"IF('A) Eingabe (Lehrer)'!BG49=\"\", \"\",'A) Eingabe (Lehrer)'!BG49)","v":""},{"$f":"IF('A) Eingabe (Lehrer)'!BH49=\"\", \"\",'A) Eingabe (Lehrer)'!BH49)","v":""},{"$f":"IF('A) Eingabe (Lehrer)'!BI49=\"\", \"\",'A) Eingabe (Lehrer)'!BI49)","v":""},{"$f":"IF('A) Eingabe (Lehrer)'!BJ49=\"\", \"\",'A) Eingabe (Lehrer)'!BJ49)","v":""},{"$f":"IF('A) Eingabe (Lehrer)'!BK49=\"\", \"\",'A) Eingabe (Lehrer)'!BK49)","v":""}]
["Item 34",{"$f":"IF('A) Eingabe (Lehrer)'!C50=\"\", \"\",'A) Eingabe (Lehrer)'!C50)","v":""},{"$f":"IF('A) Eingabe (Lehrer)'!D50=\"\", \"\",'A) Eingabe (Lehrer)'!D50)","v":""},{"$f":"IF('A) Eingabe (Lehrer)'!E50=\"\", \"\",'A) Eingabe (Lehrer)'!E50)","v":""},{"$f":"IF('A) Eingabe (Lehrer)'!F50=\"\", \"\",'A) Eingabe (Lehrer)'!F50)","v":""},{"$f":"IF('A) Eingabe (Lehrer)'!G50=\"\", \"\",'A) Eingabe (Lehrer)'!G50)","v":""},{"$f":"IF('A) Eingabe (Lehrer)'!H50=\"\", \"\",'A) Eingabe (Lehrer)'!H50)","v":""},{"$f":"IF('A) Eingabe (Lehrer)'!I50=\"\", \"\",'A) Eingabe (Lehrer)'!I50)","v":""},{"$f":"IF('A) Eingabe (Lehrer)'!J50=\"\", \"\",'A) Eingabe (Lehrer)'!J50)","v":""},{"$f":"IF('A) Eingabe (Lehrer)'!K50=\"\", \"\",'A) Eingabe (Lehrer)'!K50)","v":""},{"$f":"IF('A) Eingabe (Lehrer)'!L50=\"\", \"\",'A) Eingabe (Lehrer)'!L50)","v":""},{"$f":"IF('A) Eingabe (Lehrer)'!M50=\"\", \"\",'A) Eingabe (Lehrer)'!M50)","v":""},{"$f":"IF('A) Eingabe (Lehrer)'!N50=\"\", \"\",'A) Eingabe (Lehrer)'!N50)","v":""},{"$f":"IF('A) Eingabe (Lehrer)'!O50=\"\", \"\",'A) Eingabe (Lehrer)'!O50)","v":""},{"$f":"IF('A) Eingabe (Lehrer)'!P50=\"\", \"\",'A) Eingabe (Lehrer)'!P50)","v":""},{"$f":"IF('A) Eingabe (Lehrer)'!Q50=\"\", \"\",'A) Eingabe (Lehrer)'!Q50)","v":""},{"$f":"IF('A) Eingabe (Lehrer)'!R50=\"\", \"\",'A) Eingabe (Lehrer)'!R50)","v":""},{"$f":"IF('A) Eingabe (Lehrer)'!S50=\"\", \"\",'A) Eingabe (Lehrer)'!S50)","v":""},{"$f":"IF('A) Eingabe (Lehrer)'!T50=\"\", \"\",'A) Eingabe (Lehrer)'!T50)","v":""},{"$f":"IF('A) Eingabe (Lehrer)'!U50=\"\", \"\",'A) Eingabe (Lehrer)'!U50)","v":""},{"$f":"IF('A) Eingabe (Lehrer)'!V50=\"\", \"\",'A) Eingabe (Lehrer)'!V50)","v":""},{"$f":"IF('A) Eingabe (Lehrer)'!W50=\"\", \"\",'A) Eingabe (Lehrer)'!W50)","v":""},{"$f":"IF('A) Eingabe (Lehrer)'!X50=\"\", \"\",'A) Eingabe (Lehrer)'!X50)","v":""},{"$f":"IF('A) Eingabe (Lehrer)'!Y50=\"\", \"\",'A) Eingabe (Lehrer)'!Y50)","v":""},{"$f":"IF('A) Eingabe (Lehrer)'!Z50=\"\", \"\",'A) Eingabe (Lehrer)'!Z50)","v":""},{"$f":"IF('A) Eingabe (Lehrer)'!AA50=\"\", \"\",'A) Eingabe (Lehrer)'!AA50)","v":""},{"$f":"IF('A) Eingabe (Lehrer)'!AB50=\"\", \"\",'A) Eingabe (Lehrer)'!AB50)","v":""},{"$f":"IF('A) Eingabe (Lehrer)'!AC50=\"\", \"\",'A) Eingabe (Lehrer)'!AC50)","v":""},{"$f":"IF('A) Eingabe (Lehrer)'!AD50=\"\", \"\",'A) Eingabe (Lehrer)'!AD50)","v":""},{"$f":"IF('A) Eingabe (Lehrer)'!AE50=\"\", \"\",'A) Eingabe (Lehrer)'!AE50)","v":""},{"$f":"IF('A) Eingabe (Lehrer)'!AF50=\"\", \"\",'A) Eingabe (Lehrer)'!AF50)","v":""},{"$f":"IF('A) Eingabe (Lehrer)'!AG50=\"\", \"\",'A) Eingabe (Lehrer)'!AG50)","v":""},{"$f":"IF('A) Eingabe (Lehrer)'!AH50=\"\", \"\",'A) Eingabe (Lehrer)'!AH50)","v":""},{"$f":"IF('A) Eingabe (Lehrer)'!AI50=\"\", \"\",'A) Eingabe (Lehrer)'!AI50)","v":""},{"$f":"IF('A) Eingabe (Lehrer)'!AJ50=\"\", \"\",'A) Eingabe (Lehrer)'!AJ50)","v":""},{"$f":"IF('A) Eingabe (Lehrer)'!AK50=\"\", \"\",'A) Eingabe (Lehrer)'!AK50)","v":""},{"$f":"IF('A) Eingabe (Lehrer)'!AL50=\"\", \"\",'A) Eingabe (Lehrer)'!AL50)","v":""},{"$f":"IF('A) Eingabe (Lehrer)'!AM50=\"\", \"\",'A) Eingabe (Lehrer)'!AM50)","v":""},{"$f":"IF('A) Eingabe (Lehrer)'!AN50=\"\", \"\",'A) Eingabe (Lehrer)'!AN50)","v":""},{"$f":"IF('A) Eingabe (Lehrer)'!AO50=\"\", \"\",'A) Eingabe (Lehrer)'!AO50)","v":""},{"$f":"IF('A) Eingabe (Lehrer)'!AP50=\"\", \"\",'A) Eingabe (Lehrer)'!AP50)","v":""},{"$f":"IF('A) Eingabe (Lehrer)'!AQ50=\"\", \"\",'A) Eingabe (Lehrer)'!AQ50)","v":""},{"$f":"IF('A) Eingabe (Lehrer)'!AR50=\"\", \"\",'A) Eingabe (Lehrer)'!AR50)","v":""},{"$f":"IF('A) Eingabe (Lehrer)'!AS50=\"\", \"\",'A) Eingabe (Lehrer)'!AS50)","v":""},{"$f":"IF('A) Eingabe (Lehrer)'!AT50=\"\", \"\",'A) Eingabe (Lehrer)'!AT50)","v":""},{"$f":"IF('A) Eingabe (Lehrer)'!AU50=\"\", \"\",'A) Eingabe (Lehrer)'!AU50)","v":""},{"$f":"IF('A) Eingabe (Lehrer)'!AV50=\"\", \"\",'A) Eingabe (Lehrer)'!AV50)","v":""},{"$f":"IF('A) Eingabe (Lehrer)'!AW50=\"\", \"\",'A) Eingabe (Lehrer)'!AW50)","v":""},{"$f":"IF('A) Eingabe (Lehrer)'!AX50=\"\", \"\",'A) Eingabe (Lehrer)'!AX50)","v":""},{"$f":"IF('A) Eingabe (Lehrer)'!AY50=\"\", \"\",'A) Eingabe (Lehrer)'!AY50)","v":""},{"$f":"IF('A) Eingabe (Lehrer)'!AZ50=\"\", \"\",'A) Eingabe (Lehrer)'!AZ50)","v":""},{"$f":"IF('A) Eingabe (Lehrer)'!BA50=\"\", \"\",'A) Eingabe (Lehrer)'!BA50)","v":""},{"$f":"IF('A) Eingabe (Lehrer)'!BB50=\"\", \"\",'A) Eingabe (Lehrer)'!BB50)","v":""},{"$f":"IF('A) Eingabe (Lehrer)'!BC50=\"\", \"\",'A) Eingabe (Lehrer)'!BC50)","v":""},{"$f":"IF('A) Eingabe (Lehrer)'!BD50=\"\", \"\",'A) Eingabe (Lehrer)'!BD50)","v":""},{"$f":"IF('A) Eingabe (Lehrer)'!BE50=\"\", \"\",'A) Eingabe (Lehrer)'!BE50)","v":""},{"$f":"IF('A) Eingabe (Lehrer)'!BF50=\"\", \"\",'A) Eingabe (Lehrer)'!BF50)","v":""},{"$f":"IF('A) Eingabe (Lehrer)'!BG50=\"\", \"\",'A) Eingabe (Lehrer)'!BG50)","v":""},{"$f":"IF('A) Eingabe (Lehrer)'!BH50=\"\", \"\",'A) Eingabe (Lehrer)'!BH50)","v":""},{"$f":"IF('A) Eingabe (Lehrer)'!BI50=\"\", \"\",'A) Eingabe (Lehrer)'!BI50)","v":""},{"$f":"IF('A) Eingabe (Lehrer)'!BJ50=\"\", \"\",'A) Eingabe (Lehrer)'!BJ50)","v":""},{"$f":"IF('A) Eingabe (Lehrer)'!BK50=\"\", \"\",'A) Eingabe (Lehrer)'!BK50)","v":""}]
["Item 35",{"$f":"IF('A) Eingabe (Lehrer)'!C51=\"\", \"\",'A) Eingabe (Lehrer)'!C51)","v":""},{"$f":"IF('A) Eingabe (Lehrer)'!D51=\"\", \"\",'A) Eingabe (Lehrer)'!D51)","v":""},{"$f":"IF('A) Eingabe (Lehrer)'!E51=\"\", \"\",'A) Eingabe (Lehrer)'!E51)","v":""},{"$f":"IF('A) Eingabe (Lehrer)'!F51=\"\", \"\",'A) Eingabe (Lehrer)'!F51)","v":""},{"$f":"IF('A) Eingabe (Lehrer)'!G51=\"\", \"\",'A) Eingabe (Lehrer)'!G51)","v":""},{"$f":"IF('A) Eingabe (Lehrer)'!H51=\"\", \"\",'A) Eingabe (Lehrer)'!H51)","v":""},{"$f":"IF('A) Eingabe (Lehrer)'!I51=\"\", \"\",'A) Eingabe (Lehrer)'!I51)","v":""},{"$f":"IF('A) Eingabe (Lehrer)'!J51=\"\", \"\",'A) Eingabe (Lehrer)'!J51)","v":""},{"$f":"IF('A) Eingabe (Lehrer)'!K51=\"\", \"\",'A) Eingabe (Lehrer)'!K51)","v":""},{"$f":"IF('A) Eingabe (Lehrer)'!L51=\"\", \"\",'A) Eingabe (Lehrer)'!L51)","v":""},{"$f":"IF('A) Eingabe (Lehrer)'!M51=\"\", \"\",'A) Eingabe (Lehrer)'!M51)","v":""},{"$f":"IF('A) Eingabe (Lehrer)'!N51=\"\", \"\",'A) Eingabe (Lehrer)'!N51)","v":""},{"$f":"IF('A) Eingabe (Lehrer)'!O51=\"\", \"\",'A) Eingabe (Lehrer)'!O51)","v":""},{"$f":"IF('A) Eingabe (Lehrer)'!P51=\"\", \"\",'A) Eingabe (Lehrer)'!P51)","v":""},{"$f":"IF('A) Eingabe (Lehrer)'!Q51=\"\", \"\",'A) Eingabe (Lehrer)'!Q51)","v":""},{"$f":"IF('A) Eingabe (Lehrer)'!R51=\"\", \"\",'A) Eingabe (Lehrer)'!R51)","v":""},{"$f":"IF('A) Eingabe (Lehrer)'!S51=\"\", \"\",'A) Eingabe (Lehrer)'!S51)","v":""},{"$f":"IF('A) Eingabe (Lehrer)'!T51=\"\", \"\",'A) Eingabe (Lehrer)'!T51)","v":""},{"$f":"IF('A) Eingabe (Lehrer)'!U51=\"\", \"\",'A) Eingabe (Lehrer)'!U51)","v":""},{"$f":"IF('A) Eingabe (Lehrer)'!V51=\"\", \"\",'A) Eingabe (Lehrer)'!V51)","v":""},{"$f":"IF('A) Eingabe (Lehrer)'!W51=\"\", \"\",'A) Eingabe (Lehrer)'!W51)","v":""},{"$f":"IF('A) Eingabe (Lehrer)'!X51=\"\", \"\",'A) Eingabe (Lehrer)'!X51)","v":""},{"$f":"IF('A) Eingabe (Lehrer)'!Y51=\"\", \"\",'A) Eingabe (Lehrer)'!Y51)","v":""},{"$f":"IF('A) Eingabe (Lehrer)'!Z51=\"\", \"\",'A) Eingabe (Lehrer)'!Z51)","v":""},{"$f":"IF('A) Eingabe (Lehrer)'!AA51=\"\", \"\",'A) Eingabe (Lehrer)'!AA51)","v":""},{"$f":"IF('A) Eingabe (Lehrer)'!AB51=\"\", \"\",'A) Eingabe (Lehrer)'!AB51)","v":""},{"$f":"IF('A) Eingabe (Lehrer)'!AC51=\"\", \"\",'A) Eingabe (Lehrer)'!AC51)","v":""},{"$f":"IF('A) Eingabe (Lehrer)'!AD51=\"\", \"\",'A) Eingabe (Lehrer)'!AD51)","v":""},{"$f":"IF('A) Eingabe (Lehrer)'!AE51=\"\", \"\",'A) Eingabe (Lehrer)'!AE51)","v":""},{"$f":"IF('A) Eingabe (Lehrer)'!AF51=\"\", \"\",'A) Eingabe (Lehrer)'!AF51)","v":""},{"$f":"IF('A) Eingabe (Lehrer)'!AG51=\"\", \"\",'A) Eingabe (Lehrer)'!AG51)","v":""},{"$f":"IF('A) Eingabe (Lehrer)'!AH51=\"\", \"\",'A) Eingabe (Lehrer)'!AH51)","v":""},{"$f":"IF('A) Eingabe (Lehrer)'!AI51=\"\", \"\",'A) Eingabe (Lehrer)'!AI51)","v":""},{"$f":"IF('A) Eingabe (Lehrer)'!AJ51=\"\", \"\",'A) Eingabe (Lehrer)'!AJ51)","v":""},{"$f":"IF('A) Eingabe (Lehrer)'!AK51=\"\", \"\",'A) Eingabe (Lehrer)'!AK51)","v":""},{"$f":"IF('A) Eingabe (Lehrer)'!AL51=\"\", \"\",'A) Eingabe (Lehrer)'!AL51)","v":""},{"$f":"IF('A) Eingabe (Lehrer)'!AM51=\"\", \"\",'A) Eingabe (Lehrer)'!AM51)","v":""},{"$f":"IF('A) Eingabe (Lehrer)'!AN51=\"\", \"\",'A) Eingabe (Lehrer)'!AN51)","v":""},{"$f":"IF('A) Eingabe (Lehrer)'!AO51=\"\", \"\",'A) Eingabe (Lehrer)'!AO51)","v":""},{"$f":"IF('A) Eingabe (Lehrer)'!AP51=\"\", \"\",'A) Eingabe (Lehrer)'!AP51)","v":""},{"$f":"IF('A) Eingabe (Lehrer)'!AQ51=\"\", \"\",'A) Eingabe (Lehrer)'!AQ51)","v":""},{"$f":"IF('A) Eingabe (Lehrer)'!AR51=\"\", \"\",'A) Eingabe (Lehrer)'!AR51)","v":""},{"$f":"IF('A) Eingabe (Lehrer)'!AS51=\"\", \"\",'A) Eingabe (Lehrer)'!AS51)","v":""},{"$f":"IF('A) Eingabe (Lehrer)'!AT51=\"\", \"\",'A) Eingabe (Lehrer)'!AT51)","v":""},{"$f":"IF('A) Eingabe (Lehrer)'!AU51=\"\", \"\",'A) Eingabe (Lehrer)'!AU51)","v":""},{"$f":"IF('A) Eingabe (Lehrer)'!AV51=\"\", \"\",'A) Eingabe (Lehrer)'!AV51)","v":""},{"$f":"IF('A) Eingabe (Lehrer)'!AW51=\"\", \"\",'A) Eingabe (Lehrer)'!AW51)","v":""},{"$f":"IF('A) Eingabe (Lehrer)'!AX51=\"\", \"\",'A) Eingabe (Lehrer)'!AX51)","v":""},{"$f":"IF('A) Eingabe (Lehrer)'!AY51=\"\", \"\",'A) Eingabe (Lehrer)'!AY51)","v":""},{"$f":"IF('A) Eingabe (Lehrer)'!AZ51=\"\", \"\",'A) Eingabe (Lehrer)'!AZ51)","v":""},{"$f":"IF('A) Eingabe (Lehrer)'!BA51=\"\", \"\",'A) Eingabe (Lehrer)'!BA51)","v":""},{"$f":"IF('A) Eingabe (Lehrer)'!BB51=\"\", \"\",'A) Eingabe (Lehrer)'!BB51)","v":""},{"$f":"IF('A) Eingabe (Lehrer)'!BC51=\"\", \"\",'A) Eingabe (Lehrer)'!BC51)","v":""},{"$f":"IF('A) Eingabe (Lehrer)'!BD51=\"\", \"\",'A) Eingabe (Lehrer)'!BD51)","v":""},{"$f":"IF('A) Eingabe (Lehrer)'!BE51=\"\", \"\",'A) Eingabe (Lehrer)'!BE51)","v":""},{"$f":"IF('A) Eingabe (Lehrer)'!BF51=\"\", \"\",'A) Eingabe (Lehrer)'!BF51)","v":""},{"$f":"IF('A) Eingabe (Lehrer)'!BG51=\"\", \"\",'A) Eingabe (Lehrer)'!BG51)","v":""},{"$f":"IF('A) Eingabe (Lehrer)'!BH51=\"\", \"\",'A) Eingabe (Lehrer)'!BH51)","v":""},{"$f":"IF('A) Eingabe (Lehrer)'!BI51=\"\", \"\",'A) Eingabe (Lehrer)'!BI51)","v":""},{"$f":"IF('A) Eingabe (Lehrer)'!BJ51=\"\", \"\",'A) Eingabe (Lehrer)'!BJ51)","v":""},{"$f":"IF('A) Eingabe (Lehrer)'!BK51=\"\", \"\",'A) Eingabe (Lehrer)'!BK51)","v":""}]
["Item 36",{"$f":"IF('A) Eingabe (Lehrer)'!C52=\"\", \"\",'A) Eingabe (Lehrer)'!C52)","v":""},{"$f":"IF('A) Eingabe (Lehrer)'!D52=\"\", \"\",'A) Eingabe (Lehrer)'!D52)","v":""},{"$f":"IF('A) Eingabe (Lehrer)'!E52=\"\", \"\",'A) Eingabe (Lehrer)'!E52)","v":""},{"$f":"IF('A) Eingabe (Lehrer)'!F52=\"\", \"\",'A) Eingabe (Lehrer)'!F52)","v":""},{"$f":"IF('A) Eingabe (Lehrer)'!G52=\"\", \"\",'A) Eingabe (Lehrer)'!G52)","v":""},{"$f":"IF('A) Eingabe (Lehrer)'!H52=\"\", \"\",'A) Eingabe (Lehrer)'!H52)","v":""},{"$f":"IF('A) Eingabe (Lehrer)'!I52=\"\", \"\",'A) Eingabe (Lehrer)'!I52)","v":""},{"$f":"IF('A) Eingabe (Lehrer)'!J52=\"\", \"\",'A) Eingabe (Lehrer)'!J52)","v":""},{"$f":"IF('A) Eingabe (Lehrer)'!K52=\"\", \"\",'A) Eingabe (Lehrer)'!K52)","v":""},{"$f":"IF('A) Eingabe (Lehrer)'!L52=\"\", \"\",'A) Eingabe (Lehrer)'!L52)","v":""},{"$f":"IF('A) Eingabe (Lehrer)'!M52=\"\", \"\",'A) Eingabe (Lehrer)'!M52)","v":""},{"$f":"IF('A) Eingabe (Lehrer)'!N52=\"\", \"\",'A) Eingabe (Lehrer)'!N52)","v":""},{"$f":"IF('A) Eingabe (Lehrer)'!O52=\"\", \"\",'A) Eingabe (Lehrer)'!O52)","v":""},{"$f":"IF('A) Eingabe (Lehrer)'!P52=\"\", \"\",'A) Eingabe (Lehrer)'!P52)","v":""},{"$f":"IF('A) Eingabe (Lehrer)'!Q52=\"\", \"\",'A) Eingabe (Lehrer)'!Q52)","v":""},{"$f":"IF('A) Eingabe (Lehrer)'!R52=\"\", \"\",'A) Eingabe (Lehrer)'!R52)","v":""},{"$f":"IF('A) Eingabe (Lehrer)'!S52=\"\", \"\",'A) Eingabe (Lehrer)'!S52)","v":""},{"$f":"IF('A) Eingabe (Lehrer)'!T52=\"\", \"\",'A) Eingabe (Lehrer)'!T52)","v":""},{"$f":"IF('A) Eingabe (Lehrer)'!U52=\"\", \"\",'A) Eingabe (Lehrer)'!U52)","v":""},{"$f":"IF('A) Eingabe (Lehrer)'!V52=\"\", \"\",'A) Eingabe (Lehrer)'!V52)","v":""},{"$f":"IF('A) Eingabe (Lehrer)'!W52=\"\", \"\",'A) Eingabe (Lehrer)'!W52)","v":""},{"$f":"IF('A) Eingabe (Lehrer)'!X52=\"\", \"\",'A) Eingabe (Lehrer)'!X52)","v":""},{"$f":"IF('A) Eingabe (Lehrer)'!Y52=\"\", \"\",'A) Eingabe (Lehrer)'!Y52)","v":""},{"$f":"IF('A) Eingabe (Lehrer)'!Z52=\"\", \"\",'A) Eingabe (Lehrer)'!Z52)","v":""},{"$f":"IF('A) Eingabe (Lehrer)'!AA52=\"\", \"\",'A) Eingabe (Lehrer)'!AA52)","v":""},{"$f":"IF('A) Eingabe (Lehrer)'!AB52=\"\", \"\",'A) Eingabe (Lehrer)'!AB52)","v":""},{"$f":"IF('A) Eingabe (Lehrer)'!AC52=\"\", \"\",'A) Eingabe (Lehrer)'!AC52)","v":""},{"$f":"IF('A) Eingabe (Lehrer)'!AD52=\"\", \"\",'A) Eingabe (Lehrer)'!AD52)","v":""},{"$f":"IF('A) Eingabe (Lehrer)'!AE52=\"\", \"\",'A) Eingabe (Lehrer)'!AE52)","v":""},{"$f":"IF('A) Eingabe (Lehrer)'!AF52=\"\", \"\",'A) Eingabe (Lehrer)'!AF52)","v":""},{"$f":"IF('A) Eingabe (Lehrer)'!AG52=\"\", \"\",'A) Eingabe (Lehrer)'!AG52)","v":""},{"$f":"IF('A) Eingabe (Lehrer)'!AH52=\"\", \"\",'A) Eingabe (Lehrer)'!AH52)","v":""},{"$f":"IF('A) Eingabe (Lehrer)'!AI52=\"\", \"\",'A) Eingabe (Lehrer)'!AI52)","v":""},{"$f":"IF('A) Eingabe (Lehrer)'!AJ52=\"\", \"\",'A) Eingabe (Lehrer)'!AJ52)","v":""},{"$f":"IF('A) Eingabe (Lehrer)'!AK52=\"\", \"\",'A) Eingabe (Lehrer)'!AK52)","v":""},{"$f":"IF('A) Eingabe (Lehrer)'!AL52=\"\", \"\",'A) Eingabe (Lehrer)'!AL52)","v":""},{"$f":"IF('A) Eingabe (Lehrer)'!AM52=\"\", \"\",'A) Eingabe (Lehrer)'!AM52)","v":""},{"$f":"IF('A) Eingabe (Lehrer)'!AN52=\"\", \"\",'A) Eingabe (Lehrer)'!AN52)","v":""},{"$f":"IF('A) Eingabe (Lehrer)'!AO52=\"\", \"\",'A) Eingabe (Lehrer)'!AO52)","v":""},{"$f":"IF('A) Eingabe (Lehrer)'!AP52=\"\", \"\",'A) Eingabe (Lehrer)'!AP52)","v":""},{"$f":"IF('A) Eingabe (Lehrer)'!AQ52=\"\", \"\",'A) Eingabe (Lehrer)'!AQ52)","v":""},{"$f":"IF('A) Eingabe (Lehrer)'!AR52=\"\", \"\",'A) Eingabe (Lehrer)'!AR52)","v":""},{"$f":"IF('A) Eingabe (Lehrer)'!AS52=\"\", \"\",'A) Eingabe (Lehrer)'!AS52)","v":""},{"$f":"IF('A) Eingabe (Lehrer)'!AT52=\"\", \"\",'A) Eingabe (Lehrer)'!AT52)","v":""},{"$f":"IF('A) Eingabe (Lehrer)'!AU52=\"\", \"\",'A) Eingabe (Lehrer)'!AU52)","v":""},{"$f":"IF('A) Eingabe (Lehrer)'!AV52=\"\", \"\",'A) Eingabe (Lehrer)'!AV52)","v":""},{"$f":"IF('A) Eingabe (Lehrer)'!AW52=\"\", \"\",'A) Eingabe (Lehrer)'!AW52)","v":""},{"$f":"IF('A) Eingabe (Lehrer)'!AX52=\"\", \"\",'A) Eingabe (Lehrer)'!AX52)","v":""},{"$f":"IF('A) Eingabe (Lehrer)'!AY52=\"\", \"\",'A) Eingabe (Lehrer)'!AY52)","v":""},{"$f":"IF('A) Eingabe (Lehrer)'!AZ52=\"\", \"\",'A) Eingabe (Lehrer)'!AZ52)","v":""},{"$f":"IF('A) Eingabe (Lehrer)'!BA52=\"\", \"\",'A) Eingabe (Lehrer)'!BA52)","v":""},{"$f":"IF('A) Eingabe (Lehrer)'!BB52=\"\", \"\",'A) Eingabe (Lehrer)'!BB52)","v":""},{"$f":"IF('A) Eingabe (Lehrer)'!BC52=\"\", \"\",'A) Eingabe (Lehrer)'!BC52)","v":""},{"$f":"IF('A) Eingabe (Lehrer)'!BD52=\"\", \"\",'A) Eingabe (Lehrer)'!BD52)","v":""},{"$f":"IF('A) Eingabe (Lehrer)'!BE52=\"\", \"\",'A) Eingabe (Lehrer)'!BE52)","v":""},{"$f":"IF('A) Eingabe (Lehrer)'!BF52=\"\", \"\",'A) Eingabe (Lehrer)'!BF52)","v":""},{"$f":"IF('A) Eingabe (Lehrer)'!BG52=\"\", \"\",'A) Eingabe (Lehrer)'!BG52)","v":""},{"$f":"IF('A) Eingabe (Lehrer)'!BH52=\"\", \"\",'A) Eingabe (Lehrer)'!BH52)","v":""},{"$f":"IF('A) Eingabe (Lehrer)'!BI52=\"\", \"\",'A) Eingabe (Lehrer)'!BI52)","v":""},{"$f":"IF('A) Eingabe (Lehrer)'!BJ52=\"\", \"\",'A) Eingabe (Lehrer)'!BJ52)","v":""},{"$f":"IF('A) Eingabe (Lehrer)'!BK52=\"\", \"\",'A) Eingabe (Lehrer)'!BK52)","v":""}]
["Item 37",{"$f":"IF('A) Eingabe (Lehrer)'!C53=\"\", \"\",'A) Eingabe (Lehrer)'!C53)","v":""},{"$f":"IF('A) Eingabe (Lehrer)'!D53=\"\", \"\",'A) Eingabe (Lehrer)'!D53)","v":""},{"$f":"IF('A) Eingabe (Lehrer)'!E53=\"\", \"\",'A) Eingabe (Lehrer)'!E53)","v":""},{"$f":"IF('A) Eingabe (Lehrer)'!F53=\"\", \"\",'A) Eingabe (Lehrer)'!F53)","v":""},{"$f":"IF('A) Eingabe (Lehrer)'!G53=\"\", \"\",'A) Eingabe (Lehrer)'!G53)","v":""},{"$f":"IF('A) Eingabe (Lehrer)'!H53=\"\", \"\",'A) Eingabe (Lehrer)'!H53)","v":""},{"$f":"IF('A) Eingabe (Lehrer)'!I53=\"\", \"\",'A) Eingabe (Lehrer)'!I53)","v":""},{"$f":"IF('A) Eingabe (Lehrer)'!J53=\"\", \"\",'A) Eingabe (Lehrer)'!J53)","v":""},{"$f":"IF('A) Eingabe (Lehrer)'!K53=\"\", \"\",'A) Eingabe (Lehrer)'!K53)","v":""},{"$f":"IF('A) Eingabe (Lehrer)'!L53=\"\", \"\",'A) Eingabe (Lehrer)'!L53)","v":""},{"$f":"IF('A) Eingabe (Lehrer)'!M53=\"\", \"\",'A) Eingabe (Lehrer)'!M53)","v":""},{"$f":"IF('A) Eingabe (Lehrer)'!N53=\"\", \"\",'A) Eingabe (Lehrer)'!N53)","v":""},{"$f":"IF('A) Eingabe (Lehrer)'!O53=\"\", \"\",'A) Eingabe (Lehrer)'!O53)","v":""},{"$f":"IF('A) Eingabe (Lehrer)'!P53=\"\", \"\",'A) Eingabe (Lehrer)'!P53)","v":""},{"$f":"IF('A) Eingabe (Lehrer)'!Q53=\"\", \"\",'A) Eingabe (Lehrer)'!Q53)","v":""},{"$f":"IF('A) Eingabe (Lehrer)'!R53=\"\", \"\",'A) Eingabe (Lehrer)'!R53)","v":""},{"$f":"IF('A) Eingabe (Lehrer)'!S53=\"\", \"\",'A) Eingabe (Lehrer)'!S53)","v":""},{"$f":"IF('A) Eingabe (Lehrer)'!T53=\"\", \"\",'A) Eingabe (Lehrer)'!T53)","v":""},{"$f":"IF('A) Eingabe (Lehrer)'!U53=\"\", \"\",'A) Eingabe (Lehrer)'!U53)","v":""},{"$f":"IF('A) Eingabe (Lehrer)'!V53=\"\", \"\",'A) Eingabe (Lehrer)'!V53)","v":""},{"$f":"IF('A) Eingabe (Lehrer)'!W53=\"\", \"\",'A) Eingabe (Lehrer)'!W53)","v":""},{"$f":"IF('A) Eingabe (Lehrer)'!X53=\"\", \"\",'A) Eingabe (Lehrer)'!X53)","v":""},{"$f":"IF('A) Eingabe (Lehrer)'!Y53=\"\", \"\",'A) Eingabe (Lehrer)'!Y53)","v":""},{"$f":"IF('A) Eingabe (Lehrer)'!Z53=\"\", \"\",'A) Eingabe (Lehrer)'!Z53)","v":""},{"$f":"IF('A) Eingabe (Lehrer)'!AA53=\"\", \"\",'A) Eingabe (Lehrer)'!AA53)","v":""},{"$f":"IF('A) Eingabe (Lehrer)'!AB53=\"\", \"\",'A) Eingabe (Lehrer)'!AB53)","v":""},{"$f":"IF('A) Eingabe (Lehrer)'!AC53=\"\", \"\",'A) Eingabe (Lehrer)'!AC53)","v":""},{"$f":"IF('A) Eingabe (Lehrer)'!AD53=\"\", \"\",'A) Eingabe (Lehrer)'!AD53)","v":""},{"$f":"IF('A) Eingabe (Lehrer)'!AE53=\"\", \"\",'A) Eingabe (Lehrer)'!AE53)","v":""},{"$f":"IF('A) Eingabe (Lehrer)'!AF53=\"\", \"\",'A) Eingabe (Lehrer)'!AF53)","v":""},{"$f":"IF('A) Eingabe (Lehrer)'!AG53=\"\", \"\",'A) Eingabe (Lehrer)'!AG53)","v":""},{"$f":"IF('A) Eingabe (Lehrer)'!AH53=\"\", \"\",'A) Eingabe (Lehrer)'!AH53)","v":""},{"$f":"IF('A) Eingabe (Lehrer)'!AI53=\"\", \"\",'A) Eingabe (Lehrer)'!AI53)","v":""},{"$f":"IF('A) Eingabe (Lehrer)'!AJ53=\"\", \"\",'A) Eingabe (Lehrer)'!AJ53)","v":""},{"$f":"IF('A) Eingabe (Lehrer)'!AK53=\"\", \"\",'A) Eingabe (Lehrer)'!AK53)","v":""},{"$f":"IF('A) Eingabe (Lehrer)'!AL53=\"\", \"\",'A) Eingabe (Lehrer)'!AL53)","v":""},{"$f":"IF('A) Eingabe (Lehrer)'!AM53=\"\", \"\",'A) Eingabe (Lehrer)'!AM53)","v":""},{"$f":"IF('A) Eingabe (Lehrer)'!AN53=\"\", \"\",'A) Eingabe (Lehrer)'!AN53)","v":""},{"$f":"IF('A) Eingabe (Lehrer)'!AO53=\"\", \"\",'A) Eingabe (Lehrer)'!AO53)","v":""},{"$f":"IF('A) Eingabe (Lehrer)'!AP53=\"\", \"\",'A) Eingabe (Lehrer)'!AP53)","v":""},{"$f":"IF('A) Eingabe (Lehrer)'!AQ53=\"\", \"\",'A) Eingabe (Lehrer)'!AQ53)","v":""},{"$f":"IF('A) Eingabe (Lehrer)'!AR53=\"\", \"\",'A) Eingabe (Lehrer)'!AR53)","v":""},{"$f":"IF('A) Eingabe (Lehrer)'!AS53=\"\", \"\",'A) Eingabe (Lehrer)'!AS53)","v":""},{"$f":"IF('A) Eingabe (Lehrer)'!AT53=\"\", \"\",'A) Eingabe (Lehrer)'!AT53)","v":""},{"$f":"IF('A) Eingabe (Lehrer)'!AU53=\"\", \"\",'A) Eingabe (Lehrer)'!AU53)","v":""},{"$f":"IF('A) Eingabe (Lehrer)'!AV53=\"\", \"\",'A) Eingabe (Lehrer)'!AV53)","v":""},{"$f":"IF('A) Eingabe (Lehrer)'!AW53=\"\", \"\",'A) Eingabe (Lehrer)'!AW53)","v":""},{"$f":"IF('A) Eingabe (Lehrer)'!AX53=\"\", \"\",'A) Eingabe (Lehrer)'!AX53)","v":""},{"$f":"IF('A) Eingabe (Lehrer)'!AY53=\"\", \"\",'A) Eingabe (Lehrer)'!AY53)","v":""},{"$f":"IF('A) Eingabe (Lehrer)'!AZ53=\"\", \"\",'A) Eingabe (Lehrer)'!AZ53)","v":""},{"$f":"IF('A) Eingabe (Lehrer)'!BA53=\"\", \"\",'A) Eingabe (Lehrer)'!BA53)","v":""},{"$f":"IF('A) Eingabe (Lehrer)'!BB53=\"\", \"\",'A) Eingabe (Lehrer)'!BB53)","v":""},{"$f":"IF('A) Eingabe (Lehrer)'!BC53=\"\", \"\",'A) Eingabe (Lehrer)'!BC53)","v":""},{"$f":"IF('A) Eingabe (Lehrer)'!BD53=\"\", \"\",'A) Eingabe (Lehrer)'!BD53)","v":""},{"$f":"IF('A) Eingabe (Lehrer)'!BE53=\"\", \"\",'A) Eingabe (Lehrer)'!BE53)","v":""},{"$f":"IF('A) Eingabe (Lehrer)'!BF53=\"\", \"\",'A) Eingabe (Lehrer)'!BF53)","v":""},{"$f":"IF('A) Eingabe (Lehrer)'!BG53=\"\", \"\",'A) Eingabe (Lehrer)'!BG53)","v":""},{"$f":"IF('A) Eingabe (Lehrer)'!BH53=\"\", \"\",'A) Eingabe (Lehrer)'!BH53)","v":""},{"$f":"IF('A) Eingabe (Lehrer)'!BI53=\"\", \"\",'A) Eingabe (Lehrer)'!BI53)","v":""},{"$f":"IF('A) Eingabe (Lehrer)'!BJ53=\"\", \"\",'A) Eingabe (Lehrer)'!BJ53)","v":""},{"$f":"IF('A) Eingabe (Lehrer)'!BK53=\"\", \"\",'A) Eingabe (Lehrer)'!BK53)","v":""}]
["Item 38",{"$f":"IF('A) Eingabe (Lehrer)'!C54=\"\", \"\",'A) Eingabe (Lehrer)'!C54)","v":""},{"$f":"IF('A) Eingabe (Lehrer)'!D54=\"\", \"\",'A) Eingabe (Lehrer)'!D54)","v":""},{"$f":"IF('A) Eingabe (Lehrer)'!E54=\"\", \"\",'A) Eingabe (Lehrer)'!E54)","v":""},{"$f":"IF('A) Eingabe (Lehrer)'!F54=\"\", \"\",'A) Eingabe (Lehrer)'!F54)","v":""},{"$f":"IF('A) Eingabe (Lehrer)'!G54=\"\", \"\",'A) Eingabe (Lehrer)'!G54)","v":""},{"$f":"IF('A) Eingabe (Lehrer)'!H54=\"\", \"\",'A) Eingabe (Lehrer)'!H54)","v":""},{"$f":"IF('A) Eingabe (Lehrer)'!I54=\"\", \"\",'A) Eingabe (Lehrer)'!I54)","v":""},{"$f":"IF('A) Eingabe (Lehrer)'!J54=\"\", \"\",'A) Eingabe (Lehrer)'!J54)","v":""},{"$f":"IF('A) Eingabe (Lehrer)'!K54=\"\", \"\",'A) Eingabe (Lehrer)'!K54)","v":""},{"$f":"IF('A) Eingabe (Lehrer)'!L54=\"\", \"\",'A) Eingabe (Lehrer)'!L54)","v":""},{"$f":"IF('A) Eingabe (Lehrer)'!M54=\"\", \"\",'A) Eingabe (Lehrer)'!M54)","v":""},{"$f":"IF('A) Eingabe (Lehrer)'!N54=\"\", \"\",'A) Eingabe (Lehrer)'!N54)","v":""},{"$f":"IF('A) Eingabe (Lehrer)'!O54=\"\", \"\",'A) Eingabe (Lehrer)'!O54)","v":""},{"$f":"IF('A) Eingabe (Lehrer)'!P54=\"\", \"\",'A) Eingabe (Lehrer)'!P54)","v":""},{"$f":"IF('A) Eingabe (Lehrer)'!Q54=\"\", \"\",'A) Eingabe (Lehrer)'!Q54)","v":""},{"$f":"IF('A) Eingabe (Lehrer)'!R54=\"\", \"\",'A) Eingabe (Lehrer)'!R54)","v":""},{"$f":"IF('A) Eingabe (Lehrer)'!S54=\"\", \"\",'A) Eingabe (Lehrer)'!S54)","v":""},{"$f":"IF('A) Eingabe (Lehrer)'!T54=\"\", \"\",'A) Eingabe (Lehrer)'!T54)","v":""},{"$f":"IF('A) Eingabe (Lehrer)'!U54=\"\", \"\",'A) Eingabe (Lehrer)'!U54)","v":""},{"$f":"IF('A) Eingabe (Lehrer)'!V54=\"\", \"\",'A) Eingabe (Lehrer)'!V54)","v":""},{"$f":"IF('A) Eingabe (Lehrer)'!W54=\"\", \"\",'A) Eingabe (Lehrer)'!W54)","v":""},{"$f":"IF('A) Eingabe (Lehrer)'!X54=\"\", \"\",'A) Eingabe (Lehrer)'!X54)","v":""},{"$f":"IF('A) Eingabe (Lehrer)'!Y54=\"\", \"\",'A) Eingabe (Lehrer)'!Y54)","v":""},{"$f":"IF('A) Eingabe (Lehrer)'!Z54=\"\", \"\",'A) Eingabe (Lehrer)'!Z54)","v":""},{"$f":"IF('A) Eingabe (Lehrer)'!AA54=\"\", \"\",'A) Eingabe (Lehrer)'!AA54)","v":""},{"$f":"IF('A) Eingabe (Lehrer)'!AB54=\"\", \"\",'A) Eingabe (Lehrer)'!AB54)","v":""},{"$f":"IF('A) Eingabe (Lehrer)'!AC54=\"\", \"\",'A) Eingabe (Lehrer)'!AC54)","v":""},{"$f":"IF('A) Eingabe (Lehrer)'!AD54=\"\", \"\",'A) Eingabe (Lehrer)'!AD54)","v":""},{"$f":"IF('A) Eingabe (Lehrer)'!AE54=\"\", \"\",'A) Eingabe (Lehrer)'!AE54)","v":""},{"$f":"IF('A) Eingabe (Lehrer)'!AF54=\"\", \"\",'A) Eingabe (Lehrer)'!AF54)","v":""},{"$f":"IF('A) Eingabe (Lehrer)'!AG54=\"\", \"\",'A) Eingabe (Lehrer)'!AG54)","v":""},{"$f":"IF('A) Eingabe (Lehrer)'!AH54=\"\", \"\",'A) Eingabe (Lehrer)'!AH54)","v":""},{"$f":"IF('A) Eingabe (Lehrer)'!AI54=\"\", \"\",'A) Eingabe (Lehrer)'!AI54)","v":""},{"$f":"IF('A) Eingabe (Lehrer)'!AJ54=\"\", \"\",'A) Eingabe (Lehrer)'!AJ54)","v":""},{"$f":"IF('A) Eingabe (Lehrer)'!AK54=\"\", \"\",'A) Eingabe (Lehrer)'!AK54)","v":""},{"$f":"IF('A) Eingabe (Lehrer)'!AL54=\"\", \"\",'A) Eingabe (Lehrer)'!AL54)","v":""},{"$f":"IF('A) Eingabe (Lehrer)'!AM54=\"\", \"\",'A) Eingabe (Lehrer)'!AM54)","v":""},{"$f":"IF('A) Eingabe (Lehrer)'!AN54=\"\", \"\",'A) Eingabe (Lehrer)'!AN54)","v":""},{"$f":"IF('A) Eingabe (Lehrer)'!AO54=\"\", \"\",'A) Eingabe (Lehrer)'!AO54)","v":""},{"$f":"IF('A) Eingabe (Lehrer)'!AP54=\"\", \"\",'A) Eingabe (Lehrer)'!AP54)","v":""},{"$f":"IF('A) Eingabe (Lehrer)'!AQ54=\"\", \"\",'A) Eingabe (Lehrer)'!AQ54)","v":""},{"$f":"IF('A) Eingabe (Lehrer)'!AR54=\"\", \"\",'A) Eingabe (Lehrer)'!AR54)","v":""},{"$f":"IF('A) Eingabe (Lehrer)'!AS54=\"\", \"\",'A) Eingabe (Lehrer)'!AS54)","v":""},{"$f":"IF('A) Eingabe (Lehrer)'!AT54=\"\", \"\",'A) Eingabe (Lehrer)'!AT54)","v":""},{"$f":"IF('A) Eingabe (Lehrer)'!AU54=\"\", \"\",'A) Eingabe (Lehrer)'!AU54)","v":""},{"$f":"IF('A) Eingabe (Lehrer)'!AV54=\"\", \"\",'A) Eingabe (Lehrer)'!AV54)","v":""},{"$f":"IF('A) Eingabe (Lehrer)'!AW54=\"\", \"\",'A) Eingabe (Lehrer)'!AW54)","v":""},{"$f":"IF('A) Eingabe (Lehrer)'!AX54=\"\", \"\",'A) Eingabe (Lehrer)'!AX54)","v":""},{"$f":"IF('A) Eingabe (Lehrer)'!AY54=\"\", \"\",'A) Eingabe (Lehrer)'!AY54)","v":""},{"$f":"IF('A) Eingabe (Lehrer)'!AZ54=\"\", \"\",'A) Eingabe (Lehrer)'!AZ54)","v":""},{"$f":"IF('A) Eingabe (Lehrer)'!BA54=\"\", \"\",'A) Eingabe (Lehrer)'!BA54)","v":""},{"$f":"IF('A) Eingabe (Lehrer)'!BB54=\"\", \"\",'A) Eingabe (Lehrer)'!BB54)","v":""},{"$f":"IF('A) Eingabe (Lehrer)'!BC54=\"\", \"\",'A) Eingabe (Lehrer)'!BC54)","v":""},{"$f":"IF('A) Eingabe (Lehrer)'!BD54=\"\", \"\",'A) Eingabe (Lehrer)'!BD54)","v":""},{"$f":"IF('A) Eingabe (Lehrer)'!BE54=\"\", \"\",'A) Eingabe (Lehrer)'!BE54)","v":""},{"$f":"IF('A) Eingabe (Lehrer)'!BF54=\"\", \"\",'A) Eingabe (Lehrer)'!BF54)","v":""},{"$f":"IF('A) Eingabe (Lehrer)'!BG54=\"\", \"\",'A) Eingabe (Lehrer)'!BG54)","v":""},{"$f":"IF('A) Eingabe (Lehrer)'!BH54=\"\", \"\",'A) Eingabe (Lehrer)'!BH54)","v":""},{"$f":"IF('A) Eingabe (Lehrer)'!BI54=\"\", \"\",'A) Eingabe (Lehrer)'!BI54)","v":""},{"$f":"IF('A) Eingabe (Lehrer)'!BJ54=\"\", \"\",'A) Eingabe (Lehrer)'!BJ54)","v":""},{"$f":"IF('A) Eingabe (Lehrer)'!BK54=\"\", \"\",'A) Eingabe (Lehrer)'!BK54)","v":""}]
["Item 39",{"$f":"IF('A) Eingabe (Lehrer)'!C55=\"\", \"\",'A) Eingabe (Lehrer)'!C55)","v":""},{"$f":"IF('A) Eingabe (Lehrer)'!D55=\"\", \"\",'A) Eingabe (Lehrer)'!D55)","v":""},{"$f":"IF('A) Eingabe (Lehrer)'!E55=\"\", \"\",'A) Eingabe (Lehrer)'!E55)","v":""},{"$f":"IF('A) Eingabe (Lehrer)'!F55=\"\", \"\",'A) Eingabe (Lehrer)'!F55)","v":""},{"$f":"IF('A) Eingabe (Lehrer)'!G55=\"\", \"\",'A) Eingabe (Lehrer)'!G55)","v":""},{"$f":"IF('A) Eingabe (Lehrer)'!H55=\"\", \"\",'A) Eingabe (Lehrer)'!H55)","v":""},{"$f":"IF('A) Eingabe (Lehrer)'!I55=\"\", \"\",'A) Eingabe (Lehrer)'!I55)","v":""},{"$f":"IF('A) Eingabe (Lehrer)'!J55=\"\", \"\",'A) Eingabe (Lehrer)'!J55)","v":""},{"$f":"IF('A) Eingabe (Lehrer)'!K55=\"\", \"\",'A) Eingabe (Lehrer)'!K55)","v":""},{"$f":"IF('A) Eingabe (Lehrer)'!L55=\"\", \"\",'A) Eingabe (Lehrer)'!L55)","v":""},{"$f":"IF('A) Eingabe (Lehrer)'!M55=\"\", \"\",'A) Eingabe (Lehrer)'!M55)","v":""},{"$f":"IF('A) Eingabe (Lehrer)'!N55=\"\", \"\",'A) Eingabe (Lehrer)'!N55)","v":""},{"$f":"IF('A) Eingabe (Lehrer)'!O55=\"\", \"\",'A) Eingabe (Lehrer)'!O55)","v":""},{"$f":"IF('A) Eingabe (Lehrer)'!P55=\"\", \"\",'A) Eingabe (Lehrer)'!P55)","v":""},{"$f":"IF('A) Eingabe (Lehrer)'!Q55=\"\", \"\",'A) Eingabe (Lehrer)'!Q55)","v":""},{"$f":"IF('A) Eingabe (Lehrer)'!R55=\"\", \"\",'A) Eingabe (Lehrer)'!R55)","v":""},{"$f":"IF('A) Eingabe (Lehrer)'!S55=\"\", \"\",'A) Eingabe (Lehrer)'!S55)","v":""},{"$f":"IF('A) Eingabe (Lehrer)'!T55=\"\", \"\",'A) Eingabe (Lehrer)'!T55)","v":""},{"$f":"IF('A) Eingabe (Lehrer)'!U55=\"\", \"\",'A) Eingabe (Lehrer)'!U55)","v":""},{"$f":"IF('A) Eingabe (Lehrer)'!V55=\"\", \"\",'A) Eingabe (Lehrer)'!V55)","v":""},{"$f":"IF('A) Eingabe (Lehrer)'!W55=\"\", \"\",'A) Eingabe (Lehrer)'!W55)","v":""},{"$f":"IF('A) Eingabe (Lehrer)'!X55=\"\", \"\",'A) Eingabe (Lehrer)'!X55)","v":""},{"$f":"IF('A) Eingabe (Lehrer)'!Y55=\"\", \"\",'A) Eingabe (Lehrer)'!Y55)","v":""},{"$f":"IF('A) Eingabe (Lehrer)'!Z55=\"\", \"\",'A) Eingabe (Lehrer)'!Z55)","v":""},{"$f":"IF('A) Eingabe (Lehrer)'!AA55=\"\", \"\",'A) Eingabe (Lehrer)'!AA55)","v":""},{"$f":"IF('A) Eingabe (Lehrer)'!AB55=\"\", \"\",'A) Eingabe (Lehrer)'!AB55)","v":""},{"$f":"IF('A) Eingabe (Lehrer)'!AC55=\"\", \"\",'A) Eingabe (Lehrer)'!AC55)","v":""},{"$f":"IF('A) Eingabe (Lehrer)'!AD55=\"\", \"\",'A) Eingabe (Lehrer)'!AD55)","v":""},{"$f":"IF('A) Eingabe (Lehrer)'!AE55=\"\", \"\",'A) Eingabe (Lehrer)'!AE55)","v":""},{"$f":"IF('A) Eingabe (Lehrer)'!AF55=\"\", \"\",'A) Eingabe (Lehrer)'!AF55)","v":""},{"$f":"IF('A) Eingabe (Lehrer)'!AG55=\"\", \"\",'A) Eingabe (Lehrer)'!AG55)","v":""},{"$f":"IF('A) Eingabe (Lehrer)'!AH55=\"\", \"\",'A) Eingabe (Lehrer)'!AH55)","v":""},{"$f":"IF('A) Eingabe (Lehrer)'!AI55=\"\", \"\",'A) Eingabe (Lehrer)'!AI55)","v":""},{"$f":"IF('A) Eingabe (Lehrer)'!AJ55=\"\", \"\",'A) Eingabe (Lehrer)'!AJ55)","v":""},{"$f":"IF('A) Eingabe (Lehrer)'!AK55=\"\", \"\",'A) Eingabe (Lehrer)'!AK55)","v":""},{"$f":"IF('A) Eingabe (Lehrer)'!AL55=\"\", \"\",'A) Eingabe (Lehrer)'!AL55)","v":""},{"$f":"IF('A) Eingabe (Lehrer)'!AM55=\"\", \"\",'A) Eingabe (Lehrer)'!AM55)","v":""},{"$f":"IF('A) Eingabe (Lehrer)'!AN55=\"\", \"\",'A) Eingabe (Lehrer)'!AN55)","v":""},{"$f":"IF('A) Eingabe (Lehrer)'!AO55=\"\", \"\",'A) Eingabe (Lehrer)'!AO55)","v":""},{"$f":"IF('A) Eingabe (Lehrer)'!AP55=\"\", \"\",'A) Eingabe (Lehrer)'!AP55)","v":""},{"$f":"IF('A) Eingabe (Lehrer)'!AQ55=\"\", \"\",'A) Eingabe (Lehrer)'!AQ55)","v":""},{"$f":"IF('A) Eingabe (Lehrer)'!AR55=\"\", \"\",'A) Eingabe (Lehrer)'!AR55)","v":""},{"$f":"IF('A) Eingabe (Lehrer)'!AS55=\"\", \"\",'A) Eingabe (Lehrer)'!AS55)","v":""},{"$f":"IF('A) Eingabe (Lehrer)'!AT55=\"\", \"\",'A) Eingabe (Lehrer)'!AT55)","v":""},{"$f":"IF('A) Eingabe (Lehrer)'!AU55=\"\", \"\",'A) Eingabe (Lehrer)'!AU55)","v":""},{"$f":"IF('A) Eingabe (Lehrer)'!AV55=\"\", \"\",'A) Eingabe (Lehrer)'!AV55)","v":""},{"$f":"IF('A) Eingabe (Lehrer)'!AW55=\"\", \"\",'A) Eingabe (Lehrer)'!AW55)","v":""},{"$f":"IF('A) Eingabe (Lehrer)'!AX55=\"\", \"\",'A) Eingabe (Lehrer)'!AX55)","v":""},{"$f":"IF('A) Eingabe (Lehrer)'!AY55=\"\", \"\",'A) Eingabe (Lehrer)'!AY55)","v":""},{"$f":"IF('A) Eingabe (Lehrer)'!AZ55=\"\", \"\",'A) Eingabe (Lehrer)'!AZ55)","v":""},{"$f":"IF('A) Eingabe (Lehrer)'!BA55=\"\", \"\",'A) Eingabe (Lehrer)'!BA55)","v":""},{"$f":"IF('A) Eingabe (Lehrer)'!BB55=\"\", \"\",'A) Eingabe (Lehrer)'!BB55)","v":""},{"$f":"IF('A) Eingabe (Lehrer)'!BC55=\"\", \"\",'A) Eingabe (Lehrer)'!BC55)","v":""},{"$f":"IF('A) Eingabe (Lehrer)'!BD55=\"\", \"\",'A) Eingabe (Lehrer)'!BD55)","v":""},{"$f":"IF('A) Eingabe (Lehrer)'!BE55=\"\", \"\",'A) Eingabe (Lehrer)'!BE55)","v":""},{"$f":"IF('A) Eingabe (Lehrer)'!BF55=\"\", \"\",'A) Eingabe (Lehrer)'!BF55)","v":""},{"$f":"IF('A) Eingabe (Lehrer)'!BG55=\"\", \"\",'A) Eingabe (Lehrer)'!BG55)","v":""},{"$f":"IF('A) Eingabe (Lehrer)'!BH55=\"\", \"\",'A) Eingabe (Lehrer)'!BH55)","v":""},{"$f":"IF('A) Eingabe (Lehrer)'!BI55=\"\", \"\",'A) Eingabe (Lehrer)'!BI55)","v":""},{"$f":"IF('A) Eingabe (Lehrer)'!BJ55=\"\", \"\",'A) Eingabe (Lehrer)'!BJ55)","v":""},{"$f":"IF('A) Eingabe (Lehrer)'!BK55=\"\", \"\",'A) Eingabe (Lehrer)'!BK55)","v":""}]
["Item 40",{"$f":"IF('A) Eingabe (Lehrer)'!C56=\"\", \"\",'A) Eingabe (Lehrer)'!C56)","v":""},{"$f":"IF('A) Eingabe (Lehrer)'!D56=\"\", \"\",'A) Eingabe (Lehrer)'!D56)","v":""},{"$f":"IF('A) Eingabe (Lehrer)'!E56=\"\", \"\",'A) Eingabe (Lehrer)'!E56)","v":""},{"$f":"IF('A) Eingabe (Lehrer)'!F56=\"\", \"\",'A) Eingabe (Lehrer)'!F56)","v":""},{"$f":"IF('A) Eingabe (Lehrer)'!G56=\"\", \"\",'A) Eingabe (Lehrer)'!G56)","v":""},{"$f":"IF('A) Eingabe (Lehrer)'!H56=\"\", \"\",'A) Eingabe (Lehrer)'!H56)","v":""},{"$f":"IF('A) Eingabe (Lehrer)'!I56=\"\", \"\",'A) Eingabe (Lehrer)'!I56)","v":""},{"$f":"IF('A) Eingabe (Lehrer)'!J56=\"\", \"\",'A) Eingabe (Lehrer)'!J56)","v":""},{"$f":"IF('A) Eingabe (Lehrer)'!K56=\"\", \"\",'A) Eingabe (Lehrer)'!K56)","v":""},{"$f":"IF('A) Eingabe (Lehrer)'!L56=\"\", \"\",'A) Eingabe (Lehrer)'!L56)","v":""},{"$f":"IF('A) Eingabe (Lehrer)'!M56=\"\", \"\",'A) Eingabe (Lehrer)'!M56)","v":""},{"$f":"IF('A) Eingabe (Lehrer)'!N56=\"\", \"\",'A) Eingabe (Lehrer)'!N56)","v":""},{"$f":"IF('A) Eingabe (Lehrer)'!O56=\"\", \"\",'A) Eingabe (Lehrer)'!O56)","v":""},{"$f":"IF('A) Eingabe (Lehrer)'!P56=\"\", \"\",'A) Eingabe (Lehrer)'!P56)","v":""},{"$f":"IF('A) Eingabe (Lehrer)'!Q56=\"\", \"\",'A) Eingabe (Lehrer)'!Q56)","v":""},{"$f":"IF('A) Eingabe (Lehrer)'!R56=\"\", \"\",'A) Eingabe (Lehrer)'!R56)","v":""},{"$f":"IF('A) Eingabe (Lehrer)'!S56=\"\", \"\",'A) Eingabe (Lehrer)'!S56)","v":""},{"$f":"IF('A) Eingabe (Lehrer)'!T56=\"\", \"\",'A) Eingabe (Lehrer)'!T56)","v":""},{"$f":"IF('A) Eingabe (Lehrer)'!U56=\"\", \"\",'A) Eingabe (Lehrer)'!U56)","v":""},{"$f":"IF('A) Eingabe (Lehrer)'!V56=\"\", \"\",'A) Eingabe (Lehrer)'!V56)","v":""},{"$f":"IF('A) Eingabe (Lehrer)'!W56=\"\", \"\",'A) Eingabe (Lehrer)'!W56)","v":""},{"$f":"IF('A) Eingabe (Lehrer)'!X56=\"\", \"\",'A) Eingabe (Lehrer)'!X56)","v":""},{"$f":"IF('A) Eingabe (Lehrer)'!Y56=\"\", \"\",'A) Eingabe (Lehrer)'!Y56)","v":""},{"$f":"IF('A) Eingabe (Lehrer)'!Z56=\"\", \"\",'A) Eingabe (Lehrer)'!Z56)","v":""},{"$f":"IF('A) Eingabe (Lehrer)'!AA56=\"\", \"\",'A) Eingabe (Lehrer)'!AA56)","v":""},{"$f":"IF('A) Eingabe (Lehrer)'!AB56=\"\", \"\",'A) Eingabe (Lehrer)'!AB56)","v":""},{"$f":"IF('A) Eingabe (Lehrer)'!AC56=\"\", \"\",'A) Eingabe (Lehrer)'!AC56)","v":""},{"$f":"IF('A) Eingabe (Lehrer)'!AD56=\"\", \"\",'A) Eingabe (Lehrer)'!AD56)","v":""},{"$f":"IF('A) Eingabe (Lehrer)'!AE56=\"\", \"\",'A) Eingabe (Lehrer)'!AE56)","v":""},{"$f":"IF('A) Eingabe (Lehrer)'!AF56=\"\", \"\",'A) Eingabe (Lehrer)'!AF56)","v":""},{"$f":"IF('A) Eingabe (Lehrer)'!AG56=\"\", \"\",'A) Eingabe (Lehrer)'!AG56)","v":""},{"$f":"IF('A) Eingabe (Lehrer)'!AH56=\"\", \"\",'A) Eingabe (Lehrer)'!AH56)","v":""},{"$f":"IF('A) Eingabe (Lehrer)'!AI56=\"\", \"\",'A) Eingabe (Lehrer)'!AI56)","v":""},{"$f":"IF('A) Eingabe (Lehrer)'!AJ56=\"\", \"\",'A) Eingabe (Lehrer)'!AJ56)","v":""},{"$f":"IF('A) Eingabe (Lehrer)'!AK56=\"\", \"\",'A) Eingabe (Lehrer)'!AK56)","v":""},{"$f":"IF('A) Eingabe (Lehrer)'!AL56=\"\", \"\",'A) Eingabe (Lehrer)'!AL56)","v":""},{"$f":"IF('A) Eingabe (Lehrer)'!AM56=\"\", \"\",'A) Eingabe (Lehrer)'!AM56)","v":""},{"$f":"IF('A) Eingabe (Lehrer)'!AN56=\"\", \"\",'A) Eingabe (Lehrer)'!AN56)","v":""},{"$f":"IF('A) Eingabe (Lehrer)'!AO56=\"\", \"\",'A) Eingabe (Lehrer)'!AO56)","v":""},{"$f":"IF('A) Eingabe (Lehrer)'!AP56=\"\", \"\",'A) Eingabe (Lehrer)'!AP56)","v":""},{"$f":"IF('A) Eingabe (Lehrer)'!AQ56=\"\", \"\",'A) Eingabe (Lehrer)'!AQ56)","v":""},{"$f":"IF('A) Eingabe (Lehrer)'!AR56=\"\", \"\",'A) Eingabe (Lehrer)'!AR56)","v":""},{"$f":"IF('A) Eingabe (Lehrer)'!AS56=\"\", \"\",'A) Eingabe (Lehrer)'!AS56)","v":""},{"$f":"IF('A) Eingabe (Lehrer)'!AT56=\"\", \"\",'A) Eingabe (Lehrer)'!AT56)","v":""},{"$f":"IF('A) Eingabe (Lehrer)'!AU56=\"\", \"\",'A) Eingabe (Lehrer)'!AU56)","v":""},{"$f":"IF('A) Eingabe (Lehrer)'!AV56=\"\", \"\",'A) Eingabe (Lehrer)'!AV56)","v":""},{"$f":"IF('A) Eingabe (Lehrer)'!AW56=\"\", \"\",'A) Eingabe (Lehrer)'!AW56)","v":""},{"$f":"IF('A) Eingabe (Lehrer)'!AX56=\"\", \"\",'A) Eingabe (Lehrer)'!AX56)","v":""},{"$f":"IF('A) Eingabe (Lehrer)'!AY56=\"\", \"\",'A) Eingabe (Lehrer)'!AY56)","v":""},{"$f":"IF('A) Eingabe (Lehrer)'!AZ56=\"\", \"\",'A) Eingabe (Lehrer)'!AZ56)","v":""},{"$f":"IF('A) Eingabe (Lehrer)'!BA56=\"\", \"\",'A) Eingabe (Lehrer)'!BA56)","v":""},{"$f":"IF('A) Eingabe (Lehrer)'!BB56=\"\", \"\",'A) Eingabe (Lehrer)'!BB56)","v":""},{"$f":"IF('A) Eingabe (Lehrer)'!BC56=\"\", \"\",'A) Eingabe (Lehrer)'!BC56)","v":""},{"$f":"IF('A) Eingabe (Lehrer)'!BD56=\"\", \"\",'A) Eingabe (Lehrer)'!BD56)","v":""},{"$f":"IF('A) Eingabe (Lehrer)'!BE56=\"\", \"\",'A) Eingabe (Lehrer)'!BE56)","v":""},{"$f":"IF('A) Eingabe (Lehrer)'!BF56=\"\", \"\",'A) Eingabe (Lehrer)'!BF56)","v":""},{"$f":"IF('A) Eingabe (Lehrer)'!BG56=\"\", \"\",'A) Eingabe (Lehrer)'!BG56)","v":""},{"$f":"IF('A) Eingabe (Lehrer)'!BH56=\"\", \"\",'A) Eingabe (Lehrer)'!BH56)","v":""},{"$f":"IF('A) Eingabe (Lehrer)'!BI56=\"\", \"\",'A) Eingabe (Lehrer)'!BI56)","v":""},{"$f":"IF('A) Eingabe (Lehrer)'!BJ56=\"\", \"\",'A) Eingabe (Lehrer)'!BJ56)","v":""},{"$f":"IF('A) Eingabe (Lehrer)'!BK56=\"\", \"\",'A) Eingabe (Lehrer)'!BK56)","v":""}]
["Item 41",{"$f":"IF('A) Eingabe (Lehrer)'!C57=\"\", \"\",'A) Eingabe (Lehrer)'!C57)","v":""},{"$f":"IF('A) Eingabe (Lehrer)'!D57=\"\", \"\",'A) Eingabe (Lehrer)'!D57)","v":""},{"$f":"IF('A) Eingabe (Lehrer)'!E57=\"\", \"\",'A) Eingabe (Lehrer)'!E57)","v":""},{"$f":"IF('A) Eingabe (Lehrer)'!F57=\"\", \"\",'A) Eingabe (Lehrer)'!F57)","v":""},{"$f":"IF('A) Eingabe (Lehrer)'!G57=\"\", \"\",'A) Eingabe (Lehrer)'!G57)","v":""},{"$f":"IF('A) Eingabe (Lehrer)'!H57=\"\", \"\",'A) Eingabe (Lehrer)'!H57)","v":""},{"$f":"IF('A) Eingabe (Lehrer)'!I57=\"\", \"\",'A) Eingabe (Lehrer)'!I57)","v":""},{"$f":"IF('A) Eingabe (Lehrer)'!J57=\"\", \"\",'A) Eingabe (Lehrer)'!J57)","v":""},{"$f":"IF('A) Eingabe (Lehrer)'!K57=\"\", \"\",'A) Eingabe (Lehrer)'!K57)","v":""},{"$f":"IF('A) Eingabe (Lehrer)'!L57=\"\", \"\",'A) Eingabe (Lehrer)'!L57)","v":""},{"$f":"IF('A) Eingabe (Lehrer)'!M57=\"\", \"\",'A) Eingabe (Lehrer)'!M57)","v":""},{"$f":"IF('A) Eingabe (Lehrer)'!N57=\"\", \"\",'A) Eingabe (Lehrer)'!N57)","v":""},{"$f":"IF('A) Eingabe (Lehrer)'!O57=\"\", \"\",'A) Eingabe (Lehrer)'!O57)","v":""},{"$f":"IF('A) Eingabe (Lehrer)'!P57=\"\", \"\",'A) Eingabe (Lehrer)'!P57)","v":""},{"$f":"IF('A) Eingabe (Lehrer)'!Q57=\"\", \"\",'A) Eingabe (Lehrer)'!Q57)","v":""},{"$f":"IF('A) Eingabe (Lehrer)'!R57=\"\", \"\",'A) Eingabe (Lehrer)'!R57)","v":""},{"$f":"IF('A) Eingabe (Lehrer)'!S57=\"\", \"\",'A) Eingabe (Lehrer)'!S57)","v":""},{"$f":"IF('A) Eingabe (Lehrer)'!T57=\"\", \"\",'A) Eingabe (Lehrer)'!T57)","v":""},{"$f":"IF('A) Eingabe (Lehrer)'!U57=\"\", \"\",'A) Eingabe (Lehrer)'!U57)","v":""},{"$f":"IF('A) Eingabe (Lehrer)'!V57=\"\", \"\",'A) Eingabe (Lehrer)'!V57)","v":""},{"$f":"IF('A) Eingabe (Lehrer)'!W57=\"\", \"\",'A) Eingabe (Lehrer)'!W57)","v":""},{"$f":"IF('A) Eingabe (Lehrer)'!X57=\"\", \"\",'A) Eingabe (Lehrer)'!X57)","v":""},{"$f":"IF('A) Eingabe (Lehrer)'!Y57=\"\", \"\",'A) Eingabe (Lehrer)'!Y57)","v":""},{"$f":"IF('A) Eingabe (Lehrer)'!Z57=\"\", \"\",'A) Eingabe (Lehrer)'!Z57)","v":""},{"$f":"IF('A) Eingabe (Lehrer)'!AA57=\"\", \"\",'A) Eingabe (Lehrer)'!AA57)","v":""},{"$f":"IF('A) Eingabe (Lehrer)'!AB57=\"\", \"\",'A) Eingabe (Lehrer)'!AB57)","v":""},{"$f":"IF('A) Eingabe (Lehrer)'!AC57=\"\", \"\",'A) Eingabe (Lehrer)'!AC57)","v":""},{"$f":"IF('A) Eingabe (Lehrer)'!AD57=\"\", \"\",'A) Eingabe (Lehrer)'!AD57)","v":""},{"$f":"IF('A) Eingabe (Lehrer)'!AE57=\"\", \"\",'A) Eingabe (Lehrer)'!AE57)","v":""},{"$f":"IF('A) Eingabe (Lehrer)'!AF57=\"\", \"\",'A) Eingabe (Lehrer)'!AF57)","v":""},{"$f":"IF('A) Eingabe (Lehrer)'!AG57=\"\", \"\",'A) Eingabe (Lehrer)'!AG57)","v":""},{"$f":"IF('A) Eingabe (Lehrer)'!AH57=\"\", \"\",'A) Eingabe (Lehrer)'!AH57)","v":""},{"$f":"IF('A) Eingabe (Lehrer)'!AI57=\"\", \"\",'A) Eingabe (Lehrer)'!AI57)","v":""},{"$f":"IF('A) Eingabe (Lehrer)'!AJ57=\"\", \"\",'A) Eingabe (Lehrer)'!AJ57)","v":""},{"$f":"IF('A) Eingabe (Lehrer)'!AK57=\"\", \"\",'A) Eingabe (Lehrer)'!AK57)","v":""},{"$f":"IF('A) Eingabe (Lehrer)'!AL57=\"\", \"\",'A) Eingabe (Lehrer)'!AL57)","v":""},{"$f":"IF('A) Eingabe (Lehrer)'!AM57=\"\", \"\",'A) Eingabe (Lehrer)'!AM57)","v":""},{"$f":"IF('A) Eingabe (Lehrer)'!AN57=\"\", \"\",'A) Eingabe (Lehrer)'!AN57)","v":""},{"$f":"IF('A) Eingabe (Lehrer)'!AO57=\"\", \"\",'A) Eingabe (Lehrer)'!AO57)","v":""},{"$f":"IF('A) Eingabe (Lehrer)'!AP57=\"\", \"\",'A) Eingabe (Lehrer)'!AP57)","v":""},{"$f":"IF('A) Eingabe (Lehrer)'!AQ57=\"\", \"\",'A) Eingabe (Lehrer)'!AQ57)","v":""},{"$f":"IF('A) Eingabe (Lehrer)'!AR57=\"\", \"\",'A) Eingabe (Lehrer)'!AR57)","v":""},{"$f":"IF('A) Eingabe (Lehrer)'!AS57=\"\", \"\",'A) Eingabe (Lehrer)'!AS57)","v":""},{"$f":"IF('A) Eingabe (Lehrer)'!AT57=\"\", \"\",'A) Eingabe (Lehrer)'!AT57)","v":""},{"$f":"IF('A) Eingabe (Lehrer)'!AU57=\"\", \"\",'A) Eingabe (Lehrer)'!AU57)","v":""},{"$f":"IF('A) Eingabe (Lehrer)'!AV57=\"\", \"\",'A) Eingabe (Lehrer)'!AV57)","v":""},{"$f":"IF('A) Eingabe (Lehrer)'!AW57=\"\", \"\",'A) Eingabe (Lehrer)'!AW57)","v":""},{"$f":"IF('A) Eingabe (Lehrer)'!AX57=\"\", \"\",'A) Eingabe (Lehrer)'!AX57)","v":""},{"$f":"IF('A) Eingabe (Lehrer)'!AY57=\"\", \"\",'A) Eingabe (Lehrer)'!AY57)","v":""},{"$f":"IF('A) Eingabe (Lehrer)'!AZ57=\"\", \"\",'A) Eingabe (Lehrer)'!AZ57)","v":""},{"$f":"IF('A) Eingabe (Lehrer)'!BA57=\"\", \"\",'A) Eingabe (Lehrer)'!BA57)","v":""},{"$f":"IF('A) Eingabe (Lehrer)'!BB57=\"\", \"\",'A) Eingabe (Lehrer)'!BB57)","v":""},{"$f":"IF('A) Eingabe (Lehrer)'!BC57=\"\", \"\",'A) Eingabe (Lehrer)'!BC57)","v":""},{"$f":"IF('A) Eingabe (Lehrer)'!BD57=\"\", \"\",'A) Eingabe (Lehrer)'!BD57)","v":""},{"$f":"IF('A) Eingabe (Lehrer)'!BE57=\"\", \"\",'A) Eingabe (Lehrer)'!BE57)","v":""},{"$f":"IF('A) Eingabe (Lehrer)'!BF57=\"\", \"\",'A) Eingabe (Lehrer)'!BF57)","v":""},{"$f":"IF('A) Eingabe (Lehrer)'!BG57=\"\", \"\",'A) Eingabe (Lehrer)'!BG57)","v":""},{"$f":"IF('A) Eingabe (Lehrer)'!BH57=\"\", \"\",'A) Eingabe (Lehrer)'!BH57)","v":""},{"$f":"IF('A) Eingabe (Lehrer)'!BI57=\"\", \"\",'A) Eingabe (Lehrer)'!BI57)","v":""},{"$f":"IF('A) Eingabe (Lehrer)'!BJ57=\"\", \"\",'A) Eingabe (Lehrer)'!BJ57)","v":""},{"$f":"IF('A) Eingabe (Lehrer)'!BK57=\"\", \"\",'A) Eingabe (Lehrer)'!BK57)","v":""}]
["Item 42",{"$f":"IF('A) Eingabe (Lehrer)'!C58=\"\", \"\",'A) Eingabe (Lehrer)'!C58)","v":""},{"$f":"IF('A) Eingabe (Lehrer)'!D58=\"\", \"\",'A) Eingabe (Lehrer)'!D58)","v":""},{"$f":"IF('A) Eingabe (Lehrer)'!E58=\"\", \"\",'A) Eingabe (Lehrer)'!E58)","v":""},{"$f":"IF('A) Eingabe (Lehrer)'!F58=\"\", \"\",'A) Eingabe (Lehrer)'!F58)","v":""},{"$f":"IF('A) Eingabe (Lehrer)'!G58=\"\", \"\",'A) Eingabe (Lehrer)'!G58)","v":""},{"$f":"IF('A) Eingabe (Lehrer)'!H58=\"\", \"\",'A) Eingabe (Lehrer)'!H58)","v":""},{"$f":"IF('A) Eingabe (Lehrer)'!I58=\"\", \"\",'A) Eingabe (Lehrer)'!I58)","v":""},{"$f":"IF('A) Eingabe (Lehrer)'!J58=\"\", \"\",'A) Eingabe (Lehrer)'!J58)","v":""},{"$f":"IF('A) Eingabe (Lehrer)'!K58=\"\", \"\",'A) Eingabe (Lehrer)'!K58)","v":""},{"$f":"IF('A) Eingabe (Lehrer)'!L58=\"\", \"\",'A) Eingabe (Lehrer)'!L58)","v":""},{"$f":"IF('A) Eingabe (Lehrer)'!M58=\"\", \"\",'A) Eingabe (Lehrer)'!M58)","v":""},{"$f":"IF('A) Eingabe (Lehrer)'!N58=\"\", \"\",'A) Eingabe (Lehrer)'!N58)","v":""},{"$f":"IF('A) Eingabe (Lehrer)'!O58=\"\", \"\",'A) Eingabe (Lehrer)'!O58)","v":""},{"$f":"IF('A) Eingabe (Lehrer)'!P58=\"\", \"\",'A) Eingabe (Lehrer)'!P58)","v":""},{"$f":"IF('A) Eingabe (Lehrer)'!Q58=\"\", \"\",'A) Eingabe (Lehrer)'!Q58)","v":""},{"$f":"IF('A) Eingabe (Lehrer)'!R58=\"\", \"\",'A) Eingabe (Lehrer)'!R58)","v":""},{"$f":"IF('A) Eingabe (Lehrer)'!S58=\"\", \"\",'A) Eingabe (Lehrer)'!S58)","v":""},{"$f":"IF('A) Eingabe (Lehrer)'!T58=\"\", \"\",'A) Eingabe (Lehrer)'!T58)","v":""},{"$f":"IF('A) Eingabe (Lehrer)'!U58=\"\", \"\",'A) Eingabe (Lehrer)'!U58)","v":""},{"$f":"IF('A) Eingabe (Lehrer)'!V58=\"\", \"\",'A) Eingabe (Lehrer)'!V58)","v":""},{"$f":"IF('A) Eingabe (Lehrer)'!W58=\"\", \"\",'A) Eingabe (Lehrer)'!W58)","v":""},{"$f":"IF('A) Eingabe (Lehrer)'!X58=\"\", \"\",'A) Eingabe (Lehrer)'!X58)","v":""},{"$f":"IF('A) Eingabe (Lehrer)'!Y58=\"\", \"\",'A) Eingabe (Lehrer)'!Y58)","v":""},{"$f":"IF('A) Eingabe (Lehrer)'!Z58=\"\", \"\",'A) Eingabe (Lehrer)'!Z58)","v":""},{"$f":"IF('A) Eingabe (Lehrer)'!AA58=\"\", \"\",'A) Eingabe (Lehrer)'!AA58)","v":""},{"$f":"IF('A) Eingabe (Lehrer)'!AB58=\"\", \"\",'A) Eingabe (Lehrer)'!AB58)","v":""},{"$f":"IF('A) Eingabe (Lehrer)'!AC58=\"\", \"\",'A) Eingabe (Lehrer)'!AC58)","v":""},{"$f":"IF('A) Eingabe (Lehrer)'!AD58=\"\", \"\",'A) Eingabe (Lehrer)'!AD58)","v":""},{"$f":"IF('A) Eingabe (Lehrer)'!AE58=\"\", \"\",'A) Eingabe (Lehrer)'!AE58)","v":""},{"$f":"IF('A) Eingabe (Lehrer)'!AF58=\"\", \"\",'A) Eingabe (Lehrer)'!AF58)","v":""},{"$f":"IF('A) Eingabe (Lehrer)'!AG58=\"\", \"\",'A) Eingabe (Lehrer)'!AG58)","v":""},{"$f":"IF('A) Eingabe (Lehrer)'!AH58=\"\", \"\",'A) Eingabe (Lehrer)'!AH58)","v":""},{"$f":"IF('A) Eingabe (Lehrer)'!AI58=\"\", \"\",'A) Eingabe (Lehrer)'!AI58)","v":""},{"$f":"IF('A) Eingabe (Lehrer)'!AJ58=\"\", \"\",'A) Eingabe (Lehrer)'!AJ58)","v":""},{"$f":"IF('A) Eingabe (Lehrer)'!AK58=\"\", \"\",'A) Eingabe (Lehrer)'!AK58)","v":""},{"$f":"IF('A) Eingabe (Lehrer)'!AL58=\"\", \"\",'A) Eingabe (Lehrer)'!AL58)","v":""},{"$f":"IF('A) Eingabe (Lehrer)'!AM58=\"\", \"\",'A) Eingabe (Lehrer)'!AM58)","v":""},{"$f":"IF('A) Eingabe (Lehrer)'!AN58=\"\", \"\",'A) Eingabe (Lehrer)'!AN58)","v":""},{"$f":"IF('A) Eingabe (Lehrer)'!AO58=\"\", \"\",'A) Eingabe (Lehrer)'!AO58)","v":""},{"$f":"IF('A) Eingabe (Lehrer)'!AP58=\"\", \"\",'A) Eingabe (Lehrer)'!AP58)","v":""},{"$f":"IF('A) Eingabe (Lehrer)'!AQ58=\"\", \"\",'A) Eingabe (Lehrer)'!AQ58)","v":""},{"$f":"IF('A) Eingabe (Lehrer)'!AR58=\"\", \"\",'A) Eingabe (Lehrer)'!AR58)","v":""},{"$f":"IF('A) Eingabe (Lehrer)'!AS58=\"\", \"\",'A) Eingabe (Lehrer)'!AS58)","v":""},{"$f":"IF('A) Eingabe (Lehrer)'!AT58=\"\", \"\",'A) Eingabe (Lehrer)'!AT58)","v":""},{"$f":"IF('A) Eingabe (Lehrer)'!AU58=\"\", \"\",'A) Eingabe (Lehrer)'!AU58)","v":""},{"$f":"IF('A) Eingabe (Lehrer)'!AV58=\"\", \"\",'A) Eingabe (Lehrer)'!AV58)","v":""},{"$f":"IF('A) Eingabe (Lehrer)'!AW58=\"\", \"\",'A) Eingabe (Lehrer)'!AW58)","v":""},{"$f":"IF('A) Eingabe (Lehrer)'!AX58=\"\", \"\",'A) Eingabe (Lehrer)'!AX58)","v":""},{"$f":"IF('A) Eingabe (Lehrer)'!AY58=\"\", \"\",'A) Eingabe (Lehrer)'!AY58)","v":""},{"$f":"IF('A) Eingabe (Lehrer)'!AZ58=\"\", \"\",'A) Eingabe (Lehrer)'!AZ58)","v":""},{"$f":"IF('A) Eingabe (Lehrer)'!BA58=\"\", \"\",'A) Eingabe (Lehrer)'!BA58)","v":""},{"$f":"IF('A) Eingabe (Lehrer)'!BB58=\"\", \"\",'A) Eingabe (Lehrer)'!BB58)","v":""},{"$f":"IF('A) Eingabe (Lehrer)'!BC58=\"\", \"\",'A) Eingabe (Lehrer)'!BC58)","v":""},{"$f":"IF('A) Eingabe (Lehrer)'!BD58=\"\", \"\",'A) Eingabe (Lehrer)'!BD58)","v":""},{"$f":"IF('A) Eingabe (Lehrer)'!BE58=\"\", \"\",'A) Eingabe (Lehrer)'!BE58)","v":""},{"$f":"IF('A) Eingabe (Lehrer)'!BF58=\"\", \"\",'A) Eingabe (Lehrer)'!BF58)","v":""},{"$f":"IF('A) Eingabe (Lehrer)'!BG58=\"\", \"\",'A) Eingabe (Lehrer)'!BG58)","v":""},{"$f":"IF('A) Eingabe (Lehrer)'!BH58=\"\", \"\",'A) Eingabe (Lehrer)'!BH58)","v":""},{"$f":"IF('A) Eingabe (Lehrer)'!BI58=\"\", \"\",'A) Eingabe (Lehrer)'!BI58)","v":""},{"$f":"IF('A) Eingabe (Lehrer)'!BJ58=\"\", \"\",'A) Eingabe (Lehrer)'!BJ58)","v":""},{"$f":"IF('A) Eingabe (Lehrer)'!BK58=\"\", \"\",'A) Eingabe (Lehrer)'!BK58)","v":""}]
["Item 43",{"$f":"IF('A) Eingabe (Lehrer)'!C59=\"\", \"\",'A) Eingabe (Lehrer)'!C59)","v":""},{"$f":"IF('A) Eingabe (Lehrer)'!D59=\"\", \"\",'A) Eingabe (Lehrer)'!D59)","v":""},{"$f":"IF('A) Eingabe (Lehrer)'!E59=\"\", \"\",'A) Eingabe (Lehrer)'!E59)","v":""},{"$f":"IF('A) Eingabe (Lehrer)'!F59=\"\", \"\",'A) Eingabe (Lehrer)'!F59)","v":""},{"$f":"IF('A) Eingabe (Lehrer)'!G59=\"\", \"\",'A) Eingabe (Lehrer)'!G59)","v":""},{"$f":"IF('A) Eingabe (Lehrer)'!H59=\"\", \"\",'A) Eingabe (Lehrer)'!H59)","v":""},{"$f":"IF('A) Eingabe (Lehrer)'!I59=\"\", \"\",'A) Eingabe (Lehrer)'!I59)","v":""},{"$f":"IF('A) Eingabe (Lehrer)'!J59=\"\", \"\",'A) Eingabe (Lehrer)'!J59)","v":""},{"$f":"IF('A) Eingabe (Lehrer)'!K59=\"\", \"\",'A) Eingabe (Lehrer)'!K59)","v":""},{"$f":"IF('A) Eingabe (Lehrer)'!L59=\"\", \"\",'A) Eingabe (Lehrer)'!L59)","v":""},{"$f":"IF('A) Eingabe (Lehrer)'!M59=\"\", \"\",'A) Eingabe (Lehrer)'!M59)","v":""},{"$f":"IF('A) Eingabe (Lehrer)'!N59=\"\", \"\",'A) Eingabe (Lehrer)'!N59)","v":""},{"$f":"IF('A) Eingabe (Lehrer)'!O59=\"\", \"\",'A) Eingabe (Lehrer)'!O59)","v":""},{"$f":"IF('A) Eingabe (Lehrer)'!P59=\"\", \"\",'A) Eingabe (Lehrer)'!P59)","v":""},{"$f":"IF('A) Eingabe (Lehrer)'!Q59=\"\", \"\",'A) Eingabe (Lehrer)'!Q59)","v":""},{"$f":"IF('A) Eingabe (Lehrer)'!R59=\"\", \"\",'A) Eingabe (Lehrer)'!R59)","v":""},{"$f":"IF('A) Eingabe (Lehrer)'!S59=\"\", \"\",'A) Eingabe (Lehrer)'!S59)","v":""},{"$f":"IF('A) Eingabe (Lehrer)'!T59=\"\", \"\",'A) Eingabe (Lehrer)'!T59)","v":""},{"$f":"IF('A) Eingabe (Lehrer)'!U59=\"\", \"\",'A) Eingabe (Lehrer)'!U59)","v":""},{"$f":"IF('A) Eingabe (Lehrer)'!V59=\"\", \"\",'A) Eingabe (Lehrer)'!V59)","v":""},{"$f":"IF('A) Eingabe (Lehrer)'!W59=\"\", \"\",'A) Eingabe (Lehrer)'!W59)","v":""},{"$f":"IF('A) Eingabe (Lehrer)'!X59=\"\", \"\",'A) Eingabe (Lehrer)'!X59)","v":""},{"$f":"IF('A) Eingabe (Lehrer)'!Y59=\"\", \"\",'A) Eingabe (Lehrer)'!Y59)","v":""},{"$f":"IF('A) Eingabe (Lehrer)'!Z59=\"\", \"\",'A) Eingabe (Lehrer)'!Z59)","v":""},{"$f":"IF('A) Eingabe (Lehrer)'!AA59=\"\", \"\",'A) Eingabe (Lehrer)'!AA59)","v":""},{"$f":"IF('A) Eingabe (Lehrer)'!AB59=\"\", \"\",'A) Eingabe (Lehrer)'!AB59)","v":""},{"$f":"IF('A) Eingabe (Lehrer)'!AC59=\"\", \"\",'A) Eingabe (Lehrer)'!AC59)","v":""},{"$f":"IF('A) Eingabe (Lehrer)'!AD59=\"\", \"\",'A) Eingabe (Lehrer)'!AD59)","v":""},{"$f":"IF('A) Eingabe (Lehrer)'!AE59=\"\", \"\",'A) Eingabe (Lehrer)'!AE59)","v":""},{"$f":"IF('A) Eingabe (Lehrer)'!AF59=\"\", \"\",'A) Eingabe (Lehrer)'!AF59)","v":""},{"$f":"IF('A) Eingabe (Lehrer)'!AG59=\"\", \"\",'A) Eingabe (Lehrer)'!AG59)","v":""},{"$f":"IF('A) Eingabe (Lehrer)'!AH59=\"\", \"\",'A) Eingabe (Lehrer)'!AH59)","v":""},{"$f":"IF('A) Eingabe (Lehrer)'!AI59=\"\", \"\",'A) Eingabe (Lehrer)'!AI59)","v":""},{"$f":"IF('A) Eingabe (Lehrer)'!AJ59=\"\", \"\",'A) Eingabe (Lehrer)'!AJ59)","v":""},{"$f":"IF('A) Eingabe (Lehrer)'!AK59=\"\", \"\",'A) Eingabe (Lehrer)'!AK59)","v":""},{"$f":"IF('A) Eingabe (Lehrer)'!AL59=\"\", \"\",'A) Eingabe (Lehrer)'!AL59)","v":""},{"$f":"IF('A) Eingabe (Lehrer)'!AM59=\"\", \"\",'A) Eingabe (Lehrer)'!AM59)","v":""},{"$f":"IF('A) Eingabe (Lehrer)'!AN59=\"\", \"\",'A) Eingabe (Lehrer)'!AN59)","v":""},{"$f":"IF('A) Eingabe (Lehrer)'!AO59=\"\", \"\",'A) Eingabe (Lehrer)'!AO59)","v":""},{"$f":"IF('A) Eingabe (Lehrer)'!AP59=\"\", \"\",'A) Eingabe (Lehrer)'!AP59)","v":""},{"$f":"IF('A) Eingabe (Lehrer)'!AQ59=\"\", \"\",'A) Eingabe (Lehrer)'!AQ59)","v":""},{"$f":"IF('A) Eingabe (Lehrer)'!AR59=\"\", \"\",'A) Eingabe (Lehrer)'!AR59)","v":""},{"$f":"IF('A) Eingabe (Lehrer)'!AS59=\"\", \"\",'A) Eingabe (Lehrer)'!AS59)","v":""},{"$f":"IF('A) Eingabe (Lehrer)'!AT59=\"\", \"\",'A) Eingabe (Lehrer)'!AT59)","v":""},{"$f":"IF('A) Eingabe (Lehrer)'!AU59=\"\", \"\",'A) Eingabe (Lehrer)'!AU59)","v":""},{"$f":"IF('A) Eingabe (Lehrer)'!AV59=\"\", \"\",'A) Eingabe (Lehrer)'!AV59)","v":""},{"$f":"IF('A) Eingabe (Lehrer)'!AW59=\"\", \"\",'A) Eingabe (Lehrer)'!AW59)","v":""},{"$f":"IF('A) Eingabe (Lehrer)'!AX59=\"\", \"\",'A) Eingabe (Lehrer)'!AX59)","v":""},{"$f":"IF('A) Eingabe (Lehrer)'!AY59=\"\", \"\",'A) Eingabe (Lehrer)'!AY59)","v":""},{"$f":"IF('A) Eingabe (Lehrer)'!AZ59=\"\", \"\",'A) Eingabe (Lehrer)'!AZ59)","v":""},{"$f":"IF('A) Eingabe (Lehrer)'!BA59=\"\", \"\",'A) Eingabe (Lehrer)'!BA59)","v":""},{"$f":"IF('A) Eingabe (Lehrer)'!BB59=\"\", \"\",'A) Eingabe (Lehrer)'!BB59)","v":""},{"$f":"IF('A) Eingabe (Lehrer)'!BC59=\"\", \"\",'A) Eingabe (Lehrer)'!BC59)","v":""},{"$f":"IF('A) Eingabe (Lehrer)'!BD59=\"\", \"\",'A) Eingabe (Lehrer)'!BD59)","v":""},{"$f":"IF('A) Eingabe (Lehrer)'!BE59=\"\", \"\",'A) Eingabe (Lehrer)'!BE59)","v":""},{"$f":"IF('A) Eingabe (Lehrer)'!BF59=\"\", \"\",'A) Eingabe (Lehrer)'!BF59)","v":""},{"$f":"IF('A) Eingabe (Lehrer)'!BG59=\"\", \"\",'A) Eingabe (Lehrer)'!BG59)","v":""},{"$f":"IF('A) Eingabe (Lehrer)'!BH59=\"\", \"\",'A) Eingabe (Lehrer)'!BH59)","v":""},{"$f":"IF('A) Eingabe (Lehrer)'!BI59=\"\", \"\",'A) Eingabe (Lehrer)'!BI59)","v":""},{"$f":"IF('A) Eingabe (Lehrer)'!BJ59=\"\", \"\",'A) Eingabe (Lehrer)'!BJ59)","v":""},{"$f":"IF('A) Eingabe (Lehrer)'!BK59=\"\", \"\",'A) Eingabe (Lehrer)'!BK59)","v":""}]
["Item 44",{"$f":"IF('A) Eingabe (Lehrer)'!C60=\"\", \"\",'A) Eingabe (Lehrer)'!C60)","v":""},{"$f":"IF('A) Eingabe (Lehrer)'!D60=\"\", \"\",'A) Eingabe (Lehrer)'!D60)","v":""},{"$f":"IF('A) Eingabe (Lehrer)'!E60=\"\", \"\",'A) Eingabe (Lehrer)'!E60)","v":""},{"$f":"IF('A) Eingabe (Lehrer)'!F60=\"\", \"\",'A) Eingabe (Lehrer)'!F60)","v":""},{"$f":"IF('A) Eingabe (Lehrer)'!G60=\"\", \"\",'A) Eingabe (Lehrer)'!G60)","v":""},{"$f":"IF('A) Eingabe (Lehrer)'!H60=\"\", \"\",'A) Eingabe (Lehrer)'!H60)","v":""},{"$f":"IF('A) Eingabe (Lehrer)'!I60=\"\", \"\",'A) Eingabe (Lehrer)'!I60)","v":""},{"$f":"IF('A) Eingabe (Lehrer)'!J60=\"\", \"\",'A) Eingabe (Lehrer)'!J60)","v":""},{"$f":"IF('A) Eingabe (Lehrer)'!K60=\"\", \"\",'A) Eingabe (Lehrer)'!K60)","v":""},{"$f":"IF('A) Eingabe (Lehrer)'!L60=\"\", \"\",'A) Eingabe (Lehrer)'!L60)","v":""},{"$f":"IF('A) Eingabe (Lehrer)'!M60=\"\", \"\",'A) Eingabe (Lehrer)'!M60)","v":""},{"$f":"IF('A) Eingabe (Lehrer)'!N60=\"\", \"\",'A) Eingabe (Lehrer)'!N60)","v":""},{"$f":"IF('A) Eingabe (Lehrer)'!O60=\"\", \"\",'A) Eingabe (Lehrer)'!O60)","v":""},{"$f":"IF('A) Eingabe (Lehrer)'!P60=\"\", \"\",'A) Eingabe (Lehrer)'!P60)","v":""},{"$f":"IF('A) Eingabe (Lehrer)'!Q60=\"\", \"\",'A) Eingabe (Lehrer)'!Q60)","v":""},{"$f":"IF('A) Eingabe (Lehrer)'!R60=\"\", \"\",'A) Eingabe (Lehrer)'!R60)","v":""},{"$f":"IF('A) Eingabe (Lehrer)'!S60=\"\", \"\",'A) Eingabe (Lehrer)'!S60)","v":""},{"$f":"IF('A) Eingabe (Lehrer)'!T60=\"\", \"\",'A) Eingabe (Lehrer)'!T60)","v":""},{"$f":"IF('A) Eingabe (Lehrer)'!U60=\"\", \"\",'A) Eingabe (Lehrer)'!U60)","v":""},{"$f":"IF('A) Eingabe (Lehrer)'!V60=\"\", \"\",'A) Eingabe (Lehrer)'!V60)","v":""},{"$f":"IF('A) Eingabe (Lehrer)'!W60=\"\", \"\",'A) Eingabe (Lehrer)'!W60)","v":""},{"$f":"IF('A) Eingabe (Lehrer)'!X60=\"\", \"\",'A) Eingabe (Lehrer)'!X60)","v":""},{"$f":"IF('A) Eingabe (Lehrer)'!Y60=\"\", \"\",'A) Eingabe (Lehrer)'!Y60)","v":""},{"$f":"IF('A) Eingabe (Lehrer)'!Z60=\"\", \"\",'A) Eingabe (Lehrer)'!Z60)","v":""},{"$f":"IF('A) Eingabe (Lehrer)'!AA60=\"\", \"\",'A) Eingabe (Lehrer)'!AA60)","v":""},{"$f":"IF('A) Eingabe (Lehrer)'!AB60=\"\", \"\",'A) Eingabe (Lehrer)'!AB60)","v":""},{"$f":"IF('A) Eingabe (Lehrer)'!AC60=\"\", \"\",'A) Eingabe (Lehrer)'!AC60)","v":""},{"$f":"IF('A) Eingabe (Lehrer)'!AD60=\"\", \"\",'A) Eingabe (Lehrer)'!AD60)","v":""},{"$f":"IF('A) Eingabe (Lehrer)'!AE60=\"\", \"\",'A) Eingabe (Lehrer)'!AE60)","v":""},{"$f":"IF('A) Eingabe (Lehrer)'!AF60=\"\", \"\",'A) Eingabe (Lehrer)'!AF60)","v":""},{"$f":"IF('A) Eingabe (Lehrer)'!AG60=\"\", \"\",'A) Eingabe (Lehrer)'!AG60)","v":""},{"$f":"IF('A) Eingabe (Lehrer)'!AH60=\"\", \"\",'A) Eingabe (Lehrer)'!AH60)","v":""},{"$f":"IF('A) Eingabe (Lehrer)'!AI60=\"\", \"\",'A) Eingabe (Lehrer)'!AI60)","v":""},{"$f":"IF('A) Eingabe (Lehrer)'!AJ60=\"\", \"\",'A) Eingabe (Lehrer)'!AJ60)","v":""},{"$f":"IF('A) Eingabe (Lehrer)'!AK60=\"\", \"\",'A) Eingabe (Lehrer)'!AK60)","v":""},{"$f":"IF('A) Eingabe (Lehrer)'!AL60=\"\", \"\",'A) Eingabe (Lehrer)'!AL60)","v":""},{"$f":"IF('A) Eingabe (Lehrer)'!AM60=\"\", \"\",'A) Eingabe (Lehrer)'!AM60)","v":""},{"$f":"IF('A) Eingabe (Lehrer)'!AN60=\"\", \"\",'A) Eingabe (Lehrer)'!AN60)","v":""},{"$f":"IF('A) Eingabe (Lehrer)'!AO60=\"\", \"\",'A) Eingabe (Lehrer)'!AO60)","v":""},{"$f":"IF('A) Eingabe (Lehrer)'!AP60=\"\", \"\",'A) Eingabe (Lehrer)'!AP60)","v":""},{"$f":"IF('A) Eingabe (Lehrer)'!AQ60=\"\", \"\",'A) Eingabe (Lehrer)'!AQ60)","v":""},{"$f":"IF('A) Eingabe (Lehrer)'!AR60=\"\", \"\",'A) Eingabe (Lehrer)'!AR60)","v":""},{"$f":"IF('A) Eingabe (Lehrer)'!AS60=\"\", \"\",'A) Eingabe (Lehrer)'!AS60)","v":""},{"$f":"IF('A) Eingabe (Lehrer)'!AT60=\"\", \"\",'A) Eingabe (Lehrer)'!AT60)","v":""},{"$f":"IF('A) Eingabe (Lehrer)'!AU60=\"\", \"\",'A) Eingabe (Lehrer)'!AU60)","v":""},{"$f":"IF('A) Eingabe (Lehrer)'!AV60=\"\", \"\",'A) Eingabe (Lehrer)'!AV60)","v":""},{"$f":"IF('A) Eingabe (Lehrer)'!AW60=\"\", \"\",'A) Eingabe (Lehrer)'!AW60)","v":""},{"$f":"IF('A) Eingabe (Lehrer)'!AX60=\"\", \"\",'A) Eingabe (Lehrer)'!AX60)","v":""},{"$f":"IF('A) Eingabe (Lehrer)'!AY60=\"\", \"\",'A) Eingabe (Lehrer)'!AY60)","v":""},{"$f":"IF('A) Eingabe (Lehrer)'!AZ60=\"\", \"\",'A) Eingabe (Lehrer)'!AZ60)","v":""},{"$f":"IF('A) Eingabe (Lehrer)'!BA60=\"\", \"\",'A) Eingabe (Lehrer)'!BA60)","v":""},{"$f":"IF('A) Eingabe (Lehrer)'!BB60=\"\", \"\",'A) Eingabe (Lehrer)'!BB60)","v":""},{"$f":"IF('A) Eingabe (Lehrer)'!BC60=\"\", \"\",'A) Eingabe (Lehrer)'!BC60)","v":""},{"$f":"IF('A) Eingabe (Lehrer)'!BD60=\"\", \"\",'A) Eingabe (Lehrer)'!BD60)","v":""},{"$f":"IF('A) Eingabe (Lehrer)'!BE60=\"\", \"\",'A) Eingabe (Lehrer)'!BE60)","v":""},{"$f":"IF('A) Eingabe (Lehrer)'!BF60=\"\", \"\",'A) Eingabe (Lehrer)'!BF60)","v":""},{"$f":"IF('A) Eingabe (Lehrer)'!BG60=\"\", \"\",'A) Eingabe (Lehrer)'!BG60)","v":""},{"$f":"IF('A) Eingabe (Lehrer)'!BH60=\"\", \"\",'A) Eingabe (Lehrer)'!BH60)","v":""},{"$f":"IF('A) Eingabe (Lehrer)'!BI60=\"\", \"\",'A) Eingabe (Lehrer)'!BI60)","v":""},{"$f":"IF('A) Eingabe (Lehrer)'!BJ60=\"\", \"\",'A) Eingabe (Lehrer)'!BJ60)","v":""},{"$f":"IF('A) Eingabe (Lehrer)'!BK60=\"\", \"\",'A) Eingabe (Lehrer)'!BK60)","v":""}]
["Item 45",{"$f":"IF('A) Eingabe (Lehrer)'!C61=\"\", \"\",'A) Eingabe (Lehrer)'!C61)","v":""},{"$f":"IF('A) Eingabe (Lehrer)'!D61=\"\", \"\",'A) Eingabe (Lehrer)'!D61)","v":""},{"$f":"IF('A) Eingabe (Lehrer)'!E61=\"\", \"\",'A) Eingabe (Lehrer)'!E61)","v":""},{"$f":"IF('A) Eingabe (Lehrer)'!F61=\"\", \"\",'A) Eingabe (Lehrer)'!F61)","v":""},{"$f":"IF('A) Eingabe (Lehrer)'!G61=\"\", \"\",'A) Eingabe (Lehrer)'!G61)","v":""},{"$f":"IF('A) Eingabe (Lehrer)'!H61=\"\", \"\",'A) Eingabe (Lehrer)'!H61)","v":""},{"$f":"IF('A) Eingabe (Lehrer)'!I61=\"\", \"\",'A) Eingabe (Lehrer)'!I61)","v":""},{"$f":"IF('A) Eingabe (Lehrer)'!J61=\"\", \"\",'A) Eingabe (Lehrer)'!J61)","v":""},{"$f":"IF('A) Eingabe (Lehrer)'!K61=\"\", \"\",'A) Eingabe (Lehrer)'!K61)","v":""},{"$f":"IF('A) Eingabe (Lehrer)'!L61=\"\", \"\",'A) Eingabe (Lehrer)'!L61)","v":""},{"$f":"IF('A) Eingabe (Lehrer)'!M61=\"\", \"\",'A) Eingabe (Lehrer)'!M61)","v":""},{"$f":"IF('A) Eingabe (Lehrer)'!N61=\"\", \"\",'A) Eingabe (Lehrer)'!N61)","v":""},{"$f":"IF('A) Eingabe (Lehrer)'!O61=\"\", \"\",'A) Eingabe (Lehrer)'!O61)","v":""},{"$f":"IF('A) Eingabe (Lehrer)'!P61=\"\", \"\",'A) Eingabe (Lehrer)'!P61)","v":""},{"$f":"IF('A) Eingabe (Lehrer)'!Q61=\"\", \"\",'A) Eingabe (Lehrer)'!Q61)","v":""},{"$f":"IF('A) Eingabe (Lehrer)'!R61=\"\", \"\",'A) Eingabe (Lehrer)'!R61)","v":""},{"$f":"IF('A) Eingabe (Lehrer)'!S61=\"\", \"\",'A) Eingabe (Lehrer)'!S61)","v":""},{"$f":"IF('A) Eingabe (Lehrer)'!T61=\"\", \"\",'A) Eingabe (Lehrer)'!T61)","v":""},{"$f":"IF('A) Eingabe (Lehrer)'!U61=\"\", \"\",'A) Eingabe (Lehrer)'!U61)","v":""},{"$f":"IF('A) Eingabe (Lehrer)'!V61=\"\", \"\",'A) Eingabe (Lehrer)'!V61)","v":""},{"$f":"IF('A) Eingabe (Lehrer)'!W61=\"\", \"\",'A) Eingabe (Lehrer)'!W61)","v":""},{"$f":"IF('A) Eingabe (Lehrer)'!X61=\"\", \"\",'A) Eingabe (Lehrer)'!X61)","v":""},{"$f":"IF('A) Eingabe (Lehrer)'!Y61=\"\", \"\",'A) Eingabe (Lehrer)'!Y61)","v":""},{"$f":"IF('A) Eingabe (Lehrer)'!Z61=\"\", \"\",'A) Eingabe (Lehrer)'!Z61)","v":""},{"$f":"IF('A) Eingabe (Lehrer)'!AA61=\"\", \"\",'A) Eingabe (Lehrer)'!AA61)","v":""},{"$f":"IF('A) Eingabe (Lehrer)'!AB61=\"\", \"\",'A) Eingabe (Lehrer)'!AB61)","v":""},{"$f":"IF('A) Eingabe (Lehrer)'!AC61=\"\", \"\",'A) Eingabe (Lehrer)'!AC61)","v":""},{"$f":"IF('A) Eingabe (Lehrer)'!AD61=\"\", \"\",'A) Eingabe (Lehrer)'!AD61)","v":""},{"$f":"IF('A) Eingabe (Lehrer)'!AE61=\"\", \"\",'A) Eingabe (Lehrer)'!AE61)","v":""},{"$f":"IF('A) Eingabe (Lehrer)'!AF61=\"\", \"\",'A) Eingabe (Lehrer)'!AF61)","v":""},{"$f":"IF('A) Eingabe (Lehrer)'!AG61=\"\", \"\",'A) Eingabe (Lehrer)'!AG61)","v":""},{"$f":"IF('A) Eingabe (Lehrer)'!AH61=\"\", \"\",'A) Eingabe (Lehrer)'!AH61)","v":""},{"$f":"IF('A) Eingabe (Lehrer)'!AI61=\"\", \"\",'A) Eingabe (Lehrer)'!AI61)","v":""},{"$f":"IF('A) Eingabe (Lehrer)'!AJ61=\"\", \"\",'A) Eingabe (Lehrer)'!AJ61)","v":""},{"$f":"IF('A) Eingabe (Lehrer)'!AK61=\"\", \"\",'A) Eingabe (Lehrer)'!AK61)","v":""},{"$f":"IF('A) Eingabe (Lehrer)'!AL61=\"\", \"\",'A) Eingabe (Lehrer)'!AL61)","v":""},{"$f":"IF('A) Eingabe (Lehrer)'!AM61=\"\", \"\",'A) Eingabe (Lehrer)'!AM61)","v":""},{"$f":"IF('A) Eingabe (Lehrer)'!AN61=\"\", \"\",'A) Eingabe (Lehrer)'!AN61)","v":""},{"$f":"IF('A) Eingabe (Lehrer)'!AO61=\"\", \"\",'A) Eingabe (Lehrer)'!AO61)","v":""},{"$f":"IF('A) Eingabe (Lehrer)'!AP61=\"\", \"\",'A) Eingabe (Lehrer)'!AP61)","v":""},{"$f":"IF('A) Eingabe (Lehrer)'!AQ61=\"\", \"\",'A) Eingabe (Lehrer)'!AQ61)","v":""},{"$f":"IF('A) Eingabe (Lehrer)'!AR61=\"\", \"\",'A) Eingabe (Lehrer)'!AR61)","v":""},{"$f":"IF('A) Eingabe (Lehrer)'!AS61=\"\", \"\",'A) Eingabe (Lehrer)'!AS61)","v":""},{"$f":"IF('A) Eingabe (Lehrer)'!AT61=\"\", \"\",'A) Eingabe (Lehrer)'!AT61)","v":""},{"$f":"IF('A) Eingabe (Lehrer)'!AU61=\"\", \"\",'A) Eingabe (Lehrer)'!AU61)","v":""},{"$f":"IF('A) Eingabe (Lehrer)'!AV61=\"\", \"\",'A) Eingabe (Lehrer)'!AV61)","v":""},{"$f":"IF('A) Eingabe (Lehrer)'!AW61=\"\", \"\",'A) Eingabe (Lehrer)'!AW61)","v":""},{"$f":"IF('A) Eingabe (Lehrer)'!AX61=\"\", \"\",'A) Eingabe (Lehrer)'!AX61)","v":""},{"$f":"IF('A) Eingabe (Lehrer)'!AY61=\"\", \"\",'A) Eingabe (Lehrer)'!AY61)","v":""},{"$f":"IF('A) Eingabe (Lehrer)'!AZ61=\"\", \"\",'A) Eingabe (Lehrer)'!AZ61)","v":""},{"$f":"IF('A) Eingabe (Lehrer)'!BA61=\"\", \"\",'A) Eingabe (Lehrer)'!BA61)","v":""},{"$f":"IF('A) Eingabe (Lehrer)'!BB61=\"\", \"\",'A) Eingabe (Lehrer)'!BB61)","v":""},{"$f":"IF('A) Eingabe (Lehrer)'!BC61=\"\", \"\",'A) Eingabe (Lehrer)'!BC61)","v":""},{"$f":"IF('A) Eingabe (Lehrer)'!BD61=\"\", \"\",'A) Eingabe (Lehrer)'!BD61)","v":""},{"$f":"IF('A) Eingabe (Lehrer)'!BE61=\"\", \"\",'A) Eingabe (Lehrer)'!BE61)","v":""},{"$f":"IF('A) Eingabe (Lehrer)'!BF61=\"\", \"\",'A) Eingabe (Lehrer)'!BF61)","v":""},{"$f":"IF('A) Eingabe (Lehrer)'!BG61=\"\", \"\",'A) Eingabe (Lehrer)'!BG61)","v":""},{"$f":"IF('A) Eingabe (Lehrer)'!BH61=\"\", \"\",'A) Eingabe (Lehrer)'!BH61)","v":""},{"$f":"IF('A) Eingabe (Lehrer)'!BI61=\"\", \"\",'A) Eingabe (Lehrer)'!BI61)","v":""},{"$f":"IF('A) Eingabe (Lehrer)'!BJ61=\"\", \"\",'A) Eingabe (Lehrer)'!BJ61)","v":""},{"$f":"IF('A) Eingabe (Lehrer)'!BK61=\"\", \"\",'A) Eingabe (Lehrer)'!BK61)","v":""}]
["Item 46",{"$f":"IF('A) Eingabe (Lehrer)'!C62=\"\", \"\",'A) Eingabe (Lehrer)'!C62)","v":""},{"$f":"IF('A) Eingabe (Lehrer)'!D62=\"\", \"\",'A) Eingabe (Lehrer)'!D62)","v":""},{"$f":"IF('A) Eingabe (Lehrer)'!E62=\"\", \"\",'A) Eingabe (Lehrer)'!E62)","v":""},{"$f":"IF('A) Eingabe (Lehrer)'!F62=\"\", \"\",'A) Eingabe (Lehrer)'!F62)","v":""},{"$f":"IF('A) Eingabe (Lehrer)'!G62=\"\", \"\",'A) Eingabe (Lehrer)'!G62)","v":""},{"$f":"IF('A) Eingabe (Lehrer)'!H62=\"\", \"\",'A) Eingabe (Lehrer)'!H62)","v":""},{"$f":"IF('A) Eingabe (Lehrer)'!I62=\"\", \"\",'A) Eingabe (Lehrer)'!I62)","v":""},{"$f":"IF('A) Eingabe (Lehrer)'!J62=\"\", \"\",'A) Eingabe (Lehrer)'!J62)","v":""},{"$f":"IF('A) Eingabe (Lehrer)'!K62=\"\", \"\",'A) Eingabe (Lehrer)'!K62)","v":""},{"$f":"IF('A) Eingabe (Lehrer)'!L62=\"\", \"\",'A) Eingabe (Lehrer)'!L62)","v":""},{"$f":"IF('A) Eingabe (Lehrer)'!M62=\"\", \"\",'A) Eingabe (Lehrer)'!M62)","v":""},{"$f":"IF('A) Eingabe (Lehrer)'!N62=\"\", \"\",'A) Eingabe (Lehrer)'!N62)","v":""},{"$f":"IF('A) Eingabe (Lehrer)'!O62=\"\", \"\",'A) Eingabe (Lehrer)'!O62)","v":""},{"$f":"IF('A) Eingabe (Lehrer)'!P62=\"\", \"\",'A) Eingabe (Lehrer)'!P62)","v":""},{"$f":"IF('A) Eingabe (Lehrer)'!Q62=\"\", \"\",'A) Eingabe (Lehrer)'!Q62)","v":""},{"$f":"IF('A) Eingabe (Lehrer)'!R62=\"\", \"\",'A) Eingabe (Lehrer)'!R62)","v":""},{"$f":"IF('A) Eingabe (Lehrer)'!S62=\"\", \"\",'A) Eingabe (Lehrer)'!S62)","v":""},{"$f":"IF('A) Eingabe (Lehrer)'!T62=\"\", \"\",'A) Eingabe (Lehrer)'!T62)","v":""},{"$f":"IF('A) Eingabe (Lehrer)'!U62=\"\", \"\",'A) Eingabe (Lehrer)'!U62)","v":""},{"$f":"IF('A) Eingabe (Lehrer)'!V62=\"\", \"\",'A) Eingabe (Lehrer)'!V62)","v":""},{"$f":"IF('A) Eingabe (Lehrer)'!W62=\"\", \"\",'A) Eingabe (Lehrer)'!W62)","v":""},{"$f":"IF('A) Eingabe (Lehrer)'!X62=\"\", \"\",'A) Eingabe (Lehrer)'!X62)","v":""},{"$f":"IF('A) Eingabe (Lehrer)'!Y62=\"\", \"\",'A) Eingabe (Lehrer)'!Y62)","v":""},{"$f":"IF('A) Eingabe (Lehrer)'!Z62=\"\", \"\",'A) Eingabe (Lehrer)'!Z62)","v":""},{"$f":"IF('A) Eingabe (Lehrer)'!AA62=\"\", \"\",'A) Eingabe (Lehrer)'!AA62)","v":""},{"$f":"IF('A) Eingabe (Lehrer)'!AB62=\"\", \"\",'A) Eingabe (Lehrer)'!AB62)","v":""},{"$f":"IF('A) Eingabe (Lehrer)'!AC62=\"\", \"\",'A) Eingabe (Lehrer)'!AC62)","v":""},{"$f":"IF('A) Eingabe (Lehrer)'!AD62=\"\", \"\",'A) Eingabe (Lehrer)'!AD62)","v":""},{"$f":"IF('A) Eingabe (Lehrer)'!AE62=\"\", \"\",'A) Eingabe (Lehrer)'!AE62)","v":""},{"$f":"IF('A) Eingabe (Lehrer)'!AF62=\"\", \"\",'A) Eingabe (Lehrer)'!AF62)","v":""},{"$f":"IF('A) Eingabe (Lehrer)'!AG62=\"\", \"\",'A) Eingabe (Lehrer)'!AG62)","v":""},{"$f":"IF('A) Eingabe (Lehrer)'!AH62=\"\", \"\",'A) Eingabe (Lehrer)'!AH62)","v":""},{"$f":"IF('A) Eingabe (Lehrer)'!AI62=\"\", \"\",'A) Eingabe (Lehrer)'!AI62)","v":""},{"$f":"IF('A) Eingabe (Lehrer)'!AJ62=\"\", \"\",'A) Eingabe (Lehrer)'!AJ62)","v":""},{"$f":"IF('A) Eingabe (Lehrer)'!AK62=\"\", \"\",'A) Eingabe (Lehrer)'!AK62)","v":""},{"$f":"IF('A) Eingabe (Lehrer)'!AL62=\"\", \"\",'A) Eingabe (Lehrer)'!AL62)","v":""},{"$f":"IF('A) Eingabe (Lehrer)'!AM62=\"\", \"\",'A) Eingabe (Lehrer)'!AM62)","v":""},{"$f":"IF('A) Eingabe (Lehrer)'!AN62=\"\", \"\",'A) Eingabe (Lehrer)'!AN62)","v":""},{"$f":"IF('A) Eingabe (Lehrer)'!AO62=\"\", \"\",'A) Eingabe (Lehrer)'!AO62)","v":""},{"$f":"IF('A) Eingabe (Lehrer)'!AP62=\"\", \"\",'A) Eingabe (Lehrer)'!AP62)","v":""},{"$f":"IF('A) Eingabe (Lehrer)'!AQ62=\"\", \"\",'A) Eingabe (Lehrer)'!AQ62)","v":""},{"$f":"IF('A) Eingabe (Lehrer)'!AR62=\"\", \"\",'A) Eingabe (Lehrer)'!AR62)","v":""},{"$f":"IF('A) Eingabe (Lehrer)'!AS62=\"\", \"\",'A) Eingabe (Lehrer)'!AS62)","v":""},{"$f":"IF('A) Eingabe (Lehrer)'!AT62=\"\", \"\",'A) Eingabe (Lehrer)'!AT62)","v":""},{"$f":"IF('A) Eingabe (Lehrer)'!AU62=\"\", \"\",'A) Eingabe (Lehrer)'!AU62)","v":""},{"$f":"IF('A) Eingabe (Lehrer)'!AV62=\"\", \"\",'A) Eingabe (Lehrer)'!AV62)","v":""},{"$f":"IF('A) Eingabe (Lehrer)'!AW62=\"\", \"\",'A) Eingabe (Lehrer)'!AW62)","v":""},{"$f":"IF('A) Eingabe (Lehrer)'!AX62=\"\", \"\",'A) Eingabe (Lehrer)'!AX62)","v":""},{"$f":"IF('A) Eingabe (Lehrer)'!AY62=\"\", \"\",'A) Eingabe (Lehrer)'!AY62)","v":""},{"$f":"IF('A) Eingabe (Lehrer)'!AZ62=\"\", \"\",'A) Eingabe (Lehrer)'!AZ62)","v":""},{"$f":"IF('A) Eingabe (Lehrer)'!BA62=\"\", \"\",'A) Eingabe (Lehrer)'!BA62)","v":""},{"$f":"IF('A) Eingabe (Lehrer)'!BB62=\"\", \"\",'A) Eingabe (Lehrer)'!BB62)","v":""},{"$f":"IF('A) Eingabe (Lehrer)'!BC62=\"\", \"\",'A) Eingabe (Lehrer)'!BC62)","v":""},{"$f":"IF('A) Eingabe (Lehrer)'!BD62=\"\", \"\",'A) Eingabe (Lehrer)'!BD62)","v":""},{"$f":"IF('A) Eingabe (Lehrer)'!BE62=\"\", \"\",'A) Eingabe (Lehrer)'!BE62)","v":""},{"$f":"IF('A) Eingabe (Lehrer)'!BF62=\"\", \"\",'A) Eingabe (Lehrer)'!BF62)","v":""},{"$f":"IF('A) Eingabe (Lehrer)'!BG62=\"\", \"\",'A) Eingabe (Lehrer)'!BG62)","v":""},{"$f":"IF('A) Eingabe (Lehrer)'!BH62=\"\", \"\",'A) Eingabe (Lehrer)'!BH62)","v":""},{"$f":"IF('A) Eingabe (Lehrer)'!BI62=\"\", \"\",'A) Eingabe (Lehrer)'!BI62)","v":""},{"$f":"IF('A) Eingabe (Lehrer)'!BJ62=\"\", \"\",'A) Eingabe (Lehrer)'!BJ62)","v":""},{"$f":"IF('A) Eingabe (Lehrer)'!BK62=\"\", \"\",'A) Eingabe (Lehrer)'!BK62)","v":""}]
["Item 47",{"$f":"IF('A) Eingabe (Lehrer)'!C63=\"\", \"\",'A) Eingabe (Lehrer)'!C63)","v":""},{"$f":"IF('A) Eingabe (Lehrer)'!D63=\"\", \"\",'A) Eingabe (Lehrer)'!D63)","v":""},{"$f":"IF('A) Eingabe (Lehrer)'!E63=\"\", \"\",'A) Eingabe (Lehrer)'!E63)","v":""},{"$f":"IF('A) Eingabe (Lehrer)'!F63=\"\", \"\",'A) Eingabe (Lehrer)'!F63)","v":""},{"$f":"IF('A) Eingabe (Lehrer)'!G63=\"\", \"\",'A) Eingabe (Lehrer)'!G63)","v":""},{"$f":"IF('A) Eingabe (Lehrer)'!H63=\"\", \"\",'A) Eingabe (Lehrer)'!H63)","v":""},{"$f":"IF('A) Eingabe (Lehrer)'!I63=\"\", \"\",'A) Eingabe (Lehrer)'!I63)","v":""},{"$f":"IF('A) Eingabe (Lehrer)'!J63=\"\", \"\",'A) Eingabe (Lehrer)'!J63)","v":""},{"$f":"IF('A) Eingabe (Lehrer)'!K63=\"\", \"\",'A) Eingabe (Lehrer)'!K63)","v":""},{"$f":"IF('A) Eingabe (Lehrer)'!L63=\"\", \"\",'A) Eingabe (Lehrer)'!L63)","v":""},{"$f":"IF('A) Eingabe (Lehrer)'!M63=\"\", \"\",'A) Eingabe (Lehrer)'!M63)","v":""},{"$f":"IF('A) Eingabe (Lehrer)'!N63=\"\", \"\",'A) Eingabe (Lehrer)'!N63)","v":""},{"$f":"IF('A) Eingabe (Lehrer)'!O63=\"\", \"\",'A) Eingabe (Lehrer)'!O63)","v":""},{"$f":"IF('A) Eingabe (Lehrer)'!P63=\"\", \"\",'A) Eingabe (Lehrer)'!P63)","v":""},{"$f":"IF('A) Eingabe (Lehrer)'!Q63=\"\", \"\",'A) Eingabe (Lehrer)'!Q63)","v":""},{"$f":"IF('A) Eingabe (Lehrer)'!R63=\"\", \"\",'A) Eingabe (Lehrer)'!R63)","v":""},{"$f":"IF('A) Eingabe (Lehrer)'!S63=\"\", \"\",'A) Eingabe (Lehrer)'!S63)","v":""},{"$f":"IF('A) Eingabe (Lehrer)'!T63=\"\", \"\",'A) Eingabe (Lehrer)'!T63)","v":""},{"$f":"IF('A) Eingabe (Lehrer)'!U63=\"\", \"\",'A) Eingabe (Lehrer)'!U63)","v":""},{"$f":"IF('A) Eingabe (Lehrer)'!V63=\"\", \"\",'A) Eingabe (Lehrer)'!V63)","v":""},{"$f":"IF('A) Eingabe (Lehrer)'!W63=\"\", \"\",'A) Eingabe (Lehrer)'!W63)","v":""},{"$f":"IF('A) Eingabe (Lehrer)'!X63=\"\", \"\",'A) Eingabe (Lehrer)'!X63)","v":""},{"$f":"IF('A) Eingabe (Lehrer)'!Y63=\"\", \"\",'A) Eingabe (Lehrer)'!Y63)","v":""},{"$f":"IF('A) Eingabe (Lehrer)'!Z63=\"\", \"\",'A) Eingabe (Lehrer)'!Z63)","v":""},{"$f":"IF('A) Eingabe (Lehrer)'!AA63=\"\", \"\",'A) Eingabe (Lehrer)'!AA63)","v":""},{"$f":"IF('A) Eingabe (Lehrer)'!AB63=\"\", \"\",'A) Eingabe (Lehrer)'!AB63)","v":""},{"$f":"IF('A) Eingabe (Lehrer)'!AC63=\"\", \"\",'A) Eingabe (Lehrer)'!AC63)","v":""},{"$f":"IF('A) Eingabe (Lehrer)'!AD63=\"\", \"\",'A) Eingabe (Lehrer)'!AD63)","v":""},{"$f":"IF('A) Eingabe (Lehrer)'!AE63=\"\", \"\",'A) Eingabe (Lehrer)'!AE63)","v":""},{"$f":"IF('A) Eingabe (Lehrer)'!AF63=\"\", \"\",'A) Eingabe (Lehrer)'!AF63)","v":""},{"$f":"IF('A) Eingabe (Lehrer)'!AG63=\"\", \"\",'A) Eingabe (Lehrer)'!AG63)","v":""},{"$f":"IF('A) Eingabe (Lehrer)'!AH63=\"\", \"\",'A) Eingabe (Lehrer)'!AH63)","v":""},{"$f":"IF('A) Eingabe (Lehrer)'!AI63=\"\", \"\",'A) Eingabe (Lehrer)'!AI63)","v":""},{"$f":"IF('A) Eingabe (Lehrer)'!AJ63=\"\", \"\",'A) Eingabe (Lehrer)'!AJ63)","v":""},{"$f":"IF('A) Eingabe (Lehrer)'!AK63=\"\", \"\",'A) Eingabe (Lehrer)'!AK63)","v":""},{"$f":"IF('A) Eingabe (Lehrer)'!AL63=\"\", \"\",'A) Eingabe (Lehrer)'!AL63)","v":""},{"$f":"IF('A) Eingabe (Lehrer)'!AM63=\"\", \"\",'A) Eingabe (Lehrer)'!AM63)","v":""},{"$f":"IF('A) Eingabe (Lehrer)'!AN63=\"\", \"\",'A) Eingabe (Lehrer)'!AN63)","v":""},{"$f":"IF('A) Eingabe (Lehrer)'!AO63=\"\", \"\",'A) Eingabe (Lehrer)'!AO63)","v":""},{"$f":"IF('A) Eingabe (Lehrer)'!AP63=\"\", \"\",'A) Eingabe (Lehrer)'!AP63)","v":""},{"$f":"IF('A) Eingabe (Lehrer)'!AQ63=\"\", \"\",'A) Eingabe (Lehrer)'!AQ63)","v":""},{"$f":"IF('A) Eingabe (Lehrer)'!AR63=\"\", \"\",'A) Eingabe (Lehrer)'!AR63)","v":""},{"$f":"IF('A) Eingabe (Lehrer)'!AS63=\"\", \"\",'A) Eingabe (Lehrer)'!AS63)","v":""},{"$f":"IF('A) Eingabe (Lehrer)'!AT63=\"\", \"\",'A) Eingabe (Lehrer)'!AT63)","v":""},{"$f":"IF('A) Eingabe (Lehrer)'!AU63=\"\", \"\",'A) Eingabe (Lehrer)'!AU63)","v":""},{"$f":"IF('A) Eingabe (Lehrer)'!AV63=\"\", \"\",'A) Eingabe (Lehrer)'!AV63)","v":""},{"$f":"IF('A) Eingabe (Lehrer)'!AW63=\"\", \"\",'A) Eingabe (Lehrer)'!AW63)","v":""},{"$f":"IF('A) Eingabe (Lehrer)'!AX63=\"\", \"\",'A) Eingabe (Lehrer)'!AX63)","v":""},{"$f":"IF('A) Eingabe (Lehrer)'!AY63=\"\", \"\",'A) Eingabe (Lehrer)'!AY63)","v":""},{"$f":"IF('A) Eingabe (Lehrer)'!AZ63=\"\", \"\",'A) Eingabe (Lehrer)'!AZ63)","v":""},{"$f":"IF('A) Eingabe (Lehrer)'!BA63=\"\", \"\",'A) Eingabe (Lehrer)'!BA63)","v":""},{"$f":"IF('A) Eingabe (Lehrer)'!BB63=\"\", \"\",'A) Eingabe (Lehrer)'!BB63)","v":""},{"$f":"IF('A) Eingabe (Lehrer)'!BC63=\"\", \"\",'A) Eingabe (Lehrer)'!BC63)","v":""},{"$f":"IF('A) Eingabe (Lehrer)'!BD63=\"\", \"\",'A) Eingabe (Lehrer)'!BD63)","v":""},{"$f":"IF('A) Eingabe (Lehrer)'!BE63=\"\", \"\",'A) Eingabe (Lehrer)'!BE63)","v":""},{"$f":"IF('A) Eingabe (Lehrer)'!BF63=\"\", \"\",'A) Eingabe (Lehrer)'!BF63)","v":""},{"$f":"IF('A) Eingabe (Lehrer)'!BG63=\"\", \"\",'A) Eingabe (Lehrer)'!BG63)","v":""},{"$f":"IF('A) Eingabe (Lehrer)'!BH63=\"\", \"\",'A) Eingabe (Lehrer)'!BH63)","v":""},{"$f":"IF('A) Eingabe (Lehrer)'!BI63=\"\", \"\",'A) Eingabe (Lehrer)'!BI63)","v":""},{"$f":"IF('A) Eingabe (Lehrer)'!BJ63=\"\", \"\",'A) Eingabe (Lehrer)'!BJ63)","v":""},{"$f":"IF('A) Eingabe (Lehrer)'!BK63=\"\", \"\",'A) Eingabe (Lehrer)'!BK63)","v":""}]
["Item 48",{"$f":"IF('A) Eingabe (Lehrer)'!C64=\"\", \"\",'A) Eingabe (Lehrer)'!C64)","v":""},{"$f":"IF('A) Eingabe (Lehrer)'!D64=\"\", \"\",'A) Eingabe (Lehrer)'!D64)","v":""},{"$f":"IF('A) Eingabe (Lehrer)'!E64=\"\", \"\",'A) Eingabe (Lehrer)'!E64)","v":""},{"$f":"IF('A) Eingabe (Lehrer)'!F64=\"\", \"\",'A) Eingabe (Lehrer)'!F64)","v":""},{"$f":"IF('A) Eingabe (Lehrer)'!G64=\"\", \"\",'A) Eingabe (Lehrer)'!G64)","v":""},{"$f":"IF('A) Eingabe (Lehrer)'!H64=\"\", \"\",'A) Eingabe (Lehrer)'!H64)","v":""},{"$f":"IF('A) Eingabe (Lehrer)'!I64=\"\", \"\",'A) Eingabe (Lehrer)'!I64)","v":""},{"$f":"IF('A) Eingabe (Lehrer)'!J64=\"\", \"\",'A) Eingabe (Lehrer)'!J64)","v":""},{"$f":"IF('A) Eingabe (Lehrer)'!K64=\"\", \"\",'A) Eingabe (Lehrer)'!K64)","v":""},{"$f":"IF('A) Eingabe (Lehrer)'!L64=\"\", \"\",'A) Eingabe (Lehrer)'!L64)","v":""},{"$f":"IF('A) Eingabe (Lehrer)'!M64=\"\", \"\",'A) Eingabe (Lehrer)'!M64)","v":""},{"$f":"IF('A) Eingabe (Lehrer)'!N64=\"\", \"\",'A) Eingabe (Lehrer)'!N64)","v":""},{"$f":"IF('A) Eingabe (Lehrer)'!O64=\"\", \"\",'A) Eingabe (Lehrer)'!O64)","v":""},{"$f":"IF('A) Eingabe (Lehrer)'!P64=\"\", \"\",'A) Eingabe (Lehrer)'!P64)","v":""},{"$f":"IF('A) Eingabe (Lehrer)'!Q64=\"\", \"\",'A) Eingabe (Lehrer)'!Q64)","v":""},{"$f":"IF('A) Eingabe (Lehrer)'!R64=\"\", \"\",'A) Eingabe (Lehrer)'!R64)","v":""},{"$f":"IF('A) Eingabe (Lehrer)'!S64=\"\", \"\",'A) Eingabe (Lehrer)'!S64)","v":""},{"$f":"IF('A) Eingabe (Lehrer)'!T64=\"\", \"\",'A) Eingabe (Lehrer)'!T64)","v":""},{"$f":"IF('A) Eingabe (Lehrer)'!U64=\"\", \"\",'A) Eingabe (Lehrer)'!U64)","v":""},{"$f":"IF('A) Eingabe (Lehrer)'!V64=\"\", \"\",'A) Eingabe (Lehrer)'!V64)","v":""},{"$f":"IF('A) Eingabe (Lehrer)'!W64=\"\", \"\",'A) Eingabe (Lehrer)'!W64)","v":""},{"$f":"IF('A) Eingabe (Lehrer)'!X64=\"\", \"\",'A) Eingabe (Lehrer)'!X64)","v":""},{"$f":"IF('A) Eingabe (Lehrer)'!Y64=\"\", \"\",'A) Eingabe (Lehrer)'!Y64)","v":""},{"$f":"IF('A) Eingabe (Lehrer)'!Z64=\"\", \"\",'A) Eingabe (Lehrer)'!Z64)","v":""},{"$f":"IF('A) Eingabe (Lehrer)'!AA64=\"\", \"\",'A) Eingabe (Lehrer)'!AA64)","v":""},{"$f":"IF('A) Eingabe (Lehrer)'!AB64=\"\", \"\",'A) Eingabe (Lehrer)'!AB64)","v":""},{"$f":"IF('A) Eingabe (Lehrer)'!AC64=\"\", \"\",'A) Eingabe (Lehrer)'!AC64)","v":""},{"$f":"IF('A) Eingabe (Lehrer)'!AD64=\"\", \"\",'A) Eingabe (Lehrer)'!AD64)","v":""},{"$f":"IF('A) Eingabe (Lehrer)'!AE64=\"\", \"\",'A) Eingabe (Lehrer)'!AE64)","v":""},{"$f":"IF('A) Eingabe (Lehrer)'!AF64=\"\", \"\",'A) Eingabe (Lehrer)'!AF64)","v":""},{"$f":"IF('A) Eingabe (Lehrer)'!AG64=\"\", \"\",'A) Eingabe (Lehrer)'!AG64)","v":""},{"$f":"IF('A) Eingabe (Lehrer)'!AH64=\"\", \"\",'A) Eingabe (Lehrer)'!AH64)","v":""},{"$f":"IF('A) Eingabe (Lehrer)'!AI64=\"\", \"\",'A) Eingabe (Lehrer)'!AI64)","v":""},{"$f":"IF('A) Eingabe (Lehrer)'!AJ64=\"\", \"\",'A) Eingabe (Lehrer)'!AJ64)","v":""},{"$f":"IF('A) Eingabe (Lehrer)'!AK64=\"\", \"\",'A) Eingabe (Lehrer)'!AK64)","v":""},{"$f":"IF('A) Eingabe (Lehrer)'!AL64=\"\", \"\",'A) Eingabe (Lehrer)'!AL64)","v":""},{"$f":"IF('A) Eingabe (Lehrer)'!AM64=\"\", \"\",'A) Eingabe (Lehrer)'!AM64)","v":""},{"$f":"IF('A) Eingabe (Lehrer)'!AN64=\"\", \"\",'A) Eingabe (Lehrer)'!AN64)","v":""},{"$f":"IF('A) Eingabe (Lehrer)'!AO64=\"\", \"\",'A) Eingabe (Lehrer)'!AO64)","v":""},{"$f":"IF('A) Eingabe (Lehrer)'!AP64=\"\", \"\",'A) Eingabe (Lehrer)'!AP64)","v":""},{"$f":"IF('A) Eingabe (Lehrer)'!AQ64=\"\", \"\",'A) Eingabe (Lehrer)'!AQ64)","v":""},{"$f":"IF('A) Eingabe (Lehrer)'!AR64=\"\", \"\",'A) Eingabe (Lehrer)'!AR64)","v":""},{"$f":"IF('A) Eingabe (Lehrer)'!AS64=\"\", \"\",'A) Eingabe (Lehrer)'!AS64)","v":""},{"$f":"IF('A) Eingabe (Lehrer)'!AT64=\"\", \"\",'A) Eingabe (Lehrer)'!AT64)","v":""},{"$f":"IF('A) Eingabe (Lehrer)'!AU64=\"\", \"\",'A) Eingabe (Lehrer)'!AU64)","v":""},{"$f":"IF('A) Eingabe (Lehrer)'!AV64=\"\", \"\",'A) Eingabe (Lehrer)'!AV64)","v":""},{"$f":"IF('A) Eingabe (Lehrer)'!AW64=\"\", \"\",'A) Eingabe (Lehrer)'!AW64)","v":""},{"$f":"IF('A) Eingabe (Lehrer)'!AX64=\"\", \"\",'A) Eingabe (Lehrer)'!AX64)","v":""},{"$f":"IF('A) Eingabe (Lehrer)'!AY64=\"\", \"\",'A) Eingabe (Lehrer)'!AY64)","v":""},{"$f":"IF('A) Eingabe (Lehrer)'!AZ64=\"\", \"\",'A) Eingabe (Lehrer)'!AZ64)","v":""},{"$f":"IF('A) Eingabe (Lehrer)'!BA64=\"\", \"\",'A) Eingabe (Lehrer)'!BA64)","v":""},{"$f":"IF('A) Eingabe (Lehrer)'!BB64=\"\", \"\",'A) Eingabe (Lehrer)'!BB64)","v":""},{"$f":"IF('A) Eingabe (Lehrer)'!BC64=\"\", \"\",'A) Eingabe (Lehrer)'!BC64)","v":""},{"$f":"IF('A) Eingabe (Lehrer)'!BD64=\"\", \"\",'A) Eingabe (Lehrer)'!BD64)","v":""},{"$f":"IF('A) Eingabe (Lehrer)'!BE64=\"\", \"\",'A) Eingabe (Lehrer)'!BE64)","v":""},{"$f":"IF('A) Eingabe (Lehrer)'!BF64=\"\", \"\",'A) Eingabe (Lehrer)'!BF64)","v":""},{"$f":"IF('A) Eingabe (Lehrer)'!BG64=\"\", \"\",'A) Eingabe (Lehrer)'!BG64)","v":""},{"$f":"IF('A) Eingabe (Lehrer)'!BH64=\"\", \"\",'A) Eingabe (Lehrer)'!BH64)","v":""},{"$f":"IF('A) Eingabe (Lehrer)'!BI64=\"\", \"\",'A) Eingabe (Lehrer)'!BI64)","v":""},{"$f":"IF('A) Eingabe (Lehrer)'!BJ64=\"\", \"\",'A) Eingabe (Lehrer)'!BJ64)","v":""},{"$f":"IF('A) Eingabe (Lehrer)'!BK64=\"\", \"\",'A) Eingabe (Lehrer)'!BK64)","v":""}]
["Item 49",{"$f":"IF('A) Eingabe (Lehrer)'!C65=\"\", \"\",'A) Eingabe (Lehrer)'!C65)","v":""},{"$f":"IF('A) Eingabe (Lehrer)'!D65=\"\", \"\",'A) Eingabe (Lehrer)'!D65)","v":""},{"$f":"IF('A) Eingabe (Lehrer)'!E65=\"\", \"\",'A) Eingabe (Lehrer)'!E65)","v":""},{"$f":"IF('A) Eingabe (Lehrer)'!F65=\"\", \"\",'A) Eingabe (Lehrer)'!F65)","v":""},{"$f":"IF('A) Eingabe (Lehrer)'!G65=\"\", \"\",'A) Eingabe (Lehrer)'!G65)","v":""},{"$f":"IF('A) Eingabe (Lehrer)'!H65=\"\", \"\",'A) Eingabe (Lehrer)'!H65)","v":""},{"$f":"IF('A) Eingabe (Lehrer)'!I65=\"\", \"\",'A) Eingabe (Lehrer)'!I65)","v":""},{"$f":"IF('A) Eingabe (Lehrer)'!J65=\"\", \"\",'A) Eingabe (Lehrer)'!J65)","v":""},{"$f":"IF('A) Eingabe (Lehrer)'!K65=\"\", \"\",'A) Eingabe (Lehrer)'!K65)","v":""},{"$f":"IF('A) Eingabe (Lehrer)'!L65=\"\", \"\",'A) Eingabe (Lehrer)'!L65)","v":""},{"$f":"IF('A) Eingabe (Lehrer)'!M65=\"\", \"\",'A) Eingabe (Lehrer)'!M65)","v":""},{"$f":"IF('A) Eingabe (Lehrer)'!N65=\"\", \"\",'A) Eingabe (Lehrer)'!N65)","v":""},{"$f":"IF('A) Eingabe (Lehrer)'!O65=\"\", \"\",'A) Eingabe (Lehrer)'!O65)","v":""},{"$f":"IF('A) Eingabe (Lehrer)'!P65=\"\", \"\",'A) Eingabe (Lehrer)'!P65)","v":""},{"$f":"IF('A) Eingabe (Lehrer)'!Q65=\"\", \"\",'A) Eingabe (Lehrer)'!Q65)","v":""},{"$f":"IF('A) Eingabe (Lehrer)'!R65=\"\", \"\",'A) Eingabe (Lehrer)'!R65)","v":""},{"$f":"IF('A) Eingabe (Lehrer)'!S65=\"\", \"\",'A) Eingabe (Lehrer)'!S65)","v":""},{"$f":"IF('A) Eingabe (Lehrer)'!T65=\"\", \"\",'A) Eingabe (Lehrer)'!T65)","v":""},{"$f":"IF('A) Eingabe (Lehrer)'!U65=\"\", \"\",'A) Eingabe (Lehrer)'!U65)","v":""},{"$f":"IF('A) Eingabe (Lehrer)'!V65=\"\", \"\",'A) Eingabe (Lehrer)'!V65)","v":""},{"$f":"IF('A) Eingabe (Lehrer)'!W65=\"\", \"\",'A) Eingabe (Lehrer)'!W65)","v":""},{"$f":"IF('A) Eingabe (Lehrer)'!X65=\"\", \"\",'A) Eingabe (Lehrer)'!X65)","v":""},{"$f":"IF('A) Eingabe (Lehrer)'!Y65=\"\", \"\",'A) Eingabe (Lehrer)'!Y65)","v":""},{"$f":"IF('A) Eingabe (Lehrer)'!Z65=\"\", \"\",'A) Eingabe (Lehrer)'!Z65)","v":""},{"$f":"IF('A) Eingabe (Lehrer)'!AA65=\"\", \"\",'A) Eingabe (Lehrer)'!AA65)","v":""},{"$f":"IF('A) Eingabe (Lehrer)'!AB65=\"\", \"\",'A) Eingabe (Lehrer)'!AB65)","v":""},{"$f":"IF('A) Eingabe (Lehrer)'!AC65=\"\", \"\",'A) Eingabe (Lehrer)'!AC65)","v":""},{"$f":"IF('A) Eingabe (Lehrer)'!AD65=\"\", \"\",'A) Eingabe (Lehrer)'!AD65)","v":""},{"$f":"IF('A) Eingabe (Lehrer)'!AE65=\"\", \"\",'A) Eingabe (Lehrer)'!AE65)","v":""},{"$f":"IF('A) Eingabe (Lehrer)'!AF65=\"\", \"\",'A) Eingabe (Lehrer)'!AF65)","v":""},{"$f":"IF('A) Eingabe (Lehrer)'!AG65=\"\", \"\",'A) Eingabe (Lehrer)'!AG65)","v":""},{"$f":"IF('A) Eingabe (Lehrer)'!AH65=\"\", \"\",'A) Eingabe (Lehrer)'!AH65)","v":""},{"$f":"IF('A) Eingabe (Lehrer)'!AI65=\"\", \"\",'A) Eingabe (Lehrer)'!AI65)","v":""},{"$f":"IF('A) Eingabe (Lehrer)'!AJ65=\"\", \"\",'A) Eingabe (Lehrer)'!AJ65)","v":""},{"$f":"IF('A) Eingabe (Lehrer)'!AK65=\"\", \"\",'A) Eingabe (Lehrer)'!AK65)","v":""},{"$f":"IF('A) Eingabe (Lehrer)'!AL65=\"\", \"\",'A) Eingabe (Lehrer)'!AL65)","v":""},{"$f":"IF('A) Eingabe (Lehrer)'!AM65=\"\", \"\",'A) Eingabe (Lehrer)'!AM65)","v":""},{"$f":"IF('A) Eingabe (Lehrer)'!AN65=\"\", \"\",'A) Eingabe (Lehrer)'!AN65)","v":""},{"$f":"IF('A) Eingabe (Lehrer)'!AO65=\"\", \"\",'A) Eingabe (Lehrer)'!AO65)","v":""},{"$f":"IF('A) Eingabe (Lehrer)'!AP65=\"\", \"\",'A) Eingabe (Lehrer)'!AP65)","v":""},{"$f":"IF('A) Eingabe (Lehrer)'!AQ65=\"\", \"\",'A) Eingabe (Lehrer)'!AQ65)","v":""},{"$f":"IF('A) Eingabe (Lehrer)'!AR65=\"\", \"\",'A) Eingabe (Lehrer)'!AR65)","v":""},{"$f":"IF('A) Eingabe (Lehrer)'!AS65=\"\", \"\",'A) Eingabe (Lehrer)'!AS65)","v":""},{"$f":"IF('A) Eingabe (Lehrer)'!AT65=\"\", \"\",'A) Eingabe (Lehrer)'!AT65)","v":""},{"$f":"IF('A) Eingabe (Lehrer)'!AU65=\"\", \"\",'A) Eingabe (Lehrer)'!AU65)","v":""},{"$f":"IF('A) Eingabe (Lehrer)'!AV65=\"\", \"\",'A) Eingabe (Lehrer)'!AV65)","v":""},{"$f":"IF('A) Eingabe (Lehrer)'!AW65=\"\", \"\",'A) Eingabe (Lehrer)'!AW65)","v":""},{"$f":"IF('A) Eingabe (Lehrer)'!AX65=\"\", \"\",'A) Eingabe (Lehrer)'!AX65)","v":""},{"$f":"IF('A) Eingabe (Lehrer)'!AY65=\"\", \"\",'A) Eingabe (Lehrer)'!AY65)","v":""},{"$f":"IF('A) Eingabe (Lehrer)'!AZ65=\"\", \"\",'A) Eingabe (Lehrer)'!AZ65)","v":""},{"$f":"IF('A) Eingabe (Lehrer)'!BA65=\"\", \"\",'A) Eingabe (Lehrer)'!BA65)","v":""},{"$f":"IF('A) Eingabe (Lehrer)'!BB65=\"\", \"\",'A) Eingabe (Lehrer)'!BB65)","v":""},{"$f":"IF('A) Eingabe (Lehrer)'!BC65=\"\", \"\",'A) Eingabe (Lehrer)'!BC65)","v":""},{"$f":"IF('A) Eingabe (Lehrer)'!BD65=\"\", \"\",'A) Eingabe (Lehrer)'!BD65)","v":""},{"$f":"IF('A) Eingabe (Lehrer)'!BE65=\"\", \"\",'A) Eingabe (Lehrer)'!BE65)","v":""},{"$f":"IF('A) Eingabe (Lehrer)'!BF65=\"\", \"\",'A) Eingabe (Lehrer)'!BF65)","v":""},{"$f":"IF('A) Eingabe (Lehrer)'!BG65=\"\", \"\",'A) Eingabe (Lehrer)'!BG65)","v":""},{"$f":"IF('A) Eingabe (Lehrer)'!BH65=\"\", \"\",'A) Eingabe (Lehrer)'!BH65)","v":""},{"$f":"IF('A) Eingabe (Lehrer)'!BI65=\"\", \"\",'A) Eingabe (Lehrer)'!BI65)","v":""},{"$f":"IF('A) Eingabe (Lehrer)'!BJ65=\"\", \"\",'A) Eingabe (Lehrer)'!BJ65)","v":""},{"$f":"IF('A) Eingabe (Lehrer)'!BK65=\"\", \"\",'A) Eingabe (Lehrer)'!BK65)","v":""}]
["Item 50",{"$f":"IF('A) Eingabe (Lehrer)'!C66=\"\", \"\",'A) Eingabe (Lehrer)'!C66)","v":""},{"$f":"IF('A) Eingabe (Lehrer)'!D66=\"\", \"\",'A) Eingabe (Lehrer)'!D66)","v":""},{"$f":"IF('A) Eingabe (Lehrer)'!E66=\"\", \"\",'A) Eingabe (Lehrer)'!E66)","v":""},{"$f":"IF('A) Eingabe (Lehrer)'!F66=\"\", \"\",'A) Eingabe (Lehrer)'!F66)","v":""},{"$f":"IF('A) Eingabe (Lehrer)'!G66=\"\", \"\",'A) Eingabe (Lehrer)'!G66)","v":""},{"$f":"IF('A) Eingabe (Lehrer)'!H66=\"\", \"\",'A) Eingabe (Lehrer)'!H66)","v":""},{"$f":"IF('A) Eingabe (Lehrer)'!I66=\"\", \"\",'A) Eingabe (Lehrer)'!I66)","v":""},{"$f":"IF('A) Eingabe (Lehrer)'!J66=\"\", \"\",'A) Eingabe (Lehrer)'!J66)","v":""},{"$f":"IF('A) Eingabe (Lehrer)'!K66=\"\", \"\",'A) Eingabe (Lehrer)'!K66)","v":""},{"$f":"IF('A) Eingabe (Lehrer)'!L66=\"\", \"\",'A) Eingabe (Lehrer)'!L66)","v":""},{"$f":"IF('A) Eingabe (Lehrer)'!M66=\"\", \"\",'A) Eingabe (Lehrer)'!M66)","v":""},{"$f":"IF('A) Eingabe (Lehrer)'!N66=\"\", \"\",'A) Eingabe (Lehrer)'!N66)","v":""},{"$f":"IF('A) Eingabe (Lehrer)'!O66=\"\", \"\",'A) Eingabe (Lehrer)'!O66)","v":""},{"$f":"IF('A) Eingabe (Lehrer)'!P66=\"\", \"\",'A) Eingabe (Lehrer)'!P66)","v":""},{"$f":"IF('A) Eingabe (Lehrer)'!Q66=\"\", \"\",'A) Eingabe (Lehrer)'!Q66)","v":""},{"$f":"IF('A) Eingabe (Lehrer)'!R66=\"\", \"\",'A) Eingabe (Lehrer)'!R66)","v":""},{"$f":"IF('A) Eingabe (Lehrer)'!S66=\"\", \"\",'A) Eingabe (Lehrer)'!S66)","v":""},{"$f":"IF('A) Eingabe (Lehrer)'!T66=\"\", \"\",'A) Eingabe (Lehrer)'!T66)","v":""},{"$f":"IF('A) Eingabe (Lehrer)'!U66=\"\", \"\",'A) Eingabe (Lehrer)'!U66)","v":""},{"$f":"IF('A) Eingabe (Lehrer)'!V66=\"\", \"\",'A) Eingabe (Lehrer)'!V66)","v":""},{"$f":"IF('A) Eingabe (Lehrer)'!W66=\"\", \"\",'A) Eingabe (Lehrer)'!W66)","v":""},{"$f":"IF('A) Eingabe (Lehrer)'!X66=\"\", \"\",'A) Eingabe (Lehrer)'!X66)","v":""},{"$f":"IF('A) Eingabe (Lehrer)'!Y66=\"\", \"\",'A) Eingabe (Lehrer)'!Y66)","v":""},{"$f":"IF('A) Eingabe (Lehrer)'!Z66=\"\", \"\",'A) Eingabe (Lehrer)'!Z66)","v":""},{"$f":"IF('A) Eingabe (Lehrer)'!AA66=\"\", \"\",'A) Eingabe (Lehrer)'!AA66)","v":""},{"$f":"IF('A) Eingabe (Lehrer)'!AB66=\"\", \"\",'A) Eingabe (Lehrer)'!AB66)","v":""},{"$f":"IF('A) Eingabe (Lehrer)'!AC66=\"\", \"\",'A) Eingabe (Lehrer)'!AC66)","v":""},{"$f":"IF('A) Eingabe (Lehrer)'!AD66=\"\", \"\",'A) Eingabe (Lehrer)'!AD66)","v":""},{"$f":"IF('A) Eingabe (Lehrer)'!AE66=\"\", \"\",'A) Eingabe (Lehrer)'!AE66)","v":""},{"$f":"IF('A) Eingabe (Lehrer)'!AF66=\"\", \"\",'A) Eingabe (Lehrer)'!AF66)","v":""},{"$f":"IF('A) Eingabe (Lehrer)'!AG66=\"\", \"\",'A) Eingabe (Lehrer)'!AG66)","v":""},{"$f":"IF('A) Eingabe (Lehrer)'!AH66=\"\", \"\",'A) Eingabe (Lehrer)'!AH66)","v":""},{"$f":"IF('A) Eingabe (Lehrer)'!AI66=\"\", \"\",'A) Eingabe (Lehrer)'!AI66)","v":""},{"$f":"IF('A) Eingabe (Lehrer)'!AJ66=\"\", \"\",'A) Eingabe (Lehrer)'!AJ66)","v":""},{"$f":"IF('A) Eingabe (Lehrer)'!AK66=\"\", \"\",'A) Eingabe (Lehrer)'!AK66)","v":""},{"$f":"IF('A) Eingabe (Lehrer)'!AL66=\"\", \"\",'A) Eingabe (Lehrer)'!AL66)","v":""},{"$f":"IF('A) Eingabe (Lehrer)'!AM66=\"\", \"\",'A) Eingabe (Lehrer)'!AM66)","v":""},{"$f":"IF('A) Eingabe (Lehrer)'!AN66=\"\", \"\",'A) Eingabe (Lehrer)'!AN66)","v":""},{"$f":"IF('A) Eingabe (Lehrer)'!AO66=\"\", \"\",'A) Eingabe (Lehrer)'!AO66)","v":""},{"$f":"IF('A) Eingabe (Lehrer)'!AP66=\"\", \"\",'A) Eingabe (Lehrer)'!AP66)","v":""},{"$f":"IF('A) Eingabe (Lehrer)'!AQ66=\"\", \"\",'A) Eingabe (Lehrer)'!AQ66)","v":""},{"$f":"IF('A) Eingabe (Lehrer)'!AR66=\"\", \"\",'A) Eingabe (Lehrer)'!AR66)","v":""},{"$f":"IF('A) Eingabe (Lehrer)'!AS66=\"\", \"\",'A) Eingabe (Lehrer)'!AS66)","v":""},{"$f":"IF('A) Eingabe (Lehrer)'!AT66=\"\", \"\",'A) Eingabe (Lehrer)'!AT66)","v":""},{"$f":"IF('A) Eingabe (Lehrer)'!AU66=\"\", \"\",'A) Eingabe (Lehrer)'!AU66)","v":""},{"$f":"IF('A) Eingabe (Lehrer)'!AV66=\"\", \"\",'A) Eingabe (Lehrer)'!AV66)","v":""},{"$f":"IF('A) Eingabe (Lehrer)'!AW66=\"\", \"\",'A) Eingabe (Lehrer)'!AW66)","v":""},{"$f":"IF('A) Eingabe (Lehrer)'!AX66=\"\", \"\",'A) Eingabe (Lehrer)'!AX66)","v":""},{"$f":"IF('A) Eingabe (Lehrer)'!AY66=\"\", \"\",'A) Eingabe (Lehrer)'!AY66)","v":""},{"$f":"IF('A) Eingabe (Lehrer)'!AZ66=\"\", \"\",'A) Eingabe (Lehrer)'!AZ66)","v":""},{"$f":"IF('A) Eingabe (Lehrer)'!BA66=\"\", \"\",'A) Eingabe (Lehrer)'!BA66)","v":""},{"$f":"IF('A) Eingabe (Lehrer)'!BB66=\"\", \"\",'A) Eingabe (Lehrer)'!BB66)","v":""},{"$f":"IF('A) Eingabe (Lehrer)'!BC66=\"\", \"\",'A) Eingabe (Lehrer)'!BC66)","v":""},{"$f":"IF('A) Eingabe (Lehrer)'!BD66=\"\", \"\",'A) Eingabe (Lehrer)'!BD66)","v":""},{"$f":"IF('A) Eingabe (Lehrer)'!BE66=\"\", \"\",'A) Eingabe (Lehrer)'!BE66)","v":""},{"$f":"IF('A) Eingabe (Lehrer)'!BF66=\"\", \"\",'A) Eingabe (Lehrer)'!BF66)","v":""},{"$f":"IF('A) Eingabe (Lehrer)'!BG66=\"\", \"\",'A) Eingabe (Lehrer)'!BG66)","v":""},{"$f":"IF('A) Eingabe (Lehrer)'!BH66=\"\", \"\",'A) Eingabe (Lehrer)'!BH66)","v":""},{"$f":"IF('A) Eingabe (Lehrer)'!BI66=\"\", \"\",'A) Eingabe (Lehrer)'!BI66)","v":""},{"$f":"IF('A) Eingabe (Lehrer)'!BJ66=\"\", \"\",'A) Eingabe (Lehrer)'!BJ66)","v":""},{"$f":"IF('A) Eingabe (Lehrer)'!BK66=\"\", \"\",'A) Eingabe (Lehrer)'!BK66)","v":""}]
["Item 51",{"$f":"IF('A) Eingabe (Lehrer)'!C67=\"\", \"\",'A) Eingabe (Lehrer)'!C67)","v":""},{"$f":"IF('A) Eingabe (Lehrer)'!D67=\"\", \"\",'A) Eingabe (Lehrer)'!D67)","v":""},{"$f":"IF('A) Eingabe (Lehrer)'!E67=\"\", \"\",'A) Eingabe (Lehrer)'!E67)","v":""},{"$f":"IF('A) Eingabe (Lehrer)'!F67=\"\", \"\",'A) Eingabe (Lehrer)'!F67)","v":""},{"$f":"IF('A) Eingabe (Lehrer)'!G67=\"\", \"\",'A) Eingabe (Lehrer)'!G67)","v":""},{"$f":"IF('A) Eingabe (Lehrer)'!H67=\"\", \"\",'A) Eingabe (Lehrer)'!H67)","v":""},{"$f":"IF('A) Eingabe (Lehrer)'!I67=\"\", \"\",'A) Eingabe (Lehrer)'!I67)","v":""},{"$f":"IF('A) Eingabe (Lehrer)'!J67=\"\", \"\",'A) Eingabe (Lehrer)'!J67)","v":""},{"$f":"IF('A) Eingabe (Lehrer)'!K67=\"\", \"\",'A) Eingabe (Lehrer)'!K67)","v":""},{"$f":"IF('A) Eingabe (Lehrer)'!L67=\"\", \"\",'A) Eingabe (Lehrer)'!L67)","v":""},{"$f":"IF('A) Eingabe (Lehrer)'!M67=\"\", \"\",'A) Eingabe (Lehrer)'!M67)","v":""},{"$f":"IF('A) Eingabe (Lehrer)'!N67=\"\", \"\",'A) Eingabe (Lehrer)'!N67)","v":""},{"$f":"IF('A) Eingabe (Lehrer)'!O67=\"\", \"\",'A) Eingabe (Lehrer)'!O67)","v":""},{"$f":"IF('A) Eingabe (Lehrer)'!P67=\"\", \"\",'A) Eingabe (Lehrer)'!P67)","v":""},{"$f":"IF('A) Eingabe (Lehrer)'!Q67=\"\", \"\",'A) Eingabe (Lehrer)'!Q67)","v":""},{"$f":"IF('A) Eingabe (Lehrer)'!R67=\"\", \"\",'A) Eingabe (Lehrer)'!R67)","v":""},{"$f":"IF('A) Eingabe (Lehrer)'!S67=\"\", \"\",'A) Eingabe (Lehrer)'!S67)","v":""},{"$f":"IF('A) Eingabe (Lehrer)'!T67=\"\", \"\",'A) Eingabe (Lehrer)'!T67)","v":""},{"$f":"IF('A) Eingabe (Lehrer)'!U67=\"\", \"\",'A) Eingabe (Lehrer)'!U67)","v":""},{"$f":"IF('A) Eingabe (Lehrer)'!V67=\"\", \"\",'A) Eingabe (Lehrer)'!V67)","v":""},{"$f":"IF('A) Eingabe (Lehrer)'!W67=\"\", \"\",'A) Eingabe (Lehrer)'!W67)","v":""},{"$f":"IF('A) Eingabe (Lehrer)'!X67=\"\", \"\",'A) Eingabe (Lehrer)'!X67)","v":""},{"$f":"IF('A) Eingabe (Lehrer)'!Y67=\"\", \"\",'A) Eingabe (Lehrer)'!Y67)","v":""},{"$f":"IF('A) Eingabe (Lehrer)'!Z67=\"\", \"\",'A) Eingabe (Lehrer)'!Z67)","v":""},{"$f":"IF('A) Eingabe (Lehrer)'!AA67=\"\", \"\",'A) Eingabe (Lehrer)'!AA67)","v":""},{"$f":"IF('A) Eingabe (Lehrer)'!AB67=\"\", \"\",'A) Eingabe (Lehrer)'!AB67)","v":""},{"$f":"IF('A) Eingabe (Lehrer)'!AC67=\"\", \"\",'A) Eingabe (Lehrer)'!AC67)","v":""},{"$f":"IF('A) Eingabe (Lehrer)'!AD67=\"\", \"\",'A) Eingabe (Lehrer)'!AD67)","v":""},{"$f":"IF('A) Eingabe (Lehrer)'!AE67=\"\", \"\",'A) Eingabe (Lehrer)'!AE67)","v":""},{"$f":"IF('A) Eingabe (Lehrer)'!AF67=\"\", \"\",'A) Eingabe (Lehrer)'!AF67)","v":""},{"$f":"IF('A) Eingabe (Lehrer)'!AG67=\"\", \"\",'A) Eingabe (Lehrer)'!AG67)","v":""},{"$f":"IF('A) Eingabe (Lehrer)'!AH67=\"\", \"\",'A) Eingabe (Lehrer)'!AH67)","v":""},{"$f":"IF('A) Eingabe (Lehrer)'!AI67=\"\", \"\",'A) Eingabe (Lehrer)'!AI67)","v":""},{"$f":"IF('A) Eingabe (Lehrer)'!AJ67=\"\", \"\",'A) Eingabe (Lehrer)'!AJ67)","v":""},{"$f":"IF('A) Eingabe (Lehrer)'!AK67=\"\", \"\",'A) Eingabe (Lehrer)'!AK67)","v":""},{"$f":"IF('A) Eingabe (Lehrer)'!AL67=\"\", \"\",'A) Eingabe (Lehrer)'!AL67)","v":""},{"$f":"IF('A) Eingabe (Lehrer)'!AM67=\"\", \"\",'A) Eingabe (Lehrer)'!AM67)","v":""},{"$f":"IF('A) Eingabe (Lehrer)'!AN67=\"\", \"\",'A) Eingabe (Lehrer)'!AN67)","v":""},{"$f":"IF('A) Eingabe (Lehrer)'!AO67=\"\", \"\",'A) Eingabe (Lehrer)'!AO67)","v":""},{"$f":"IF('A) Eingabe (Lehrer)'!AP67=\"\", \"\",'A) Eingabe (Lehrer)'!AP67)","v":""},{"$f":"IF('A) Eingabe (Lehrer)'!AQ67=\"\", \"\",'A) Eingabe (Lehrer)'!AQ67)","v":""},{"$f":"IF('A) Eingabe (Lehrer)'!AR67=\"\", \"\",'A) Eingabe (Lehrer)'!AR67)","v":""},{"$f":"IF('A) Eingabe (Lehrer)'!AS67=\"\", \"\",'A) Eingabe (Lehrer)'!AS67)","v":""},{"$f":"IF('A) Eingabe (Lehrer)'!AT67=\"\", \"\",'A) Eingabe (Lehrer)'!AT67)","v":""},{"$f":"IF('A) Eingabe (Lehrer)'!AU67=\"\", \"\",'A) Eingabe (Lehrer)'!AU67)","v":""},{"$f":"IF('A) Eingabe (Lehrer)'!AV67=\"\", \"\",'A) Eingabe (Lehrer)'!AV67)","v":""},{"$f":"IF('A) Eingabe (Lehrer)'!AW67=\"\", \"\",'A) Eingabe (Lehrer)'!AW67)","v":""},{"$f":"IF('A) Eingabe (Lehrer)'!AX67=\"\", \"\",'A) Eingabe (Lehrer)'!AX67)","v":""},{"$f":"IF('A) Eingabe (Lehrer)'!AY67=\"\", \"\",'A) Eingabe (Lehrer)'!AY67)","v":""},{"$f":"IF('A) Eingabe (Lehrer)'!AZ67=\"\", \"\",'A) Eingabe (Lehrer)'!AZ67)","v":""},{"$f":"IF('A) Eingabe (Lehrer)'!BA67=\"\", \"\",'A) Eingabe (Lehrer)'!BA67)","v":""},{"$f":"IF('A) Eingabe (Lehrer)'!BB67=\"\", \"\",'A) Eingabe (Lehrer)'!BB67)","v":""},{"$f":"IF('A) Eingabe (Lehrer)'!BC67=\"\", \"\",'A) Eingabe (Lehrer)'!BC67)","v":""},{"$f":"IF('A) Eingabe (Lehrer)'!BD67=\"\", \"\",'A) Eingabe (Lehrer)'!BD67)","v":""},{"$f":"IF('A) Eingabe (Lehrer)'!BE67=\"\", \"\",'A) Eingabe (Lehrer)'!BE67)","v":""},{"$f":"IF('A) Eingabe (Lehrer)'!BF67=\"\", \"\",'A) Eingabe (Lehrer)'!BF67)","v":""},{"$f":"IF('A) Eingabe (Lehrer)'!BG67=\"\", \"\",'A) Eingabe (Lehrer)'!BG67)","v":""},{"$f":"IF('A) Eingabe (Lehrer)'!BH67=\"\", \"\",'A) Eingabe (Lehrer)'!BH67)","v":""},{"$f":"IF('A) Eingabe (Lehrer)'!BI67=\"\", \"\",'A) Eingabe (Lehrer)'!BI67)","v":""},{"$f":"IF('A) Eingabe (Lehrer)'!BJ67=\"\", \"\",'A) Eingabe (Lehrer)'!BJ67)","v":""},{"$f":"IF('A) Eingabe (Lehrer)'!BK67=\"\", \"\",'A) Eingabe (Lehrer)'!BK67)","v":""}]
["Item 52",{"$f":"IF('A) Eingabe (Lehrer)'!C68=\"\", \"\",'A) Eingabe (Lehrer)'!C68)","v":""},{"$f":"IF('A) Eingabe (Lehrer)'!D68=\"\", \"\",'A) Eingabe (Lehrer)'!D68)","v":""},{"$f":"IF('A) Eingabe (Lehrer)'!E68=\"\", \"\",'A) Eingabe (Lehrer)'!E68)","v":""},{"$f":"IF('A) Eingabe (Lehrer)'!F68=\"\", \"\",'A) Eingabe (Lehrer)'!F68)","v":""},{"$f":"IF('A) Eingabe (Lehrer)'!G68=\"\", \"\",'A) Eingabe (Lehrer)'!G68)","v":""},{"$f":"IF('A) Eingabe (Lehrer)'!H68=\"\", \"\",'A) Eingabe (Lehrer)'!H68)","v":""},{"$f":"IF('A) Eingabe (Lehrer)'!I68=\"\", \"\",'A) Eingabe (Lehrer)'!I68)","v":""},{"$f":"IF('A) Eingabe (Lehrer)'!J68=\"\", \"\",'A) Eingabe (Lehrer)'!J68)","v":""},{"$f":"IF('A) Eingabe (Lehrer)'!K68=\"\", \"\",'A) Eingabe (Lehrer)'!K68)","v":""},{"$f":"IF('A) Eingabe (Lehrer)'!L68=\"\", \"\",'A) Eingabe (Lehrer)'!L68)","v":""},{"$f":"IF('A) Eingabe (Lehrer)'!M68=\"\", \"\",'A) Eingabe (Lehrer)'!M68)","v":""},{"$f":"IF('A) Eingabe (Lehrer)'!N68=\"\", \"\",'A) Eingabe (Lehrer)'!N68)","v":""},{"$f":"IF('A) Eingabe (Lehrer)'!O68=\"\", \"\",'A) Eingabe (Lehrer)'!O68)","v":""},{"$f":"IF('A) Eingabe (Lehrer)'!P68=\"\", \"\",'A) Eingabe (Lehrer)'!P68)","v":""},{"$f":"IF('A) Eingabe (Lehrer)'!Q68=\"\", \"\",'A) Eingabe (Lehrer)'!Q68)","v":""},{"$f":"IF('A) Eingabe (Lehrer)'!R68=\"\", \"\",'A) Eingabe (Lehrer)'!R68)","v":""},{"$f":"IF('A) Eingabe (Lehrer)'!S68=\"\", \"\",'A) Eingabe (Lehrer)'!S68)","v":""},{"$f":"IF('A) Eingabe (Lehrer)'!T68=\"\", \"\",'A) Eingabe (Lehrer)'!T68)","v":""},{"$f":"IF('A) Eingabe (Lehrer)'!U68=\"\", \"\",'A) Eingabe (Lehrer)'!U68)","v":""},{"$f":"IF('A) Eingabe (Lehrer)'!V68=\"\", \"\",'A) Eingabe (Lehrer)'!V68)","v":""},{"$f":"IF('A) Eingabe (Lehrer)'!W68=\"\", \"\",'A) Eingabe (Lehrer)'!W68)","v":""},{"$f":"IF('A) Eingabe (Lehrer)'!X68=\"\", \"\",'A) Eingabe (Lehrer)'!X68)","v":""},{"$f":"IF('A) Eingabe (Lehrer)'!Y68=\"\", \"\",'A) Eingabe (Lehrer)'!Y68)","v":""},{"$f":"IF('A) Eingabe (Lehrer)'!Z68=\"\", \"\",'A) Eingabe (Lehrer)'!Z68)","v":""},{"$f":"IF('A) Eingabe (Lehrer)'!AA68=\"\", \"\",'A) Eingabe (Lehrer)'!AA68)","v":""},{"$f":"IF('A) Eingabe (Lehrer)'!AB68=\"\", \"\",'A) Eingabe (Lehrer)'!AB68)","v":""},{"$f":"IF('A) Eingabe (Lehrer)'!AC68=\"\", \"\",'A) Eingabe (Lehrer)'!AC68)","v":""},{"$f":"IF('A) Eingabe (Lehrer)'!AD68=\"\", \"\",'A) Eingabe (Lehrer)'!AD68)","v":""},{"$f":"IF('A) Eingabe (Lehrer)'!AE68=\"\", \"\",'A) Eingabe (Lehrer)'!AE68)","v":""},{"$f":"IF('A) Eingabe (Lehrer)'!AF68=\"\", \"\",'A) Eingabe (Lehrer)'!AF68)","v":""},{"$f":"IF('A) Eingabe (Lehrer)'!AG68=\"\", \"\",'A) Eingabe (Lehrer)'!AG68)","v":""},{"$f":"IF('A) Eingabe (Lehrer)'!AH68=\"\", \"\",'A) Eingabe (Lehrer)'!AH68)","v":""},{"$f":"IF('A) Eingabe (Lehrer)'!AI68=\"\", \"\",'A) Eingabe (Lehrer)'!AI68)","v":""},{"$f":"IF('A) Eingabe (Lehrer)'!AJ68=\"\", \"\",'A) Eingabe (Lehrer)'!AJ68)","v":""},{"$f":"IF('A) Eingabe (Lehrer)'!AK68=\"\", \"\",'A) Eingabe (Lehrer)'!AK68)","v":""},{"$f":"IF('A) Eingabe (Lehrer)'!AL68=\"\", \"\",'A) Eingabe (Lehrer)'!AL68)","v":""},{"$f":"IF('A) Eingabe (Lehrer)'!AM68=\"\", \"\",'A) Eingabe (Lehrer)'!AM68)","v":""},{"$f":"IF('A) Eingabe (Lehrer)'!AN68=\"\", \"\",'A) Eingabe (Lehrer)'!AN68)","v":""},{"$f":"IF('A) Eingabe (Lehrer)'!AO68=\"\", \"\",'A) Eingabe (Lehrer)'!AO68)","v":""},{"$f":"IF('A) Eingabe (Lehrer)'!AP68=\"\", \"\",'A) Eingabe (Lehrer)'!AP68)","v":""},{"$f":"IF('A) Eingabe (Lehrer)'!AQ68=\"\", \"\",'A) Eingabe (Lehrer)'!AQ68)","v":""},{"$f":"IF('A) Eingabe (Lehrer)'!AR68=\"\", \"\",'A) Eingabe (Lehrer)'!AR68)","v":""},{"$f":"IF('A) Eingabe (Lehrer)'!AS68=\"\", \"\",'A) Eingabe (Lehrer)'!AS68)","v":""},{"$f":"IF('A) Eingabe (Lehrer)'!AT68=\"\", \"\",'A) Eingabe (Lehrer)'!AT68)","v":""},{"$f":"IF('A) Eingabe (Lehrer)'!AU68=\"\", \"\",'A) Eingabe (Lehrer)'!AU68)","v":""},{"$f":"IF('A) Eingabe (Lehrer)'!AV68=\"\", \"\",'A) Eingabe (Lehrer)'!AV68)","v":""},{"$f":"IF('A) Eingabe (Lehrer)'!AW68=\"\", \"\",'A) Eingabe (Lehrer)'!AW68)","v":""},{"$f":"IF('A) Eingabe (Lehrer)'!AX68=\"\", \"\",'A) Eingabe (Lehrer)'!AX68)","v":""},{"$f":"IF('A) Eingabe (Lehrer)'!AY68=\"\", \"\",'A) Eingabe (Lehrer)'!AY68)","v":""},{"$f":"IF('A) Eingabe (Lehrer)'!AZ68=\"\", \"\",'A) Eingabe (Lehrer)'!AZ68)","v":""},{"$f":"IF('A) Eingabe (Lehrer)'!BA68=\"\", \"\",'A) Eingabe (Lehrer)'!BA68)","v":""},{"$f":"IF('A) Eingabe (Lehrer)'!BB68=\"\", \"\",'A) Eingabe (Lehrer)'!BB68)","v":""},{"$f":"IF('A) Eingabe (Lehrer)'!BC68=\"\", \"\",'A) Eingabe (Lehrer)'!BC68)","v":""},{"$f":"IF('A) Eingabe (Lehrer)'!BD68=\"\", \"\",'A) Eingabe (Lehrer)'!BD68)","v":""},{"$f":"IF('A) Eingabe (Lehrer)'!BE68=\"\", \"\",'A) Eingabe (Lehrer)'!BE68)","v":""},{"$f":"IF('A) Eingabe (Lehrer)'!BF68=\"\", \"\",'A) Eingabe (Lehrer)'!BF68)","v":""},{"$f":"IF('A) Eingabe (Lehrer)'!BG68=\"\", \"\",'A) Eingabe (Lehrer)'!BG68)","v":""},{"$f":"IF('A) Eingabe (Lehrer)'!BH68=\"\", \"\",'A) Eingabe (Lehrer)'!BH68)","v":""},{"$f":"IF('A) Eingabe (Lehrer)'!BI68=\"\", \"\",'A) Eingabe (Lehrer)'!BI68)","v":""},{"$f":"IF('A) Eingabe (Lehrer)'!BJ68=\"\", \"\",'A) Eingabe (Lehrer)'!BJ68)","v":""},{"$f":"IF('A) Eingabe (Lehrer)'!BK68=\"\", \"\",'A) Eingabe (Lehrer)'!BK68)","v":""}]
["Item 53",{"$f":"IF('A) Eingabe (Lehrer)'!C69=\"\", \"\",'A) Eingabe (Lehrer)'!C69)","v":""},{"$f":"IF('A) Eingabe (Lehrer)'!D69=\"\", \"\",'A) Eingabe (Lehrer)'!D69)","v":""},{"$f":"IF('A) Eingabe (Lehrer)'!E69=\"\", \"\",'A) Eingabe (Lehrer)'!E69)","v":""},{"$f":"IF('A) Eingabe (Lehrer)'!F69=\"\", \"\",'A) Eingabe (Lehrer)'!F69)","v":""},{"$f":"IF('A) Eingabe (Lehrer)'!G69=\"\", \"\",'A) Eingabe (Lehrer)'!G69)","v":""},{"$f":"IF('A) Eingabe (Lehrer)'!H69=\"\", \"\",'A) Eingabe (Lehrer)'!H69)","v":""},{"$f":"IF('A) Eingabe (Lehrer)'!I69=\"\", \"\",'A) Eingabe (Lehrer)'!I69)","v":""},{"$f":"IF('A) Eingabe (Lehrer)'!J69=\"\", \"\",'A) Eingabe (Lehrer)'!J69)","v":""},{"$f":"IF('A) Eingabe (Lehrer)'!K69=\"\", \"\",'A) Eingabe (Lehrer)'!K69)","v":""},{"$f":"IF('A) Eingabe (Lehrer)'!L69=\"\", \"\",'A) Eingabe (Lehrer)'!L69)","v":""},{"$f":"IF('A) Eingabe (Lehrer)'!M69=\"\", \"\",'A) Eingabe (Lehrer)'!M69)","v":""},{"$f":"IF('A) Eingabe (Lehrer)'!N69=\"\", \"\",'A) Eingabe (Lehrer)'!N69)","v":""},{"$f":"IF('A) Eingabe (Lehrer)'!O69=\"\", \"\",'A) Eingabe (Lehrer)'!O69)","v":""},{"$f":"IF('A) Eingabe (Lehrer)'!P69=\"\", \"\",'A) Eingabe (Lehrer)'!P69)","v":""},{"$f":"IF('A) Eingabe (Lehrer)'!Q69=\"\", \"\",'A) Eingabe (Lehrer)'!Q69)","v":""},{"$f":"IF('A) Eingabe (Lehrer)'!R69=\"\", \"\",'A) Eingabe (Lehrer)'!R69)","v":""},{"$f":"IF('A) Eingabe (Lehrer)'!S69=\"\", \"\",'A) Eingabe (Lehrer)'!S69)","v":""},{"$f":"IF('A) Eingabe (Lehrer)'!T69=\"\", \"\",'A) Eingabe (Lehrer)'!T69)","v":""},{"$f":"IF('A) Eingabe (Lehrer)'!U69=\"\", \"\",'A) Eingabe (Lehrer)'!U69)","v":""},{"$f":"IF('A) Eingabe (Lehrer)'!V69=\"\", \"\",'A) Eingabe (Lehrer)'!V69)","v":""},{"$f":"IF('A) Eingabe (Lehrer)'!W69=\"\", \"\",'A) Eingabe (Lehrer)'!W69)","v":""},{"$f":"IF('A) Eingabe (Lehrer)'!X69=\"\", \"\",'A) Eingabe (Lehrer)'!X69)","v":""},{"$f":"IF('A) Eingabe (Lehrer)'!Y69=\"\", \"\",'A) Eingabe (Lehrer)'!Y69)","v":""},{"$f":"IF('A) Eingabe (Lehrer)'!Z69=\"\", \"\",'A) Eingabe (Lehrer)'!Z69)","v":""},{"$f":"IF('A) Eingabe (Lehrer)'!AA69=\"\", \"\",'A) Eingabe (Lehrer)'!AA69)","v":""},{"$f":"IF('A) Eingabe (Lehrer)'!AB69=\"\", \"\",'A) Eingabe (Lehrer)'!AB69)","v":""},{"$f":"IF('A) Eingabe (Lehrer)'!AC69=\"\", \"\",'A) Eingabe (Lehrer)'!AC69)","v":""},{"$f":"IF('A) Eingabe (Lehrer)'!AD69=\"\", \"\",'A) Eingabe (Lehrer)'!AD69)","v":""},{"$f":"IF('A) Eingabe (Lehrer)'!AE69=\"\", \"\",'A) Eingabe (Lehrer)'!AE69)","v":""},{"$f":"IF('A) Eingabe (Lehrer)'!AF69=\"\", \"\",'A) Eingabe (Lehrer)'!AF69)","v":""},{"$f":"IF('A) Eingabe (Lehrer)'!AG69=\"\", \"\",'A) Eingabe (Lehrer)'!AG69)","v":""},{"$f":"IF('A) Eingabe (Lehrer)'!AH69=\"\", \"\",'A) Eingabe (Lehrer)'!AH69)","v":""},{"$f":"IF('A) Eingabe (Lehrer)'!AI69=\"\", \"\",'A) Eingabe (Lehrer)'!AI69)","v":""},{"$f":"IF('A) Eingabe (Lehrer)'!AJ69=\"\", \"\",'A) Eingabe (Lehrer)'!AJ69)","v":""},{"$f":"IF('A) Eingabe (Lehrer)'!AK69=\"\", \"\",'A) Eingabe (Lehrer)'!AK69)","v":""},{"$f":"IF('A) Eingabe (Lehrer)'!AL69=\"\", \"\",'A) Eingabe (Lehrer)'!AL69)","v":""},{"$f":"IF('A) Eingabe (Lehrer)'!AM69=\"\", \"\",'A) Eingabe (Lehrer)'!AM69)","v":""},{"$f":"IF('A) Eingabe (Lehrer)'!AN69=\"\", \"\",'A) Eingabe (Lehrer)'!AN69)","v":""},{"$f":"IF('A) Eingabe (Lehrer)'!AO69=\"\", \"\",'A) Eingabe (Lehrer)'!AO69)","v":""},{"$f":"IF('A) Eingabe (Lehrer)'!AP69=\"\", \"\",'A) Eingabe (Lehrer)'!AP69)","v":""},{"$f":"IF('A) Eingabe (Lehrer)'!AQ69=\"\", \"\",'A) Eingabe (Lehrer)'!AQ69)","v":""},{"$f":"IF('A) Eingabe (Lehrer)'!AR69=\"\", \"\",'A) Eingabe (Lehrer)'!AR69)","v":""},{"$f":"IF('A) Eingabe (Lehrer)'!AS69=\"\", \"\",'A) Eingabe (Lehrer)'!AS69)","v":""},{"$f":"IF('A) Eingabe (Lehrer)'!AT69=\"\", \"\",'A) Eingabe (Lehrer)'!AT69)","v":""},{"$f":"IF('A) Eingabe (Lehrer)'!AU69=\"\", \"\",'A) Eingabe (Lehrer)'!AU69)","v":""},{"$f":"IF('A) Eingabe (Lehrer)'!AV69=\"\", \"\",'A) Eingabe (Lehrer)'!AV69)","v":""},{"$f":"IF('A) Eingabe (Lehrer)'!AW69=\"\", \"\",'A) Eingabe (Lehrer)'!AW69)","v":""},{"$f":"IF('A) Eingabe (Lehrer)'!AX69=\"\", \"\",'A) Eingabe (Lehrer)'!AX69)","v":""},{"$f":"IF('A) Eingabe (Lehrer)'!AY69=\"\", \"\",'A) Eingabe (Lehrer)'!AY69)","v":""},{"$f":"IF('A) Eingabe (Lehrer)'!AZ69=\"\", \"\",'A) Eingabe (Lehrer)'!AZ69)","v":""},{"$f":"IF('A) Eingabe (Lehrer)'!BA69=\"\", \"\",'A) Eingabe (Lehrer)'!BA69)","v":""},{"$f":"IF('A) Eingabe (Lehrer)'!BB69=\"\", \"\",'A) Eingabe (Lehrer)'!BB69)","v":""},{"$f":"IF('A) Eingabe (Lehrer)'!BC69=\"\", \"\",'A) Eingabe (Lehrer)'!BC69)","v":""},{"$f":"IF('A) Eingabe (Lehrer)'!BD69=\"\", \"\",'A) Eingabe (Lehrer)'!BD69)","v":""},{"$f":"IF('A) Eingabe (Lehrer)'!BE69=\"\", \"\",'A) Eingabe (Lehrer)'!BE69)","v":""},{"$f":"IF('A) Eingabe (Lehrer)'!BF69=\"\", \"\",'A) Eingabe (Lehrer)'!BF69)","v":""},{"$f":"IF('A) Eingabe (Lehrer)'!BG69=\"\", \"\",'A) Eingabe (Lehrer)'!BG69)","v":""},{"$f":"IF('A) Eingabe (Lehrer)'!BH69=\"\", \"\",'A) Eingabe (Lehrer)'!BH69)","v":""},{"$f":"IF('A) Eingabe (Lehrer)'!BI69=\"\", \"\",'A) Eingabe (Lehrer)'!BI69)","v":""},{"$f":"IF('A) Eingabe (Lehrer)'!BJ69=\"\", \"\",'A) Eingabe (Lehrer)'!BJ69)","v":""},{"$f":"IF('A) Eingabe (Lehrer)'!BK69=\"\", \"\",'A) Eingabe (Lehrer)'!BK69)","v":""}]
["Item 54",{"$f":"IF('A) Eingabe (Lehrer)'!C70=\"\", \"\",'A) Eingabe (Lehrer)'!C70)","v":""},{"$f":"IF('A) Eingabe (Lehrer)'!D70=\"\", \"\",'A) Eingabe (Lehrer)'!D70)","v":""},{"$f":"IF('A) Eingabe (Lehrer)'!E70=\"\", \"\",'A) Eingabe (Lehrer)'!E70)","v":""},{"$f":"IF('A) Eingabe (Lehrer)'!F70=\"\", \"\",'A) Eingabe (Lehrer)'!F70)","v":""},{"$f":"IF('A) Eingabe (Lehrer)'!G70=\"\", \"\",'A) Eingabe (Lehrer)'!G70)","v":""},{"$f":"IF('A) Eingabe (Lehrer)'!H70=\"\", \"\",'A) Eingabe (Lehrer)'!H70)","v":""},{"$f":"IF('A) Eingabe (Lehrer)'!I70=\"\", \"\",'A) Eingabe (Lehrer)'!I70)","v":""},{"$f":"IF('A) Eingabe (Lehrer)'!J70=\"\", \"\",'A) Eingabe (Lehrer)'!J70)","v":""},{"$f":"IF('A) Eingabe (Lehrer)'!K70=\"\", \"\",'A) Eingabe (Lehrer)'!K70)","v":""},{"$f":"IF('A) Eingabe (Lehrer)'!L70=\"\", \"\",'A) Eingabe (Lehrer)'!L70)","v":""},{"$f":"IF('A) Eingabe (Lehrer)'!M70=\"\", \"\",'A) Eingabe (Lehrer)'!M70)","v":""},{"$f":"IF('A) Eingabe (Lehrer)'!N70=\"\", \"\",'A) Eingabe (Lehrer)'!N70)","v":""},{"$f":"IF('A) Eingabe (Lehrer)'!O70=\"\", \"\",'A) Eingabe (Lehrer)'!O70)","v":""},{"$f":"IF('A) Eingabe (Lehrer)'!P70=\"\", \"\",'A) Eingabe (Lehrer)'!P70)","v":""},{"$f":"IF('A) Eingabe (Lehrer)'!Q70=\"\", \"\",'A) Eingabe (Lehrer)'!Q70)","v":""},{"$f":"IF('A) Eingabe (Lehrer)'!R70=\"\", \"\",'A) Eingabe (Lehrer)'!R70)","v":""},{"$f":"IF('A) Eingabe (Lehrer)'!S70=\"\", \"\",'A) Eingabe (Lehrer)'!S70)","v":""},{"$f":"IF('A) Eingabe (Lehrer)'!T70=\"\", \"\",'A) Eingabe (Lehrer)'!T70)","v":""},{"$f":"IF('A) Eingabe (Lehrer)'!U70=\"\", \"\",'A) Eingabe (Lehrer)'!U70)","v":""},{"$f":"IF('A) Eingabe (Lehrer)'!V70=\"\", \"\",'A) Eingabe (Lehrer)'!V70)","v":""},{"$f":"IF('A) Eingabe (Lehrer)'!W70=\"\", \"\",'A) Eingabe (Lehrer)'!W70)","v":""},{"$f":"IF('A) Eingabe (Lehrer)'!X70=\"\", \"\",'A) Eingabe (Lehrer)'!X70)","v":""},{"$f":"IF('A) Eingabe (Lehrer)'!Y70=\"\", \"\",'A) Eingabe (Lehrer)'!Y70)","v":""},{"$f":"IF('A) Eingabe (Lehrer)'!Z70=\"\", \"\",'A) Eingabe (Lehrer)'!Z70)","v":""},{"$f":"IF('A) Eingabe (Lehrer)'!AA70=\"\", \"\",'A) Eingabe (Lehrer)'!AA70)","v":""},{"$f":"IF('A) Eingabe (Lehrer)'!AB70=\"\", \"\",'A) Eingabe (Lehrer)'!AB70)","v":""},{"$f":"IF('A) Eingabe (Lehrer)'!AC70=\"\", \"\",'A) Eingabe (Lehrer)'!AC70)","v":""},{"$f":"IF('A) Eingabe (Lehrer)'!AD70=\"\", \"\",'A) Eingabe (Lehrer)'!AD70)","v":""},{"$f":"IF('A) Eingabe (Lehrer)'!AE70=\"\", \"\",'A) Eingabe (Lehrer)'!AE70)","v":""},{"$f":"IF('A) Eingabe (Lehrer)'!AF70=\"\", \"\",'A) Eingabe (Lehrer)'!AF70)","v":""},{"$f":"IF('A) Eingabe (Lehrer)'!AG70=\"\", \"\",'A) Eingabe (Lehrer)'!AG70)","v":""},{"$f":"IF('A) Eingabe (Lehrer)'!AH70=\"\", \"\",'A) Eingabe (Lehrer)'!AH70)","v":""},{"$f":"IF('A) Eingabe (Lehrer)'!AI70=\"\", \"\",'A) Eingabe (Lehrer)'!AI70)","v":""},{"$f":"IF('A) Eingabe (Lehrer)'!AJ70=\"\", \"\",'A) Eingabe (Lehrer)'!AJ70)","v":""},{"$f":"IF('A) Eingabe (Lehrer)'!AK70=\"\", \"\",'A) Eingabe (Lehrer)'!AK70)","v":""},{"$f":"IF('A) Eingabe (Lehrer)'!AL70=\"\", \"\",'A) Eingabe (Lehrer)'!AL70)","v":""},{"$f":"IF('A) Eingabe (Lehrer)'!AM70=\"\", \"\",'A) Eingabe (Lehrer)'!AM70)","v":""},{"$f":"IF('A) Eingabe (Lehrer)'!AN70=\"\", \"\",'A) Eingabe (Lehrer)'!AN70)","v":""},{"$f":"IF('A) Eingabe (Lehrer)'!AO70=\"\", \"\",'A) Eingabe (Lehrer)'!AO70)","v":""},{"$f":"IF('A) Eingabe (Lehrer)'!AP70=\"\", \"\",'A) Eingabe (Lehrer)'!AP70)","v":""},{"$f":"IF('A) Eingabe (Lehrer)'!AQ70=\"\", \"\",'A) Eingabe (Lehrer)'!AQ70)","v":""},{"$f":"IF('A) Eingabe (Lehrer)'!AR70=\"\", \"\",'A) Eingabe (Lehrer)'!AR70)","v":""},{"$f":"IF('A) Eingabe (Lehrer)'!AS70=\"\", \"\",'A) Eingabe (Lehrer)'!AS70)","v":""},{"$f":"IF('A) Eingabe (Lehrer)'!AT70=\"\", \"\",'A) Eingabe (Lehrer)'!AT70)","v":""},{"$f":"IF('A) Eingabe (Lehrer)'!AU70=\"\", \"\",'A) Eingabe (Lehrer)'!AU70)","v":""},{"$f":"IF('A) Eingabe (Lehrer)'!AV70=\"\", \"\",'A) Eingabe (Lehrer)'!AV70)","v":""},{"$f":"IF('A) Eingabe (Lehrer)'!AW70=\"\", \"\",'A) Eingabe (Lehrer)'!AW70)","v":""},{"$f":"IF('A) Eingabe (Lehrer)'!AX70=\"\", \"\",'A) Eingabe (Lehrer)'!AX70)","v":""},{"$f":"IF('A) Eingabe (Lehrer)'!AY70=\"\", \"\",'A) Eingabe (Lehrer)'!AY70)","v":""},{"$f":"IF('A) Eingabe (Lehrer)'!AZ70=\"\", \"\",'A) Eingabe (Lehrer)'!AZ70)","v":""},{"$f":"IF('A) Eingabe (Lehrer)'!BA70=\"\", \"\",'A) Eingabe (Lehrer)'!BA70)","v":""},{"$f":"IF('A) Eingabe (Lehrer)'!BB70=\"\", \"\",'A) Eingabe (Lehrer)'!BB70)","v":""},{"$f":"IF('A) Eingabe (Lehrer)'!BC70=\"\", \"\",'A) Eingabe (Lehrer)'!BC70)","v":""},{"$f":"IF('A) Eingabe (Lehrer)'!BD70=\"\", \"\",'A) Eingabe (Lehrer)'!BD70)","v":""},{"$f":"IF('A) Eingabe (Lehrer)'!BE70=\"\", \"\",'A) Eingabe (Lehrer)'!BE70)","v":""},{"$f":"IF('A) Eingabe (Lehrer)'!BF70=\"\", \"\",'A) Eingabe (Lehrer)'!BF70)","v":""},{"$f":"IF('A) Eingabe (Lehrer)'!BG70=\"\", \"\",'A) Eingabe (Lehrer)'!BG70)","v":""},{"$f":"IF('A) Eingabe (Lehrer)'!BH70=\"\", \"\",'A) Eingabe (Lehrer)'!BH70)","v":""},{"$f":"IF('A) Eingabe (Lehrer)'!BI70=\"\", \"\",'A) Eingabe (Lehrer)'!BI70)","v":""},{"$f":"IF('A) Eingabe (Lehrer)'!BJ70=\"\", \"\",'A) Eingabe (Lehrer)'!BJ70)","v":""},{"$f":"IF('A) Eingabe (Lehrer)'!BK70=\"\", \"\",'A) Eingabe (Lehrer)'!BK70)","v":""}]
["Item 55",{"$f":"IF('A) Eingabe (Lehrer)'!C71=\"\", \"\",'A) Eingabe (Lehrer)'!C71)","v":""},{"$f":"IF('A) Eingabe (Lehrer)'!D71=\"\", \"\",'A) Eingabe (Lehrer)'!D71)","v":""},{"$f":"IF('A) Eingabe (Lehrer)'!E71=\"\", \"\",'A) Eingabe (Lehrer)'!E71)","v":""},{"$f":"IF('A) Eingabe (Lehrer)'!F71=\"\", \"\",'A) Eingabe (Lehrer)'!F71)","v":""},{"$f":"IF('A) Eingabe (Lehrer)'!G71=\"\", \"\",'A) Eingabe (Lehrer)'!G71)","v":""},{"$f":"IF('A) Eingabe (Lehrer)'!H71=\"\", \"\",'A) Eingabe (Lehrer)'!H71)","v":""},{"$f":"IF('A) Eingabe (Lehrer)'!I71=\"\", \"\",'A) Eingabe (Lehrer)'!I71)","v":""},{"$f":"IF('A) Eingabe (Lehrer)'!J71=\"\", \"\",'A) Eingabe (Lehrer)'!J71)","v":""},{"$f":"IF('A) Eingabe (Lehrer)'!K71=\"\", \"\",'A) Eingabe (Lehrer)'!K71)","v":""},{"$f":"IF('A) Eingabe (Lehrer)'!L71=\"\", \"\",'A) Eingabe (Lehrer)'!L71)","v":""},{"$f":"IF('A) Eingabe (Lehrer)'!M71=\"\", \"\",'A) Eingabe (Lehrer)'!M71)","v":""},{"$f":"IF('A) Eingabe (Lehrer)'!N71=\"\", \"\",'A) Eingabe (Lehrer)'!N71)","v":""},{"$f":"IF('A) Eingabe (Lehrer)'!O71=\"\", \"\",'A) Eingabe (Lehrer)'!O71)","v":""},{"$f":"IF('A) Eingabe (Lehrer)'!P71=\"\", \"\",'A) Eingabe (Lehrer)'!P71)","v":""},{"$f":"IF('A) Eingabe (Lehrer)'!Q71=\"\", \"\",'A) Eingabe (Lehrer)'!Q71)","v":""},{"$f":"IF('A) Eingabe (Lehrer)'!R71=\"\", \"\",'A) Eingabe (Lehrer)'!R71)","v":""},{"$f":"IF('A) Eingabe (Lehrer)'!S71=\"\", \"\",'A) Eingabe (Lehrer)'!S71)","v":""},{"$f":"IF('A) Eingabe (Lehrer)'!T71=\"\", \"\",'A) Eingabe (Lehrer)'!T71)","v":""},{"$f":"IF('A) Eingabe (Lehrer)'!U71=\"\", \"\",'A) Eingabe (Lehrer)'!U71)","v":""},{"$f":"IF('A) Eingabe (Lehrer)'!V71=\"\", \"\",'A) Eingabe (Lehrer)'!V71)","v":""},{"$f":"IF('A) Eingabe (Lehrer)'!W71=\"\", \"\",'A) Eingabe (Lehrer)'!W71)","v":""},{"$f":"IF('A) Eingabe (Lehrer)'!X71=\"\", \"\",'A) Eingabe (Lehrer)'!X71)","v":""},{"$f":"IF('A) Eingabe (Lehrer)'!Y71=\"\", \"\",'A) Eingabe (Lehrer)'!Y71)","v":""},{"$f":"IF('A) Eingabe (Lehrer)'!Z71=\"\", \"\",'A) Eingabe (Lehrer)'!Z71)","v":""},{"$f":"IF('A) Eingabe (Lehrer)'!AA71=\"\", \"\",'A) Eingabe (Lehrer)'!AA71)","v":""},{"$f":"IF('A) Eingabe (Lehrer)'!AB71=\"\", \"\",'A) Eingabe (Lehrer)'!AB71)","v":""},{"$f":"IF('A) Eingabe (Lehrer)'!AC71=\"\", \"\",'A) Eingabe (Lehrer)'!AC71)","v":""},{"$f":"IF('A) Eingabe (Lehrer)'!AD71=\"\", \"\",'A) Eingabe (Lehrer)'!AD71)","v":""},{"$f":"IF('A) Eingabe (Lehrer)'!AE71=\"\", \"\",'A) Eingabe (Lehrer)'!AE71)","v":""},{"$f":"IF('A) Eingabe (Lehrer)'!AF71=\"\", \"\",'A) Eingabe (Lehrer)'!AF71)","v":""},{"$f":"IF('A) Eingabe (Lehrer)'!AG71=\"\", \"\",'A) Eingabe (Lehrer)'!AG71)","v":""},{"$f":"IF('A) Eingabe (Lehrer)'!AH71=\"\", \"\",'A) Eingabe (Lehrer)'!AH71)","v":""},{"$f":"IF('A) Eingabe (Lehrer)'!AI71=\"\", \"\",'A) Eingabe (Lehrer)'!AI71)","v":""},{"$f":"IF('A) Eingabe (Lehrer)'!AJ71=\"\", \"\",'A) Eingabe (Lehrer)'!AJ71)","v":""},{"$f":"IF('A) Eingabe (Lehrer)'!AK71=\"\", \"\",'A) Eingabe (Lehrer)'!AK71)","v":""},{"$f":"IF('A) Eingabe (Lehrer)'!AL71=\"\", \"\",'A) Eingabe (Lehrer)'!AL71)","v":""},{"$f":"IF('A) Eingabe (Lehrer)'!AM71=\"\", \"\",'A) Eingabe (Lehrer)'!AM71)","v":""},{"$f":"IF('A) Eingabe (Lehrer)'!AN71=\"\", \"\",'A) Eingabe (Lehrer)'!AN71)","v":""},{"$f":"IF('A) Eingabe (Lehrer)'!AO71=\"\", \"\",'A) Eingabe (Lehrer)'!AO71)","v":""},{"$f":"IF('A) Eingabe (Lehrer)'!AP71=\"\", \"\",'A) Eingabe (Lehrer)'!AP71)","v":""},{"$f":"IF('A) Eingabe (Lehrer)'!AQ71=\"\", \"\",'A) Eingabe (Lehrer)'!AQ71)","v":""},{"$f":"IF('A) Eingabe (Lehrer)'!AR71=\"\", \"\",'A) Eingabe (Lehrer)'!AR71)","v":""},{"$f":"IF('A) Eingabe (Lehrer)'!AS71=\"\", \"\",'A) Eingabe (Lehrer)'!AS71)","v":""},{"$f":"IF('A) Eingabe (Lehrer)'!AT71=\"\", \"\",'A) Eingabe (Lehrer)'!AT71)","v":""},{"$f":"IF('A) Eingabe (Lehrer)'!AU71=\"\", \"\",'A) Eingabe (Lehrer)'!AU71)","v":""},{"$f":"IF('A) Eingabe (Lehrer)'!AV71=\"\", \"\",'A) Eingabe (Lehrer)'!AV71)","v":""},{"$f":"IF('A) Eingabe (Lehrer)'!AW71=\"\", \"\",'A) Eingabe (Lehrer)'!AW71)","v":""},{"$f":"IF('A) Eingabe (Lehrer)'!AX71=\"\", \"\",'A) Eingabe (Lehrer)'!AX71)","v":""},{"$f":"IF('A) Eingabe (Lehrer)'!AY71=\"\", \"\",'A) Eingabe (Lehrer)'!AY71)","v":""},{"$f":"IF('A) Eingabe (Lehrer)'!AZ71=\"\", \"\",'A) Eingabe (Lehrer)'!AZ71)","v":""},{"$f":"IF('A) Eingabe (Lehrer)'!BA71=\"\", \"\",'A) Eingabe (Lehrer)'!BA71)","v":""},{"$f":"IF('A) Eingabe (Lehrer)'!BB71=\"\", \"\",'A) Eingabe (Lehrer)'!BB71)","v":""},{"$f":"IF('A) Eingabe (Lehrer)'!BC71=\"\", \"\",'A) Eingabe (Lehrer)'!BC71)","v":""},{"$f":"IF('A) Eingabe (Lehrer)'!BD71=\"\", \"\",'A) Eingabe (Lehrer)'!BD71)","v":""},{"$f":"IF('A) Eingabe (Lehrer)'!BE71=\"\", \"\",'A) Eingabe (Lehrer)'!BE71)","v":""},{"$f":"IF('A) Eingabe (Lehrer)'!BF71=\"\", \"\",'A) Eingabe (Lehrer)'!BF71)","v":""},{"$f":"IF('A) Eingabe (Lehrer)'!BG71=\"\", \"\",'A) Eingabe (Lehrer)'!BG71)","v":""},{"$f":"IF('A) Eingabe (Lehrer)'!BH71=\"\", \"\",'A) Eingabe (Lehrer)'!BH71)","v":""},{"$f":"IF('A) Eingabe (Lehrer)'!BI71=\"\", \"\",'A) Eingabe (Lehrer)'!BI71)","v":""},{"$f":"IF('A) Eingabe (Lehrer)'!BJ71=\"\", \"\",'A) Eingabe (Lehrer)'!BJ71)","v":""},{"$f":"IF('A) Eingabe (Lehrer)'!BK71=\"\", \"\",'A) Eingabe (Lehrer)'!BK71)","v":""}]
["Item 56",{"$f":"IF('A) Eingabe (Lehrer)'!C72=\"\", \"\",'A) Eingabe (Lehrer)'!C72)","v":""},{"$f":"IF('A) Eingabe (Lehrer)'!D72=\"\", \"\",'A) Eingabe (Lehrer)'!D72)","v":""},{"$f":"IF('A) Eingabe (Lehrer)'!E72=\"\", \"\",'A) Eingabe (Lehrer)'!E72)","v":""},{"$f":"IF('A) Eingabe (Lehrer)'!F72=\"\", \"\",'A) Eingabe (Lehrer)'!F72)","v":""},{"$f":"IF('A) Eingabe (Lehrer)'!G72=\"\", \"\",'A) Eingabe (Lehrer)'!G72)","v":""},{"$f":"IF('A) Eingabe (Lehrer)'!H72=\"\", \"\",'A) Eingabe (Lehrer)'!H72)","v":""},{"$f":"IF('A) Eingabe (Lehrer)'!I72=\"\", \"\",'A) Eingabe (Lehrer)'!I72)","v":""},{"$f":"IF('A) Eingabe (Lehrer)'!J72=\"\", \"\",'A) Eingabe (Lehrer)'!J72)","v":""},{"$f":"IF('A) Eingabe (Lehrer)'!K72=\"\", \"\",'A) Eingabe (Lehrer)'!K72)","v":""},{"$f":"IF('A) Eingabe (Lehrer)'!L72=\"\", \"\",'A) Eingabe (Lehrer)'!L72)","v":""},{"$f":"IF('A) Eingabe (Lehrer)'!M72=\"\", \"\",'A) Eingabe (Lehrer)'!M72)","v":""},{"$f":"IF('A) Eingabe (Lehrer)'!N72=\"\", \"\",'A) Eingabe (Lehrer)'!N72)","v":""},{"$f":"IF('A) Eingabe (Lehrer)'!O72=\"\", \"\",'A) Eingabe (Lehrer)'!O72)","v":""},{"$f":"IF('A) Eingabe (Lehrer)'!P72=\"\", \"\",'A) Eingabe (Lehrer)'!P72)","v":""},{"$f":"IF('A) Eingabe (Lehrer)'!Q72=\"\", \"\",'A) Eingabe (Lehrer)'!Q72)","v":""},{"$f":"IF('A) Eingabe (Lehrer)'!R72=\"\", \"\",'A) Eingabe (Lehrer)'!R72)","v":""},{"$f":"IF('A) Eingabe (Lehrer)'!S72=\"\", \"\",'A) Eingabe (Lehrer)'!S72)","v":""},{"$f":"IF('A) Eingabe (Lehrer)'!T72=\"\", \"\",'A) Eingabe (Lehrer)'!T72)","v":""},{"$f":"IF('A) Eingabe (Lehrer)'!U72=\"\", \"\",'A) Eingabe (Lehrer)'!U72)","v":""},{"$f":"IF('A) Eingabe (Lehrer)'!V72=\"\", \"\",'A) Eingabe (Lehrer)'!V72)","v":""},{"$f":"IF('A) Eingabe (Lehrer)'!W72=\"\", \"\",'A) Eingabe (Lehrer)'!W72)","v":""},{"$f":"IF('A) Eingabe (Lehrer)'!X72=\"\", \"\",'A) Eingabe (Lehrer)'!X72)","v":""},{"$f":"IF('A) Eingabe (Lehrer)'!Y72=\"\", \"\",'A) Eingabe (Lehrer)'!Y72)","v":""},{"$f":"IF('A) Eingabe (Lehrer)'!Z72=\"\", \"\",'A) Eingabe (Lehrer)'!Z72)","v":""},{"$f":"IF('A) Eingabe (Lehrer)'!AA72=\"\", \"\",'A) Eingabe (Lehrer)'!AA72)","v":""},{"$f":"IF('A) Eingabe (Lehrer)'!AB72=\"\", \"\",'A) Eingabe (Lehrer)'!AB72)","v":""},{"$f":"IF('A) Eingabe (Lehrer)'!AC72=\"\", \"\",'A) Eingabe (Lehrer)'!AC72)","v":""},{"$f":"IF('A) Eingabe (Lehrer)'!AD72=\"\", \"\",'A) Eingabe (Lehrer)'!AD72)","v":""},{"$f":"IF('A) Eingabe (Lehrer)'!AE72=\"\", \"\",'A) Eingabe (Lehrer)'!AE72)","v":""},{"$f":"IF('A) Eingabe (Lehrer)'!AF72=\"\", \"\",'A) Eingabe (Lehrer)'!AF72)","v":""},{"$f":"IF('A) Eingabe (Lehrer)'!AG72=\"\", \"\",'A) Eingabe (Lehrer)'!AG72)","v":""},{"$f":"IF('A) Eingabe (Lehrer)'!AH72=\"\", \"\",'A) Eingabe (Lehrer)'!AH72)","v":""},{"$f":"IF('A) Eingabe (Lehrer)'!AI72=\"\", \"\",'A) Eingabe (Lehrer)'!AI72)","v":""},{"$f":"IF('A) Eingabe (Lehrer)'!AJ72=\"\", \"\",'A) Eingabe (Lehrer)'!AJ72)","v":""},{"$f":"IF('A) Eingabe (Lehrer)'!AK72=\"\", \"\",'A) Eingabe (Lehrer)'!AK72)","v":""},{"$f":"IF('A) Eingabe (Lehrer)'!AL72=\"\", \"\",'A) Eingabe (Lehrer)'!AL72)","v":""},{"$f":"IF('A) Eingabe (Lehrer)'!AM72=\"\", \"\",'A) Eingabe (Lehrer)'!AM72)","v":""},{"$f":"IF('A) Eingabe (Lehrer)'!AN72=\"\", \"\",'A) Eingabe (Lehrer)'!AN72)","v":""},{"$f":"IF('A) Eingabe (Lehrer)'!AO72=\"\", \"\",'A) Eingabe (Lehrer)'!AO72)","v":""},{"$f":"IF('A) Eingabe (Lehrer)'!AP72=\"\", \"\",'A) Eingabe (Lehrer)'!AP72)","v":""},{"$f":"IF('A) Eingabe (Lehrer)'!AQ72=\"\", \"\",'A) Eingabe (Lehrer)'!AQ72)","v":""},{"$f":"IF('A) Eingabe (Lehrer)'!AR72=\"\", \"\",'A) Eingabe (Lehrer)'!AR72)","v":""},{"$f":"IF('A) Eingabe (Lehrer)'!AS72=\"\", \"\",'A) Eingabe (Lehrer)'!AS72)","v":""},{"$f":"IF('A) Eingabe (Lehrer)'!AT72=\"\", \"\",'A) Eingabe (Lehrer)'!AT72)","v":""},{"$f":"IF('A) Eingabe (Lehrer)'!AU72=\"\", \"\",'A) Eingabe (Lehrer)'!AU72)","v":""},{"$f":"IF('A) Eingabe (Lehrer)'!AV72=\"\", \"\",'A) Eingabe (Lehrer)'!AV72)","v":""},{"$f":"IF('A) Eingabe (Lehrer)'!AW72=\"\", \"\",'A) Eingabe (Lehrer)'!AW72)","v":""},{"$f":"IF('A) Eingabe (Lehrer)'!AX72=\"\", \"\",'A) Eingabe (Lehrer)'!AX72)","v":""},{"$f":"IF('A) Eingabe (Lehrer)'!AY72=\"\", \"\",'A) Eingabe (Lehrer)'!AY72)","v":""},{"$f":"IF('A) Eingabe (Lehrer)'!AZ72=\"\", \"\",'A) Eingabe (Lehrer)'!AZ72)","v":""},{"$f":"IF('A) Eingabe (Lehrer)'!BA72=\"\", \"\",'A) Eingabe (Lehrer)'!BA72)","v":""},{"$f":"IF('A) Eingabe (Lehrer)'!BB72=\"\", \"\",'A) Eingabe (Lehrer)'!BB72)","v":""},{"$f":"IF('A) Eingabe (Lehrer)'!BC72=\"\", \"\",'A) Eingabe (Lehrer)'!BC72)","v":""},{"$f":"IF('A) Eingabe (Lehrer)'!BD72=\"\", \"\",'A) Eingabe (Lehrer)'!BD72)","v":""},{"$f":"IF('A) Eingabe (Lehrer)'!BE72=\"\", \"\",'A) Eingabe (Lehrer)'!BE72)","v":""},{"$f":"IF('A) Eingabe (Lehrer)'!BF72=\"\", \"\",'A) Eingabe (Lehrer)'!BF72)","v":""},{"$f":"IF('A) Eingabe (Lehrer)'!BG72=\"\", \"\",'A) Eingabe (Lehrer)'!BG72)","v":""},{"$f":"IF('A) Eingabe (Lehrer)'!BH72=\"\", \"\",'A) Eingabe (Lehrer)'!BH72)","v":""},{"$f":"IF('A) Eingabe (Lehrer)'!BI72=\"\", \"\",'A) Eingabe (Lehrer)'!BI72)","v":""},{"$f":"IF('A) Eingabe (Lehrer)'!BJ72=\"\", \"\",'A) Eingabe (Lehrer)'!BJ72)","v":""},{"$f":"IF('A) Eingabe (Lehrer)'!BK72=\"\", \"\",'A) Eingabe (Lehrer)'!BK72)","v":""}]
["Item 57",{"$f":"IF('A) Eingabe (Lehrer)'!C73=\"\", \"\",'A) Eingabe (Lehrer)'!C73)","v":""},{"$f":"IF('A) Eingabe (Lehrer)'!D73=\"\", \"\",'A) Eingabe (Lehrer)'!D73)","v":""},{"$f":"IF('A) Eingabe (Lehrer)'!E73=\"\", \"\",'A) Eingabe (Lehrer)'!E73)","v":""},{"$f":"IF('A) Eingabe (Lehrer)'!F73=\"\", \"\",'A) Eingabe (Lehrer)'!F73)","v":""},{"$f":"IF('A) Eingabe (Lehrer)'!G73=\"\", \"\",'A) Eingabe (Lehrer)'!G73)","v":""},{"$f":"IF('A) Eingabe (Lehrer)'!H73=\"\", \"\",'A) Eingabe (Lehrer)'!H73)","v":""},{"$f":"IF('A) Eingabe (Lehrer)'!I73=\"\", \"\",'A) Eingabe (Lehrer)'!I73)","v":""},{"$f":"IF('A) Eingabe (Lehrer)'!J73=\"\", \"\",'A) Eingabe (Lehrer)'!J73)","v":""},{"$f":"IF('A) Eingabe (Lehrer)'!K73=\"\", \"\",'A) Eingabe (Lehrer)'!K73)","v":""},{"$f":"IF('A) Eingabe (Lehrer)'!L73=\"\", \"\",'A) Eingabe (Lehrer)'!L73)","v":""},{"$f":"IF('A) Eingabe (Lehrer)'!M73=\"\", \"\",'A) Eingabe (Lehrer)'!M73)","v":""},{"$f":"IF('A) Eingabe (Lehrer)'!N73=\"\", \"\",'A) Eingabe (Lehrer)'!N73)","v":""},{"$f":"IF('A) Eingabe (Lehrer)'!O73=\"\", \"\",'A) Eingabe (Lehrer)'!O73)","v":""},{"$f":"IF('A) Eingabe (Lehrer)'!P73=\"\", \"\",'A) Eingabe (Lehrer)'!P73)","v":""},{"$f":"IF('A) Eingabe (Lehrer)'!Q73=\"\", \"\",'A) Eingabe (Lehrer)'!Q73)","v":""},{"$f":"IF('A) Eingabe (Lehrer)'!R73=\"\", \"\",'A) Eingabe (Lehrer)'!R73)","v":""},{"$f":"IF('A) Eingabe (Lehrer)'!S73=\"\", \"\",'A) Eingabe (Lehrer)'!S73)","v":""},{"$f":"IF('A) Eingabe (Lehrer)'!T73=\"\", \"\",'A) Eingabe (Lehrer)'!T73)","v":""},{"$f":"IF('A) Eingabe (Lehrer)'!U73=\"\", \"\",'A) Eingabe (Lehrer)'!U73)","v":""},{"$f":"IF('A) Eingabe (Lehrer)'!V73=\"\", \"\",'A) Eingabe (Lehrer)'!V73)","v":""},{"$f":"IF('A) Eingabe (Lehrer)'!W73=\"\", \"\",'A) Eingabe (Lehrer)'!W73)","v":""},{"$f":"IF('A) Eingabe (Lehrer)'!X73=\"\", \"\",'A) Eingabe (Lehrer)'!X73)","v":""},{"$f":"IF('A) Eingabe (Lehrer)'!Y73=\"\", \"\",'A) Eingabe (Lehrer)'!Y73)","v":""},{"$f":"IF('A) Eingabe (Lehrer)'!Z73=\"\", \"\",'A) Eingabe (Lehrer)'!Z73)","v":""},{"$f":"IF('A) Eingabe (Lehrer)'!AA73=\"\", \"\",'A) Eingabe (Lehrer)'!AA73)","v":""},{"$f":"IF('A) Eingabe (Lehrer)'!AB73=\"\", \"\",'A) Eingabe (Lehrer)'!AB73)","v":""},{"$f":"IF('A) Eingabe (Lehrer)'!AC73=\"\", \"\",'A) Eingabe (Lehrer)'!AC73)","v":""},{"$f":"IF('A) Eingabe (Lehrer)'!AD73=\"\", \"\",'A) Eingabe (Lehrer)'!AD73)","v":""},{"$f":"IF('A) Eingabe (Lehrer)'!AE73=\"\", \"\",'A) Eingabe (Lehrer)'!AE73)","v":""},{"$f":"IF('A) Eingabe (Lehrer)'!AF73=\"\", \"\",'A) Eingabe (Lehrer)'!AF73)","v":""},{"$f":"IF('A) Eingabe (Lehrer)'!AG73=\"\", \"\",'A) Eingabe (Lehrer)'!AG73)","v":""},{"$f":"IF('A) Eingabe (Lehrer)'!AH73=\"\", \"\",'A) Eingabe (Lehrer)'!AH73)","v":""},{"$f":"IF('A) Eingabe (Lehrer)'!AI73=\"\", \"\",'A) Eingabe (Lehrer)'!AI73)","v":""},{"$f":"IF('A) Eingabe (Lehrer)'!AJ73=\"\", \"\",'A) Eingabe (Lehrer)'!AJ73)","v":""},{"$f":"IF('A) Eingabe (Lehrer)'!AK73=\"\", \"\",'A) Eingabe (Lehrer)'!AK73)","v":""},{"$f":"IF('A) Eingabe (Lehrer)'!AL73=\"\", \"\",'A) Eingabe (Lehrer)'!AL73)","v":""},{"$f":"IF('A) Eingabe (Lehrer)'!AM73=\"\", \"\",'A) Eingabe (Lehrer)'!AM73)","v":""},{"$f":"IF('A) Eingabe (Lehrer)'!AN73=\"\", \"\",'A) Eingabe (Lehrer)'!AN73)","v":""},{"$f":"IF('A) Eingabe (Lehrer)'!AO73=\"\", \"\",'A) Eingabe (Lehrer)'!AO73)","v":""},{"$f":"IF('A) Eingabe (Lehrer)'!AP73=\"\", \"\",'A) Eingabe (Lehrer)'!AP73)","v":""},{"$f":"IF('A) Eingabe (Lehrer)'!AQ73=\"\", \"\",'A) Eingabe (Lehrer)'!AQ73)","v":""},{"$f":"IF('A) Eingabe (Lehrer)'!AR73=\"\", \"\",'A) Eingabe (Lehrer)'!AR73)","v":""},{"$f":"IF('A) Eingabe (Lehrer)'!AS73=\"\", \"\",'A) Eingabe (Lehrer)'!AS73)","v":""},{"$f":"IF('A) Eingabe (Lehrer)'!AT73=\"\", \"\",'A) Eingabe (Lehrer)'!AT73)","v":""},{"$f":"IF('A) Eingabe (Lehrer)'!AU73=\"\", \"\",'A) Eingabe (Lehrer)'!AU73)","v":""},{"$f":"IF('A) Eingabe (Lehrer)'!AV73=\"\", \"\",'A) Eingabe (Lehrer)'!AV73)","v":""},{"$f":"IF('A) Eingabe (Lehrer)'!AW73=\"\", \"\",'A) Eingabe (Lehrer)'!AW73)","v":""},{"$f":"IF('A) Eingabe (Lehrer)'!AX73=\"\", \"\",'A) Eingabe (Lehrer)'!AX73)","v":""},{"$f":"IF('A) Eingabe (Lehrer)'!AY73=\"\", \"\",'A) Eingabe (Lehrer)'!AY73)","v":""},{"$f":"IF('A) Eingabe (Lehrer)'!AZ73=\"\", \"\",'A) Eingabe (Lehrer)'!AZ73)","v":""},{"$f":"IF('A) Eingabe (Lehrer)'!BA73=\"\", \"\",'A) Eingabe (Lehrer)'!BA73)","v":""},{"$f":"IF('A) Eingabe (Lehrer)'!BB73=\"\", \"\",'A) Eingabe (Lehrer)'!BB73)","v":""},{"$f":"IF('A) Eingabe (Lehrer)'!BC73=\"\", \"\",'A) Eingabe (Lehrer)'!BC73)","v":""},{"$f":"IF('A) Eingabe (Lehrer)'!BD73=\"\", \"\",'A) Eingabe (Lehrer)'!BD73)","v":""},{"$f":"IF('A) Eingabe (Lehrer)'!BE73=\"\", \"\",'A) Eingabe (Lehrer)'!BE73)","v":""},{"$f":"IF('A) Eingabe (Lehrer)'!BF73=\"\", \"\",'A) Eingabe (Lehrer)'!BF73)","v":""},{"$f":"IF('A) Eingabe (Lehrer)'!BG73=\"\", \"\",'A) Eingabe (Lehrer)'!BG73)","v":""},{"$f":"IF('A) Eingabe (Lehrer)'!BH73=\"\", \"\",'A) Eingabe (Lehrer)'!BH73)","v":""},{"$f":"IF('A) Eingabe (Lehrer)'!BI73=\"\", \"\",'A) Eingabe (Lehrer)'!BI73)","v":""},{"$f":"IF('A) Eingabe (Lehrer)'!BJ73=\"\", \"\",'A) Eingabe (Lehrer)'!BJ73)","v":""},{"$f":"IF('A) Eingabe (Lehrer)'!BK73=\"\", \"\",'A) Eingabe (Lehrer)'!BK73)","v":""}]
["Item 58",{"$f":"IF('A) Eingabe (Lehrer)'!C74=\"\", \"\",'A) Eingabe (Lehrer)'!C74)","v":""},{"$f":"IF('A) Eingabe (Lehrer)'!D74=\"\", \"\",'A) Eingabe (Lehrer)'!D74)","v":""},{"$f":"IF('A) Eingabe (Lehrer)'!E74=\"\", \"\",'A) Eingabe (Lehrer)'!E74)","v":""},{"$f":"IF('A) Eingabe (Lehrer)'!F74=\"\", \"\",'A) Eingabe (Lehrer)'!F74)","v":""},{"$f":"IF('A) Eingabe (Lehrer)'!G74=\"\", \"\",'A) Eingabe (Lehrer)'!G74)","v":""},{"$f":"IF('A) Eingabe (Lehrer)'!H74=\"\", \"\",'A) Eingabe (Lehrer)'!H74)","v":""},{"$f":"IF('A) Eingabe (Lehrer)'!I74=\"\", \"\",'A) Eingabe (Lehrer)'!I74)","v":""},{"$f":"IF('A) Eingabe (Lehrer)'!J74=\"\", \"\",'A) Eingabe (Lehrer)'!J74)","v":""},{"$f":"IF('A) Eingabe (Lehrer)'!K74=\"\", \"\",'A) Eingabe (Lehrer)'!K74)","v":""},{"$f":"IF('A) Eingabe (Lehrer)'!L74=\"\", \"\",'A) Eingabe (Lehrer)'!L74)","v":""},{"$f":"IF('A) Eingabe (Lehrer)'!M74=\"\", \"\",'A) Eingabe (Lehrer)'!M74)","v":""},{"$f":"IF('A) Eingabe (Lehrer)'!N74=\"\", \"\",'A) Eingabe (Lehrer)'!N74)","v":""},{"$f":"IF('A) Eingabe (Lehrer)'!O74=\"\", \"\",'A) Eingabe (Lehrer)'!O74)","v":""},{"$f":"IF('A) Eingabe (Lehrer)'!P74=\"\", \"\",'A) Eingabe (Lehrer)'!P74)","v":""},{"$f":"IF('A) Eingabe (Lehrer)'!Q74=\"\", \"\",'A) Eingabe (Lehrer)'!Q74)","v":""},{"$f":"IF('A) Eingabe (Lehrer)'!R74=\"\", \"\",'A) Eingabe (Lehrer)'!R74)","v":""},{"$f":"IF('A) Eingabe (Lehrer)'!S74=\"\", \"\",'A) Eingabe (Lehrer)'!S74)","v":""},{"$f":"IF('A) Eingabe (Lehrer)'!T74=\"\", \"\",'A) Eingabe (Lehrer)'!T74)","v":""},{"$f":"IF('A) Eingabe (Lehrer)'!U74=\"\", \"\",'A) Eingabe (Lehrer)'!U74)","v":""},{"$f":"IF('A) Eingabe (Lehrer)'!V74=\"\", \"\",'A) Eingabe (Lehrer)'!V74)","v":""},{"$f":"IF('A) Eingabe (Lehrer)'!W74=\"\", \"\",'A) Eingabe (Lehrer)'!W74)","v":""},{"$f":"IF('A) Eingabe (Lehrer)'!X74=\"\", \"\",'A) Eingabe (Lehrer)'!X74)","v":""},{"$f":"IF('A) Eingabe (Lehrer)'!Y74=\"\", \"\",'A) Eingabe (Lehrer)'!Y74)","v":""},{"$f":"IF('A) Eingabe (Lehrer)'!Z74=\"\", \"\",'A) Eingabe (Lehrer)'!Z74)","v":""},{"$f":"IF('A) Eingabe (Lehrer)'!AA74=\"\", \"\",'A) Eingabe (Lehrer)'!AA74)","v":""},{"$f":"IF('A) Eingabe (Lehrer)'!AB74=\"\", \"\",'A) Eingabe (Lehrer)'!AB74)","v":""},{"$f":"IF('A) Eingabe (Lehrer)'!AC74=\"\", \"\",'A) Eingabe (Lehrer)'!AC74)","v":""},{"$f":"IF('A) Eingabe (Lehrer)'!AD74=\"\", \"\",'A) Eingabe (Lehrer)'!AD74)","v":""},{"$f":"IF('A) Eingabe (Lehrer)'!AE74=\"\", \"\",'A) Eingabe (Lehrer)'!AE74)","v":""},{"$f":"IF('A) Eingabe (Lehrer)'!AF74=\"\", \"\",'A) Eingabe (Lehrer)'!AF74)","v":""},{"$f":"IF('A) Eingabe (Lehrer)'!AG74=\"\", \"\",'A) Eingabe (Lehrer)'!AG74)","v":""},{"$f":"IF('A) Eingabe (Lehrer)'!AH74=\"\", \"\",'A) Eingabe (Lehrer)'!AH74)","v":""},{"$f":"IF('A) Eingabe (Lehrer)'!AI74=\"\", \"\",'A) Eingabe (Lehrer)'!AI74)","v":""},{"$f":"IF('A) Eingabe (Lehrer)'!AJ74=\"\", \"\",'A) Eingabe (Lehrer)'!AJ74)","v":""},{"$f":"IF('A) Eingabe (Lehrer)'!AK74=\"\", \"\",'A) Eingabe (Lehrer)'!AK74)","v":""},{"$f":"IF('A) Eingabe (Lehrer)'!AL74=\"\", \"\",'A) Eingabe (Lehrer)'!AL74)","v":""},{"$f":"IF('A) Eingabe (Lehrer)'!AM74=\"\", \"\",'A) Eingabe (Lehrer)'!AM74)","v":""},{"$f":"IF('A) Eingabe (Lehrer)'!AN74=\"\", \"\",'A) Eingabe (Lehrer)'!AN74)","v":""},{"$f":"IF('A) Eingabe (Lehrer)'!AO74=\"\", \"\",'A) Eingabe (Lehrer)'!AO74)","v":""},{"$f":"IF('A) Eingabe (Lehrer)'!AP74=\"\", \"\",'A) Eingabe (Lehrer)'!AP74)","v":""},{"$f":"IF('A) Eingabe (Lehrer)'!AQ74=\"\", \"\",'A) Eingabe (Lehrer)'!AQ74)","v":""},{"$f":"IF('A) Eingabe (Lehrer)'!AR74=\"\", \"\",'A) Eingabe (Lehrer)'!AR74)","v":""},{"$f":"IF('A) Eingabe (Lehrer)'!AS74=\"\", \"\",'A) Eingabe (Lehrer)'!AS74)","v":""},{"$f":"IF('A) Eingabe (Lehrer)'!AT74=\"\", \"\",'A) Eingabe (Lehrer)'!AT74)","v":""},{"$f":"IF('A) Eingabe (Lehrer)'!AU74=\"\", \"\",'A) Eingabe (Lehrer)'!AU74)","v":""},{"$f":"IF('A) Eingabe (Lehrer)'!AV74=\"\", \"\",'A) Eingabe (Lehrer)'!AV74)","v":""},{"$f":"IF('A) Eingabe (Lehrer)'!AW74=\"\", \"\",'A) Eingabe (Lehrer)'!AW74)","v":""},{"$f":"IF('A) Eingabe (Lehrer)'!AX74=\"\", \"\",'A) Eingabe (Lehrer)'!AX74)","v":""},{"$f":"IF('A) Eingabe (Lehrer)'!AY74=\"\", \"\",'A) Eingabe (Lehrer)'!AY74)","v":""},{"$f":"IF('A) Eingabe (Lehrer)'!AZ74=\"\", \"\",'A) Eingabe (Lehrer)'!AZ74)","v":""},{"$f":"IF('A) Eingabe (Lehrer)'!BA74=\"\", \"\",'A) Eingabe (Lehrer)'!BA74)","v":""},{"$f":"IF('A) Eingabe (Lehrer)'!BB74=\"\", \"\",'A) Eingabe (Lehrer)'!BB74)","v":""},{"$f":"IF('A) Eingabe (Lehrer)'!BC74=\"\", \"\",'A) Eingabe (Lehrer)'!BC74)","v":""},{"$f":"IF('A) Eingabe (Lehrer)'!BD74=\"\", \"\",'A) Eingabe (Lehrer)'!BD74)","v":""},{"$f":"IF('A) Eingabe (Lehrer)'!BE74=\"\", \"\",'A) Eingabe (Lehrer)'!BE74)","v":""},{"$f":"IF('A) Eingabe (Lehrer)'!BF74=\"\", \"\",'A) Eingabe (Lehrer)'!BF74)","v":""},{"$f":"IF('A) Eingabe (Lehrer)'!BG74=\"\", \"\",'A) Eingabe (Lehrer)'!BG74)","v":""},{"$f":"IF('A) Eingabe (Lehrer)'!BH74=\"\", \"\",'A) Eingabe (Lehrer)'!BH74)","v":""},{"$f":"IF('A) Eingabe (Lehrer)'!BI74=\"\", \"\",'A) Eingabe (Lehrer)'!BI74)","v":""},{"$f":"IF('A) Eingabe (Lehrer)'!BJ74=\"\", \"\",'A) Eingabe (Lehrer)'!BJ74)","v":""},{"$f":"IF('A) Eingabe (Lehrer)'!BK74=\"\", \"\",'A) Eingabe (Lehrer)'!BK74)","v":""}]
["Item 59",{"$f":"IF('A) Eingabe (Lehrer)'!C75=\"\", \"\",'A) Eingabe (Lehrer)'!C75)","v":""},{"$f":"IF('A) Eingabe (Lehrer)'!D75=\"\", \"\",'A) Eingabe (Lehrer)'!D75)","v":""},{"$f":"IF('A) Eingabe (Lehrer)'!E75=\"\", \"\",'A) Eingabe (Lehrer)'!E75)","v":""},{"$f":"IF('A) Eingabe (Lehrer)'!F75=\"\", \"\",'A) Eingabe (Lehrer)'!F75)","v":""},{"$f":"IF('A) Eingabe (Lehrer)'!G75=\"\", \"\",'A) Eingabe (Lehrer)'!G75)","v":""},{"$f":"IF('A) Eingabe (Lehrer)'!H75=\"\", \"\",'A) Eingabe (Lehrer)'!H75)","v":""},{"$f":"IF('A) Eingabe (Lehrer)'!I75=\"\", \"\",'A) Eingabe (Lehrer)'!I75)","v":""},{"$f":"IF('A) Eingabe (Lehrer)'!J75=\"\", \"\",'A) Eingabe (Lehrer)'!J75)","v":""},{"$f":"IF('A) Eingabe (Lehrer)'!K75=\"\", \"\",'A) Eingabe (Lehrer)'!K75)","v":""},{"$f":"IF('A) Eingabe (Lehrer)'!L75=\"\", \"\",'A) Eingabe (Lehrer)'!L75)","v":""},{"$f":"IF('A) Eingabe (Lehrer)'!M75=\"\", \"\",'A) Eingabe (Lehrer)'!M75)","v":""},{"$f":"IF('A) Eingabe (Lehrer)'!N75=\"\", \"\",'A) Eingabe (Lehrer)'!N75)","v":""},{"$f":"IF('A) Eingabe (Lehrer)'!O75=\"\", \"\",'A) Eingabe (Lehrer)'!O75)","v":""},{"$f":"IF('A) Eingabe (Lehrer)'!P75=\"\", \"\",'A) Eingabe (Lehrer)'!P75)","v":""},{"$f":"IF('A) Eingabe (Lehrer)'!Q75=\"\", \"\",'A) Eingabe (Lehrer)'!Q75)","v":""},{"$f":"IF('A) Eingabe (Lehrer)'!R75=\"\", \"\",'A) Eingabe (Lehrer)'!R75)","v":""},{"$f":"IF('A) Eingabe (Lehrer)'!S75=\"\", \"\",'A) Eingabe (Lehrer)'!S75)","v":""},{"$f":"IF('A) Eingabe (Lehrer)'!T75=\"\", \"\",'A) Eingabe (Lehrer)'!T75)","v":""},{"$f":"IF('A) Eingabe (Lehrer)'!U75=\"\", \"\",'A) Eingabe (Lehrer)'!U75)","v":""},{"$f":"IF('A) Eingabe (Lehrer)'!V75=\"\", \"\",'A) Eingabe (Lehrer)'!V75)","v":""},{"$f":"IF('A) Eingabe (Lehrer)'!W75=\"\", \"\",'A) Eingabe (Lehrer)'!W75)","v":""},{"$f":"IF('A) Eingabe (Lehrer)'!X75=\"\", \"\",'A) Eingabe (Lehrer)'!X75)","v":""},{"$f":"IF('A) Eingabe (Lehrer)'!Y75=\"\", \"\",'A) Eingabe (Lehrer)'!Y75)","v":""},{"$f":"IF('A) Eingabe (Lehrer)'!Z75=\"\", \"\",'A) Eingabe (Lehrer)'!Z75)","v":""},{"$f":"IF('A) Eingabe (Lehrer)'!AA75=\"\", \"\",'A) Eingabe (Lehrer)'!AA75)","v":""},{"$f":"IF('A) Eingabe (Lehrer)'!AB75=\"\", \"\",'A) Eingabe (Lehrer)'!AB75)","v":""},{"$f":"IF('A) Eingabe (Lehrer)'!AC75=\"\", \"\",'A) Eingabe (Lehrer)'!AC75)","v":""},{"$f":"IF('A) Eingabe (Lehrer)'!AD75=\"\", \"\",'A) Eingabe (Lehrer)'!AD75)","v":""},{"$f":"IF('A) Eingabe (Lehrer)'!AE75=\"\", \"\",'A) Eingabe (Lehrer)'!AE75)","v":""},{"$f":"IF('A) Eingabe (Lehrer)'!AF75=\"\", \"\",'A) Eingabe (Lehrer)'!AF75)","v":""},{"$f":"IF('A) Eingabe (Lehrer)'!AG75=\"\", \"\",'A) Eingabe (Lehrer)'!AG75)","v":""},{"$f":"IF('A) Eingabe (Lehrer)'!AH75=\"\", \"\",'A) Eingabe (Lehrer)'!AH75)","v":""},{"$f":"IF('A) Eingabe (Lehrer)'!AI75=\"\", \"\",'A) Eingabe (Lehrer)'!AI75)","v":""},{"$f":"IF('A) Eingabe (Lehrer)'!AJ75=\"\", \"\",'A) Eingabe (Lehrer)'!AJ75)","v":""},{"$f":"IF('A) Eingabe (Lehrer)'!AK75=\"\", \"\",'A) Eingabe (Lehrer)'!AK75)","v":""},{"$f":"IF('A) Eingabe (Lehrer)'!AL75=\"\", \"\",'A) Eingabe (Lehrer)'!AL75)","v":""},{"$f":"IF('A) Eingabe (Lehrer)'!AM75=\"\", \"\",'A) Eingabe (Lehrer)'!AM75)","v":""},{"$f":"IF('A) Eingabe (Lehrer)'!AN75=\"\", \"\",'A) Eingabe (Lehrer)'!AN75)","v":""},{"$f":"IF('A) Eingabe (Lehrer)'!AO75=\"\", \"\",'A) Eingabe (Lehrer)'!AO75)","v":""},{"$f":"IF('A) Eingabe (Lehrer)'!AP75=\"\", \"\",'A) Eingabe (Lehrer)'!AP75)","v":""},{"$f":"IF('A) Eingabe (Lehrer)'!AQ75=\"\", \"\",'A) Eingabe (Lehrer)'!AQ75)","v":""},{"$f":"IF('A) Eingabe (Lehrer)'!AR75=\"\", \"\",'A) Eingabe (Lehrer)'!AR75)","v":""},{"$f":"IF('A) Eingabe (Lehrer)'!AS75=\"\", \"\",'A) Eingabe (Lehrer)'!AS75)","v":""},{"$f":"IF('A) Eingabe (Lehrer)'!AT75=\"\", \"\",'A) Eingabe (Lehrer)'!AT75)","v":""},{"$f":"IF('A) Eingabe (Lehrer)'!AU75=\"\", \"\",'A) Eingabe (Lehrer)'!AU75)","v":""},{"$f":"IF('A) Eingabe (Lehrer)'!AV75=\"\", \"\",'A) Eingabe (Lehrer)'!AV75)","v":""},{"$f":"IF('A) Eingabe (Lehrer)'!AW75=\"\", \"\",'A) Eingabe (Lehrer)'!AW75)","v":""},{"$f":"IF('A) Eingabe (Lehrer)'!AX75=\"\", \"\",'A) Eingabe (Lehrer)'!AX75)","v":""},{"$f":"IF('A) Eingabe (Lehrer)'!AY75=\"\", \"\",'A) Eingabe (Lehrer)'!AY75)","v":""},{"$f":"IF('A) Eingabe (Lehrer)'!AZ75=\"\", \"\",'A) Eingabe (Lehrer)'!AZ75)","v":""},{"$f":"IF('A) Eingabe (Lehrer)'!BA75=\"\", \"\",'A) Eingabe (Lehrer)'!BA75)","v":""},{"$f":"IF('A) Eingabe (Lehrer)'!BB75=\"\", \"\",'A) Eingabe (Lehrer)'!BB75)","v":""},{"$f":"IF('A) Eingabe (Lehrer)'!BC75=\"\", \"\",'A) Eingabe (Lehrer)'!BC75)","v":""},{"$f":"IF('A) Eingabe (Lehrer)'!BD75=\"\", \"\",'A) Eingabe (Lehrer)'!BD75)","v":""},{"$f":"IF('A) Eingabe (Lehrer)'!BE75=\"\", \"\",'A) Eingabe (Lehrer)'!BE75)","v":""},{"$f":"IF('A) Eingabe (Lehrer)'!BF75=\"\", \"\",'A) Eingabe (Lehrer)'!BF75)","v":""},{"$f":"IF('A) Eingabe (Lehrer)'!BG75=\"\", \"\",'A) Eingabe (Lehrer)'!BG75)","v":""},{"$f":"IF('A) Eingabe (Lehrer)'!BH75=\"\", \"\",'A) Eingabe (Lehrer)'!BH75)","v":""},{"$f":"IF('A) Eingabe (Lehrer)'!BI75=\"\", \"\",'A) Eingabe (Lehrer)'!BI75)","v":""},{"$f":"IF('A) Eingabe (Lehrer)'!BJ75=\"\", \"\",'A) Eingabe (Lehrer)'!BJ75)","v":""},{"$f":"IF('A) Eingabe (Lehrer)'!BK75=\"\", \"\",'A) Eingabe (Lehrer)'!BK75)","v":""}]
["Item 60",{"$f":"IF('A) Eingabe (Lehrer)'!C76=\"\", \"\",'A) Eingabe (Lehrer)'!C76)","v":""},{"$f":"IF('A) Eingabe (Lehrer)'!D76=\"\", \"\",'A) Eingabe (Lehrer)'!D76)","v":""},{"$f":"IF('A) Eingabe (Lehrer)'!E76=\"\", \"\",'A) Eingabe (Lehrer)'!E76)","v":""},{"$f":"IF('A) Eingabe (Lehrer)'!F76=\"\", \"\",'A) Eingabe (Lehrer)'!F76)","v":""},{"$f":"IF('A) Eingabe (Lehrer)'!G76=\"\", \"\",'A) Eingabe (Lehrer)'!G76)","v":""},{"$f":"IF('A) Eingabe (Lehrer)'!H76=\"\", \"\",'A) Eingabe (Lehrer)'!H76)","v":""},{"$f":"IF('A) Eingabe (Lehrer)'!I76=\"\", \"\",'A) Eingabe (Lehrer)'!I76)","v":""},{"$f":"IF('A) Eingabe (Lehrer)'!J76=\"\", \"\",'A) Eingabe (Lehrer)'!J76)","v":""},{"$f":"IF('A) Eingabe (Lehrer)'!K76=\"\", \"\",'A) Eingabe (Lehrer)'!K76)","v":""},{"$f":"IF('A) Eingabe (Lehrer)'!L76=\"\", \"\",'A) Eingabe (Lehrer)'!L76)","v":""},{"$f":"IF('A) Eingabe (Lehrer)'!M76=\"\", \"\",'A) Eingabe (Lehrer)'!M76)","v":""},{"$f":"IF('A) Eingabe (Lehrer)'!N76=\"\", \"\",'A) Eingabe (Lehrer)'!N76)","v":""},{"$f":"IF('A) Eingabe (Lehrer)'!O76=\"\", \"\",'A) Eingabe (Lehrer)'!O76)","v":""},{"$f":"IF('A) Eingabe (Lehrer)'!P76=\"\", \"\",'A) Eingabe (Lehrer)'!P76)","v":""},{"$f":"IF('A) Eingabe (Lehrer)'!Q76=\"\", \"\",'A) Eingabe (Lehrer)'!Q76)","v":""},{"$f":"IF('A) Eingabe (Lehrer)'!R76=\"\", \"\",'A) Eingabe (Lehrer)'!R76)","v":""},{"$f":"IF('A) Eingabe (Lehrer)'!S76=\"\", \"\",'A) Eingabe (Lehrer)'!S76)","v":""},{"$f":"IF('A) Eingabe (Lehrer)'!T76=\"\", \"\",'A) Eingabe (Lehrer)'!T76)","v":""},{"$f":"IF('A) Eingabe (Lehrer)'!U76=\"\", \"\",'A) Eingabe (Lehrer)'!U76)","v":""},{"$f":"IF('A) Eingabe (Lehrer)'!V76=\"\", \"\",'A) Eingabe (Lehrer)'!V76)","v":""},{"$f":"IF('A) Eingabe (Lehrer)'!W76=\"\", \"\",'A) Eingabe (Lehrer)'!W76)","v":""},{"$f":"IF('A) Eingabe (Lehrer)'!X76=\"\", \"\",'A) Eingabe (Lehrer)'!X76)","v":""},{"$f":"IF('A) Eingabe (Lehrer)'!Y76=\"\", \"\",'A) Eingabe (Lehrer)'!Y76)","v":""},{"$f":"IF('A) Eingabe (Lehrer)'!Z76=\"\", \"\",'A) Eingabe (Lehrer)'!Z76)","v":""},{"$f":"IF('A) Eingabe (Lehrer)'!AA76=\"\", \"\",'A) Eingabe (Lehrer)'!AA76)","v":""},{"$f":"IF('A) Eingabe (Lehrer)'!AB76=\"\", \"\",'A) Eingabe (Lehrer)'!AB76)","v":""},{"$f":"IF('A) Eingabe (Lehrer)'!AC76=\"\", \"\",'A) Eingabe (Lehrer)'!AC76)","v":""},{"$f":"IF('A) Eingabe (Lehrer)'!AD76=\"\", \"\",'A) Eingabe (Lehrer)'!AD76)","v":""},{"$f":"IF('A) Eingabe (Lehrer)'!AE76=\"\", \"\",'A) Eingabe (Lehrer)'!AE76)","v":""},{"$f":"IF('A) Eingabe (Lehrer)'!AF76=\"\", \"\",'A) Eingabe (Lehrer)'!AF76)","v":""},{"$f":"IF('A) Eingabe (Lehrer)'!AG76=\"\", \"\",'A) Eingabe (Lehrer)'!AG76)","v":""},{"$f":"IF('A) Eingabe (Lehrer)'!AH76=\"\", \"\",'A) Eingabe (Lehrer)'!AH76)","v":""},{"$f":"IF('A) Eingabe (Lehrer)'!AI76=\"\", \"\",'A) Eingabe (Lehrer)'!AI76)","v":""},{"$f":"IF('A) Eingabe (Lehrer)'!AJ76=\"\", \"\",'A) Eingabe (Lehrer)'!AJ76)","v":""},{"$f":"IF('A) Eingabe (Lehrer)'!AK76=\"\", \"\",'A) Eingabe (Lehrer)'!AK76)","v":""},{"$f":"IF('A) Eingabe (Lehrer)'!AL76=\"\", \"\",'A) Eingabe (Lehrer)'!AL76)","v":""},{"$f":"IF('A) Eingabe (Lehrer)'!AM76=\"\", \"\",'A) Eingabe (Lehrer)'!AM76)","v":""},{"$f":"IF('A) Eingabe (Lehrer)'!AN76=\"\", \"\",'A) Eingabe (Lehrer)'!AN76)","v":""},{"$f":"IF('A) Eingabe (Lehrer)'!AO76=\"\", \"\",'A) Eingabe (Lehrer)'!AO76)","v":""},{"$f":"IF('A) Eingabe (Lehrer)'!AP76=\"\", \"\",'A) Eingabe (Lehrer)'!AP76)","v":""},{"$f":"IF('A) Eingabe (Lehrer)'!AQ76=\"\", \"\",'A) Eingabe (Lehrer)'!AQ76)","v":""},{"$f":"IF('A) Eingabe (Lehrer)'!AR76=\"\", \"\",'A) Eingabe (Lehrer)'!AR76)","v":""},{"$f":"IF('A) Eingabe (Lehrer)'!AS76=\"\", \"\",'A) Eingabe (Lehrer)'!AS76)","v":""},{"$f":"IF('A) Eingabe (Lehrer)'!AT76=\"\", \"\",'A) Eingabe (Lehrer)'!AT76)","v":""},{"$f":"IF('A) Eingabe (Lehrer)'!AU76=\"\", \"\",'A) Eingabe (Lehrer)'!AU76)","v":""},{"$f":"IF('A) Eingabe (Lehrer)'!AV76=\"\", \"\",'A) Eingabe (Lehrer)'!AV76)","v":""},{"$f":"IF('A) Eingabe (Lehrer)'!AW76=\"\", \"\",'A) Eingabe (Lehrer)'!AW76)","v":""},{"$f":"IF('A) Eingabe (Lehrer)'!AX76=\"\", \"\",'A) Eingabe (Lehrer)'!AX76)","v":""},{"$f":"IF('A) Eingabe (Lehrer)'!AY76=\"\", \"\",'A) Eingabe (Lehrer)'!AY76)","v":""},{"$f":"IF('A) Eingabe (Lehrer)'!AZ76=\"\", \"\",'A) Eingabe (Lehrer)'!AZ76)","v":""},{"$f":"IF('A) Eingabe (Lehrer)'!BA76=\"\", \"\",'A) Eingabe (Lehrer)'!BA76)","v":""},{"$f":"IF('A) Eingabe (Lehrer)'!BB76=\"\", \"\",'A) Eingabe (Lehrer)'!BB76)","v":""},{"$f":"IF('A) Eingabe (Lehrer)'!BC76=\"\", \"\",'A) Eingabe (Lehrer)'!BC76)","v":""},{"$f":"IF('A) Eingabe (Lehrer)'!BD76=\"\", \"\",'A) Eingabe (Lehrer)'!BD76)","v":""},{"$f":"IF('A) Eingabe (Lehrer)'!BE76=\"\", \"\",'A) Eingabe (Lehrer)'!BE76)","v":""},{"$f":"IF('A) Eingabe (Lehrer)'!BF76=\"\", \"\",'A) Eingabe (Lehrer)'!BF76)","v":""},{"$f":"IF('A) Eingabe (Lehrer)'!BG76=\"\", \"\",'A) Eingabe (Lehrer)'!BG76)","v":""},{"$f":"IF('A) Eingabe (Lehrer)'!BH76=\"\", \"\",'A) Eingabe (Lehrer)'!BH76)","v":""},{"$f":"IF('A) Eingabe (Lehrer)'!BI76=\"\", \"\",'A) Eingabe (Lehrer)'!BI76)","v":""},{"$f":"IF('A) Eingabe (Lehrer)'!BJ76=\"\", \"\",'A) Eingabe (Lehrer)'!BJ76)","v":""},{"$f":"IF('A) Eingabe (Lehrer)'!BK76=\"\", \"\",'A) Eingabe (Lehrer)'!BK76)","v":""}]
["Item 61",{"$f":"IF('A) Eingabe (Lehrer)'!C77=\"\", \"\",'A) Eingabe (Lehrer)'!C77)","v":""},{"$f":"IF('A) Eingabe (Lehrer)'!D77=\"\", \"\",'A) Eingabe (Lehrer)'!D77)","v":""},{"$f":"IF('A) Eingabe (Lehrer)'!E77=\"\", \"\",'A) Eingabe (Lehrer)'!E77)","v":""},{"$f":"IF('A) Eingabe (Lehrer)'!F77=\"\", \"\",'A) Eingabe (Lehrer)'!F77)","v":""},{"$f":"IF('A) Eingabe (Lehrer)'!G77=\"\", \"\",'A) Eingabe (Lehrer)'!G77)","v":""},{"$f":"IF('A) Eingabe (Lehrer)'!H77=\"\", \"\",'A) Eingabe (Lehrer)'!H77)","v":""},{"$f":"IF('A) Eingabe (Lehrer)'!I77=\"\", \"\",'A) Eingabe (Lehrer)'!I77)","v":""},{"$f":"IF('A) Eingabe (Lehrer)'!J77=\"\", \"\",'A) Eingabe (Lehrer)'!J77)","v":""},{"$f":"IF('A) Eingabe (Lehrer)'!K77=\"\", \"\",'A) Eingabe (Lehrer)'!K77)","v":""},{"$f":"IF('A) Eingabe (Lehrer)'!L77=\"\", \"\",'A) Eingabe (Lehrer)'!L77)","v":""},{"$f":"IF('A) Eingabe (Lehrer)'!M77=\"\", \"\",'A) Eingabe (Lehrer)'!M77)","v":""},{"$f":"IF('A) Eingabe (Lehrer)'!N77=\"\", \"\",'A) Eingabe (Lehrer)'!N77)","v":""},{"$f":"IF('A) Eingabe (Lehrer)'!O77=\"\", \"\",'A) Eingabe (Lehrer)'!O77)","v":""},{"$f":"IF('A) Eingabe (Lehrer)'!P77=\"\", \"\",'A) Eingabe (Lehrer)'!P77)","v":""},{"$f":"IF('A) Eingabe (Lehrer)'!Q77=\"\", \"\",'A) Eingabe (Lehrer)'!Q77)","v":""},{"$f":"IF('A) Eingabe (Lehrer)'!R77=\"\", \"\",'A) Eingabe (Lehrer)'!R77)","v":""},{"$f":"IF('A) Eingabe (Lehrer)'!S77=\"\", \"\",'A) Eingabe (Lehrer)'!S77)","v":""},{"$f":"IF('A) Eingabe (Lehrer)'!T77=\"\", \"\",'A) Eingabe (Lehrer)'!T77)","v":""},{"$f":"IF('A) Eingabe (Lehrer)'!U77=\"\", \"\",'A) Eingabe (Lehrer)'!U77)","v":""},{"$f":"IF('A) Eingabe (Lehrer)'!V77=\"\", \"\",'A) Eingabe (Lehrer)'!V77)","v":""},{"$f":"IF('A) Eingabe (Lehrer)'!W77=\"\", \"\",'A) Eingabe (Lehrer)'!W77)","v":""},{"$f":"IF('A) Eingabe (Lehrer)'!X77=\"\", \"\",'A) Eingabe (Lehrer)'!X77)","v":""},{"$f":"IF('A) Eingabe (Lehrer)'!Y77=\"\", \"\",'A) Eingabe (Lehrer)'!Y77)","v":""},{"$f":"IF('A) Eingabe (Lehrer)'!Z77=\"\", \"\",'A) Eingabe (Lehrer)'!Z77)","v":""},{"$f":"IF('A) Eingabe (Lehrer)'!AA77=\"\", \"\",'A) Eingabe (Lehrer)'!AA77)","v":""},{"$f":"IF('A) Eingabe (Lehrer)'!AB77=\"\", \"\",'A) Eingabe (Lehrer)'!AB77)","v":""},{"$f":"IF('A) Eingabe (Lehrer)'!AC77=\"\", \"\",'A) Eingabe (Lehrer)'!AC77)","v":""},{"$f":"IF('A) Eingabe (Lehrer)'!AD77=\"\", \"\",'A) Eingabe (Lehrer)'!AD77)","v":""},{"$f":"IF('A) Eingabe (Lehrer)'!AE77=\"\", \"\",'A) Eingabe (Lehrer)'!AE77)","v":""},{"$f":"IF('A) Eingabe (Lehrer)'!AF77=\"\", \"\",'A) Eingabe (Lehrer)'!AF77)","v":""},{"$f":"IF('A) Eingabe (Lehrer)'!AG77=\"\", \"\",'A) Eingabe (Lehrer)'!AG77)","v":""},{"$f":"IF('A) Eingabe (Lehrer)'!AH77=\"\", \"\",'A) Eingabe (Lehrer)'!AH77)","v":""},{"$f":"IF('A) Eingabe (Lehrer)'!AI77=\"\", \"\",'A) Eingabe (Lehrer)'!AI77)","v":""},{"$f":"IF('A) Eingabe (Lehrer)'!AJ77=\"\", \"\",'A) Eingabe (Lehrer)'!AJ77)","v":""},{"$f":"IF('A) Eingabe (Lehrer)'!AK77=\"\", \"\",'A) Eingabe (Lehrer)'!AK77)","v":""},{"$f":"IF('A) Eingabe (Lehrer)'!AL77=\"\", \"\",'A) Eingabe (Lehrer)'!AL77)","v":""},{"$f":"IF('A) Eingabe (Lehrer)'!AM77=\"\", \"\",'A) Eingabe (Lehrer)'!AM77)","v":""},{"$f":"IF('A) Eingabe (Lehrer)'!AN77=\"\", \"\",'A) Eingabe (Lehrer)'!AN77)","v":""},{"$f":"IF('A) Eingabe (Lehrer)'!AO77=\"\", \"\",'A) Eingabe (Lehrer)'!AO77)","v":""},{"$f":"IF('A) Eingabe (Lehrer)'!AP77=\"\", \"\",'A) Eingabe (Lehrer)'!AP77)","v":""},{"$f":"IF('A) Eingabe (Lehrer)'!AQ77=\"\", \"\",'A) Eingabe (Lehrer)'!AQ77)","v":""},{"$f":"IF('A) Eingabe (Lehrer)'!AR77=\"\", \"\",'A) Eingabe (Lehrer)'!AR77)","v":""},{"$f":"IF('A) Eingabe (Lehrer)'!AS77=\"\", \"\",'A) Eingabe (Lehrer)'!AS77)","v":""},{"$f":"IF('A) Eingabe (Lehrer)'!AT77=\"\", \"\",'A) Eingabe (Lehrer)'!AT77)","v":""},{"$f":"IF('A) Eingabe (Lehrer)'!AU77=\"\", \"\",'A) Eingabe (Lehrer)'!AU77)","v":""},{"$f":"IF('A) Eingabe (Lehrer)'!AV77=\"\", \"\",'A) Eingabe (Lehrer)'!AV77)","v":""},{"$f":"IF('A) Eingabe (Lehrer)'!AW77=\"\", \"\",'A) Eingabe (Lehrer)'!AW77)","v":""},{"$f":"IF('A) Eingabe (Lehrer)'!AX77=\"\", \"\",'A) Eingabe (Lehrer)'!AX77)","v":""},{"$f":"IF('A) Eingabe (Lehrer)'!AY77=\"\", \"\",'A) Eingabe (Lehrer)'!AY77)","v":""},{"$f":"IF('A) Eingabe (Lehrer)'!AZ77=\"\", \"\",'A) Eingabe (Lehrer)'!AZ77)","v":""},{"$f":"IF('A) Eingabe (Lehrer)'!BA77=\"\", \"\",'A) Eingabe (Lehrer)'!BA77)","v":""},{"$f":"IF('A) Eingabe (Lehrer)'!BB77=\"\", \"\",'A) Eingabe (Lehrer)'!BB77)","v":""},{"$f":"IF('A) Eingabe (Lehrer)'!BC77=\"\", \"\",'A) Eingabe (Lehrer)'!BC77)","v":""},{"$f":"IF('A) Eingabe (Lehrer)'!BD77=\"\", \"\",'A) Eingabe (Lehrer)'!BD77)","v":""},{"$f":"IF('A) Eingabe (Lehrer)'!BE77=\"\", \"\",'A) Eingabe (Lehrer)'!BE77)","v":""},{"$f":"IF('A) Eingabe (Lehrer)'!BF77=\"\", \"\",'A) Eingabe (Lehrer)'!BF77)","v":""},{"$f":"IF('A) Eingabe (Lehrer)'!BG77=\"\", \"\",'A) Eingabe (Lehrer)'!BG77)","v":""},{"$f":"IF('A) Eingabe (Lehrer)'!BH77=\"\", \"\",'A) Eingabe (Lehrer)'!BH77)","v":""},{"$f":"IF('A) Eingabe (Lehrer)'!BI77=\"\", \"\",'A) Eingabe (Lehrer)'!BI77)","v":""},{"$f":"IF('A) Eingabe (Lehrer)'!BJ77=\"\", \"\",'A) Eingabe (Lehrer)'!BJ77)","v":""},{"$f":"IF('A) Eingabe (Lehrer)'!BK77=\"\", \"\",'A) Eingabe (Lehrer)'!BK77)","v":""}]
["Item 62",{"$f":"IF('A) Eingabe (Lehrer)'!C78=\"\", \"\",'A) Eingabe (Lehrer)'!C78)","v":""},{"$f":"IF('A) Eingabe (Lehrer)'!D78=\"\", \"\",'A) Eingabe (Lehrer)'!D78)","v":""},{"$f":"IF('A) Eingabe (Lehrer)'!E78=\"\", \"\",'A) Eingabe (Lehrer)'!E78)","v":""},{"$f":"IF('A) Eingabe (Lehrer)'!F78=\"\", \"\",'A) Eingabe (Lehrer)'!F78)","v":""},{"$f":"IF('A) Eingabe (Lehrer)'!G78=\"\", \"\",'A) Eingabe (Lehrer)'!G78)","v":""},{"$f":"IF('A) Eingabe (Lehrer)'!H78=\"\", \"\",'A) Eingabe (Lehrer)'!H78)","v":""},{"$f":"IF('A) Eingabe (Lehrer)'!I78=\"\", \"\",'A) Eingabe (Lehrer)'!I78)","v":""},{"$f":"IF('A) Eingabe (Lehrer)'!J78=\"\", \"\",'A) Eingabe (Lehrer)'!J78)","v":""},{"$f":"IF('A) Eingabe (Lehrer)'!K78=\"\", \"\",'A) Eingabe (Lehrer)'!K78)","v":""},{"$f":"IF('A) Eingabe (Lehrer)'!L78=\"\", \"\",'A) Eingabe (Lehrer)'!L78)","v":""},{"$f":"IF('A) Eingabe (Lehrer)'!M78=\"\", \"\",'A) Eingabe (Lehrer)'!M78)","v":""},{"$f":"IF('A) Eingabe (Lehrer)'!N78=\"\", \"\",'A) Eingabe (Lehrer)'!N78)","v":""},{"$f":"IF('A) Eingabe (Lehrer)'!O78=\"\", \"\",'A) Eingabe (Lehrer)'!O78)","v":""},{"$f":"IF('A) Eingabe (Lehrer)'!P78=\"\", \"\",'A) Eingabe (Lehrer)'!P78)","v":""},{"$f":"IF('A) Eingabe (Lehrer)'!Q78=\"\", \"\",'A) Eingabe (Lehrer)'!Q78)","v":""},{"$f":"IF('A) Eingabe (Lehrer)'!R78=\"\", \"\",'A) Eingabe (Lehrer)'!R78)","v":""},{"$f":"IF('A) Eingabe (Lehrer)'!S78=\"\", \"\",'A) Eingabe (Lehrer)'!S78)","v":""},{"$f":"IF('A) Eingabe (Lehrer)'!T78=\"\", \"\",'A) Eingabe (Lehrer)'!T78)","v":""},{"$f":"IF('A) Eingabe (Lehrer)'!U78=\"\", \"\",'A) Eingabe (Lehrer)'!U78)","v":""},{"$f":"IF('A) Eingabe (Lehrer)'!V78=\"\", \"\",'A) Eingabe (Lehrer)'!V78)","v":""},{"$f":"IF('A) Eingabe (Lehrer)'!W78=\"\", \"\",'A) Eingabe (Lehrer)'!W78)","v":""},{"$f":"IF('A) Eingabe (Lehrer)'!X78=\"\", \"\",'A) Eingabe (Lehrer)'!X78)","v":""},{"$f":"IF('A) Eingabe (Lehrer)'!Y78=\"\", \"\",'A) Eingabe (Lehrer)'!Y78)","v":""},{"$f":"IF('A) Eingabe (Lehrer)'!Z78=\"\", \"\",'A) Eingabe (Lehrer)'!Z78)","v":""},{"$f":"IF('A) Eingabe (Lehrer)'!AA78=\"\", \"\",'A) Eingabe (Lehrer)'!AA78)","v":""},{"$f":"IF('A) Eingabe (Lehrer)'!AB78=\"\", \"\",'A) Eingabe (Lehrer)'!AB78)","v":""},{"$f":"IF('A) Eingabe (Lehrer)'!AC78=\"\", \"\",'A) Eingabe (Lehrer)'!AC78)","v":""},{"$f":"IF('A) Eingabe (Lehrer)'!AD78=\"\", \"\",'A) Eingabe (Lehrer)'!AD78)","v":""},{"$f":"IF('A) Eingabe (Lehrer)'!AE78=\"\", \"\",'A) Eingabe (Lehrer)'!AE78)","v":""},{"$f":"IF('A) Eingabe (Lehrer)'!AF78=\"\", \"\",'A) Eingabe (Lehrer)'!AF78)","v":""},{"$f":"IF('A) Eingabe (Lehrer)'!AG78=\"\", \"\",'A) Eingabe (Lehrer)'!AG78)","v":""},{"$f":"IF('A) Eingabe (Lehrer)'!AH78=\"\", \"\",'A) Eingabe (Lehrer)'!AH78)","v":""},{"$f":"IF('A) Eingabe (Lehrer)'!AI78=\"\", \"\",'A) Eingabe (Lehrer)'!AI78)","v":""},{"$f":"IF('A) Eingabe (Lehrer)'!AJ78=\"\", \"\",'A) Eingabe (Lehrer)'!AJ78)","v":""},{"$f":"IF('A) Eingabe (Lehrer)'!AK78=\"\", \"\",'A) Eingabe (Lehrer)'!AK78)","v":""},{"$f":"IF('A) Eingabe (Lehrer)'!AL78=\"\", \"\",'A) Eingabe (Lehrer)'!AL78)","v":""},{"$f":"IF('A) Eingabe (Lehrer)'!AM78=\"\", \"\",'A) Eingabe (Lehrer)'!AM78)","v":""},{"$f":"IF('A) Eingabe (Lehrer)'!AN78=\"\", \"\",'A) Eingabe (Lehrer)'!AN78)","v":""},{"$f":"IF('A) Eingabe (Lehrer)'!AO78=\"\", \"\",'A) Eingabe (Lehrer)'!AO78)","v":""},{"$f":"IF('A) Eingabe (Lehrer)'!AP78=\"\", \"\",'A) Eingabe (Lehrer)'!AP78)","v":""},{"$f":"IF('A) Eingabe (Lehrer)'!AQ78=\"\", \"\",'A) Eingabe (Lehrer)'!AQ78)","v":""},{"$f":"IF('A) Eingabe (Lehrer)'!AR78=\"\", \"\",'A) Eingabe (Lehrer)'!AR78)","v":""},{"$f":"IF('A) Eingabe (Lehrer)'!AS78=\"\", \"\",'A) Eingabe (Lehrer)'!AS78)","v":""},{"$f":"IF('A) Eingabe (Lehrer)'!AT78=\"\", \"\",'A) Eingabe (Lehrer)'!AT78)","v":""},{"$f":"IF('A) Eingabe (Lehrer)'!AU78=\"\", \"\",'A) Eingabe (Lehrer)'!AU78)","v":""},{"$f":"IF('A) Eingabe (Lehrer)'!AV78=\"\", \"\",'A) Eingabe (Lehrer)'!AV78)","v":""},{"$f":"IF('A) Eingabe (Lehrer)'!AW78=\"\", \"\",'A) Eingabe (Lehrer)'!AW78)","v":""},{"$f":"IF('A) Eingabe (Lehrer)'!AX78=\"\", \"\",'A) Eingabe (Lehrer)'!AX78)","v":""},{"$f":"IF('A) Eingabe (Lehrer)'!AY78=\"\", \"\",'A) Eingabe (Lehrer)'!AY78)","v":""},{"$f":"IF('A) Eingabe (Lehrer)'!AZ78=\"\", \"\",'A) Eingabe (Lehrer)'!AZ78)","v":""},{"$f":"IF('A) Eingabe (Lehrer)'!BA78=\"\", \"\",'A) Eingabe (Lehrer)'!BA78)","v":""},{"$f":"IF('A) Eingabe (Lehrer)'!BB78=\"\", \"\",'A) Eingabe (Lehrer)'!BB78)","v":""},{"$f":"IF('A) Eingabe (Lehrer)'!BC78=\"\", \"\",'A) Eingabe (Lehrer)'!BC78)","v":""},{"$f":"IF('A) Eingabe (Lehrer)'!BD78=\"\", \"\",'A) Eingabe (Lehrer)'!BD78)","v":""},{"$f":"IF('A) Eingabe (Lehrer)'!BE78=\"\", \"\",'A) Eingabe (Lehrer)'!BE78)","v":""},{"$f":"IF('A) Eingabe (Lehrer)'!BF78=\"\", \"\",'A) Eingabe (Lehrer)'!BF78)","v":""},{"$f":"IF('A) Eingabe (Lehrer)'!BG78=\"\", \"\",'A) Eingabe (Lehrer)'!BG78)","v":""},{"$f":"IF('A) Eingabe (Lehrer)'!BH78=\"\", \"\",'A) Eingabe (Lehrer)'!BH78)","v":""},{"$f":"IF('A) Eingabe (Lehrer)'!BI78=\"\", \"\",'A) Eingabe (Lehrer)'!BI78)","v":""},{"$f":"IF('A) Eingabe (Lehrer)'!BJ78=\"\", \"\",'A) Eingabe (Lehrer)'!BJ78)","v":""},{"$f":"IF('A) Eingabe (Lehrer)'!BK78=\"\", \"\",'A) Eingabe (Lehrer)'!BK78)","v":""}]
["Item 63",{"$f":"IF('A) Eingabe (Lehrer)'!C79=\"\", \"\",'A) Eingabe (Lehrer)'!C79)","v":""},{"$f":"IF('A) Eingabe (Lehrer)'!D79=\"\", \"\",'A) Eingabe (Lehrer)'!D79)","v":""},{"$f":"IF('A) Eingabe (Lehrer)'!E79=\"\", \"\",'A) Eingabe (Lehrer)'!E79)","v":""},{"$f":"IF('A) Eingabe (Lehrer)'!F79=\"\", \"\",'A) Eingabe (Lehrer)'!F79)","v":""},{"$f":"IF('A) Eingabe (Lehrer)'!G79=\"\", \"\",'A) Eingabe (Lehrer)'!G79)","v":""},{"$f":"IF('A) Eingabe (Lehrer)'!H79=\"\", \"\",'A) Eingabe (Lehrer)'!H79)","v":""},{"$f":"IF('A) Eingabe (Lehrer)'!I79=\"\", \"\",'A) Eingabe (Lehrer)'!I79)","v":""},{"$f":"IF('A) Eingabe (Lehrer)'!J79=\"\", \"\",'A) Eingabe (Lehrer)'!J79)","v":""},{"$f":"IF('A) Eingabe (Lehrer)'!K79=\"\", \"\",'A) Eingabe (Lehrer)'!K79)","v":""},{"$f":"IF('A) Eingabe (Lehrer)'!L79=\"\", \"\",'A) Eingabe (Lehrer)'!L79)","v":""},{"$f":"IF('A) Eingabe (Lehrer)'!M79=\"\", \"\",'A) Eingabe (Lehrer)'!M79)","v":""},{"$f":"IF('A) Eingabe (Lehrer)'!N79=\"\", \"\",'A) Eingabe (Lehrer)'!N79)","v":""},{"$f":"IF('A) Eingabe (Lehrer)'!O79=\"\", \"\",'A) Eingabe (Lehrer)'!O79)","v":""},{"$f":"IF('A) Eingabe (Lehrer)'!P79=\"\", \"\",'A) Eingabe (Lehrer)'!P79)","v":""},{"$f":"IF('A) Eingabe (Lehrer)'!Q79=\"\", \"\",'A) Eingabe (Lehrer)'!Q79)","v":""},{"$f":"IF('A) Eingabe (Lehrer)'!R79=\"\", \"\",'A) Eingabe (Lehrer)'!R79)","v":""},{"$f":"IF('A) Eingabe (Lehrer)'!S79=\"\", \"\",'A) Eingabe (Lehrer)'!S79)","v":""},{"$f":"IF('A) Eingabe (Lehrer)'!T79=\"\", \"\",'A) Eingabe (Lehrer)'!T79)","v":""},{"$f":"IF('A) Eingabe (Lehrer)'!U79=\"\", \"\",'A) Eingabe (Lehrer)'!U79)","v":""},{"$f":"IF('A) Eingabe (Lehrer)'!V79=\"\", \"\",'A) Eingabe (Lehrer)'!V79)","v":""},{"$f":"IF('A) Eingabe (Lehrer)'!W79=\"\", \"\",'A) Eingabe (Lehrer)'!W79)","v":""},{"$f":"IF('A) Eingabe (Lehrer)'!X79=\"\", \"\",'A) Eingabe (Lehrer)'!X79)","v":""},{"$f":"IF('A) Eingabe (Lehrer)'!Y79=\"\", \"\",'A) Eingabe (Lehrer)'!Y79)","v":""},{"$f":"IF('A) Eingabe (Lehrer)'!Z79=\"\", \"\",'A) Eingabe (Lehrer)'!Z79)","v":""},{"$f":"IF('A) Eingabe (Lehrer)'!AA79=\"\", \"\",'A) Eingabe (Lehrer)'!AA79)","v":""},{"$f":"IF('A) Eingabe (Lehrer)'!AB79=\"\", \"\",'A) Eingabe (Lehrer)'!AB79)","v":""},{"$f":"IF('A) Eingabe (Lehrer)'!AC79=\"\", \"\",'A) Eingabe (Lehrer)'!AC79)","v":""},{"$f":"IF('A) Eingabe (Lehrer)'!AD79=\"\", \"\",'A) Eingabe (Lehrer)'!AD79)","v":""},{"$f":"IF('A) Eingabe (Lehrer)'!AE79=\"\", \"\",'A) Eingabe (Lehrer)'!AE79)","v":""},{"$f":"IF('A) Eingabe (Lehrer)'!AF79=\"\", \"\",'A) Eingabe (Lehrer)'!AF79)","v":""},{"$f":"IF('A) Eingabe (Lehrer)'!AG79=\"\", \"\",'A) Eingabe (Lehrer)'!AG79)","v":""},{"$f":"IF('A) Eingabe (Lehrer)'!AH79=\"\", \"\",'A) Eingabe (Lehrer)'!AH79)","v":""},{"$f":"IF('A) Eingabe (Lehrer)'!AI79=\"\", \"\",'A) Eingabe (Lehrer)'!AI79)","v":""},{"$f":"IF('A) Eingabe (Lehrer)'!AJ79=\"\", \"\",'A) Eingabe (Lehrer)'!AJ79)","v":""},{"$f":"IF('A) Eingabe (Lehrer)'!AK79=\"\", \"\",'A) Eingabe (Lehrer)'!AK79)","v":""},{"$f":"IF('A) Eingabe (Lehrer)'!AL79=\"\", \"\",'A) Eingabe (Lehrer)'!AL79)","v":""},{"$f":"IF('A) Eingabe (Lehrer)'!AM79=\"\", \"\",'A) Eingabe (Lehrer)'!AM79)","v":""},{"$f":"IF('A) Eingabe (Lehrer)'!AN79=\"\", \"\",'A) Eingabe (Lehrer)'!AN79)","v":""},{"$f":"IF('A) Eingabe (Lehrer)'!AO79=\"\", \"\",'A) Eingabe (Lehrer)'!AO79)","v":""},{"$f":"IF('A) Eingabe (Lehrer)'!AP79=\"\", \"\",'A) Eingabe (Lehrer)'!AP79)","v":""},{"$f":"IF('A) Eingabe (Lehrer)'!AQ79=\"\", \"\",'A) Eingabe (Lehrer)'!AQ79)","v":""},{"$f":"IF('A) Eingabe (Lehrer)'!AR79=\"\", \"\",'A) Eingabe (Lehrer)'!AR79)","v":""},{"$f":"IF('A) Eingabe (Lehrer)'!AS79=\"\", \"\",'A) Eingabe (Lehrer)'!AS79)","v":""},{"$f":"IF('A) Eingabe (Lehrer)'!AT79=\"\", \"\",'A) Eingabe (Lehrer)'!AT79)","v":""},{"$f":"IF('A) Eingabe (Lehrer)'!AU79=\"\", \"\",'A) Eingabe (Lehrer)'!AU79)","v":""},{"$f":"IF('A) Eingabe (Lehrer)'!AV79=\"\", \"\",'A) Eingabe (Lehrer)'!AV79)","v":""},{"$f":"IF('A) Eingabe (Lehrer)'!AW79=\"\", \"\",'A) Eingabe (Lehrer)'!AW79)","v":""},{"$f":"IF('A) Eingabe (Lehrer)'!AX79=\"\", \"\",'A) Eingabe (Lehrer)'!AX79)","v":""},{"$f":"IF('A) Eingabe (Lehrer)'!AY79=\"\", \"\",'A) Eingabe (Lehrer)'!AY79)","v":""},{"$f":"IF('A) Eingabe (Lehrer)'!AZ79=\"\", \"\",'A) Eingabe (Lehrer)'!AZ79)","v":""},{"$f":"IF('A) Eingabe (Lehrer)'!BA79=\"\", \"\",'A) Eingabe (Lehrer)'!BA79)","v":""},{"$f":"IF('A) Eingabe (Lehrer)'!BB79=\"\", \"\",'A) Eingabe (Lehrer)'!BB79)","v":""},{"$f":"IF('A) Eingabe (Lehrer)'!BC79=\"\", \"\",'A) Eingabe (Lehrer)'!BC79)","v":""},{"$f":"IF('A) Eingabe (Lehrer)'!BD79=\"\", \"\",'A) Eingabe (Lehrer)'!BD79)","v":""},{"$f":"IF('A) Eingabe (Lehrer)'!BE79=\"\", \"\",'A) Eingabe (Lehrer)'!BE79)","v":""},{"$f":"IF('A) Eingabe (Lehrer)'!BF79=\"\", \"\",'A) Eingabe (Lehrer)'!BF79)","v":""},{"$f":"IF('A) Eingabe (Lehrer)'!BG79=\"\", \"\",'A) Eingabe (Lehrer)'!BG79)","v":""},{"$f":"IF('A) Eingabe (Lehrer)'!BH79=\"\", \"\",'A) Eingabe (Lehrer)'!BH79)","v":""},{"$f":"IF('A) Eingabe (Lehrer)'!BI79=\"\", \"\",'A) Eingabe (Lehrer)'!BI79)","v":""},{"$f":"IF('A) Eingabe (Lehrer)'!BJ79=\"\", \"\",'A) Eingabe (Lehrer)'!BJ79)","v":""},{"$f":"IF('A) Eingabe (Lehrer)'!BK79=\"\", \"\",'A) Eingabe (Lehrer)'!BK79)","v":""}]
["Item 64",{"$f":"IF('A) Eingabe (Lehrer)'!C80=\"\", \"\",'A) Eingabe (Lehrer)'!C80)","v":""},{"$f":"IF('A) Eingabe (Lehrer)'!D80=\"\", \"\",'A) Eingabe (Lehrer)'!D80)","v":""},{"$f":"IF('A) Eingabe (Lehrer)'!E80=\"\", \"\",'A) Eingabe (Lehrer)'!E80)","v":""},{"$f":"IF('A) Eingabe (Lehrer)'!F80=\"\", \"\",'A) Eingabe (Lehrer)'!F80)","v":""},{"$f":"IF('A) Eingabe (Lehrer)'!G80=\"\", \"\",'A) Eingabe (Lehrer)'!G80)","v":""},{"$f":"IF('A) Eingabe (Lehrer)'!H80=\"\", \"\",'A) Eingabe (Lehrer)'!H80)","v":""},{"$f":"IF('A) Eingabe (Lehrer)'!I80=\"\", \"\",'A) Eingabe (Lehrer)'!I80)","v":""},{"$f":"IF('A) Eingabe (Lehrer)'!J80=\"\", \"\",'A) Eingabe (Lehrer)'!J80)","v":""},{"$f":"IF('A) Eingabe (Lehrer)'!K80=\"\", \"\",'A) Eingabe (Lehrer)'!K80)","v":""},{"$f":"IF('A) Eingabe (Lehrer)'!L80=\"\", \"\",'A) Eingabe (Lehrer)'!L80)","v":""},{"$f":"IF('A) Eingabe (Lehrer)'!M80=\"\", \"\",'A) Eingabe (Lehrer)'!M80)","v":""},{"$f":"IF('A) Eingabe (Lehrer)'!N80=\"\", \"\",'A) Eingabe (Lehrer)'!N80)","v":""},{"$f":"IF('A) Eingabe (Lehrer)'!O80=\"\", \"\",'A) Eingabe (Lehrer)'!O80)","v":""},{"$f":"IF('A) Eingabe (Lehrer)'!P80=\"\", \"\",'A) Eingabe (Lehrer)'!P80)","v":""},{"$f":"IF('A) Eingabe (Lehrer)'!Q80=\"\", \"\",'A) Eingabe (Lehrer)'!Q80)","v":""},{"$f":"IF('A) Eingabe (Lehrer)'!R80=\"\", \"\",'A) Eingabe (Lehrer)'!R80)","v":""},{"$f":"IF('A) Eingabe (Lehrer)'!S80=\"\", \"\",'A) Eingabe (Lehrer)'!S80)","v":""},{"$f":"IF('A) Eingabe (Lehrer)'!T80=\"\", \"\",'A) Eingabe (Lehrer)'!T80)","v":""},{"$f":"IF('A) Eingabe (Lehrer)'!U80=\"\", \"\",'A) Eingabe (Lehrer)'!U80)","v":""},{"$f":"IF('A) Eingabe (Lehrer)'!V80=\"\", \"\",'A) Eingabe (Lehrer)'!V80)","v":""},{"$f":"IF('A) Eingabe (Lehrer)'!W80=\"\", \"\",'A) Eingabe (Lehrer)'!W80)","v":""},{"$f":"IF('A) Eingabe (Lehrer)'!X80=\"\", \"\",'A) Eingabe (Lehrer)'!X80)","v":""},{"$f":"IF('A) Eingabe (Lehrer)'!Y80=\"\", \"\",'A) Eingabe (Lehrer)'!Y80)","v":""},{"$f":"IF('A) Eingabe (Lehrer)'!Z80=\"\", \"\",'A) Eingabe (Lehrer)'!Z80)","v":""},{"$f":"IF('A) Eingabe (Lehrer)'!AA80=\"\", \"\",'A) Eingabe (Lehrer)'!AA80)","v":""},{"$f":"IF('A) Eingabe (Lehrer)'!AB80=\"\", \"\",'A) Eingabe (Lehrer)'!AB80)","v":""},{"$f":"IF('A) Eingabe (Lehrer)'!AC80=\"\", \"\",'A) Eingabe (Lehrer)'!AC80)","v":""},{"$f":"IF('A) Eingabe (Lehrer)'!AD80=\"\", \"\",'A) Eingabe (Lehrer)'!AD80)","v":""},{"$f":"IF('A) Eingabe (Lehrer)'!AE80=\"\", \"\",'A) Eingabe (Lehrer)'!AE80)","v":""},{"$f":"IF('A) Eingabe (Lehrer)'!AF80=\"\", \"\",'A) Eingabe (Lehrer)'!AF80)","v":""},{"$f":"IF('A) Eingabe (Lehrer)'!AG80=\"\", \"\",'A) Eingabe (Lehrer)'!AG80)","v":""},{"$f":"IF('A) Eingabe (Lehrer)'!AH80=\"\", \"\",'A) Eingabe (Lehrer)'!AH80)","v":""},{"$f":"IF('A) Eingabe (Lehrer)'!AI80=\"\", \"\",'A) Eingabe (Lehrer)'!AI80)","v":""},{"$f":"IF('A) Eingabe (Lehrer)'!AJ80=\"\", \"\",'A) Eingabe (Lehrer)'!AJ80)","v":""},{"$f":"IF('A) Eingabe (Lehrer)'!AK80=\"\", \"\",'A) Eingabe (Lehrer)'!AK80)","v":""},{"$f":"IF('A) Eingabe (Lehrer)'!AL80=\"\", \"\",'A) Eingabe (Lehrer)'!AL80)","v":""},{"$f":"IF('A) Eingabe (Lehrer)'!AM80=\"\", \"\",'A) Eingabe (Lehrer)'!AM80)","v":""},{"$f":"IF('A) Eingabe (Lehrer)'!AN80=\"\", \"\",'A) Eingabe (Lehrer)'!AN80)","v":""},{"$f":"IF('A) Eingabe (Lehrer)'!AO80=\"\", \"\",'A) Eingabe (Lehrer)'!AO80)","v":""},{"$f":"IF('A) Eingabe (Lehrer)'!AP80=\"\", \"\",'A) Eingabe (Lehrer)'!AP80)","v":""},{"$f":"IF('A) Eingabe (Lehrer)'!AQ80=\"\", \"\",'A) Eingabe (Lehrer)'!AQ80)","v":""},{"$f":"IF('A) Eingabe (Lehrer)'!AR80=\"\", \"\",'A) Eingabe (Lehrer)'!AR80)","v":""},{"$f":"IF('A) Eingabe (Lehrer)'!AS80=\"\", \"\",'A) Eingabe (Lehrer)'!AS80)","v":""},{"$f":"IF('A) Eingabe (Lehrer)'!AT80=\"\", \"\",'A) Eingabe (Lehrer)'!AT80)","v":""},{"$f":"IF('A) Eingabe (Lehrer)'!AU80=\"\", \"\",'A) Eingabe (Lehrer)'!AU80)","v":""},{"$f":"IF('A) Eingabe (Lehrer)'!AV80=\"\", \"\",'A) Eingabe (Lehrer)'!AV80)","v":""},{"$f":"IF('A) Eingabe (Lehrer)'!AW80=\"\", \"\",'A) Eingabe (Lehrer)'!AW80)","v":""},{"$f":"IF('A) Eingabe (Lehrer)'!AX80=\"\", \"\",'A) Eingabe (Lehrer)'!AX80)","v":""},{"$f":"IF('A) Eingabe (Lehrer)'!AY80=\"\", \"\",'A) Eingabe (Lehrer)'!AY80)","v":""},{"$f":"IF('A) Eingabe (Lehrer)'!AZ80=\"\", \"\",'A) Eingabe (Lehrer)'!AZ80)","v":""},{"$f":"IF('A) Eingabe (Lehrer)'!BA80=\"\", \"\",'A) Eingabe (Lehrer)'!BA80)","v":""},{"$f":"IF('A) Eingabe (Lehrer)'!BB80=\"\", \"\",'A) Eingabe (Lehrer)'!BB80)","v":""},{"$f":"IF('A) Eingabe (Lehrer)'!BC80=\"\", \"\",'A) Eingabe (Lehrer)'!BC80)","v":""},{"$f":"IF('A) Eingabe (Lehrer)'!BD80=\"\", \"\",'A) Eingabe (Lehrer)'!BD80)","v":""},{"$f":"IF('A) Eingabe (Lehrer)'!BE80=\"\", \"\",'A) Eingabe (Lehrer)'!BE80)","v":""},{"$f":"IF('A) Eingabe (Lehrer)'!BF80=\"\", \"\",'A) Eingabe (Lehrer)'!BF80)","v":""},{"$f":"IF('A) Eingabe (Lehrer)'!BG80=\"\", \"\",'A) Eingabe (Lehrer)'!BG80)","v":""},{"$f":"IF('A) Eingabe (Lehrer)'!BH80=\"\", \"\",'A) Eingabe (Lehrer)'!BH80)","v":""},{"$f":"IF('A) Eingabe (Lehrer)'!BI80=\"\", \"\",'A) Eingabe (Lehrer)'!BI80)","v":""},{"$f":"IF('A) Eingabe (Lehrer)'!BJ80=\"\", \"\",'A) Eingabe (Lehrer)'!BJ80)","v":""},{"$f":"IF('A) Eingabe (Lehrer)'!BK80=\"\", \"\",'A) Eingabe (Lehrer)'!BK80)","v":""}]
["Item 65",{"$f":"IF('A) Eingabe (Lehrer)'!C81=\"\", \"\",'A) Eingabe (Lehrer)'!C81)","v":""},{"$f":"IF('A) Eingabe (Lehrer)'!D81=\"\", \"\",'A) Eingabe (Lehrer)'!D81)","v":""},{"$f":"IF('A) Eingabe (Lehrer)'!E81=\"\", \"\",'A) Eingabe (Lehrer)'!E81)","v":""},{"$f":"IF('A) Eingabe (Lehrer)'!F81=\"\", \"\",'A) Eingabe (Lehrer)'!F81)","v":""},{"$f":"IF('A) Eingabe (Lehrer)'!G81=\"\", \"\",'A) Eingabe (Lehrer)'!G81)","v":""},{"$f":"IF('A) Eingabe (Lehrer)'!H81=\"\", \"\",'A) Eingabe (Lehrer)'!H81)","v":""},{"$f":"IF('A) Eingabe (Lehrer)'!I81=\"\", \"\",'A) Eingabe (Lehrer)'!I81)","v":""},{"$f":"IF('A) Eingabe (Lehrer)'!J81=\"\", \"\",'A) Eingabe (Lehrer)'!J81)","v":""},{"$f":"IF('A) Eingabe (Lehrer)'!K81=\"\", \"\",'A) Eingabe (Lehrer)'!K81)","v":""},{"$f":"IF('A) Eingabe (Lehrer)'!L81=\"\", \"\",'A) Eingabe (Lehrer)'!L81)","v":""},{"$f":"IF('A) Eingabe (Lehrer)'!M81=\"\", \"\",'A) Eingabe (Lehrer)'!M81)","v":""},{"$f":"IF('A) Eingabe (Lehrer)'!N81=\"\", \"\",'A) Eingabe (Lehrer)'!N81)","v":""},{"$f":"IF('A) Eingabe (Lehrer)'!O81=\"\", \"\",'A) Eingabe (Lehrer)'!O81)","v":""},{"$f":"IF('A) Eingabe (Lehrer)'!P81=\"\", \"\",'A) Eingabe (Lehrer)'!P81)","v":""},{"$f":"IF('A) Eingabe (Lehrer)'!Q81=\"\", \"\",'A) Eingabe (Lehrer)'!Q81)","v":""},{"$f":"IF('A) Eingabe (Lehrer)'!R81=\"\", \"\",'A) Eingabe (Lehrer)'!R81)","v":""},{"$f":"IF('A) Eingabe (Lehrer)'!S81=\"\", \"\",'A) Eingabe (Lehrer)'!S81)","v":""},{"$f":"IF('A) Eingabe (Lehrer)'!T81=\"\", \"\",'A) Eingabe (Lehrer)'!T81)","v":""},{"$f":"IF('A) Eingabe (Lehrer)'!U81=\"\", \"\",'A) Eingabe (Lehrer)'!U81)","v":""},{"$f":"IF('A) Eingabe (Lehrer)'!V81=\"\", \"\",'A) Eingabe (Lehrer)'!V81)","v":""},{"$f":"IF('A) Eingabe (Lehrer)'!W81=\"\", \"\",'A) Eingabe (Lehrer)'!W81)","v":""},{"$f":"IF('A) Eingabe (Lehrer)'!X81=\"\", \"\",'A) Eingabe (Lehrer)'!X81)","v":""},{"$f":"IF('A) Eingabe (Lehrer)'!Y81=\"\", \"\",'A) Eingabe (Lehrer)'!Y81)","v":""},{"$f":"IF('A) Eingabe (Lehrer)'!Z81=\"\", \"\",'A) Eingabe (Lehrer)'!Z81)","v":""},{"$f":"IF('A) Eingabe (Lehrer)'!AA81=\"\", \"\",'A) Eingabe (Lehrer)'!AA81)","v":""},{"$f":"IF('A) Eingabe (Lehrer)'!AB81=\"\", \"\",'A) Eingabe (Lehrer)'!AB81)","v":""},{"$f":"IF('A) Eingabe (Lehrer)'!AC81=\"\", \"\",'A) Eingabe (Lehrer)'!AC81)","v":""},{"$f":"IF('A) Eingabe (Lehrer)'!AD81=\"\", \"\",'A) Eingabe (Lehrer)'!AD81)","v":""},{"$f":"IF('A) Eingabe (Lehrer)'!AE81=\"\", \"\",'A) Eingabe (Lehrer)'!AE81)","v":""},{"$f":"IF('A) Eingabe (Lehrer)'!AF81=\"\", \"\",'A) Eingabe (Lehrer)'!AF81)","v":""},{"$f":"IF('A) Eingabe (Lehrer)'!AG81=\"\", \"\",'A) Eingabe (Lehrer)'!AG81)","v":""},{"$f":"IF('A) Eingabe (Lehrer)'!AH81=\"\", \"\",'A) Eingabe (Lehrer)'!AH81)","v":""},{"$f":"IF('A) Eingabe (Lehrer)'!AI81=\"\", \"\",'A) Eingabe (Lehrer)'!AI81)","v":""},{"$f":"IF('A) Eingabe (Lehrer)'!AJ81=\"\", \"\",'A) Eingabe (Lehrer)'!AJ81)","v":""},{"$f":"IF('A) Eingabe (Lehrer)'!AK81=\"\", \"\",'A) Eingabe (Lehrer)'!AK81)","v":""},{"$f":"IF('A) Eingabe (Lehrer)'!AL81=\"\", \"\",'A) Eingabe (Lehrer)'!AL81)","v":""},{"$f":"IF('A) Eingabe (Lehrer)'!AM81=\"\", \"\",'A) Eingabe (Lehrer)'!AM81)","v":""},{"$f":"IF('A) Eingabe (Lehrer)'!AN81=\"\", \"\",'A) Eingabe (Lehrer)'!AN81)","v":""},{"$f":"IF('A) Eingabe (Lehrer)'!AO81=\"\", \"\",'A) Eingabe (Lehrer)'!AO81)","v":""},{"$f":"IF('A) Eingabe (Lehrer)'!AP81=\"\", \"\",'A) Eingabe (Lehrer)'!AP81)","v":""},{"$f":"IF('A) Eingabe (Lehrer)'!AQ81=\"\", \"\",'A) Eingabe (Lehrer)'!AQ81)","v":""},{"$f":"IF('A) Eingabe (Lehrer)'!AR81=\"\", \"\",'A) Eingabe (Lehrer)'!AR81)","v":""},{"$f":"IF('A) Eingabe (Lehrer)'!AS81=\"\", \"\",'A) Eingabe (Lehrer)'!AS81)","v":""},{"$f":"IF('A) Eingabe (Lehrer)'!AT81=\"\", \"\",'A) Eingabe (Lehrer)'!AT81)","v":""},{"$f":"IF('A) Eingabe (Lehrer)'!AU81=\"\", \"\",'A) Eingabe (Lehrer)'!AU81)","v":""},{"$f":"IF('A) Eingabe (Lehrer)'!AV81=\"\", \"\",'A) Eingabe (Lehrer)'!AV81)","v":""},{"$f":"IF('A) Eingabe (Lehrer)'!AW81=\"\", \"\",'A) Eingabe (Lehrer)'!AW81)","v":""},{"$f":"IF('A) Eingabe (Lehrer)'!AX81=\"\", \"\",'A) Eingabe (Lehrer)'!AX81)","v":""},{"$f":"IF('A) Eingabe (Lehrer)'!AY81=\"\", \"\",'A) Eingabe (Lehrer)'!AY81)","v":""},{"$f":"IF('A) Eingabe (Lehrer)'!AZ81=\"\", \"\",'A) Eingabe (Lehrer)'!AZ81)","v":""},{"$f":"IF('A) Eingabe (Lehrer)'!BA81=\"\", \"\",'A) Eingabe (Lehrer)'!BA81)","v":""},{"$f":"IF('A) Eingabe (Lehrer)'!BB81=\"\", \"\",'A) Eingabe (Lehrer)'!BB81)","v":""},{"$f":"IF('A) Eingabe (Lehrer)'!BC81=\"\", \"\",'A) Eingabe (Lehrer)'!BC81)","v":""},{"$f":"IF('A) Eingabe (Lehrer)'!BD81=\"\", \"\",'A) Eingabe (Lehrer)'!BD81)","v":""},{"$f":"IF('A) Eingabe (Lehrer)'!BE81=\"\", \"\",'A) Eingabe (Lehrer)'!BE81)","v":""},{"$f":"IF('A) Eingabe (Lehrer)'!BF81=\"\", \"\",'A) Eingabe (Lehrer)'!BF81)","v":""},{"$f":"IF('A) Eingabe (Lehrer)'!BG81=\"\", \"\",'A) Eingabe (Lehrer)'!BG81)","v":""},{"$f":"IF('A) Eingabe (Lehrer)'!BH81=\"\", \"\",'A) Eingabe (Lehrer)'!BH81)","v":""},{"$f":"IF('A) Eingabe (Lehrer)'!BI81=\"\", \"\",'A) Eingabe (Lehrer)'!BI81)","v":""},{"$f":"IF('A) Eingabe (Lehrer)'!BJ81=\"\", \"\",'A) Eingabe (Lehrer)'!BJ81)","v":""},{"$f":"IF('A) Eingabe (Lehrer)'!BK81=\"\", \"\",'A) Eingabe (Lehrer)'!BK81)","v":""}]
["Item 66",{"$f":"IF('A) Eingabe (Lehrer)'!C82=\"\", \"\",'A) Eingabe (Lehrer)'!C82)","v":""},{"$f":"IF('A) Eingabe (Lehrer)'!D82=\"\", \"\",'A) Eingabe (Lehrer)'!D82)","v":""},{"$f":"IF('A) Eingabe (Lehrer)'!E82=\"\", \"\",'A) Eingabe (Lehrer)'!E82)","v":""},{"$f":"IF('A) Eingabe (Lehrer)'!F82=\"\", \"\",'A) Eingabe (Lehrer)'!F82)","v":""},{"$f":"IF('A) Eingabe (Lehrer)'!G82=\"\", \"\",'A) Eingabe (Lehrer)'!G82)","v":""},{"$f":"IF('A) Eingabe (Lehrer)'!H82=\"\", \"\",'A) Eingabe (Lehrer)'!H82)","v":""},{"$f":"IF('A) Eingabe (Lehrer)'!I82=\"\", \"\",'A) Eingabe (Lehrer)'!I82)","v":""},{"$f":"IF('A) Eingabe (Lehrer)'!J82=\"\", \"\",'A) Eingabe (Lehrer)'!J82)","v":""},{"$f":"IF('A) Eingabe (Lehrer)'!K82=\"\", \"\",'A) Eingabe (Lehrer)'!K82)","v":""},{"$f":"IF('A) Eingabe (Lehrer)'!L82=\"\", \"\",'A) Eingabe (Lehrer)'!L82)","v":""},{"$f":"IF('A) Eingabe (Lehrer)'!M82=\"\", \"\",'A) Eingabe (Lehrer)'!M82)","v":""},{"$f":"IF('A) Eingabe (Lehrer)'!N82=\"\", \"\",'A) Eingabe (Lehrer)'!N82)","v":""},{"$f":"IF('A) Eingabe (Lehrer)'!O82=\"\", \"\",'A) Eingabe (Lehrer)'!O82)","v":""},{"$f":"IF('A) Eingabe (Lehrer)'!P82=\"\", \"\",'A) Eingabe (Lehrer)'!P82)","v":""},{"$f":"IF('A) Eingabe (Lehrer)'!Q82=\"\", \"\",'A) Eingabe (Lehrer)'!Q82)","v":""},{"$f":"IF('A) Eingabe (Lehrer)'!R82=\"\", \"\",'A) Eingabe (Lehrer)'!R82)","v":""},{"$f":"IF('A) Eingabe (Lehrer)'!S82=\"\", \"\",'A) Eingabe (Lehrer)'!S82)","v":""},{"$f":"IF('A) Eingabe (Lehrer)'!T82=\"\", \"\",'A) Eingabe (Lehrer)'!T82)","v":""},{"$f":"IF('A) Eingabe (Lehrer)'!U82=\"\", \"\",'A) Eingabe (Lehrer)'!U82)","v":""},{"$f":"IF('A) Eingabe (Lehrer)'!V82=\"\", \"\",'A) Eingabe (Lehrer)'!V82)","v":""},{"$f":"IF('A) Eingabe (Lehrer)'!W82=\"\", \"\",'A) Eingabe (Lehrer)'!W82)","v":""},{"$f":"IF('A) Eingabe (Lehrer)'!X82=\"\", \"\",'A) Eingabe (Lehrer)'!X82)","v":""},{"$f":"IF('A) Eingabe (Lehrer)'!Y82=\"\", \"\",'A) Eingabe (Lehrer)'!Y82)","v":""},{"$f":"IF('A) Eingabe (Lehrer)'!Z82=\"\", \"\",'A) Eingabe (Lehrer)'!Z82)","v":""},{"$f":"IF('A) Eingabe (Lehrer)'!AA82=\"\", \"\",'A) Eingabe (Lehrer)'!AA82)","v":""},{"$f":"IF('A) Eingabe (Lehrer)'!AB82=\"\", \"\",'A) Eingabe (Lehrer)'!AB82)","v":""},{"$f":"IF('A) Eingabe (Lehrer)'!AC82=\"\", \"\",'A) Eingabe (Lehrer)'!AC82)","v":""},{"$f":"IF('A) Eingabe (Lehrer)'!AD82=\"\", \"\",'A) Eingabe (Lehrer)'!AD82)","v":""},{"$f":"IF('A) Eingabe (Lehrer)'!AE82=\"\", \"\",'A) Eingabe (Lehrer)'!AE82)","v":""},{"$f":"IF('A) Eingabe (Lehrer)'!AF82=\"\", \"\",'A) Eingabe (Lehrer)'!AF82)","v":""},{"$f":"IF('A) Eingabe (Lehrer)'!AG82=\"\", \"\",'A) Eingabe (Lehrer)'!AG82)","v":""},{"$f":"IF('A) Eingabe (Lehrer)'!AH82=\"\", \"\",'A) Eingabe (Lehrer)'!AH82)","v":""},{"$f":"IF('A) Eingabe (Lehrer)'!AI82=\"\", \"\",'A) Eingabe (Lehrer)'!AI82)","v":""},{"$f":"IF('A) Eingabe (Lehrer)'!AJ82=\"\", \"\",'A) Eingabe (Lehrer)'!AJ82)","v":""},{"$f":"IF('A) Eingabe (Lehrer)'!AK82=\"\", \"\",'A) Eingabe (Lehrer)'!AK82)","v":""},{"$f":"IF('A) Eingabe (Lehrer)'!AL82=\"\", \"\",'A) Eingabe (Lehrer)'!AL82)","v":""},{"$f":"IF('A) Eingabe (Lehrer)'!AM82=\"\", \"\",'A) Eingabe (Lehrer)'!AM82)","v":""},{"$f":"IF('A) Eingabe (Lehrer)'!AN82=\"\", \"\",'A) Eingabe (Lehrer)'!AN82)","v":""},{"$f":"IF('A) Eingabe (Lehrer)'!AO82=\"\", \"\",'A) Eingabe (Lehrer)'!AO82)","v":""},{"$f":"IF('A) Eingabe (Lehrer)'!AP82=\"\", \"\",'A) Eingabe (Lehrer)'!AP82)","v":""},{"$f":"IF('A) Eingabe (Lehrer)'!AQ82=\"\", \"\",'A) Eingabe (Lehrer)'!AQ82)","v":""},{"$f":"IF('A) Eingabe (Lehrer)'!AR82=\"\", \"\",'A) Eingabe (Lehrer)'!AR82)","v":""},{"$f":"IF('A) Eingabe (Lehrer)'!AS82=\"\", \"\",'A) Eingabe (Lehrer)'!AS82)","v":""},{"$f":"IF('A) Eingabe (Lehrer)'!AT82=\"\", \"\",'A) Eingabe (Lehrer)'!AT82)","v":""},{"$f":"IF('A) Eingabe (Lehrer)'!AU82=\"\", \"\",'A) Eingabe (Lehrer)'!AU82)","v":""},{"$f":"IF('A) Eingabe (Lehrer)'!AV82=\"\", \"\",'A) Eingabe (Lehrer)'!AV82)","v":""},{"$f":"IF('A) Eingabe (Lehrer)'!AW82=\"\", \"\",'A) Eingabe (Lehrer)'!AW82)","v":""},{"$f":"IF('A) Eingabe (Lehrer)'!AX82=\"\", \"\",'A) Eingabe (Lehrer)'!AX82)","v":""},{"$f":"IF('A) Eingabe (Lehrer)'!AY82=\"\", \"\",'A) Eingabe (Lehrer)'!AY82)","v":""},{"$f":"IF('A) Eingabe (Lehrer)'!AZ82=\"\", \"\",'A) Eingabe (Lehrer)'!AZ82)","v":""},{"$f":"IF('A) Eingabe (Lehrer)'!BA82=\"\", \"\",'A) Eingabe (Lehrer)'!BA82)","v":""},{"$f":"IF('A) Eingabe (Lehrer)'!BB82=\"\", \"\",'A) Eingabe (Lehrer)'!BB82)","v":""},{"$f":"IF('A) Eingabe (Lehrer)'!BC82=\"\", \"\",'A) Eingabe (Lehrer)'!BC82)","v":""},{"$f":"IF('A) Eingabe (Lehrer)'!BD82=\"\", \"\",'A) Eingabe (Lehrer)'!BD82)","v":""},{"$f":"IF('A) Eingabe (Lehrer)'!BE82=\"\", \"\",'A) Eingabe (Lehrer)'!BE82)","v":""},{"$f":"IF('A) Eingabe (Lehrer)'!BF82=\"\", \"\",'A) Eingabe (Lehrer)'!BF82)","v":""},{"$f":"IF('A) Eingabe (Lehrer)'!BG82=\"\", \"\",'A) Eingabe (Lehrer)'!BG82)","v":""},{"$f":"IF('A) Eingabe (Lehrer)'!BH82=\"\", \"\",'A) Eingabe (Lehrer)'!BH82)","v":""},{"$f":"IF('A) Eingabe (Lehrer)'!BI82=\"\", \"\",'A) Eingabe (Lehrer)'!BI82)","v":""},{"$f":"IF('A) Eingabe (Lehrer)'!BJ82=\"\", \"\",'A) Eingabe (Lehrer)'!BJ82)","v":""},{"$f":"IF('A) Eingabe (Lehrer)'!BK82=\"\", \"\",'A) Eingabe (Lehrer)'!BK82)","v":""}]
["Item 67",{"$f":"IF('A) Eingabe (Lehrer)'!C83=\"\", \"\",'A) Eingabe (Lehrer)'!C83)","v":""},{"$f":"IF('A) Eingabe (Lehrer)'!D83=\"\", \"\",'A) Eingabe (Lehrer)'!D83)","v":""},{"$f":"IF('A) Eingabe (Lehrer)'!E83=\"\", \"\",'A) Eingabe (Lehrer)'!E83)","v":""},{"$f":"IF('A) Eingabe (Lehrer)'!F83=\"\", \"\",'A) Eingabe (Lehrer)'!F83)","v":""},{"$f":"IF('A) Eingabe (Lehrer)'!G83=\"\", \"\",'A) Eingabe (Lehrer)'!G83)","v":""},{"$f":"IF('A) Eingabe (Lehrer)'!H83=\"\", \"\",'A) Eingabe (Lehrer)'!H83)","v":""},{"$f":"IF('A) Eingabe (Lehrer)'!I83=\"\", \"\",'A) Eingabe (Lehrer)'!I83)","v":""},{"$f":"IF('A) Eingabe (Lehrer)'!J83=\"\", \"\",'A) Eingabe (Lehrer)'!J83)","v":""},{"$f":"IF('A) Eingabe (Lehrer)'!K83=\"\", \"\",'A) Eingabe (Lehrer)'!K83)","v":""},{"$f":"IF('A) Eingabe (Lehrer)'!L83=\"\", \"\",'A) Eingabe (Lehrer)'!L83)","v":""},{"$f":"IF('A) Eingabe (Lehrer)'!M83=\"\", \"\",'A) Eingabe (Lehrer)'!M83)","v":""},{"$f":"IF('A) Eingabe (Lehrer)'!N83=\"\", \"\",'A) Eingabe (Lehrer)'!N83)","v":""},{"$f":"IF('A) Eingabe (Lehrer)'!O83=\"\", \"\",'A) Eingabe (Lehrer)'!O83)","v":""},{"$f":"IF('A) Eingabe (Lehrer)'!P83=\"\", \"\",'A) Eingabe (Lehrer)'!P83)","v":""},{"$f":"IF('A) Eingabe (Lehrer)'!Q83=\"\", \"\",'A) Eingabe (Lehrer)'!Q83)","v":""},{"$f":"IF('A) Eingabe (Lehrer)'!R83=\"\", \"\",'A) Eingabe (Lehrer)'!R83)","v":""},{"$f":"IF('A) Eingabe (Lehrer)'!S83=\"\", \"\",'A) Eingabe (Lehrer)'!S83)","v":""},{"$f":"IF('A) Eingabe (Lehrer)'!T83=\"\", \"\",'A) Eingabe (Lehrer)'!T83)","v":""},{"$f":"IF('A) Eingabe (Lehrer)'!U83=\"\", \"\",'A) Eingabe (Lehrer)'!U83)","v":""},{"$f":"IF('A) Eingabe (Lehrer)'!V83=\"\", \"\",'A) Eingabe (Lehrer)'!V83)","v":""},{"$f":"IF('A) Eingabe (Lehrer)'!W83=\"\", \"\",'A) Eingabe (Lehrer)'!W83)","v":""},{"$f":"IF('A) Eingabe (Lehrer)'!X83=\"\", \"\",'A) Eingabe (Lehrer)'!X83)","v":""},{"$f":"IF('A) Eingabe (Lehrer)'!Y83=\"\", \"\",'A) Eingabe (Lehrer)'!Y83)","v":""},{"$f":"IF('A) Eingabe (Lehrer)'!Z83=\"\", \"\",'A) Eingabe (Lehrer)'!Z83)","v":""},{"$f":"IF('A) Eingabe (Lehrer)'!AA83=\"\", \"\",'A) Eingabe (Lehrer)'!AA83)","v":""},{"$f":"IF('A) Eingabe (Lehrer)'!AB83=\"\", \"\",'A) Eingabe (Lehrer)'!AB83)","v":""},{"$f":"IF('A) Eingabe (Lehrer)'!AC83=\"\", \"\",'A) Eingabe (Lehrer)'!AC83)","v":""},{"$f":"IF('A) Eingabe (Lehrer)'!AD83=\"\", \"\",'A) Eingabe (Lehrer)'!AD83)","v":""},{"$f":"IF('A) Eingabe (Lehrer)'!AE83=\"\", \"\",'A) Eingabe (Lehrer)'!AE83)","v":""},{"$f":"IF('A) Eingabe (Lehrer)'!AF83=\"\", \"\",'A) Eingabe (Lehrer)'!AF83)","v":""},{"$f":"IF('A) Eingabe (Lehrer)'!AG83=\"\", \"\",'A) Eingabe (Lehrer)'!AG83)","v":""},{"$f":"IF('A) Eingabe (Lehrer)'!AH83=\"\", \"\",'A) Eingabe (Lehrer)'!AH83)","v":""},{"$f":"IF('A) Eingabe (Lehrer)'!AI83=\"\", \"\",'A) Eingabe (Lehrer)'!AI83)","v":""},{"$f":"IF('A) Eingabe (Lehrer)'!AJ83=\"\", \"\",'A) Eingabe (Lehrer)'!AJ83)","v":""},{"$f":"IF('A) Eingabe (Lehrer)'!AK83=\"\", \"\",'A) Eingabe (Lehrer)'!AK83)","v":""},{"$f":"IF('A) Eingabe (Lehrer)'!AL83=\"\", \"\",'A) Eingabe (Lehrer)'!AL83)","v":""},{"$f":"IF('A) Eingabe (Lehrer)'!AM83=\"\", \"\",'A) Eingabe (Lehrer)'!AM83)","v":""},{"$f":"IF('A) Eingabe (Lehrer)'!AN83=\"\", \"\",'A) Eingabe (Lehrer)'!AN83)","v":""},{"$f":"IF('A) Eingabe (Lehrer)'!AO83=\"\", \"\",'A) Eingabe (Lehrer)'!AO83)","v":""},{"$f":"IF('A) Eingabe (Lehrer)'!AP83=\"\", \"\",'A) Eingabe (Lehrer)'!AP83)","v":""},{"$f":"IF('A) Eingabe (Lehrer)'!AQ83=\"\", \"\",'A) Eingabe (Lehrer)'!AQ83)","v":""},{"$f":"IF('A) Eingabe (Lehrer)'!AR83=\"\", \"\",'A) Eingabe (Lehrer)'!AR83)","v":""},{"$f":"IF('A) Eingabe (Lehrer)'!AS83=\"\", \"\",'A) Eingabe (Lehrer)'!AS83)","v":""},{"$f":"IF('A) Eingabe (Lehrer)'!AT83=\"\", \"\",'A) Eingabe (Lehrer)'!AT83)","v":""},{"$f":"IF('A) Eingabe (Lehrer)'!AU83=\"\", \"\",'A) Eingabe (Lehrer)'!AU83)","v":""},{"$f":"IF('A) Eingabe (Lehrer)'!AV83=\"\", \"\",'A) Eingabe (Lehrer)'!AV83)","v":""},{"$f":"IF('A) Eingabe (Lehrer)'!AW83=\"\", \"\",'A) Eingabe (Lehrer)'!AW83)","v":""},{"$f":"IF('A) Eingabe (Lehrer)'!AX83=\"\", \"\",'A) Eingabe (Lehrer)'!AX83)","v":""},{"$f":"IF('A) Eingabe (Lehrer)'!AY83=\"\", \"\",'A) Eingabe (Lehrer)'!AY83)","v":""},{"$f":"IF('A) Eingabe (Lehrer)'!AZ83=\"\", \"\",'A) Eingabe (Lehrer)'!AZ83)","v":""},{"$f":"IF('A) Eingabe (Lehrer)'!BA83=\"\", \"\",'A) Eingabe (Lehrer)'!BA83)","v":""},{"$f":"IF('A) Eingabe (Lehrer)'!BB83=\"\", \"\",'A) Eingabe (Lehrer)'!BB83)","v":""},{"$f":"IF('A) Eingabe (Lehrer)'!BC83=\"\", \"\",'A) Eingabe (Lehrer)'!BC83)","v":""},{"$f":"IF('A) Eingabe (Lehrer)'!BD83=\"\", \"\",'A) Eingabe (Lehrer)'!BD83)","v":""},{"$f":"IF('A) Eingabe (Lehrer)'!BE83=\"\", \"\",'A) Eingabe (Lehrer)'!BE83)","v":""},{"$f":"IF('A) Eingabe (Lehrer)'!BF83=\"\", \"\",'A) Eingabe (Lehrer)'!BF83)","v":""},{"$f":"IF('A) Eingabe (Lehrer)'!BG83=\"\", \"\",'A) Eingabe (Lehrer)'!BG83)","v":""},{"$f":"IF('A) Eingabe (Lehrer)'!BH83=\"\", \"\",'A) Eingabe (Lehrer)'!BH83)","v":""},{"$f":"IF('A) Eingabe (Lehrer)'!BI83=\"\", \"\",'A) Eingabe (Lehrer)'!BI83)","v":""},{"$f":"IF('A) Eingabe (Lehrer)'!BJ83=\"\", \"\",'A) Eingabe (Lehrer)'!BJ83)","v":""},{"$f":"IF('A) Eingabe (Lehrer)'!BK83=\"\", \"\",'A) Eingabe (Lehrer)'!BK83)","v":""}]
["Item 68",{"$f":"IF('A) Eingabe (Lehrer)'!C84=\"\", \"\",'A) Eingabe (Lehrer)'!C84)","v":""},{"$f":"IF('A) Eingabe (Lehrer)'!D84=\"\", \"\",'A) Eingabe (Lehrer)'!D84)","v":""},{"$f":"IF('A) Eingabe (Lehrer)'!E84=\"\", \"\",'A) Eingabe (Lehrer)'!E84)","v":""},{"$f":"IF('A) Eingabe (Lehrer)'!F84=\"\", \"\",'A) Eingabe (Lehrer)'!F84)","v":""},{"$f":"IF('A) Eingabe (Lehrer)'!G84=\"\", \"\",'A) Eingabe (Lehrer)'!G84)","v":""},{"$f":"IF('A) Eingabe (Lehrer)'!H84=\"\", \"\",'A) Eingabe (Lehrer)'!H84)","v":""},{"$f":"IF('A) Eingabe (Lehrer)'!I84=\"\", \"\",'A) Eingabe (Lehrer)'!I84)","v":""},{"$f":"IF('A) Eingabe (Lehrer)'!J84=\"\", \"\",'A) Eingabe (Lehrer)'!J84)","v":""},{"$f":"IF('A) Eingabe (Lehrer)'!K84=\"\", \"\",'A) Eingabe (Lehrer)'!K84)","v":""},{"$f":"IF('A) Eingabe (Lehrer)'!L84=\"\", \"\",'A) Eingabe (Lehrer)'!L84)","v":""},{"$f":"IF('A) Eingabe (Lehrer)'!M84=\"\", \"\",'A) Eingabe (Lehrer)'!M84)","v":""},{"$f":"IF('A) Eingabe (Lehrer)'!N84=\"\", \"\",'A) Eingabe (Lehrer)'!N84)","v":""},{"$f":"IF('A) Eingabe (Lehrer)'!O84=\"\", \"\",'A) Eingabe (Lehrer)'!O84)","v":""},{"$f":"IF('A) Eingabe (Lehrer)'!P84=\"\", \"\",'A) Eingabe (Lehrer)'!P84)","v":""},{"$f":"IF('A) Eingabe (Lehrer)'!Q84=\"\", \"\",'A) Eingabe (Lehrer)'!Q84)","v":""},{"$f":"IF('A) Eingabe (Lehrer)'!R84=\"\", \"\",'A) Eingabe (Lehrer)'!R84)","v":""},{"$f":"IF('A) Eingabe (Lehrer)'!S84=\"\", \"\",'A) Eingabe (Lehrer)'!S84)","v":""},{"$f":"IF('A) Eingabe (Lehrer)'!T84=\"\", \"\",'A) Eingabe (Lehrer)'!T84)","v":""},{"$f":"IF('A) Eingabe (Lehrer)'!U84=\"\", \"\",'A) Eingabe (Lehrer)'!U84)","v":""},{"$f":"IF('A) Eingabe (Lehrer)'!V84=\"\", \"\",'A) Eingabe (Lehrer)'!V84)","v":""},{"$f":"IF('A) Eingabe (Lehrer)'!W84=\"\", \"\",'A) Eingabe (Lehrer)'!W84)","v":""},{"$f":"IF('A) Eingabe (Lehrer)'!X84=\"\", \"\",'A) Eingabe (Lehrer)'!X84)","v":""},{"$f":"IF('A) Eingabe (Lehrer)'!Y84=\"\", \"\",'A) Eingabe (Lehrer)'!Y84)","v":""},{"$f":"IF('A) Eingabe (Lehrer)'!Z84=\"\", \"\",'A) Eingabe (Lehrer)'!Z84)","v":""},{"$f":"IF('A) Eingabe (Lehrer)'!AA84=\"\", \"\",'A) Eingabe (Lehrer)'!AA84)","v":""},{"$f":"IF('A) Eingabe (Lehrer)'!AB84=\"\", \"\",'A) Eingabe (Lehrer)'!AB84)","v":""},{"$f":"IF('A) Eingabe (Lehrer)'!AC84=\"\", \"\",'A) Eingabe (Lehrer)'!AC84)","v":""},{"$f":"IF('A) Eingabe (Lehrer)'!AD84=\"\", \"\",'A) Eingabe (Lehrer)'!AD84)","v":""},{"$f":"IF('A) Eingabe (Lehrer)'!AE84=\"\", \"\",'A) Eingabe (Lehrer)'!AE84)","v":""},{"$f":"IF('A) Eingabe (Lehrer)'!AF84=\"\", \"\",'A) Eingabe (Lehrer)'!AF84)","v":""},{"$f":"IF('A) Eingabe (Lehrer)'!AG84=\"\", \"\",'A) Eingabe (Lehrer)'!AG84)","v":""},{"$f":"IF('A) Eingabe (Lehrer)'!AH84=\"\", \"\",'A) Eingabe (Lehrer)'!AH84)","v":""},{"$f":"IF('A) Eingabe (Lehrer)'!AI84=\"\", \"\",'A) Eingabe (Lehrer)'!AI84)","v":""},{"$f":"IF('A) Eingabe (Lehrer)'!AJ84=\"\", \"\",'A) Eingabe (Lehrer)'!AJ84)","v":""},{"$f":"IF('A) Eingabe (Lehrer)'!AK84=\"\", \"\",'A) Eingabe (Lehrer)'!AK84)","v":""},{"$f":"IF('A) Eingabe (Lehrer)'!AL84=\"\", \"\",'A) Eingabe (Lehrer)'!AL84)","v":""},{"$f":"IF('A) Eingabe (Lehrer)'!AM84=\"\", \"\",'A) Eingabe (Lehrer)'!AM84)","v":""},{"$f":"IF('A) Eingabe (Lehrer)'!AN84=\"\", \"\",'A) Eingabe (Lehrer)'!AN84)","v":""},{"$f":"IF('A) Eingabe (Lehrer)'!AO84=\"\", \"\",'A) Eingabe (Lehrer)'!AO84)","v":""},{"$f":"IF('A) Eingabe (Lehrer)'!AP84=\"\", \"\",'A) Eingabe (Lehrer)'!AP84)","v":""},{"$f":"IF('A) Eingabe (Lehrer)'!AQ84=\"\", \"\",'A) Eingabe (Lehrer)'!AQ84)","v":""},{"$f":"IF('A) Eingabe (Lehrer)'!AR84=\"\", \"\",'A) Eingabe (Lehrer)'!AR84)","v":""},{"$f":"IF('A) Eingabe (Lehrer)'!AS84=\"\", \"\",'A) Eingabe (Lehrer)'!AS84)","v":""},{"$f":"IF('A) Eingabe (Lehrer)'!AT84=\"\", \"\",'A) Eingabe (Lehrer)'!AT84)","v":""},{"$f":"IF('A) Eingabe (Lehrer)'!AU84=\"\", \"\",'A) Eingabe (Lehrer)'!AU84)","v":""},{"$f":"IF('A) Eingabe (Lehrer)'!AV84=\"\", \"\",'A) Eingabe (Lehrer)'!AV84)","v":""},{"$f":"IF('A) Eingabe (Lehrer)'!AW84=\"\", \"\",'A) Eingabe (Lehrer)'!AW84)","v":""},{"$f":"IF('A) Eingabe (Lehrer)'!AX84=\"\", \"\",'A) Eingabe (Lehrer)'!AX84)","v":""},{"$f":"IF('A) Eingabe (Lehrer)'!AY84=\"\", \"\",'A) Eingabe (Lehrer)'!AY84)","v":""},{"$f":"IF('A) Eingabe (Lehrer)'!AZ84=\"\", \"\",'A) Eingabe (Lehrer)'!AZ84)","v":""},{"$f":"IF('A) Eingabe (Lehrer)'!BA84=\"\", \"\",'A) Eingabe (Lehrer)'!BA84)","v":""},{"$f":"IF('A) Eingabe (Lehrer)'!BB84=\"\", \"\",'A) Eingabe (Lehrer)'!BB84)","v":""},{"$f":"IF('A) Eingabe (Lehrer)'!BC84=\"\", \"\",'A) Eingabe (Lehrer)'!BC84)","v":""},{"$f":"IF('A) Eingabe (Lehrer)'!BD84=\"\", \"\",'A) Eingabe (Lehrer)'!BD84)","v":""},{"$f":"IF('A) Eingabe (Lehrer)'!BE84=\"\", \"\",'A) Eingabe (Lehrer)'!BE84)","v":""},{"$f":"IF('A) Eingabe (Lehrer)'!BF84=\"\", \"\",'A) Eingabe (Lehrer)'!BF84)","v":""},{"$f":"IF('A) Eingabe (Lehrer)'!BG84=\"\", \"\",'A) Eingabe (Lehrer)'!BG84)","v":""},{"$f":"IF('A) Eingabe (Lehrer)'!BH84=\"\", \"\",'A) Eingabe (Lehrer)'!BH84)","v":""},{"$f":"IF('A) Eingabe (Lehrer)'!BI84=\"\", \"\",'A) Eingabe (Lehrer)'!BI84)","v":""},{"$f":"IF('A) Eingabe (Lehrer)'!BJ84=\"\", \"\",'A) Eingabe (Lehrer)'!BJ84)","v":""},{"$f":"IF('A) Eingabe (Lehrer)'!BK84=\"\", \"\",'A) Eingabe (Lehrer)'!BK84)","v":""}]
["Item 69",{"$f":"IF('A) Eingabe (Lehrer)'!C85=\"\", \"\",'A) Eingabe (Lehrer)'!C85)","v":""},{"$f":"IF('A) Eingabe (Lehrer)'!D85=\"\", \"\",'A) Eingabe (Lehrer)'!D85)","v":""},{"$f":"IF('A) Eingabe (Lehrer)'!E85=\"\", \"\",'A) Eingabe (Lehrer)'!E85)","v":""},{"$f":"IF('A) Eingabe (Lehrer)'!F85=\"\", \"\",'A) Eingabe (Lehrer)'!F85)","v":""},{"$f":"IF('A) Eingabe (Lehrer)'!G85=\"\", \"\",'A) Eingabe (Lehrer)'!G85)","v":""},{"$f":"IF('A) Eingabe (Lehrer)'!H85=\"\", \"\",'A) Eingabe (Lehrer)'!H85)","v":""},{"$f":"IF('A) Eingabe (Lehrer)'!I85=\"\", \"\",'A) Eingabe (Lehrer)'!I85)","v":""},{"$f":"IF('A) Eingabe (Lehrer)'!J85=\"\", \"\",'A) Eingabe (Lehrer)'!J85)","v":""},{"$f":"IF('A) Eingabe (Lehrer)'!K85=\"\", \"\",'A) Eingabe (Lehrer)'!K85)","v":""},{"$f":"IF('A) Eingabe (Lehrer)'!L85=\"\", \"\",'A) Eingabe (Lehrer)'!L85)","v":""},{"$f":"IF('A) Eingabe (Lehrer)'!M85=\"\", \"\",'A) Eingabe (Lehrer)'!M85)","v":""},{"$f":"IF('A) Eingabe (Lehrer)'!N85=\"\", \"\",'A) Eingabe (Lehrer)'!N85)","v":""},{"$f":"IF('A) Eingabe (Lehrer)'!O85=\"\", \"\",'A) Eingabe (Lehrer)'!O85)","v":""},{"$f":"IF('A) Eingabe (Lehrer)'!P85=\"\", \"\",'A) Eingabe (Lehrer)'!P85)","v":""},{"$f":"IF('A) Eingabe (Lehrer)'!Q85=\"\", \"\",'A) Eingabe (Lehrer)'!Q85)","v":""},{"$f":"IF('A) Eingabe (Lehrer)'!R85=\"\", \"\",'A) Eingabe (Lehrer)'!R85)","v":""},{"$f":"IF('A) Eingabe (Lehrer)'!S85=\"\", \"\",'A) Eingabe (Lehrer)'!S85)","v":""},{"$f":"IF('A) Eingabe (Lehrer)'!T85=\"\", \"\",'A) Eingabe (Lehrer)'!T85)","v":""},{"$f":"IF('A) Eingabe (Lehrer)'!U85=\"\", \"\",'A) Eingabe (Lehrer)'!U85)","v":""},{"$f":"IF('A) Eingabe (Lehrer)'!V85=\"\", \"\",'A) Eingabe (Lehrer)'!V85)","v":""},{"$f":"IF('A) Eingabe (Lehrer)'!W85=\"\", \"\",'A) Eingabe (Lehrer)'!W85)","v":""},{"$f":"IF('A) Eingabe (Lehrer)'!X85=\"\", \"\",'A) Eingabe (Lehrer)'!X85)","v":""},{"$f":"IF('A) Eingabe (Lehrer)'!Y85=\"\", \"\",'A) Eingabe (Lehrer)'!Y85)","v":""},{"$f":"IF('A) Eingabe (Lehrer)'!Z85=\"\", \"\",'A) Eingabe (Lehrer)'!Z85)","v":""},{"$f":"IF('A) Eingabe (Lehrer)'!AA85=\"\", \"\",'A) Eingabe (Lehrer)'!AA85)","v":""},{"$f":"IF('A) Eingabe (Lehrer)'!AB85=\"\", \"\",'A) Eingabe (Lehrer)'!AB85)","v":""},{"$f":"IF('A) Eingabe (Lehrer)'!AC85=\"\", \"\",'A) Eingabe (Lehrer)'!AC85)","v":""},{"$f":"IF('A) Eingabe (Lehrer)'!AD85=\"\", \"\",'A) Eingabe (Lehrer)'!AD85)","v":""},{"$f":"IF('A) Eingabe (Lehrer)'!AE85=\"\", \"\",'A) Eingabe (Lehrer)'!AE85)","v":""},{"$f":"IF('A) Eingabe (Lehrer)'!AF85=\"\", \"\",'A) Eingabe (Lehrer)'!AF85)","v":""},{"$f":"IF('A) Eingabe (Lehrer)'!AG85=\"\", \"\",'A) Eingabe (Lehrer)'!AG85)","v":""},{"$f":"IF('A) Eingabe (Lehrer)'!AH85=\"\", \"\",'A) Eingabe (Lehrer)'!AH85)","v":""},{"$f":"IF('A) Eingabe (Lehrer)'!AI85=\"\", \"\",'A) Eingabe (Lehrer)'!AI85)","v":""},{"$f":"IF('A) Eingabe (Lehrer)'!AJ85=\"\", \"\",'A) Eingabe (Lehrer)'!AJ85)","v":""},{"$f":"IF('A) Eingabe (Lehrer)'!AK85=\"\", \"\",'A) Eingabe (Lehrer)'!AK85)","v":""},{"$f":"IF('A) Eingabe (Lehrer)'!AL85=\"\", \"\",'A) Eingabe (Lehrer)'!AL85)","v":""},{"$f":"IF('A) Eingabe (Lehrer)'!AM85=\"\", \"\",'A) Eingabe (Lehrer)'!AM85)","v":""},{"$f":"IF('A) Eingabe (Lehrer)'!AN85=\"\", \"\",'A) Eingabe (Lehrer)'!AN85)","v":""},{"$f":"IF('A) Eingabe (Lehrer)'!AO85=\"\", \"\",'A) Eingabe (Lehrer)'!AO85)","v":""},{"$f":"IF('A) Eingabe (Lehrer)'!AP85=\"\", \"\",'A) Eingabe (Lehrer)'!AP85)","v":""},{"$f":"IF('A) Eingabe (Lehrer)'!AQ85=\"\", \"\",'A) Eingabe (Lehrer)'!AQ85)","v":""},{"$f":"IF('A) Eingabe (Lehrer)'!AR85=\"\", \"\",'A) Eingabe (Lehrer)'!AR85)","v":""},{"$f":"IF('A) Eingabe (Lehrer)'!AS85=\"\", \"\",'A) Eingabe (Lehrer)'!AS85)","v":""},{"$f":"IF('A) Eingabe (Lehrer)'!AT85=\"\", \"\",'A) Eingabe (Lehrer)'!AT85)","v":""},{"$f":"IF('A) Eingabe (Lehrer)'!AU85=\"\", \"\",'A) Eingabe (Lehrer)'!AU85)","v":""},{"$f":"IF('A) Eingabe (Lehrer)'!AV85=\"\", \"\",'A) Eingabe (Lehrer)'!AV85)","v":""},{"$f":"IF('A) Eingabe (Lehrer)'!AW85=\"\", \"\",'A) Eingabe (Lehrer)'!AW85)","v":""},{"$f":"IF('A) Eingabe (Lehrer)'!AX85=\"\", \"\",'A) Eingabe (Lehrer)'!AX85)","v":""},{"$f":"IF('A) Eingabe (Lehrer)'!AY85=\"\", \"\",'A) Eingabe (Lehrer)'!AY85)","v":""},{"$f":"IF('A) Eingabe (Lehrer)'!AZ85=\"\", \"\",'A) Eingabe (Lehrer)'!AZ85)","v":""},{"$f":"IF('A) Eingabe (Lehrer)'!BA85=\"\", \"\",'A) Eingabe (Lehrer)'!BA85)","v":""},{"$f":"IF('A) Eingabe (Lehrer)'!BB85=\"\", \"\",'A) Eingabe (Lehrer)'!BB85)","v":""},{"$f":"IF('A) Eingabe (Lehrer)'!BC85=\"\", \"\",'A) Eingabe (Lehrer)'!BC85)","v":""},{"$f":"IF('A) Eingabe (Lehrer)'!BD85=\"\", \"\",'A) Eingabe (Lehrer)'!BD85)","v":""},{"$f":"IF('A) Eingabe (Lehrer)'!BE85=\"\", \"\",'A) Eingabe (Lehrer)'!BE85)","v":""},{"$f":"IF('A) Eingabe (Lehrer)'!BF85=\"\", \"\",'A) Eingabe (Lehrer)'!BF85)","v":""},{"$f":"IF('A) Eingabe (Lehrer)'!BG85=\"\", \"\",'A) Eingabe (Lehrer)'!BG85)","v":""},{"$f":"IF('A) Eingabe (Lehrer)'!BH85=\"\", \"\",'A) Eingabe (Lehrer)'!BH85)","v":""},{"$f":"IF('A) Eingabe (Lehrer)'!BI85=\"\", \"\",'A) Eingabe (Lehrer)'!BI85)","v":""},{"$f":"IF('A) Eingabe (Lehrer)'!BJ85=\"\", \"\",'A) Eingabe (Lehrer)'!BJ85)","v":""},{"$f":"IF('A) Eingabe (Lehrer)'!BK85=\"\", \"\",'A) Eingabe (Lehrer)'!BK85)","v":""}]
["Item 70",{"$f":"IF('A) Eingabe (Lehrer)'!C86=\"\", \"\",'A) Eingabe (Lehrer)'!C86)","v":""},{"$f":"IF('A) Eingabe (Lehrer)'!D86=\"\", \"\",'A) Eingabe (Lehrer)'!D86)","v":""},{"$f":"IF('A) Eingabe (Lehrer)'!E86=\"\", \"\",'A) Eingabe (Lehrer)'!E86)","v":""},{"$f":"IF('A) Eingabe (Lehrer)'!F86=\"\", \"\",'A) Eingabe (Lehrer)'!F86)","v":""},{"$f":"IF('A) Eingabe (Lehrer)'!G86=\"\", \"\",'A) Eingabe (Lehrer)'!G86)","v":""},{"$f":"IF('A) Eingabe (Lehrer)'!H86=\"\", \"\",'A) Eingabe (Lehrer)'!H86)","v":""},{"$f":"IF('A) Eingabe (Lehrer)'!I86=\"\", \"\",'A) Eingabe (Lehrer)'!I86)","v":""},{"$f":"IF('A) Eingabe (Lehrer)'!J86=\"\", \"\",'A) Eingabe (Lehrer)'!J86)","v":""},{"$f":"IF('A) Eingabe (Lehrer)'!K86=\"\", \"\",'A) Eingabe (Lehrer)'!K86)","v":""},{"$f":"IF('A) Eingabe (Lehrer)'!L86=\"\", \"\",'A) Eingabe (Lehrer)'!L86)","v":""},{"$f":"IF('A) Eingabe (Lehrer)'!M86=\"\", \"\",'A) Eingabe (Lehrer)'!M86)","v":""},{"$f":"IF('A) Eingabe (Lehrer)'!N86=\"\", \"\",'A) Eingabe (Lehrer)'!N86)","v":""},{"$f":"IF('A) Eingabe (Lehrer)'!O86=\"\", \"\",'A) Eingabe (Lehrer)'!O86)","v":""},{"$f":"IF('A) Eingabe (Lehrer)'!P86=\"\", \"\",'A) Eingabe (Lehrer)'!P86)","v":""},{"$f":"IF('A) Eingabe (Lehrer)'!Q86=\"\", \"\",'A) Eingabe (Lehrer)'!Q86)","v":""},{"$f":"IF('A) Eingabe (Lehrer)'!R86=\"\", \"\",'A) Eingabe (Lehrer)'!R86)","v":""},{"$f":"IF('A) Eingabe (Lehrer)'!S86=\"\", \"\",'A) Eingabe (Lehrer)'!S86)","v":""},{"$f":"IF('A) Eingabe (Lehrer)'!T86=\"\", \"\",'A) Eingabe (Lehrer)'!T86)","v":""},{"$f":"IF('A) Eingabe (Lehrer)'!U86=\"\", \"\",'A) Eingabe (Lehrer)'!U86)","v":""},{"$f":"IF('A) Eingabe (Lehrer)'!V86=\"\", \"\",'A) Eingabe (Lehrer)'!V86)","v":""},{"$f":"IF('A) Eingabe (Lehrer)'!W86=\"\", \"\",'A) Eingabe (Lehrer)'!W86)","v":""},{"$f":"IF('A) Eingabe (Lehrer)'!X86=\"\", \"\",'A) Eingabe (Lehrer)'!X86)","v":""},{"$f":"IF('A) Eingabe (Lehrer)'!Y86=\"\", \"\",'A) Eingabe (Lehrer)'!Y86)","v":""},{"$f":"IF('A) Eingabe (Lehrer)'!Z86=\"\", \"\",'A) Eingabe (Lehrer)'!Z86)","v":""},{"$f":"IF('A) Eingabe (Lehrer)'!AA86=\"\", \"\",'A) Eingabe (Lehrer)'!AA86)","v":""},{"$f":"IF('A) Eingabe (Lehrer)'!AB86=\"\", \"\",'A) Eingabe (Lehrer)'!AB86)","v":""},{"$f":"IF('A) Eingabe (Lehrer)'!AC86=\"\", \"\",'A) Eingabe (Lehrer)'!AC86)","v":""},{"$f":"IF('A) Eingabe (Lehrer)'!AD86=\"\", \"\",'A) Eingabe (Lehrer)'!AD86)","v":""},{"$f":"IF('A) Eingabe (Lehrer)'!AE86=\"\", \"\",'A) Eingabe (Lehrer)'!AE86)","v":""},{"$f":"IF('A) Eingabe (Lehrer)'!AF86=\"\", \"\",'A) Eingabe (Lehrer)'!AF86)","v":""},{"$f":"IF('A) Eingabe (Lehrer)'!AG86=\"\", \"\",'A) Eingabe (Lehrer)'!AG86)","v":""},{"$f":"IF('A) Eingabe (Lehrer)'!AH86=\"\", \"\",'A) Eingabe (Lehrer)'!AH86)","v":""},{"$f":"IF('A) Eingabe (Lehrer)'!AI86=\"\", \"\",'A) Eingabe (Lehrer)'!AI86)","v":""},{"$f":"IF('A) Eingabe (Lehrer)'!AJ86=\"\", \"\",'A) Eingabe (Lehrer)'!AJ86)","v":""},{"$f":"IF('A) Eingabe (Lehrer)'!AK86=\"\", \"\",'A) Eingabe (Lehrer)'!AK86)","v":""},{"$f":"IF('A) Eingabe (Lehrer)'!AL86=\"\", \"\",'A) Eingabe (Lehrer)'!AL86)","v":""},{"$f":"IF('A) Eingabe (Lehrer)'!AM86=\"\", \"\",'A) Eingabe (Lehrer)'!AM86)","v":""},{"$f":"IF('A) Eingabe (Lehrer)'!AN86=\"\", \"\",'A) Eingabe (Lehrer)'!AN86)","v":""},{"$f":"IF('A) Eingabe (Lehrer)'!AO86=\"\", \"\",'A) Eingabe (Lehrer)'!AO86)","v":""},{"$f":"IF('A) Eingabe (Lehrer)'!AP86=\"\", \"\",'A) Eingabe (Lehrer)'!AP86)","v":""},{"$f":"IF('A) Eingabe (Lehrer)'!AQ86=\"\", \"\",'A) Eingabe (Lehrer)'!AQ86)","v":""},{"$f":"IF('A) Eingabe (Lehrer)'!AR86=\"\", \"\",'A) Eingabe (Lehrer)'!AR86)","v":""},{"$f":"IF('A) Eingabe (Lehrer)'!AS86=\"\", \"\",'A) Eingabe (Lehrer)'!AS86)","v":""},{"$f":"IF('A) Eingabe (Lehrer)'!AT86=\"\", \"\",'A) Eingabe (Lehrer)'!AT86)","v":""},{"$f":"IF('A) Eingabe (Lehrer)'!AU86=\"\", \"\",'A) Eingabe (Lehrer)'!AU86)","v":""},{"$f":"IF('A) Eingabe (Lehrer)'!AV86=\"\", \"\",'A) Eingabe (Lehrer)'!AV86)","v":""},{"$f":"IF('A) Eingabe (Lehrer)'!AW86=\"\", \"\",'A) Eingabe (Lehrer)'!AW86)","v":""},{"$f":"IF('A) Eingabe (Lehrer)'!AX86=\"\", \"\",'A) Eingabe (Lehrer)'!AX86)","v":""},{"$f":"IF('A) Eingabe (Lehrer)'!AY86=\"\", \"\",'A) Eingabe (Lehrer)'!AY86)","v":""},{"$f":"IF('A) Eingabe (Lehrer)'!AZ86=\"\", \"\",'A) Eingabe (Lehrer)'!AZ86)","v":""},{"$f":"IF('A) Eingabe (Lehrer)'!BA86=\"\", \"\",'A) Eingabe (Lehrer)'!BA86)","v":""},{"$f":"IF('A) Eingabe (Lehrer)'!BB86=\"\", \"\",'A) Eingabe (Lehrer)'!BB86)","v":""},{"$f":"IF('A) Eingabe (Lehrer)'!BC86=\"\", \"\",'A) Eingabe (Lehrer)'!BC86)","v":""},{"$f":"IF('A) Eingabe (Lehrer)'!BD86=\"\", \"\",'A) Eingabe (Lehrer)'!BD86)","v":""},{"$f":"IF('A) Eingabe (Lehrer)'!BE86=\"\", \"\",'A) Eingabe (Lehrer)'!BE86)","v":""},{"$f":"IF('A) Eingabe (Lehrer)'!BF86=\"\", \"\",'A) Eingabe (Lehrer)'!BF86)","v":""},{"$f":"IF('A) Eingabe (Lehrer)'!BG86=\"\", \"\",'A) Eingabe (Lehrer)'!BG86)","v":""},{"$f":"IF('A) Eingabe (Lehrer)'!BH86=\"\", \"\",'A) Eingabe (Lehrer)'!BH86)","v":""},{"$f":"IF('A) Eingabe (Lehrer)'!BI86=\"\", \"\",'A) Eingabe (Lehrer)'!BI86)","v":""},{"$f":"IF('A) Eingabe (Lehrer)'!BJ86=\"\", \"\",'A) Eingabe (Lehrer)'!BJ86)","v":""},{"$f":"IF('A) Eingabe (Lehrer)'!BK86=\"\", \"\",'A) Eingabe (Lehrer)'!BK86)","v":""}]
["Item 71",{"$f":"IF('A) Eingabe (Lehrer)'!C87=\"\", \"\",'A) Eingabe (Lehrer)'!C87)","v":""},{"$f":"IF('A) Eingabe (Lehrer)'!D87=\"\", \"\",'A) Eingabe (Lehrer)'!D87)","v":""},{"$f":"IF('A) Eingabe (Lehrer)'!E87=\"\", \"\",'A) Eingabe (Lehrer)'!E87)","v":""},{"$f":"IF('A) Eingabe (Lehrer)'!F87=\"\", \"\",'A) Eingabe (Lehrer)'!F87)","v":""},{"$f":"IF('A) Eingabe (Lehrer)'!G87=\"\", \"\",'A) Eingabe (Lehrer)'!G87)","v":""},{"$f":"IF('A) Eingabe (Lehrer)'!H87=\"\", \"\",'A) Eingabe (Lehrer)'!H87)","v":""},{"$f":"IF('A) Eingabe (Lehrer)'!I87=\"\", \"\",'A) Eingabe (Lehrer)'!I87)","v":""},{"$f":"IF('A) Eingabe (Lehrer)'!J87=\"\", \"\",'A) Eingabe (Lehrer)'!J87)","v":""},{"$f":"IF('A) Eingabe (Lehrer)'!K87=\"\", \"\",'A) Eingabe (Lehrer)'!K87)","v":""},{"$f":"IF('A) Eingabe (Lehrer)'!L87=\"\", \"\",'A) Eingabe (Lehrer)'!L87)","v":""},{"$f":"IF('A) Eingabe (Lehrer)'!M87=\"\", \"\",'A) Eingabe (Lehrer)'!M87)","v":""},{"$f":"IF('A) Eingabe (Lehrer)'!N87=\"\", \"\",'A) Eingabe (Lehrer)'!N87)","v":""},{"$f":"IF('A) Eingabe (Lehrer)'!O87=\"\", \"\",'A) Eingabe (Lehrer)'!O87)","v":""},{"$f":"IF('A) Eingabe (Lehrer)'!P87=\"\", \"\",'A) Eingabe (Lehrer)'!P87)","v":""},{"$f":"IF('A) Eingabe (Lehrer)'!Q87=\"\", \"\",'A) Eingabe (Lehrer)'!Q87)","v":""},{"$f":"IF('A) Eingabe (Lehrer)'!R87=\"\", \"\",'A) Eingabe (Lehrer)'!R87)","v":""},{"$f":"IF('A) Eingabe (Lehrer)'!S87=\"\", \"\",'A) Eingabe (Lehrer)'!S87)","v":""},{"$f":"IF('A) Eingabe (Lehrer)'!T87=\"\", \"\",'A) Eingabe (Lehrer)'!T87)","v":""},{"$f":"IF('A) Eingabe (Lehrer)'!U87=\"\", \"\",'A) Eingabe (Lehrer)'!U87)","v":""},{"$f":"IF('A) Eingabe (Lehrer)'!V87=\"\", \"\",'A) Eingabe (Lehrer)'!V87)","v":""},{"$f":"IF('A) Eingabe (Lehrer)'!W87=\"\", \"\",'A) Eingabe (Lehrer)'!W87)","v":""},{"$f":"IF('A) Eingabe (Lehrer)'!X87=\"\", \"\",'A) Eingabe (Lehrer)'!X87)","v":""},{"$f":"IF('A) Eingabe (Lehrer)'!Y87=\"\", \"\",'A) Eingabe (Lehrer)'!Y87)","v":""},{"$f":"IF('A) Eingabe (Lehrer)'!Z87=\"\", \"\",'A) Eingabe (Lehrer)'!Z87)","v":""},{"$f":"IF('A) Eingabe (Lehrer)'!AA87=\"\", \"\",'A) Eingabe (Lehrer)'!AA87)","v":""},{"$f":"IF('A) Eingabe (Lehrer)'!AB87=\"\", \"\",'A) Eingabe (Lehrer)'!AB87)","v":""},{"$f":"IF('A) Eingabe (Lehrer)'!AC87=\"\", \"\",'A) Eingabe (Lehrer)'!AC87)","v":""},{"$f":"IF('A) Eingabe (Lehrer)'!AD87=\"\", \"\",'A) Eingabe (Lehrer)'!AD87)","v":""},{"$f":"IF('A) Eingabe (Lehrer)'!AE87=\"\", \"\",'A) Eingabe (Lehrer)'!AE87)","v":""},{"$f":"IF('A) Eingabe (Lehrer)'!AF87=\"\", \"\",'A) Eingabe (Lehrer)'!AF87)","v":""},{"$f":"IF('A) Eingabe (Lehrer)'!AG87=\"\", \"\",'A) Eingabe (Lehrer)'!AG87)","v":""},{"$f":"IF('A) Eingabe (Lehrer)'!AH87=\"\", \"\",'A) Eingabe (Lehrer)'!AH87)","v":""},{"$f":"IF('A) Eingabe (Lehrer)'!AI87=\"\", \"\",'A) Eingabe (Lehrer)'!AI87)","v":""},{"$f":"IF('A) Eingabe (Lehrer)'!AJ87=\"\", \"\",'A) Eingabe (Lehrer)'!AJ87)","v":""},{"$f":"IF('A) Eingabe (Lehrer)'!AK87=\"\", \"\",'A) Eingabe (Lehrer)'!AK87)","v":""},{"$f":"IF('A) Eingabe (Lehrer)'!AL87=\"\", \"\",'A) Eingabe (Lehrer)'!AL87)","v":""},{"$f":"IF('A) Eingabe (Lehrer)'!AM87=\"\", \"\",'A) Eingabe (Lehrer)'!AM87)","v":""},{"$f":"IF('A) Eingabe (Lehrer)'!AN87=\"\", \"\",'A) Eingabe (Lehrer)'!AN87)","v":""},{"$f":"IF('A) Eingabe (Lehrer)'!AO87=\"\", \"\",'A) Eingabe (Lehrer)'!AO87)","v":""},{"$f":"IF('A) Eingabe (Lehrer)'!AP87=\"\", \"\",'A) Eingabe (Lehrer)'!AP87)","v":""},{"$f":"IF('A) Eingabe (Lehrer)'!AQ87=\"\", \"\",'A) Eingabe (Lehrer)'!AQ87)","v":""},{"$f":"IF('A) Eingabe (Lehrer)'!AR87=\"\", \"\",'A) Eingabe (Lehrer)'!AR87)","v":""},{"$f":"IF('A) Eingabe (Lehrer)'!AS87=\"\", \"\",'A) Eingabe (Lehrer)'!AS87)","v":""},{"$f":"IF('A) Eingabe (Lehrer)'!AT87=\"\", \"\",'A) Eingabe (Lehrer)'!AT87)","v":""},{"$f":"IF('A) Eingabe (Lehrer)'!AU87=\"\", \"\",'A) Eingabe (Lehrer)'!AU87)","v":""},{"$f":"IF('A) Eingabe (Lehrer)'!AV87=\"\", \"\",'A) Eingabe (Lehrer)'!AV87)","v":""},{"$f":"IF('A) Eingabe (Lehrer)'!AW87=\"\", \"\",'A) Eingabe (Lehrer)'!AW87)","v":""},{"$f":"IF('A) Eingabe (Lehrer)'!AX87=\"\", \"\",'A) Eingabe (Lehrer)'!AX87)","v":""},{"$f":"IF('A) Eingabe (Lehrer)'!AY87=\"\", \"\",'A) Eingabe (Lehrer)'!AY87)","v":""},{"$f":"IF('A) Eingabe (Lehrer)'!AZ87=\"\", \"\",'A) Eingabe (Lehrer)'!AZ87)","v":""},{"$f":"IF('A) Eingabe (Lehrer)'!BA87=\"\", \"\",'A) Eingabe (Lehrer)'!BA87)","v":""},{"$f":"IF('A) Eingabe (Lehrer)'!BB87=\"\", \"\",'A) Eingabe (Lehrer)'!BB87)","v":""},{"$f":"IF('A) Eingabe (Lehrer)'!BC87=\"\", \"\",'A) Eingabe (Lehrer)'!BC87)","v":""},{"$f":"IF('A) Eingabe (Lehrer)'!BD87=\"\", \"\",'A) Eingabe (Lehrer)'!BD87)","v":""},{"$f":"IF('A) Eingabe (Lehrer)'!BE87=\"\", \"\",'A) Eingabe (Lehrer)'!BE87)","v":""},{"$f":"IF('A) Eingabe (Lehrer)'!BF87=\"\", \"\",'A) Eingabe (Lehrer)'!BF87)","v":""},{"$f":"IF('A) Eingabe (Lehrer)'!BG87=\"\", \"\",'A) Eingabe (Lehrer)'!BG87)","v":""},{"$f":"IF('A) Eingabe (Lehrer)'!BH87=\"\", \"\",'A) Eingabe (Lehrer)'!BH87)","v":""},{"$f":"IF('A) Eingabe (Lehrer)'!BI87=\"\", \"\",'A) Eingabe (Lehrer)'!BI87)","v":""},{"$f":"IF('A) Eingabe (Lehrer)'!BJ87=\"\", \"\",'A) Eingabe (Lehrer)'!BJ87)","v":""},{"$f":"IF('A) Eingabe (Lehrer)'!BK87=\"\", \"\",'A) Eingabe (Lehrer)'!BK87)","v":""}]
["Item 72",{"$f":"IF('A) Eingabe (Lehrer)'!C88=\"\", \"\",'A) Eingabe (Lehrer)'!C88)","v":""},{"$f":"IF('A) Eingabe (Lehrer)'!D88=\"\", \"\",'A) Eingabe (Lehrer)'!D88)","v":""},{"$f":"IF('A) Eingabe (Lehrer)'!E88=\"\", \"\",'A) Eingabe (Lehrer)'!E88)","v":""},{"$f":"IF('A) Eingabe (Lehrer)'!F88=\"\", \"\",'A) Eingabe (Lehrer)'!F88)","v":""},{"$f":"IF('A) Eingabe (Lehrer)'!G88=\"\", \"\",'A) Eingabe (Lehrer)'!G88)","v":""},{"$f":"IF('A) Eingabe (Lehrer)'!H88=\"\", \"\",'A) Eingabe (Lehrer)'!H88)","v":""},{"$f":"IF('A) Eingabe (Lehrer)'!I88=\"\", \"\",'A) Eingabe (Lehrer)'!I88)","v":""},{"$f":"IF('A) Eingabe (Lehrer)'!J88=\"\", \"\",'A) Eingabe (Lehrer)'!J88)","v":""},{"$f":"IF('A) Eingabe (Lehrer)'!K88=\"\", \"\",'A) Eingabe (Lehrer)'!K88)","v":""},{"$f":"IF('A) Eingabe (Lehrer)'!L88=\"\", \"\",'A) Eingabe (Lehrer)'!L88)","v":""},{"$f":"IF('A) Eingabe (Lehrer)'!M88=\"\", \"\",'A) Eingabe (Lehrer)'!M88)","v":""},{"$f":"IF('A) Eingabe (Lehrer)'!N88=\"\", \"\",'A) Eingabe (Lehrer)'!N88)","v":""},{"$f":"IF('A) Eingabe (Lehrer)'!O88=\"\", \"\",'A) Eingabe (Lehrer)'!O88)","v":""},{"$f":"IF('A) Eingabe (Lehrer)'!P88=\"\", \"\",'A) Eingabe (Lehrer)'!P88)","v":""},{"$f":"IF('A) Eingabe (Lehrer)'!Q88=\"\", \"\",'A) Eingabe (Lehrer)'!Q88)","v":""},{"$f":"IF('A) Eingabe (Lehrer)'!R88=\"\", \"\",'A) Eingabe (Lehrer)'!R88)","v":""},{"$f":"IF('A) Eingabe (Lehrer)'!S88=\"\", \"\",'A) Eingabe (Lehrer)'!S88)","v":""},{"$f":"IF('A) Eingabe (Lehrer)'!T88=\"\", \"\",'A) Eingabe (Lehrer)'!T88)","v":""},{"$f":"IF('A) Eingabe (Lehrer)'!U88=\"\", \"\",'A) Eingabe (Lehrer)'!U88)","v":""},{"$f":"IF('A) Eingabe (Lehrer)'!V88=\"\", \"\",'A) Eingabe (Lehrer)'!V88)","v":""},{"$f":"IF('A) Eingabe (Lehrer)'!W88=\"\", \"\",'A) Eingabe (Lehrer)'!W88)","v":""},{"$f":"IF('A) Eingabe (Lehrer)'!X88=\"\", \"\",'A) Eingabe (Lehrer)'!X88)","v":""},{"$f":"IF('A) Eingabe (Lehrer)'!Y88=\"\", \"\",'A) Eingabe (Lehrer)'!Y88)","v":""},{"$f":"IF('A) Eingabe (Lehrer)'!Z88=\"\", \"\",'A) Eingabe (Lehrer)'!Z88)","v":""},{"$f":"IF('A) Eingabe (Lehrer)'!AA88=\"\", \"\",'A) Eingabe (Lehrer)'!AA88)","v":""},{"$f":"IF('A) Eingabe (Lehrer)'!AB88=\"\", \"\",'A) Eingabe (Lehrer)'!AB88)","v":""},{"$f":"IF('A) Eingabe (Lehrer)'!AC88=\"\", \"\",'A) Eingabe (Lehrer)'!AC88)","v":""},{"$f":"IF('A) Eingabe (Lehrer)'!AD88=\"\", \"\",'A) Eingabe (Lehrer)'!AD88)","v":""},{"$f":"IF('A) Eingabe (Lehrer)'!AE88=\"\", \"\",'A) Eingabe (Lehrer)'!AE88)","v":""},{"$f":"IF('A) Eingabe (Lehrer)'!AF88=\"\", \"\",'A) Eingabe (Lehrer)'!AF88)","v":""},{"$f":"IF('A) Eingabe (Lehrer)'!AG88=\"\", \"\",'A) Eingabe (Lehrer)'!AG88)","v":""},{"$f":"IF('A) Eingabe (Lehrer)'!AH88=\"\", \"\",'A) Eingabe (Lehrer)'!AH88)","v":""},{"$f":"IF('A) Eingabe (Lehrer)'!AI88=\"\", \"\",'A) Eingabe (Lehrer)'!AI88)","v":""},{"$f":"IF('A) Eingabe (Lehrer)'!AJ88=\"\", \"\",'A) Eingabe (Lehrer)'!AJ88)","v":""},{"$f":"IF('A) Eingabe (Lehrer)'!AK88=\"\", \"\",'A) Eingabe (Lehrer)'!AK88)","v":""},{"$f":"IF('A) Eingabe (Lehrer)'!AL88=\"\", \"\",'A) Eingabe (Lehrer)'!AL88)","v":""},{"$f":"IF('A) Eingabe (Lehrer)'!AM88=\"\", \"\",'A) Eingabe (Lehrer)'!AM88)","v":""},{"$f":"IF('A) Eingabe (Lehrer)'!AN88=\"\", \"\",'A) Eingabe (Lehrer)'!AN88)","v":""},{"$f":"IF('A) Eingabe (Lehrer)'!AO88=\"\", \"\",'A) Eingabe (Lehrer)'!AO88)","v":""},{"$f":"IF('A) Eingabe (Lehrer)'!AP88=\"\", \"\",'A) Eingabe (Lehrer)'!AP88)","v":""},{"$f":"IF('A) Eingabe (Lehrer)'!AQ88=\"\", \"\",'A) Eingabe (Lehrer)'!AQ88)","v":""},{"$f":"IF('A) Eingabe (Lehrer)'!AR88=\"\", \"\",'A) Eingabe (Lehrer)'!AR88)","v":""},{"$f":"IF('A) Eingabe (Lehrer)'!AS88=\"\", \"\",'A) Eingabe (Lehrer)'!AS88)","v":""},{"$f":"IF('A) Eingabe (Lehrer)'!AT88=\"\", \"\",'A) Eingabe (Lehrer)'!AT88)","v":""},{"$f":"IF('A) Eingabe (Lehrer)'!AU88=\"\", \"\",'A) Eingabe (Lehrer)'!AU88)","v":""},{"$f":"IF('A) Eingabe (Lehrer)'!AV88=\"\", \"\",'A) Eingabe (Lehrer)'!AV88)","v":""},{"$f":"IF('A) Eingabe (Lehrer)'!AW88=\"\", \"\",'A) Eingabe (Lehrer)'!AW88)","v":""},{"$f":"IF('A) Eingabe (Lehrer)'!AX88=\"\", \"\",'A) Eingabe (Lehrer)'!AX88)","v":""},{"$f":"IF('A) Eingabe (Lehrer)'!AY88=\"\", \"\",'A) Eingabe (Lehrer)'!AY88)","v":""},{"$f":"IF('A) Eingabe (Lehrer)'!AZ88=\"\", \"\",'A) Eingabe (Lehrer)'!AZ88)","v":""},{"$f":"IF('A) Eingabe (Lehrer)'!BA88=\"\", \"\",'A) Eingabe (Lehrer)'!BA88)","v":""},{"$f":"IF('A) Eingabe (Lehrer)'!BB88=\"\", \"\",'A) Eingabe (Lehrer)'!BB88)","v":""},{"$f":"IF('A) Eingabe (Lehrer)'!BC88=\"\", \"\",'A) Eingabe (Lehrer)'!BC88)","v":""},{"$f":"IF('A) Eingabe (Lehrer)'!BD88=\"\", \"\",'A) Eingabe (Lehrer)'!BD88)","v":""},{"$f":"IF('A) Eingabe (Lehrer)'!BE88=\"\", \"\",'A) Eingabe (Lehrer)'!BE88)","v":""},{"$f":"IF('A) Eingabe (Lehrer)'!BF88=\"\", \"\",'A) Eingabe (Lehrer)'!BF88)","v":""},{"$f":"IF('A) Eingabe (Lehrer)'!BG88=\"\", \"\",'A) Eingabe (Lehrer)'!BG88)","v":""},{"$f":"IF('A) Eingabe (Lehrer)'!BH88=\"\", \"\",'A) Eingabe (Lehrer)'!BH88)","v":""},{"$f":"IF('A) Eingabe (Lehrer)'!BI88=\"\", \"\",'A) Eingabe (Lehrer)'!BI88)","v":""},{"$f":"IF('A) Eingabe (Lehrer)'!BJ88=\"\", \"\",'A) Eingabe (Lehrer)'!BJ88)","v":""},{"$f":"IF('A) Eingabe (Lehrer)'!BK88=\"\", \"\",'A) Eingabe (Lehrer)'!BK88)","v":""}]
["Item 73",{"$f":"IF('A) Eingabe (Lehrer)'!C89=\"\", \"\",'A) Eingabe (Lehrer)'!C89)","v":""},{"$f":"IF('A) Eingabe (Lehrer)'!D89=\"\", \"\",'A) Eingabe (Lehrer)'!D89)","v":""},{"$f":"IF('A) Eingabe (Lehrer)'!E89=\"\", \"\",'A) Eingabe (Lehrer)'!E89)","v":""},{"$f":"IF('A) Eingabe (Lehrer)'!F89=\"\", \"\",'A) Eingabe (Lehrer)'!F89)","v":""},{"$f":"IF('A) Eingabe (Lehrer)'!G89=\"\", \"\",'A) Eingabe (Lehrer)'!G89)","v":""},{"$f":"IF('A) Eingabe (Lehrer)'!H89=\"\", \"\",'A) Eingabe (Lehrer)'!H89)","v":""},{"$f":"IF('A) Eingabe (Lehrer)'!I89=\"\", \"\",'A) Eingabe (Lehrer)'!I89)","v":""},{"$f":"IF('A) Eingabe (Lehrer)'!J89=\"\", \"\",'A) Eingabe (Lehrer)'!J89)","v":""},{"$f":"IF('A) Eingabe (Lehrer)'!K89=\"\", \"\",'A) Eingabe (Lehrer)'!K89)","v":""},{"$f":"IF('A) Eingabe (Lehrer)'!L89=\"\", \"\",'A) Eingabe (Lehrer)'!L89)","v":""},{"$f":"IF('A) Eingabe (Lehrer)'!M89=\"\", \"\",'A) Eingabe (Lehrer)'!M89)","v":""},{"$f":"IF('A) Eingabe (Lehrer)'!N89=\"\", \"\",'A) Eingabe (Lehrer)'!N89)","v":""},{"$f":"IF('A) Eingabe (Lehrer)'!O89=\"\", \"\",'A) Eingabe (Lehrer)'!O89)","v":""},{"$f":"IF('A) Eingabe (Lehrer)'!P89=\"\", \"\",'A) Eingabe (Lehrer)'!P89)","v":""},{"$f":"IF('A) Eingabe (Lehrer)'!Q89=\"\", \"\",'A) Eingabe (Lehrer)'!Q89)","v":""},{"$f":"IF('A) Eingabe (Lehrer)'!R89=\"\", \"\",'A) Eingabe (Lehrer)'!R89)","v":""},{"$f":"IF('A) Eingabe (Lehrer)'!S89=\"\", \"\",'A) Eingabe (Lehrer)'!S89)","v":""},{"$f":"IF('A) Eingabe (Lehrer)'!T89=\"\", \"\",'A) Eingabe (Lehrer)'!T89)","v":""},{"$f":"IF('A) Eingabe (Lehrer)'!U89=\"\", \"\",'A) Eingabe (Lehrer)'!U89)","v":""},{"$f":"IF('A) Eingabe (Lehrer)'!V89=\"\", \"\",'A) Eingabe (Lehrer)'!V89)","v":""},{"$f":"IF('A) Eingabe (Lehrer)'!W89=\"\", \"\",'A) Eingabe (Lehrer)'!W89)","v":""},{"$f":"IF('A) Eingabe (Lehrer)'!X89=\"\", \"\",'A) Eingabe (Lehrer)'!X89)","v":""},{"$f":"IF('A) Eingabe (Lehrer)'!Y89=\"\", \"\",'A) Eingabe (Lehrer)'!Y89)","v":""},{"$f":"IF('A) Eingabe (Lehrer)'!Z89=\"\", \"\",'A) Eingabe (Lehrer)'!Z89)","v":""},{"$f":"IF('A) Eingabe (Lehrer)'!AA89=\"\", \"\",'A) Eingabe (Lehrer)'!AA89)","v":""},{"$f":"IF('A) Eingabe (Lehrer)'!AB89=\"\", \"\",'A) Eingabe (Lehrer)'!AB89)","v":""},{"$f":"IF('A) Eingabe (Lehrer)'!AC89=\"\", \"\",'A) Eingabe (Lehrer)'!AC89)","v":""},{"$f":"IF('A) Eingabe (Lehrer)'!AD89=\"\", \"\",'A) Eingabe (Lehrer)'!AD89)","v":""},{"$f":"IF('A) Eingabe (Lehrer)'!AE89=\"\", \"\",'A) Eingabe (Lehrer)'!AE89)","v":""},{"$f":"IF('A) Eingabe (Lehrer)'!AF89=\"\", \"\",'A) Eingabe (Lehrer)'!AF89)","v":""},{"$f":"IF('A) Eingabe (Lehrer)'!AG89=\"\", \"\",'A) Eingabe (Lehrer)'!AG89)","v":""},{"$f":"IF('A) Eingabe (Lehrer)'!AH89=\"\", \"\",'A) Eingabe (Lehrer)'!AH89)","v":""},{"$f":"IF('A) Eingabe (Lehrer)'!AI89=\"\", \"\",'A) Eingabe (Lehrer)'!AI89)","v":""},{"$f":"IF('A) Eingabe (Lehrer)'!AJ89=\"\", \"\",'A) Eingabe (Lehrer)'!AJ89)","v":""},{"$f":"IF('A) Eingabe (Lehrer)'!AK89=\"\", \"\",'A) Eingabe (Lehrer)'!AK89)","v":""},{"$f":"IF('A) Eingabe (Lehrer)'!AL89=\"\", \"\",'A) Eingabe (Lehrer)'!AL89)","v":""},{"$f":"IF('A) Eingabe (Lehrer)'!AM89=\"\", \"\",'A) Eingabe (Lehrer)'!AM89)","v":""},{"$f":"IF('A) Eingabe (Lehrer)'!AN89=\"\", \"\",'A) Eingabe (Lehrer)'!AN89)","v":""},{"$f":"IF('A) Eingabe (Lehrer)'!AO89=\"\", \"\",'A) Eingabe (Lehrer)'!AO89)","v":""},{"$f":"IF('A) Eingabe (Lehrer)'!AP89=\"\", \"\",'A) Eingabe (Lehrer)'!AP89)","v":""},{"$f":"IF('A) Eingabe (Lehrer)'!AQ89=\"\", \"\",'A) Eingabe (Lehrer)'!AQ89)","v":""},{"$f":"IF('A) Eingabe (Lehrer)'!AR89=\"\", \"\",'A) Eingabe (Lehrer)'!AR89)","v":""},{"$f":"IF('A) Eingabe (Lehrer)'!AS89=\"\", \"\",'A) Eingabe (Lehrer)'!AS89)","v":""},{"$f":"IF('A) Eingabe (Lehrer)'!AT89=\"\", \"\",'A) Eingabe (Lehrer)'!AT89)","v":""},{"$f":"IF('A) Eingabe (Lehrer)'!AU89=\"\", \"\",'A) Eingabe (Lehrer)'!AU89)","v":""},{"$f":"IF('A) Eingabe (Lehrer)'!AV89=\"\", \"\",'A) Eingabe (Lehrer)'!AV89)","v":""},{"$f":"IF('A) Eingabe (Lehrer)'!AW89=\"\", \"\",'A) Eingabe (Lehrer)'!AW89)","v":""},{"$f":"IF('A) Eingabe (Lehrer)'!AX89=\"\", \"\",'A) Eingabe (Lehrer)'!AX89)","v":""},{"$f":"IF('A) Eingabe (Lehrer)'!AY89=\"\", \"\",'A) Eingabe (Lehrer)'!AY89)","v":""},{"$f":"IF('A) Eingabe (Lehrer)'!AZ89=\"\", \"\",'A) Eingabe (Lehrer)'!AZ89)","v":""},{"$f":"IF('A) Eingabe (Lehrer)'!BA89=\"\", \"\",'A) Eingabe (Lehrer)'!BA89)","v":""},{"$f":"IF('A) Eingabe (Lehrer)'!BB89=\"\", \"\",'A) Eingabe (Lehrer)'!BB89)","v":""},{"$f":"IF('A) Eingabe (Lehrer)'!BC89=\"\", \"\",'A) Eingabe (Lehrer)'!BC89)","v":""},{"$f":"IF('A) Eingabe (Lehrer)'!BD89=\"\", \"\",'A) Eingabe (Lehrer)'!BD89)","v":""},{"$f":"IF('A) Eingabe (Lehrer)'!BE89=\"\", \"\",'A) Eingabe (Lehrer)'!BE89)","v":""},{"$f":"IF('A) Eingabe (Lehrer)'!BF89=\"\", \"\",'A) Eingabe (Lehrer)'!BF89)","v":""},{"$f":"IF('A) Eingabe (Lehrer)'!BG89=\"\", \"\",'A) Eingabe (Lehrer)'!BG89)","v":""},{"$f":"IF('A) Eingabe (Lehrer)'!BH89=\"\", \"\",'A) Eingabe (Lehrer)'!BH89)","v":""},{"$f":"IF('A) Eingabe (Lehrer)'!BI89=\"\", \"\",'A) Eingabe (Lehrer)'!BI89)","v":""},{"$f":"IF('A) Eingabe (Lehrer)'!BJ89=\"\", \"\",'A) Eingabe (Lehrer)'!BJ89)","v":""},{"$f":"IF('A) Eingabe (Lehrer)'!BK89=\"\", \"\",'A) Eingabe (Lehrer)'!BK89)","v":""}]
["Item 74",{"$f":"IF('A) Eingabe (Lehrer)'!C90=\"\", \"\",'A) Eingabe (Lehrer)'!C90)","v":""},{"$f":"IF('A) Eingabe (Lehrer)'!D90=\"\", \"\",'A) Eingabe (Lehrer)'!D90)","v":""},{"$f":"IF('A) Eingabe (Lehrer)'!E90=\"\", \"\",'A) Eingabe (Lehrer)'!E90)","v":""},{"$f":"IF('A) Eingabe (Lehrer)'!F90=\"\", \"\",'A) Eingabe (Lehrer)'!F90)","v":""},{"$f":"IF('A) Eingabe (Lehrer)'!G90=\"\", \"\",'A) Eingabe (Lehrer)'!G90)","v":""},{"$f":"IF('A) Eingabe (Lehrer)'!H90=\"\", \"\",'A) Eingabe (Lehrer)'!H90)","v":""},{"$f":"IF('A) Eingabe (Lehrer)'!I90=\"\", \"\",'A) Eingabe (Lehrer)'!I90)","v":""},{"$f":"IF('A) Eingabe (Lehrer)'!J90=\"\", \"\",'A) Eingabe (Lehrer)'!J90)","v":""},{"$f":"IF('A) Eingabe (Lehrer)'!K90=\"\", \"\",'A) Eingabe (Lehrer)'!K90)","v":""},{"$f":"IF('A) Eingabe (Lehrer)'!L90=\"\", \"\",'A) Eingabe (Lehrer)'!L90)","v":""},{"$f":"IF('A) Eingabe (Lehrer)'!M90=\"\", \"\",'A) Eingabe (Lehrer)'!M90)","v":""},{"$f":"IF('A) Eingabe (Lehrer)'!N90=\"\", \"\",'A) Eingabe (Lehrer)'!N90)","v":""},{"$f":"IF('A) Eingabe (Lehrer)'!O90=\"\", \"\",'A) Eingabe (Lehrer)'!O90)","v":""},{"$f":"IF('A) Eingabe (Lehrer)'!P90=\"\", \"\",'A) Eingabe (Lehrer)'!P90)","v":""},{"$f":"IF('A) Eingabe (Lehrer)'!Q90=\"\", \"\",'A) Eingabe (Lehrer)'!Q90)","v":""},{"$f":"IF('A) Eingabe (Lehrer)'!R90=\"\", \"\",'A) Eingabe (Lehrer)'!R90)","v":""},{"$f":"IF('A) Eingabe (Lehrer)'!S90=\"\", \"\",'A) Eingabe (Lehrer)'!S90)","v":""},{"$f":"IF('A) Eingabe (Lehrer)'!T90=\"\", \"\",'A) Eingabe (Lehrer)'!T90)","v":""},{"$f":"IF('A) Eingabe (Lehrer)'!U90=\"\", \"\",'A) Eingabe (Lehrer)'!U90)","v":""},{"$f":"IF('A) Eingabe (Lehrer)'!V90=\"\", \"\",'A) Eingabe (Lehrer)'!V90)","v":""},{"$f":"IF('A) Eingabe (Lehrer)'!W90=\"\", \"\",'A) Eingabe (Lehrer)'!W90)","v":""},{"$f":"IF('A) Eingabe (Lehrer)'!X90=\"\", \"\",'A) Eingabe (Lehrer)'!X90)","v":""},{"$f":"IF('A) Eingabe (Lehrer)'!Y90=\"\", \"\",'A) Eingabe (Lehrer)'!Y90)","v":""},{"$f":"IF('A) Eingabe (Lehrer)'!Z90=\"\", \"\",'A) Eingabe (Lehrer)'!Z90)","v":""},{"$f":"IF('A) Eingabe (Lehrer)'!AA90=\"\", \"\",'A) Eingabe (Lehrer)'!AA90)","v":""},{"$f":"IF('A) Eingabe (Lehrer)'!AB90=\"\", \"\",'A) Eingabe (Lehrer)'!AB90)","v":""},{"$f":"IF('A) Eingabe (Lehrer)'!AC90=\"\", \"\",'A) Eingabe (Lehrer)'!AC90)","v":""},{"$f":"IF('A) Eingabe (Lehrer)'!AD90=\"\", \"\",'A) Eingabe (Lehrer)'!AD90)","v":""},{"$f":"IF('A) Eingabe (Lehrer)'!AE90=\"\", \"\",'A) Eingabe (Lehrer)'!AE90)","v":""},{"$f":"IF('A) Eingabe (Lehrer)'!AF90=\"\", \"\",'A) Eingabe (Lehrer)'!AF90)","v":""},{"$f":"IF('A) Eingabe (Lehrer)'!AG90=\"\", \"\",'A) Eingabe (Lehrer)'!AG90)","v":""},{"$f":"IF('A) Eingabe (Lehrer)'!AH90=\"\", \"\",'A) Eingabe (Lehrer)'!AH90)","v":""},{"$f":"IF('A) Eingabe (Lehrer)'!AI90=\"\", \"\",'A) Eingabe (Lehrer)'!AI90)","v":""},{"$f":"IF('A) Eingabe (Lehrer)'!AJ90=\"\", \"\",'A) Eingabe (Lehrer)'!AJ90)","v":""},{"$f":"IF('A) Eingabe (Lehrer)'!AK90=\"\", \"\",'A) Eingabe (Lehrer)'!AK90)","v":""},{"$f":"IF('A) Eingabe (Lehrer)'!AL90=\"\", \"\",'A) Eingabe (Lehrer)'!AL90)","v":""},{"$f":"IF('A) Eingabe (Lehrer)'!AM90=\"\", \"\",'A) Eingabe (Lehrer)'!AM90)","v":""},{"$f":"IF('A) Eingabe (Lehrer)'!AN90=\"\", \"\",'A) Eingabe (Lehrer)'!AN90)","v":""},{"$f":"IF('A) Eingabe (Lehrer)'!AO90=\"\", \"\",'A) Eingabe (Lehrer)'!AO90)","v":""},{"$f":"IF('A) Eingabe (Lehrer)'!AP90=\"\", \"\",'A) Eingabe (Lehrer)'!AP90)","v":""},{"$f":"IF('A) Eingabe (Lehrer)'!AQ90=\"\", \"\",'A) Eingabe (Lehrer)'!AQ90)","v":""},{"$f":"IF('A) Eingabe (Lehrer)'!AR90=\"\", \"\",'A) Eingabe (Lehrer)'!AR90)","v":""},{"$f":"IF('A) Eingabe (Lehrer)'!AS90=\"\", \"\",'A) Eingabe (Lehrer)'!AS90)","v":""},{"$f":"IF('A) Eingabe (Lehrer)'!AT90=\"\", \"\",'A) Eingabe (Lehrer)'!AT90)","v":""},{"$f":"IF('A) Eingabe (Lehrer)'!AU90=\"\", \"\",'A) Eingabe (Lehrer)'!AU90)","v":""},{"$f":"IF('A) Eingabe (Lehrer)'!AV90=\"\", \"\",'A) Eingabe (Lehrer)'!AV90)","v":""},{"$f":"IF('A) Eingabe (Lehrer)'!AW90=\"\", \"\",'A) Eingabe (Lehrer)'!AW90)","v":""},{"$f":"IF('A) Eingabe (Lehrer)'!AX90=\"\", \"\",'A) Eingabe (Lehrer)'!AX90)","v":""},{"$f":"IF('A) Eingabe (Lehrer)'!AY90=\"\", \"\",'A) Eingabe (Lehrer)'!AY90)","v":""},{"$f":"IF('A) Eingabe (Lehrer)'!AZ90=\"\", \"\",'A) Eingabe (Lehrer)'!AZ90)","v":""},{"$f":"IF('A) Eingabe (Lehrer)'!BA90=\"\", \"\",'A) Eingabe (Lehrer)'!BA90)","v":""},{"$f":"IF('A) Eingabe (Lehrer)'!BB90=\"\", \"\",'A) Eingabe (Lehrer)'!BB90)","v":""},{"$f":"IF('A) Eingabe (Lehrer)'!BC90=\"\", \"\",'A) Eingabe (Lehrer)'!BC90)","v":""},{"$f":"IF('A) Eingabe (Lehrer)'!BD90=\"\", \"\",'A) Eingabe (Lehrer)'!BD90)","v":""},{"$f":"IF('A) Eingabe (Lehrer)'!BE90=\"\", \"\",'A) Eingabe (Lehrer)'!BE90)","v":""},{"$f":"IF('A) Eingabe (Lehrer)'!BF90=\"\", \"\",'A) Eingabe (Lehrer)'!BF90)","v":""},{"$f":"IF('A) Eingabe (Lehrer)'!BG90=\"\", \"\",'A) Eingabe (Lehrer)'!BG90)","v":""},{"$f":"IF('A) Eingabe (Lehrer)'!BH90=\"\", \"\",'A) Eingabe (Lehrer)'!BH90)","v":""},{"$f":"IF('A) Eingabe (Lehrer)'!BI90=\"\", \"\",'A) Eingabe (Lehrer)'!BI90)","v":""},{"$f":"IF('A) Eingabe (Lehrer)'!BJ90=\"\", \"\",'A) Eingabe (Lehrer)'!BJ90)","v":""},{"$f":"IF('A) Eingabe (Lehrer)'!BK90=\"\", \"\",'A) Eingabe (Lehrer)'!BK90)","v":""}]
["Item 75",{"$f":"IF('A) Eingabe (Lehrer)'!C91=\"\", \"\",'A) Eingabe (Lehrer)'!C91)","v":""},{"$f":"IF('A) Eingabe (Lehrer)'!D91=\"\", \"\",'A) Eingabe (Lehrer)'!D91)","v":""},{"$f":"IF('A) Eingabe (Lehrer)'!E91=\"\", \"\",'A) Eingabe (Lehrer)'!E91)","v":""},{"$f":"IF('A) Eingabe (Lehrer)'!F91=\"\", \"\",'A) Eingabe (Lehrer)'!F91)","v":""},{"$f":"IF('A) Eingabe (Lehrer)'!G91=\"\", \"\",'A) Eingabe (Lehrer)'!G91)","v":""},{"$f":"IF('A) Eingabe (Lehrer)'!H91=\"\", \"\",'A) Eingabe (Lehrer)'!H91)","v":""},{"$f":"IF('A) Eingabe (Lehrer)'!I91=\"\", \"\",'A) Eingabe (Lehrer)'!I91)","v":""},{"$f":"IF('A) Eingabe (Lehrer)'!J91=\"\", \"\",'A) Eingabe (Lehrer)'!J91)","v":""},{"$f":"IF('A) Eingabe (Lehrer)'!K91=\"\", \"\",'A) Eingabe (Lehrer)'!K91)","v":""},{"$f":"IF('A) Eingabe (Lehrer)'!L91=\"\", \"\",'A) Eingabe (Lehrer)'!L91)","v":""},{"$f":"IF('A) Eingabe (Lehrer)'!M91=\"\", \"\",'A) Eingabe (Lehrer)'!M91)","v":""},{"$f":"IF('A) Eingabe (Lehrer)'!N91=\"\", \"\",'A) Eingabe (Lehrer)'!N91)","v":""},{"$f":"IF('A) Eingabe (Lehrer)'!O91=\"\", \"\",'A) Eingabe (Lehrer)'!O91)","v":""},{"$f":"IF('A) Eingabe (Lehrer)'!P91=\"\", \"\",'A) Eingabe (Lehrer)'!P91)","v":""},{"$f":"IF('A) Eingabe (Lehrer)'!Q91=\"\", \"\",'A) Eingabe (Lehrer)'!Q91)","v":""},{"$f":"IF('A) Eingabe (Lehrer)'!R91=\"\", \"\",'A) Eingabe (Lehrer)'!R91)","v":""},{"$f":"IF('A) Eingabe (Lehrer)'!S91=\"\", \"\",'A) Eingabe (Lehrer)'!S91)","v":""},{"$f":"IF('A) Eingabe (Lehrer)'!T91=\"\", \"\",'A) Eingabe (Lehrer)'!T91)","v":""},{"$f":"IF('A) Eingabe (Lehrer)'!U91=\"\", \"\",'A) Eingabe (Lehrer)'!U91)","v":""},{"$f":"IF('A) Eingabe (Lehrer)'!V91=\"\", \"\",'A) Eingabe (Lehrer)'!V91)","v":""},{"$f":"IF('A) Eingabe (Lehrer)'!W91=\"\", \"\",'A) Eingabe (Lehrer)'!W91)","v":""},{"$f":"IF('A) Eingabe (Lehrer)'!X91=\"\", \"\",'A) Eingabe (Lehrer)'!X91)","v":""},{"$f":"IF('A) Eingabe (Lehrer)'!Y91=\"\", \"\",'A) Eingabe (Lehrer)'!Y91)","v":""},{"$f":"IF('A) Eingabe (Lehrer)'!Z91=\"\", \"\",'A) Eingabe (Lehrer)'!Z91)","v":""},{"$f":"IF('A) Eingabe (Lehrer)'!AA91=\"\", \"\",'A) Eingabe (Lehrer)'!AA91)","v":""},{"$f":"IF('A) Eingabe (Lehrer)'!AB91=\"\", \"\",'A) Eingabe (Lehrer)'!AB91)","v":""},{"$f":"IF('A) Eingabe (Lehrer)'!AC91=\"\", \"\",'A) Eingabe (Lehrer)'!AC91)","v":""},{"$f":"IF('A) Eingabe (Lehrer)'!AD91=\"\", \"\",'A) Eingabe (Lehrer)'!AD91)","v":""},{"$f":"IF('A) Eingabe (Lehrer)'!AE91=\"\", \"\",'A) Eingabe (Lehrer)'!AE91)","v":""},{"$f":"IF('A) Eingabe (Lehrer)'!AF91=\"\", \"\",'A) Eingabe (Lehrer)'!AF91)","v":""},{"$f":"IF('A) Eingabe (Lehrer)'!AG91=\"\", \"\",'A) Eingabe (Lehrer)'!AG91)","v":""},{"$f":"IF('A) Eingabe (Lehrer)'!AH91=\"\", \"\",'A) Eingabe (Lehrer)'!AH91)","v":""},{"$f":"IF('A) Eingabe (Lehrer)'!AI91=\"\", \"\",'A) Eingabe (Lehrer)'!AI91)","v":""},{"$f":"IF('A) Eingabe (Lehrer)'!AJ91=\"\", \"\",'A) Eingabe (Lehrer)'!AJ91)","v":""},{"$f":"IF('A) Eingabe (Lehrer)'!AK91=\"\", \"\",'A) Eingabe (Lehrer)'!AK91)","v":""},{"$f":"IF('A) Eingabe (Lehrer)'!AL91=\"\", \"\",'A) Eingabe (Lehrer)'!AL91)","v":""},{"$f":"IF('A) Eingabe (Lehrer)'!AM91=\"\", \"\",'A) Eingabe (Lehrer)'!AM91)","v":""},{"$f":"IF('A) Eingabe (Lehrer)'!AN91=\"\", \"\",'A) Eingabe (Lehrer)'!AN91)","v":""},{"$f":"IF('A) Eingabe (Lehrer)'!AO91=\"\", \"\",'A) Eingabe (Lehrer)'!AO91)","v":""},{"$f":"IF('A) Eingabe (Lehrer)'!AP91=\"\", \"\",'A) Eingabe (Lehrer)'!AP91)","v":""},{"$f":"IF('A) Eingabe (Lehrer)'!AQ91=\"\", \"\",'A) Eingabe (Lehrer)'!AQ91)","v":""},{"$f":"IF('A) Eingabe (Lehrer)'!AR91=\"\", \"\",'A) Eingabe (Lehrer)'!AR91)","v":""},{"$f":"IF('A) Eingabe (Lehrer)'!AS91=\"\", \"\",'A) Eingabe (Lehrer)'!AS91)","v":""},{"$f":"IF('A) Eingabe (Lehrer)'!AT91=\"\", \"\",'A) Eingabe (Lehrer)'!AT91)","v":""},{"$f":"IF('A) Eingabe (Lehrer)'!AU91=\"\", \"\",'A) Eingabe (Lehrer)'!AU91)","v":""},{"$f":"IF('A) Eingabe (Lehrer)'!AV91=\"\", \"\",'A) Eingabe (Lehrer)'!AV91)","v":""},{"$f":"IF('A) Eingabe (Lehrer)'!AW91=\"\", \"\",'A) Eingabe (Lehrer)'!AW91)","v":""},{"$f":"IF('A) Eingabe (Lehrer)'!AX91=\"\", \"\",'A) Eingabe (Lehrer)'!AX91)","v":""},{"$f":"IF('A) Eingabe (Lehrer)'!AY91=\"\", \"\",'A) Eingabe (Lehrer)'!AY91)","v":""},{"$f":"IF('A) Eingabe (Lehrer)'!AZ91=\"\", \"\",'A) Eingabe (Lehrer)'!AZ91)","v":""},{"$f":"IF('A) Eingabe (Lehrer)'!BA91=\"\", \"\",'A) Eingabe (Lehrer)'!BA91)","v":""},{"$f":"IF('A) Eingabe (Lehrer)'!BB91=\"\", \"\",'A) Eingabe (Lehrer)'!BB91)","v":""},{"$f":"IF('A) Eingabe (Lehrer)'!BC91=\"\", \"\",'A) Eingabe (Lehrer)'!BC91)","v":""},{"$f":"IF('A) Eingabe (Lehrer)'!BD91=\"\", \"\",'A) Eingabe (Lehrer)'!BD91)","v":""},{"$f":"IF('A) Eingabe (Lehrer)'!BE91=\"\", \"\",'A) Eingabe (Lehrer)'!BE91)","v":""},{"$f":"IF('A) Eingabe (Lehrer)'!BF91=\"\", \"\",'A) Eingabe (Lehrer)'!BF91)","v":""},{"$f":"IF('A) Eingabe (Lehrer)'!BG91=\"\", \"\",'A) Eingabe (Lehrer)'!BG91)","v":""},{"$f":"IF('A) Eingabe (Lehrer)'!BH91=\"\", \"\",'A) Eingabe (Lehrer)'!BH91)","v":""},{"$f":"IF('A) Eingabe (Lehrer)'!BI91=\"\", \"\",'A) Eingabe (Lehrer)'!BI91)","v":""},{"$f":"IF('A) Eingabe (Lehrer)'!BJ91=\"\", \"\",'A) Eingabe (Lehrer)'!BJ91)","v":""},{"$f":"IF('A) Eingabe (Lehrer)'!BK91=\"\", \"\",'A) Eingabe (Lehrer)'!BK91)","v":""}]
["Item 76",{"$f":"IF('A) Eingabe (Lehrer)'!C92=\"\", \"\",'A) Eingabe (Lehrer)'!C92)","v":""},{"$f":"IF('A) Eingabe (Lehrer)'!D92=\"\", \"\",'A) Eingabe (Lehrer)'!D92)","v":""},{"$f":"IF('A) Eingabe (Lehrer)'!E92=\"\", \"\",'A) Eingabe (Lehrer)'!E92)","v":""},{"$f":"IF('A) Eingabe (Lehrer)'!F92=\"\", \"\",'A) Eingabe (Lehrer)'!F92)","v":""},{"$f":"IF('A) Eingabe (Lehrer)'!G92=\"\", \"\",'A) Eingabe (Lehrer)'!G92)","v":""},{"$f":"IF('A) Eingabe (Lehrer)'!H92=\"\", \"\",'A) Eingabe (Lehrer)'!H92)","v":""},{"$f":"IF('A) Eingabe (Lehrer)'!I92=\"\", \"\",'A) Eingabe (Lehrer)'!I92)","v":""},{"$f":"IF('A) Eingabe (Lehrer)'!J92=\"\", \"\",'A) Eingabe (Lehrer)'!J92)","v":""},{"$f":"IF('A) Eingabe (Lehrer)'!K92=\"\", \"\",'A) Eingabe (Lehrer)'!K92)","v":""},{"$f":"IF('A) Eingabe (Lehrer)'!L92=\"\", \"\",'A) Eingabe (Lehrer)'!L92)","v":""},{"$f":"IF('A) Eingabe (Lehrer)'!M92=\"\", \"\",'A) Eingabe (Lehrer)'!M92)","v":""},{"$f":"IF('A) Eingabe (Lehrer)'!N92=\"\", \"\",'A) Eingabe (Lehrer)'!N92)","v":""},{"$f":"IF('A) Eingabe (Lehrer)'!O92=\"\", \"\",'A) Eingabe (Lehrer)'!O92)","v":""},{"$f":"IF('A) Eingabe (Lehrer)'!P92=\"\", \"\",'A) Eingabe (Lehrer)'!P92)","v":""},{"$f":"IF('A) Eingabe (Lehrer)'!Q92=\"\", \"\",'A) Eingabe (Lehrer)'!Q92)","v":""},{"$f":"IF('A) Eingabe (Lehrer)'!R92=\"\", \"\",'A) Eingabe (Lehrer)'!R92)","v":""},{"$f":"IF('A) Eingabe (Lehrer)'!S92=\"\", \"\",'A) Eingabe (Lehrer)'!S92)","v":""},{"$f":"IF('A) Eingabe (Lehrer)'!T92=\"\", \"\",'A) Eingabe (Lehrer)'!T92)","v":""},{"$f":"IF('A) Eingabe (Lehrer)'!U92=\"\", \"\",'A) Eingabe (Lehrer)'!U92)","v":""},{"$f":"IF('A) Eingabe (Lehrer)'!V92=\"\", \"\",'A) Eingabe (Lehrer)'!V92)","v":""},{"$f":"IF('A) Eingabe (Lehrer)'!W92=\"\", \"\",'A) Eingabe (Lehrer)'!W92)","v":""},{"$f":"IF('A) Eingabe (Lehrer)'!X92=\"\", \"\",'A) Eingabe (Lehrer)'!X92)","v":""},{"$f":"IF('A) Eingabe (Lehrer)'!Y92=\"\", \"\",'A) Eingabe (Lehrer)'!Y92)","v":""},{"$f":"IF('A) Eingabe (Lehrer)'!Z92=\"\", \"\",'A) Eingabe (Lehrer)'!Z92)","v":""},{"$f":"IF('A) Eingabe (Lehrer)'!AA92=\"\", \"\",'A) Eingabe (Lehrer)'!AA92)","v":""},{"$f":"IF('A) Eingabe (Lehrer)'!AB92=\"\", \"\",'A) Eingabe (Lehrer)'!AB92)","v":""},{"$f":"IF('A) Eingabe (Lehrer)'!AC92=\"\", \"\",'A) Eingabe (Lehrer)'!AC92)","v":""},{"$f":"IF('A) Eingabe (Lehrer)'!AD92=\"\", \"\",'A) Eingabe (Lehrer)'!AD92)","v":""},{"$f":"IF('A) Eingabe (Lehrer)'!AE92=\"\", \"\",'A) Eingabe (Lehrer)'!AE92)","v":""},{"$f":"IF('A) Eingabe (Lehrer)'!AF92=\"\", \"\",'A) Eingabe (Lehrer)'!AF92)","v":""},{"$f":"IF('A) Eingabe (Lehrer)'!AG92=\"\", \"\",'A) Eingabe (Lehrer)'!AG92)","v":""},{"$f":"IF('A) Eingabe (Lehrer)'!AH92=\"\", \"\",'A) Eingabe (Lehrer)'!AH92)","v":""},{"$f":"IF('A) Eingabe (Lehrer)'!AI92=\"\", \"\",'A) Eingabe (Lehrer)'!AI92)","v":""},{"$f":"IF('A) Eingabe (Lehrer)'!AJ92=\"\", \"\",'A) Eingabe (Lehrer)'!AJ92)","v":""},{"$f":"IF('A) Eingabe (Lehrer)'!AK92=\"\", \"\",'A) Eingabe (Lehrer)'!AK92)","v":""},{"$f":"IF('A) Eingabe (Lehrer)'!AL92=\"\", \"\",'A) Eingabe (Lehrer)'!AL92)","v":""},{"$f":"IF('A) Eingabe (Lehrer)'!AM92=\"\", \"\",'A) Eingabe (Lehrer)'!AM92)","v":""},{"$f":"IF('A) Eingabe (Lehrer)'!AN92=\"\", \"\",'A) Eingabe (Lehrer)'!AN92)","v":""},{"$f":"IF('A) Eingabe (Lehrer)'!AO92=\"\", \"\",'A) Eingabe (Lehrer)'!AO92)","v":""},{"$f":"IF('A) Eingabe (Lehrer)'!AP92=\"\", \"\",'A) Eingabe (Lehrer)'!AP92)","v":""},{"$f":"IF('A) Eingabe (Lehrer)'!AQ92=\"\", \"\",'A) Eingabe (Lehrer)'!AQ92)","v":""},{"$f":"IF('A) Eingabe (Lehrer)'!AR92=\"\", \"\",'A) Eingabe (Lehrer)'!AR92)","v":""},{"$f":"IF('A) Eingabe (Lehrer)'!AS92=\"\", \"\",'A) Eingabe (Lehrer)'!AS92)","v":""},{"$f":"IF('A) Eingabe (Lehrer)'!AT92=\"\", \"\",'A) Eingabe (Lehrer)'!AT92)","v":""},{"$f":"IF('A) Eingabe (Lehrer)'!AU92=\"\", \"\",'A) Eingabe (Lehrer)'!AU92)","v":""},{"$f":"IF('A) Eingabe (Lehrer)'!AV92=\"\", \"\",'A) Eingabe (Lehrer)'!AV92)","v":""},{"$f":"IF('A) Eingabe (Lehrer)'!AW92=\"\", \"\",'A) Eingabe (Lehrer)'!AW92)","v":""},{"$f":"IF('A) Eingabe (Lehrer)'!AX92=\"\", \"\",'A) Eingabe (Lehrer)'!AX92)","v":""},{"$f":"IF('A) Eingabe (Lehrer)'!AY92=\"\", \"\",'A) Eingabe (Lehrer)'!AY92)","v":""},{"$f":"IF('A) Eingabe (Lehrer)'!AZ92=\"\", \"\",'A) Eingabe (Lehrer)'!AZ92)","v":""},{"$f":"IF('A) Eingabe (Lehrer)'!BA92=\"\", \"\",'A) Eingabe (Lehrer)'!BA92)","v":""},{"$f":"IF('A) Eingabe (Lehrer)'!BB92=\"\", \"\",'A) Eingabe (Lehrer)'!BB92)","v":""},{"$f":"IF('A) Eingabe (Lehrer)'!BC92=\"\", \"\",'A) Eingabe (Lehrer)'!BC92)","v":""},{"$f":"IF('A) Eingabe (Lehrer)'!BD92=\"\", \"\",'A) Eingabe (Lehrer)'!BD92)","v":""},{"$f":"IF('A) Eingabe (Lehrer)'!BE92=\"\", \"\",'A) Eingabe (Lehrer)'!BE92)","v":""},{"$f":"IF('A) Eingabe (Lehrer)'!BF92=\"\", \"\",'A) Eingabe (Lehrer)'!BF92)","v":""},{"$f":"IF('A) Eingabe (Lehrer)'!BG92=\"\", \"\",'A) Eingabe (Lehrer)'!BG92)","v":""},{"$f":"IF('A) Eingabe (Lehrer)'!BH92=\"\", \"\",'A) Eingabe (Lehrer)'!BH92)","v":""},{"$f":"IF('A) Eingabe (Lehrer)'!BI92=\"\", \"\",'A) Eingabe (Lehrer)'!BI92)","v":""},{"$f":"IF('A) Eingabe (Lehrer)'!BJ92=\"\", \"\",'A) Eingabe (Lehrer)'!BJ92)","v":""},{"$f":"IF('A) Eingabe (Lehrer)'!BK92=\"\", \"\",'A) Eingabe (Lehrer)'!BK92)","v":""}]
["Item 77",{"$f":"IF('A) Eingabe (Lehrer)'!C93=\"\", \"\",'A) Eingabe (Lehrer)'!C93)","v":""},{"$f":"IF('A) Eingabe (Lehrer)'!D93=\"\", \"\",'A) Eingabe (Lehrer)'!D93)","v":""},{"$f":"IF('A) Eingabe (Lehrer)'!E93=\"\", \"\",'A) Eingabe (Lehrer)'!E93)","v":""},{"$f":"IF('A) Eingabe (Lehrer)'!F93=\"\", \"\",'A) Eingabe (Lehrer)'!F93)","v":""},{"$f":"IF('A) Eingabe (Lehrer)'!G93=\"\", \"\",'A) Eingabe (Lehrer)'!G93)","v":""},{"$f":"IF('A) Eingabe (Lehrer)'!H93=\"\", \"\",'A) Eingabe (Lehrer)'!H93)","v":""},{"$f":"IF('A) Eingabe (Lehrer)'!I93=\"\", \"\",'A) Eingabe (Lehrer)'!I93)","v":""},{"$f":"IF('A) Eingabe (Lehrer)'!J93=\"\", \"\",'A) Eingabe (Lehrer)'!J93)","v":""},{"$f":"IF('A) Eingabe (Lehrer)'!K93=\"\", \"\",'A) Eingabe (Lehrer)'!K93)","v":""},{"$f":"IF('A) Eingabe (Lehrer)'!L93=\"\", \"\",'A) Eingabe (Lehrer)'!L93)","v":""},{"$f":"IF('A) Eingabe (Lehrer)'!M93=\"\", \"\",'A) Eingabe (Lehrer)'!M93)","v":""},{"$f":"IF('A) Eingabe (Lehrer)'!N93=\"\", \"\",'A) Eingabe (Lehrer)'!N93)","v":""},{"$f":"IF('A) Eingabe (Lehrer)'!O93=\"\", \"\",'A) Eingabe (Lehrer)'!O93)","v":""},{"$f":"IF('A) Eingabe (Lehrer)'!P93=\"\", \"\",'A) Eingabe (Lehrer)'!P93)","v":""},{"$f":"IF('A) Eingabe (Lehrer)'!Q93=\"\", \"\",'A) Eingabe (Lehrer)'!Q93)","v":""},{"$f":"IF('A) Eingabe (Lehrer)'!R93=\"\", \"\",'A) Eingabe (Lehrer)'!R93)","v":""},{"$f":"IF('A) Eingabe (Lehrer)'!S93=\"\", \"\",'A) Eingabe (Lehrer)'!S93)","v":""},{"$f":"IF('A) Eingabe (Lehrer)'!T93=\"\", \"\",'A) Eingabe (Lehrer)'!T93)","v":""},{"$f":"IF('A) Eingabe (Lehrer)'!U93=\"\", \"\",'A) Eingabe (Lehrer)'!U93)","v":""},{"$f":"IF('A) Eingabe (Lehrer)'!V93=\"\", \"\",'A) Eingabe (Lehrer)'!V93)","v":""},{"$f":"IF('A) Eingabe (Lehrer)'!W93=\"\", \"\",'A) Eingabe (Lehrer)'!W93)","v":""},{"$f":"IF('A) Eingabe (Lehrer)'!X93=\"\", \"\",'A) Eingabe (Lehrer)'!X93)","v":""},{"$f":"IF('A) Eingabe (Lehrer)'!Y93=\"\", \"\",'A) Eingabe (Lehrer)'!Y93)","v":""},{"$f":"IF('A) Eingabe (Lehrer)'!Z93=\"\", \"\",'A) Eingabe (Lehrer)'!Z93)","v":""},{"$f":"IF('A) Eingabe (Lehrer)'!AA93=\"\", \"\",'A) Eingabe (Lehrer)'!AA93)","v":""},{"$f":"IF('A) Eingabe (Lehrer)'!AB93=\"\", \"\",'A) Eingabe (Lehrer)'!AB93)","v":""},{"$f":"IF('A) Eingabe (Lehrer)'!AC93=\"\", \"\",'A) Eingabe (Lehrer)'!AC93)","v":""},{"$f":"IF('A) Eingabe (Lehrer)'!AD93=\"\", \"\",'A) Eingabe (Lehrer)'!AD93)","v":""},{"$f":"IF('A) Eingabe (Lehrer)'!AE93=\"\", \"\",'A) Eingabe (Lehrer)'!AE93)","v":""},{"$f":"IF('A) Eingabe (Lehrer)'!AF93=\"\", \"\",'A) Eingabe (Lehrer)'!AF93)","v":""},{"$f":"IF('A) Eingabe (Lehrer)'!AG93=\"\", \"\",'A) Eingabe (Lehrer)'!AG93)","v":""},{"$f":"IF('A) Eingabe (Lehrer)'!AH93=\"\", \"\",'A) Eingabe (Lehrer)'!AH93)","v":""},{"$f":"IF('A) Eingabe (Lehrer)'!AI93=\"\", \"\",'A) Eingabe (Lehrer)'!AI93)","v":""},{"$f":"IF('A) Eingabe (Lehrer)'!AJ93=\"\", \"\",'A) Eingabe (Lehrer)'!AJ93)","v":""},{"$f":"IF('A) Eingabe (Lehrer)'!AK93=\"\", \"\",'A) Eingabe (Lehrer)'!AK93)","v":""},{"$f":"IF('A) Eingabe (Lehrer)'!AL93=\"\", \"\",'A) Eingabe (Lehrer)'!AL93)","v":""},{"$f":"IF('A) Eingabe (Lehrer)'!AM93=\"\", \"\",'A) Eingabe (Lehrer)'!AM93)","v":""},{"$f":"IF('A) Eingabe (Lehrer)'!AN93=\"\", \"\",'A) Eingabe (Lehrer)'!AN93)","v":""},{"$f":"IF('A) Eingabe (Lehrer)'!AO93=\"\", \"\",'A) Eingabe (Lehrer)'!AO93)","v":""},{"$f":"IF('A) Eingabe (Lehrer)'!AP93=\"\", \"\",'A) Eingabe (Lehrer)'!AP93)","v":""},{"$f":"IF('A) Eingabe (Lehrer)'!AQ93=\"\", \"\",'A) Eingabe (Lehrer)'!AQ93)","v":""},{"$f":"IF('A) Eingabe (Lehrer)'!AR93=\"\", \"\",'A) Eingabe (Lehrer)'!AR93)","v":""},{"$f":"IF('A) Eingabe (Lehrer)'!AS93=\"\", \"\",'A) Eingabe (Lehrer)'!AS93)","v":""},{"$f":"IF('A) Eingabe (Lehrer)'!AT93=\"\", \"\",'A) Eingabe (Lehrer)'!AT93)","v":""},{"$f":"IF('A) Eingabe (Lehrer)'!AU93=\"\", \"\",'A) Eingabe (Lehrer)'!AU93)","v":""},{"$f":"IF('A) Eingabe (Lehrer)'!AV93=\"\", \"\",'A) Eingabe (Lehrer)'!AV93)","v":""},{"$f":"IF('A) Eingabe (Lehrer)'!AW93=\"\", \"\",'A) Eingabe (Lehrer)'!AW93)","v":""},{"$f":"IF('A) Eingabe (Lehrer)'!AX93=\"\", \"\",'A) Eingabe (Lehrer)'!AX93)","v":""},{"$f":"IF('A) Eingabe (Lehrer)'!AY93=\"\", \"\",'A) Eingabe (Lehrer)'!AY93)","v":""},{"$f":"IF('A) Eingabe (Lehrer)'!AZ93=\"\", \"\",'A) Eingabe (Lehrer)'!AZ93)","v":""},{"$f":"IF('A) Eingabe (Lehrer)'!BA93=\"\", \"\",'A) Eingabe (Lehrer)'!BA93)","v":""},{"$f":"IF('A) Eingabe (Lehrer)'!BB93=\"\", \"\",'A) Eingabe (Lehrer)'!BB93)","v":""},{"$f":"IF('A) Eingabe (Lehrer)'!BC93=\"\", \"\",'A) Eingabe (Lehrer)'!BC93)","v":""},{"$f":"IF('A) Eingabe (Lehrer)'!BD93=\"\", \"\",'A) Eingabe (Lehrer)'!BD93)","v":""},{"$f":"IF('A) Eingabe (Lehrer)'!BE93=\"\", \"\",'A) Eingabe (Lehrer)'!BE93)","v":""},{"$f":"IF('A) Eingabe (Lehrer)'!BF93=\"\", \"\",'A) Eingabe (Lehrer)'!BF93)","v":""},{"$f":"IF('A) Eingabe (Lehrer)'!BG93=\"\", \"\",'A) Eingabe (Lehrer)'!BG93)","v":""},{"$f":"IF('A) Eingabe (Lehrer)'!BH93=\"\", \"\",'A) Eingabe (Lehrer)'!BH93)","v":""},{"$f":"IF('A) Eingabe (Lehrer)'!BI93=\"\", \"\",'A) Eingabe (Lehrer)'!BI93)","v":""},{"$f":"IF('A) Eingabe (Lehrer)'!BJ93=\"\", \"\",'A) Eingabe (Lehrer)'!BJ93)","v":""},{"$f":"IF('A) Eingabe (Lehrer)'!BK93=\"\", \"\",'A) Eingabe (Lehrer)'!BK93)","v":""}]
["Item 78",{"$f":"IF('A) Eingabe (Lehrer)'!C94=\"\", \"\",'A) Eingabe (Lehrer)'!C94)","v":""},{"$f":"IF('A) Eingabe (Lehrer)'!D94=\"\", \"\",'A) Eingabe (Lehrer)'!D94)","v":""},{"$f":"IF('A) Eingabe (Lehrer)'!E94=\"\", \"\",'A) Eingabe (Lehrer)'!E94)","v":""},{"$f":"IF('A) Eingabe (Lehrer)'!F94=\"\", \"\",'A) Eingabe (Lehrer)'!F94)","v":""},{"$f":"IF('A) Eingabe (Lehrer)'!G94=\"\", \"\",'A) Eingabe (Lehrer)'!G94)","v":""},{"$f":"IF('A) Eingabe (Lehrer)'!H94=\"\", \"\",'A) Eingabe (Lehrer)'!H94)","v":""},{"$f":"IF('A) Eingabe (Lehrer)'!I94=\"\", \"\",'A) Eingabe (Lehrer)'!I94)","v":""},{"$f":"IF('A) Eingabe (Lehrer)'!J94=\"\", \"\",'A) Eingabe (Lehrer)'!J94)","v":""},{"$f":"IF('A) Eingabe (Lehrer)'!K94=\"\", \"\",'A) Eingabe (Lehrer)'!K94)","v":""},{"$f":"IF('A) Eingabe (Lehrer)'!L94=\"\", \"\",'A) Eingabe (Lehrer)'!L94)","v":""},{"$f":"IF('A) Eingabe (Lehrer)'!M94=\"\", \"\",'A) Eingabe (Lehrer)'!M94)","v":""},{"$f":"IF('A) Eingabe (Lehrer)'!N94=\"\", \"\",'A) Eingabe (Lehrer)'!N94)","v":""},{"$f":"IF('A) Eingabe (Lehrer)'!O94=\"\", \"\",'A) Eingabe (Lehrer)'!O94)","v":""},{"$f":"IF('A) Eingabe (Lehrer)'!P94=\"\", \"\",'A) Eingabe (Lehrer)'!P94)","v":""},{"$f":"IF('A) Eingabe (Lehrer)'!Q94=\"\", \"\",'A) Eingabe (Lehrer)'!Q94)","v":""},{"$f":"IF('A) Eingabe (Lehrer)'!R94=\"\", \"\",'A) Eingabe (Lehrer)'!R94)","v":""},{"$f":"IF('A) Eingabe (Lehrer)'!S94=\"\", \"\",'A) Eingabe (Lehrer)'!S94)","v":""},{"$f":"IF('A) Eingabe (Lehrer)'!T94=\"\", \"\",'A) Eingabe (Lehrer)'!T94)","v":""},{"$f":"IF('A) Eingabe (Lehrer)'!U94=\"\", \"\",'A) Eingabe (Lehrer)'!U94)","v":""},{"$f":"IF('A) Eingabe (Lehrer)'!V94=\"\", \"\",'A) Eingabe (Lehrer)'!V94)","v":""},{"$f":"IF('A) Eingabe (Lehrer)'!W94=\"\", \"\",'A) Eingabe (Lehrer)'!W94)","v":""},{"$f":"IF('A) Eingabe (Lehrer)'!X94=\"\", \"\",'A) Eingabe (Lehrer)'!X94)","v":""},{"$f":"IF('A) Eingabe (Lehrer)'!Y94=\"\", \"\",'A) Eingabe (Lehrer)'!Y94)","v":""},{"$f":"IF('A) Eingabe (Lehrer)'!Z94=\"\", \"\",'A) Eingabe (Lehrer)'!Z94)","v":""},{"$f":"IF('A) Eingabe (Lehrer)'!AA94=\"\", \"\",'A) Eingabe (Lehrer)'!AA94)","v":""},{"$f":"IF('A) Eingabe (Lehrer)'!AB94=\"\", \"\",'A) Eingabe (Lehrer)'!AB94)","v":""},{"$f":"IF('A) Eingabe (Lehrer)'!AC94=\"\", \"\",'A) Eingabe (Lehrer)'!AC94)","v":""},{"$f":"IF('A) Eingabe (Lehrer)'!AD94=\"\", \"\",'A) Eingabe (Lehrer)'!AD94)","v":""},{"$f":"IF('A) Eingabe (Lehrer)'!AE94=\"\", \"\",'A) Eingabe (Lehrer)'!AE94)","v":""},{"$f":"IF('A) Eingabe (Lehrer)'!AF94=\"\", \"\",'A) Eingabe (Lehrer)'!AF94)","v":""},{"$f":"IF('A) Eingabe (Lehrer)'!AG94=\"\", \"\",'A) Eingabe (Lehrer)'!AG94)","v":""},{"$f":"IF('A) Eingabe (Lehrer)'!AH94=\"\", \"\",'A) Eingabe (Lehrer)'!AH94)","v":""},{"$f":"IF('A) Eingabe (Lehrer)'!AI94=\"\", \"\",'A) Eingabe (Lehrer)'!AI94)","v":""},{"$f":"IF('A) Eingabe (Lehrer)'!AJ94=\"\", \"\",'A) Eingabe (Lehrer)'!AJ94)","v":""},{"$f":"IF('A) Eingabe (Lehrer)'!AK94=\"\", \"\",'A) Eingabe (Lehrer)'!AK94)","v":""},{"$f":"IF('A) Eingabe (Lehrer)'!AL94=\"\", \"\",'A) Eingabe (Lehrer)'!AL94)","v":""},{"$f":"IF('A) Eingabe (Lehrer)'!AM94=\"\", \"\",'A) Eingabe (Lehrer)'!AM94)","v":""},{"$f":"IF('A) Eingabe (Lehrer)'!AN94=\"\", \"\",'A) Eingabe (Lehrer)'!AN94)","v":""},{"$f":"IF('A) Eingabe (Lehrer)'!AO94=\"\", \"\",'A) Eingabe (Lehrer)'!AO94)","v":""},{"$f":"IF('A) Eingabe (Lehrer)'!AP94=\"\", \"\",'A) Eingabe (Lehrer)'!AP94)","v":""},{"$f":"IF('A) Eingabe (Lehrer)'!AQ94=\"\", \"\",'A) Eingabe (Lehrer)'!AQ94)","v":""},{"$f":"IF('A) Eingabe (Lehrer)'!AR94=\"\", \"\",'A) Eingabe (Lehrer)'!AR94)","v":""},{"$f":"IF('A) Eingabe (Lehrer)'!AS94=\"\", \"\",'A) Eingabe (Lehrer)'!AS94)","v":""},{"$f":"IF('A) Eingabe (Lehrer)'!AT94=\"\", \"\",'A) Eingabe (Lehrer)'!AT94)","v":""},{"$f":"IF('A) Eingabe (Lehrer)'!AU94=\"\", \"\",'A) Eingabe (Lehrer)'!AU94)","v":""},{"$f":"IF('A) Eingabe (Lehrer)'!AV94=\"\", \"\",'A) Eingabe (Lehrer)'!AV94)","v":""},{"$f":"IF('A) Eingabe (Lehrer)'!AW94=\"\", \"\",'A) Eingabe (Lehrer)'!AW94)","v":""},{"$f":"IF('A) Eingabe (Lehrer)'!AX94=\"\", \"\",'A) Eingabe (Lehrer)'!AX94)","v":""},{"$f":"IF('A) Eingabe (Lehrer)'!AY94=\"\", \"\",'A) Eingabe (Lehrer)'!AY94)","v":""},{"$f":"IF('A) Eingabe (Lehrer)'!AZ94=\"\", \"\",'A) Eingabe (Lehrer)'!AZ94)","v":""},{"$f":"IF('A) Eingabe (Lehrer)'!BA94=\"\", \"\",'A) Eingabe (Lehrer)'!BA94)","v":""},{"$f":"IF('A) Eingabe (Lehrer)'!BB94=\"\", \"\",'A) Eingabe (Lehrer)'!BB94)","v":""},{"$f":"IF('A) Eingabe (Lehrer)'!BC94=\"\", \"\",'A) Eingabe (Lehrer)'!BC94)","v":""},{"$f":"IF('A) Eingabe (Lehrer)'!BD94=\"\", \"\",'A) Eingabe (Lehrer)'!BD94)","v":""},{"$f":"IF('A) Eingabe (Lehrer)'!BE94=\"\", \"\",'A) Eingabe (Lehrer)'!BE94)","v":""},{"$f":"IF('A) Eingabe (Lehrer)'!BF94=\"\", \"\",'A) Eingabe (Lehrer)'!BF94)","v":""},{"$f":"IF('A) Eingabe (Lehrer)'!BG94=\"\", \"\",'A) Eingabe (Lehrer)'!BG94)","v":""},{"$f":"IF('A) Eingabe (Lehrer)'!BH94=\"\", \"\",'A) Eingabe (Lehrer)'!BH94)","v":""},{"$f":"IF('A) Eingabe (Lehrer)'!BI94=\"\", \"\",'A) Eingabe (Lehrer)'!BI94)","v":""},{"$f":"IF('A) Eingabe (Lehrer)'!BJ94=\"\", \"\",'A) Eingabe (Lehrer)'!BJ94)","v":""},{"$f":"IF('A) Eingabe (Lehrer)'!BK94=\"\", \"\",'A) Eingabe (Lehrer)'!BK94)","v":""}]
["Item 79",{"$f":"IF('A) Eingabe (Lehrer)'!C95=\"\", \"\",'A) Eingabe (Lehrer)'!C95)","v":""},{"$f":"IF('A) Eingabe (Lehrer)'!D95=\"\", \"\",'A) Eingabe (Lehrer)'!D95)","v":""},{"$f":"IF('A) Eingabe (Lehrer)'!E95=\"\", \"\",'A) Eingabe (Lehrer)'!E95)","v":""},{"$f":"IF('A) Eingabe (Lehrer)'!F95=\"\", \"\",'A) Eingabe (Lehrer)'!F95)","v":""},{"$f":"IF('A) Eingabe (Lehrer)'!G95=\"\", \"\",'A) Eingabe (Lehrer)'!G95)","v":""},{"$f":"IF('A) Eingabe (Lehrer)'!H95=\"\", \"\",'A) Eingabe (Lehrer)'!H95)","v":""},{"$f":"IF('A) Eingabe (Lehrer)'!I95=\"\", \"\",'A) Eingabe (Lehrer)'!I95)","v":""},{"$f":"IF('A) Eingabe (Lehrer)'!J95=\"\", \"\",'A) Eingabe (Lehrer)'!J95)","v":""},{"$f":"IF('A) Eingabe (Lehrer)'!K95=\"\", \"\",'A) Eingabe (Lehrer)'!K95)","v":""},{"$f":"IF('A) Eingabe (Lehrer)'!L95=\"\", \"\",'A) Eingabe (Lehrer)'!L95)","v":""},{"$f":"IF('A) Eingabe (Lehrer)'!M95=\"\", \"\",'A) Eingabe (Lehrer)'!M95)","v":""},{"$f":"IF('A) Eingabe (Lehrer)'!N95=\"\", \"\",'A) Eingabe (Lehrer)'!N95)","v":""},{"$f":"IF('A) Eingabe (Lehrer)'!O95=\"\", \"\",'A) Eingabe (Lehrer)'!O95)","v":""},{"$f":"IF('A) Eingabe (Lehrer)'!P95=\"\", \"\",'A) Eingabe (Lehrer)'!P95)","v":""},{"$f":"IF('A) Eingabe (Lehrer)'!Q95=\"\", \"\",'A) Eingabe (Lehrer)'!Q95)","v":""},{"$f":"IF('A) Eingabe (Lehrer)'!R95=\"\", \"\",'A) Eingabe (Lehrer)'!R95)","v":""},{"$f":"IF('A) Eingabe (Lehrer)'!S95=\"\", \"\",'A) Eingabe (Lehrer)'!S95)","v":""},{"$f":"IF('A) Eingabe (Lehrer)'!T95=\"\", \"\",'A) Eingabe (Lehrer)'!T95)","v":""},{"$f":"IF('A) Eingabe (Lehrer)'!U95=\"\", \"\",'A) Eingabe (Lehrer)'!U95)","v":""},{"$f":"IF('A) Eingabe (Lehrer)'!V95=\"\", \"\",'A) Eingabe (Lehrer)'!V95)","v":""},{"$f":"IF('A) Eingabe (Lehrer)'!W95=\"\", \"\",'A) Eingabe (Lehrer)'!W95)","v":""},{"$f":"IF('A) Eingabe (Lehrer)'!X95=\"\", \"\",'A) Eingabe (Lehrer)'!X95)","v":""},{"$f":"IF('A) Eingabe (Lehrer)'!Y95=\"\", \"\",'A) Eingabe (Lehrer)'!Y95)","v":""},{"$f":"IF('A) Eingabe (Lehrer)'!Z95=\"\", \"\",'A) Eingabe (Lehrer)'!Z95)","v":""},{"$f":"IF('A) Eingabe (Lehrer)'!AA95=\"\", \"\",'A) Eingabe (Lehrer)'!AA95)","v":""},{"$f":"IF('A) Eingabe (Lehrer)'!AB95=\"\", \"\",'A) Eingabe (Lehrer)'!AB95)","v":""},{"$f":"IF('A) Eingabe (Lehrer)'!AC95=\"\", \"\",'A) Eingabe (Lehrer)'!AC95)","v":""},{"$f":"IF('A) Eingabe (Lehrer)'!AD95=\"\", \"\",'A) Eingabe (Lehrer)'!AD95)","v":""},{"$f":"IF('A) Eingabe (Lehrer)'!AE95=\"\", \"\",'A) Eingabe (Lehrer)'!AE95)","v":""},{"$f":"IF('A) Eingabe (Lehrer)'!AF95=\"\", \"\",'A) Eingabe (Lehrer)'!AF95)","v":""},{"$f":"IF('A) Eingabe (Lehrer)'!AG95=\"\", \"\",'A) Eingabe (Lehrer)'!AG95)","v":""},{"$f":"IF('A) Eingabe (Lehrer)'!AH95=\"\", \"\",'A) Eingabe (Lehrer)'!AH95)","v":""},{"$f":"IF('A) Eingabe (Lehrer)'!AI95=\"\", \"\",'A) Eingabe (Lehrer)'!AI95)","v":""},{"$f":"IF('A) Eingabe (Lehrer)'!AJ95=\"\", \"\",'A) Eingabe (Lehrer)'!AJ95)","v":""},{"$f":"IF('A) Eingabe (Lehrer)'!AK95=\"\", \"\",'A) Eingabe (Lehrer)'!AK95)","v":""},{"$f":"IF('A) Eingabe (Lehrer)'!AL95=\"\", \"\",'A) Eingabe (Lehrer)'!AL95)","v":""},{"$f":"IF('A) Eingabe (Lehrer)'!AM95=\"\", \"\",'A) Eingabe (Lehrer)'!AM95)","v":""},{"$f":"IF('A) Eingabe (Lehrer)'!AN95=\"\", \"\",'A) Eingabe (Lehrer)'!AN95)","v":""},{"$f":"IF('A) Eingabe (Lehrer)'!AO95=\"\", \"\",'A) Eingabe (Lehrer)'!AO95)","v":""},{"$f":"IF('A) Eingabe (Lehrer)'!AP95=\"\", \"\",'A) Eingabe (Lehrer)'!AP95)","v":""},{"$f":"IF('A) Eingabe (Lehrer)'!AQ95=\"\", \"\",'A) Eingabe (Lehrer)'!AQ95)","v":""},{"$f":"IF('A) Eingabe (Lehrer)'!AR95=\"\", \"\",'A) Eingabe (Lehrer)'!AR95)","v":""},{"$f":"IF('A) Eingabe (Lehrer)'!AS95=\"\", \"\",'A) Eingabe (Lehrer)'!AS95)","v":""},{"$f":"IF('A) Eingabe (Lehrer)'!AT95=\"\", \"\",'A) Eingabe (Lehrer)'!AT95)","v":""},{"$f":"IF('A) Eingabe (Lehrer)'!AU95=\"\", \"\",'A) Eingabe (Lehrer)'!AU95)","v":""},{"$f":"IF('A) Eingabe (Lehrer)'!AV95=\"\", \"\",'A) Eingabe (Lehrer)'!AV95)","v":""},{"$f":"IF('A) Eingabe (Lehrer)'!AW95=\"\", \"\",'A) Eingabe (Lehrer)'!AW95)","v":""},{"$f":"IF('A) Eingabe (Lehrer)'!AX95=\"\", \"\",'A) Eingabe (Lehrer)'!AX95)","v":""},{"$f":"IF('A) Eingabe (Lehrer)'!AY95=\"\", \"\",'A) Eingabe (Lehrer)'!AY95)","v":""},{"$f":"IF('A) Eingabe (Lehrer)'!AZ95=\"\", \"\",'A) Eingabe (Lehrer)'!AZ95)","v":""},{"$f":"IF('A) Eingabe (Lehrer)'!BA95=\"\", \"\",'A) Eingabe (Lehrer)'!BA95)","v":""},{"$f":"IF('A) Eingabe (Lehrer)'!BB95=\"\", \"\",'A) Eingabe (Lehrer)'!BB95)","v":""},{"$f":"IF('A) Eingabe (Lehrer)'!BC95=\"\", \"\",'A) Eingabe (Lehrer)'!BC95)","v":""},{"$f":"IF('A) Eingabe (Lehrer)'!BD95=\"\", \"\",'A) Eingabe (Lehrer)'!BD95)","v":""},{"$f":"IF('A) Eingabe (Lehrer)'!BE95=\"\", \"\",'A) Eingabe (Lehrer)'!BE95)","v":""},{"$f":"IF('A) Eingabe (Lehrer)'!BF95=\"\", \"\",'A) Eingabe (Lehrer)'!BF95)","v":""},{"$f":"IF('A) Eingabe (Lehrer)'!BG95=\"\", \"\",'A) Eingabe (Lehrer)'!BG95)","v":""},{"$f":"IF('A) Eingabe (Lehrer)'!BH95=\"\", \"\",'A) Eingabe (Lehrer)'!BH95)","v":""},{"$f":"IF('A) Eingabe (Lehrer)'!BI95=\"\", \"\",'A) Eingabe (Lehrer)'!BI95)","v":""},{"$f":"IF('A) Eingabe (Lehrer)'!BJ95=\"\", \"\",'A) Eingabe (Lehrer)'!BJ95)","v":""},{"$f":"IF('A) Eingabe (Lehrer)'!BK95=\"\", \"\",'A) Eingabe (Lehrer)'!BK95)","v":""}]
["Item 80",{"$f":"IF('A) Eingabe (Lehrer)'!C96=\"\", \"\",'A) Eingabe (Lehrer)'!C96)","v":""},{"$f":"IF('A) Eingabe (Lehrer)'!D96=\"\", \"\",'A) Eingabe (Lehrer)'!D96)","v":""},{"$f":"IF('A) Eingabe (Lehrer)'!E96=\"\", \"\",'A) Eingabe (Lehrer)'!E96)","v":""},{"$f":"IF('A) Eingabe (Lehrer)'!F96=\"\", \"\",'A) Eingabe (Lehrer)'!F96)","v":""},{"$f":"IF('A) Eingabe (Lehrer)'!G96=\"\", \"\",'A) Eingabe (Lehrer)'!G96)","v":""},{"$f":"IF('A) Eingabe (Lehrer)'!H96=\"\", \"\",'A) Eingabe (Lehrer)'!H96)","v":""},{"$f":"IF('A) Eingabe (Lehrer)'!I96=\"\", \"\",'A) Eingabe (Lehrer)'!I96)","v":""},{"$f":"IF('A) Eingabe (Lehrer)'!J96=\"\", \"\",'A) Eingabe (Lehrer)'!J96)","v":""},{"$f":"IF('A) Eingabe (Lehrer)'!K96=\"\", \"\",'A) Eingabe (Lehrer)'!K96)","v":""},{"$f":"IF('A) Eingabe (Lehrer)'!L96=\"\", \"\",'A) Eingabe (Lehrer)'!L96)","v":""},{"$f":"IF('A) Eingabe (Lehrer)'!M96=\"\", \"\",'A) Eingabe (Lehrer)'!M96)","v":""},{"$f":"IF('A) Eingabe (Lehrer)'!N96=\"\", \"\",'A) Eingabe (Lehrer)'!N96)","v":""},{"$f":"IF('A) Eingabe (Lehrer)'!O96=\"\", \"\",'A) Eingabe (Lehrer)'!O96)","v":""},{"$f":"IF('A) Eingabe (Lehrer)'!P96=\"\", \"\",'A) Eingabe (Lehrer)'!P96)","v":""},{"$f":"IF('A) Eingabe (Lehrer)'!Q96=\"\", \"\",'A) Eingabe (Lehrer)'!Q96)","v":""},{"$f":"IF('A) Eingabe (Lehrer)'!R96=\"\", \"\",'A) Eingabe (Lehrer)'!R96)","v":""},{"$f":"IF('A) Eingabe (Lehrer)'!S96=\"\", \"\",'A) Eingabe (Lehrer)'!S96)","v":""},{"$f":"IF('A) Eingabe (Lehrer)'!T96=\"\", \"\",'A) Eingabe (Lehrer)'!T96)","v":""},{"$f":"IF('A) Eingabe (Lehrer)'!U96=\"\", \"\",'A) Eingabe (Lehrer)'!U96)","v":""},{"$f":"IF('A) Eingabe (Lehrer)'!V96=\"\", \"\",'A) Eingabe (Lehrer)'!V96)","v":""},{"$f":"IF('A) Eingabe (Lehrer)'!W96=\"\", \"\",'A) Eingabe (Lehrer)'!W96)","v":""},{"$f":"IF('A) Eingabe (Lehrer)'!X96=\"\", \"\",'A) Eingabe (Lehrer)'!X96)","v":""},{"$f":"IF('A) Eingabe (Lehrer)'!Y96=\"\", \"\",'A) Eingabe (Lehrer)'!Y96)","v":""},{"$f":"IF('A) Eingabe (Lehrer)'!Z96=\"\", \"\",'A) Eingabe (Lehrer)'!Z96)","v":""},{"$f":"IF('A) Eingabe (Lehrer)'!AA96=\"\", \"\",'A) Eingabe (Lehrer)'!AA96)","v":""},{"$f":"IF('A) Eingabe (Lehrer)'!AB96=\"\", \"\",'A) Eingabe (Lehrer)'!AB96)","v":""},{"$f":"IF('A) Eingabe (Lehrer)'!AC96=\"\", \"\",'A) Eingabe (Lehrer)'!AC96)","v":""},{"$f":"IF('A) Eingabe (Lehrer)'!AD96=\"\", \"\",'A) Eingabe (Lehrer)'!AD96)","v":""},{"$f":"IF('A) Eingabe (Lehrer)'!AE96=\"\", \"\",'A) Eingabe (Lehrer)'!AE96)","v":""},{"$f":"IF('A) Eingabe (Lehrer)'!AF96=\"\", \"\",'A) Eingabe (Lehrer)'!AF96)","v":""},{"$f":"IF('A) Eingabe (Lehrer)'!AG96=\"\", \"\",'A) Eingabe (Lehrer)'!AG96)","v":""},{"$f":"IF('A) Eingabe (Lehrer)'!AH96=\"\", \"\",'A) Eingabe (Lehrer)'!AH96)","v":""},{"$f":"IF('A) Eingabe (Lehrer)'!AI96=\"\", \"\",'A) Eingabe (Lehrer)'!AI96)","v":""},{"$f":"IF('A) Eingabe (Lehrer)'!AJ96=\"\", \"\",'A) Eingabe (Lehrer)'!AJ96)","v":""},{"$f":"IF('A) Eingabe (Lehrer)'!AK96=\"\", \"\",'A) Eingabe (Lehrer)'!AK96)","v":""},{"$f":"IF('A) Eingabe (Lehrer)'!AL96=\"\", \"\",'A) Eingabe (Lehrer)'!AL96)","v":""},{"$f":"IF('A) Eingabe (Lehrer)'!AM96=\"\", \"\",'A) Eingabe (Lehrer)'!AM96)","v":""},{"$f":"IF('A) Eingabe (Lehrer)'!AN96=\"\", \"\",'A) Eingabe (Lehrer)'!AN96)","v":""},{"$f":"IF('A) Eingabe (Lehrer)'!AO96=\"\", \"\",'A) Eingabe (Lehrer)'!AO96)","v":""},{"$f":"IF('A) Eingabe (Lehrer)'!AP96=\"\", \"\",'A) Eingabe (Lehrer)'!AP96)","v":""},{"$f":"IF('A) Eingabe (Lehrer)'!AQ96=\"\", \"\",'A) Eingabe (Lehrer)'!AQ96)","v":""},{"$f":"IF('A) Eingabe (Lehrer)'!AR96=\"\", \"\",'A) Eingabe (Lehrer)'!AR96)","v":""},{"$f":"IF('A) Eingabe (Lehrer)'!AS96=\"\", \"\",'A) Eingabe (Lehrer)'!AS96)","v":""},{"$f":"IF('A) Eingabe (Lehrer)'!AT96=\"\", \"\",'A) Eingabe (Lehrer)'!AT96)","v":""},{"$f":"IF('A) Eingabe (Lehrer)'!AU96=\"\", \"\",'A) Eingabe (Lehrer)'!AU96)","v":""},{"$f":"IF('A) Eingabe (Lehrer)'!AV96=\"\", \"\",'A) Eingabe (Lehrer)'!AV96)","v":""},{"$f":"IF('A) Eingabe (Lehrer)'!AW96=\"\", \"\",'A) Eingabe (Lehrer)'!AW96)","v":""},{"$f":"IF('A) Eingabe (Lehrer)'!AX96=\"\", \"\",'A) Eingabe (Lehrer)'!AX96)","v":""},{"$f":"IF('A) Eingabe (Lehrer)'!AY96=\"\", \"\",'A) Eingabe (Lehrer)'!AY96)","v":""},{"$f":"IF('A) Eingabe (Lehrer)'!AZ96=\"\", \"\",'A) Eingabe (Lehrer)'!AZ96)","v":""},{"$f":"IF('A) Eingabe (Lehrer)'!BA96=\"\", \"\",'A) Eingabe (Lehrer)'!BA96)","v":""},{"$f":"IF('A) Eingabe (Lehrer)'!BB96=\"\", \"\",'A) Eingabe (Lehrer)'!BB96)","v":""},{"$f":"IF('A) Eingabe (Lehrer)'!BC96=\"\", \"\",'A) Eingabe (Lehrer)'!BC96)","v":""},{"$f":"IF('A) Eingabe (Lehrer)'!BD96=\"\", \"\",'A) Eingabe (Lehrer)'!BD96)","v":""},{"$f":"IF('A) Eingabe (Lehrer)'!BE96=\"\", \"\",'A) Eingabe (Lehrer)'!BE96)","v":""},{"$f":"IF('A) Eingabe (Lehrer)'!BF96=\"\", \"\",'A) Eingabe (Lehrer)'!BF96)","v":""},{"$f":"IF('A) Eingabe (Lehrer)'!BG96=\"\", \"\",'A) Eingabe (Lehrer)'!BG96)","v":""},{"$f":"IF('A) Eingabe (Lehrer)'!BH96=\"\", \"\",'A) Eingabe (Lehrer)'!BH96)","v":""},{"$f":"IF('A) Eingabe (Lehrer)'!BI96=\"\", \"\",'A) Eingabe (Lehrer)'!BI96)","v":""},{"$f":"IF('A) Eingabe (Lehrer)'!BJ96=\"\", \"\",'A) Eingabe (Lehrer)'!BJ96)","v":""},{"$f":"IF('A) Eingabe (Lehrer)'!BK96=\"\", \"\",'A) Eingabe (Lehrer)'!BK96)","v":""}]
["Item 81",{"$f":"IF('A) Eingabe (Lehrer)'!C97=\"\", \"\",'A) Eingabe (Lehrer)'!C97)","v":""},{"$f":"IF('A) Eingabe (Lehrer)'!D97=\"\", \"\",'A) Eingabe (Lehrer)'!D97)","v":""},{"$f":"IF('A) Eingabe (Lehrer)'!E97=\"\", \"\",'A) Eingabe (Lehrer)'!E97)","v":""},{"$f":"IF('A) Eingabe (Lehrer)'!F97=\"\", \"\",'A) Eingabe (Lehrer)'!F97)","v":""},{"$f":"IF('A) Eingabe (Lehrer)'!G97=\"\", \"\",'A) Eingabe (Lehrer)'!G97)","v":""},{"$f":"IF('A) Eingabe (Lehrer)'!H97=\"\", \"\",'A) Eingabe (Lehrer)'!H97)","v":""},{"$f":"IF('A) Eingabe (Lehrer)'!I97=\"\", \"\",'A) Eingabe (Lehrer)'!I97)","v":""},{"$f":"IF('A) Eingabe (Lehrer)'!J97=\"\", \"\",'A) Eingabe (Lehrer)'!J97)","v":""},{"$f":"IF('A) Eingabe (Lehrer)'!K97=\"\", \"\",'A) Eingabe (Lehrer)'!K97)","v":""},{"$f":"IF('A) Eingabe (Lehrer)'!L97=\"\", \"\",'A) Eingabe (Lehrer)'!L97)","v":""},{"$f":"IF('A) Eingabe (Lehrer)'!M97=\"\", \"\",'A) Eingabe (Lehrer)'!M97)","v":""},{"$f":"IF('A) Eingabe (Lehrer)'!N97=\"\", \"\",'A) Eingabe (Lehrer)'!N97)","v":""},{"$f":"IF('A) Eingabe (Lehrer)'!O97=\"\", \"\",'A) Eingabe (Lehrer)'!O97)","v":""},{"$f":"IF('A) Eingabe (Lehrer)'!P97=\"\", \"\",'A) Eingabe (Lehrer)'!P97)","v":""},{"$f":"IF('A) Eingabe (Lehrer)'!Q97=\"\", \"\",'A) Eingabe (Lehrer)'!Q97)","v":""},{"$f":"IF('A) Eingabe (Lehrer)'!R97=\"\", \"\",'A) Eingabe (Lehrer)'!R97)","v":""},{"$f":"IF('A) Eingabe (Lehrer)'!S97=\"\", \"\",'A) Eingabe (Lehrer)'!S97)","v":""},{"$f":"IF('A) Eingabe (Lehrer)'!T97=\"\", \"\",'A) Eingabe (Lehrer)'!T97)","v":""},{"$f":"IF('A) Eingabe (Lehrer)'!U97=\"\", \"\",'A) Eingabe (Lehrer)'!U97)","v":""},{"$f":"IF('A) Eingabe (Lehrer)'!V97=\"\", \"\",'A) Eingabe (Lehrer)'!V97)","v":""},{"$f":"IF('A) Eingabe (Lehrer)'!W97=\"\", \"\",'A) Eingabe (Lehrer)'!W97)","v":""},{"$f":"IF('A) Eingabe (Lehrer)'!X97=\"\", \"\",'A) Eingabe (Lehrer)'!X97)","v":""},{"$f":"IF('A) Eingabe (Lehrer)'!Y97=\"\", \"\",'A) Eingabe (Lehrer)'!Y97)","v":""},{"$f":"IF('A) Eingabe (Lehrer)'!Z97=\"\", \"\",'A) Eingabe (Lehrer)'!Z97)","v":""},{"$f":"IF('A) Eingabe (Lehrer)'!AA97=\"\", \"\",'A) Eingabe (Lehrer)'!AA97)","v":""},{"$f":"IF('A) Eingabe (Lehrer)'!AB97=\"\", \"\",'A) Eingabe (Lehrer)'!AB97)","v":""},{"$f":"IF('A) Eingabe (Lehrer)'!AC97=\"\", \"\",'A) Eingabe (Lehrer)'!AC97)","v":""},{"$f":"IF('A) Eingabe (Lehrer)'!AD97=\"\", \"\",'A) Eingabe (Lehrer)'!AD97)","v":""},{"$f":"IF('A) Eingabe (Lehrer)'!AE97=\"\", \"\",'A) Eingabe (Lehrer)'!AE97)","v":""},{"$f":"IF('A) Eingabe (Lehrer)'!AF97=\"\", \"\",'A) Eingabe (Lehrer)'!AF97)","v":""},{"$f":"IF('A) Eingabe (Lehrer)'!AG97=\"\", \"\",'A) Eingabe (Lehrer)'!AG97)","v":""},{"$f":"IF('A) Eingabe (Lehrer)'!AH97=\"\", \"\",'A) Eingabe (Lehrer)'!AH97)","v":""},{"$f":"IF('A) Eingabe (Lehrer)'!AI97=\"\", \"\",'A) Eingabe (Lehrer)'!AI97)","v":""},{"$f":"IF('A) Eingabe (Lehrer)'!AJ97=\"\", \"\",'A) Eingabe (Lehrer)'!AJ97)","v":""},{"$f":"IF('A) Eingabe (Lehrer)'!AK97=\"\", \"\",'A) Eingabe (Lehrer)'!AK97)","v":""},{"$f":"IF('A) Eingabe (Lehrer)'!AL97=\"\", \"\",'A) Eingabe (Lehrer)'!AL97)","v":""},{"$f":"IF('A) Eingabe (Lehrer)'!AM97=\"\", \"\",'A) Eingabe (Lehrer)'!AM97)","v":""},{"$f":"IF('A) Eingabe (Lehrer)'!AN97=\"\", \"\",'A) Eingabe (Lehrer)'!AN97)","v":""},{"$f":"IF('A) Eingabe (Lehrer)'!AO97=\"\", \"\",'A) Eingabe (Lehrer)'!AO97)","v":""},{"$f":"IF('A) Eingabe (Lehrer)'!AP97=\"\", \"\",'A) Eingabe (Lehrer)'!AP97)","v":""},{"$f":"IF('A) Eingabe (Lehrer)'!AQ97=\"\", \"\",'A) Eingabe (Lehrer)'!AQ97)","v":""},{"$f":"IF('A) Eingabe (Lehrer)'!AR97=\"\", \"\",'A) Eingabe (Lehrer)'!AR97)","v":""},{"$f":"IF('A) Eingabe (Lehrer)'!AS97=\"\", \"\",'A) Eingabe (Lehrer)'!AS97)","v":""},{"$f":"IF('A) Eingabe (Lehrer)'!AT97=\"\", \"\",'A) Eingabe (Lehrer)'!AT97)","v":""},{"$f":"IF('A) Eingabe (Lehrer)'!AU97=\"\", \"\",'A) Eingabe (Lehrer)'!AU97)","v":""},{"$f":"IF('A) Eingabe (Lehrer)'!AV97=\"\", \"\",'A) Eingabe (Lehrer)'!AV97)","v":""},{"$f":"IF('A) Eingabe (Lehrer)'!AW97=\"\", \"\",'A) Eingabe (Lehrer)'!AW97)","v":""},{"$f":"IF('A) Eingabe (Lehrer)'!AX97=\"\", \"\",'A) Eingabe (Lehrer)'!AX97)","v":""},{"$f":"IF('A) Eingabe (Lehrer)'!AY97=\"\", \"\",'A) Eingabe (Lehrer)'!AY97)","v":""},{"$f":"IF('A) Eingabe (Lehrer)'!AZ97=\"\", \"\",'A) Eingabe (Lehrer)'!AZ97)","v":""},{"$f":"IF('A) Eingabe (Lehrer)'!BA97=\"\", \"\",'A) Eingabe (Lehrer)'!BA97)","v":""},{"$f":"IF('A) Eingabe (Lehrer)'!BB97=\"\", \"\",'A) Eingabe (Lehrer)'!BB97)","v":""},{"$f":"IF('A) Eingabe (Lehrer)'!BC97=\"\", \"\",'A) Eingabe (Lehrer)'!BC97)","v":""},{"$f":"IF('A) Eingabe (Lehrer)'!BD97=\"\", \"\",'A) Eingabe (Lehrer)'!BD97)","v":""},{"$f":"IF('A) Eingabe (Lehrer)'!BE97=\"\", \"\",'A) Eingabe (Lehrer)'!BE97)","v":""},{"$f":"IF('A) Eingabe (Lehrer)'!BF97=\"\", \"\",'A) Eingabe (Lehrer)'!BF97)","v":""},{"$f":"IF('A) Eingabe (Lehrer)'!BG97=\"\", \"\",'A) Eingabe (Lehrer)'!BG97)","v":""},{"$f":"IF('A) Eingabe (Lehrer)'!BH97=\"\", \"\",'A) Eingabe (Lehrer)'!BH97)","v":""},{"$f":"IF('A) Eingabe (Lehrer)'!BI97=\"\", \"\",'A) Eingabe (Lehrer)'!BI97)","v":""},{"$f":"IF('A) Eingabe (Lehrer)'!BJ97=\"\", \"\",'A) Eingabe (Lehrer)'!BJ97)","v":""},{"$f":"IF('A) Eingabe (Lehrer)'!BK97=\"\", \"\",'A) Eingabe (Lehrer)'!BK97)","v":""}]
["Item 82",{"$f":"IF('A) Eingabe (Lehrer)'!C98=\"\", \"\",'A) Eingabe (Lehrer)'!C98)","v":""},{"$f":"IF('A) Eingabe (Lehrer)'!D98=\"\", \"\",'A) Eingabe (Lehrer)'!D98)","v":""},{"$f":"IF('A) Eingabe (Lehrer)'!E98=\"\", \"\",'A) Eingabe (Lehrer)'!E98)","v":""},{"$f":"IF('A) Eingabe (Lehrer)'!F98=\"\", \"\",'A) Eingabe (Lehrer)'!F98)","v":""},{"$f":"IF('A) Eingabe (Lehrer)'!G98=\"\", \"\",'A) Eingabe (Lehrer)'!G98)","v":""},{"$f":"IF('A) Eingabe (Lehrer)'!H98=\"\", \"\",'A) Eingabe (Lehrer)'!H98)","v":""},{"$f":"IF('A) Eingabe (Lehrer)'!I98=\"\", \"\",'A) Eingabe (Lehrer)'!I98)","v":""},{"$f":"IF('A) Eingabe (Lehrer)'!J98=\"\", \"\",'A) Eingabe (Lehrer)'!J98)","v":""},{"$f":"IF('A) Eingabe (Lehrer)'!K98=\"\", \"\",'A) Eingabe (Lehrer)'!K98)","v":""},{"$f":"IF('A) Eingabe (Lehrer)'!L98=\"\", \"\",'A) Eingabe (Lehrer)'!L98)","v":""},{"$f":"IF('A) Eingabe (Lehrer)'!M98=\"\", \"\",'A) Eingabe (Lehrer)'!M98)","v":""},{"$f":"IF('A) Eingabe (Lehrer)'!N98=\"\", \"\",'A) Eingabe (Lehrer)'!N98)","v":""},{"$f":"IF('A) Eingabe (Lehrer)'!O98=\"\", \"\",'A) Eingabe (Lehrer)'!O98)","v":""},{"$f":"IF('A) Eingabe (Lehrer)'!P98=\"\", \"\",'A) Eingabe (Lehrer)'!P98)","v":""},{"$f":"IF('A) Eingabe (Lehrer)'!Q98=\"\", \"\",'A) Eingabe (Lehrer)'!Q98)","v":""},{"$f":"IF('A) Eingabe (Lehrer)'!R98=\"\", \"\",'A) Eingabe (Lehrer)'!R98)","v":""},{"$f":"IF('A) Eingabe (Lehrer)'!S98=\"\", \"\",'A) Eingabe (Lehrer)'!S98)","v":""},{"$f":"IF('A) Eingabe (Lehrer)'!T98=\"\", \"\",'A) Eingabe (Lehrer)'!T98)","v":""},{"$f":"IF('A) Eingabe (Lehrer)'!U98=\"\", \"\",'A) Eingabe (Lehrer)'!U98)","v":""},{"$f":"IF('A) Eingabe (Lehrer)'!V98=\"\", \"\",'A) Eingabe (Lehrer)'!V98)","v":""},{"$f":"IF('A) Eingabe (Lehrer)'!W98=\"\", \"\",'A) Eingabe (Lehrer)'!W98)","v":""},{"$f":"IF('A) Eingabe (Lehrer)'!X98=\"\", \"\",'A) Eingabe (Lehrer)'!X98)","v":""},{"$f":"IF('A) Eingabe (Lehrer)'!Y98=\"\", \"\",'A) Eingabe (Lehrer)'!Y98)","v":""},{"$f":"IF('A) Eingabe (Lehrer)'!Z98=\"\", \"\",'A) Eingabe (Lehrer)'!Z98)","v":""},{"$f":"IF('A) Eingabe (Lehrer)'!AA98=\"\", \"\",'A) Eingabe (Lehrer)'!AA98)","v":""},{"$f":"IF('A) Eingabe (Lehrer)'!AB98=\"\", \"\",'A) Eingabe (Lehrer)'!AB98)","v":""},{"$f":"IF('A) Eingabe (Lehrer)'!AC98=\"\", \"\",'A) Eingabe (Lehrer)'!AC98)","v":""},{"$f":"IF('A) Eingabe (Lehrer)'!AD98=\"\", \"\",'A) Eingabe (Lehrer)'!AD98)","v":""},{"$f":"IF('A) Eingabe (Lehrer)'!AE98=\"\", \"\",'A) Eingabe (Lehrer)'!AE98)","v":""},{"$f":"IF('A) Eingabe (Lehrer)'!AF98=\"\", \"\",'A) Eingabe (Lehrer)'!AF98)","v":""},{"$f":"IF('A) Eingabe (Lehrer)'!AG98=\"\", \"\",'A) Eingabe (Lehrer)'!AG98)","v":""},{"$f":"IF('A) Eingabe (Lehrer)'!AH98=\"\", \"\",'A) Eingabe (Lehrer)'!AH98)","v":""},{"$f":"IF('A) Eingabe (Lehrer)'!AI98=\"\", \"\",'A) Eingabe (Lehrer)'!AI98)","v":""},{"$f":"IF('A) Eingabe (Lehrer)'!AJ98=\"\", \"\",'A) Eingabe (Lehrer)'!AJ98)","v":""},{"$f":"IF('A) Eingabe (Lehrer)'!AK98=\"\", \"\",'A) Eingabe (Lehrer)'!AK98)","v":""},{"$f":"IF('A) Eingabe (Lehrer)'!AL98=\"\", \"\",'A) Eingabe (Lehrer)'!AL98)","v":""},{"$f":"IF('A) Eingabe (Lehrer)'!AM98=\"\", \"\",'A) Eingabe (Lehrer)'!AM98)","v":""},{"$f":"IF('A) Eingabe (Lehrer)'!AN98=\"\", \"\",'A) Eingabe (Lehrer)'!AN98)","v":""},{"$f":"IF('A) Eingabe (Lehrer)'!AO98=\"\", \"\",'A) Eingabe (Lehrer)'!AO98)","v":""},{"$f":"IF('A) Eingabe (Lehrer)'!AP98=\"\", \"\",'A) Eingabe (Lehrer)'!AP98)","v":""},{"$f":"IF('A) Eingabe (Lehrer)'!AQ98=\"\", \"\",'A) Eingabe (Lehrer)'!AQ98)","v":""},{"$f":"IF('A) Eingabe (Lehrer)'!AR98=\"\", \"\",'A) Eingabe (Lehrer)'!AR98)","v":""},{"$f":"IF('A) Eingabe (Lehrer)'!AS98=\"\", \"\",'A) Eingabe (Lehrer)'!AS98)","v":""},{"$f":"IF('A) Eingabe (Lehrer)'!AT98=\"\", \"\",'A) Eingabe (Lehrer)'!AT98)","v":""},{"$f":"IF('A) Eingabe (Lehrer)'!AU98=\"\", \"\",'A) Eingabe (Lehrer)'!AU98)","v":""},{"$f":"IF('A) Eingabe (Lehrer)'!AV98=\"\", \"\",'A) Eingabe (Lehrer)'!AV98)","v":""},{"$f":"IF('A) Eingabe (Lehrer)'!AW98=\"\", \"\",'A) Eingabe (Lehrer)'!AW98)","v":""},{"$f":"IF('A) Eingabe (Lehrer)'!AX98=\"\", \"\",'A) Eingabe (Lehrer)'!AX98)","v":""},{"$f":"IF('A) Eingabe (Lehrer)'!AY98=\"\", \"\",'A) Eingabe (Lehrer)'!AY98)","v":""},{"$f":"IF('A) Eingabe (Lehrer)'!AZ98=\"\", \"\",'A) Eingabe (Lehrer)'!AZ98)","v":""},{"$f":"IF('A) Eingabe (Lehrer)'!BA98=\"\", \"\",'A) Eingabe (Lehrer)'!BA98)","v":""},{"$f":"IF('A) Eingabe (Lehrer)'!BB98=\"\", \"\",'A) Eingabe (Lehrer)'!BB98)","v":""},{"$f":"IF('A) Eingabe (Lehrer)'!BC98=\"\", \"\",'A) Eingabe (Lehrer)'!BC98)","v":""},{"$f":"IF('A) Eingabe (Lehrer)'!BD98=\"\", \"\",'A) Eingabe (Lehrer)'!BD98)","v":""},{"$f":"IF('A) Eingabe (Lehrer)'!BE98=\"\", \"\",'A) Eingabe (Lehrer)'!BE98)","v":""},{"$f":"IF('A) Eingabe (Lehrer)'!BF98=\"\", \"\",'A) Eingabe (Lehrer)'!BF98)","v":""},{"$f":"IF('A) Eingabe (Lehrer)'!BG98=\"\", \"\",'A) Eingabe (Lehrer)'!BG98)","v":""},{"$f":"IF('A) Eingabe (Lehrer)'!BH98=\"\", \"\",'A) Eingabe (Lehrer)'!BH98)","v":""},{"$f":"IF('A) Eingabe (Lehrer)'!BI98=\"\", \"\",'A) Eingabe (Lehrer)'!BI98)","v":""},{"$f":"IF('A) Eingabe (Lehrer)'!BJ98=\"\", \"\",'A) Eingabe (Lehrer)'!BJ98)","v":""},{"$f":"IF('A) Eingabe (Lehrer)'!BK98=\"\", \"\",'A) Eingabe (Lehrer)'!BK98)","v":""}]
["Item 83",{"$f":"IF('A) Eingabe (Lehrer)'!C99=\"\", \"\",'A) Eingabe (Lehrer)'!C99)","v":""},{"$f":"IF('A) Eingabe (Lehrer)'!D99=\"\", \"\",'A) Eingabe (Lehrer)'!D99)","v":""},{"$f":"IF('A) Eingabe (Lehrer)'!E99=\"\", \"\",'A) Eingabe (Lehrer)'!E99)","v":""},{"$f":"IF('A) Eingabe (Lehrer)'!F99=\"\", \"\",'A) Eingabe (Lehrer)'!F99)","v":""},{"$f":"IF('A) Eingabe (Lehrer)'!G99=\"\", \"\",'A) Eingabe (Lehrer)'!G99)","v":""},{"$f":"IF('A) Eingabe (Lehrer)'!H99=\"\", \"\",'A) Eingabe (Lehrer)'!H99)","v":""},{"$f":"IF('A) Eingabe (Lehrer)'!I99=\"\", \"\",'A) Eingabe (Lehrer)'!I99)","v":""},{"$f":"IF('A) Eingabe (Lehrer)'!J99=\"\", \"\",'A) Eingabe (Lehrer)'!J99)","v":""},{"$f":"IF('A) Eingabe (Lehrer)'!K99=\"\", \"\",'A) Eingabe (Lehrer)'!K99)","v":""},{"$f":"IF('A) Eingabe (Lehrer)'!L99=\"\", \"\",'A) Eingabe (Lehrer)'!L99)","v":""},{"$f":"IF('A) Eingabe (Lehrer)'!M99=\"\", \"\",'A) Eingabe (Lehrer)'!M99)","v":""},{"$f":"IF('A) Eingabe (Lehrer)'!N99=\"\", \"\",'A) Eingabe (Lehrer)'!N99)","v":""},{"$f":"IF('A) Eingabe (Lehrer)'!O99=\"\", \"\",'A) Eingabe (Lehrer)'!O99)","v":""},{"$f":"IF('A) Eingabe (Lehrer)'!P99=\"\", \"\",'A) Eingabe (Lehrer)'!P99)","v":""},{"$f":"IF('A) Eingabe (Lehrer)'!Q99=\"\", \"\",'A) Eingabe (Lehrer)'!Q99)","v":""},{"$f":"IF('A) Eingabe (Lehrer)'!R99=\"\", \"\",'A) Eingabe (Lehrer)'!R99)","v":""},{"$f":"IF('A) Eingabe (Lehrer)'!S99=\"\", \"\",'A) Eingabe (Lehrer)'!S99)","v":""},{"$f":"IF('A) Eingabe (Lehrer)'!T99=\"\", \"\",'A) Eingabe (Lehrer)'!T99)","v":""},{"$f":"IF('A) Eingabe (Lehrer)'!U99=\"\", \"\",'A) Eingabe (Lehrer)'!U99)","v":""},{"$f":"IF('A) Eingabe (Lehrer)'!V99=\"\", \"\",'A) Eingabe (Lehrer)'!V99)","v":""},{"$f":"IF('A) Eingabe (Lehrer)'!W99=\"\", \"\",'A) Eingabe (Lehrer)'!W99)","v":""},{"$f":"IF('A) Eingabe (Lehrer)'!X99=\"\", \"\",'A) Eingabe (Lehrer)'!X99)","v":""},{"$f":"IF('A) Eingabe (Lehrer)'!Y99=\"\", \"\",'A) Eingabe (Lehrer)'!Y99)","v":""},{"$f":"IF('A) Eingabe (Lehrer)'!Z99=\"\", \"\",'A) Eingabe (Lehrer)'!Z99)","v":""},{"$f":"IF('A) Eingabe (Lehrer)'!AA99=\"\", \"\",'A) Eingabe (Lehrer)'!AA99)","v":""},{"$f":"IF('A) Eingabe (Lehrer)'!AB99=\"\", \"\",'A) Eingabe (Lehrer)'!AB99)","v":""},{"$f":"IF('A) Eingabe (Lehrer)'!AC99=\"\", \"\",'A) Eingabe (Lehrer)'!AC99)","v":""},{"$f":"IF('A) Eingabe (Lehrer)'!AD99=\"\", \"\",'A) Eingabe (Lehrer)'!AD99)","v":""},{"$f":"IF('A) Eingabe (Lehrer)'!AE99=\"\", \"\",'A) Eingabe (Lehrer)'!AE99)","v":""},{"$f":"IF('A) Eingabe (Lehrer)'!AF99=\"\", \"\",'A) Eingabe (Lehrer)'!AF99)","v":""},{"$f":"IF('A) Eingabe (Lehrer)'!AG99=\"\", \"\",'A) Eingabe (Lehrer)'!AG99)","v":""},{"$f":"IF('A) Eingabe (Lehrer)'!AH99=\"\", \"\",'A) Eingabe (Lehrer)'!AH99)","v":""},{"$f":"IF('A) Eingabe (Lehrer)'!AI99=\"\", \"\",'A) Eingabe (Lehrer)'!AI99)","v":""},{"$f":"IF('A) Eingabe (Lehrer)'!AJ99=\"\", \"\",'A) Eingabe (Lehrer)'!AJ99)","v":""},{"$f":"IF('A) Eingabe (Lehrer)'!AK99=\"\", \"\",'A) Eingabe (Lehrer)'!AK99)","v":""},{"$f":"IF('A) Eingabe (Lehrer)'!AL99=\"\", \"\",'A) Eingabe (Lehrer)'!AL99)","v":""},{"$f":"IF('A) Eingabe (Lehrer)'!AM99=\"\", \"\",'A) Eingabe (Lehrer)'!AM99)","v":""},{"$f":"IF('A) Eingabe (Lehrer)'!AN99=\"\", \"\",'A) Eingabe (Lehrer)'!AN99)","v":""},{"$f":"IF('A) Eingabe (Lehrer)'!AO99=\"\", \"\",'A) Eingabe (Lehrer)'!AO99)","v":""},{"$f":"IF('A) Eingabe (Lehrer)'!AP99=\"\", \"\",'A) Eingabe (Lehrer)'!AP99)","v":""},{"$f":"IF('A) Eingabe (Lehrer)'!AQ99=\"\", \"\",'A) Eingabe (Lehrer)'!AQ99)","v":""},{"$f":"IF('A) Eingabe (Lehrer)'!AR99=\"\", \"\",'A) Eingabe (Lehrer)'!AR99)","v":""},{"$f":"IF('A) Eingabe (Lehrer)'!AS99=\"\", \"\",'A) Eingabe (Lehrer)'!AS99)","v":""},{"$f":"IF('A) Eingabe (Lehrer)'!AT99=\"\", \"\",'A) Eingabe (Lehrer)'!AT99)","v":""},{"$f":"IF('A) Eingabe (Lehrer)'!AU99=\"\", \"\",'A) Eingabe (Lehrer)'!AU99)","v":""},{"$f":"IF('A) Eingabe (Lehrer)'!AV99=\"\", \"\",'A) Eingabe (Lehrer)'!AV99)","v":""},{"$f":"IF('A) Eingabe (Lehrer)'!AW99=\"\", \"\",'A) Eingabe (Lehrer)'!AW99)","v":""},{"$f":"IF('A) Eingabe (Lehrer)'!AX99=\"\", \"\",'A) Eingabe (Lehrer)'!AX99)","v":""},{"$f":"IF('A) Eingabe (Lehrer)'!AY99=\"\", \"\",'A) Eingabe (Lehrer)'!AY99)","v":""},{"$f":"IF('A) Eingabe (Lehrer)'!AZ99=\"\", \"\",'A) Eingabe (Lehrer)'!AZ99)","v":""},{"$f":"IF('A) Eingabe (Lehrer)'!BA99=\"\", \"\",'A) Eingabe (Lehrer)'!BA99)","v":""},{"$f":"IF('A) Eingabe (Lehrer)'!BB99=\"\", \"\",'A) Eingabe (Lehrer)'!BB99)","v":""},{"$f":"IF('A) Eingabe (Lehrer)'!BC99=\"\", \"\",'A) Eingabe (Lehrer)'!BC99)","v":""},{"$f":"IF('A) Eingabe (Lehrer)'!BD99=\"\", \"\",'A) Eingabe (Lehrer)'!BD99)","v":""},{"$f":"IF('A) Eingabe (Lehrer)'!BE99=\"\", \"\",'A) Eingabe (Lehrer)'!BE99)","v":""},{"$f":"IF('A) Eingabe (Lehrer)'!BF99=\"\", \"\",'A) Eingabe (Lehrer)'!BF99)","v":""},{"$f":"IF('A) Eingabe (Lehrer)'!BG99=\"\", \"\",'A) Eingabe (Lehrer)'!BG99)","v":""},{"$f":"IF('A) Eingabe (Lehrer)'!BH99=\"\", \"\",'A) Eingabe (Lehrer)'!BH99)","v":""},{"$f":"IF('A) Eingabe (Lehrer)'!BI99=\"\", \"\",'A) Eingabe (Lehrer)'!BI99)","v":""},{"$f":"IF('A) Eingabe (Lehrer)'!BJ99=\"\", \"\",'A) Eingabe (Lehrer)'!BJ99)","v":""},{"$f":"IF('A) Eingabe (Lehrer)'!BK99=\"\", \"\",'A) Eingabe (Lehrer)'!BK99)","v":""}]
["Item 84",{"$f":"IF('A) Eingabe (Lehrer)'!C100=\"\", \"\",'A) Eingabe (Lehrer)'!C100)","v":""},{"$f":"IF('A) Eingabe (Lehrer)'!D100=\"\", \"\",'A) Eingabe (Lehrer)'!D100)","v":""},{"$f":"IF('A) Eingabe (Lehrer)'!E100=\"\", \"\",'A) Eingabe (Lehrer)'!E100)","v":""},{"$f":"IF('A) Eingabe (Lehrer)'!F100=\"\", \"\",'A) Eingabe (Lehrer)'!F100)","v":""},{"$f":"IF('A) Eingabe (Lehrer)'!G100=\"\", \"\",'A) Eingabe (Lehrer)'!G100)","v":""},{"$f":"IF('A) Eingabe (Lehrer)'!H100=\"\", \"\",'A) Eingabe (Lehrer)'!H100)","v":""},{"$f":"IF('A) Eingabe (Lehrer)'!I100=\"\", \"\",'A) Eingabe (Lehrer)'!I100)","v":""},{"$f":"IF('A) Eingabe (Lehrer)'!J100=\"\", \"\",'A) Eingabe (Lehrer)'!J100)","v":""},{"$f":"IF('A) Eingabe (Lehrer)'!K100=\"\", \"\",'A) Eingabe (Lehrer)'!K100)","v":""},{"$f":"IF('A) Eingabe (Lehrer)'!L100=\"\", \"\",'A) Eingabe (Lehrer)'!L100)","v":""},{"$f":"IF('A) Eingabe (Lehrer)'!M100=\"\", \"\",'A) Eingabe (Lehrer)'!M100)","v":""},{"$f":"IF('A) Eingabe (Lehrer)'!N100=\"\", \"\",'A) Eingabe (Lehrer)'!N100)","v":""},{"$f":"IF('A) Eingabe (Lehrer)'!O100=\"\", \"\",'A) Eingabe (Lehrer)'!O100)","v":""},{"$f":"IF('A) Eingabe (Lehrer)'!P100=\"\", \"\",'A) Eingabe (Lehrer)'!P100)","v":""},{"$f":"IF('A) Eingabe (Lehrer)'!Q100=\"\", \"\",'A) Eingabe (Lehrer)'!Q100)","v":""},{"$f":"IF('A) Eingabe (Lehrer)'!R100=\"\", \"\",'A) Eingabe (Lehrer)'!R100)","v":""},{"$f":"IF('A) Eingabe (Lehrer)'!S100=\"\", \"\",'A) Eingabe (Lehrer)'!S100)","v":""},{"$f":"IF('A) Eingabe (Lehrer)'!T100=\"\", \"\",'A) Eingabe (Lehrer)'!T100)","v":""},{"$f":"IF('A) Eingabe (Lehrer)'!U100=\"\", \"\",'A) Eingabe (Lehrer)'!U100)","v":""},{"$f":"IF('A) Eingabe (Lehrer)'!V100=\"\", \"\",'A) Eingabe (Lehrer)'!V100)","v":""},{"$f":"IF('A) Eingabe (Lehrer)'!W100=\"\", \"\",'A) Eingabe (Lehrer)'!W100)","v":""},{"$f":"IF('A) Eingabe (Lehrer)'!X100=\"\", \"\",'A) Eingabe (Lehrer)'!X100)","v":""},{"$f":"IF('A) Eingabe (Lehrer)'!Y100=\"\", \"\",'A) Eingabe (Lehrer)'!Y100)","v":""},{"$f":"IF('A) Eingabe (Lehrer)'!Z100=\"\", \"\",'A) Eingabe (Lehrer)'!Z100)","v":""},{"$f":"IF('A) Eingabe (Lehrer)'!AA100=\"\", \"\",'A) Eingabe (Lehrer)'!AA100)","v":""},{"$f":"IF('A) Eingabe (Lehrer)'!AB100=\"\", \"\",'A) Eingabe (Lehrer)'!AB100)","v":""},{"$f":"IF('A) Eingabe (Lehrer)'!AC100=\"\", \"\",'A) Eingabe (Lehrer)'!AC100)","v":""},{"$f":"IF('A) Eingabe (Lehrer)'!AD100=\"\", \"\",'A) Eingabe (Lehrer)'!AD100)","v":""},{"$f":"IF('A) Eingabe (Lehrer)'!AE100=\"\", \"\",'A) Eingabe (Lehrer)'!AE100)","v":""},{"$f":"IF('A) Eingabe (Lehrer)'!AF100=\"\", \"\",'A) Eingabe (Lehrer)'!AF100)","v":""},{"$f":"IF('A) Eingabe (Lehrer)'!AG100=\"\", \"\",'A) Eingabe (Lehrer)'!AG100)","v":""},{"$f":"IF('A) Eingabe (Lehrer)'!AH100=\"\", \"\",'A) Eingabe (Lehrer)'!AH100)","v":""},{"$f":"IF('A) Eingabe (Lehrer)'!AI100=\"\", \"\",'A) Eingabe (Lehrer)'!AI100)","v":""},{"$f":"IF('A) Eingabe (Lehrer)'!AJ100=\"\", \"\",'A) Eingabe (Lehrer)'!AJ100)","v":""},{"$f":"IF('A) Eingabe (Lehrer)'!AK100=\"\", \"\",'A) Eingabe (Lehrer)'!AK100)","v":""},{"$f":"IF('A) Eingabe (Lehrer)'!AL100=\"\", \"\",'A) Eingabe (Lehrer)'!AL100)","v":""},{"$f":"IF('A) Eingabe (Lehrer)'!AM100=\"\", \"\",'A) Eingabe (Lehrer)'!AM100)","v":""},{"$f":"IF('A) Eingabe (Lehrer)'!AN100=\"\", \"\",'A) Eingabe (Lehrer)'!AN100)","v":""},{"$f":"IF('A) Eingabe (Lehrer)'!AO100=\"\", \"\",'A) Eingabe (Lehrer)'!AO100)","v":""},{"$f":"IF('A) Eingabe (Lehrer)'!AP100=\"\", \"\",'A) Eingabe (Lehrer)'!AP100)","v":""},{"$f":"IF('A) Eingabe (Lehrer)'!AQ100=\"\", \"\",'A) Eingabe (Lehrer)'!AQ100)","v":""},{"$f":"IF('A) Eingabe (Lehrer)'!AR100=\"\", \"\",'A) Eingabe (Lehrer)'!AR100)","v":""},{"$f":"IF('A) Eingabe (Lehrer)'!AS100=\"\", \"\",'A) Eingabe (Lehrer)'!AS100)","v":""},{"$f":"IF('A) Eingabe (Lehrer)'!AT100=\"\", \"\",'A) Eingabe (Lehrer)'!AT100)","v":""},{"$f":"IF('A) Eingabe (Lehrer)'!AU100=\"\", \"\",'A) Eingabe (Lehrer)'!AU100)","v":""},{"$f":"IF('A) Eingabe (Lehrer)'!AV100=\"\", \"\",'A) Eingabe (Lehrer)'!AV100)","v":""},{"$f":"IF('A) Eingabe (Lehrer)'!AW100=\"\", \"\",'A) Eingabe (Lehrer)'!AW100)","v":""},{"$f":"IF('A) Eingabe (Lehrer)'!AX100=\"\", \"\",'A) Eingabe (Lehrer)'!AX100)","v":""},{"$f":"IF('A) Eingabe (Lehrer)'!AY100=\"\", \"\",'A) Eingabe (Lehrer)'!AY100)","v":""},{"$f":"IF('A) Eingabe (Lehrer)'!AZ100=\"\", \"\",'A) Eingabe (Lehrer)'!AZ100)","v":""},{"$f":"IF('A) Eingabe (Lehrer)'!BA100=\"\", \"\",'A) Eingabe (Lehrer)'!BA100)","v":""},{"$f":"IF('A) Eingabe (Lehrer)'!BB100=\"\", \"\",'A) Eingabe (Lehrer)'!BB100)","v":""},{"$f":"IF('A) Eingabe (Lehrer)'!BC100=\"\", \"\",'A) Eingabe (Lehrer)'!BC100)","v":""},{"$f":"IF('A) Eingabe (Lehrer)'!BD100=\"\", \"\",'A) Eingabe (Lehrer)'!BD100)","v":""},{"$f":"IF('A) Eingabe (Lehrer)'!BE100=\"\", \"\",'A) Eingabe (Lehrer)'!BE100)","v":""},{"$f":"IF('A) Eingabe (Lehrer)'!BF100=\"\", \"\",'A) Eingabe (Lehrer)'!BF100)","v":""},{"$f":"IF('A) Eingabe (Lehrer)'!BG100=\"\", \"\",'A) Eingabe (Lehrer)'!BG100)","v":""},{"$f":"IF('A) Eingabe (Lehrer)'!BH100=\"\", \"\",'A) Eingabe (Lehrer)'!BH100)","v":""},{"$f":"IF('A) Eingabe (Lehrer)'!BI100=\"\", \"\",'A) Eingabe (Lehrer)'!BI100)","v":""},{"$f":"IF('A) Eingabe (Lehrer)'!BJ100=\"\", \"\",'A) Eingabe (Lehrer)'!BJ100)","v":""},{"$f":"IF('A) Eingabe (Lehrer)'!BK100=\"\", \"\",'A) Eingabe (Lehrer)'!BK100)","v":""}]
["Item 85",{"$f":"IF('A) Eingabe (Lehrer)'!C101=\"\", \"\",'A) Eingabe (Lehrer)'!C101)","v":""},{"$f":"IF('A) Eingabe (Lehrer)'!D101=\"\", \"\",'A) Eingabe (Lehrer)'!D101)","v":""},{"$f":"IF('A) Eingabe (Lehrer)'!E101=\"\", \"\",'A) Eingabe (Lehrer)'!E101)","v":""},{"$f":"IF('A) Eingabe (Lehrer)'!F101=\"\", \"\",'A) Eingabe (Lehrer)'!F101)","v":""},{"$f":"IF('A) Eingabe (Lehrer)'!G101=\"\", \"\",'A) Eingabe (Lehrer)'!G101)","v":""},{"$f":"IF('A) Eingabe (Lehrer)'!H101=\"\", \"\",'A) Eingabe (Lehrer)'!H101)","v":""},{"$f":"IF('A) Eingabe (Lehrer)'!I101=\"\", \"\",'A) Eingabe (Lehrer)'!I101)","v":""},{"$f":"IF('A) Eingabe (Lehrer)'!J101=\"\", \"\",'A) Eingabe (Lehrer)'!J101)","v":""},{"$f":"IF('A) Eingabe (Lehrer)'!K101=\"\", \"\",'A) Eingabe (Lehrer)'!K101)","v":""},{"$f":"IF('A) Eingabe (Lehrer)'!L101=\"\", \"\",'A) Eingabe (Lehrer)'!L101)","v":""},{"$f":"IF('A) Eingabe (Lehrer)'!M101=\"\", \"\",'A) Eingabe (Lehrer)'!M101)","v":""},{"$f":"IF('A) Eingabe (Lehrer)'!N101=\"\", \"\",'A) Eingabe (Lehrer)'!N101)","v":""},{"$f":"IF('A) Eingabe (Lehrer)'!O101=\"\", \"\",'A) Eingabe (Lehrer)'!O101)","v":""},{"$f":"IF('A) Eingabe (Lehrer)'!P101=\"\", \"\",'A) Eingabe (Lehrer)'!P101)","v":""},{"$f":"IF('A) Eingabe (Lehrer)'!Q101=\"\", \"\",'A) Eingabe (Lehrer)'!Q101)","v":""},{"$f":"IF('A) Eingabe (Lehrer)'!R101=\"\", \"\",'A) Eingabe (Lehrer)'!R101)","v":""},{"$f":"IF('A) Eingabe (Lehrer)'!S101=\"\", \"\",'A) Eingabe (Lehrer)'!S101)","v":""},{"$f":"IF('A) Eingabe (Lehrer)'!T101=\"\", \"\",'A) Eingabe (Lehrer)'!T101)","v":""},{"$f":"IF('A) Eingabe (Lehrer)'!U101=\"\", \"\",'A) Eingabe (Lehrer)'!U101)","v":""},{"$f":"IF('A) Eingabe (Lehrer)'!V101=\"\", \"\",'A) Eingabe (Lehrer)'!V101)","v":""},{"$f":"IF('A) Eingabe (Lehrer)'!W101=\"\", \"\",'A) Eingabe (Lehrer)'!W101)","v":""},{"$f":"IF('A) Eingabe (Lehrer)'!X101=\"\", \"\",'A) Eingabe (Lehrer)'!X101)","v":""},{"$f":"IF('A) Eingabe (Lehrer)'!Y101=\"\", \"\",'A) Eingabe (Lehrer)'!Y101)","v":""},{"$f":"IF('A) Eingabe (Lehrer)'!Z101=\"\", \"\",'A) Eingabe (Lehrer)'!Z101)","v":""},{"$f":"IF('A) Eingabe (Lehrer)'!AA101=\"\", \"\",'A) Eingabe (Lehrer)'!AA101)","v":""},{"$f":"IF('A) Eingabe (Lehrer)'!AB101=\"\", \"\",'A) Eingabe (Lehrer)'!AB101)","v":""},{"$f":"IF('A) Eingabe (Lehrer)'!AC101=\"\", \"\",'A) Eingabe (Lehrer)'!AC101)","v":""},{"$f":"IF('A) Eingabe (Lehrer)'!AD101=\"\", \"\",'A) Eingabe (Lehrer)'!AD101)","v":""},{"$f":"IF('A) Eingabe (Lehrer)'!AE101=\"\", \"\",'A) Eingabe (Lehrer)'!AE101)","v":""},{"$f":"IF('A) Eingabe (Lehrer)'!AF101=\"\", \"\",'A) Eingabe (Lehrer)'!AF101)","v":""},{"$f":"IF('A) Eingabe (Lehrer)'!AG101=\"\", \"\",'A) Eingabe (Lehrer)'!AG101)","v":""},{"$f":"IF('A) Eingabe (Lehrer)'!AH101=\"\", \"\",'A) Eingabe (Lehrer)'!AH101)","v":""},{"$f":"IF('A) Eingabe (Lehrer)'!AI101=\"\", \"\",'A) Eingabe (Lehrer)'!AI101)","v":""},{"$f":"IF('A) Eingabe (Lehrer)'!AJ101=\"\", \"\",'A) Eingabe (Lehrer)'!AJ101)","v":""},{"$f":"IF('A) Eingabe (Lehrer)'!AK101=\"\", \"\",'A) Eingabe (Lehrer)'!AK101)","v":""},{"$f":"IF('A) Eingabe (Lehrer)'!AL101=\"\", \"\",'A) Eingabe (Lehrer)'!AL101)","v":""},{"$f":"IF('A) Eingabe (Lehrer)'!AM101=\"\", \"\",'A) Eingabe (Lehrer)'!AM101)","v":""},{"$f":"IF('A) Eingabe (Lehrer)'!AN101=\"\", \"\",'A) Eingabe (Lehrer)'!AN101)","v":""},{"$f":"IF('A) Eingabe (Lehrer)'!AO101=\"\", \"\",'A) Eingabe (Lehrer)'!AO101)","v":""},{"$f":"IF('A) Eingabe (Lehrer)'!AP101=\"\", \"\",'A) Eingabe (Lehrer)'!AP101)","v":""},{"$f":"IF('A) Eingabe (Lehrer)'!AQ101=\"\", \"\",'A) Eingabe (Lehrer)'!AQ101)","v":""},{"$f":"IF('A) Eingabe (Lehrer)'!AR101=\"\", \"\",'A) Eingabe (Lehrer)'!AR101)","v":""},{"$f":"IF('A) Eingabe (Lehrer)'!AS101=\"\", \"\",'A) Eingabe (Lehrer)'!AS101)","v":""},{"$f":"IF('A) Eingabe (Lehrer)'!AT101=\"\", \"\",'A) Eingabe (Lehrer)'!AT101)","v":""},{"$f":"IF('A) Eingabe (Lehrer)'!AU101=\"\", \"\",'A) Eingabe (Lehrer)'!AU101)","v":""},{"$f":"IF('A) Eingabe (Lehrer)'!AV101=\"\", \"\",'A) Eingabe (Lehrer)'!AV101)","v":""},{"$f":"IF('A) Eingabe (Lehrer)'!AW101=\"\", \"\",'A) Eingabe (Lehrer)'!AW101)","v":""},{"$f":"IF('A) Eingabe (Lehrer)'!AX101=\"\", \"\",'A) Eingabe (Lehrer)'!AX101)","v":""},{"$f":"IF('A) Eingabe (Lehrer)'!AY101=\"\", \"\",'A) Eingabe (Lehrer)'!AY101)","v":""},{"$f":"IF('A) Eingabe (Lehrer)'!AZ101=\"\", \"\",'A) Eingabe (Lehrer)'!AZ101)","v":""},{"$f":"IF('A) Eingabe (Lehrer)'!BA101=\"\", \"\",'A) Eingabe (Lehrer)'!BA101)","v":""},{"$f":"IF('A) Eingabe (Lehrer)'!BB101=\"\", \"\",'A) Eingabe (Lehrer)'!BB101)","v":""},{"$f":"IF('A) Eingabe (Lehrer)'!BC101=\"\", \"\",'A) Eingabe (Lehrer)'!BC101)","v":""},{"$f":"IF('A) Eingabe (Lehrer)'!BD101=\"\", \"\",'A) Eingabe (Lehrer)'!BD101)","v":""},{"$f":"IF('A) Eingabe (Lehrer)'!BE101=\"\", \"\",'A) Eingabe (Lehrer)'!BE101)","v":""},{"$f":"IF('A) Eingabe (Lehrer)'!BF101=\"\", \"\",'A) Eingabe (Lehrer)'!BF101)","v":""},{"$f":"IF('A) Eingabe (Lehrer)'!BG101=\"\", \"\",'A) Eingabe (Lehrer)'!BG101)","v":""},{"$f":"IF('A) Eingabe (Lehrer)'!BH101=\"\", \"\",'A) Eingabe (Lehrer)'!BH101)","v":""},{"$f":"IF('A) Eingabe (Lehrer)'!BI101=\"\", \"\",'A) Eingabe (Lehrer)'!BI101)","v":""},{"$f":"IF('A) Eingabe (Lehrer)'!BJ101=\"\", \"\",'A) Eingabe (Lehrer)'!BJ101)","v":""},{"$f":"IF('A) Eingabe (Lehrer)'!BK101=\"\", \"\",'A) Eingabe (Lehrer)'!BK101)","v":""}]
["Item 86",{"$f":"IF('A) Eingabe (Lehrer)'!C102=\"\", \"\",'A) Eingabe (Lehrer)'!C102)","v":""},{"$f":"IF('A) Eingabe (Lehrer)'!D102=\"\", \"\",'A) Eingabe (Lehrer)'!D102)","v":""},{"$f":"IF('A) Eingabe (Lehrer)'!E102=\"\", \"\",'A) Eingabe (Lehrer)'!E102)","v":""},{"$f":"IF('A) Eingabe (Lehrer)'!F102=\"\", \"\",'A) Eingabe (Lehrer)'!F102)","v":""},{"$f":"IF('A) Eingabe (Lehrer)'!G102=\"\", \"\",'A) Eingabe (Lehrer)'!G102)","v":""},{"$f":"IF('A) Eingabe (Lehrer)'!H102=\"\", \"\",'A) Eingabe (Lehrer)'!H102)","v":""},{"$f":"IF('A) Eingabe (Lehrer)'!I102=\"\", \"\",'A) Eingabe (Lehrer)'!I102)","v":""},{"$f":"IF('A) Eingabe (Lehrer)'!J102=\"\", \"\",'A) Eingabe (Lehrer)'!J102)","v":""},{"$f":"IF('A) Eingabe (Lehrer)'!K102=\"\", \"\",'A) Eingabe (Lehrer)'!K102)","v":""},{"$f":"IF('A) Eingabe (Lehrer)'!L102=\"\", \"\",'A) Eingabe (Lehrer)'!L102)","v":""},{"$f":"IF('A) Eingabe (Lehrer)'!M102=\"\", \"\",'A) Eingabe (Lehrer)'!M102)","v":""},{"$f":"IF('A) Eingabe (Lehrer)'!N102=\"\", \"\",'A) Eingabe (Lehrer)'!N102)","v":""},{"$f":"IF('A) Eingabe (Lehrer)'!O102=\"\", \"\",'A) Eingabe (Lehrer)'!O102)","v":""},{"$f":"IF('A) Eingabe (Lehrer)'!P102=\"\", \"\",'A) Eingabe (Lehrer)'!P102)","v":""},{"$f":"IF('A) Eingabe (Lehrer)'!Q102=\"\", \"\",'A) Eingabe (Lehrer)'!Q102)","v":""},{"$f":"IF('A) Eingabe (Lehrer)'!R102=\"\", \"\",'A) Eingabe (Lehrer)'!R102)","v":""},{"$f":"IF('A) Eingabe (Lehrer)'!S102=\"\", \"\",'A) Eingabe (Lehrer)'!S102)","v":""},{"$f":"IF('A) Eingabe (Lehrer)'!T102=\"\", \"\",'A) Eingabe (Lehrer)'!T102)","v":""},{"$f":"IF('A) Eingabe (Lehrer)'!U102=\"\", \"\",'A) Eingabe (Lehrer)'!U102)","v":""},{"$f":"IF('A) Eingabe (Lehrer)'!V102=\"\", \"\",'A) Eingabe (Lehrer)'!V102)","v":""},{"$f":"IF('A) Eingabe (Lehrer)'!W102=\"\", \"\",'A) Eingabe (Lehrer)'!W102)","v":""},{"$f":"IF('A) Eingabe (Lehrer)'!X102=\"\", \"\",'A) Eingabe (Lehrer)'!X102)","v":""},{"$f":"IF('A) Eingabe (Lehrer)'!Y102=\"\", \"\",'A) Eingabe (Lehrer)'!Y102)","v":""},{"$f":"IF('A) Eingabe (Lehrer)'!Z102=\"\", \"\",'A) Eingabe (Lehrer)'!Z102)","v":""},{"$f":"IF('A) Eingabe (Lehrer)'!AA102=\"\", \"\",'A) Eingabe (Lehrer)'!AA102)","v":""},{"$f":"IF('A) Eingabe (Lehrer)'!AB102=\"\", \"\",'A) Eingabe (Lehrer)'!AB102)","v":""},{"$f":"IF('A) Eingabe (Lehrer)'!AC102=\"\", \"\",'A) Eingabe (Lehrer)'!AC102)","v":""},{"$f":"IF('A) Eingabe (Lehrer)'!AD102=\"\", \"\",'A) Eingabe (Lehrer)'!AD102)","v":""},{"$f":"IF('A) Eingabe (Lehrer)'!AE102=\"\", \"\",'A) Eingabe (Lehrer)'!AE102)","v":""},{"$f":"IF('A) Eingabe (Lehrer)'!AF102=\"\", \"\",'A) Eingabe (Lehrer)'!AF102)","v":""},{"$f":"IF('A) Eingabe (Lehrer)'!AG102=\"\", \"\",'A) Eingabe (Lehrer)'!AG102)","v":""},{"$f":"IF('A) Eingabe (Lehrer)'!AH102=\"\", \"\",'A) Eingabe (Lehrer)'!AH102)","v":""},{"$f":"IF('A) Eingabe (Lehrer)'!AI102=\"\", \"\",'A) Eingabe (Lehrer)'!AI102)","v":""},{"$f":"IF('A) Eingabe (Lehrer)'!AJ102=\"\", \"\",'A) Eingabe (Lehrer)'!AJ102)","v":""},{"$f":"IF('A) Eingabe (Lehrer)'!AK102=\"\", \"\",'A) Eingabe (Lehrer)'!AK102)","v":""},{"$f":"IF('A) Eingabe (Lehrer)'!AL102=\"\", \"\",'A) Eingabe (Lehrer)'!AL102)","v":""},{"$f":"IF('A) Eingabe (Lehrer)'!AM102=\"\", \"\",'A) Eingabe (Lehrer)'!AM102)","v":""},{"$f":"IF('A) Eingabe (Lehrer)'!AN102=\"\", \"\",'A) Eingabe (Lehrer)'!AN102)","v":""},{"$f":"IF('A) Eingabe (Lehrer)'!AO102=\"\", \"\",'A) Eingabe (Lehrer)'!AO102)","v":""},{"$f":"IF('A) Eingabe (Lehrer)'!AP102=\"\", \"\",'A) Eingabe (Lehrer)'!AP102)","v":""},{"$f":"IF('A) Eingabe (Lehrer)'!AQ102=\"\", \"\",'A) Eingabe (Lehrer)'!AQ102)","v":""},{"$f":"IF('A) Eingabe (Lehrer)'!AR102=\"\", \"\",'A) Eingabe (Lehrer)'!AR102)","v":""},{"$f":"IF('A) Eingabe (Lehrer)'!AS102=\"\", \"\",'A) Eingabe (Lehrer)'!AS102)","v":""},{"$f":"IF('A) Eingabe (Lehrer)'!AT102=\"\", \"\",'A) Eingabe (Lehrer)'!AT102)","v":""},{"$f":"IF('A) Eingabe (Lehrer)'!AU102=\"\", \"\",'A) Eingabe (Lehrer)'!AU102)","v":""},{"$f":"IF('A) Eingabe (Lehrer)'!AV102=\"\", \"\",'A) Eingabe (Lehrer)'!AV102)","v":""},{"$f":"IF('A) Eingabe (Lehrer)'!AW102=\"\", \"\",'A) Eingabe (Lehrer)'!AW102)","v":""},{"$f":"IF('A) Eingabe (Lehrer)'!AX102=\"\", \"\",'A) Eingabe (Lehrer)'!AX102)","v":""},{"$f":"IF('A) Eingabe (Lehrer)'!AY102=\"\", \"\",'A) Eingabe (Lehrer)'!AY102)","v":""},{"$f":"IF('A) Eingabe (Lehrer)'!AZ102=\"\", \"\",'A) Eingabe (Lehrer)'!AZ102)","v":""},{"$f":"IF('A) Eingabe (Lehrer)'!BA102=\"\", \"\",'A) Eingabe (Lehrer)'!BA102)","v":""},{"$f":"IF('A) Eingabe (Lehrer)'!BB102=\"\", \"\",'A) Eingabe (Lehrer)'!BB102)","v":""},{"$f":"IF('A) Eingabe (Lehrer)'!BC102=\"\", \"\",'A) Eingabe (Lehrer)'!BC102)","v":""},{"$f":"IF('A) Eingabe (Lehrer)'!BD102=\"\", \"\",'A) Eingabe (Lehrer)'!BD102)","v":""},{"$f":"IF('A) Eingabe (Lehrer)'!BE102=\"\", \"\",'A) Eingabe (Lehrer)'!BE102)","v":""},{"$f":"IF('A) Eingabe (Lehrer)'!BF102=\"\", \"\",'A) Eingabe (Lehrer)'!BF102)","v":""},{"$f":"IF('A) Eingabe (Lehrer)'!BG102=\"\", \"\",'A) Eingabe (Lehrer)'!BG102)","v":""},{"$f":"IF('A) Eingabe (Lehrer)'!BH102=\"\", \"\",'A) Eingabe (Lehrer)'!BH102)","v":""},{"$f":"IF('A) Eingabe (Lehrer)'!BI102=\"\", \"\",'A) Eingabe (Lehrer)'!BI102)","v":""},{"$f":"IF('A) Eingabe (Lehrer)'!BJ102=\"\", \"\",'A) Eingabe (Lehrer)'!BJ102)","v":""},{"$f":"IF('A) Eingabe (Lehrer)'!BK102=\"\", \"\",'A) Eingabe (Lehrer)'!BK102)","v":""}]
["Item 87",{"$f":"IF('A) Eingabe (Lehrer)'!C103=\"\", \"\",'A) Eingabe (Lehrer)'!C103)","v":""},{"$f":"IF('A) Eingabe (Lehrer)'!D103=\"\", \"\",'A) Eingabe (Lehrer)'!D103)","v":""},{"$f":"IF('A) Eingabe (Lehrer)'!E103=\"\", \"\",'A) Eingabe (Lehrer)'!E103)","v":""},{"$f":"IF('A) Eingabe (Lehrer)'!F103=\"\", \"\",'A) Eingabe (Lehrer)'!F103)","v":""},{"$f":"IF('A) Eingabe (Lehrer)'!G103=\"\", \"\",'A) Eingabe (Lehrer)'!G103)","v":""},{"$f":"IF('A) Eingabe (Lehrer)'!H103=\"\", \"\",'A) Eingabe (Lehrer)'!H103)","v":""},{"$f":"IF('A) Eingabe (Lehrer)'!I103=\"\", \"\",'A) Eingabe (Lehrer)'!I103)","v":""},{"$f":"IF('A) Eingabe (Lehrer)'!J103=\"\", \"\",'A) Eingabe (Lehrer)'!J103)","v":""},{"$f":"IF('A) Eingabe (Lehrer)'!K103=\"\", \"\",'A) Eingabe (Lehrer)'!K103)","v":""},{"$f":"IF('A) Eingabe (Lehrer)'!L103=\"\", \"\",'A) Eingabe (Lehrer)'!L103)","v":""},{"$f":"IF('A) Eingabe (Lehrer)'!M103=\"\", \"\",'A) Eingabe (Lehrer)'!M103)","v":""},{"$f":"IF('A) Eingabe (Lehrer)'!N103=\"\", \"\",'A) Eingabe (Lehrer)'!N103)","v":""},{"$f":"IF('A) Eingabe (Lehrer)'!O103=\"\", \"\",'A) Eingabe (Lehrer)'!O103)","v":""},{"$f":"IF('A) Eingabe (Lehrer)'!P103=\"\", \"\",'A) Eingabe (Lehrer)'!P103)","v":""},{"$f":"IF('A) Eingabe (Lehrer)'!Q103=\"\", \"\",'A) Eingabe (Lehrer)'!Q103)","v":""},{"$f":"IF('A) Eingabe (Lehrer)'!R103=\"\", \"\",'A) Eingabe (Lehrer)'!R103)","v":""},{"$f":"IF('A) Eingabe (Lehrer)'!S103=\"\", \"\",'A) Eingabe (Lehrer)'!S103)","v":""},{"$f":"IF('A) Eingabe (Lehrer)'!T103=\"\", \"\",'A) Eingabe (Lehrer)'!T103)","v":""},{"$f":"IF('A) Eingabe (Lehrer)'!U103=\"\", \"\",'A) Eingabe (Lehrer)'!U103)","v":""},{"$f":"IF('A) Eingabe (Lehrer)'!V103=\"\", \"\",'A) Eingabe (Lehrer)'!V103)","v":""},{"$f":"IF('A) Eingabe (Lehrer)'!W103=\"\", \"\",'A) Eingabe (Lehrer)'!W103)","v":""},{"$f":"IF('A) Eingabe (Lehrer)'!X103=\"\", \"\",'A) Eingabe (Lehrer)'!X103)","v":""},{"$f":"IF('A) Eingabe (Lehrer)'!Y103=\"\", \"\",'A) Eingabe (Lehrer)'!Y103)","v":""},{"$f":"IF('A) Eingabe (Lehrer)'!Z103=\"\", \"\",'A) Eingabe (Lehrer)'!Z103)","v":""},{"$f":"IF('A) Eingabe (Lehrer)'!AA103=\"\", \"\",'A) Eingabe (Lehrer)'!AA103)","v":""},{"$f":"IF('A) Eingabe (Lehrer)'!AB103=\"\", \"\",'A) Eingabe (Lehrer)'!AB103)","v":""},{"$f":"IF('A) Eingabe (Lehrer)'!AC103=\"\", \"\",'A) Eingabe (Lehrer)'!AC103)","v":""},{"$f":"IF('A) Eingabe (Lehrer)'!AD103=\"\", \"\",'A) Eingabe (Lehrer)'!AD103)","v":""},{"$f":"IF('A) Eingabe (Lehrer)'!AE103=\"\", \"\",'A) Eingabe (Lehrer)'!AE103)","v":""},{"$f":"IF('A) Eingabe (Lehrer)'!AF103=\"\", \"\",'A) Eingabe (Lehrer)'!AF103)","v":""},{"$f":"IF('A) Eingabe (Lehrer)'!AG103=\"\", \"\",'A) Eingabe (Lehrer)'!AG103)","v":""},{"$f":"IF('A) Eingabe (Lehrer)'!AH103=\"\", \"\",'A) Eingabe (Lehrer)'!AH103)","v":""},{"$f":"IF('A) Eingabe (Lehrer)'!AI103=\"\", \"\",'A) Eingabe (Lehrer)'!AI103)","v":""},{"$f":"IF('A) Eingabe (Lehrer)'!AJ103=\"\", \"\",'A) Eingabe (Lehrer)'!AJ103)","v":""},{"$f":"IF('A) Eingabe (Lehrer)'!AK103=\"\", \"\",'A) Eingabe (Lehrer)'!AK103)","v":""},{"$f":"IF('A) Eingabe (Lehrer)'!AL103=\"\", \"\",'A) Eingabe (Lehrer)'!AL103)","v":""},{"$f":"IF('A) Eingabe (Lehrer)'!AM103=\"\", \"\",'A) Eingabe (Lehrer)'!AM103)","v":""},{"$f":"IF('A) Eingabe (Lehrer)'!AN103=\"\", \"\",'A) Eingabe (Lehrer)'!AN103)","v":""},{"$f":"IF('A) Eingabe (Lehrer)'!AO103=\"\", \"\",'A) Eingabe (Lehrer)'!AO103)","v":""},{"$f":"IF('A) Eingabe (Lehrer)'!AP103=\"\", \"\",'A) Eingabe (Lehrer)'!AP103)","v":""},{"$f":"IF('A) Eingabe (Lehrer)'!AQ103=\"\", \"\",'A) Eingabe (Lehrer)'!AQ103)","v":""},{"$f":"IF('A) Eingabe (Lehrer)'!AR103=\"\", \"\",'A) Eingabe (Lehrer)'!AR103)","v":""},{"$f":"IF('A) Eingabe (Lehrer)'!AS103=\"\", \"\",'A) Eingabe (Lehrer)'!AS103)","v":""},{"$f":"IF('A) Eingabe (Lehrer)'!AT103=\"\", \"\",'A) Eingabe (Lehrer)'!AT103)","v":""},{"$f":"IF('A) Eingabe (Lehrer)'!AU103=\"\", \"\",'A) Eingabe (Lehrer)'!AU103)","v":""},{"$f":"IF('A) Eingabe (Lehrer)'!AV103=\"\", \"\",'A) Eingabe (Lehrer)'!AV103)","v":""},{"$f":"IF('A) Eingabe (Lehrer)'!AW103=\"\", \"\",'A) Eingabe (Lehrer)'!AW103)","v":""},{"$f":"IF('A) Eingabe (Lehrer)'!AX103=\"\", \"\",'A) Eingabe (Lehrer)'!AX103)","v":""},{"$f":"IF('A) Eingabe (Lehrer)'!AY103=\"\", \"\",'A) Eingabe (Lehrer)'!AY103)","v":""},{"$f":"IF('A) Eingabe (Lehrer)'!AZ103=\"\", \"\",'A) Eingabe (Lehrer)'!AZ103)","v":""},{"$f":"IF('A) Eingabe (Lehrer)'!BA103=\"\", \"\",'A) Eingabe (Lehrer)'!BA103)","v":""},{"$f":"IF('A) Eingabe (Lehrer)'!BB103=\"\", \"\",'A) Eingabe (Lehrer)'!BB103)","v":""},{"$f":"IF('A) Eingabe (Lehrer)'!BC103=\"\", \"\",'A) Eingabe (Lehrer)'!BC103)","v":""},{"$f":"IF('A) Eingabe (Lehrer)'!BD103=\"\", \"\",'A) Eingabe (Lehrer)'!BD103)","v":""},{"$f":"IF('A) Eingabe (Lehrer)'!BE103=\"\", \"\",'A) Eingabe (Lehrer)'!BE103)","v":""},{"$f":"IF('A) Eingabe (Lehrer)'!BF103=\"\", \"\",'A) Eingabe (Lehrer)'!BF103)","v":""},{"$f":"IF('A) Eingabe (Lehrer)'!BG103=\"\", \"\",'A) Eingabe (Lehrer)'!BG103)","v":""},{"$f":"IF('A) Eingabe (Lehrer)'!BH103=\"\", \"\",'A) Eingabe (Lehrer)'!BH103)","v":""},{"$f":"IF('A) Eingabe (Lehrer)'!BI103=\"\", \"\",'A) Eingabe (Lehrer)'!BI103)","v":""},{"$f":"IF('A) Eingabe (Lehrer)'!BJ103=\"\", \"\",'A) Eingabe (Lehrer)'!BJ103)","v":""},{"$f":"IF('A) Eingabe (Lehrer)'!BK103=\"\", \"\",'A) Eingabe (Lehrer)'!BK103)","v":""}]
[]
["N",{"$f":"COUNT(B3:B87)","v":0},0,0,0,0,0,0,0,0,0,0,0,0,0,0,0,0,0,0,0,0,0,0,0,0,0,0,0,0,0,0,0,{"$f":"COUNT(AH3:AH87)","v":0},0,0,0,0,0,0,0,0,0,0,0,0,0,0,0,0,0,0,0,0,0,0,0,0,0,0,0,0]
["ID",{"$f":"B2","v":""},{"$f":"C2","v":"1"},{"$f":"D2","v":"2"},{"$f":"E2","v":"3"},"4","5","6","7","8","9","10","11","12","13","14","15","16","17","18","19","20","21","22","23","24","25","26","27","28","29","30","31","32","33","34","35","36","37","38","39","40","41","42","43","44","45","46","47","48","49","50","51","52","53","54","55","56","57","58","59",{"$f":"BJ2","v":"60"}]
["MW",{"$f":"IF(B91=0, \"\", AVERAGE(B3:B89))","v":""},"","","","","","","","","","","","","","","","","","","","","","","","","","","","","","","",{"$f":"IF(AH91=0, \"\", AVERAGE(AH3:AH89))","v":""},"","","","","","","","","","","","","","","","","","","","","","","","","","","",""]
[]
[null,0,""]
[null,0,""]
[null,0,""]
[null,0,""]
[null,0,""]
[null,0,""]
[null,0,""]
[null,0,""]
[null,0,""]
[null,0,""]
[null,0,""]
[null,0,""]
[null,0,""]
[null,0,""]
[null,0,""]
[null,0,""]
[null,0,""]
[null,0,""]
[null,0,""]
[null,0,""]
[null,0,""]
[null,0,""]
[null,0,""]
[null,0,""]
[null,0,""]
[null,0,""]
[null,0,""]
[null,0,""]
[null,0,""]
[null,0,""]
[null,0,""]
[null,0,""]
[null,0,""]
[null,0,""]
[null,0,""]
[null,0,""]
[null,0,""]
[null,0,""]
[null,0,""]
[null,0,""]
[null,0,""]
[null,0,""]
[null,0,""]
[null,0,""]
[null,0,""]
[null,0,""]
[null,0,""]
[null,0,""]
[null,0,""]
[null,0,""]
[null,0,""]
[null,0,""]
[null,0,""]
[null,0,""]
[null,0,""]
[null,0,""]
[null,0,""]
[null,0,""]
[null,85,"Koll2"]
[null,85,"Kollege1"]
[null,85,"Lehrer"]
[null,"",""]

{"sheet":"A) Alle Ergebnisse","index":11,"n_rows":39,"n_cols":8,"rows_kept":39,"cut":false,"hidden":true,"merged":[[1,0,1,5],[4,2,4,5],[4,0,4,1],[2,0,3,5],[38,2,38,4],[37,2,37,4],[36,2,36,3],[2,6,3,6],[4,6,5,6]]}
[]
["Đối chiếu kết quả toàn bộ phiếu giáo viên, học sinh và đồng nghiệp"]
[null,null,null,null,null,null,"Giá trị trung bình"]
[]
["ĐIỀU TRA LẦN THỨ NHẤT",null,"Phân bố kết quả trả lời phiếu"]
[null,{"$f":"'A) Eingabe (Lehrer)'!B11","v":"Điều khiển tiến trình giờ học"},"Học sinh\n(1,   2,   3,   4)","N","Đồng nghiệp\n(1,   2,   3,   4)","N"]
[{"$f":"'A) Eingabe (Schüler)'!A12","v":1},{"$f":"'A) Eingabe (Lehrer)'!B12","v":"Giờ học được bắt đầu đúng thời gian quy định "},null,{"$f":"'A) Daten'!E3","v":0},null,{"$f":"'A) Daten'!N3","v":0},null,1]
[{"$f":"'A) Eingabe (Schüler)'!A13","v":2},{"$f":"'A) Eingabe (Lehrer)'!B13","v":"Các quy định trong giờ học đều được các em học sinh hiểu rõ "},null,{"$f":"'A) Daten'!E4","v":0},null,{"$f":"'A) Daten'!N4","v":0},null,3]
[{"$f":"'A) Eingabe (Schüler)'!A14","v":3},{"$f":"'A) Eingabe (Lehrer)'!B14","v":"Các em học sinh đã có thể tập trung làm việc trong suốt giờ học mà không có gì làm ảnh hưởng đến sự chú ý của các em "},null,{"$f":"'A) Daten'!E5","v":0},null,{"$f":"'A) Daten'!N5","v":0},null,5]
[{"$f":"'A) Eingabe (Schüler)'!A15","v":4},{"$f":"'A) Eingabe (Lehrer)'!B15","v":"Trong suốt tiến trình giờ học các em học sinh luôn biết rõ các công việc mình cần phải làm  "},null,{"$f":"'A) Daten'!E6","v":0},null,{"$f":"'A) Daten'!N6","v":0},null,7]
[{"$f":"'A) Eingabe (Schüler)'!A16","v":5},{"$f":"'A) Eingabe (Lehrer)'!B16","v":"Toàn bộ thời gian của giờ học được sử dụng cho nội dung bài học "},null,{"$f":"'A) Daten'!E7","v":0},null,{"$f":"'A) Daten'!N7","v":0},null,9]
[null,{"$f":"'A) Eingabe (Lehrer)'!B17","v":"Bầu không khí lớp học"},"Schüler\n(1,   2,   3,   4)","N","Kollegen\n(1,   2,   3,   4)","N"]
[{"$f":"'A) Eingabe (Schüler)'!A18","v":6},{"$f":"'A) Eingabe (Lehrer)'!B18","v":"Tất cả các ý kiến đóng góp của các em học sinh trong giờ học đều được giáo viên tôn trọng ghi nhận  "},null,{"$f":"'A) Daten'!E8","v":0},null,{"$f":"'A) Daten'!N8","v":0},null,1]
[{"$f":"'A) Eingabe (Schüler)'!A19","v":7},{"$f":"'A) Eingabe (Lehrer)'!B19","v":"Giáo viên luôn vui vẻ với các em học sinh trong giờ học  "},null,{"$f":"'A) Daten'!E9","v":0},null,{"$f":"'A) Daten'!N9","v":0},null,2.5]
[{"$f":"'A) Eingabe (Schüler)'!A20","v":8},{"$f":"'A) Eingabe (Lehrer)'!B20","v":"Khi học sinh được gọi phát biểu, giáo viên luôn dành đủ thời gian để các em diễn đạt được hết ý mình "},null,{"$f":"'A) Daten'!E10","v":0},null,{"$f":"'A) Daten'!N10","v":0},null,4.0999999999999996]
[{"$f":"'A) Eingabe (Schüler)'!A21","v":9},{"$f":"'A) Eingabe (Lehrer)'!B21","v":"Khi giáo viên đặt câu hỏi, các em học sinh luôn có đủ thời gian suy nghĩ câu trả lời "},null,{"$f":"'A) Daten'!E11","v":0},null,{"$f":"'A) Daten'!N11","v":0},null,5.9]
[{"$f":"'A) Eingabe (Schüler)'!A22","v":10},{"$f":"'A) Eingabe (Lehrer)'!B22","v":"Trong giờ học giáo viên đưa ra những nhận xét vui vẻ làm cho bầu không khí học tập thoải mái, nhẹ nhàng hơn "},null,{"$f":"'A) Daten'!E12","v":0},null,{"$f":"'A) Daten'!N12","v":0},null,7.5]
[{"$f":"'A) Eingabe (Schüler)'!A23","v":11},{"$f":"'A) Eingabe (Lehrer)'!B23","v":"Sự tham gia đóng góp của các em học sinh trong giờ học được giáo viên khen ngợi đúng mức. "},null,{"$f":"'A) Daten'!E13","v":0},null,{"$f":"'A) Daten'!N13","v":0},null,9]
[null,{"$f":"'A) Eingabe (Lehrer)'!B24","v":"Cấu trúc lô gích và tính rõ ràng của giờ học "},"Schüler\n(1,   2,   3,   4)","N","Kollegen\n(1,   2,   3,   4)","N"]
[{"$f":"'A) Eingabe (Schüler)'!A25","v":12},{"$f":"'A) Eingabe (Lehrer)'!B25","v":"Trong giờ học giáo viên chỉ dẫn rõ ràng cho các em học sinh về những kiến thức đã học có liên quan đến bài học hôm nay "},null,{"$f":"'A) Daten'!E14","v":0},null,{"$f":"'A) Daten'!N14","v":0},null,1]
[{"$f":"'A) Eingabe (Schüler)'!A26","v":13},{"$f":"'A) Eingabe (Lehrer)'!B26","v":"Trong giờ học có các ví dụ cụ thể minh họa cho nội dung bài học "},null,{"$f":"'A) Daten'!E15","v":0},null,{"$f":"'A) Daten'!N15","v":0},null,3]
[{"$f":"'A) Eingabe (Schüler)'!A27","v":14},{"$f":"'A) Eingabe (Lehrer)'!B27","v":"Những nội dung quan trọng nhất của bài học được hệ thống hóa lại  trong giờ học "},null,{"$f":"'A) Daten'!E16","v":0},null,{"$f":"'A) Daten'!N16","v":0},null,5]
[{"$f":"'A) Eingabe (Schüler)'!A28","v":15},{"$f":"'A) Eingabe (Lehrer)'!B28","v":"Trong giờ học giáo viên rất quan tâm đến việc các em học sinh khi trình bày ý kiến của mình thì cần chú ý diễn đạt vấn đề một cách rõ ràng, rành mạch "},null,{"$f":"'A) Daten'!E17","v":0},null,{"$f":"'A) Daten'!N17","v":0},null,7]
[{"$f":"'A) Eingabe (Schüler)'!A29","v":16},{"$f":"'A) Eingabe (Lehrer)'!B29","v":"Tất cả các em học sinh đều biết rõ các em cần học được gì trong giờ học  này "},null,{"$f":"'A) Daten'!E18","v":0},null,{"$f":"'A) Daten'!N18","v":0},null,9]
[null,{"$f":"'A) Eingabe (Lehrer)'!B30","v":"Tích cực hóa hoạt động học tập của học sinh trong giờ học"},"Schüler\n(1,   2,   3,   4)","N","Kollegen\n(1,   2,   3,   4)","N"]
[{"$f":"'A) Eingabe (Schüler)'!A31","v":17},{"$f":"'A) Eingabe (Lehrer)'!B31","v":"Tất cả các em học sinh đều có ý kiến tham gia đóng góp trong giờ học này  "},null,{"$f":"'A) Daten'!E19","v":0},null,{"$f":"'A) Daten'!N19","v":0},null,1]
[{"$f":"'A) Eingabe (Schüler)'!A32","v":18},{"$f":"'A) Eingabe (Lehrer)'!B32","v":"Trong giờ học có giai đoạn học sinh làm việc độc lập "},null,{"$f":"'A) Daten'!E20","v":0},null,{"$f":"'A) Daten'!N20","v":0},null,2.5]
[{"$f":"'A) Eingabe (Schüler)'!A33","v":19},{"$f":"'A) Eingabe (Lehrer)'!B33","v":"Trong giờ học có giai đoạn học sinh làm việc đôi hoặc nhóm "},null,{"$f":"'A) Daten'!E21","v":0},null,{"$f":"'A) Daten'!N21","v":0},null,4.0999999999999996]
[{"$f":"'A) Eingabe (Schüler)'!A34","v":20},{"$f":"'A) Eingabe (Lehrer)'!B34","v":"Trong giờ học các em học sinh được trình bày kết quả làm việc trước các bạn trong lớp "},null,{"$f":"'A) Daten'!E22","v":0},null,{"$f":"'A) Daten'!N22","v":0},null,5.9]
[{"$f":"'A) Eingabe (Schüler)'!A35","v":21},{"$f":"'A) Eingabe (Lehrer)'!B35","v":"Các em học sinh tự kiểm tra kết quả bài làm của mình trong giờ học "},null,{"$f":"'A) Daten'!E23","v":0},null,{"$f":"'A) Daten'!N23","v":0},null,7.5]
[{"$f":"'A) Eingabe (Schüler)'!A36","v":22},{"$f":"'A) Eingabe (Lehrer)'!B36","v":"Trong suốt giờ học các em học sinh tích cực tập trung chú ý vào bài học "},null,{"$f":"'A) Daten'!E24","v":0},null,{"$f":"'A) Daten'!N24","v":0},null,9]
[null,{"$f":"'A) Eingabe (Lehrer)'!B37","v":"Đánh giá chung về giờ học"},"Schüler\n(1,   2,   3,   4)","N","Kollegen\n(1,   2,   3,   4)","N"]
[{"$f":"'A) Eingabe (Schüler)'!A38","v":23},"Die Schüler/innen haben in dieser Unterrichtsstunde etwas dazu gelernt / Ich habe die Lernziele dieser Unterrichtsstunde erreicht",null,{"$f":"'A) Daten'!E25","v":0},null,{"$f":"'A) Daten'!N25","v":0},null,1]
[{"$f":"'A) Eingabe (Schüler)'!A39","v":24},{"$f":"'A) Eingabe (Lehrer)'!B39","v":"Các em học sinh cảm thấy thú vị với giờ học này "},null,{"$f":"'A) Daten'!E26","v":0},null,{"$f":"'A) Daten'!N26","v":0},null,3]
[{"$f":"'A) Eingabe (Schüler)'!A40","v":25},{"$f":"'A) Eingabe (Lehrer)'!B40","v":"Các em học sinh cảm thấy thoải mái dễ chịu trong giờ học. "},null,{"$f":"'A) Daten'!E27","v":0},null,{"$f":"'A) Daten'!N27","v":0},null,5]
["26 G/Đ",{"$f":"'A) Eingabe (Lehrer)'!B41","v":"Giáo viên tổ chức giờ học dựa trên các chuẩn cần đạt của môn học   "},null,null,null,{"$f":"'A) Daten'!N28","v":0},null,7]
["27 G/Đ",{"$f":"'A) Eingabe (Lehrer)'!B42","v":"Giờ học được chuẩn bị phù hợp với trình độ khác nhau của các em học sinh trong lớp.  "},null,null,null,{"$f":"'A) Daten'!N29","v":0},null,9]
[null,null,"Schüler",null,null,"N"]
["26H","Giờ học này đối với em……………………………………………………....",null,null,null,{"$f":"'A) Daten'!E31","v":0}]

{"sheet":"A) Ergebnisse (6)","index":12,"n_rows":65,"n_cols":9,"rows_kept":65,"cut":false,"hidden":true,"merged":[[2,0,2,5],[3,6,4,6],[3,1,4,1],[3,0,4,0],[3,4,3,5],[3,2,3,3]]}
[]
[null,"Đối chiếu kết quả phiếu giáo viên, học sinh, đồng nghiệp: Phiếu hỏi bổ sung"]
[null,null,null,null,null,null,"Giá trị trung bình"]
[null,"Điều tra lần 1\n\nCâu hỏi bổ sung","Học sinh",null,"Đồng nghiệp"]
[null,null,"Phân bố kết quả trả lời phiếu\n(1,     2,     3,     4)","N","Phân bố kết quả trả lời phiếu\n(1,     2,     3,     4)","N"]
[{"$f":"'A) Eingabe (Lehrer)'!A44","v":1},{"$f":"'A) Eingabe (Lehrer)'!B44","v":"Câu 1"},null,{"$f":"'A) Daten'!E34","v":0},null,{"$f":"'A) Daten'!N34","v":0},null,null,1.5]
[{"$f":"'A) Eingabe (Lehrer)'!A45","v":2},{"$f":"'A) Eingabe (Lehrer)'!B45","v":"Câu 2"},null,{"$f":"'A) Daten'!E35","v":0},null,{"$f":"'A) Daten'!N35","v":0},null,null,2.5]
[{"$f":"'A) Eingabe (Lehrer)'!A46","v":3},{"$f":"'A) Eingabe (Lehrer)'!B46","v":"Câu 3"},null,{"$f":"'A) Daten'!E36","v":0},null,{"$f":"'A) Daten'!N36","v":0},null,null,3.5]
[{"$f":"'A) Eingabe (Lehrer)'!A47","v":4},{"$f":"'A) Eingabe (Lehrer)'!B47","v":"Câu 4"},null,{"$f":"'A) Daten'!E37","v":0},null,{"$f":"'A) Daten'!N37","v":0},null,null,4.5]
[{"$f":"'A) Eingabe (Lehrer)'!A48","v":5},{"$f":"'A) Eingabe (Lehrer)'!B48","v":"Câu 5"},null,{"$f":"'A) Daten'!E38","v":0},null,{"$f":"'A) Daten'!N38","v":0},null,null,5.5]
[{"$f":"'A) Eingabe (Lehrer)'!A49","v":6},{"$f":"'A) Eingabe (Lehrer)'!B49","v":"Câu 6"},null,{"$f":"'A) Daten'!E39","v":0},null,{"$f":"'A) Daten'!N39","v":0},null,null,6.5]
[{"$f":"'A) Eingabe (Lehrer)'!A50","v":7},{"$f":"'A) Eingabe (Lehrer)'!B50","v":"Câu 7"},null,{"$f":"'A) Daten'!E40","v":0},null,{"$f":"'A) Daten'!N40","v":0},null,null,7.5]
[{"$f":"'A) Eingabe (Lehrer)'!A51","v":8},{"$f":"'A) Eingabe (Lehrer)'!B51","v":"Câu 8"},null,{"$f":"'A) Daten'!E41","v":0},null,{"$f":"'A) Daten'!N41","v":0},null,null,8.5]
[{"$f":"'A) Eingabe (Lehrer)'!A52","v":9},{"$f":"'A) Eingabe (Lehrer)'!B52","v":"Câu 9"},null,{"$f":"'A) Daten'!E42","v":0},null,{"$f":"'A) Daten'!N42","v":0},null,null,9.5]
[{"$f":"'A) Eingabe (Lehrer)'!A53","v":10},{"$f":"'A) Eingabe (Lehrer)'!B53","v":"Câu 10"},null,{"$f":"'A) Daten'!E43","v":0},null,{"$f":"'A) Daten'!N43","v":0},null,null,10.5]
[{"$f":"'A) Eingabe (Lehrer)'!A54","v":11},{"$f":"'A) Eingabe (Lehrer)'!B54","v":"Câu 11"},null,{"$f":"'A) Daten'!E44","v":0},null,{"$f":"'A) Daten'!N44","v":0},null,null,11.5]
[{"$f":"'A) Eingabe (Lehrer)'!A55","v":12},{"$f":"'A) Eingabe (Lehrer)'!B55","v":"Câu 12"},null,{"$f":"'A) Daten'!E45","v":0},null,{"$f":"'A) Daten'!N45","v":0},null,null,12.5]
[{"$f":"'A) Eingabe (Lehrer)'!A56","v":13},{"$f":"'A) Eingabe (Lehrer)'!B56","v":"Câu 13"},null,{"$f":"'A) Daten'!E46","v":0},null,{"$f":"'A) Daten'!N46","v":0},null,null,13.5]
[{"$f":"'A) Eingabe (Lehrer)'!A57","v":14},{"$f":"'A) Eingabe (Lehrer)'!B57","v":"Câu 14"},null,{"$f":"'A) Daten'!E47","v":0},null,{"$f":"'A) Daten'!N47","v":0},null,null,14.5]
[{"$f":"'A) Eingabe (Lehrer)'!A58","v":15},{"$f":"'A) Eingabe (Lehrer)'!B58","v":"Câu 15"},null,{"$f":"'A) Daten'!E48","v":0},null,{"$f":"'A) Daten'!N48","v":0},null,null,15.5]
[{"$f":"'A) Eingabe (Lehrer)'!A59","v":16},{"$f":"'A) Eingabe (Lehrer)'!B59","v":"Câu 16"},null,{"$f":"'A) Daten'!E49","v":0},null,{"$f":"'A) Daten'!N49","v":0},null,null,16.5]
[{"$f":"'A) Eingabe (Lehrer)'!A60","v":17},{"$f":"'A) Eingabe (Lehrer)'!B60","v":"Câu 17"},null,{"$f":"'A) Daten'!E50","v":0},null,{"$f":"'A) Daten'!N50","v":0},null,null,17.5]
[{"$f":"'A) Eingabe (Lehrer)'!A61","v":18},{"$f":"'A) Eingabe (Lehrer)'!B61","v":"Câu 18"},null,{"$f":"'A) Daten'!E51","v":0},null,{"$f":"'A) Daten'!N51","v":0},null,null,18.5]
[{"$f":"'A) Eingabe (Lehrer)'!A62","v":19},{"$f":"'A) Eingabe (Lehrer)'!B62","v":"Câu 19"},null,{"$f":"'A) Daten'!E52","v":0},null,{"$f":"'A) Daten'!N52","v":0},null,null,19.5]
[{"$f":"'A) Eingabe (Lehrer)'!A63","v":20},{"$f":"'A) Eingabe (Lehrer)'!B63","v":"Câu 20"},null,{"$f":"'A) Daten'!E53","v":0},null,{"$f":"'A) Daten'!N53","v":0},null,null,20.5]
[{"$f":"'A) Eingabe (Lehrer)'!A64","v":21},{"$f":"'A) Eingabe (Lehrer)'!B64","v":"Câu 21"},null,{"$f":"'A) Daten'!E54","v":0},null,{"$f":"'A) Daten'!N54","v":0},null,null,21.5]
[{"$f":"'A) Eingabe (Lehrer)'!A65","v":22},{"$f":"'A) Eingabe (Lehrer)'!B65","v":"Câu 22"},null,{"$f":"'A) Daten'!E55","v":0},null,{"$f":"'A) Daten'!N55","v":0},null,null,22.5]
[{"$f":"'A) Eingabe (Lehrer)'!A66","v":23},{"$f":"'A) Eingabe (Lehrer)'!B66","v":"Câu 23"},null,{"$f":"'A) Daten'!E56","v":0},null,{"$f":"'A) Daten'!N56","v":0},null,null,23.5]
[{"$f":"'A) Eingabe (Lehrer)'!A67","v":24},{"$f":"'A) Eingabe (Lehrer)'!B67","v":"Câu 24"},null,{"$f":"'A) Daten'!E57","v":0},null,{"$f":"'A) Daten'!N57","v":0},null,null,24.5]
[{"$f":"'A) Eingabe (Lehrer)'!A68","v":25},{"$f":"'A) Eingabe (Lehrer)'!B68","v":"Câu 25"},null,{"$f":"'A) Daten'!E58","v":0},null,{"$f":"'A) Daten'!N58","v":0},null,null,25.5]
[{"$f":"'A) Eingabe (Lehrer)'!A69","v":26},{"$f":"'A) Eingabe (Lehrer)'!B69","v":"Câu 26"},null,{"$f":"'A) Daten'!E59","v":0},null,{"$f":"'A) Daten'!N59","v":0},null,null,26.5]
[{"$f":"'A) Eingabe (Lehrer)'!A70","v":27},{"$f":"'A) Eingabe (Lehrer)'!B70","v":"Câu 27"},null,{"$f":"'A) Daten'!E60","v":0},null,{"$f":"'A) Daten'!N60","v":0},null,null,27.5]
[{"$f":"'A) Eingabe (Lehrer)'!A71","v":28},{"$f":"'A) Eingabe (Lehrer)'!B71","v":"Câu 28"},null,{"$f":"'A) Daten'!E61","v":0},null,{"$f":"'A) Daten'!N61","v":0},null,null,28.5]
[{"$f":"'A) Eingabe (Lehrer)'!A72","v":29},{"$f":"'A) Eingabe (Lehrer)'!B72","v":"Câu 29"},null,{"$f":"'A) Daten'!E62","v":0},null,{"$f":"'A) Daten'!N62","v":0},null,null,29.5]
[{"$f":"'A) Eingabe (Lehrer)'!A73","v":30},{"$f":"'A) Eingabe (Lehrer)'!B73","v":"Câu 30"},null,{"$f":"'A) Daten'!E63","v":0},null,{"$f":"'A) Daten'!N63","v":0},null,null,30.5]
[{"$f":"'A) Eingabe (Lehrer)'!A74","v":31},{"$f":"'A) Eingabe (Lehrer)'!B74","v":"Câu 31"},null,{"$f":"'A) Daten'!E64","v":0},null,{"$f":"'A) Daten'!N64","v":0},null,null,31.5]
[{"$f":"'A) Eingabe (Lehrer)'!A75","v":32},{"$f":"'A) Eingabe (Lehrer)'!B75","v":"Câu 32"},null,{"$f":"'A) Daten'!E65","v":0},null,{"$f":"'A) Daten'!N65","v":0},null,null,32.5]
[{"$f":"'A) Eingabe (Lehrer)'!A76","v":33},{"$f":"'A) Eingabe (Lehrer)'!B76","v":"Câu 33"},null,{"$f":"'A) Daten'!E66","v":0},null,{"$f":"'A) Daten'!N66","v":0},null,null,33.5]
[{"$f":"'A) Eingabe (Lehrer)'!A77","v":34},{"$f":"'A) Eingabe (Lehrer)'!B77","v":"Câu 34"},null,{"$f":"'A) Daten'!E67","v":0},null,{"$f":"'A) Daten'!N67","v":0},null,null,34.5]
[{"$f":"'A) Eingabe (Lehrer)'!A78","v":35},{"$f":"'A) Eingabe (Lehrer)'!B78","v":"Câu 35"},null,{"$f":"'A) Daten'!E68","v":0},null,{"$f":"'A) Daten'!N68","v":0},null,null,35.5]
[{"$f":"'A) Eingabe (Lehrer)'!A79","v":36},{"$f":"'A) Eingabe (Lehrer)'!B79","v":"Câu 36"},null,{"$f":"'A) Daten'!E69","v":0},null,{"$f":"'A) Daten'!N69","v":0},null,null,36.5]
[{"$f":"'A) Eingabe (Lehrer)'!A80","v":37},{"$f":"'A) Eingabe (Lehrer)'!B80","v":"Câu 37"},null,{"$f":"'A) Daten'!E70","v":0},null,{"$f":"'A) Daten'!N70","v":0},null,null,37.5]
[{"$f":"'A) Eingabe (Lehrer)'!A81","v":38},{"$f":"'A) Eingabe (Lehrer)'!B81","v":"Câu 38"},null,{"$f":"'A) Daten'!E71","v":0},null,{"$f":"'A) Daten'!N71","v":0},null,null,38.5]
[{"$f":"'A) Eingabe (Lehrer)'!A82","v":39},{"$f":"'A) Eingabe (Lehrer)'!B82","v":"Câu 39"},null,{"$f":"'A) Daten'!E72","v":0},null,{"$f":"'A) Daten'!N72","v":0},null,null,39.5]
[{"$f":"'A) Eingabe (Lehrer)'!A83","v":40},{"$f":"'A) Eingabe (Lehrer)'!B83","v":"Câu 40"},null,{"$f":"'A) Daten'!E73","v":0},null,{"$f":"'A) Daten'!N73","v":0},null,null,40.5]
[{"$f":"'A) Eingabe (Lehrer)'!A84","v":41},{"$f":"'A) Eingabe (Lehrer)'!B84","v":"Câu 41"},null,{"$f":"'A) Daten'!E74","v":0},null,{"$f":"'A) Daten'!N74","v":0},null,null,41.5]
[{"$f":"'A) Eingabe (Lehrer)'!A85","v":42},{"$f":"'A) Eingabe (Lehrer)'!B85","v":"Câu 42"},null,{"$f":"'A) Daten'!E75","v":0},null,{"$f":"'A) Daten'!N75","v":0},null,null,42.5]
[{"$f":"'A) Eingabe (Lehrer)'!A86","v":43},{"$f":"'A) Eingabe (Lehrer)'!B86","v":"Câu 43"},null,{"$f":"'A) Daten'!E76","v":0},null,{"$f":"'A) Daten'!N76","v":0},null,null,43.5]
[{"$f":"'A) Eingabe (Lehrer)'!A87","v":44},{"$f":"'A) Eingabe (Lehrer)'!B87","v":"Câu 44"},null,{"$f":"'A) Daten'!E77","v":0},null,{"$f":"'A) Daten'!N77","v":0},null,null,44.5]
[{"$f":"'A) Eingabe (Lehrer)'!A88","v":45},{"$f":"'A) Eingabe (Lehrer)'!B88","v":"Câu 45"},null,{"$f":"'A) Daten'!E78","v":0},null,{"$f":"'A) Daten'!N78","v":0},null,null,45.5]
[{"$f":"'A) Eingabe (Lehrer)'!A89","v":46},{"$f":"'A) Eingabe (Lehrer)'!B89","v":"Câu 46"},null,{"$f":"'A) Daten'!E79","v":0},null,{"$f":"'A) Daten'!N79","v":0},null,null,46.5]
[{"$f":"'A) Eingabe (Lehrer)'!A90","v":47},{"$f":"'A) Eingabe (Lehrer)'!B90","v":"Câu 47"},null,{"$f":"'A) Daten'!E80","v":0},null,{"$f":"'A) Daten'!N80","v":0},null,null,47.5]
[{"$f":"'A) Eingabe (Lehrer)'!A91","v":48},{"$f":"'A) Eingabe (Lehrer)'!B91","v":"Câu 48"},null,{"$f":"'A) Daten'!E81","v":0},null,{"$f":"'A) Daten'!N81","v":0},null,null,48.5]
[{"$f":"'A) Eingabe (Lehrer)'!A92","v":49},{"$f":"'A) Eingabe (Lehrer)'!B92","v":"Câu 49"},null,{"$f":"'A) Daten'!E82","v":0},null,{"$f":"'A) Daten'!N82","v":0},null,null,49.5]
[{"$f":"'A) Eingabe (Lehrer)'!A93","v":50},{"$f":"'A) Eingabe (Lehrer)'!B93","v":"Câu 50"},null,{"$f":"'A) Daten'!E83","v":0},null,{"$f":"'A) Daten'!N83","v":0},null,null,50.5]
[{"$f":"'A) Eingabe (Lehrer)'!A94","v":51},{"$f":"'A) Eingabe (Lehrer)'!B94","v":"Câu 51"},null,{"$f":"'A) Daten'!E84","v":0},null,{"$f":"'A) Daten'!N84","v":0},null,null,51.5]
[{"$f":"'A) Eingabe (Lehrer)'!A95","v":52},{"$f":"'A) Eingabe (Lehrer)'!B95","v":"Câu 52"},null,{"$f":"'A) Daten'!E85","v":0},null,{"$f":"'A) Daten'!N85","v":0},null,null,52.5]
[{"$f":"'A) Eingabe (Lehrer)'!A96","v":53},{"$f":"'A) Eingabe (Lehrer)'!B96","v":"Câu 53"},null,{"$f":"'A) Daten'!E86","v":0},null,{"$f":"'A) Daten'!N86","v":0},null,null,53.5]
[{"$f":"'A) Eingabe (Lehrer)'!A97","v":54},{"$f":"'A) Eingabe (Lehrer)'!B97","v":"Câu 54"},null,{"$f":"'A) Daten'!E87","v":0},null,{"$f":"'A) Daten'!N87","v":0},null,null,54.5]
[{"$f":"'A) Eingabe (Lehrer)'!A98","v":55},{"$f":"'A) Eingabe (Lehrer)'!B98","v":"Câu 55"},null,{"$f":"'A) Daten'!E88","v":0},null,{"$f":"'A) Daten'!N88","v":0},null,null,55.5]
[{"$f":"'A) Eingabe (Lehrer)'!A99","v":56},{"$f":"'A) Eingabe (Lehrer)'!B99","v":"Câu 56"},null,{"$f":"'A) Daten'!E89","v":0},null,{"$f":"'A) Daten'!N89","v":0},null,null,56.5]
[{"$f":"'A) Eingabe (Lehrer)'!A100","v":57},{"$f":"'A) Eingabe (Lehrer)'!B100","v":"Câu 57"},null,{"$f":"'A) Daten'!E90","v":0},null,{"$f":"'A) Daten'!N90","v":0},null,null,57.5]
[{"$f":"'A) Eingabe (Lehrer)'!A101","v":58},{"$f":"'A) Eingabe (Lehrer)'!B101","v":"Câu 58"},null,{"$f":"'A) Daten'!E91","v":0},null,{"$f":"'A) Daten'!N91","v":0},null,null,58.5]
[{"$f":"'A) Eingabe (Lehrer)'!A102","v":59},{"$f":"'A) Eingabe (Lehrer)'!B102","v":"Câu 59"},null,{"$f":"'A) Daten'!E92","v":0},null,{"$f":"'A) Daten'!N92","v":0},null,null,59.5]
[{"$f":"'A) Eingabe (Lehrer)'!A103","v":60},{"$f":"'A) Eingabe (Lehrer)'!B103","v":"Câu 60"},null,{"$f":"'A) Daten'!E93","v":0},null,{"$f":"'A) Daten'!N93","v":0},null,null,60.5]

{"sheet":"B) Eingabe (Schüler)","index":13,"n_rows":102,"n_cols":37,"rows_kept":102,"cut":false,"hidden":true,"merged":[[0,2,0,21],[6,3,6,7]]}
[null,"Thang đánh giá:","Điều tra lần thứ 2"]
[null,"Câu 1 đến 25 & 27                     Câu 26"]
["1 =","hoàn toàn không đúng                 1 = quá dễ"]
["2 =","nói chung là không đúng              2 = tương đối dễ"]
["3 =","nói chung là đúng                        3 = vừa sức"]
["4 =","hoàn toàn đúng                           4 = tương đối khó"]
[null,"                                                 5 = quá khó"]
[]
[]
[null,"Số thứ tự phiếu học sinh",1,2,3,4,5,6,7,8,9,10,11,12,13,14,15,16,17,18,19,20,21,22,23,24,25,26,27,28,29,30,31,32,33,34,35]
[null,"ĐIỀU KHIỂN TIẾN TRÌNH GiỜ HỌC"]
[{"$f":"'A) Eingabe (Schüler)'!A12","v":1},{"$f":"'A) Eingabe (Schüler)'!B12","v":"Giờ học được bắt đầu đúng thời gian quy định "}]
[{"$f":"'A) Eingabe (Schüler)'!A13","v":2},{"$f":"'A) Eingabe (Schüler)'!B13","v":"Các quy định trong giờ học em đều hiểu rõ "}]
[{"$f":"'A) Eingabe (Schüler)'!A14","v":3},{"$f":"'A) Eingabe (Schüler)'!B14","v":"Em đã có thể tập trung làm việc trong suốt giờ học mà không có gì làm ảnh hưởng đến sự chú ý của em "}]
[{"$f":"'A) Eingabe (Schüler)'!A15","v":4},{"$f":"'A) Eingabe (Schüler)'!B15","v":"Trong suốt tiến trình giờ học em luôn biết rõ các công việc mình cần phải làm  "}]
[{"$f":"'A) Eingabe (Schüler)'!A16","v":5},{"$f":"'A) Eingabe (Schüler)'!B16","v":"Toàn bộ thời gian của giờ học được sử dụng cho nội dung bài học "}]
[null,"BẦU KHÔNG KHÍ LỚP HỌC"]
[{"$f":"'A) Eingabe (Schüler)'!A18","v":6},{"$f":"'A) Eingabe (Schüler)'!B18","v":"Tất cả các ý kiến đóng góp của chúng em trong giờ học đều được thầy/cô tôn trọng ghi nhận  "}]
[{"$f":"'A) Eingabe (Schüler)'!A19","v":7},{"$f":"'A) Eingabe (Schüler)'!B19","v":"Thầy/cô luôn vui vẻ với em trong giờ học "}]
[{"$f":"'A) Eingabe (Schüler)'!A20","v":8},{"$f":"'A) Eingabe (Schüler)'!B20","v":"Khi em được gọi phát biểu, thầy/cô luôn dành đủ thời gian để em diễn đạt được hết ý mình "}]
[{"$f":"'A) Eingabe (Schüler)'!A21","v":9},{"$f":"'A) Eingabe (Schüler)'!B21","v":"Khi thầy/cô đặt câu hỏi, em luôn có đủ thời gian suy nghĩ câu trả lời "}]
[{"$f":"'A) Eingabe (Schüler)'!A22","v":10},{"$f":"'A) Eingabe (Schüler)'!B22","v":"Trong giờ học thầy/cô đưa ra những nhận xét vui vẻ làm cho bầu không khí học tập thoải mái, nhẹ nhàng hơn "}]
[{"$f":"'A) Eingabe (Schüler)'!A23","v":11},{"$f":"'A) Eingabe (Schüler)'!B23","v":"Em được thầy/cô khen khi tham gia đóng góp  ý kiến trong giờ học. "}]
[null,"CẤU TRÚC LÔ GÍCH VÀ TÍNH RÕ RẢNG CỦA GiỜ HỌC"]
[{"$f":"'A) Eingabe (Schüler)'!A25","v":12},{"$f":"'A) Eingabe (Schüler)'!B25","v":"Trong giờ học thầy/cô chỉ dẫn rõ ràng về những kiến thức đã học có liên quan đến bài học hôm nay "}]
[{"$f":"'A) Eingabe (Schüler)'!A26","v":13},{"$f":"'A) Eingabe (Schüler)'!B26","v":"Trong giờ học có các ví dụ cụ thể minh họa cho nội dung bài học "}]
[{"$f":"'A) Eingabe (Schüler)'!A27","v":14},{"$f":"'A) Eingabe (Schüler)'!B27","v":"Những nội dung quan trọng nhất của bài học được hệ thống hóa lại  trong giờ học "}]
[{"$f":"'A) Eingabe (Schüler)'!A28","v":15},{"$f":"'A) Eingabe (Schüler)'!B28","v":"Trong giờ học thầy/cô rất quan tâm đến việc khi em trình bày ý kiến của mình thì cần chú ý diễn đạt vấn đề một cách rõ ràng, rành mạch "}]
[{"$f":"'A) Eingabe (Schüler)'!A29","v":16},{"$f":"'A) Eingabe (Schüler)'!B29","v":"Em biết rõ mình cần học được gì trong giờ học  này "}]
[null,"TÍCH CỰC HÓA HOẠT ĐỘNG HỌC TẬP CỦA HỌC SINH TRONG GiỜ HỌC"]
[{"$f":"'A) Eingabe (Schüler)'!A31","v":17},{"$f":"'A) Eingabe (Schüler)'!B31","v":"Em đã có ý kiến tham gia đóng góp trong giờ học này "}]
[{"$f":"'A) Eingabe (Schüler)'!A32","v":18},{"$f":"'A) Eingabe (Schüler)'!B32","v":"Trong giờ học có lúc em được giao tự làm việc độc lập "}]
[{"$f":"'A) Eingabe (Schüler)'!A33","v":19},{"$f":"'A) Eingabe (Schüler)'!B33","v":"Trong giờ học có lúc em làm việc đôi hoặc nhóm "}]
[{"$f":"'A) Eingabe (Schüler)'!A34","v":20},{"$f":"'A) Eingabe (Schüler)'!B34","v":"Trong giờ học em được trình bày kết quả làm việc trước các bạn trong lớp "}]
[{"$f":"'A) Eingabe (Schüler)'!A35","v":21},{"$f":"'A) Eingabe (Schüler)'!B35","v":"Em tự kiểm tra kết quả bài làm của mình trong giờ học "}]
[{"$f":"'A) Eingabe (Schüler)'!A36","v":22},{"$f":"'A) Eingabe (Schüler)'!B36","v":"Trong suốt giờ học em tích cực tập trung chú ý vào bài học "}]
[null,"ĐÁNH GIÁ CHUNG VỀ GiỜ HỌC"]
[{"$f":"'A) Eingabe (Schüler)'!A38","v":23},{"$f":"'A) Eingabe (Schüler)'!B38","v":"Em đã học thêm được ít nhiều  trong giờ học này "}]
[{"$f":"'A) Eingabe (Schüler)'!A39","v":24},{"$f":"'A) Eingabe (Schüler)'!B39","v":"Em cảm thấy thú vị với giờ học này "}]
[{"$f":"'A) Eingabe (Schüler)'!A40","v":25},{"$f":"'A) Eingabe (Schüler)'!B40","v":"Em cảm thấy thoải mái dễ chịu trong giờ học. "}]
[{"$f":"'A) Eingabe (Schüler)'!A41","v":26},{"$f":"'A) Eingabe (Schüler)'!B41","v":"Giờ học này đối với em"}]
[null,"ZUSATZITEMS"]
[{"$f":"'A) Eingabe (Schüler)'!A43","v":1},{"$f":"'A) Eingabe (Schüler)'!B43","v":"Câu 1"}]
[{"$f":"'A) Eingabe (Schüler)'!A44","v":2},{"$f":"'A) Eingabe (Schüler)'!B44","v":"Câu 2"}]
[{"$f":"'A) Eingabe (Schüler)'!A45","v":3},{"$f":"'A) Eingabe (Schüler)'!B45","v":"Câu 3"}]
[{"$f":"'A) Eingabe (Schüler)'!A46","v":4},{"$f":"'A) Eingabe (Schüler)'!B46","v":"Câu 4"}]
[{"$f":"'A) Eingabe (Schüler)'!A47","v":5},{"$f":"'A) Eingabe (Schüler)'!B47","v":"Câu 5"}]
[{"$f":"'A) Eingabe (Schüler)'!A48","v":6},{"$f":"'A) Eingabe (Schüler)'!B48","v":"Câu 6"}]
[{"$f":"'A) Eingabe (Schüler)'!A49","v":7},{"$f":"'A) Eingabe (Schüler)'!B49","v":"Câu 7"}]
[{"$f":"'A) Eingabe (Schüler)'!A50","v":8},{"$f":"'A) Eingabe (Schüler)'!B50","v":"Câu 8"}]
[{"$f":"'A) Eingabe (Schüler)'!A51","v":9},{"$f":"'A) Eingabe (Schüler)'!B51","v":"Câu 9"}]
[{"$f":"'A) Eingabe (Schüler)'!A52","v":10},{"$f":"'A) Eingabe (Schüler)'!B52","v":"Câu 10"}]
[{"$f":"'A) Eingabe (Schüler)'!A53","v":11},{"$f":"'A) Eingabe (Schüler)'!B53","v":"Câu 11"}]
[{"$f":"'A) Eingabe (Schüler)'!A54","v":12},{"$f":"'A) Eingabe (Schüler)'!B54","v":"Câu 12"}]
[{"$f":"'A) Eingabe (Schüler)'!A55","v":13},{"$f":"'A) Eingabe (Schüler)'!B55","v":"Câu 13"}]
[{"$f":"'A) Eingabe (Schüler)'!A56","v":14},{"$f":"'A) Eingabe (Schüler)'!B56","v":"Câu 14"}]
[{"$f":"'A) Eingabe (Schüler)'!A57","v":15},{"$f":"'A) Eingabe (Schüler)'!B57","v":"Câu 15"}]
[{"$f":"'A) Eingabe (Schüler)'!A58","v":16},{"$f":"'A) Eingabe (Schüler)'!B58","v":"Câu 16"}]
[{"$f":"'A) Eingabe (Schüler)'!A59","v":17},{"$f":"'A) Eingabe (Schüler)'!B59","v":"Câu 17"}]
[{"$f":"'A) Eingabe (Schüler)'!A60","v":18},{"$f":"'A) Eingabe (Schüler)'!B60","v":"Câu 18"}]
[{"$f":"'A) Eingabe (Schüler)'!A61","v":19},{"$f":"'A) Eingabe (Schüler)'!B61","v":"Câu 19"}]
[{"$f":"'A) Eingabe (Schüler)'!A62","v":20},{"$f":"'A) Eingabe (Schüler)'!B62","v":"Câu 20"}]
[{"$f":"'A) Eingabe (Schüler)'!A63","v":21},{"$f":"'A) Eingabe (Schüler)'!B63","v":"Câu 21"}]
[{"$f":"'A) Eingabe (Schüler)'!A64","v":22},{"$f":"'A) Eingabe (Schüler)'!B64","v":"Câu 22"}]
[{"$f":"'A) Eingabe (Schüler)'!A65","v":23},{"$f":"'A) Eingabe (Schüler)'!B65","v":"Câu 23"}]
[{"$f":"'A) Eingabe (Schüler)'!A66","v":24},{"$f":"'A) Eingabe (Schüler)'!B66","v":"Câu 24"}]
[{"$f":"'A) Eingabe (Schüler)'!A67","v":25},{"$f":"'A) Eingabe (Schüler)'!B67","v":"Câu 25"}]
[{"$f":"'A) Eingabe (Schüler)'!A68","v":26},{"$f":"'A) Eingabe (Schüler)'!B68","v":"Câu 26"}]
[{"$f":"'A) Eingabe (Schüler)'!A69","v":27},{"$f":"'A) Eingabe (Schüler)'!B69","v":"Câu 27"}]
[{"$f":"'A) Eingabe (Schüler)'!A70","v":28},{"$f":"'A) Eingabe (Schüler)'!B70","v":"Câu 28"}]
[{"$f":"'A) Eingabe (Schüler)'!A71","v":29},{"$f":"'A) Eingabe (Schüler)'!B71","v":"Câu 29"}]
[{"$f":"'A) Eingabe (Schüler)'!A72","v":30},{"$f":"'A) Eingabe (Schüler)'!B72","v":"Câu 30"}]
[{"$f":"'A) Eingabe (Schüler)'!A73","v":31},{"$f":"'A) Eingabe (Schüler)'!B73","v":"Câu 31"}]
[{"$f":"'A) Eingabe (Schüler)'!A74","v":32},{"$f":"'A) Eingabe (Schüler)'!B74","v":"Câu 32"}]
[{"$f":"'A) Eingabe (Schüler)'!A75","v":33},{"$f":"'A) Eingabe (Schüler)'!B75","v":"Câu 33"}]
[{"$f":"'A) Eingabe (Schüler)'!A76","v":34},{"$f":"'A) Eingabe (Schüler)'!B76","v":"Câu 34"}]
[{"$f":"'A) Eingabe (Schüler)'!A77","v":35},{"$f":"'A) Eingabe (Schüler)'!B77","v":"Câu 35"}]
[{"$f":"'A) Eingabe (Schüler)'!A78","v":36},{"$f":"'A) Eingabe (Schüler)'!B78","v":"Câu 36"}]
[{"$f":"'A) Eingabe (Schüler)'!A79","v":37},{"$f":"'A) Eingabe (Schüler)'!B79","v":"Câu 37"}]
[{"$f":"'A) Eingabe (Schüler)'!A80","v":38},{"$f":"'A) Eingabe (Schüler)'!B80","v":"Câu 38"}]
[{"$f":"'A) Eingabe (Schüler)'!A81","v":39},{"$f":"'A) Eingabe (Schüler)'!B81","v":"Câu 39"}]
[{"$f":"'A) Eingabe (Schüler)'!A82","v":40},{"$f":"'A) Eingabe (Schüler)'!B82","v":"Câu 40"}]
[{"$f":"'A) Eingabe (Schüler)'!A83","v":41},{"$f":"'A) Eingabe (Schüler)'!B83","v":"Câu 41"}]
[{"$f":"'A) Eingabe (Schüler)'!A84","v":42},{"$f":"'A) Eingabe (Schüler)'!B84","v":"Câu 42"}]
[{"$f":"'A) Eingabe (Schüler)'!A85","v":43},{"$f":"'A) Eingabe (Schüler)'!B85","v":"Câu 43"}]
[{"$f":"'A) Eingabe (Schüler)'!A86","v":44},{"$f":"'A) Eingabe (Schüler)'!B86","v":"Câu 44"}]
[{"$f":"'A) Eingabe (Schüler)'!A87","v":45},{"$f":"'A) Eingabe (Schüler)'!B87","v":"Câu 45"}]
[{"$f":"'A) Eingabe (Schüler)'!A88","v":46},{"$f":"'A) Eingabe (Schüler)'!B88","v":"Câu 46"}]
[{"$f":"'A) Eingabe (Schüler)'!A89","v":47},{"$f":"'A) Eingabe (Schüler)'!B89","v":"Câu 47"}]
[{"$f":"'A) Eingabe (Schüler)'!A90","v":48},{"$f":"'A) Eingabe (Schüler)'!B90","v":"Câu 48"}]
[{"$f":"'A) Eingabe (Schüler)'!A91","v":49},{"$f":"'A) Eingabe (Schüler)'!B91","v":"Câu 49"}]
[{"$f":"'A) Eingabe (Schüler)'!A92","v":50},{"$f":"'A) Eingabe (Schüler)'!B92","v":"Câu 50"}]
[{"$f":"'A) Eingabe (Schüler)'!A93","v":51},{"$f":"'A) Eingabe (Schüler)'!B93","v":"Câu 51"}]
[{"$f":"'A) Eingabe (Schüler)'!A94","v":52},{"$f":"'A) Eingabe (Schüler)'!B94","v":"Câu 52"}]
[{"$f":"'A) Eingabe (Schüler)'!A95","v":53},{"$f":"'A) Eingabe (Schüler)'!B95","v":"Câu 53"}]
[{"$f":"'A) Eingabe (Schüler)'!A96","v":54},{"$f":"'A) Eingabe (Schüler)'!B96","v":"Câu 54"}]
[{"$f":"'A) Eingabe (Schüler)'!A97","v":55},{"$f":"'A) Eingabe (Schüler)'!B97","v":"Câu 55"}]
[{"$f":"'A) Eingabe (Schüler)'!A98","v":56},{"$f":"'A) Eingabe (Schüler)'!B98","v":"Câu 56"}]
[{"$f":"'A) Eingabe (Schüler)'!A99","v":57},{"$f":"'A) Eingabe (Schüler)'!B99","v":"Câu 57"}]
[{"$f":"'A) Eingabe (Schüler)'!A100","v":58},{"$f":"'A) Eingabe (Schüler)'!B100","v":"Câu 58"}]
[{"$f":"'A) Eingabe (Schüler)'!A101","v":59},{"$f":"'A) Eingabe (Schüler)'!B101","v":"Câu 59"}]
[{"$f":"'A) Eingabe (Schüler)'!A102","v":60},{"$f":"'A) Eingabe (Schüler)'!B102","v":"Câu 60"}]

{"sheet":"B) Eingabe (Lehrer)","index":14,"n_rows":103,"n_cols":63,"rows_kept":103,"cut":false,"hidden":true,"merged":[[7,3,7,62],[8,0,8,1],[9,0,9,1],[7,2,8,2]]}
[null,"Thang đánh giá:","Điều tra lần thứ hai"]
[]
["1 =","hoàn toàn không đúng"]
["2 =","nói chung là không đúng"]
["3 =","nói chung là đúng"]
["4 =","hoàn toàn đúng"]
[null,"                                                    "]
[null,null,"Giáo viên","Các đồng nghiệp"]
["Ký tự nhận diện",null,null,"1","2","3","4","5","6","7","8","9","10","11","12","13","14","15","16","17","18","19","20","21","22","23","24","25","26","27","28","29","30","31","32","33","34","35","36","37","38","39","40","41","42","43","44","45","46","47","48","49","50","51","52","53","54","55","56","57","58","59","60"]
["Nội dung câu hỏi"]
[null,"ĐIỀU KHIỂN TIẾN TRÌNH GIỜ HỌC"]
[1,{"$f":"'A) Eingabe (Lehrer)'!B12","v":"Giờ học được bắt đầu đúng thời gian quy định "}]
[2,{"$f":"'A) Eingabe (Lehrer)'!B13","v":"Các quy định trong giờ học đều được các em học sinh hiểu rõ "}]
[3,{"$f":"'A) Eingabe (Lehrer)'!B14","v":"Các em học sinh đã có thể tập trung làm việc trong suốt giờ học mà không có gì làm ảnh hưởng đến sự chú ý của các em "}]
[4,{"$f":"'A) Eingabe (Lehrer)'!B15","v":"Trong suốt tiến trình giờ học các em học sinh luôn biết rõ các công việc mình cần phải làm  "}]
[5,{"$f":"'A) Eingabe (Lehrer)'!B16","v":"Toàn bộ thời gian của giờ học được sử dụng cho nội dung bài học "}]
[null,"BẦU KHÔNG KHÍ LỚP HỌC"]
[6,{"$f":"'A) Eingabe (Lehrer)'!B18","v":"Tất cả các ý kiến đóng góp của các em học sinh trong giờ học đều được giáo viên tôn trọng ghi nhận  "}]
[7,{"$f":"'A) Eingabe (Lehrer)'!B19","v":"Giáo viên luôn vui vẻ với các em học sinh trong giờ học  "}]
[8,{"$f":"'A) Eingabe (Lehrer)'!B20","v":"Khi học sinh được gọi phát biểu, giáo viên luôn dành đủ thời gian để các em diễn đạt được hết ý mình "}]
[9,{"$f":"'A) Eingabe (Lehrer)'!B21","v":"Khi giáo viên đặt câu hỏi, các em học sinh luôn có đủ thời gian suy nghĩ câu trả lời "}]
[10,{"$f":"'A) Eingabe (Lehrer)'!B22","v":"Trong giờ học giáo viên đưa ra những nhận xét vui vẻ làm cho bầu không khí học tập thoải mái, nhẹ nhàng hơn "}]
[11,{"$f":"'A) Eingabe (Lehrer)'!B23","v":"Sự tham gia đóng góp của các em học sinh trong giờ học được giáo viên khen ngợi đúng mức. "}]
[null,"CẤU TRÚC LÔ GÍCH VÀ TÍNH RÕ RÀNG CỦA GIỜ HỌC"]
[12,{"$f":"'A) Eingabe (Lehrer)'!B25","v":"Trong giờ học giáo viên chỉ dẫn rõ ràng cho các em học sinh về những kiến thức đã học có liên quan đến bài học hôm nay "}]
[13,{"$f":"'A) Eingabe (Lehrer)'!B26","v":"Trong giờ học có các ví dụ cụ thể minh họa cho nội dung bài học "}]
[14,{"$f":"'A) Eingabe (Lehrer)'!B27","v":"Những nội dung quan trọng nhất của bài học được hệ thống hóa lại  trong giờ học "}]
[15,{"$f":"'A) Eingabe (Lehrer)'!B28","v":"Trong giờ học giáo viên rất quan tâm đến việc các em học sinh khi trình bày ý kiến của mình thì cần chú ý diễn đạt vấn đề một cách rõ ràng, rành mạch "}]
[16,{"$f":"'A) Eingabe (Lehrer)'!B29","v":"Tất cả các em học sinh đều biết rõ các em cần học được gì trong giờ học  này "}]
[null,"TÍCH CỰC HÓA HOẠT ĐỘNG HỌC TẬP CỦA HỌC SINH TRONG GIỜ HỌC"]
[17,{"$f":"'A) Eingabe (Lehrer)'!B31","v":"Tất cả các em học sinh đều có ý kiến tham gia đóng góp trong giờ học này  "}]
[18,{"$f":"'A) Eingabe (Lehrer)'!B32","v":"Trong giờ học có giai đoạn học sinh làm việc độc lập "}]
[19,{"$f":"'A) Eingabe (Lehrer)'!B33","v":"Trong giờ học có giai đoạn học sinh làm việc đôi hoặc nhóm "}]
[20,{"$f":"'A) Eingabe (Lehrer)'!B34","v":"Trong giờ học các em học sinh được trình bày kết quả làm việc trước các bạn trong lớp "}]
[21,{"$f":"'A) Eingabe (Lehrer)'!B35","v":"Các em học sinh tự kiểm tra kết quả bài làm của mình trong giờ học "}]
[22,{"$f":"'A) Eingabe (Lehrer)'!B36","v":"Trong suốt giờ học các em học sinh tích cực tập trung chú ý vào bài học "}]
[null,"ĐÁNH GIÁ CHUNG VỀ GiỜ HỌC"]
[23,{"$f":"'A) Eingabe (Lehrer)'!B38","v":"Giáo viên đã thực hiện được mục tiêu của giờ học "}]
[24,{"$f":"'A) Eingabe (Lehrer)'!B39","v":"Các em học sinh cảm thấy thú vị với giờ học này "}]
[25,{"$f":"'A) Eingabe (Lehrer)'!B40","v":"Các em học sinh cảm thấy thoải mái dễ chịu trong giờ học. "}]
[26,{"$f":"'A) Eingabe (Lehrer)'!B41","v":"Giáo viên tổ chức giờ học dựa trên các chuẩn cần đạt của môn học   "}]
[27,{"$f":"'A) Eingabe (Lehrer)'!B42","v":"Giờ học được chuẩn bị phù hợp với trình độ khác nhau của các em học sinh trong lớp.  "}]
[null,"PHIẾU HỎI BỔ SUNG"]
[{"$f":"'A) Eingabe (Lehrer)'!A44","v":1},{"$f":"'A) Eingabe (Lehrer)'!B44","v":"Câu 1"}]
[{"$f":"'A) Eingabe (Lehrer)'!A45","v":2},{"$f":"'A) Eingabe (Lehrer)'!B45","v":"Câu 2"}]
[{"$f":"'A) Eingabe (Lehrer)'!A46","v":3},{"$f":"'A) Eingabe (Lehrer)'!B46","v":"Câu 3"}]
[{"$f":"'A) Eingabe (Lehrer)'!A47","v":4},{"$f":"'A) Eingabe (Lehrer)'!B47","v":"Câu 4"}]
[{"$f":"'A) Eingabe (Lehrer)'!A48","v":5},{"$f":"'A) Eingabe (Lehrer)'!B48","v":"Câu 5"}]
[{"$f":"'A) Eingabe (Lehrer)'!A49","v":6},{"$f":"'A) Eingabe (Lehrer)'!B49","v":"Câu 6"}]
[{"$f":"'A) Eingabe (Lehrer)'!A50","v":7},{"$f":"'A) Eingabe (Lehrer)'!B50","v":"Câu 7"}]
[{"$f":"'A) Eingabe (Lehrer)'!A51","v":8},{"$f":"'A) Eingabe (Lehrer)'!B51","v":"Câu 8"}]
[{"$f":"'A) Eingabe (Lehrer)'!A52","v":9},{"$f":"'A) Eingabe (Lehrer)'!B52","v":"Câu 9"}]
[{"$f":"'A) Eingabe (Lehrer)'!A53","v":10},{"$f":"'A) Eingabe (Lehrer)'!B53","v":"Câu 10"}]
[{"$f":"'A) Eingabe (Lehrer)'!A54","v":11},{"$f":"'A) Eingabe (Lehrer)'!B54","v":"Câu 11"}]
[{"$f":"'A) Eingabe (Lehrer)'!A55","v":12},{"$f":"'A) Eingabe (Lehrer)'!B55","v":"Câu 12"}]
[{"$f":"'A) Eingabe (Lehrer)'!A56","v":13},{"$f":"'A) Eingabe (Lehrer)'!B56","v":"Câu 13"}]
[{"$f":"'A) Eingabe (Lehrer)'!A57","v":14},{"$f":"'A) Eingabe (Lehrer)'!B57","v":"Câu 14"}]
[{"$f":"'A) Eingabe (Lehrer)'!A58","v":15},{"$f":"'A) Eingabe (Lehrer)'!B58","v":"Câu 15"}]
[{"$f":"'A) Eingabe (Lehrer)'!A59","v":16},{"$f":"'A) Eingabe (Lehrer)'!B59","v":"Câu 16"}]
[{"$f":"'A) Eingabe (Lehrer)'!A60","v":17},{"$f":"'A) Eingabe (Lehrer)'!B60","v":"Câu 17"}]
[{"$f":"'A) Eingabe (Lehrer)'!A61","v":18},{"$f":"'A) Eingabe (Lehrer)'!B61","v":"Câu 18"}]
[{"$f":"'A) Eingabe (Lehrer)'!A62","v":19},{"$f":"'A) Eingabe (Lehrer)'!B62","v":"Câu 19"}]
[{"$f":"'A) Eingabe (Lehrer)'!A63","v":20},{"$f":"'A) Eingabe (Lehrer)'!B63","v":"Câu 20"}]
[{"$f":"'A) Eingabe (Lehrer)'!A64","v":21},{"$f":"'A) Eingabe (Lehrer)'!B64","v":"Câu 21"}]
[{"$f":"'A) Eingabe (Lehrer)'!A65","v":22},{"$f":"'A) Eingabe (Lehrer)'!B65","v":"Câu 22"}]
[{"$f":"'A) Eingabe (Lehrer)'!A66","v":23},{"$f":"'A) Eingabe (Lehrer)'!B66","v":"Câu 23"}]
[{"$f":"'A) Eingabe (Lehrer)'!A67","v":24},{"$f":"'A) Eingabe (Lehrer)'!B67","v":"Câu 24"}]
[{"$f":"'A) Eingabe (Lehrer)'!A68","v":25},{"$f":"'A) Eingabe (Lehrer)'!B68","v":"Câu 25"}]
[{"$f":"'A) Eingabe (Lehrer)'!A69","v":26},{"$f":"'A) Eingabe (Lehrer)'!B69","v":"Câu 26"}]
[{"$f":"'A) Eingabe (Lehrer)'!A70","v":27},{"$f":"'A) Eingabe (Lehrer)'!B70","v":"Câu 27"}]
[{"$f":"'A) Eingabe (Lehrer)'!A71","v":28},{"$f":"'A) Eingabe (Lehrer)'!B71","v":"Câu 28"}]
[{"$f":"'A) Eingabe (Lehrer)'!A72","v":29},{"$f":"'A) Eingabe (Lehrer)'!B72","v":"Câu 29"}]
[{"$f":"'A) Eingabe (Lehrer)'!A73","v":30},{"$f":"'A) Eingabe (Lehrer)'!B73","v":"Câu 30"}]
[{"$f":"'A) Eingabe (Lehrer)'!A74","v":31},{"$f":"'A) Eingabe (Lehrer)'!B74","v":"Câu 31"}]
[{"$f":"'A) Eingabe (Lehrer)'!A75","v":32},{"$f":"'A) Eingabe (Lehrer)'!B75","v":"Câu 32"}]
[{"$f":"'A) Eingabe (Lehrer)'!A76","v":33},{"$f":"'A) Eingabe (Lehrer)'!B76","v":"Câu 33"}]
[{"$f":"'A) Eingabe (Lehrer)'!A77","v":34},{"$f":"'A) Eingabe (Lehrer)'!B77","v":"Câu 34"}]
[{"$f":"'A) Eingabe (Lehrer)'!A78","v":35},{"$f":"'A) Eingabe (Lehrer)'!B78","v":"Câu 35"}]
[{"$f":"'A) Eingabe (Lehrer)'!A79","v":36},{"$f":"'A) Eingabe (Lehrer)'!B79","v":"Câu 36"}]
[{"$f":"'A) Eingabe (Lehrer)'!A80","v":37},{"$f":"'A) Eingabe (Lehrer)'!B80","v":"Câu 37"}]
[{"$f":"'A) Eingabe (Lehrer)'!A81","v":38},{"$f":"'A) Eingabe (Lehrer)'!B81","v":"Câu 38"}]
[{"$f":"'A) Eingabe (Lehrer)'!A82","v":39},{"$f":"'A) Eingabe (Lehrer)'!B82","v":"Câu 39"}]
[{"$f":"'A) Eingabe (Lehrer)'!A83","v":40},{"$f":"'A) Eingabe (Lehrer)'!B83","v":"Câu 40"}]
[{"$f":"'A) Eingabe (Lehrer)'!A84","v":41},{"$f":"'A) Eingabe (Lehrer)'!B84","v":"Câu 41"}]
[{"$f":"'A) Eingabe (Lehrer)'!A85","v":42},{"$f":"'A) Eingabe (Lehrer)'!B85","v":"Câu 42"}]
[{"$f":"'A) Eingabe (Lehrer)'!A86","v":43},{"$f":"'A) Eingabe (Lehrer)'!B86","v":"Câu 43"}]
[{"$f":"'A) Eingabe (Lehrer)'!A87","v":44},{"$f":"'A) Eingabe (Lehrer)'!B87","v":"Câu 44"}]
[{"$f":"'A) Eingabe (Lehrer)'!A88","v":45},{"$f":"'A) Eingabe (Lehrer)'!B88","v":"Câu 45"}]
[{"$f":"'A) Eingabe (Lehrer)'!A89","v":46},{"$f":"'A) Eingabe (Lehrer)'!B89","v":"Câu 46"}]
[{"$f":"'A) Eingabe (Lehrer)'!A90","v":47},{"$f":"'A) Eingabe (Lehrer)'!B90","v":"Câu 47"}]
[{"$f":"'A) Eingabe (Lehrer)'!A91","v":48},{"$f":"'A) Eingabe (Lehrer)'!B91","v":"Câu 48"}]
[{"$f":"'A) Eingabe (Lehrer)'!A92","v":49},{"$f":"'A) Eingabe (Lehrer)'!B92","v":"Câu 49"}]
[{"$f":"'A) Eingabe (Lehrer)'!A93","v":50},{"$f":"'A) Eingabe (Lehrer)'!B93","v":"Câu 50"}]
[{"$f":"'A) Eingabe (Lehrer)'!A94","v":51},{"$f":"'A) Eingabe (Lehrer)'!B94","v":"Câu 51"}]
[{"$f":"'A) Eingabe (Lehrer)'!A95","v":52},{"$f":"'A) Eingabe (Lehrer)'!B95","v":"Câu 52"}]
[{"$f":"'A) Eingabe (Lehrer)'!A96","v":53},{"$f":"'A) Eingabe (Lehrer)'!B96","v":"Câu 53"}]
[{"$f":"'A) Eingabe (Lehrer)'!A97","v":54},{"$f":"'A) Eingabe (Lehrer)'!B97","v":"Câu 54"}]
[{"$f":"'A) Eingabe (Lehrer)'!A98","v":55},{"$f":"'A) Eingabe (Lehrer)'!B98","v":"Câu 55"}]
[{"$f":"'A) Eingabe (Lehrer)'!A99","v":56},{"$f":"'A) Eingabe (Lehrer)'!B99","v":"Câu 56"}]
[{"$f":"'A) Eingabe (Lehrer)'!A100","v":57},{"$f":"'A) Eingabe (Lehrer)'!B100","v":"Câu 57"}]
[{"$f":"'A) Eingabe (Lehrer)'!A101","v":58},{"$f":"'A) Eingabe (Lehrer)'!B101","v":"Câu 58"}]
[{"$f":"'A) Eingabe (Lehrer)'!A102","v":59},{"$f":"'A) Eingabe (Lehrer)'!B102","v":"Câu 59"}]
[{"$f":"'A) Eingabe (Lehrer)'!A103","v":60},{"$f":"'A) Eingabe (Lehrer)'!B103","v":"Câu 60"}]

{"sheet":"B) Daten","index":15,"n_rows":228,"n_cols":67,"rows_kept":228,"cut":false,"hidden":true,"merged":[[0,1,0,9],[0,10,0,18],[94,1,94,3],[94,5,94,7],[94,9,94,10]]}
[null,"Schüler-Urteil",null,null,null,null,null,null,null,null,"Kollegen-Urteil"]
["Itemnr.","M","SD","Proz3_4","N","cat1","cat2","cat3","cat4","SE","M-Kolleg","SD-Kolleg","Proz34_kog","N_kog","cat1-kog","cat2-kog","cat3-kog","cat4-kog","SE"]
[1,{"$f":"IF(E3=0, #N/A, AVERAGE('B) Eingabe (Schüler)'!C12:AK12))","v":{"$error":"#N/A"}},{"$f":"IF(E3<2, #N/A, STDEVP('B) Eingabe (Schüler)'!C12:AK12))","v":{"$error":"#N/A"}},{"$f":"IF(E3=0, #N/A, 100*(H3+I3)/E3)","v":{"$error":"#N/A"}},{"$f":"COUNT('B) Eingabe (Schüler)'!C12:AK12)","v":0},{"$f":"COUNTIF('B) Eingabe (Schüler)'!C12:AK12,1)","v":0},{"$f":"COUNTIF('B) Eingabe (Schüler)'!C12:AK12,2)","v":0},{"$f":"COUNTIF('B) Eingabe (Schüler)'!C12:AK12,3)","v":0},{"$f":"COUNTIF('B) Eingabe (Schüler)'!C12:AK12,4)","v":0},{"$f":"IF('B) Eingabe (Lehrer)'!C12=\"\", #N/A, 'B) Eingabe (Lehrer)'!C12)","v":{"$error":"#N/A"}},{"$f":"IF(N3=0, #N/A,AVERAGE('B) Eingabe (Lehrer)'!D12:BK12))","v":{"$error":"#N/A"}},{"$f":"IF(N3<2, #N/A, STDEVP('B) Eingabe (Lehrer)'!D12:BK12))","v":{"$error":"#N/A"}},{"$f":"IF(N3<2, #N/A, 100*(Q3+R3)/N3)","v":{"$error":"#N/A"}},{"$f":"COUNT('B) Eingabe (Lehrer)'!D12:BK12)","v":0},{"$f":"IF(N3<2,#N/A,COUNTIF('B) Eingabe (Lehrer)'!D12:BK12,1))","v":{"$error":"#N/A"}},{"$f":"IF(N3<2,#N/A,COUNTIF('B) Eingabe (Lehrer)'!D12:BK12,2))","v":{"$error":"#N/A"}},{"$f":"IF(N3<2,#N/A,COUNTIF('B) Eingabe (Lehrer)'!D12:BK12,3))","v":{"$error":"#N/A"}},{"$f":"IF(N3<2,#N/A,COUNTIF('B) Eingabe (Lehrer)'!D12:BK12,4))","v":{"$error":"#N/A"}},{"$f":"IF('B) Eingabe (Lehrer)'!C12=\"\", #N/A, 'B) Eingabe (Lehrer)'!C12)","v":{"$error":"#N/A"}}]
[2,{"$f":"IF(E4=0, #N/A, AVERAGE('B) Eingabe (Schüler)'!C13:AK13))","v":{"$error":"#N/A"}},{"$f":"IF(E4<2, #N/A, STDEVP('B) Eingabe (Schüler)'!C13:AK13))","v":{"$error":"#N/A"}},{"$f":"IF(E4=0, #N/A, 100*(H4+I4)/E4)","v":{"$error":"#N/A"}},{"$f":"COUNT('B) Eingabe (Schüler)'!C13:AK13)","v":0},{"$f":"COUNTIF('B) Eingabe (Schüler)'!C13:AK13,1)","v":0},{"$f":"COUNTIF('B) Eingabe (Schüler)'!C13:AK13,2)","v":0},{"$f":"COUNTIF('B) Eingabe (Schüler)'!C13:AK13,3)","v":0},{"$f":"COUNTIF('B) Eingabe (Schüler)'!C13:AK13,4)","v":0},{"$f":"IF('B) Eingabe (Lehrer)'!C13=\"\", #N/A, 'B) Eingabe (Lehrer)'!C13)","v":{"$error":"#N/A"}},{"$f":"IF(N4=0, #N/A,AVERAGE('B) Eingabe (Lehrer)'!D13:BK13))","v":{"$error":"#N/A"}},{"$f":"IF(N4<2, #N/A, STDEVP('B) Eingabe (Lehrer)'!D13:BK13))","v":{"$error":"#N/A"}},{"$f":"IF(N4<2, #N/A, 100*(Q4+R4)/N4)","v":{"$error":"#N/A"}},{"$f":"COUNT('B) Eingabe (Lehrer)'!D13:BK13)","v":0},{"$f":"IF(N4<2,#N/A,COUNTIF('B) Eingabe (Lehrer)'!D13:BK13,1))","v":{"$error":"#N/A"}},{"$f":"IF(N4<2,#N/A,COUNTIF('B) Eingabe (Lehrer)'!D13:BK13,2))","v":{"$error":"#N/A"}},{"$f":"IF(N4<2,#N/A,COUNTIF('B) Eingabe (Lehrer)'!D13:BK13,3))","v":{"$error":"#N/A"}},{"$f":"IF(N4<2,#N/A,COUNTIF('B) Eingabe (Lehrer)'!D13:BK13,4))","v":{"$error":"#N/A"}},{"$f":"IF('B) Eingabe (Lehrer)'!C13=\"\", #N/A, 'B) Eingabe (Lehrer)'!C13)","v":{"$error":"#N/A"}}]
[3,{"$f":"IF(E5=0, #N/A, AVERAGE('B) Eingabe (Schüler)'!C14:AK14))","v":{"$error":"#N/A"}},{"$f":"IF(E5<2, #N/A, STDEVP('B) Eingabe (Schüler)'!C14:AK14))","v":{"$error":"#N/A"}},{"$error":"#N/A"},{"$f":"COUNT('B) Eingabe (Schüler)'!C14:AK14)","v":0},{"$f":"COUNTIF('B) Eingabe (Schüler)'!C14:AK14,1)","v":0},{"$f":"COUNTIF('B) Eingabe (Schüler)'!C14:AK14,2)","v":0},{"$f":"COUNTIF('B) Eingabe (Schüler)'!C14:AK14,3)","v":0},{"$f":"COUNTIF('B) Eingabe (Schüler)'!C14:AK14,4)","v":0},{"$f":"IF('B) Eingabe (Lehrer)'!C14=\"\", #N/A, 'B) Eingabe (Lehrer)'!C14)","v":{"$error":"#N/A"}},{"$f":"IF(N5=0, #N/A,AVERAGE('B) Eingabe (Lehrer)'!D14:BK14))","v":{"$error":"#N/A"}},{"$f":"IF(N5<2, #N/A, STDEVP('B) Eingabe (Lehrer)'!D14:BK14))","v":{"$error":"#N/A"}},{"$error":"#N/A"},{"$f":"COUNT('B) Eingabe (Lehrer)'!D14:BK14)","v":0},{"$f":"IF(N5<2,#N/A,COUNTIF('B) Eingabe (Lehrer)'!D14:BK14,1))","v":{"$error":"#N/A"}},{"$f":"IF(N5<2,#N/A,COUNTIF('B) Eingabe (Lehrer)'!D14:BK14,2))","v":{"$error":"#N/A"}},{"$f":"IF(N5<2,#N/A,COUNTIF('B) Eingabe (Lehrer)'!D14:BK14,3))","v":{"$error":"#N/A"}},{"$f":"IF(N5<2,#N/A,COUNTIF('B) Eingabe (Lehrer)'!D14:BK14,4))","v":{"$error":"#N/A"}},{"$f":"IF('B) Eingabe (Lehrer)'!C14=\"\", #N/A, 'B) Eingabe (Lehrer)'!C14)","v":{"$error":"#N/A"}}]
[4,{"$f":"IF(E6=0, #N/A, AVERAGE('B) Eingabe (Schüler)'!C15:AK15))","v":{"$error":"#N/A"}},{"$f":"IF(E6<2, #N/A, STDEVP('B) Eingabe (Schüler)'!C15:AK15))","v":{"$error":"#N/A"}},{"$error":"#N/A"},{"$f":"COUNT('B) Eingabe (Schüler)'!C15:AK15)","v":0},{"$f":"COUNTIF('B) Eingabe (Schüler)'!C15:AK15,1)","v":0},{"$f":"COUNTIF('B) Eingabe (Schüler)'!C15:AK15,2)","v":0},{"$f":"COUNTIF('B) Eingabe (Schüler)'!C15:AK15,3)","v":0},{"$f":"COUNTIF('B) Eingabe (Schüler)'!C15:AK15,4)","v":0},{"$f":"IF('B) Eingabe (Lehrer)'!C15=\"\", #N/A, 'B) Eingabe (Lehrer)'!C15)","v":{"$error":"#N/A"}},{"$f":"IF(N6=0, #N/A,AVERAGE('B) Eingabe (Lehrer)'!D15:BK15))","v":{"$error":"#N/A"}},{"$f":"IF(N6<2, #N/A, STDEVP('B) Eingabe (Lehrer)'!D15:BK15))","v":{"$error":"#N/A"}},{"$error":"#N/A"},{"$f":"COUNT('B) Eingabe (Lehrer)'!D15:BK15)","v":0},{"$f":"IF(N6<2,#N/A,COUNTIF('B) Eingabe (Lehrer)'!D15:BK15,1))","v":{"$error":"#N/A"}},{"$f":"IF(N6<2,#N/A,COUNTIF('B) Eingabe (Lehrer)'!D15:BK15,2))","v":{"$error":"#N/A"}},{"$f":"IF(N6<2,#N/A,COUNTIF('B) Eingabe (Lehrer)'!D15:BK15,3))","v":{"$error":"#N/A"}},{"$f":"IF(N6<2,#N/A,COUNTIF('B) Eingabe (Lehrer)'!D15:BK15,4))","v":{"$error":"#N/A"}},{"$f":"IF('B) Eingabe (Lehrer)'!C15=\"\", #N/A, 'B) Eingabe (Lehrer)'!C15)","v":{"$error":"#N/A"}}]
[5,{"$f":"IF(E7=0, #N/A, AVERAGE('B) Eingabe (Schüler)'!C16:AK16))","v":{"$error":"#N/A"}},{"$f":"IF(E7<2, #N/A, STDEVP('B) Eingabe (Schüler)'!C16:AK16))","v":{"$error":"#N/A"}},{"$error":"#N/A"},{"$f":"COUNT('B) Eingabe (Schüler)'!C16:AK16)","v":0},{"$f":"COUNTIF('B) Eingabe (Schüler)'!C16:AK16,1)","v":0},{"$f":"COUNTIF('B) Eingabe (Schüler)'!C16:AK16,2)","v":0},{"$f":"COUNTIF('B) Eingabe (Schüler)'!C16:AK16,3)","v":0},{"$f":"COUNTIF('B) Eingabe (Schüler)'!C16:AK16,4)","v":0},{"$f":"IF('B) Eingabe (Lehrer)'!C16=\"\", #N/A, 'B) Eingabe (Lehrer)'!C16)","v":{"$error":"#N/A"}},{"$f":"IF(N7=0, #N/A,AVERAGE('B) Eingabe (Lehrer)'!D16:BK16))","v":{"$error":"#N/A"}},{"$f":"IF(N7<2, #N/A, STDEVP('B) Eingabe (Lehrer)'!D16:BK16))","v":{"$error":"#N/A"}},{"$error":"#N/A"},{"$f":"COUNT('B) Eingabe (Lehrer)'!D16:BK16)","v":0},{"$f":"IF(N7<2,#N/A,COUNTIF('B) Eingabe (Lehrer)'!D16:BK16,1))","v":{"$error":"#N/A"}},{"$f":"IF(N7<2,#N/A,COUNTIF('B) Eingabe (Lehrer)'!D16:BK16,2))","v":{"$error":"#N/A"}},{"$f":"IF(N7<2,#N/A,COUNTIF('B) Eingabe (Lehrer)'!D16:BK16,3))","v":{"$error":"#N/A"}},{"$f":"IF(N7<2,#N/A,COUNTIF('B) Eingabe (Lehrer)'!D16:BK16,4))","v":{"$error":"#N/A"}},{"$f":"IF('B) Eingabe (Lehrer)'!C16=\"\", #N/A, 'B) Eingabe (Lehrer)'!C16)","v":{"$error":"#N/A"}}]
[6,{"$f":"IF(E8=0, #N/A, AVERAGE('B) Eingabe (Schüler)'!C18:AK18))","v":{"$error":"#N/A"}},{"$f":"IF(E8<2, #N/A, STDEVP('B) Eingabe (Schüler)'!C18:AK18))","v":{"$error":"#N/A"}},{"$error":"#N/A"},{"$f":"COUNT('B) Eingabe (Schüler)'!C18:AK18)","v":0},{"$f":"COUNTIF('B) Eingabe (Schüler)'!C18:AK18,1)","v":0},{"$f":"COUNTIF('B) Eingabe (Schüler)'!C18:AK18,2)","v":0},{"$f":"COUNTIF('B) Eingabe (Schüler)'!C18:AK18,3)","v":0},{"$f":"COUNTIF('B) Eingabe (Schüler)'!C18:AK18,4)","v":0},{"$f":"IF('B) Eingabe (Lehrer)'!C18=\"\", #N/A, 'B) Eingabe (Lehrer)'!C18)","v":{"$error":"#N/A"}},{"$f":"IF(N8=0, #N/A,AVERAGE('B) Eingabe (Lehrer)'!D18:BK18))","v":{"$error":"#N/A"}},{"$f":"IF(N8<2, #N/A, STDEVP('B) Eingabe (Lehrer)'!D18:BK18))","v":{"$error":"#N/A"}},{"$error":"#N/A"},{"$f":"COUNT('B) Eingabe (Lehrer)'!D18:BK18)","v":0},{"$f":"IF(N8<2,#N/A,COUNTIF('B) Eingabe (Lehrer)'!D18:BK18,1))","v":{"$error":"#N/A"}},{"$f":"IF(N8<2,#N/A,COUNTIF('B) Eingabe (Lehrer)'!D18:BK18,2))","v":{"$error":"#N/A"}},{"$f":"IF(N8<2,#N/A,COUNTIF('B) Eingabe (Lehrer)'!D18:BK18,3))","v":{"$error":"#N/A"}},{"$f":"IF(N8<2,#N/A,COUNTIF('B) Eingabe (Lehrer)'!D18:BK18,4))","v":{"$error":"#N/A"}},{"$f":"IF('B) Eingabe (Lehrer)'!C18=\"\", #N/A, 'B) Eingabe (Lehrer)'!C18)","v":{"$error":"#N/A"}}]
[7,{"$f":"IF(E9=0, #N/A, AVERAGE('B) Eingabe (Schüler)'!C19:AK19))","v":{"$error":"#N/A"}},{"$f":"IF(E9<2, #N/A, STDEVP('B) Eingabe (Schüler)'!C19:AK19))","v":{"$error":"#N/A"}},{"$error":"#N/A"},{"$f":"COUNT('B) Eingabe (Schüler)'!C19:AK19)","v":0},{"$f":"COUNTIF('B) Eingabe (Schüler)'!C19:AK19,1)","v":0},{"$f":"COUNTIF('B) Eingabe (Schüler)'!C19:AK19,2)","v":0},{"$f":"COUNTIF('B) Eingabe (Schüler)'!C19:AK19,3)","v":0},{"$f":"COUNTIF('B) Eingabe (Schüler)'!C19:AK19,4)","v":0},{"$f":"IF('B) Eingabe (Lehrer)'!C19=\"\", #N/A, 'B) Eingabe (Lehrer)'!C19)","v":{"$error":"#N/A"}},{"$f":"IF(N9=0, #N/A,AVERAGE('B) Eingabe (Lehrer)'!D19:BK19))","v":{"$error":"#N/A"}},{"$f":"IF(N9<2, #N/A, STDEVP('B) Eingabe (Lehrer)'!D19:BK19))","v":{"$error":"#N/A"}},{"$error":"#N/A"},{"$f":"COUNT('B) Eingabe (Lehrer)'!D19:BK19)","v":0},{"$f":"IF(N9<2,#N/A,COUNTIF('B) Eingabe (Lehrer)'!D19:BK19,1))","v":{"$error":"#N/A"}},{"$f":"IF(N9<2,#N/A,COUNTIF('B) Eingabe (Lehrer)'!D19:BK19,2))","v":{"$error":"#N/A"}},{"$f":"IF(N9<2,#N/A,COUNTIF('B) Eingabe (Lehrer)'!D19:BK19,3))","v":{"$error":"#N/A"}},{"$f":"IF(N9<2,#N/A,COUNTIF('B) Eingabe (Lehrer)'!D19:BK19,4))","v":{"$error":"#N/A"}},{"$f":"IF('B) Eingabe (Lehrer)'!C19=\"\", #N/A, 'B) Eingabe (Lehrer)'!C19)","v":{"$error":"#N/A"}}]
[8,{"$f":"IF(E10=0, #N/A, AVERAGE('B) Eingabe (Schüler)'!C20:AK20))","v":{"$error":"#N/A"}},{"$f":"IF(E10<2, #N/A, STDEVP('B) Eingabe (Schüler)'!C20:AK20))","v":{"$error":"#N/A"}},{"$error":"#N/A"},{"$f":"COUNT('B) Eingabe (Schüler)'!C20:AK20)","v":0},{"$f":"COUNTIF('B) Eingabe (Schüler)'!C20:AK20,1)","v":0},{"$f":"COUNTIF('B) Eingabe (Schüler)'!C20:AK20,2)","v":0},{"$f":"COUNTIF('B) Eingabe (Schüler)'!C20:AK20,3)","v":0},{"$f":"COUNTIF('B) Eingabe (Schüler)'!C20:AK20,4)","v":0},{"$f":"IF('B) Eingabe (Lehrer)'!C20=\"\", #N/A, 'B) Eingabe (Lehrer)'!C20)","v":{"$error":"#N/A"}},{"$f":"IF(N10=0, #N/A,AVERAGE('B) Eingabe (Lehrer)'!D20:BK20))","v":{"$error":"#N/A"}},{"$f":"IF(N10<2, #N/A, STDEVP('B) Eingabe (Lehrer)'!D20:BK20))","v":{"$error":"#N/A"}},{"$error":"#N/A"},{"$f":"COUNT('B) Eingabe (Lehrer)'!D20:BK20)","v":0},{"$f":"IF(N10<2,#N/A,COUNTIF('B) Eingabe (Lehrer)'!D20:BK20,1))","v":{"$error":"#N/A"}},{"$f":"IF(N10<2,#N/A,COUNTIF('B) Eingabe (Lehrer)'!D20:BK20,2))","v":{"$error":"#N/A"}},{"$f":"IF(N10<2,#N/A,COUNTIF('B) Eingabe (Lehrer)'!D20:BK20,3))","v":{"$error":"#N/A"}},{"$f":"IF(N10<2,#N/A,COUNTIF('B) Eingabe (Lehrer)'!D20:BK20,4))","v":{"$error":"#N/A"}},{"$f":"IF('B) Eingabe (Lehrer)'!C20=\"\", #N/A, 'B) Eingabe (Lehrer)'!C20)","v":{"$error":"#N/A"}}]
[9,{"$f":"IF(E11=0, #N/A, AVERAGE('B) Eingabe (Schüler)'!C21:AK21))","v":{"$error":"#N/A"}},{"$f":"IF(E11<2, #N/A, STDEVP('B) Eingabe (Schüler)'!C21:AK21))","v":{"$error":"#N/A"}},{"$error":"#N/A"},{"$f":"COUNT('B) Eingabe (Schüler)'!C21:AK21)","v":0},{"$f":"COUNTIF('B) Eingabe (Schüler)'!C21:AK21,1)","v":0},{"$f":"COUNTIF('B) Eingabe (Schüler)'!C21:AK21,2)","v":0},{"$f":"COUNTIF('B) Eingabe (Schüler)'!C21:AK21,3)","v":0},{"$f":"COUNTIF('B) Eingabe (Schüler)'!C21:AK21,4)","v":0},{"$f":"IF('B) Eingabe (Lehrer)'!C21=\"\", #N/A, 'B) Eingabe (Lehrer)'!C21)","v":{"$error":"#N/A"}},{"$f":"IF(N11=0, #N/A,AVERAGE('B) Eingabe (Lehrer)'!D21:BK21))","v":{"$error":"#N/A"}},{"$f":"IF(N11<2, #N/A, STDEVP('B) Eingabe (Lehrer)'!D21:BK21))","v":{"$error":"#N/A"}},{"$error":"#N/A"},{"$f":"COUNT('B) Eingabe (Lehrer)'!D21:BK21)","v":0},{"$f":"IF(N11<2,#N/A,COUNTIF('B) Eingabe (Lehrer)'!D21:BK21,1))","v":{"$error":"#N/A"}},{"$f":"IF(N11<2,#N/A,COUNTIF('B) Eingabe (Lehrer)'!D21:BK21,2))","v":{"$error":"#N/A"}},{"$f":"IF(N11<2,#N/A,COUNTIF('B) Eingabe (Lehrer)'!D21:BK21,3))","v":{"$error":"#N/A"}},{"$f":"IF(N11<2,#N/A,COUNTIF('B) Eingabe (Lehrer)'!D21:BK21,4))","v":{"$error":"#N/A"}},{"$f":"IF('B) Eingabe (Lehrer)'!C21=\"\", #N/A, 'B) Eingabe (Lehrer)'!C21)","v":{"$error":"#N/A"}}]
[10,{"$f":"IF(E12=0, #N/A, AVERAGE('B) Eingabe (Schüler)'!C22:AK22))","v":{"$error":"#N/A"}},{"$f":"IF(E12<2, #N/A, STDEVP('B) Eingabe (Schüler)'!C22:AK22))","v":{"$error":"#N/A"}},{"$error":"#N/A"},{"$f":"COUNT('B) Eingabe (Schüler)'!C22:AK22)","v":0},{"$f":"COUNTIF('B) Eingabe (Schüler)'!C22:AK22,1)","v":0},{"$f":"COUNTIF('B) Eingabe (Schüler)'!C22:AK22,2)","v":0},{"$f":"COUNTIF('B) Eingabe (Schüler)'!C22:AK22,3)","v":0},{"$f":"COUNTIF('B) Eingabe (Schüler)'!C22:AK22,4)","v":0},{"$f":"IF('B) Eingabe (Lehrer)'!C22=\"\", #N/A, 'B) Eingabe (Lehrer)'!C22)","v":{"$error":"#N/A"}},{"$f":"IF(N12=0, #N/A,AVERAGE('B) Eingabe (Lehrer)'!D22:BK22))","v":{"$error":"#N/A"}},{"$f":"IF(N12<2, #N/A, STDEVP('B) Eingabe (Lehrer)'!D22:BK22))","v":{"$error":"#N/A"}},{"$error":"#N/A"},{"$f":"COUNT('B) Eingabe (Lehrer)'!D22:BK22)","v":0},{"$f":"IF(N12<2,#N/A,COUNTIF('B) Eingabe (Lehrer)'!D22:BK22,1))","v":{"$error":"#N/A"}},{"$f":"IF(N12<2,#N/A,COUNTIF('B) Eingabe (Lehrer)'!D22:BK22,2))","v":{"$error":"#N/A"}},{"$f":"IF(N12<2,#N/A,COUNTIF('B) Eingabe (Lehrer)'!D22:BK22,3))","v":{"$error":"#N/A"}},{"$f":"IF(N12<2,#N/A,COUNTIF('B) Eingabe (Lehrer)'!D22:BK22,4))","v":{"$error":"#N/A"}},{"$f":"IF('B) Eingabe (Lehrer)'!C22=\"\", #N/A, 'B) Eingabe (Lehrer)'!C22)","v":{"$error":"#N/A"}}]
[11,{"$f":"IF(E13=0, #N/A, AVERAGE('B) Eingabe (Schüler)'!C23:AK23))","v":{"$error":"#N/A"}},{"$f":"IF(E13<2, #N/A, STDEVP('B) Eingabe (Schüler)'!C23:AK23))","v":{"$error":"#N/A"}},{"$error":"#N/A"},{"$f":"COUNT('B) Eingabe (Schüler)'!C23:AK23)","v":0},{"$f":"COUNTIF('B) Eingabe (Schüler)'!C23:AK23,1)","v":0},{"$f":"COUNTIF('B) Eingabe (Schüler)'!C23:AK23,2)","v":0},{"$f":"COUNTIF('B) Eingabe (Schüler)'!C23:AK23,3)","v":0},{"$f":"COUNTIF('B) Eingabe (Schüler)'!C23:AK23,4)","v":0},{"$f":"IF('B) Eingabe (Lehrer)'!C23=\"\", #N/A, 'B) Eingabe (Lehrer)'!C23)","v":{"$error":"#N/A"}},{"$f":"IF(N13=0, #N/A,AVERAGE('B) Eingabe (Lehrer)'!D23:BK23))","v":{"$error":"#N/A"}},{"$f":"IF(N13<2, #N/A, STDEVP('B) Eingabe (Lehrer)'!D23:BK23))","v":{"$error":"#N/A"}},{"$error":"#N/A"},{"$f":"COUNT('B) Eingabe (Lehrer)'!D23:BK23)","v":0},{"$f":"IF(N13<2,#N/A,COUNTIF('B) Eingabe (Lehrer)'!D23:BK23,1))","v":{"$error":"#N/A"}},{"$f":"IF(N13<2,#N/A,COUNTIF('B) Eingabe (Lehrer)'!D23:BK23,2))","v":{"$error":"#N/A"}},{"$f":"IF(N13<2,#N/A,COUNTIF('B) Eingabe (Lehrer)'!D23:BK23,3))","v":{"$error":"#N/A"}},{"$f":"IF(N13<2,#N/A,COUNTIF('B) Eingabe (Lehrer)'!D23:BK23,4))","v":{"$error":"#N/A"}},{"$f":"IF('B) Eingabe (Lehrer)'!C23=\"\", #N/A, 'B) Eingabe (Lehrer)'!C23)","v":{"$error":"#N/A"}}]
[12,{"$f":"IF(E14=0, #N/A, AVERAGE('B) Eingabe (Schüler)'!C25:AK25))","v":{"$error":"#N/A"}},{"$f":"IF(E14<2, #N/A, STDEVP('B) Eingabe (Schüler)'!C25:AK25))","v":{"$error":"#N/A"}},{"$f":"IF(E14=0, #N/A, 100*(H14+I14)/E14)","v":{"$error":"#N/A"}},{"$f":"COUNT('B) Eingabe (Schüler)'!C25:AK25)","v":0},{"$f":"COUNTIF('B) Eingabe (Schüler)'!C25:AK25,1)","v":0},{"$f":"COUNTIF('B) Eingabe (Schüler)'!C25:AK25,2)","v":0},{"$f":"COUNTIF('B) Eingabe (Schüler)'!C25:AK25,3)","v":0},{"$f":"COUNTIF('B) Eingabe (Schüler)'!C25:AK25,4)","v":0},{"$f":"IF('B) Eingabe (Lehrer)'!C25=\"\", #N/A, 'B) Eingabe (Lehrer)'!C25)","v":{"$error":"#N/A"}},{"$f":"IF(N14=0, #N/A,AVERAGE('B) Eingabe (Lehrer)'!D25:BK25))","v":{"$error":"#N/A"}},{"$f":"IF(N14<2, #N/A, STDEVP('B) Eingabe (Lehrer)'!D25:BK25))","v":{"$error":"#N/A"}},{"$error":"#N/A"},{"$f":"COUNT('B) Eingabe (Lehrer)'!D25:BK25)","v":0},{"$f":"IF(N14<2,#N/A,COUNTIF('B) Eingabe (Lehrer)'!D25:BK25,1))","v":{"$error":"#N/A"}},{"$f":"IF(N14<2,#N/A,COUNTIF('B) Eingabe (Lehrer)'!D25:BK25,2))","v":{"$error":"#N/A"}},{"$f":"IF(N14<2,#N/A,COUNTIF('B) Eingabe (Lehrer)'!D25:BK25,3))","v":{"$error":"#N/A"}},{"$f":"IF(N14<2,#N/A,COUNTIF('B) Eingabe (Lehrer)'!D25:BK25,4))","v":{"$error":"#N/A"}},{"$f":"IF('B) Eingabe (Lehrer)'!C25=\"\", #N/A, 'B) Eingabe (Lehrer)'!C25)","v":{"$error":"#N/A"}}]
[13,{"$f":"IF(E15=0, #N/A, AVERAGE('B) Eingabe (Schüler)'!C26:AK26))","v":{"$error":"#N/A"}},{"$f":"IF(E15<2, #N/A, STDEVP('B) Eingabe (Schüler)'!C26:AK26))","v":{"$error":"#N/A"}},{"$error":"#N/A"},{"$f":"COUNT('B) Eingabe (Schüler)'!C26:AK26)","v":0},{"$f":"COUNTIF('B) Eingabe (Schüler)'!C26:AK26,1)","v":0},{"$f":"COUNTIF('B) Eingabe (Schüler)'!C26:AK26,2)","v":0},{"$f":"COUNTIF('B) Eingabe (Schüler)'!C26:AK26,3)","v":0},{"$f":"COUNTIF('B) Eingabe (Schüler)'!C26:AK26,4)","v":0},{"$f":"IF('B) Eingabe (Lehrer)'!C26=\"\", #N/A, 'B) Eingabe (Lehrer)'!C26)","v":{"$error":"#N/A"}},{"$f":"IF(N15=0, #N/A,AVERAGE('B) Eingabe (Lehrer)'!D26:BK26))","v":{"$error":"#N/A"}},{"$f":"IF(N15<2, #N/A, STDEVP('B) Eingabe (Lehrer)'!D26:BK26))","v":{"$error":"#N/A"}},{"$error":"#N/A"},{"$f":"COUNT('B) Eingabe (Lehrer)'!D26:BK26)","v":0},{"$f":"IF(N15<2,#N/A,COUNTIF('B) Eingabe (Lehrer)'!D26:BK26,1))","v":{"$error":"#N/A"}},{"$f":"IF(N15<2,#N/A,COUNTIF('B) Eingabe (Lehrer)'!D26:BK26,2))","v":{"$error":"#N/A"}},{"$f":"IF(N15<2,#N/A,COUNTIF('B) Eingabe (Lehrer)'!D26:BK26,3))","v":{"$error":"#N/A"}},{"$f":"IF(N15<2,#N/A,COUNTIF('B) Eingabe (Lehrer)'!D26:BK26,4))","v":{"$error":"#N/A"}},{"$f":"IF('B) Eingabe (Lehrer)'!C26=\"\", #N/A, 'B) Eingabe (Lehrer)'!C26)","v":{"$error":"#N/A"}}]
[14,{"$f":"IF(E16=0, #N/A, AVERAGE('B) Eingabe (Schüler)'!C27:AK27))","v":{"$error":"#N/A"}},{"$f":"IF(E16<2, #N/A, STDEVP('B) Eingabe (Schüler)'!C27:AK27))","v":{"$error":"#N/A"}},{"$error":"#N/A"},{"$f":"COUNT('B) Eingabe (Schüler)'!C27:AK27)","v":0},{"$f":"COUNTIF('B) Eingabe (Schüler)'!C27:AK27,1)","v":0},{"$f":"COUNTIF('B) Eingabe (Schüler)'!C27:AK27,2)","v":0},{"$f":"COUNTIF('B) Eingabe (Schüler)'!C27:AK27,3)","v":0},{"$f":"COUNTIF('B) Eingabe (Schüler)'!C27:AK27,4)","v":0},{"$f":"IF('B) Eingabe (Lehrer)'!C27=\"\", #N/A, 'B) Eingabe (Lehrer)'!C27)","v":{"$error":"#N/A"}},{"$f":"IF(N16=0, #N/A,AVERAGE('B) Eingabe (Lehrer)'!D27:BK27))","v":{"$error":"#N/A"}},{"$f":"IF(N16<2, #N/A, STDEVP('B) Eingabe (Lehrer)'!D27:BK27))","v":{"$error":"#N/A"}},{"$error":"#N/A"},{"$f":"COUNT('B) Eingabe (Lehrer)'!D27:BK27)","v":0},{"$f":"IF(N16<2,#N/A,COUNTIF('B) Eingabe (Lehrer)'!D27:BK27,1))","v":{"$error":"#N/A"}},{"$f":"IF(N16<2,#N/A,COUNTIF('B) Eingabe (Lehrer)'!D27:BK27,2))","v":{"$error":"#N/A"}},{"$f":"IF(N16<2,#N/A,COUNTIF('B) Eingabe (Lehrer)'!D27:BK27,3))","v":{"$error":"#N/A"}},{"$f":"IF(N16<2,#N/A,COUNTIF('B) Eingabe (Lehrer)'!D27:BK27,4))","v":{"$error":"#N/A"}},{"$f":"IF('B) Eingabe (Lehrer)'!C27=\"\", #N/A, 'B) Eingabe (Lehrer)'!C27)","v":{"$error":"#N/A"}}]
[15,{"$f":"IF(E17=0, #N/A, AVERAGE('B) Eingabe (Schüler)'!C28:AK28))","v":{"$error":"#N/A"}},{"$f":"IF(E17<2, #N/A, STDEVP('B) Eingabe (Schüler)'!C28:AK28))","v":{"$error":"#N/A"}},{"$error":"#N/A"},{"$f":"COUNT('B) Eingabe (Schüler)'!C28:AK28)","v":0},{"$f":"COUNTIF('B) Eingabe (Schüler)'!C28:AK28,1)","v":0},{"$f":"COUNTIF('B) Eingabe (Schüler)'!C28:AK28,2)","v":0},{"$f":"COUNTIF('B) Eingabe (Schüler)'!C28:AK28,3)","v":0},{"$f":"COUNTIF('B) Eingabe (Schüler)'!C28:AK28,4)","v":0},{"$f":"IF('B) Eingabe (Lehrer)'!C28=\"\", #N/A, 'B) Eingabe (Lehrer)'!C28)","v":{"$error":"#N/A"}},{"$f":"IF(N17=0, #N/A,AVERAGE('B) Eingabe (Lehrer)'!D28:BK28))","v":{"$error":"#N/A"}},{"$f":"IF(N17<2, #N/A, STDEVP('B) Eingabe (Lehrer)'!D28:BK28))","v":{"$error":"#N/A"}},{"$error":"#N/A"},{"$f":"COUNT('B) Eingabe (Lehrer)'!D28:BK28)","v":0},{"$f":"IF(N17<2,#N/A,COUNTIF('B) Eingabe (Lehrer)'!D28:BK28,1))","v":{"$error":"#N/A"}},{"$f":"IF(N17<2,#N/A,COUNTIF('B) Eingabe (Lehrer)'!D28:BK28,2))","v":{"$error":"#N/A"}},{"$f":"IF(N17<2,#N/A,COUNTIF('B) Eingabe (Lehrer)'!D28:BK28,3))","v":{"$error":"#N/A"}},{"$f":"IF(N17<2,#N/A,COUNTIF('B) Eingabe (Lehrer)'!D28:BK28,4))","v":{"$error":"#N/A"}},{"$f":"IF('B) Eingabe (Lehrer)'!C28=\"\", #N/A, 'B) Eingabe (Lehrer)'!C28)","v":{"$error":"#N/A"}}]
[16,{"$f":"IF(E18=0, #N/A, AVERAGE('B) Eingabe (Schüler)'!C29:AK29))","v":{"$error":"#N/A"}},{"$f":"IF(E18<2, #N/A, STDEVP('B) Eingabe (Schüler)'!C29:AK29))","v":{"$error":"#N/A"}},{"$error":"#N/A"},{"$f":"COUNT('B) Eingabe (Schüler)'!C29:AK29)","v":0},{"$f":"COUNTIF('B) Eingabe (Schüler)'!C29:AK29,1)","v":0},{"$f":"COUNTIF('B) Eingabe (Schüler)'!C29:AK29,2)","v":0},{"$f":"COUNTIF('B) Eingabe (Schüler)'!C29:AK29,3)","v":0},{"$f":"COUNTIF('B) Eingabe (Schüler)'!C29:AK29,4)","v":0},{"$f":"IF('B) Eingabe (Lehrer)'!C29=\"\", #N/A, 'B) Eingabe (Lehrer)'!C29)","v":{"$error":"#N/A"}},{"$f":"IF(N18=0, #N/A,AVERAGE('B) Eingabe (Lehrer)'!D29:BK29))","v":{"$error":"#N/A"}},{"$f":"IF(N18<2, #N/A, STDEVP('B) Eingabe (Lehrer)'!D29:BK29))","v":{"$error":"#N/A"}},{"$error":"#N/A"},{"$f":"COUNT('B) Eingabe (Lehrer)'!D29:BK29)","v":0},{"$f":"IF(N18<2,#N/A,COUNTIF('B) Eingabe (Lehrer)'!D29:BK29,1))","v":{"$error":"#N/A"}},{"$f":"IF(N18<2,#N/A,COUNTIF('B) Eingabe (Lehrer)'!D29:BK29,2))","v":{"$error":"#N/A"}},{"$f":"IF(N18<2,#N/A,COUNTIF('B) Eingabe (Lehrer)'!D29:BK29,3))","v":{"$error":"#N/A"}},{"$f":"IF(N18<2,#N/A,COUNTIF('B) Eingabe (Lehrer)'!D29:BK29,4))","v":{"$error":"#N/A"}},{"$f":"IF('B) Eingabe (Lehrer)'!C29=\"\", #N/A, 'B) Eingabe (Lehrer)'!C29)","v":{"$error":"#N/A"}}]
[17,{"$f":"IF(E19=0, #N/A, AVERAGE('B) Eingabe (Schüler)'!C31:AK31))","v":{"$error":"#N/A"}},{"$f":"IF(E19<2, #N/A, STDEVP('B) Eingabe (Schüler)'!C31:AK31))","v":{"$error":"#N/A"}},{"$error":"#N/A"},{"$f":"COUNT('B) Eingabe (Schüler)'!C31:AK31)","v":0},{"$f":"COUNTIF('B) Eingabe (Schüler)'!C31:AK31,1)","v":0},{"$f":"COUNTIF('B) Eingabe (Schüler)'!C31:AK31,2)","v":0},{"$f":"COUNTIF('B) Eingabe (Schüler)'!C31:AK31,3)","v":0},{"$f":"COUNTIF('B) Eingabe (Schüler)'!C31:AK31,4)","v":0},{"$f":"IF('B) Eingabe (Lehrer)'!C31=\"\", #N/A, 'B) Eingabe (Lehrer)'!C31)","v":{"$error":"#N/A"}},{"$f":"IF(N19=0, #N/A,AVERAGE('B) Eingabe (Lehrer)'!D31:BK31))","v":{"$error":"#N/A"}},{"$f":"IF(N19<2, #N/A, STDEVP('B) Eingabe (Lehrer)'!D31:BK31))","v":{"$error":"#N/A"}},{"$error":"#N/A"},{"$f":"COUNT('B) Eingabe (Lehrer)'!D31:BK31)","v":0},{"$f":"IF(N19<2,#N/A,COUNTIF('B) Eingabe (Lehrer)'!D31:BK31,1))","v":{"$error":"#N/A"}},{"$f":"IF(N19<2,#N/A,COUNTIF('B) Eingabe (Lehrer)'!D31:BK31,2))","v":{"$error":"#N/A"}},{"$f":"IF(N19<2,#N/A,COUNTIF('B) Eingabe (Lehrer)'!D31:BK31,3))","v":{"$error":"#N/A"}},{"$f":"IF(N19<2,#N/A,COUNTIF('B) Eingabe (Lehrer)'!D31:BK31,4))","v":{"$error":"#N/A"}},{"$f":"IF('B) Eingabe (Lehrer)'!C31=\"\", #N/A, 'B) Eingabe (Lehrer)'!C31)","v":{"$error":"#N/A"}}]
[18,{"$f":"IF(E20=0, #N/A, AVERAGE('B) Eingabe (Schüler)'!C32:AK32))","v":{"$error":"#N/A"}},{"$f":"IF(E20<2, #N/A, STDEVP('B) Eingabe (Schüler)'!C32:AK32))","v":{"$error":"#N/A"}},{"$error":"#N/A"},{"$f":"COUNT('B) Eingabe (Schüler)'!C32:AK32)","v":0},{"$f":"COUNTIF('B) Eingabe (Schüler)'!C32:AK32,1)","v":0},{"$f":"COUNTIF('B) Eingabe (Schüler)'!C32:AK32,2)","v":0},{"$f":"COUNTIF('B) Eingabe (Schüler)'!C32:AK32,3)","v":0},{"$f":"COUNTIF('B) Eingabe (Schüler)'!C32:AK32,4)","v":0},{"$f":"IF('B) Eingabe (Lehrer)'!C32=\"\", #N/A, 'B) Eingabe (Lehrer)'!C32)","v":{"$error":"#N/A"}},{"$f":"IF(N20=0, #N/A,AVERAGE('B) Eingabe (Lehrer)'!D32:BK32))","v":{"$error":"#N/A"}},{"$f":"IF(N20<2, #N/A, STDEVP('B) Eingabe (Lehrer)'!D32:BK32))","v":{"$error":"#N/A"}},{"$error":"#N/A"},{"$f":"COUNT('B) Eingabe (Lehrer)'!D32:BK32)","v":0},{"$f":"IF(N20<2,#N/A,COUNTIF('B) Eingabe (Lehrer)'!D32:BK32,1))","v":{"$error":"#N/A"}},{"$f":"IF(N20<2,#N/A,COUNTIF('B) Eingabe (Lehrer)'!D32:BK32,2))","v":{"$error":"#N/A"}},{"$f":"IF(N20<2,#N/A,COUNTIF('B) Eingabe (Lehrer)'!D32:BK32,3))","v":{"$error":"#N/A"}},{"$f":"IF(N20<2,#N/A,COUNTIF('B) Eingabe (Lehrer)'!D32:BK32,4))","v":{"$error":"#N/A"}},{"$f":"IF('B) Eingabe (Lehrer)'!C32=\"\", #N/A, 'B) Eingabe (Lehrer)'!C32)","v":{"$error":"#N/A"}}]
[19,{"$f":"IF(E21=0, #N/A, AVERAGE('B) Eingabe (Schüler)'!C33:AK33))","v":{"$error":"#N/A"}},{"$f":"IF(E21<2, #N/A, STDEVP('B) Eingabe (Schüler)'!C33:AK33))","v":{"$error":"#N/A"}},{"$error":"#N/A"},{"$f":"COUNT('B) Eingabe (Schüler)'!C33:AK33)","v":0},{"$f":"COUNTIF('B) Eingabe (Schüler)'!C33:AK33,1)","v":0},{"$f":"COUNTIF('B) Eingabe (Schüler)'!C33:AK33,2)","v":0},{"$f":"COUNTIF('B) Eingabe (Schüler)'!C33:AK33,3)","v":0},{"$f":"COUNTIF('B) Eingabe (Schüler)'!C33:AK33,4)","v":0},{"$f":"IF('B) Eingabe (Lehrer)'!C33=\"\", #N/A, 'B) Eingabe (Lehrer)'!C33)","v":{"$error":"#N/A"}},{"$f":"IF(N21=0, #N/A,AVERAGE('B) Eingabe (Lehrer)'!D33:BK33))","v":{"$error":"#N/A"}},{"$f":"IF(N21<2, #N/A, STDEVP('B) Eingabe (Lehrer)'!D33:BK33))","v":{"$error":"#N/A"}},{"$error":"#N/A"},{"$f":"COUNT('B) Eingabe (Lehrer)'!D33:BK33)","v":0},{"$f":"IF(N21<2,#N/A,COUNTIF('B) Eingabe (Lehrer)'!D33:BK33,1))","v":{"$error":"#N/A"}},{"$f":"IF(N21<2,#N/A,COUNTIF('B) Eingabe (Lehrer)'!D33:BK33,2))","v":{"$error":"#N/A"}},{"$f":"IF(N21<2,#N/A,COUNTIF('B) Eingabe (Lehrer)'!D33:BK33,3))","v":{"$error":"#N/A"}},{"$f":"IF(N21<2,#N/A,COUNTIF('B) Eingabe (Lehrer)'!D33:BK33,4))","v":{"$error":"#N/A"}},{"$f":"IF('B) Eingabe (Lehrer)'!C33=\"\", #N/A, 'B) Eingabe (Lehrer)'!C33)","v":{"$error":"#N/A"}}]
[20,{"$f":"IF(E22=0, #N/A, AVERAGE('B) Eingabe (Schüler)'!C34:AK34))","v":{"$error":"#N/A"}},{"$f":"IF(E22<2, #N/A, STDEVP('B) Eingabe (Schüler)'!C34:AK34))","v":{"$error":"#N/A"}},{"$error":"#N/A"},{"$f":"COUNT('B) Eingabe (Schüler)'!C34:AK34)","v":0},{"$f":"COUNTIF('B) Eingabe (Schüler)'!C34:AK34,1)","v":0},{"$f":"COUNTIF('B) Eingabe (Schüler)'!C34:AK34,2)","v":0},{"$f":"COUNTIF('B) Eingabe (Schüler)'!C34:AK34,3)","v":0},{"$f":"COUNTIF('B) Eingabe (Schüler)'!C34:AK34,4)","v":0},{"$f":"IF('B) Eingabe (Lehrer)'!C34=\"\", #N/A, 'B) Eingabe (Lehrer)'!C34)","v":{"$error":"#N/A"}},{"$f":"IF(N22=0, #N/A,AVERAGE('B) Eingabe (Lehrer)'!D34:BK34))","v":{"$error":"#N/A"}},{"$f":"IF(N22<2, #N/A, STDEVP('B) Eingabe (Lehrer)'!D34:BK34))","v":{"$error":"#N/A"}},{"$error":"#N/A"},{"$f":"COUNT('B) Eingabe (Lehrer)'!D34:BK34)","v":0},{"$f":"IF(N22<2,#N/A,COUNTIF('B) Eingabe (Lehrer)'!D34:BK34,1))","v":{"$error":"#N/A"}},{"$f":"IF(N22<2,#N/A,COUNTIF('B) Eingabe (Lehrer)'!D34:BK34,2))","v":{"$error":"#N/A"}},{"$f":"IF(N22<2,#N/A,COUNTIF('B) Eingabe (Lehrer)'!D34:BK34,3))","v":{"$error":"#N/A"}},{"$f":"IF(N22<2,#N/A,COUNTIF('B) Eingabe (Lehrer)'!D34:BK34,4))","v":{"$error":"#N/A"}},{"$f":"IF('B) Eingabe (Lehrer)'!C34=\"\", #N/A, 'B) Eingabe (Lehrer)'!C34)","v":{"$error":"#N/A"}}]
[21,{"$f":"IF(E23=0, #N/A, AVERAGE('B) Eingabe (Schüler)'!C35:AK35))","v":{"$error":"#N/A"}},{"$f":"IF(E23<2, #N/A, STDEVP('B) Eingabe (Schüler)'!C35:AK35))","v":{"$error":"#N/A"}},{"$error":"#N/A"},{"$f":"COUNT('B) Eingabe (Schüler)'!C35:AK35)","v":0},{"$f":"COUNTIF('B) Eingabe (Schüler)'!C35:AK35,1)","v":0},{"$f":"COUNTIF('B) Eingabe (Schüler)'!C35:AK35,2)","v":0},{"$f":"COUNTIF('B) Eingabe (Schüler)'!C35:AK35,3)","v":0},{"$f":"COUNTIF('B) Eingabe (Schüler)'!C35:AK35,4)","v":0},{"$f":"IF('B) Eingabe (Lehrer)'!C35=\"\", #N/A, 'B) Eingabe (Lehrer)'!C35)","v":{"$error":"#N/A"}},{"$f":"IF(N23=0, #N/A,AVERAGE('B) Eingabe (Lehrer)'!D35:BK35))","v":{"$error":"#N/A"}},{"$f":"IF(N23<2, #N/A, STDEVP('B) Eingabe (Lehrer)'!D35:BK35))","v":{"$error":"#N/A"}},{"$error":"#N/A"},{"$f":"COUNT('B) Eingabe (Lehrer)'!D35:BK35)","v":0},{"$f":"IF(N23<2,#N/A,COUNTIF('B) Eingabe (Lehrer)'!D35:BK35,1))","v":{"$error":"#N/A"}},{"$f":"IF(N23<2,#N/A,COUNTIF('B) Eingabe (Lehrer)'!D35:BK35,2))","v":{"$error":"#N/A"}},{"$f":"IF(N23<2,#N/A,COUNTIF('B) Eingabe (Lehrer)'!D35:BK35,3))","v":{"$error":"#N/A"}},{"$f":"IF(N23<2,#N/A,COUNTIF('B) Eingabe (Lehrer)'!D35:BK35,4))","v":{"$error":"#N/A"}},{"$f":"IF('B) Eingabe (Lehrer)'!C35=\"\", #N/A, 'B) Eingabe (Lehrer)'!C35)","v":{"$error":"#N/A"}}]
[22,{"$f":"IF(E24=0, #N/A, AVERAGE('B) Eingabe (Schüler)'!C36:AK36))","v":{"$error":"#N/A"}},{"$f":"IF(E24<2, #N/A, STDEVP('B) Eingabe (Schüler)'!C36:AK36))","v":{"$error":"#N/A"}},{"$error":"#N/A"},{"$f":"COUNT('B) Eingabe (Schüler)'!C36:AK36)","v":0},{"$f":"COUNTIF('B) Eingabe (Schüler)'!C36:AK36,1)","v":0},{"$f":"COUNTIF('B) Eingabe (Schüler)'!C36:AK36,2)","v":0},{"$f":"COUNTIF('B) Eingabe (Schüler)'!C36:AK36,3)","v":0},{"$f":"COUNTIF('B) Eingabe (Schüler)'!C36:AK36,4)","v":0},{"$f":"IF('B) Eingabe (Lehrer)'!C36=\"\", #N/A, 'B) Eingabe (Lehrer)'!C36)","v":{"$error":"#N/A"}},{"$f":"IF(N24=0, #N/A,AVERAGE('B) Eingabe (Lehrer)'!D36:BK36))","v":{"$error":"#N/A"}},{"$f":"IF(N24<2, #N/A, STDEVP('B) Eingabe (Lehrer)'!D36:BK36))","v":{"$error":"#N/A"}},{"$error":"#N/A"},{"$f":"COUNT('B) Eingabe (Lehrer)'!D36:BK36)","v":0},{"$f":"IF(N24<2,#N/A,COUNTIF('B) Eingabe (Lehrer)'!D36:BK36,1))","v":{"$error":"#N/A"}},{"$f":"IF(N24<2,#N/A,COUNTIF('B) Eingabe (Lehrer)'!D36:BK36,2))","v":{"$error":"#N/A"}},{"$f":"IF(N24<2,#N/A,COUNTIF('B) Eingabe (Lehrer)'!D36:BK36,3))","v":{"$error":"#N/A"}},{"$f":"IF(N24<2,#N/A,COUNTIF('B) Eingabe (Lehrer)'!D36:BK36,4))","v":{"$error":"#N/A"}},{"$f":"IF('B) Eingabe (Lehrer)'!C36=\"\", #N/A, 'B) Eingabe (Lehrer)'!C36)","v":{"$error":"#N/A"}}]
[{"$f":"'B) Eingabe (Schüler)'!A38","v":23},{"$f":"IF(E25=0, #N/A,AVERAGE('B) Eingabe (Schüler)'!C38:AK38))","v":{"$error":"#N/A"}},{"$f":"IF(E25<2, #N/A, STDEVP('B) Eingabe (Schüler)'!C38:AK38))","v":{"$error":"#N/A"}},{"$f":"IF(E25<2, #N/A, 100*(H25+I25)/E25)","v":{"$error":"#N/A"}},{"$f":"COUNT('B) Eingabe (Schüler)'!C38:AK38)","v":0},{"$f":"IF(E25<2,#N/A,COUNTIF('B) Eingabe (Schüler)'!C38:AK38,1))","v":{"$error":"#N/A"}},{"$f":"IF(E25<2,#N/A,COUNTIF('B) Eingabe (Schüler)'!C38:AK38,2))","v":{"$error":"#N/A"}},{"$f":"IF(E25<2,#N/A,COUNTIF('B) Eingabe (Schüler)'!C38:AK38,3))","v":{"$error":"#N/A"}},{"$f":"IF(E25<2,#N/A,COUNTIF('B) Eingabe (Schüler)'!C38:AK38,4))","v":{"$error":"#N/A"}},{"$f":"IF('B) Eingabe (Lehrer)'!C38=\"\", #N/A, 'B) Eingabe (Lehrer)'!C38)","v":{"$error":"#N/A"}},{"$f":"IF(N25=0, #N/A,AVERAGE('B) Eingabe (Lehrer)'!D38:BK38))","v":{"$error":"#N/A"}},{"$f":"IF(N25<2, #N/A, STDEVP('B) Eingabe (Lehrer)'!D38:BK38))","v":{"$error":"#N/A"}},{"$f":"IF(N25<2, #N/A, 100*(Q25+R25)/N25)","v":{"$error":"#N/A"}},{"$f":"COUNT('B) Eingabe (Lehrer)'!D38:BK38)","v":0},{"$f":"IF(N25<2,#N/A,COUNTIF('B) Eingabe (Lehrer)'!D38:BK38,1))","v":{"$error":"#N/A"}},{"$f":"IF(N25<2,#N/A,COUNTIF('B) Eingabe (Lehrer)'!D38:BK38,2))","v":{"$error":"#N/A"}},{"$f":"IF(N25<2,#N/A,COUNTIF('B) Eingabe (Lehrer)'!D38:BK38,3))","v":{"$error":"#N/A"}},{"$f":"IF(N25<2,#N/A,COUNTIF('B) Eingabe (Lehrer)'!D38:BK38,4))","v":{"$error":"#N/A"}},{"$f":"IF('B) Eingabe (Lehrer)'!C38=\"\", #N/A, 'B) Eingabe (Lehrer)'!C38)","v":{"$error":"#N/A"}}]
[{"$f":"'B) Eingabe (Schüler)'!A39","v":24},{"$f":"IF(E26=0, #N/A,AVERAGE('B) Eingabe (Schüler)'!C39:AK39))","v":{"$error":"#N/A"}},{"$f":"IF(E26<2, #N/A, STDEVP('B) Eingabe (Schüler)'!C39:AK39))","v":{"$error":"#N/A"}},{"$f":"IF(E26<2, #N/A, 100*(H26+I26)/E26)","v":{"$error":"#N/A"}},{"$f":"COUNT('B) Eingabe (Schüler)'!C39:AK39)","v":0},{"$f":"IF(E26<2,#N/A,COUNTIF('B) Eingabe (Schüler)'!C39:AK39,1))","v":{"$error":"#N/A"}},{"$f":"IF(E26<2,#N/A,COUNTIF('B) Eingabe (Schüler)'!C39:AK39,2))","v":{"$error":"#N/A"}},{"$f":"IF(E26<2,#N/A,COUNTIF('B) Eingabe (Schüler)'!C39:AK39,3))","v":{"$error":"#N/A"}},{"$f":"IF(E26<2,#N/A,COUNTIF('B) Eingabe (Schüler)'!C39:AK39,4))","v":{"$error":"#N/A"}},{"$f":"IF('B) Eingabe (Lehrer)'!C39=\"\", #N/A, 'B) Eingabe (Lehrer)'!C39)","v":{"$error":"#N/A"}},{"$f":"IF(N26=0, #N/A,AVERAGE('B) Eingabe (Lehrer)'!D39:BK39))","v":{"$error":"#N/A"}},{"$f":"IF(N26<2, #N/A, STDEVP('B) Eingabe (Lehrer)'!D39:BK39))","v":{"$error":"#N/A"}},{"$f":"IF(N26<2, #N/A, 100*(Q26+R26)/N26)","v":{"$error":"#N/A"}},{"$f":"COUNT('B) Eingabe (Lehrer)'!D39:BK39)","v":0},{"$f":"IF(N26<2,#N/A,COUNTIF('B) Eingabe (Lehrer)'!D39:BK39,1))","v":{"$error":"#N/A"}},{"$f":"IF(N26<2,#N/A,COUNTIF('B) Eingabe (Lehrer)'!D39:BK39,2))","v":{"$error":"#N/A"}},{"$f":"IF(N26<2,#N/A,COUNTIF('B) Eingabe (Lehrer)'!D39:BK39,3))","v":{"$error":"#N/A"}},{"$f":"IF(N26<2,#N/A,COUNTIF('B) Eingabe (Lehrer)'!D39:BK39,4))","v":{"$error":"#N/A"}},{"$f":"IF('B) Eingabe (Lehrer)'!C39=\"\", #N/A, 'B) Eingabe (Lehrer)'!C39)","v":{"$error":"#N/A"}}]
[{"$f":"'B) Eingabe (Schüler)'!A40","v":25},{"$f":"IF(E27=0, #N/A,AVERAGE('B) Eingabe (Schüler)'!C40:AK40))","v":{"$error":"#N/A"}},{"$f":"IF(E27<2, #N/A, STDEVP('B) Eingabe (Schüler)'!C40:AK40))","v":{"$error":"#N/A"}},{"$f":"IF(E27<2, #N/A, 100*(H27+I27)/E27)","v":{"$error":"#N/A"}},{"$f":"COUNT('B) Eingabe (Schüler)'!C40:AK40)","v":0},{"$f":"IF(E27<2,#N/A,COUNTIF('B) Eingabe (Schüler)'!C40:AK40,1))","v":{"$error":"#N/A"}},{"$f":"IF(E27<2,#N/A,COUNTIF('B) Eingabe (Schüler)'!C40:AK40,2))","v":{"$error":"#N/A"}},{"$f":"IF(E27<2,#N/A,COUNTIF('B) Eingabe (Schüler)'!C40:AK40,3))","v":{"$error":"#N/A"}},{"$f":"IF(E27<2,#N/A,COUNTIF('B) Eingabe (Schüler)'!C40:AK40,4))","v":{"$error":"#N/A"}},{"$f":"IF('B) Eingabe (Lehrer)'!C40=\"\", #N/A, 'B) Eingabe (Lehrer)'!C40)","v":{"$error":"#N/A"}},{"$f":"IF(N27=0, #N/A,AVERAGE('B) Eingabe (Lehrer)'!D40:BK40))","v":{"$error":"#N/A"}},{"$f":"IF(N27<2, #N/A, STDEVP('B) Eingabe (Lehrer)'!D40:BK40))","v":{"$error":"#N/A"}},{"$f":"IF(N27<2, #N/A, 100*(Q27+R27)/N27)","v":{"$error":"#N/A"}},{"$f":"COUNT('B) Eingabe (Lehrer)'!D40:BK40)","v":0},{"$f":"IF(N27<2,#N/A,COUNTIF('B) Eingabe (Lehrer)'!D40:BK40,1))","v":{"$error":"#N/A"}},{"$f":"IF(N27<2,#N/A,COUNTIF('B) Eingabe (Lehrer)'!D40:BK40,2))","v":{"$error":"#N/A"}},{"$f":"IF(N27<2,#N/A,COUNTIF('B) Eingabe (Lehrer)'!D40:BK40,3))","v":{"$error":"#N/A"}},{"$f":"IF(N27<2,#N/A,COUNTIF('B) Eingabe (Lehrer)'!D40:BK40,4))","v":{"$error":"#N/A"}},{"$f":"IF('B) Eingabe (Lehrer)'!C40=\"\", #N/A, 'B) Eingabe (Lehrer)'!C40)","v":{"$error":"#N/A"}}]
[26,null,null,null,null,null,null,null,null,{"$f":"IF('B) Eingabe (Lehrer)'!C41=\"\", #N/A, 'B) Eingabe (Lehrer)'!C41)","v":{"$error":"#N/A"}},{"$f":"IF(N28=0, #N/A,AVERAGE('B) Eingabe (Lehrer)'!D41:BK41))","v":{"$error":"#N/A"}},{"$f":"IF(N28<2, #N/A, STDEVP('B) Eingabe (Lehrer)'!D41:BK41))","v":{"$error":"#N/A"}},{"$f":"IF(N28<2, #N/A, 100*(Q28+R28)/N28)","v":{"$error":"#N/A"}},{"$f":"COUNT('B) Eingabe (Lehrer)'!D41:BK41)","v":0},{"$f":"IF(N28<2,#N/A,COUNTIF('B) Eingabe (Lehrer)'!D41:BK41,1))","v":{"$error":"#N/A"}},{"$f":"IF(N28<2,#N/A,COUNTIF('B) Eingabe (Lehrer)'!D41:BK41,2))","v":{"$error":"#N/A"}},{"$f":"IF(N28<2,#N/A,COUNTIF('B) Eingabe (Lehrer)'!D41:BK41,3))","v":{"$error":"#N/A"}},{"$f":"IF(N28<2,#N/A,COUNTIF('B) Eingabe (Lehrer)'!D41:BK41,4))","v":{"$error":"#N/A"}},{"$f":"IF('B) Eingabe (Lehrer)'!C41=\"\", #N/A, 'B) Eingabe (Lehrer)'!C41)","v":{"$error":"#N/A"}}]
[27,null,null,null,null,null,null,null,null,{"$f":"IF('B) Eingabe (Lehrer)'!C42=\"\", #N/A, 'B) Eingabe (Lehrer)'!C42)","v":{"$error":"#N/A"}},{"$f":"IF(N29=0, #N/A,AVERAGE('B) Eingabe (Lehrer)'!D42:BK42))","v":{"$error":"#N/A"}},{"$f":"IF(N29<2, #N/A, STDEVP('B) Eingabe (Lehrer)'!D42:BK42))","v":{"$error":"#N/A"}},{"$f":"IF(N29<2, #N/A, 100*(Q29+R29)/N29)","v":{"$error":"#N/A"}},{"$f":"COUNT('B) Eingabe (Lehrer)'!D42:BK42)","v":0},{"$f":"IF(N29<2,#N/A,COUNTIF('B) Eingabe (Lehrer)'!D42:BK42,1))","v":{"$error":"#N/A"}},{"$f":"IF(N29<2,#N/A,COUNTIF('B) Eingabe (Lehrer)'!D42:BK42,2))","v":{"$error":"#N/A"}},{"$f":"IF(N29<2,#N/A,COUNTIF('B) Eingabe (Lehrer)'!D42:BK42,3))","v":{"$error":"#N/A"}},{"$f":"IF(N29<2,#N/A,COUNTIF('B) Eingabe (Lehrer)'!D42:BK42,4))","v":{"$error":"#N/A"}},{"$f":"IF('B) Eingabe (Lehrer)'!C42=\"\", #N/A, 'B) Eingabe (Lehrer)'!C42)","v":{"$error":"#N/A"}}]
[null,null,null,null,"N","quá dễ","tương đối dễ","vừa sức","tương đối khó","quá khó","không trả lời"]
["26S",{"$f":"IF(E31=0, #N/A,AVERAGE('B) Eingabe (Schüler)'!C41:AK41))","v":{"$error":"#N/A"}},{"$f":"IF(E31<2, #N/A, STDEVP('B) Eingabe (Schüler)'!C41:AK41))","v":{"$error":"#N/A"}},"Sch",{"$f":"COUNT('B) Eingabe (Schüler)'!C41:AK41)","v":0},{"$f":"IF($E31<2,#N/A,COUNTIF('B) Eingabe (Schüler)'!$C41:$AK41,1))","v":{"$error":"#N/A"}},{"$f":"IF($E31<2,#N/A,COUNTIF('B) Eingabe (Schüler)'!$C41:$AK41,2))","v":{"$error":"#N/A"}},{"$f":"IF($E31<2,#N/A,COUNTIF('B) Eingabe (Schüler)'!$C41:$AK41,3))","v":{"$error":"#N/A"}},{"$f":"IF($E31<2,#N/A,COUNTIF('B) Eingabe (Schüler)'!$C41:$AK41,4))","v":{"$error":"#N/A"}},{"$f":"IF($E31<2,#N/A,COUNTIF('B) Eingabe (Schüler)'!$C41:$AK41,5))","v":{"$error":"#N/A"}},{"$f":"IF(MAX(E3:E27)>0,MAX(E3:E27)-E31,)","v":0}]
[]
["Zusatzitems"]
[1,{"$f":"IF(E34=0, #N/A,AVERAGE('B) Eingabe (Schüler)'!C43:AK43))","v":{"$error":"#N/A"}},{"$f":"IF(E34<2, #N/A, STDEVP('B) Eingabe (Schüler)'!C43:AK43))","v":{"$error":"#N/A"}},{"$f":"IF(E34<2, #N/A, 100*(H34+I34)/E34)","v":{"$error":"#N/A"}},{"$f":"COUNT('B) Eingabe (Schüler)'!C43:AK43)","v":0},{"$f":"IF(E34<2,#N/A,COUNTIF('B) Eingabe (Schüler)'!C43:AK43,1))","v":{"$error":"#N/A"}},{"$f":"IF(E34<2,#N/A,COUNTIF('B) Eingabe (Schüler)'!C43:AK43,2))","v":{"$error":"#N/A"}},{"$f":"IF(E34<2,#N/A,COUNTIF('B) Eingabe (Schüler)'!C43:AK43,3))","v":{"$error":"#N/A"}},{"$f":"IF(E34<2,#N/A,COUNTIF('B) Eingabe (Schüler)'!C43:AK43,4))","v":{"$error":"#N/A"}},{"$f":"IF('B) Eingabe (Lehrer)'!C44=\"\", #N/A, 'B) Eingabe (Lehrer)'!C44)","v":{"$error":"#N/A"}},{"$f":"IF(N34=0, #N/A,AVERAGE('B) Eingabe (Lehrer)'!D44:BK44))","v":{"$error":"#N/A"}},{"$f":"IF(N34<2, #N/A, STDEVP('B) Eingabe (Lehrer)'!D44:BK44))","v":{"$error":"#N/A"}},{"$f":"IF(N34<2, #N/A, 100*(Q34+R34)/N34)","v":{"$error":"#N/A"}},{"$f":"COUNT('B) Eingabe (Lehrer)'!D44:BK44)","v":0},{"$f":"IF(N34<2,#N/A,COUNTIF('B) Eingabe (Lehrer)'!D44:BK44,1))","v":{"$error":"#N/A"}},{"$f":"IF(N34<2,#N/A,COUNTIF('B) Eingabe (Lehrer)'!D44:BK44,2))","v":{"$error":"#N/A"}},{"$f":"IF(N34<2,#N/A,COUNTIF('B) Eingabe (Lehrer)'!D44:BK44,3))","v":{"$error":"#N/A"}},{"$f":"IF(N34<2,#N/A,COUNTIF('B) Eingabe (Lehrer)'!D44:BK44,4))","v":{"$error":"#N/A"}},{"$f":"IF('B) Eingabe (Lehrer)'!C44=\"\", #N/A, 'B) Eingabe (Lehrer)'!C44)","v":{"$error":"#N/A"}}]
[2,{"$f":"IF(E35=0, #N/A,AVERAGE('B) Eingabe (Schüler)'!C44:AK44))","v":{"$error":"#N/A"}},{"$f":"IF(E35<2, #N/A, STDEVP('B) Eingabe (Schüler)'!C44:AK44))","v":{"$error":"#N/A"}},{"$error":"#N/A"},{"$f":"COUNT('B) Eingabe (Schüler)'!C44:AK44)","v":0},{"$f":"IF(E35<2,#N/A,COUNTIF('B) Eingabe (Schüler)'!C44:AK44,1))","v":{"$error":"#N/A"}},{"$f":"IF(E35<2,#N/A,COUNTIF('B) Eingabe (Schüler)'!C44:AK44,2))","v":{"$error":"#N/A"}},{"$f":"IF(E35<2,#N/A,COUNTIF('B) Eingabe (Schüler)'!C44:AK44,3))","v":{"$error":"#N/A"}},{"$f":"IF(E35<2,#N/A,COUNTIF('B) Eingabe (Schüler)'!C44:AK44,4))","v":{"$error":"#N/A"}},{"$f":"IF('B) Eingabe (Lehrer)'!C45=\"\", #N/A, 'B) Eingabe (Lehrer)'!C45)","v":{"$error":"#N/A"}},{"$f":"IF(N35=0, #N/A,AVERAGE('B) Eingabe (Lehrer)'!D45:BK45))","v":{"$error":"#N/A"}},{"$f":"IF(N35<2, #N/A, STDEVP('B) Eingabe (Lehrer)'!D45:BK45))","v":{"$error":"#N/A"}},{"$error":"#N/A"},{"$f":"COUNT('B) Eingabe (Lehrer)'!D45:BK45)","v":0},{"$f":"IF(N35<2,#N/A,COUNTIF('B) Eingabe (Lehrer)'!D45:BK45,1))","v":{"$error":"#N/A"}},{"$f":"IF(N35<2,#N/A,COUNTIF('B) Eingabe (Lehrer)'!D45:BK45,2))","v":{"$error":"#N/A"}},{"$f":"IF(N35<2,#N/A,COUNTIF('B) Eingabe (Lehrer)'!D45:BK45,3))","v":{"$error":"#N/A"}},{"$f":"IF(N35<2,#N/A,COUNTIF('B) Eingabe (Lehrer)'!D45:BK45,4))","v":{"$error":"#N/A"}},{"$f":"IF('B) Eingabe (Lehrer)'!C45=\"\", #N/A, 'B) Eingabe (Lehrer)'!C45)","v":{"$error":"#N/A"}}]
[3,{"$f":"IF(E36=0, #N/A,AVERAGE('B) Eingabe (Schüler)'!C45:AK45))","v":{"$error":"#N/A"}},{"$f":"IF(E36<2, #N/A, STDEVP('B) Eingabe (Schüler)'!C45:AK45))","v":{"$error":"#N/A"}},{"$error":"#N/A"},{"$f":"COUNT('B) Eingabe (Schüler)'!C45:AK45)","v":0},{"$f":"IF(E36<2,#N/A,COUNTIF('B) Eingabe (Schüler)'!C45:AK45,1))","v":{"$error":"#N/A"}},{"$f":"IF(E36<2,#N/A,COUNTIF('B) Eingabe (Schüler)'!C45:AK45,2))","v":{"$error":"#N/A"}},{"$f":"IF(E36<2,#N/A,COUNTIF('B) Eingabe (Schüler)'!C45:AK45,3))","v":{"$error":"#N/A"}},{"$f":"IF(E36<2,#N/A,COUNTIF('B) Eingabe (Schüler)'!C45:AK45,4))","v":{"$error":"#N/A"}},{"$f":"IF('B) Eingabe (Lehrer)'!C46=\"\", #N/A, 'B) Eingabe (Lehrer)'!C46)","v":{"$error":"#N/A"}},{"$f":"IF(N36=0, #N/A,AVERAGE('B) Eingabe (Lehrer)'!D46:BK46))","v":{"$error":"#N/A"}},{"$f":"IF(N36<2, #N/A, STDEVP('B) Eingabe (Lehrer)'!D46:BK46))","v":{"$error":"#N/A"}},{"$error":"#N/A"},{"$f":"COUNT('B) Eingabe (Lehrer)'!D46:BK46)","v":0},{"$f":"IF(N36<2,#N/A,COUNTIF('B) Eingabe (Lehrer)'!D46:BK46,1))","v":{"$error":"#N/A"}},{"$f":"IF(N36<2,#N/A,COUNTIF('B) Eingabe (Lehrer)'!D46:BK46,2))","v":{"$error":"#N/A"}},{"$f":"IF(N36<2,#N/A,COUNTIF('B) Eingabe (Lehrer)'!D46:BK46,3))","v":{"$error":"#N/A"}},{"$f":"IF(N36<2,#N/A,COUNTIF('B) Eingabe (Lehrer)'!D46:BK46,4))","v":{"$error":"#N/A"}},{"$f":"IF('B) Eingabe (Lehrer)'!C46=\"\", #N/A, 'B) Eingabe (Lehrer)'!C46)","v":{"$error":"#N/A"}}]
[4,{"$f":"IF(E37=0, #N/A,AVERAGE('B) Eingabe (Schüler)'!C46:AK46))","v":{"$error":"#N/A"}},{"$f":"IF(E37<2, #N/A, STDEVP('B) Eingabe (Schüler)'!C46:AK46))","v":{"$error":"#N/A"}},{"$error":"#N/A"},{"$f":"COUNT('B) Eingabe (Schüler)'!C46:AK46)","v":0},{"$f":"IF(E37<2,#N/A,COUNTIF('B) Eingabe (Schüler)'!C46:AK46,1))","v":{"$error":"#N/A"}},{"$f":"IF(E37<2,#N/A,COUNTIF('B) Eingabe (Schüler)'!C46:AK46,2))","v":{"$error":"#N/A"}},{"$f":"IF(E37<2,#N/A,COUNTIF('B) Eingabe (Schüler)'!C46:AK46,3))","v":{"$error":"#N/A"}},{"$f":"IF(E37<2,#N/A,COUNTIF('B) Eingabe (Schüler)'!C46:AK46,4))","v":{"$error":"#N/A"}},{"$f":"IF('B) Eingabe (Lehrer)'!C47=\"\", #N/A, 'B) Eingabe (Lehrer)'!C47)","v":{"$error":"#N/A"}},{"$f":"IF(N37=0, #N/A,AVERAGE('B) Eingabe (Lehrer)'!D47:BK47))","v":{"$error":"#N/A"}},{"$f":"IF(N37<2, #N/A, STDEVP('B) Eingabe (Lehrer)'!D47:BK47))","v":{"$error":"#N/A"}},{"$error":"#N/A"},{"$f":"COUNT('B) Eingabe (Lehrer)'!D47:BK47)","v":0},{"$f":"IF(N37<2,#N/A,COUNTIF('B) Eingabe (Lehrer)'!D47:BK47,1))","v":{"$error":"#N/A"}},{"$f":"IF(N37<2,#N/A,COUNTIF('B) Eingabe (Lehrer)'!D47:BK47,2))","v":{"$error":"#N/A"}},{"$f":"IF(N37<2,#N/A,COUNTIF('B) Eingabe (Lehrer)'!D47:BK47,3))","v":{"$error":"#N/A"}},{"$f":"IF(N37<2,#N/A,COUNTIF('B) Eingabe (Lehrer)'!D47:BK47,4))","v":{"$error":"#N/A"}},{"$f":"IF('B) Eingabe (Lehrer)'!C47=\"\", #N/A, 'B) Eingabe (Lehrer)'!C47)","v":{"$error":"#N/A"}}]
[5,{"$f":"IF(E38=0, #N/A,AVERAGE('B) Eingabe (Schüler)'!C47:AK47))","v":{"$error":"#N/A"}},{"$f":"IF(E38<2, #N/A, STDEVP('B) Eingabe (Schüler)'!C47:AK47))","v":{"$error":"#N/A"}},{"$error":"#N/A"},{"$f":"COUNT('B) Eingabe (Schüler)'!C47:AK47)","v":0},{"$f":"IF(E38<2,#N/A,COUNTIF('B) Eingabe (Schüler)'!C47:AK47,1))","v":{"$error":"#N/A"}},{"$f":"IF(E38<2,#N/A,COUNTIF('B) Eingabe (Schüler)'!C47:AK47,2))","v":{"$error":"#N/A"}},{"$f":"IF(E38<2,#N/A,COUNTIF('B) Eingabe (Schüler)'!C47:AK47,3))","v":{"$error":"#N/A"}},{"$f":"IF(E38<2,#N/A,COUNTIF('B) Eingabe (Schüler)'!C47:AK47,4))","v":{"$error":"#N/A"}},{"$f":"IF('B) Eingabe (Lehrer)'!C48=\"\", #N/A, 'B) Eingabe (Lehrer)'!C48)","v":{"$error":"#N/A"}},{"$f":"IF(N38=0, #N/A,AVERAGE('B) Eingabe (Lehrer)'!D48:BK48))","v":{"$error":"#N/A"}},{"$f":"IF(N38<2, #N/A, STDEVP('B) Eingabe (Lehrer)'!D48:BK48))","v":{"$error":"#N/A"}},{"$error":"#N/A"},{"$f":"COUNT('B) Eingabe (Lehrer)'!D48:BK48)","v":0},{"$f":"IF(N38<2,#N/A,COUNTIF('B) Eingabe (Lehrer)'!D48:BK48,1))","v":{"$error":"#N/A"}},{"$f":"IF(N38<2,#N/A,COUNTIF('B) Eingabe (Lehrer)'!D48:BK48,2))","v":{"$error":"#N/A"}},{"$f":"IF(N38<2,#N/A,COUNTIF('B) Eingabe (Lehrer)'!D48:BK48,3))","v":{"$error":"#N/A"}},{"$f":"IF(N38<2,#N/A,COUNTIF('B) Eingabe (Lehrer)'!D48:BK48,4))","v":{"$error":"#N/A"}},{"$f":"IF('B) Eingabe (Lehrer)'!C48=\"\", #N/A, 'B) Eingabe (Lehrer)'!C48)","v":{"$error":"#N/A"}}]
[6,{"$f":"IF(E39=0, #N/A,AVERAGE('B) Eingabe (Schüler)'!C48:AK48))","v":{"$error":"#N/A"}},{"$f":"IF(E39<2, #N/A, STDEVP('B) Eingabe (Schüler)'!C48:AK48))","v":{"$error":"#N/A"}},{"$error":"#N/A"},{"$f":"COUNT('B) Eingabe (Schüler)'!C48:AK48)","v":0},{"$f":"IF(E39<2,#N/A,COUNTIF('B) Eingabe (Schüler)'!C48:AK48,1))","v":{"$error":"#N/A"}},{"$f":"IF(E39<2,#N/A,COUNTIF('B) Eingabe (Schüler)'!C48:AK48,2))","v":{"$error":"#N/A"}},{"$f":"IF(E39<2,#N/A,COUNTIF('B) Eingabe (Schüler)'!C48:AK48,3))","v":{"$error":"#N/A"}},{"$f":"IF(E39<2,#N/A,COUNTIF('B) Eingabe (Schüler)'!C48:AK48,4))","v":{"$error":"#N/A"}},{"$f":"IF('B) Eingabe (Lehrer)'!C49=\"\", #N/A, 'B) Eingabe (Lehrer)'!C49)","v":{"$error":"#N/A"}},{"$f":"IF(N39=0, #N/A,AVERAGE('B) Eingabe (Lehrer)'!D49:BK49))","v":{"$error":"#N/A"}},{"$f":"IF(N39<2, #N/A, STDEVP('B) Eingabe (Lehrer)'!D49:BK49))","v":{"$error":"#N/A"}},{"$error":"#N/A"},{"$f":"COUNT('B) Eingabe (Lehrer)'!D49:BK49)","v":0},{"$f":"IF(N39<2,#N/A,COUNTIF('B) Eingabe (Lehrer)'!D49:BK49,1))","v":{"$error":"#N/A"}},{"$f":"IF(N39<2,#N/A,COUNTIF('B) Eingabe (Lehrer)'!D49:BK49,2))","v":{"$error":"#N/A"}},{"$f":"IF(N39<2,#N/A,COUNTIF('B) Eingabe (Lehrer)'!D49:BK49,3))","v":{"$error":"#N/A"}},{"$f":"IF(N39<2,#N/A,COUNTIF('B) Eingabe (Lehrer)'!D49:BK49,4))","v":{"$error":"#N/A"}},{"$f":"IF('B) Eingabe (Lehrer)'!C49=\"\", #N/A, 'B) Eingabe (Lehrer)'!C49)","v":{"$error":"#N/A"}}]
[7,{"$f":"IF(E40=0, #N/A,AVERAGE('B) Eingabe (Schüler)'!C49:AK49))","v":{"$error":"#N/A"}},{"$f":"IF(E40<2, #N/A, STDEVP('B) Eingabe (Schüler)'!C49:AK49))","v":{"$error":"#N/A"}},{"$error":"#N/A"},{"$f":"COUNT('B) Eingabe (Schüler)'!C49:AK49)","v":0},{"$f":"IF(E40<2,#N/A,COUNTIF('B) Eingabe (Schüler)'!C49:AK49,1))","v":{"$error":"#N/A"}},{"$f":"IF(E40<2,#N/A,COUNTIF('B) Eingabe (Schüler)'!C49:AK49,2))","v":{"$error":"#N/A"}},{"$f":"IF(E40<2,#N/A,COUNTIF('B) Eingabe (Schüler)'!C49:AK49,3))","v":{"$error":"#N/A"}},{"$f":"IF(E40<2,#N/A,COUNTIF('B) Eingabe (Schüler)'!C49:AK49,4))","v":{"$error":"#N/A"}},{"$f":"IF('B) Eingabe (Lehrer)'!C50=\"\", #N/A, 'B) Eingabe (Lehrer)'!C50)","v":{"$error":"#N/A"}},{"$f":"IF(N40=0, #N/A,AVERAGE('B) Eingabe (Lehrer)'!D50:BK50))","v":{"$error":"#N/A"}},{"$f":"IF(N40<2, #N/A, STDEVP('B) Eingabe (Lehrer)'!D50:BK50))","v":{"$error":"#N/A"}},{"$error":"#N/A"},{"$f":"COUNT('B) Eingabe (Lehrer)'!D50:BK50)","v":0},{"$f":"IF(N40<2,#N/A,COUNTIF('B) Eingabe (Lehrer)'!D50:BK50,1))","v":{"$error":"#N/A"}},{"$f":"IF(N40<2,#N/A,COUNTIF('B) Eingabe (Lehrer)'!D50:BK50,2))","v":{"$error":"#N/A"}},{"$f":"IF(N40<2,#N/A,COUNTIF('B) Eingabe (Lehrer)'!D50:BK50,3))","v":{"$error":"#N/A"}},{"$f":"IF(N40<2,#N/A,COUNTIF('B) Eingabe (Lehrer)'!D50:BK50,4))","v":{"$error":"#N/A"}},{"$f":"IF('B) Eingabe (Lehrer)'!C50=\"\", #N/A, 'B) Eingabe (Lehrer)'!C50)","v":{"$error":"#N/A"}}]
[8,{"$f":"IF(E41=0, #N/A,AVERAGE('B) Eingabe (Schüler)'!C50:AK50))","v":{"$error":"#N/A"}},{"$f":"IF(E41<2, #N/A, STDEVP('B) Eingabe (Schüler)'!C50:AK50))","v":{"$error":"#N/A"}},{"$error":"#N/A"},{"$f":"COUNT('B) Eingabe (Schüler)'!C50:AK50)","v":0},{"$f":"IF(E41<2,#N/A,COUNTIF('B) Eingabe (Schüler)'!C50:AK50,1))","v":{"$error":"#N/A"}},{"$f":"IF(E41<2,#N/A,COUNTIF('B) Eingabe (Schüler)'!C50:AK50,2))","v":{"$error":"#N/A"}},{"$f":"IF(E41<2,#N/A,COUNTIF('B) Eingabe (Schüler)'!C50:AK50,3))","v":{"$error":"#N/A"}},{"$f":"IF(E41<2,#N/A,COUNTIF('B) Eingabe (Schüler)'!C50:AK50,4))","v":{"$error":"#N/A"}},{"$f":"IF('B) Eingabe (Lehrer)'!C51=\"\", #N/A, 'B) Eingabe (Lehrer)'!C51)","v":{"$error":"#N/A"}},{"$f":"IF(N41=0, #N/A,AVERAGE('B) Eingabe (Lehrer)'!D51:BK51))","v":{"$error":"#N/A"}},{"$f":"IF(N41<2, #N/A, STDEVP('B) Eingabe (Lehrer)'!D51:BK51))","v":{"$error":"#N/A"}},{"$error":"#N/A"},{"$f":"COUNT('B) Eingabe (Lehrer)'!D51:BK51)","v":0},{"$f":"IF(N41<2,#N/A,COUNTIF('B) Eingabe (Lehrer)'!D51:BK51,1))","v":{"$error":"#N/A"}},{"$f":"IF(N41<2,#N/A,COUNTIF('B) Eingabe (Lehrer)'!D51:BK51,2))","v":{"$error":"#N/A"}},{"$f":"IF(N41<2,#N/A,COUNTIF('B) Eingabe (Lehrer)'!D51:BK51,3))","v":{"$error":"#N/A"}},{"$f":"IF(N41<2,#N/A,COUNTIF('B) Eingabe (Lehrer)'!D51:BK51,4))","v":{"$error":"#N/A"}},{"$f":"IF('B) Eingabe (Lehrer)'!C51=\"\", #N/A, 'B) Eingabe (Lehrer)'!C51)","v":{"$error":"#N/A"}}]
[9,{"$f":"IF(E42=0, #N/A,AVERAGE('B) Eingabe (Schüler)'!C51:AK51))","v":{"$error":"#N/A"}},{"$f":"IF(E42<2, #N/A, STDEVP('B) Eingabe (Schüler)'!C51:AK51))","v":{"$error":"#N/A"}},{"$error":"#N/A"},{"$f":"COUNT('B) Eingabe (Schüler)'!C51:AK51)","v":0},{"$f":"IF(E42<2,#N/A,COUNTIF('B) Eingabe (Schüler)'!C51:AK51,1))","v":{"$error":"#N/A"}},{"$f":"IF(E42<2,#N/A,COUNTIF('B) Eingabe (Schüler)'!C51:AK51,2))","v":{"$error":"#N/A"}},{"$f":"IF(E42<2,#N/A,COUNTIF('B) Eingabe (Schüler)'!C51:AK51,3))","v":{"$error":"#N/A"}},{"$f":"IF(E42<2,#N/A,COUNTIF('B) Eingabe (Schüler)'!C51:AK51,4))","v":{"$error":"#N/A"}},{"$f":"IF('B) Eingabe (Lehrer)'!C52=\"\", #N/A, 'B) Eingabe (Lehrer)'!C52)","v":{"$error":"#N/A"}},{"$f":"IF(N42=0, #N/A,AVERAGE('B) Eingabe (Lehrer)'!D52:BK52))","v":{"$error":"#N/A"}},{"$f":"IF(N42<2, #N/A, STDEVP('B) Eingabe (Lehrer)'!D52:BK52))","v":{"$error":"#N/A"}},{"$error":"#N/A"},{"$f":"COUNT('B) Eingabe (Lehrer)'!D52:BK52)","v":0},{"$f":"IF(N42<2,#N/A,COUNTIF('B) Eingabe (Lehrer)'!D52:BK52,1))","v":{"$error":"#N/A"}},{"$f":"IF(N42<2,#N/A,COUNTIF('B) Eingabe (Lehrer)'!D52:BK52,2))","v":{"$error":"#N/A"}},{"$f":"IF(N42<2,#N/A,COUNTIF('B) Eingabe (Lehrer)'!D52:BK52,3))","v":{"$error":"#N/A"}},{"$f":"IF(N42<2,#N/A,COUNTIF('B) Eingabe (Lehrer)'!D52:BK52,4))","v":{"$error":"#N/A"}},{"$f":"IF('B) Eingabe (Lehrer)'!C52=\"\", #N/A, 'B) Eingabe (Lehrer)'!C52)","v":{"$error":"#N/A"}}]
[10,{"$f":"IF(E43=0, #N/A,AVERAGE('B) Eingabe (Schüler)'!C52:AK52))","v":{"$error":"#N/A"}},{"$f":"IF(E43<2, #N/A, STDEVP('B) Eingabe (Schüler)'!C52:AK52))","v":{"$error":"#N/A"}},{"$error":"#N/A"},{"$f":"COUNT('B) Eingabe (Schüler)'!C52:AK52)","v":0},{"$f":"IF(E43<2,#N/A,COUNTIF('B) Eingabe (Schüler)'!C52:AK52,1))","v":{"$error":"#N/A"}},{"$f":"IF(E43<2,#N/A,COUNTIF('B) Eingabe (Schüler)'!C52:AK52,2))","v":{"$error":"#N/A"}},{"$f":"IF(E43<2,#N/A,COUNTIF('B) Eingabe (Schüler)'!C52:AK52,3))","v":{"$error":"#N/A"}},{"$f":"IF(E43<2,#N/A,COUNTIF('B) Eingabe (Schüler)'!C52:AK52,4))","v":{"$error":"#N/A"}},{"$f":"IF('B) Eingabe (Lehrer)'!C53=\"\", #N/A, 'B) Eingabe (Lehrer)'!C53)","v":{"$error":"#N/A"}},{"$f":"IF(N43=0, #N/A,AVERAGE('B) Eingabe (Lehrer)'!D53:BK53))","v":{"$error":"#N/A"}},{"$f":"IF(N43<2, #N/A, STDEVP('B) Eingabe (Lehrer)'!D53:BK53))","v":{"$error":"#N/A"}},{"$error":"#N/A"},{"$f":"COUNT('B) Eingabe (Lehrer)'!D53:BK53)","v":0},{"$f":"IF(N43<2,#N/A,COUNTIF('B) Eingabe (Lehrer)'!D53:BK53,1))","v":{"$error":"#N/A"}},{"$f":"IF(N43<2,#N/A,COUNTIF('B) Eingabe (Lehrer)'!D53:BK53,2))","v":{"$error":"#N/A"}},{"$f":"IF(N43<2,#N/A,COUNTIF('B) Eingabe (Lehrer)'!D53:BK53,3))","v":{"$error":"#N/A"}},{"$f":"IF(N43<2,#N/A,COUNTIF('B) Eingabe (Lehrer)'!D53:BK53,4))","v":{"$error":"#N/A"}},{"$f":"IF('B) Eingabe (Lehrer)'!C53=\"\", #N/A, 'B) Eingabe (Lehrer)'!C53)","v":{"$error":"#N/A"}}]
[11,{"$f":"IF(E44=0, #N/A,AVERAGE('B) Eingabe (Schüler)'!C53:AK53))","v":{"$error":"#N/A"}},{"$f":"IF(E44<2, #N/A, STDEVP('B) Eingabe (Schüler)'!C53:AK53))","v":{"$error":"#N/A"}},{"$error":"#N/A"},{"$f":"COUNT('B) Eingabe (Schüler)'!C53:AK53)","v":0},{"$f":"IF(E44<2,#N/A,COUNTIF('B) Eingabe (Schüler)'!C53:AK53,1))","v":{"$error":"#N/A"}},{"$f":"IF(E44<2,#N/A,COUNTIF('B) Eingabe (Schüler)'!C53:AK53,2))","v":{"$error":"#N/A"}},{"$f":"IF(E44<2,#N/A,COUNTIF('B) Eingabe (Schüler)'!C53:AK53,3))","v":{"$error":"#N/A"}},{"$f":"IF(E44<2,#N/A,COUNTIF('B) Eingabe (Schüler)'!C53:AK53,4))","v":{"$error":"#N/A"}},{"$f":"IF('B) Eingabe (Lehrer)'!C54=\"\", #N/A, 'B) Eingabe (Lehrer)'!C54)","v":{"$error":"#N/A"}},{"$f":"IF(N44=0, #N/A,AVERAGE('B) Eingabe (Lehrer)'!D54:BK54))","v":{"$error":"#N/A"}},{"$f":"IF(N44<2, #N/A, STDEVP('B) Eingabe (Lehrer)'!D54:BK54))","v":{"$error":"#N/A"}},{"$error":"#N/A"},{"$f":"COUNT('B) Eingabe (Lehrer)'!D54:BK54)","v":0},{"$f":"IF(N44<2,#N/A,COUNTIF('B) Eingabe (Lehrer)'!D54:BK54,1))","v":{"$error":"#N/A"}},{"$f":"IF(N44<2,#N/A,COUNTIF('B) Eingabe (Lehrer)'!D54:BK54,2))","v":{"$error":"#N/A"}},{"$f":"IF(N44<2,#N/A,COUNTIF('B) Eingabe (Lehrer)'!D54:BK54,3))","v":{"$error":"#N/A"}},{"$f":"IF(N44<2,#N/A,COUNTIF('B) Eingabe (Lehrer)'!D54:BK54,4))","v":{"$error":"#N/A"}},{"$f":"IF('B) Eingabe (Lehrer)'!C54=\"\", #N/A, 'B) Eingabe (Lehrer)'!C54)","v":{"$error":"#N/A"}}]
[12,{"$f":"IF(E45=0, #N/A,AVERAGE('B) Eingabe (Schüler)'!C54:AK54))","v":{"$error":"#N/A"}},{"$f":"IF(E45<2, #N/A, STDEVP('B) Eingabe (Schüler)'!C54:AK54))","v":{"$error":"#N/A"}},{"$error":"#N/A"},{"$f":"COUNT('B) Eingabe (Schüler)'!C54:AK54)","v":0},{"$f":"IF(E45<2,#N/A,COUNTIF('B) Eingabe (Schüler)'!C54:AK54,1))","v":{"$error":"#N/A"}},{"$f":"IF(E45<2,#N/A,COUNTIF('B) Eingabe (Schüler)'!C54:AK54,2))","v":{"$error":"#N/A"}},{"$f":"IF(E45<2,#N/A,COUNTIF('B) Eingabe (Schüler)'!C54:AK54,3))","v":{"$error":"#N/A"}},{"$f":"IF(E45<2,#N/A,COUNTIF('B) Eingabe (Schüler)'!C54:AK54,4))","v":{"$error":"#N/A"}},{"$f":"IF('B) Eingabe (Lehrer)'!C55=\"\", #N/A, 'B) Eingabe (Lehrer)'!C55)","v":{"$error":"#N/A"}},{"$f":"IF(N45=0, #N/A,AVERAGE('B) Eingabe (Lehrer)'!D55:BK55))","v":{"$error":"#N/A"}},{"$f":"IF(N45<2, #N/A, STDEVP('B) Eingabe (Lehrer)'!D55:BK55))","v":{"$error":"#N/A"}},{"$error":"#N/A"},{"$f":"COUNT('B) Eingabe (Lehrer)'!D55:BK55)","v":0},{"$f":"IF(N45<2,#N/A,COUNTIF('B) Eingabe (Lehrer)'!D55:BK55,1))","v":{"$error":"#N/A"}},{"$f":"IF(N45<2,#N/A,COUNTIF('B) Eingabe (Lehrer)'!D55:BK55,2))","v":{"$error":"#N/A"}},{"$f":"IF(N45<2,#N/A,COUNTIF('B) Eingabe (Lehrer)'!D55:BK55,3))","v":{"$error":"#N/A"}},{"$f":"IF(N45<2,#N/A,COUNTIF('B) Eingabe (Lehrer)'!D55:BK55,4))","v":{"$error":"#N/A"}},{"$f":"IF('B) Eingabe (Lehrer)'!C55=\"\", #N/A, 'B) Eingabe (Lehrer)'!C55)","v":{"$error":"#N/A"}}]
[13,{"$f":"IF(E46=0, #N/A,AVERAGE('B) Eingabe (Schüler)'!C55:AK55))","v":{"$error":"#N/A"}},{"$f":"IF(E46<2, #N/A, STDEVP('B) Eingabe (Schüler)'!C55:AK55))","v":{"$error":"#N/A"}},{"$error":"#N/A"},{"$f":"COUNT('B) Eingabe (Schüler)'!C55:AK55)","v":0},{"$f":"IF(E46<2,#N/A,COUNTIF('B) Eingabe (Schüler)'!C55:AK55,1))","v":{"$error":"#N/A"}},{"$f":"IF(E46<2,#N/A,COUNTIF('B) Eingabe (Schüler)'!C55:AK55,2))","v":{"$error":"#N/A"}},{"$f":"IF(E46<2,#N/A,COUNTIF('B) Eingabe (Schüler)'!C55:AK55,3))","v":{"$error":"#N/A"}},{"$f":"IF(E46<2,#N/A,COUNTIF('B) Eingabe (Schüler)'!C55:AK55,4))","v":{"$error":"#N/A"}},{"$f":"IF('B) Eingabe (Lehrer)'!C56=\"\", #N/A, 'B) Eingabe (Lehrer)'!C56)","v":{"$error":"#N/A"}},{"$f":"IF(N46=0, #N/A,AVERAGE('B) Eingabe (Lehrer)'!D56:BK56))","v":{"$error":"#N/A"}},{"$f":"IF(N46<2, #N/A, STDEVP('B) Eingabe (Lehrer)'!D56:BK56))","v":{"$error":"#N/A"}},{"$error":"#N/A"},{"$f":"COUNT('B) Eingabe (Lehrer)'!D56:BK56)","v":0},{"$f":"IF(N46<2,#N/A,COUNTIF('B) Eingabe (Lehrer)'!D56:BK56,1))","v":{"$error":"#N/A"}},{"$f":"IF(N46<2,#N/A,COUNTIF('B) Eingabe (Lehrer)'!D56:BK56,2))","v":{"$error":"#N/A"}},{"$f":"IF(N46<2,#N/A,COUNTIF('B) Eingabe (Lehrer)'!D56:BK56,3))","v":{"$error":"#N/A"}},{"$f":"IF(N46<2,#N/A,COUNTIF('B) Eingabe (Lehrer)'!D56:BK56,4))","v":{"$error":"#N/A"}},{"$f":"IF('B) Eingabe (Lehrer)'!C56=\"\", #N/A, 'B) Eingabe (Lehrer)'!C56)","v":{"$error":"#N/A"}}]
[14,{"$f":"IF(E47=0, #N/A,AVERAGE('B) Eingabe (Schüler)'!C56:AK56))","v":{"$error":"#N/A"}},{"$f":"IF(E47<2, #N/A, STDEVP('B) Eingabe (Schüler)'!C56:AK56))","v":{"$error":"#N/A"}},{"$error":"#N/A"},{"$f":"COUNT('B) Eingabe (Schüler)'!C56:AK56)","v":0},{"$f":"IF(E47<2,#N/A,COUNTIF('B) Eingabe (Schüler)'!C56:AK56,1))","v":{"$error":"#N/A"}},{"$f":"IF(E47<2,#N/A,COUNTIF('B) Eingabe (Schüler)'!C56:AK56,2))","v":{"$error":"#N/A"}},{"$f":"IF(E47<2,#N/A,COUNTIF('B) Eingabe (Schüler)'!C56:AK56,3))","v":{"$error":"#N/A"}},{"$f":"IF(E47<2,#N/A,COUNTIF('B) Eingabe (Schüler)'!C56:AK56,4))","v":{"$error":"#N/A"}},{"$f":"IF('B) Eingabe (Lehrer)'!C57=\"\", #N/A, 'B) Eingabe (Lehrer)'!C57)","v":{"$error":"#N/A"}},{"$f":"IF(N47=0, #N/A,AVERAGE('B) Eingabe (Lehrer)'!D57:BK57))","v":{"$error":"#N/A"}},{"$f":"IF(N47<2, #N/A, STDEVP('B) Eingabe (Lehrer)'!D57:BK57))","v":{"$error":"#N/A"}},{"$error":"#N/A"},{"$f":"COUNT('B) Eingabe (Lehrer)'!D57:BK57)","v":0},{"$f":"IF(N47<2,#N/A,COUNTIF('B) Eingabe (Lehrer)'!D57:BK57,1))","v":{"$error":"#N/A"}},{"$f":"IF(N47<2,#N/A,COUNTIF('B) Eingabe (Lehrer)'!D57:BK57,2))","v":{"$error":"#N/A"}},{"$f":"IF(N47<2,#N/A,COUNTIF('B) Eingabe (Lehrer)'!D57:BK57,3))","v":{"$error":"#N/A"}},{"$f":"IF(N47<2,#N/A,COUNTIF('B) Eingabe (Lehrer)'!D57:BK57,4))","v":{"$error":"#N/A"}},{"$f":"IF('B) Eingabe (Lehrer)'!C57=\"\", #N/A, 'B) Eingabe (Lehrer)'!C57)","v":{"$error":"#N/A"}}]
[15,{"$f":"IF(E48=0, #N/A,AVERAGE('B) Eingabe (Schüler)'!C57:AK57))","v":{"$error":"#N/A"}},{"$f":"IF(E48<2, #N/A, STDEVP('B) Eingabe (Schüler)'!C57:AK57))","v":{"$error":"#N/A"}},{"$error":"#N/A"},{"$f":"COUNT('B) Eingabe (Schüler)'!C57:AK57)","v":0},{"$f":"IF(E48<2,#N/A,COUNTIF('B) Eingabe (Schüler)'!C57:AK57,1))","v":{"$error":"#N/A"}},{"$f":"IF(E48<2,#N/A,COUNTIF('B) Eingabe (Schüler)'!C57:AK57,2))","v":{"$error":"#N/A"}},{"$f":"IF(E48<2,#N/A,COUNTIF('B) Eingabe (Schüler)'!C57:AK57,3))","v":{"$error":"#N/A"}},{"$f":"IF(E48<2,#N/A,COUNTIF('B) Eingabe (Schüler)'!C57:AK57,4))","v":{"$error":"#N/A"}},{"$f":"IF('B) Eingabe (Lehrer)'!C58=\"\", #N/A, 'B) Eingabe (Lehrer)'!C58)","v":{"$error":"#N/A"}},{"$f":"IF(N48=0, #N/A,AVERAGE('B) Eingabe (Lehrer)'!D58:BK58))","v":{"$error":"#N/A"}},{"$f":"IF(N48<2, #N/A, STDEVP('B) Eingabe (Lehrer)'!D58:BK58))","v":{"$error":"#N/A"}},{"$error":"#N/A"},{"$f":"COUNT('B) Eingabe (Lehrer)'!D58:BK58)","v":0},{"$f":"IF(N48<2,#N/A,COUNTIF('B) Eingabe (Lehrer)'!D58:BK58,1))","v":{"$error":"#N/A"}},{"$f":"IF(N48<2,#N/A,COUNTIF('B) Eingabe (Lehrer)'!D58:BK58,2))","v":{"$error":"#N/A"}},{"$f":"IF(N48<2,#N/A,COUNTIF('B) Eingabe (Lehrer)'!D58:BK58,3))","v":{"$error":"#N/A"}},{"$f":"IF(N48<2,#N/A,COUNTIF('B) Eingabe (Lehrer)'!D58:BK58,4))","v":{"$error":"#N/A"}},{"$f":"IF('B) Eingabe (Lehrer)'!C58=\"\", #N/A, 'B) Eingabe (Lehrer)'!C58)","v":{"$error":"#N/A"}}]
[16,{"$f":"IF(E49=0, #N/A,AVERAGE('B) Eingabe (Schüler)'!C58:AK58))","v":{"$error":"#N/A"}},{"$f":"IF(E49<2, #N/A, STDEVP('B) Eingabe (Schüler)'!C58:AK58))","v":{"$error":"#N/A"}},{"$error":"#N/A"},{"$f":"COUNT('B) Eingabe (Schüler)'!C58:AK58)","v":0},{"$f":"IF(E49<2,#N/A,COUNTIF('B) Eingabe (Schüler)'!C58:AK58,1))","v":{"$error":"#N/A"}},{"$f":"IF(E49<2,#N/A,COUNTIF('B) Eingabe (Schüler)'!C58:AK58,2))","v":{"$error":"#N/A"}},{"$f":"IF(E49<2,#N/A,COUNTIF('B) Eingabe (Schüler)'!C58:AK58,3))","v":{"$error":"#N/A"}},{"$f":"IF(E49<2,#N/A,COUNTIF('B) Eingabe (Schüler)'!C58:AK58,4))","v":{"$error":"#N/A"}},{"$f":"IF('B) Eingabe (Lehrer)'!C59=\"\", #N/A, 'B) Eingabe (Lehrer)'!C59)","v":{"$error":"#N/A"}},{"$f":"IF(N49=0, #N/A,AVERAGE('B) Eingabe (Lehrer)'!D59:BK59))","v":{"$error":"#N/A"}},{"$f":"IF(N49<2, #N/A, STDEVP('B) Eingabe (Lehrer)'!D59:BK59))","v":{"$error":"#N/A"}},{"$error":"#N/A"},{"$f":"COUNT('B) Eingabe (Lehrer)'!D59:BK59)","v":0},{"$f":"IF(N49<2,#N/A,COUNTIF('B) Eingabe (Lehrer)'!D59:BK59,1))","v":{"$error":"#N/A"}},{"$f":"IF(N49<2,#N/A,COUNTIF('B) Eingabe (Lehrer)'!D59:BK59,2))","v":{"$error":"#N/A"}},{"$f":"IF(N49<2,#N/A,COUNTIF('B) Eingabe (Lehrer)'!D59:BK59,3))","v":{"$error":"#N/A"}},{"$f":"IF(N49<2,#N/A,COUNTIF('B) Eingabe (Lehrer)'!D59:BK59,4))","v":{"$error":"#N/A"}},{"$f":"IF('B) Eingabe (Lehrer)'!C59=\"\", #N/A, 'B) Eingabe (Lehrer)'!C59)","v":{"$error":"#N/A"}}]
[17,{"$f":"IF(E50=0, #N/A,AVERAGE('B) Eingabe (Schüler)'!C59:AK59))","v":{"$error":"#N/A"}},{"$f":"IF(E50<2, #N/A, STDEVP('B) Eingabe (Schüler)'!C59:AK59))","v":{"$error":"#N/A"}},{"$error":"#N/A"},{"$f":"COUNT('B) Eingabe (Schüler)'!C59:AK59)","v":0},{"$f":"IF(E50<2,#N/A,COUNTIF('B) Eingabe (Schüler)'!C59:AK59,1))","v":{"$error":"#N/A"}},{"$f":"IF(E50<2,#N/A,COUNTIF('B) Eingabe (Schüler)'!C59:AK59,2))","v":{"$error":"#N/A"}},{"$f":"IF(E50<2,#N/A,COUNTIF('B) Eingabe (Schüler)'!C59:AK59,3))","v":{"$error":"#N/A"}},{"$f":"IF(E50<2,#N/A,COUNTIF('B) Eingabe (Schüler)'!C59:AK59,4))","v":{"$error":"#N/A"}},{"$f":"IF('B) Eingabe (Lehrer)'!C60=\"\", #N/A, 'B) Eingabe (Lehrer)'!C60)","v":{"$error":"#N/A"}},{"$f":"IF(N50=0, #N/A,AVERAGE('B) Eingabe (Lehrer)'!D60:BK60))","v":{"$error":"#N/A"}},{"$f":"IF(N50<2, #N/A, STDEVP('B) Eingabe (Lehrer)'!D60:BK60))","v":{"$error":"#N/A"}},{"$error":"#N/A"},{"$f":"COUNT('B) Eingabe (Lehrer)'!D60:BK60)","v":0},{"$f":"IF(N50<2,#N/A,COUNTIF('B) Eingabe (Lehrer)'!D60:BK60,1))","v":{"$error":"#N/A"}},{"$f":"IF(N50<2,#N/A,COUNTIF('B) Eingabe (Lehrer)'!D60:BK60,2))","v":{"$error":"#N/A"}},{"$f":"IF(N50<2,#N/A,COUNTIF('B) Eingabe (Lehrer)'!D60:BK60,3))","v":{"$error":"#N/A"}},{"$f":"IF(N50<2,#N/A,COUNTIF('B) Eingabe (Lehrer)'!D60:BK60,4))","v":{"$error":"#N/A"}},{"$f":"IF('B) Eingabe (Lehrer)'!C60=\"\", #N/A, 'B) Eingabe (Lehrer)'!C60)","v":{"$error":"#N/A"}}]
[18,{"$f":"IF(E51=0, #N/A,AVERAGE('B) Eingabe (Schüler)'!C60:AK60))","v":{"$error":"#N/A"}},{"$f":"IF(E51<2, #N/A, STDEVP('B) Eingabe (Schüler)'!C60:AK60))","v":{"$error":"#N/A"}},{"$error":"#N/A"},{"$f":"COUNT('B) Eingabe (Schüler)'!C60:AK60)","v":0},{"$f":"IF(E51<2,#N/A,COUNTIF('B) Eingabe (Schüler)'!C60:AK60,1))","v":{"$error":"#N/A"}},{"$f":"IF(E51<2,#N/A,COUNTIF('B) Eingabe (Schüler)'!C60:AK60,2))","v":{"$error":"#N/A"}},{"$f":"IF(E51<2,#N/A,COUNTIF('B) Eingabe (Schüler)'!C60:AK60,3))","v":{"$error":"#N/A"}},{"$f":"IF(E51<2,#N/A,COUNTIF('B) Eingabe (Schüler)'!C60:AK60,4))","v":{"$error":"#N/A"}},{"$f":"IF('B) Eingabe (Lehrer)'!C61=\"\", #N/A, 'B) Eingabe (Lehrer)'!C61)","v":{"$error":"#N/A"}},{"$f":"IF(N51=0, #N/A,AVERAGE('B) Eingabe (Lehrer)'!D61:BK61))","v":{"$error":"#N/A"}},{"$f":"IF(N51<2, #N/A, STDEVP('B) Eingabe (Lehrer)'!D61:BK61))","v":{"$error":"#N/A"}},{"$error":"#N/A"},{"$f":"COUNT('B) Eingabe (Lehrer)'!D61:BK61)","v":0},{"$f":"IF(N51<2,#N/A,COUNTIF('B) Eingabe (Lehrer)'!D61:BK61,1))","v":{"$error":"#N/A"}},{"$f":"IF(N51<2,#N/A,COUNTIF('B) Eingabe (Lehrer)'!D61:BK61,2))","v":{"$error":"#N/A"}},{"$f":"IF(N51<2,#N/A,COUNTIF('B) Eingabe (Lehrer)'!D61:BK61,3))","v":{"$error":"#N/A"}},{"$f":"IF(N51<2,#N/A,COUNTIF('B) Eingabe (Lehrer)'!D61:BK61,4))","v":{"$error":"#N/A"}},{"$f":"IF('B) Eingabe (Lehrer)'!C61=\"\", #N/A, 'B) Eingabe (Lehrer)'!C61)","v":{"$error":"#N/A"}}]
[19,{"$f":"IF(E52=0, #N/A,AVERAGE('B) Eingabe (Schüler)'!C61:AK61))","v":{"$error":"#N/A"}},{"$f":"IF(E52<2, #N/A, STDEVP('B) Eingabe (Schüler)'!C61:AK61))","v":{"$error":"#N/A"}},{"$error":"#N/A"},{"$f":"COUNT('B) Eingabe (Schüler)'!C61:AK61)","v":0},{"$f":"IF(E52<2,#N/A,COUNTIF('B) Eingabe (Schüler)'!C61:AK61,1))","v":{"$error":"#N/A"}},{"$f":"IF(E52<2,#N/A,COUNTIF('B) Eingabe (Schüler)'!C61:AK61,2))","v":{"$error":"#N/A"}},{"$f":"IF(E52<2,#N/A,COUNTIF('B) Eingabe (Schüler)'!C61:AK61,3))","v":{"$error":"#N/A"}},{"$f":"IF(E52<2,#N/A,COUNTIF('B) Eingabe (Schüler)'!C61:AK61,4))","v":{"$error":"#N/A"}},{"$f":"IF('B) Eingabe (Lehrer)'!C62=\"\", #N/A, 'B) Eingabe (Lehrer)'!C62)","v":{"$error":"#N/A"}},{"$f":"IF(N52=0, #N/A,AVERAGE('B) Eingabe (Lehrer)'!D62:BK62))","v":{"$error":"#N/A"}},{"$f":"IF(N52<2, #N/A, STDEVP('B) Eingabe (Lehrer)'!D62:BK62))","v":{"$error":"#N/A"}},{"$error":"#N/A"},{"$f":"COUNT('B) Eingabe (Lehrer)'!D62:BK62)","v":0},{"$f":"IF(N52<2,#N/A,COUNTIF('B) Eingabe (Lehrer)'!D62:BK62,1))","v":{"$error":"#N/A"}},{"$f":"IF(N52<2,#N/A,COUNTIF('B) Eingabe (Lehrer)'!D62:BK62,2))","v":{"$error":"#N/A"}},{"$f":"IF(N52<2,#N/A,COUNTIF('B) Eingabe (Lehrer)'!D62:BK62,3))","v":{"$error":"#N/A"}},{"$f":"IF(N52<2,#N/A,COUNTIF('B) Eingabe (Lehrer)'!D62:BK62,4))","v":{"$error":"#N/A"}},{"$f":"IF('B) Eingabe (Lehrer)'!C62=\"\", #N/A, 'B) Eingabe (Lehrer)'!C62)","v":{"$error":"#N/A"}}]
[20,{"$f":"IF(E53=0, #N/A,AVERAGE('B) Eingabe (Schüler)'!C62:AK62))","v":{"$error":"#N/A"}},{"$f":"IF(E53<2, #N/A, STDEVP('B) Eingabe (Schüler)'!C62:AK62))","v":{"$error":"#N/A"}},{"$error":"#N/A"},{"$f":"COUNT('B) Eingabe (Schüler)'!C62:AK62)","v":0},{"$f":"IF(E53<2,#N/A,COUNTIF('B) Eingabe (Schüler)'!C62:AK62,1))","v":{"$error":"#N/A"}},{"$f":"IF(E53<2,#N/A,COUNTIF('B) Eingabe (Schüler)'!C62:AK62,2))","v":{"$error":"#N/A"}},{"$f":"IF(E53<2,#N/A,COUNTIF('B) Eingabe (Schüler)'!C62:AK62,3))","v":{"$error":"#N/A"}},{"$f":"IF(E53<2,#N/A,COUNTIF('B) Eingabe (Schüler)'!C62:AK62,4))","v":{"$error":"#N/A"}},{"$f":"IF('B) Eingabe (Lehrer)'!C63=\"\", #N/A, 'B) Eingabe (Lehrer)'!C63)","v":{"$error":"#N/A"}},{"$f":"IF(N53=0, #N/A,AVERAGE('B) Eingabe (Lehrer)'!D63:BK63))","v":{"$error":"#N/A"}},{"$f":"IF(N53<2, #N/A, STDEVP('B) Eingabe (Lehrer)'!D63:BK63))","v":{"$error":"#N/A"}},{"$error":"#N/A"},{"$f":"COUNT('B) Eingabe (Lehrer)'!D63:BK63)","v":0},{"$f":"IF(N53<2,#N/A,COUNTIF('B) Eingabe (Lehrer)'!D63:BK63,1))","v":{"$error":"#N/A"}},{"$f":"IF(N53<2,#N/A,COUNTIF('B) Eingabe (Lehrer)'!D63:BK63,2))","v":{"$error":"#N/A"}},{"$f":"IF(N53<2,#N/A,COUNTIF('B) Eingabe (Lehrer)'!D63:BK63,3))","v":{"$error":"#N/A"}},{"$f":"IF(N53<2,#N/A,COUNTIF('B) Eingabe (Lehrer)'!D63:BK63,4))","v":{"$error":"#N/A"}},{"$f":"IF('B) Eingabe (Lehrer)'!C63=\"\", #N/A, 'B) Eingabe (Lehrer)'!C63)","v":{"$error":"#N/A"}}]
[21,{"$f":"IF(E54=0, #N/A,AVERAGE('B) Eingabe (Schüler)'!C63:AK63))","v":{"$error":"#N/A"}},{"$f":"IF(E54<2, #N/A, STDEVP('B) Eingabe (Schüler)'!C63:AK63))","v":{"$error":"#N/A"}},{"$f":"IF(E54<2, #N/A, 100*(H54+I54)/E54)","v":{"$error":"#N/A"}},{"$f":"COUNT('B) Eingabe (Schüler)'!C63:AK63)","v":0},{"$f":"IF(E54<2,#N/A,COUNTIF('B) Eingabe (Schüler)'!C63:AK63,1))","v":{"$error":"#N/A"}},{"$f":"IF(E54<2,#N/A,COUNTIF('B) Eingabe (Schüler)'!C63:AK63,2))","v":{"$error":"#N/A"}},{"$f":"IF(E54<2,#N/A,COUNTIF('B) Eingabe (Schüler)'!C63:AK63,3))","v":{"$error":"#N/A"}},{"$f":"IF(E54<2,#N/A,COUNTIF('B) Eingabe (Schüler)'!C63:AK63,4))","v":{"$error":"#N/A"}},{"$f":"IF('B) Eingabe (Lehrer)'!C64=\"\", #N/A, 'B) Eingabe (Lehrer)'!C64)","v":{"$error":"#N/A"}},{"$f":"IF(N54=0, #N/A,AVERAGE('B) Eingabe (Lehrer)'!D64:BK64))","v":{"$error":"#N/A"}},{"$f":"IF(N54<2, #N/A, STDEVP('B) Eingabe (Lehrer)'!D64:BK64))","v":{"$error":"#N/A"}},{"$f":"IF(N54<2, #N/A, 100*(Q54+R54)/N54)","v":{"$error":"#N/A"}},{"$f":"COUNT('B) Eingabe (Lehrer)'!D64:BK64)","v":0},{"$f":"IF(N54<2,#N/A,COUNTIF('B) Eingabe (Lehrer)'!D64:BK64,1))","v":{"$error":"#N/A"}},{"$f":"IF(N54<2,#N/A,COUNTIF('B) Eingabe (Lehrer)'!D64:BK64,2))","v":{"$error":"#N/A"}},{"$f":"IF(N54<2,#N/A,COUNTIF('B) Eingabe (Lehrer)'!D64:BK64,3))","v":{"$error":"#N/A"}},{"$f":"IF(N54<2,#N/A,COUNTIF('B) Eingabe (Lehrer)'!D64:BK64,4))","v":{"$error":"#N/A"}},{"$f":"IF('B) Eingabe (Lehrer)'!C64=\"\", #N/A, 'B) Eingabe (Lehrer)'!C64)","v":{"$error":"#N/A"}}]
[22,{"$f":"IF(E55=0, #N/A,AVERAGE('B) Eingabe (Schüler)'!C64:AK64))","v":{"$error":"#N/A"}},{"$f":"IF(E55<2, #N/A, STDEVP('B) Eingabe (Schüler)'!C64:AK64))","v":{"$error":"#N/A"}},{"$error":"#N/A"},{"$f":"COUNT('B) Eingabe (Schüler)'!C64:AK64)","v":0},{"$f":"IF(E55<2,#N/A,COUNTIF('B) Eingabe (Schüler)'!C64:AK64,1))","v":{"$error":"#N/A"}},{"$f":"IF(E55<2,#N/A,COUNTIF('B) Eingabe (Schüler)'!C64:AK64,2))","v":{"$error":"#N/A"}},{"$f":"IF(E55<2,#N/A,COUNTIF('B) Eingabe (Schüler)'!C64:AK64,3))","v":{"$error":"#N/A"}},{"$f":"IF(E55<2,#N/A,COUNTIF('B) Eingabe (Schüler)'!C64:AK64,4))","v":{"$error":"#N/A"}},{"$f":"IF('B) Eingabe (Lehrer)'!C65=\"\", #N/A, 'B) Eingabe (Lehrer)'!C65)","v":{"$error":"#N/A"}},{"$f":"IF(N55=0, #N/A,AVERAGE('B) Eingabe (Lehrer)'!D65:BK65))","v":{"$error":"#N/A"}},{"$f":"IF(N55<2, #N/A, STDEVP('B) Eingabe (Lehrer)'!D65:BK65))","v":{"$error":"#N/A"}},{"$error":"#N/A"},{"$f":"COUNT('B) Eingabe (Lehrer)'!D65:BK65)","v":0},{"$f":"IF(N55<2,#N/A,COUNTIF('B) Eingabe (Lehrer)'!D65:BK65,1))","v":{"$error":"#N/A"}},{"$f":"IF(N55<2,#N/A,COUNTIF('B) Eingabe (Lehrer)'!D65:BK65,2))","v":{"$error":"#N/A"}},{"$f":"IF(N55<2,#N/A,COUNTIF('B) Eingabe (Lehrer)'!D65:BK65,3))","v":{"$error":"#N/A"}},{"$f":"IF(N55<2,#N/A,COUNTIF('B) Eingabe (Lehrer)'!D65:BK65,4))","v":{"$error":"#N/A"}},{"$f":"IF('B) Eingabe (Lehrer)'!C65=\"\", #N/A, 'B) Eingabe (Lehrer)'!C65)","v":{"$error":"#N/A"}}]
[23,{"$f":"IF(E56=0, #N/A,AVERAGE('B) Eingabe (Schüler)'!C65:AK65))","v":{"$error":"#N/A"}},{"$f":"IF(E56<2, #N/A, STDEVP('B) Eingabe (Schüler)'!C65:AK65))","v":{"$error":"#N/A"}},{"$error":"#N/A"},{"$f":"COUNT('B) Eingabe (Schüler)'!C65:AK65)","v":0},{"$f":"IF(E56<2,#N/A,COUNTIF('B) Eingabe (Schüler)'!C65:AK65,1))","v":{"$error":"#N/A"}},{"$f":"IF(E56<2,#N/A,COUNTIF('B) Eingabe (Schüler)'!C65:AK65,2))","v":{"$error":"#N/A"}},{"$f":"IF(E56<2,#N/A,COUNTIF('B) Eingabe (Schüler)'!C65:AK65,3))","v":{"$error":"#N/A"}},{"$f":"IF(E56<2,#N/A,COUNTIF('B) Eingabe (Schüler)'!C65:AK65,4))","v":{"$error":"#N/A"}},{"$f":"IF('B) Eingabe (Lehrer)'!C66=\"\", #N/A, 'B) Eingabe (Lehrer)'!C66)","v":{"$error":"#N/A"}},{"$f":"IF(N56=0, #N/A,AVERAGE('B) Eingabe (Lehrer)'!D66:BK66))","v":{"$error":"#N/A"}},{"$f":"IF(N56<2, #N/A, STDEVP('B) Eingabe (Lehrer)'!D66:BK66))","v":{"$error":"#N/A"}},{"$error":"#N/A"},{"$f":"COUNT('B) Eingabe (Lehrer)'!D66:BK66)","v":0},{"$f":"IF(N56<2,#N/A,COUNTIF('B) Eingabe (Lehrer)'!D66:BK66,1))","v":{"$error":"#N/A"}},{"$f":"IF(N56<2,#N/A,COUNTIF('B) Eingabe (Lehrer)'!D66:BK66,2))","v":{"$error":"#N/A"}},{"$f":"IF(N56<2,#N/A,COUNTIF('B) Eingabe (Lehrer)'!D66:BK66,3))","v":{"$error":"#N/A"}},{"$f":"IF(N56<2,#N/A,COUNTIF('B) Eingabe (Lehrer)'!D66:BK66,4))","v":{"$error":"#N/A"}},{"$f":"IF('B) Eingabe (Lehrer)'!C66=\"\", #N/A, 'B) Eingabe (Lehrer)'!C66)","v":{"$error":"#N/A"}}]
[24,{"$f":"IF(E57=0, #N/A,AVERAGE('B) Eingabe (Schüler)'!C66:AK66))","v":{"$error":"#N/A"}},{"$f":"IF(E57<2, #N/A, STDEVP('B) Eingabe (Schüler)'!C66:AK66))","v":{"$error":"#N/A"}},{"$error":"#N/A"},{"$f":"COUNT('B) Eingabe (Schüler)'!C66:AK66)","v":0},{"$f":"IF(E57<2,#N/A,COUNTIF('B) Eingabe (Schüler)'!C66:AK66,1))","v":{"$error":"#N/A"}},{"$f":"IF(E57<2,#N/A,COUNTIF('B) Eingabe (Schüler)'!C66:AK66,2))","v":{"$error":"#N/A"}},{"$f":"IF(E57<2,#N/A,COUNTIF('B) Eingabe (Schüler)'!C66:AK66,3))","v":{"$error":"#N/A"}},{"$f":"IF(E57<2,#N/A,COUNTIF('B) Eingabe (Schüler)'!C66:AK66,4))","v":{"$error":"#N/A"}},{"$f":"IF('B) Eingabe (Lehrer)'!C67=\"\", #N/A, 'B) Eingabe (Lehrer)'!C67)","v":{"$error":"#N/A"}},{"$f":"IF(N57=0, #N/A,AVERAGE('B) Eingabe (Lehrer)'!D67:BK67))","v":{"$error":"#N/A"}},{"$f":"IF(N57<2, #N/A, STDEVP('B) Eingabe (Lehrer)'!D67:BK67))","v":{"$error":"#N/A"}},{"$error":"#N/A"},{"$f":"COUNT('B) Eingabe (Lehrer)'!D67:BK67)","v":0},{"$f":"IF(N57<2,#N/A,COUNTIF('B) Eingabe (Lehrer)'!D67:BK67,1))","v":{"$error":"#N/A"}},{"$f":"IF(N57<2,#N/A,COUNTIF('B) Eingabe (Lehrer)'!D67:BK67,2))","v":{"$error":"#N/A"}},{"$f":"IF(N57<2,#N/A,COUNTIF('B) Eingabe (Lehrer)'!D67:BK67,3))","v":{"$error":"#N/A"}},{"$f":"IF(N57<2,#N/A,COUNTIF('B) Eingabe (Lehrer)'!D67:BK67,4))","v":{"$error":"#N/A"}},{"$f":"IF('B) Eingabe (Lehrer)'!C67=\"\", #N/A, 'B) Eingabe (Lehrer)'!C67)","v":{"$error":"#N/A"}}]
[25,{"$f":"IF(E58=0, #N/A,AVERAGE('B) Eingabe (Schüler)'!C67:AK67))","v":{"$error":"#N/A"}},{"$f":"IF(E58<2, #N/A, STDEVP('B) Eingabe (Schüler)'!C67:AK67))","v":{"$error":"#N/A"}},{"$error":"#N/A"},{"$f":"COUNT('B) Eingabe (Schüler)'!C67:AK67)","v":0},{"$f":"IF(E58<2,#N/A,COUNTIF('B) Eingabe (Schüler)'!C67:AK67,1))","v":{"$error":"#N/A"}},{"$f":"IF(E58<2,#N/A,COUNTIF('B) Eingabe (Schüler)'!C67:AK67,2))","v":{"$error":"#N/A"}},{"$f":"IF(E58<2,#N/A,COUNTIF('B) Eingabe (Schüler)'!C67:AK67,3))","v":{"$error":"#N/A"}},{"$f":"IF(E58<2,#N/A,COUNTIF('B) Eingabe (Schüler)'!C67:AK67,4))","v":{"$error":"#N/A"}},{"$f":"IF('B) Eingabe (Lehrer)'!C68=\"\", #N/A, 'B) Eingabe (Lehrer)'!C68)","v":{"$error":"#N/A"}},{"$f":"IF(N58=0, #N/A,AVERAGE('B) Eingabe (Lehrer)'!D68:BK68))","v":{"$error":"#N/A"}},{"$f":"IF(N58<2, #N/A, STDEVP('B) Eingabe (Lehrer)'!D68:BK68))","v":{"$error":"#N/A"}},{"$error":"#N/A"},{"$f":"COUNT('B) Eingabe (Lehrer)'!D68:BK68)","v":0},{"$f":"IF(N58<2,#N/A,COUNTIF('B) Eingabe (Lehrer)'!D68:BK68,1))","v":{"$error":"#N/A"}},{"$f":"IF(N58<2,#N/A,COUNTIF('B) Eingabe (Lehrer)'!D68:BK68,2))","v":{"$error":"#N/A"}},{"$f":"IF(N58<2,#N/A,COUNTIF('B) Eingabe (Lehrer)'!D68:BK68,3))","v":{"$error":"#N/A"}},{"$f":"IF(N58<2,#N/A,COUNTIF('B) Eingabe (Lehrer)'!D68:BK68,4))","v":{"$error":"#N/A"}},{"$f":"IF('B) Eingabe (Lehrer)'!C68=\"\", #N/A, 'B) Eingabe (Lehrer)'!C68)","v":{"$error":"#N/A"}}]
[26,{"$f":"IF(E59=0, #N/A,AVERAGE('B) Eingabe (Schüler)'!C68:AK68))","v":{"$error":"#N/A"}},{"$f":"IF(E59<2, #N/A, STDEVP('B) Eingabe (Schüler)'!C68:AK68))","v":{"$error":"#N/A"}},{"$error":"#N/A"},{"$f":"COUNT('B) Eingabe (Schüler)'!C68:AK68)","v":0},{"$f":"IF(E59<2,#N/A,COUNTIF('B) Eingabe (Schüler)'!C68:AK68,1))","v":{"$error":"#N/A"}},{"$f":"IF(E59<2,#N/A,COUNTIF('B) Eingabe (Schüler)'!C68:AK68,2))","v":{"$error":"#N/A"}},{"$f":"IF(E59<2,#N/A,COUNTIF('B) Eingabe (Schüler)'!C68:AK68,3))","v":{"$error":"#N/A"}},{"$f":"IF(E59<2,#N/A,COUNTIF('B) Eingabe (Schüler)'!C68:AK68,4))","v":{"$error":"#N/A"}},{"$f":"IF('B) Eingabe (Lehrer)'!C69=\"\", #N/A, 'B) Eingabe (Lehrer)'!C69)","v":{"$error":"#N/A"}},{"$f":"IF(N59=0, #N/A,AVERAGE('B) Eingabe (Lehrer)'!D69:BK69))","v":{"$error":"#N/A"}},{"$f":"IF(N59<2, #N/A, STDEVP('B) Eingabe (Lehrer)'!D69:BK69))","v":{"$error":"#N/A"}},{"$error":"#N/A"},{"$f":"COUNT('B) Eingabe (Lehrer)'!D69:BK69)","v":0},{"$f":"IF(N59<2,#N/A,COUNTIF('B) Eingabe (Lehrer)'!D69:BK69,1))","v":{"$error":"#N/A"}},{"$f":"IF(N59<2,#N/A,COUNTIF('B) Eingabe (Lehrer)'!D69:BK69,2))","v":{"$error":"#N/A"}},{"$f":"IF(N59<2,#N/A,COUNTIF('B) Eingabe (Lehrer)'!D69:BK69,3))","v":{"$error":"#N/A"}},{"$f":"IF(N59<2,#N/A,COUNTIF('B) Eingabe (Lehrer)'!D69:BK69,4))","v":{"$error":"#N/A"}},{"$f":"IF('B) Eingabe (Lehrer)'!C69=\"\", #N/A, 'B) Eingabe (Lehrer)'!C69)","v":{"$error":"#N/A"}}]
[27,{"$f":"IF(E60=0, #N/A,AVERAGE('B) Eingabe (Schüler)'!C69:AK69))","v":{"$error":"#N/A"}},{"$f":"IF(E60<2, #N/A, STDEVP('B) Eingabe (Schüler)'!C69:AK69))","v":{"$error":"#N/A"}},{"$error":"#N/A"},{"$f":"COUNT('B) Eingabe (Schüler)'!C69:AK69)","v":0},{"$f":"IF(E60<2,#N/A,COUNTIF('B) Eingabe (Schüler)'!C69:AK69,1))","v":{"$error":"#N/A"}},{"$f":"IF(E60<2,#N/A,COUNTIF('B) Eingabe (Schüler)'!C69:AK69,2))","v":{"$error":"#N/A"}},{"$f":"IF(E60<2,#N/A,COUNTIF('B) Eingabe (Schüler)'!C69:AK69,3))","v":{"$error":"#N/A"}},{"$f":"IF(E60<2,#N/A,COUNTIF('B) Eingabe (Schüler)'!C69:AK69,4))","v":{"$error":"#N/A"}},{"$f":"IF('B) Eingabe (Lehrer)'!C70=\"\", #N/A, 'B) Eingabe (Lehrer)'!C70)","v":{"$error":"#N/A"}},{"$f":"IF(N60=0, #N/A,AVERAGE('B) Eingabe (Lehrer)'!D70:BK70))","v":{"$error":"#N/A"}},{"$f":"IF(N60<2, #N/A, STDEVP('B) Eingabe (Lehrer)'!D70:BK70))","v":{"$error":"#N/A"}},{"$error":"#N/A"},{"$f":"COUNT('B) Eingabe (Lehrer)'!D70:BK70)","v":0},{"$f":"IF(N60<2,#N/A,COUNTIF('B) Eingabe (Lehrer)'!D70:BK70,1))","v":{"$error":"#N/A"}},{"$f":"IF(N60<2,#N/A,COUNTIF('B) Eingabe (Lehrer)'!D70:BK70,2))","v":{"$error":"#N/A"}},{"$f":"IF(N60<2,#N/A,COUNTIF('B) Eingabe (Lehrer)'!D70:BK70,3))","v":{"$error":"#N/A"}},{"$f":"IF(N60<2,#N/A,COUNTIF('B) Eingabe (Lehrer)'!D70:BK70,4))","v":{"$error":"#N/A"}},{"$f":"IF('B) Eingabe (Lehrer)'!C70=\"\", #N/A, 'B) Eingabe (Lehrer)'!C70)","v":{"$error":"#N/A"}}]
[28,{"$f":"IF(E61=0, #N/A,AVERAGE('B) Eingabe (Schüler)'!C70:AK70))","v":{"$error":"#N/A"}},{"$f":"IF(E61<2, #N/A, STDEVP('B) Eingabe (Schüler)'!C70:AK70))","v":{"$error":"#N/A"}},{"$error":"#N/A"},{"$f":"COUNT('B) Eingabe (Schüler)'!C70:AK70)","v":0},{"$f":"IF(E61<2,#N/A,COUNTIF('B) Eingabe (Schüler)'!C70:AK70,1))","v":{"$error":"#N/A"}},{"$f":"IF(E61<2,#N/A,COUNTIF('B) Eingabe (Schüler)'!C70:AK70,2))","v":{"$error":"#N/A"}},{"$f":"IF(E61<2,#N/A,COUNTIF('B) Eingabe (Schüler)'!C70:AK70,3))","v":{"$error":"#N/A"}},{"$f":"IF(E61<2,#N/A,COUNTIF('B) Eingabe (Schüler)'!C70:AK70,4))","v":{"$error":"#N/A"}},{"$f":"IF('B) Eingabe (Lehrer)'!C71=\"\", #N/A, 'B) Eingabe (Lehrer)'!C71)","v":{"$error":"#N/A"}},{"$f":"IF(N61=0, #N/A,AVERAGE('B) Eingabe (Lehrer)'!D71:BK71))","v":{"$error":"#N/A"}},{"$f":"IF(N61<2, #N/A, STDEVP('B) Eingabe (Lehrer)'!D71:BK71))","v":{"$error":"#N/A"}},{"$error":"#N/A"},{"$f":"COUNT('B) Eingabe (Lehrer)'!D71:BK71)","v":0},{"$f":"IF(N61<2,#N/A,COUNTIF('B) Eingabe (Lehrer)'!D71:BK71,1))","v":{"$error":"#N/A"}},{"$f":"IF(N61<2,#N/A,COUNTIF('B) Eingabe (Lehrer)'!D71:BK71,2))","v":{"$error":"#N/A"}},{"$f":"IF(N61<2,#N/A,COUNTIF('B) Eingabe (Lehrer)'!D71:BK71,3))","v":{"$error":"#N/A"}},{"$f":"IF(N61<2,#N/A,COUNTIF('B) Eingabe (Lehrer)'!D71:BK71,4))","v":{"$error":"#N/A"}},{"$f":"IF('B) Eingabe (Lehrer)'!C71=\"\", #N/A, 'B) Eingabe (Lehrer)'!C71)","v":{"$error":"#N/A"}}]
[29,{"$f":"IF(E62=0, #N/A,AVERAGE('B) Eingabe (Schüler)'!C71:AK71))","v":{"$error":"#N/A"}},{"$f":"IF(E62<2, #N/A, STDEVP('B) Eingabe (Schüler)'!C71:AK71))","v":{"$error":"#N/A"}},{"$error":"#N/A"},{"$f":"COUNT('B) Eingabe (Schüler)'!C71:AK71)","v":0},{"$f":"IF(E62<2,#N/A,COUNTIF('B) Eingabe (Schüler)'!C71:AK71,1))","v":{"$error":"#N/A"}},{"$f":"IF(E62<2,#N/A,COUNTIF('B) Eingabe (Schüler)'!C71:AK71,2))","v":{"$error":"#N/A"}},{"$f":"IF(E62<2,#N/A,COUNTIF('B) Eingabe (Schüler)'!C71:AK71,3))","v":{"$error":"#N/A"}},{"$f":"IF(E62<2,#N/A,COUNTIF('B) Eingabe (Schüler)'!C71:AK71,4))","v":{"$error":"#N/A"}},{"$f":"IF('B) Eingabe (Lehrer)'!C72=\"\", #N/A, 'B) Eingabe (Lehrer)'!C72)","v":{"$error":"#N/A"}},{"$f":"IF(N62=0, #N/A,AVERAGE('B) Eingabe (Lehrer)'!D72:BK72))","v":{"$error":"#N/A"}},{"$f":"IF(N62<2, #N/A, STDEVP('B) Eingabe (Lehrer)'!D72:BK72))","v":{"$error":"#N/A"}},{"$error":"#N/A"},{"$f":"COUNT('B) Eingabe (Lehrer)'!D72:BK72)","v":0},{"$f":"IF(N62<2,#N/A,COUNTIF('B) Eingabe (Lehrer)'!D72:BK72,1))","v":{"$error":"#N/A"}},{"$f":"IF(N62<2,#N/A,COUNTIF('B) Eingabe (Lehrer)'!D72:BK72,2))","v":{"$error":"#N/A"}},{"$f":"IF(N62<2,#N/A,COUNTIF('B) Eingabe (Lehrer)'!D72:BK72,3))","v":{"$error":"#N/A"}},{"$f":"IF(N62<2,#N/A,COUNTIF('B) Eingabe (Lehrer)'!D72:BK72,4))","v":{"$error":"#N/A"}},{"$f":"IF('B) Eingabe (Lehrer)'!C72=\"\", #N/A, 'B) Eingabe (Lehrer)'!C72)","v":{"$error":"#N/A"}}]
[30,{"$f":"IF(E63=0, #N/A,AVERAGE('B) Eingabe (Schüler)'!C72:AK72))","v":{"$error":"#N/A"}},{"$f":"IF(E63<2, #N/A, STDEVP('B) Eingabe (Schüler)'!C72:AK72))","v":{"$error":"#N/A"}},{"$error":"#N/A"},{"$f":"COUNT('B) Eingabe (Schüler)'!C72:AK72)","v":0},{"$f":"IF(E63<2,#N/A,COUNTIF('B) Eingabe (Schüler)'!C72:AK72,1))","v":{"$error":"#N/A"}},{"$f":"IF(E63<2,#N/A,COUNTIF('B) Eingabe (Schüler)'!C72:AK72,2))","v":{"$error":"#N/A"}},{"$f":"IF(E63<2,#N/A,COUNTIF('B) Eingabe (Schüler)'!C72:AK72,3))","v":{"$error":"#N/A"}},{"$f":"IF(E63<2,#N/A,COUNTIF('B) Eingabe (Schüler)'!C72:AK72,4))","v":{"$error":"#N/A"}},{"$f":"IF('B) Eingabe (Lehrer)'!C73=\"\", #N/A, 'B) Eingabe (Lehrer)'!C73)","v":{"$error":"#N/A"}},{"$f":"IF(N63=0, #N/A,AVERAGE('B) Eingabe (Lehrer)'!D73:BK73))","v":{"$error":"#N/A"}},{"$f":"IF(N63<2, #N/A, STDEVP('B) Eingabe (Lehrer)'!D73:BK73))","v":{"$error":"#N/A"}},{"$error":"#N/A"},{"$f":"COUNT('B) Eingabe (Lehrer)'!D73:BK73)","v":0},{"$f":"IF(N63<2,#N/A,COUNTIF('B) Eingabe (Lehrer)'!D73:BK73,1))","v":{"$error":"#N/A"}},{"$f":"IF(N63<2,#N/A,COUNTIF('B) Eingabe (Lehrer)'!D73:BK73,2))","v":{"$error":"#N/A"}},{"$f":"IF(N63<2,#N/A,COUNTIF('B) Eingabe (Lehrer)'!D73:BK73,3))","v":{"$error":"#N/A"}},{"$f":"IF(N63<2,#N/A,COUNTIF('B) Eingabe (Lehrer)'!D73:BK73,4))","v":{"$error":"#N/A"}},{"$f":"IF('B) Eingabe (Lehrer)'!C73=\"\", #N/A, 'B) Eingabe (Lehrer)'!C73)","v":{"$error":"#N/A"}}]
[31,{"$f":"IF(E64=0, #N/A,AVERAGE('B) Eingabe (Schüler)'!C73:AK73))","v":{"$error":"#N/A"}},{"$f":"IF(E64<2, #N/A, STDEVP('B) Eingabe (Schüler)'!C73:AK73))","v":{"$error":"#N/A"}},{"$error":"#N/A"},{"$f":"COUNT('B) Eingabe (Schüler)'!C73:AK73)","v":0},{"$f":"IF(E64<2,#N/A,COUNTIF('B) Eingabe (Schüler)'!C73:AK73,1))","v":{"$error":"#N/A"}},{"$f":"IF(E64<2,#N/A,COUNTIF('B) Eingabe (Schüler)'!C73:AK73,2))","v":{"$error":"#N/A"}},{"$f":"IF(E64<2,#N/A,COUNTIF('B) Eingabe (Schüler)'!C73:AK73,3))","v":{"$error":"#N/A"}},{"$f":"IF(E64<2,#N/A,COUNTIF('B) Eingabe (Schüler)'!C73:AK73,4))","v":{"$error":"#N/A"}},{"$f":"IF('B) Eingabe (Lehrer)'!C74=\"\", #N/A, 'B) Eingabe (Lehrer)'!C74)","v":{"$error":"#N/A"}},{"$f":"IF(N64=0, #N/A,AVERAGE('B) Eingabe (Lehrer)'!D74:BK74))","v":{"$error":"#N/A"}},{"$f":"IF(N64<2, #N/A, STDEVP('B) Eingabe (Lehrer)'!D74:BK74))","v":{"$error":"#N/A"}},{"$error":"#N/A"},{"$f":"COUNT('B) Eingabe (Lehrer)'!D74:BK74)","v":0},{"$f":"IF(N64<2,#N/A,COUNTIF('B) Eingabe (Lehrer)'!D74:BK74,1))","v":{"$error":"#N/A"}},{"$f":"IF(N64<2,#N/A,COUNTIF('B) Eingabe (Lehrer)'!D74:BK74,2))","v":{"$error":"#N/A"}},{"$f":"IF(N64<2,#N/A,COUNTIF('B) Eingabe (Lehrer)'!D74:BK74,3))","v":{"$error":"#N/A"}},{"$f":"IF(N64<2,#N/A,COUNTIF('B) Eingabe (Lehrer)'!D74:BK74,4))","v":{"$error":"#N/A"}},{"$f":"IF('B) Eingabe (Lehrer)'!C74=\"\", #N/A, 'B) Eingabe (Lehrer)'!C74)","v":{"$error":"#N/A"}}]
[32,{"$f":"IF(E65=0, #N/A,AVERAGE('B) Eingabe (Schüler)'!C74:AK74))","v":{"$error":"#N/A"}},{"$f":"IF(E65<2, #N/A, STDEVP('B) Eingabe (Schüler)'!C74:AK74))","v":{"$error":"#N/A"}},{"$error":"#N/A"},{"$f":"COUNT('B) Eingabe (Schüler)'!C74:AK74)","v":0},{"$f":"IF(E65<2,#N/A,COUNTIF('B) Eingabe (Schüler)'!C74:AK74,1))","v":{"$error":"#N/A"}},{"$f":"IF(E65<2,#N/A,COUNTIF('B) Eingabe (Schüler)'!C74:AK74,2))","v":{"$error":"#N/A"}},{"$f":"IF(E65<2,#N/A,COUNTIF('B) Eingabe (Schüler)'!C74:AK74,3))","v":{"$error":"#N/A"}},{"$f":"IF(E65<2,#N/A,COUNTIF('B) Eingabe (Schüler)'!C74:AK74,4))","v":{"$error":"#N/A"}},{"$f":"IF('B) Eingabe (Lehrer)'!C75=\"\", #N/A, 'B) Eingabe (Lehrer)'!C75)","v":{"$error":"#N/A"}},{"$f":"IF(N65=0, #N/A,AVERAGE('B) Eingabe (Lehrer)'!D75:BK75))","v":{"$error":"#N/A"}},{"$f":"IF(N65<2, #N/A, STDEVP('B) Eingabe (Lehrer)'!D75:BK75))","v":{"$error":"#N/A"}},{"$error":"#N/A"},{"$f":"COUNT('B) Eingabe (Lehrer)'!D75:BK75)","v":0},{"$f":"IF(N65<2,#N/A,COUNTIF('B) Eingabe (Lehrer)'!D75:BK75,1))","v":{"$error":"#N/A"}},{"$f":"IF(N65<2,#N/A,COUNTIF('B) Eingabe (Lehrer)'!D75:BK75,2))","v":{"$error":"#N/A"}},{"$f":"IF(N65<2,#N/A,COUNTIF('B) Eingabe (Lehrer)'!D75:BK75,3))","v":{"$error":"#N/A"}},{"$f":"IF(N65<2,#N/A,COUNTIF('B) Eingabe (Lehrer)'!D75:BK75,4))","v":{"$error":"#N/A"}},{"$f":"IF('B) Eingabe (Lehrer)'!C75=\"\", #N/A, 'B) Eingabe (Lehrer)'!C75)","v":{"$error":"#N/A"}}]
[33,{"$f":"IF(E66=0, #N/A,AVERAGE('B) Eingabe (Schüler)'!C75:AK75))","v":{"$error":"#N/A"}},{"$f":"IF(E66<2, #N/A, STDEVP('B) Eingabe (Schüler)'!C75:AK75))","v":{"$error":"#N/A"}},{"$error":"#N/A"},{"$f":"COUNT('B) Eingabe (Schüler)'!C75:AK75)","v":0},{"$f":"IF(E66<2,#N/A,COUNTIF('B) Eingabe (Schüler)'!C75:AK75,1))","v":{"$error":"#N/A"}},{"$f":"IF(E66<2,#N/A,COUNTIF('B) Eingabe (Schüler)'!C75:AK75,2))","v":{"$error":"#N/A"}},{"$f":"IF(E66<2,#N/A,COUNTIF('B) Eingabe (Schüler)'!C75:AK75,3))","v":{"$error":"#N/A"}},{"$f":"IF(E66<2,#N/A,COUNTIF('B) Eingabe (Schüler)'!C75:AK75,4))","v":{"$error":"#N/A"}},{"$f":"IF('B) Eingabe (Lehrer)'!C76=\"\", #N/A, 'B) Eingabe (Lehrer)'!C76)","v":{"$error":"#N/A"}},{"$f":"IF(N66=0, #N/A,AVERAGE('B) Eingabe (Lehrer)'!D76:BK76))","v":{"$error":"#N/A"}},{"$f":"IF(N66<2, #N/A, STDEVP('B) Eingabe (Lehrer)'!D76:BK76))","v":{"$error":"#N/A"}},{"$error":"#N/A"},{"$f":"COUNT('B) Eingabe (Lehrer)'!D76:BK76)","v":0},{"$f":"IF(N66<2,#N/A,COUNTIF('B) Eingabe (Lehrer)'!D76:BK76,1))","v":{"$error":"#N/A"}},{"$f":"IF(N66<2,#N/A,COUNTIF('B) Eingabe (Lehrer)'!D76:BK76,2))","v":{"$error":"#N/A"}},{"$f":"IF(N66<2,#N/A,COUNTIF('B) Eingabe (Lehrer)'!D76:BK76,3))","v":{"$error":"#N/A"}},{"$f":"IF(N66<2,#N/A,COUNTIF('B) Eingabe (Lehrer)'!D76:BK76,4))","v":{"$error":"#N/A"}},{"$f":"IF('B) Eingabe (Lehrer)'!C76=\"\", #N/A, 'B) Eingabe (Lehrer)'!C76)","v":{"$error":"#N/A"}}]
[34,{"$f":"IF(E67=0, #N/A,AVERAGE('B) Eingabe (Schüler)'!C76:AK76))","v":{"$error":"#N/A"}},{"$f":"IF(E67<2, #N/A, STDEVP('B) Eingabe (Schüler)'!C76:AK76))","v":{"$error":"#N/A"}},{"$error":"#N/A"},{"$f":"COUNT('B) Eingabe (Schüler)'!C76:AK76)","v":0},{"$f":"IF(E67<2,#N/A,COUNTIF('B) Eingabe (Schüler)'!C76:AK76,1))","v":{"$error":"#N/A"}},{"$f":"IF(E67<2,#N/A,COUNTIF('B) Eingabe (Schüler)'!C76:AK76,2))","v":{"$error":"#N/A"}},{"$f":"IF(E67<2,#N/A,COUNTIF('B) Eingabe (Schüler)'!C76:AK76,3))","v":{"$error":"#N/A"}},{"$f":"IF(E67<2,#N/A,COUNTIF('B) Eingabe (Schüler)'!C76:AK76,4))","v":{"$error":"#N/A"}},{"$f":"IF('B) Eingabe (Lehrer)'!C77=\"\", #N/A, 'B) Eingabe (Lehrer)'!C77)","v":{"$error":"#N/A"}},{"$f":"IF(N67=0, #N/A,AVERAGE('B) Eingabe (Lehrer)'!D77:BK77))","v":{"$error":"#N/A"}},{"$f":"IF(N67<2, #N/A, STDEVP('B) Eingabe (Lehrer)'!D77:BK77))","v":{"$error":"#N/A"}},{"$error":"#N/A"},{"$f":"COUNT('B) Eingabe (Lehrer)'!D77:BK77)","v":0},{"$f":"IF(N67<2,#N/A,COUNTIF('B) Eingabe (Lehrer)'!D77:BK77,1))","v":{"$error":"#N/A"}},{"$f":"IF(N67<2,#N/A,COUNTIF('B) Eingabe (Lehrer)'!D77:BK77,2))","v":{"$error":"#N/A"}},{"$f":"IF(N67<2,#N/A,COUNTIF('B) Eingabe (Lehrer)'!D77:BK77,3))","v":{"$error":"#N/A"}},{"$f":"IF(N67<2,#N/A,COUNTIF('B) Eingabe (Lehrer)'!D77:BK77,4))","v":{"$error":"#N/A"}},{"$f":"IF('B) Eingabe (Lehrer)'!C77=\"\", #N/A, 'B) Eingabe (Lehrer)'!C77)","v":{"$error":"#N/A"}}]
[35,{"$f":"IF(E68=0, #N/A,AVERAGE('B) Eingabe (Schüler)'!C77:AK77))","v":{"$error":"#N/A"}},{"$f":"IF(E68<2, #N/A, STDEVP('B) Eingabe (Schüler)'!C77:AK77))","v":{"$error":"#N/A"}},{"$error":"#N/A"},{"$f":"COUNT('B) Eingabe (Schüler)'!C77:AK77)","v":0},{"$f":"IF(E68<2,#N/A,COUNTIF('B) Eingabe (Schüler)'!C77:AK77,1))","v":{"$error":"#N/A"}},{"$f":"IF(E68<2,#N/A,COUNTIF('B) Eingabe (Schüler)'!C77:AK77,2))","v":{"$error":"#N/A"}},{"$f":"IF(E68<2,#N/A,COUNTIF('B) Eingabe (Schüler)'!C77:AK77,3))","v":{"$error":"#N/A"}},{"$f":"IF(E68<2,#N/A,COUNTIF('B) Eingabe (Schüler)'!C77:AK77,4))","v":{"$error":"#N/A"}},{"$f":"IF('B) Eingabe (Lehrer)'!C78=\"\", #N/A, 'B) Eingabe (Lehrer)'!C78)","v":{"$error":"#N/A"}},{"$f":"IF(N68=0, #N/A,AVERAGE('B) Eingabe (Lehrer)'!D78:BK78))","v":{"$error":"#N/A"}},{"$f":"IF(N68<2, #N/A, STDEVP('B) Eingabe (Lehrer)'!D78:BK78))","v":{"$error":"#N/A"}},{"$error":"#N/A"},{"$f":"COUNT('B) Eingabe (Lehrer)'!D78:BK78)","v":0},{"$f":"IF(N68<2,#N/A,COUNTIF('B) Eingabe (Lehrer)'!D78:BK78,1))","v":{"$error":"#N/A"}},{"$f":"IF(N68<2,#N/A,COUNTIF('B) Eingabe (Lehrer)'!D78:BK78,2))","v":{"$error":"#N/A"}},{"$f":"IF(N68<2,#N/A,COUNTIF('B) Eingabe (Lehrer)'!D78:BK78,3))","v":{"$error":"#N/A"}},{"$f":"IF(N68<2,#N/A,COUNTIF('B) Eingabe (Lehrer)'!D78:BK78,4))","v":{"$error":"#N/A"}},{"$f":"IF('B) Eingabe (Lehrer)'!C78=\"\", #N/A, 'B) Eingabe (Lehrer)'!C78)","v":{"$error":"#N/A"}}]
[36,{"$f":"IF(E69=0, #N/A,AVERAGE('B) Eingabe (Schüler)'!C78:AK78))","v":{"$error":"#N/A"}},{"$f":"IF(E69<2, #N/A, STDEVP('B) Eingabe (Schüler)'!C78:AK78))","v":{"$error":"#N/A"}},{"$error":"#N/A"},{"$f":"COUNT('B) Eingabe (Schüler)'!C78:AK78)","v":0},{"$f":"IF(E69<2,#N/A,COUNTIF('B) Eingabe (Schüler)'!C78:AK78,1))","v":{"$error":"#N/A"}},{"$f":"IF(E69<2,#N/A,COUNTIF('B) Eingabe (Schüler)'!C78:AK78,2))","v":{"$error":"#N/A"}},{"$f":"IF(E69<2,#N/A,COUNTIF('B) Eingabe (Schüler)'!C78:AK78,3))","v":{"$error":"#N/A"}},{"$f":"IF(E69<2,#N/A,COUNTIF('B) Eingabe (Schüler)'!C78:AK78,4))","v":{"$error":"#N/A"}},{"$f":"IF('B) Eingabe (Lehrer)'!C79=\"\", #N/A, 'B) Eingabe (Lehrer)'!C79)","v":{"$error":"#N/A"}},{"$f":"IF(N69=0, #N/A,AVERAGE('B) Eingabe (Lehrer)'!D79:BK79))","v":{"$error":"#N/A"}},{"$f":"IF(N69<2, #N/A, STDEVP('B) Eingabe (Lehrer)'!D79:BK79))","v":{"$error":"#N/A"}},{"$error":"#N/A"},{"$f":"COUNT('B) Eingabe (Lehrer)'!D79:BK79)","v":0},{"$f":"IF(N69<2,#N/A,COUNTIF('B) Eingabe (Lehrer)'!D79:BK79,1))","v":{"$error":"#N/A"}},{"$f":"IF(N69<2,#N/A,COUNTIF('B) Eingabe (Lehrer)'!D79:BK79,2))","v":{"$error":"#N/A"}},{"$f":"IF(N69<2,#N/A,COUNTIF('B) Eingabe (Lehrer)'!D79:BK79,3))","v":{"$error":"#N/A"}},{"$f":"IF(N69<2,#N/A,COUNTIF('B) Eingabe (Lehrer)'!D79:BK79,4))","v":{"$error":"#N/A"}},{"$f":"IF('B) Eingabe (Lehrer)'!C79=\"\", #N/A, 'B) Eingabe (Lehrer)'!C79)","v":{"$error":"#N/A"}}]
[37,{"$f":"IF(E70=0, #N/A,AVERAGE('B) Eingabe (Schüler)'!C79:AK79))","v":{"$error":"#N/A"}},{"$f":"IF(E70<2, #N/A, STDEVP('B) Eingabe (Schüler)'!C79:AK79))","v":{"$error":"#N/A"}},{"$error":"#N/A"},{"$f":"COUNT('B) Eingabe (Schüler)'!C79:AK79)","v":0},{"$f":"IF(E70<2,#N/A,COUNTIF('B) Eingabe (Schüler)'!C79:AK79,1))","v":{"$error":"#N/A"}},{"$f":"IF(E70<2,#N/A,COUNTIF('B) Eingabe (Schüler)'!C79:AK79,2))","v":{"$error":"#N/A"}},{"$f":"IF(E70<2,#N/A,COUNTIF('B) Eingabe (Schüler)'!C79:AK79,3))","v":{"$error":"#N/A"}},{"$f":"IF(E70<2,#N/A,COUNTIF('B) Eingabe (Schüler)'!C79:AK79,4))","v":{"$error":"#N/A"}},{"$f":"IF('B) Eingabe (Lehrer)'!C80=\"\", #N/A, 'B) Eingabe (Lehrer)'!C80)","v":{"$error":"#N/A"}},{"$f":"IF(N70=0, #N/A,AVERAGE('B) Eingabe (Lehrer)'!D80:BK80))","v":{"$error":"#N/A"}},{"$f":"IF(N70<2, #N/A, STDEVP('B) Eingabe (Lehrer)'!D80:BK80))","v":{"$error":"#N/A"}},{"$error":"#N/A"},{"$f":"COUNT('B) Eingabe (Lehrer)'!D80:BK80)","v":0},{"$f":"IF(N70<2,#N/A,COUNTIF('B) Eingabe (Lehrer)'!D80:BK80,1))","v":{"$error":"#N/A"}},{"$f":"IF(N70<2,#N/A,COUNTIF('B) Eingabe (Lehrer)'!D80:BK80,2))","v":{"$error":"#N/A"}},{"$f":"IF(N70<2,#N/A,COUNTIF('B) Eingabe (Lehrer)'!D80:BK80,3))","v":{"$error":"#N/A"}},{"$f":"IF(N70<2,#N/A,COUNTIF('B) Eingabe (Lehrer)'!D80:BK80,4))","v":{"$error":"#N/A"}},{"$f":"IF('B) Eingabe (Lehrer)'!C80=\"\", #N/A, 'B) Eingabe (Lehrer)'!C80)","v":{"$error":"#N/A"}}]
[38,{"$f":"IF(E71=0, #N/A,AVERAGE('B) Eingabe (Schüler)'!C80:AK80))","v":{"$error":"#N/A"}},{"$f":"IF(E71<2, #N/A, STDEVP('B) Eingabe (Schüler)'!C80:AK80))","v":{"$error":"#N/A"}},{"$error":"#N/A"},{"$f":"COUNT('B) Eingabe (Schüler)'!C80:AK80)","v":0},{"$f":"IF(E71<2,#N/A,COUNTIF('B) Eingabe (Schüler)'!C80:AK80,1))","v":{"$error":"#N/A"}},{"$f":"IF(E71<2,#N/A,COUNTIF('B) Eingabe (Schüler)'!C80:AK80,2))","v":{"$error":"#N/A"}},{"$f":"IF(E71<2,#N/A,COUNTIF('B) Eingabe (Schüler)'!C80:AK80,3))","v":{"$error":"#N/A"}},{"$f":"IF(E71<2,#N/A,COUNTIF('B) Eingabe (Schüler)'!C80:AK80,4))","v":{"$error":"#N/A"}},{"$f":"IF('B) Eingabe (Lehrer)'!C81=\"\", #N/A, 'B) Eingabe (Lehrer)'!C81)","v":{"$error":"#N/A"}},{"$f":"IF(N71=0, #N/A,AVERAGE('B) Eingabe (Lehrer)'!D81:BK81))","v":{"$error":"#N/A"}},{"$f":"IF(N71<2, #N/A, STDEVP('B) Eingabe (Lehrer)'!D81:BK81))","v":{"$error":"#N/A"}},{"$error":"#N/A"},{"$f":"COUNT('B) Eingabe (Lehrer)'!D81:BK81)","v":0},{"$f":"IF(N71<2,#N/A,COUNTIF('B) Eingabe (Lehrer)'!D81:BK81,1))","v":{"$error":"#N/A"}},{"$f":"IF(N71<2,#N/A,COUNTIF('B) Eingabe (Lehrer)'!D81:BK81,2))","v":{"$error":"#N/A"}},{"$f":"IF(N71<2,#N/A,COUNTIF('B) Eingabe (Lehrer)'!D81:BK81,3))","v":{"$error":"#N/A"}},{"$f":"IF(N71<2,#N/A,COUNTIF('B) Eingabe (Lehrer)'!D81:BK81,4))","v":{"$error":"#N/A"}},{"$f":"IF('B) Eingabe (Lehrer)'!C81=\"\", #N/A, 'B) Eingabe (Lehrer)'!C81)","v":{"$error":"#N/A"}}]
[39,{"$f":"IF(E72=0, #N/A,AVERAGE('B) Eingabe (Schüler)'!C81:AK81))","v":{"$error":"#N/A"}},{"$f":"IF(E72<2, #N/A, STDEVP('B) Eingabe (Schüler)'!C81:AK81))","v":{"$error":"#N/A"}},{"$error":"#N/A"},{"$f":"COUNT('B) Eingabe (Schüler)'!C81:AK81)","v":0},{"$f":"IF(E72<2,#N/A,COUNTIF('B) Eingabe (Schüler)'!C81:AK81,1))","v":{"$error":"#N/A"}},{"$f":"IF(E72<2,#N/A,COUNTIF('B) Eingabe (Schüler)'!C81:AK81,2))","v":{"$error":"#N/A"}},{"$f":"IF(E72<2,#N/A,COUNTIF('B) Eingabe (Schüler)'!C81:AK81,3))","v":{"$error":"#N/A"}},{"$f":"IF(E72<2,#N/A,COUNTIF('B) Eingabe (Schüler)'!C81:AK81,4))","v":{"$error":"#N/A"}},{"$f":"IF('B) Eingabe (Lehrer)'!C82=\"\", #N/A, 'B) Eingabe (Lehrer)'!C82)","v":{"$error":"#N/A"}},{"$f":"IF(N72=0, #N/A,AVERAGE('B) Eingabe (Lehrer)'!D82:BK82))","v":{"$error":"#N/A"}},{"$f":"IF(N72<2, #N/A, STDEVP('B) Eingabe (Lehrer)'!D82:BK82))","v":{"$error":"#N/A"}},{"$error":"#N/A"},{"$f":"COUNT('B) Eingabe (Lehrer)'!D82:BK82)","v":0},{"$f":"IF(N72<2,#N/A,COUNTIF('B) Eingabe (Lehrer)'!D82:BK82,1))","v":{"$error":"#N/A"}},{"$f":"IF(N72<2,#N/A,COUNTIF('B) Eingabe (Lehrer)'!D82:BK82,2))","v":{"$error":"#N/A"}},{"$f":"IF(N72<2,#N/A,COUNTIF('B) Eingabe (Lehrer)'!D82:BK82,3))","v":{"$error":"#N/A"}},{"$f":"IF(N72<2,#N/A,COUNTIF('B) Eingabe (Lehrer)'!D82:BK82,4))","v":{"$error":"#N/A"}},{"$f":"IF('B) Eingabe (Lehrer)'!C82=\"\", #N/A, 'B) Eingabe (Lehrer)'!C82)","v":{"$error":"#N/A"}}]
[40,{"$f":"IF(E73=0, #N/A,AVERAGE('B) Eingabe (Schüler)'!C82:AK82))","v":{"$error":"#N/A"}},{"$f":"IF(E73<2, #N/A, STDEVP('B) Eingabe (Schüler)'!C82:AK82))","v":{"$error":"#N/A"}},{"$error":"#N/A"},{"$f":"COUNT('B) Eingabe (Schüler)'!C82:AK82)","v":0},{"$f":"IF(E73<2,#N/A,COUNTIF('B) Eingabe (Schüler)'!C82:AK82,1))","v":{"$error":"#N/A"}},{"$f":"IF(E73<2,#N/A,COUNTIF('B) Eingabe (Schüler)'!C82:AK82,2))","v":{"$error":"#N/A"}},{"$f":"IF(E73<2,#N/A,COUNTIF('B) Eingabe (Schüler)'!C82:AK82,3))","v":{"$error":"#N/A"}},{"$f":"IF(E73<2,#N/A,COUNTIF('B) Eingabe (Schüler)'!C82:AK82,4))","v":{"$error":"#N/A"}},{"$f":"IF('B) Eingabe (Lehrer)'!C83=\"\", #N/A, 'B) Eingabe (Lehrer)'!C83)","v":{"$error":"#N/A"}},{"$f":"IF(N73=0, #N/A,AVERAGE('B) Eingabe (Lehrer)'!D83:BK83))","v":{"$error":"#N/A"}},{"$f":"IF(N73<2, #N/A, STDEVP('B) Eingabe (Lehrer)'!D83:BK83))","v":{"$error":"#N/A"}},{"$error":"#N/A"},{"$f":"COUNT('B) Eingabe (Lehrer)'!D83:BK83)","v":0},{"$f":"IF(N73<2,#N/A,COUNTIF('B) Eingabe (Lehrer)'!D83:BK83,1))","v":{"$error":"#N/A"}},{"$f":"IF(N73<2,#N/A,COUNTIF('B) Eingabe (Lehrer)'!D83:BK83,2))","v":{"$error":"#N/A"}},{"$f":"IF(N73<2,#N/A,COUNTIF('B) Eingabe (Lehrer)'!D83:BK83,3))","v":{"$error":"#N/A"}},{"$f":"IF(N73<2,#N/A,COUNTIF('B) Eingabe (Lehrer)'!D83:BK83,4))","v":{"$error":"#N/A"}},{"$f":"IF('B) Eingabe (Lehrer)'!C83=\"\", #N/A, 'B) Eingabe (Lehrer)'!C83)","v":{"$error":"#N/A"}}]
[41,{"$f":"IF(E74=0, #N/A,AVERAGE('B) Eingabe (Schüler)'!C83:AK83))","v":{"$error":"#N/A"}},{"$f":"IF(E74<2, #N/A, STDEVP('B) Eingabe (Schüler)'!C83:AK83))","v":{"$error":"#N/A"}},{"$f":"IF(E74<2, #N/A, 100*(H74+I74)/E74)","v":{"$error":"#N/A"}},{"$f":"COUNT('B) Eingabe (Schüler)'!C83:AK83)","v":0},{"$f":"IF(E74<2,#N/A,COUNTIF('B) Eingabe (Schüler)'!C83:AK83,1))","v":{"$error":"#N/A"}},{"$f":"IF(E74<2,#N/A,COUNTIF('B) Eingabe (Schüler)'!C83:AK83,2))","v":{"$error":"#N/A"}},{"$f":"IF(E74<2,#N/A,COUNTIF('B) Eingabe (Schüler)'!C83:AK83,3))","v":{"$error":"#N/A"}},{"$f":"IF(E74<2,#N/A,COUNTIF('B) Eingabe (Schüler)'!C83:AK83,4))","v":{"$error":"#N/A"}},{"$f":"IF('B) Eingabe (Lehrer)'!C84=\"\", #N/A, 'B) Eingabe (Lehrer)'!C84)","v":{"$error":"#N/A"}},{"$f":"IF(N74=0, #N/A,AVERAGE('B) Eingabe (Lehrer)'!D84:BK84))","v":{"$error":"#N/A"}},{"$f":"IF(N74<2, #N/A, STDEVP('B) Eingabe (Lehrer)'!D84:BK84))","v":{"$error":"#N/A"}},{"$f":"IF(N74<2, #N/A, 100*(Q74+R74)/N74)","v":{"$error":"#N/A"}},{"$f":"COUNT('B) Eingabe (Lehrer)'!D84:BK84)","v":0},{"$f":"IF(N74<2,#N/A,COUNTIF('B) Eingabe (Lehrer)'!D84:BK84,1))","v":{"$error":"#N/A"}},{"$f":"IF(N74<2,#N/A,COUNTIF('B) Eingabe (Lehrer)'!D84:BK84,2))","v":{"$error":"#N/A"}},{"$f":"IF(N74<2,#N/A,COUNTIF('B) Eingabe (Lehrer)'!D84:BK84,3))","v":{"$error":"#N/A"}},{"$f":"IF(N74<2,#N/A,COUNTIF('B) Eingabe (Lehrer)'!D84:BK84,4))","v":{"$error":"#N/A"}},{"$f":"IF('B) Eingabe (Lehrer)'!C84=\"\", #N/A, 'B) Eingabe (Lehrer)'!C84)","v":{"$error":"#N/A"}}]
[42,{"$f":"IF(E75=0, #N/A,AVERAGE('B) Eingabe (Schüler)'!C84:AK84))","v":{"$error":"#N/A"}},{"$f":"IF(E75<2, #N/A, STDEVP('B) Eingabe (Schüler)'!C84:AK84))","v":{"$error":"#N/A"}},{"$error":"#N/A"},{"$f":"COUNT('B) Eingabe (Schüler)'!C84:AK84)","v":0},{"$f":"IF(E75<2,#N/A,COUNTIF('B) Eingabe (Schüler)'!C84:AK84,1))","v":{"$error":"#N/A"}},{"$f":"IF(E75<2,#N/A,COUNTIF('B) Eingabe (Schüler)'!C84:AK84,2))","v":{"$error":"#N/A"}},{"$f":"IF(E75<2,#N/A,COUNTIF('B) Eingabe (Schüler)'!C84:AK84,3))","v":{"$error":"#N/A"}},{"$f":"IF(E75<2,#N/A,COUNTIF('B) Eingabe (Schüler)'!C84:AK84,4))","v":{"$error":"#N/A"}},{"$f":"IF('B) Eingabe (Lehrer)'!C85=\"\", #N/A, 'B) Eingabe (Lehrer)'!C85)","v":{"$error":"#N/A"}},{"$f":"IF(N75=0, #N/A,AVERAGE('B) Eingabe (Lehrer)'!D85:BK85))","v":{"$error":"#N/A"}},{"$f":"IF(N75<2, #N/A, STDEVP('B) Eingabe (Lehrer)'!D85:BK85))","v":{"$error":"#N/A"}},{"$error":"#N/A"},{"$f":"COUNT('B) Eingabe (Lehrer)'!D85:BK85)","v":0},{"$f":"IF(N75<2,#N/A,COUNTIF('B) Eingabe (Lehrer)'!D85:BK85,1))","v":{"$error":"#N/A"}},{"$f":"IF(N75<2,#N/A,COUNTIF('B) Eingabe (Lehrer)'!D85:BK85,2))","v":{"$error":"#N/A"}},{"$f":"IF(N75<2,#N/A,COUNTIF('B) Eingabe (Lehrer)'!D85:BK85,3))","v":{"$error":"#N/A"}},{"$f":"IF(N75<2,#N/A,COUNTIF('B) Eingabe (Lehrer)'!D85:BK85,4))","v":{"$error":"#N/A"}},{"$f":"IF('B) Eingabe (Lehrer)'!C85=\"\", #N/A, 'B) Eingabe (Lehrer)'!C85)","v":{"$error":"#N/A"}}]
[43,{"$f":"IF(E76=0, #N/A,AVERAGE('B) Eingabe (Schüler)'!C85:AK85))","v":{"$error":"#N/A"}},{"$f":"IF(E76<2, #N/A, STDEVP('B) Eingabe (Schüler)'!C85:AK85))","v":{"$error":"#N/A"}},{"$error":"#N/A"},{"$f":"COUNT('B) Eingabe (Schüler)'!C85:AK85)","v":0},{"$f":"IF(E76<2,#N/A,COUNTIF('B) Eingabe (Schüler)'!C85:AK85,1))","v":{"$error":"#N/A"}},{"$f":"IF(E76<2,#N/A,COUNTIF('B) Eingabe (Schüler)'!C85:AK85,2))","v":{"$error":"#N/A"}},{"$f":"IF(E76<2,#N/A,COUNTIF('B) Eingabe (Schüler)'!C85:AK85,3))","v":{"$error":"#N/A"}},{"$f":"IF(E76<2,#N/A,COUNTIF('B) Eingabe (Schüler)'!C85:AK85,4))","v":{"$error":"#N/A"}},{"$f":"IF('B) Eingabe (Lehrer)'!C86=\"\", #N/A, 'B) Eingabe (Lehrer)'!C86)","v":{"$error":"#N/A"}},{"$f":"IF(N76=0, #N/A,AVERAGE('B) Eingabe (Lehrer)'!D86:BK86))","v":{"$error":"#N/A"}},{"$f":"IF(N76<2, #N/A, STDEVP('B) Eingabe (Lehrer)'!D86:BK86))","v":{"$error":"#N/A"}},{"$error":"#N/A"},{"$f":"COUNT('B) Eingabe (Lehrer)'!D86:BK86)","v":0},{"$f":"IF(N76<2,#N/A,COUNTIF('B) Eingabe (Lehrer)'!D86:BK86,1))","v":{"$error":"#N/A"}},{"$f":"IF(N76<2,#N/A,COUNTIF('B) Eingabe (Lehrer)'!D86:BK86,2))","v":{"$error":"#N/A"}},{"$f":"IF(N76<2,#N/A,COUNTIF('B) Eingabe (Lehrer)'!D86:BK86,3))","v":{"$error":"#N/A"}},{"$f":"IF(N76<2,#N/A,COUNTIF('B) Eingabe (Lehrer)'!D86:BK86,4))","v":{"$error":"#N/A"}},{"$f":"IF('B) Eingabe (Lehrer)'!C86=\"\", #N/A, 'B) Eingabe (Lehrer)'!C86)","v":{"$error":"#N/A"}}]
[44,{"$f":"IF(E77=0, #N/A,AVERAGE('B) Eingabe (Schüler)'!C86:AK86))","v":{"$error":"#N/A"}},{"$f":"IF(E77<2, #N/A, STDEVP('B) Eingabe (Schüler)'!C86:AK86))","v":{"$error":"#N/A"}},{"$error":"#N/A"},{"$f":"COUNT('B) Eingabe (Schüler)'!C86:AK86)","v":0},{"$f":"IF(E77<2,#N/A,COUNTIF('B) Eingabe (Schüler)'!C86:AK86,1))","v":{"$error":"#N/A"}},{"$f":"IF(E77<2,#N/A,COUNTIF('B) Eingabe (Schüler)'!C86:AK86,2))","v":{"$error":"#N/A"}},{"$f":"IF(E77<2,#N/A,COUNTIF('B) Eingabe (Schüler)'!C86:AK86,3))","v":{"$error":"#N/A"}},{"$f":"IF(E77<2,#N/A,COUNTIF('B) Eingabe (Schüler)'!C86:AK86,4))","v":{"$error":"#N/A"}},{"$f":"IF('B) Eingabe (Lehrer)'!C87=\"\", #N/A, 'B) Eingabe (Lehrer)'!C87)","v":{"$error":"#N/A"}},{"$f":"IF(N77=0, #N/A,AVERAGE('B) Eingabe (Lehrer)'!D87:BK87))","v":{"$error":"#N/A"}},{"$f":"IF(N77<2, #N/A, STDEVP('B) Eingabe (Lehrer)'!D87:BK87))","v":{"$error":"#N/A"}},{"$error":"#N/A"},{"$f":"COUNT('B) Eingabe (Lehrer)'!D87:BK87)","v":0},{"$f":"IF(N77<2,#N/A,COUNTIF('B) Eingabe (Lehrer)'!D87:BK87,1))","v":{"$error":"#N/A"}},{"$f":"IF(N77<2,#N/A,COUNTIF('B) Eingabe (Lehrer)'!D87:BK87,2))","v":{"$error":"#N/A"}},{"$f":"IF(N77<2,#N/A,COUNTIF('B) Eingabe (Lehrer)'!D87:BK87,3))","v":{"$error":"#N/A"}},{"$f":"IF(N77<2,#N/A,COUNTIF('B) Eingabe (Lehrer)'!D87:BK87,4))","v":{"$error":"#N/A"}},{"$f":"IF('B) Eingabe (Lehrer)'!C87=\"\", #N/A, 'B) Eingabe (Lehrer)'!C87)","v":{"$error":"#N/A"}}]
[45,{"$f":"IF(E78=0, #N/A,AVERAGE('B) Eingabe (Schüler)'!C87:AK87))","v":{"$error":"#N/A"}},{"$f":"IF(E78<2, #N/A, STDEVP('B) Eingabe (Schüler)'!C87:AK87))","v":{"$error":"#N/A"}},{"$error":"#N/A"},{"$f":"COUNT('B) Eingabe (Schüler)'!C87:AK87)","v":0},{"$f":"IF(E78<2,#N/A,COUNTIF('B) Eingabe (Schüler)'!C87:AK87,1))","v":{"$error":"#N/A"}},{"$f":"IF(E78<2,#N/A,COUNTIF('B) Eingabe (Schüler)'!C87:AK87,2))","v":{"$error":"#N/A"}},{"$f":"IF(E78<2,#N/A,COUNTIF('B) Eingabe (Schüler)'!C87:AK87,3))","v":{"$error":"#N/A"}},{"$f":"IF(E78<2,#N/A,COUNTIF('B) Eingabe (Schüler)'!C87:AK87,4))","v":{"$error":"#N/A"}},{"$f":"IF('B) Eingabe (Lehrer)'!C88=\"\", #N/A, 'B) Eingabe (Lehrer)'!C88)","v":{"$error":"#N/A"}},{"$f":"IF(N78=0, #N/A,AVERAGE('B) Eingabe (Lehrer)'!D88:BK88))","v":{"$error":"#N/A"}},{"$f":"IF(N78<2, #N/A, STDEVP('B) Eingabe (Lehrer)'!D88:BK88))","v":{"$error":"#N/A"}},{"$error":"#N/A"},{"$f":"COUNT('B) Eingabe (Lehrer)'!D88:BK88)","v":0},{"$f":"IF(N78<2,#N/A,COUNTIF('B) Eingabe (Lehrer)'!D88:BK88,1))","v":{"$error":"#N/A"}},{"$f":"IF(N78<2,#N/A,COUNTIF('B) Eingabe (Lehrer)'!D88:BK88,2))","v":{"$error":"#N/A"}},{"$f":"IF(N78<2,#N/A,COUNTIF('B) Eingabe (Lehrer)'!D88:BK88,3))","v":{"$error":"#N/A"}},{"$f":"IF(N78<2,#N/A,COUNTIF('B) Eingabe (Lehrer)'!D88:BK88,4))","v":{"$error":"#N/A"}},{"$f":"IF('B) Eingabe (Lehrer)'!C88=\"\", #N/A, 'B) Eingabe (Lehrer)'!C88)","v":{"$error":"#N/A"}}]
[46,{"$f":"IF(E79=0, #N/A,AVERAGE('B) Eingabe (Schüler)'!C88:AK88))","v":{"$error":"#N/A"}},{"$f":"IF(E79<2, #N/A, STDEVP('B) Eingabe (Schüler)'!C88:AK88))","v":{"$error":"#N/A"}},{"$error":"#N/A"},{"$f":"COUNT('B) Eingabe (Schüler)'!C88:AK88)","v":0},{"$f":"IF(E79<2,#N/A,COUNTIF('B) Eingabe (Schüler)'!C88:AK88,1))","v":{"$error":"#N/A"}},{"$f":"IF(E79<2,#N/A,COUNTIF('B) Eingabe (Schüler)'!C88:AK88,2))","v":{"$error":"#N/A"}},{"$f":"IF(E79<2,#N/A,COUNTIF('B) Eingabe (Schüler)'!C88:AK88,3))","v":{"$error":"#N/A"}},{"$f":"IF(E79<2,#N/A,COUNTIF('B) Eingabe (Schüler)'!C88:AK88,4))","v":{"$error":"#N/A"}},{"$f":"IF('B) Eingabe (Lehrer)'!C89=\"\", #N/A, 'B) Eingabe (Lehrer)'!C89)","v":{"$error":"#N/A"}},{"$f":"IF(N79=0, #N/A,AVERAGE('B) Eingabe (Lehrer)'!D89:BK89))","v":{"$error":"#N/A"}},{"$f":"IF(N79<2, #N/A, STDEVP('B) Eingabe (Lehrer)'!D89:BK89))","v":{"$error":"#N/A"}},{"$error":"#N/A"},{"$f":"COUNT('B) Eingabe (Lehrer)'!D89:BK89)","v":0},{"$f":"IF(N79<2,#N/A,COUNTIF('B) Eingabe (Lehrer)'!D89:BK89,1))","v":{"$error":"#N/A"}},{"$f":"IF(N79<2,#N/A,COUNTIF('B) Eingabe (Lehrer)'!D89:BK89,2))","v":{"$error":"#N/A"}},{"$f":"IF(N79<2,#N/A,COUNTIF('B) Eingabe (Lehrer)'!D89:BK89,3))","v":{"$error":"#N/A"}},{"$f":"IF(N79<2,#N/A,COUNTIF('B) Eingabe (Lehrer)'!D89:BK89,4))","v":{"$error":"#N/A"}},{"$f":"IF('B) Eingabe (Lehrer)'!C89=\"\", #N/A, 'B) Eingabe (Lehrer)'!C89)","v":{"$error":"#N/A"}}]
[47,{"$f":"IF(E80=0, #N/A,AVERAGE('B) Eingabe (Schüler)'!C89:AK89))","v":{"$error":"#N/A"}},{"$f":"IF(E80<2, #N/A, STDEVP('B) Eingabe (Schüler)'!C89:AK89))","v":{"$error":"#N/A"}},{"$error":"#N/A"},{"$f":"COUNT('B) Eingabe (Schüler)'!C89:AK89)","v":0},{"$f":"IF(E80<2,#N/A,COUNTIF('B) Eingabe (Schüler)'!C89:AK89,1))","v":{"$error":"#N/A"}},{"$f":"IF(E80<2,#N/A,COUNTIF('B) Eingabe (Schüler)'!C89:AK89,2))","v":{"$error":"#N/A"}},{"$f":"IF(E80<2,#N/A,COUNTIF('B) Eingabe (Schüler)'!C89:AK89,3))","v":{"$error":"#N/A"}},{"$f":"IF(E80<2,#N/A,COUNTIF('B) Eingabe (Schüler)'!C89:AK89,4))","v":{"$error":"#N/A"}},{"$f":"IF('B) Eingabe (Lehrer)'!C90=\"\", #N/A, 'B) Eingabe (Lehrer)'!C90)","v":{"$error":"#N/A"}},{"$f":"IF(N80=0, #N/A,AVERAGE('B) Eingabe (Lehrer)'!D90:BK90))","v":{"$error":"#N/A"}},{"$f":"IF(N80<2, #N/A, STDEVP('B) Eingabe (Lehrer)'!D90:BK90))","v":{"$error":"#N/A"}},{"$error":"#N/A"},{"$f":"COUNT('B) Eingabe (Lehrer)'!D90:BK90)","v":0},{"$f":"IF(N80<2,#N/A,COUNTIF('B) Eingabe (Lehrer)'!D90:BK90,1))","v":{"$error":"#N/A"}},{"$f":"IF(N80<2,#N/A,COUNTIF('B) Eingabe (Lehrer)'!D90:BK90,2))","v":{"$error":"#N/A"}},{"$f":"IF(N80<2,#N/A,COUNTIF('B) Eingabe (Lehrer)'!D90:BK90,3))","v":{"$error":"#N/A"}},{"$f":"IF(N80<2,#N/A,COUNTIF('B) Eingabe (Lehrer)'!D90:BK90,4))","v":{"$error":"#N/A"}},{"$f":"IF('B) Eingabe (Lehrer)'!C90=\"\", #N/A, 'B) Eingabe (Lehrer)'!C90)","v":{"$error":"#N/A"}}]
[48,{"$f":"IF(E81=0, #N/A,AVERAGE('B) Eingabe (Schüler)'!C90:AK90))","v":{"$error":"#N/A"}},{"$f":"IF(E81<2, #N/A, STDEVP('B) Eingabe (Schüler)'!C90:AK90))","v":{"$error":"#N/A"}},{"$error":"#N/A"},{"$f":"COUNT('B) Eingabe (Schüler)'!C90:AK90)","v":0},{"$f":"IF(E81<2,#N/A,COUNTIF('B) Eingabe (Schüler)'!C90:AK90,1))","v":{"$error":"#N/A"}},{"$f":"IF(E81<2,#N/A,COUNTIF('B) Eingabe (Schüler)'!C90:AK90,2))","v":{"$error":"#N/A"}},{"$f":"IF(E81<2,#N/A,COUNTIF('B) Eingabe (Schüler)'!C90:AK90,3))","v":{"$error":"#N/A"}},{"$f":"IF(E81<2,#N/A,COUNTIF('B) Eingabe (Schüler)'!C90:AK90,4))","v":{"$error":"#N/A"}},{"$f":"IF('B) Eingabe (Lehrer)'!C91=\"\", #N/A, 'B) Eingabe (Lehrer)'!C91)","v":{"$error":"#N/A"}},{"$f":"IF(N81=0, #N/A,AVERAGE('B) Eingabe (Lehrer)'!D91:BK91))","v":{"$error":"#N/A"}},{"$f":"IF(N81<2, #N/A, STDEVP('B) Eingabe (Lehrer)'!D91:BK91))","v":{"$error":"#N/A"}},{"$error":"#N/A"},{"$f":"COUNT('B) Eingabe (Lehrer)'!D91:BK91)","v":0},{"$f":"IF(N81<2,#N/A,COUNTIF('B) Eingabe (Lehrer)'!D91:BK91,1))","v":{"$error":"#N/A"}},{"$f":"IF(N81<2,#N/A,COUNTIF('B) Eingabe (Lehrer)'!D91:BK91,2))","v":{"$error":"#N/A"}},{"$f":"IF(N81<2,#N/A,COUNTIF('B) Eingabe (Lehrer)'!D91:BK91,3))","v":{"$error":"#N/A"}},{"$f":"IF(N81<2,#N/A,COUNTIF('B) Eingabe (Lehrer)'!D91:BK91,4))","v":{"$error":"#N/A"}},{"$f":"IF('B) Eingabe (Lehrer)'!C91=\"\", #N/A, 'B) Eingabe (Lehrer)'!C91)","v":{"$error":"#N/A"}}]
[49,{"$f":"IF(E82=0, #N/A,AVERAGE('B) Eingabe (Schüler)'!C91:AK91))","v":{"$error":"#N/A"}},{"$f":"IF(E82<2, #N/A, STDEVP('B) Eingabe (Schüler)'!C91:AK91))","v":{"$error":"#N/A"}},{"$error":"#N/A"},{"$f":"COUNT('B) Eingabe (Schüler)'!C91:AK91)","v":0},{"$f":"IF(E82<2,#N/A,COUNTIF('B) Eingabe (Schüler)'!C91:AK91,1))","v":{"$error":"#N/A"}},{"$f":"IF(E82<2,#N/A,COUNTIF('B) Eingabe (Schüler)'!C91:AK91,2))","v":{"$error":"#N/A"}},{"$f":"IF(E82<2,#N/A,COUNTIF('B) Eingabe (Schüler)'!C91:AK91,3))","v":{"$error":"#N/A"}},{"$f":"IF(E82<2,#N/A,COUNTIF('B) Eingabe (Schüler)'!C91:AK91,4))","v":{"$error":"#N/A"}},{"$f":"IF('B) Eingabe (Lehrer)'!C92=\"\", #N/A, 'B) Eingabe (Lehrer)'!C92)","v":{"$error":"#N/A"}},{"$f":"IF(N82=0, #N/A,AVERAGE('B) Eingabe (Lehrer)'!D92:BK92))","v":{"$error":"#N/A"}},{"$f":"IF(N82<2, #N/A, STDEVP('B) Eingabe (Lehrer)'!D92:BK92))","v":{"$error":"#N/A"}},{"$error":"#N/A"},{"$f":"COUNT('B) Eingabe (Lehrer)'!D92:BK92)","v":0},{"$f":"IF(N82<2,#N/A,COUNTIF('B) Eingabe (Lehrer)'!D92:BK92,1))","v":{"$error":"#N/A"}},{"$f":"IF(N82<2,#N/A,COUNTIF('B) Eingabe (Lehrer)'!D92:BK92,2))","v":{"$error":"#N/A"}},{"$f":"IF(N82<2,#N/A,COUNTIF('B) Eingabe (Lehrer)'!D92:BK92,3))","v":{"$error":"#N/A"}},{"$f":"IF(N82<2,#N/A,COUNTIF('B) Eingabe (Lehrer)'!D92:BK92,4))","v":{"$error":"#N/A"}},{"$f":"IF('B) Eingabe (Lehrer)'!C92=\"\", #N/A, 'B) Eingabe (Lehrer)'!C92)","v":{"$error":"#N/A"}}]
[50,{"$f":"IF(E83=0, #N/A,AVERAGE('B) Eingabe (Schüler)'!C92:AK92))","v":{"$error":"#N/A"}},{"$f":"IF(E83<2, #N/A, STDEVP('B) Eingabe (Schüler)'!C92:AK92))","v":{"$error":"#N/A"}},{"$error":"#N/A"},{"$f":"COUNT('B) Eingabe (Schüler)'!C92:AK92)","v":0},{"$f":"IF(E83<2,#N/A,COUNTIF('B) Eingabe (Schüler)'!C92:AK92,1))","v":{"$error":"#N/A"}},{"$f":"IF(E83<2,#N/A,COUNTIF('B) Eingabe (Schüler)'!C92:AK92,2))","v":{"$error":"#N/A"}},{"$f":"IF(E83<2,#N/A,COUNTIF('B) Eingabe (Schüler)'!C92:AK92,3))","v":{"$error":"#N/A"}},{"$f":"IF(E83<2,#N/A,COUNTIF('B) Eingabe (Schüler)'!C92:AK92,4))","v":{"$error":"#N/A"}},{"$f":"IF('B) Eingabe (Lehrer)'!C93=\"\", #N/A, 'B) Eingabe (Lehrer)'!C93)","v":{"$error":"#N/A"}},{"$f":"IF(N83=0, #N/A,AVERAGE('B) Eingabe (Lehrer)'!D93:BK93))","v":{"$error":"#N/A"}},{"$f":"IF(N83<2, #N/A, STDEVP('B) Eingabe (Lehrer)'!D93:BK93))","v":{"$error":"#N/A"}},{"$error":"#N/A"},{"$f":"COUNT('B) Eingabe (Lehrer)'!D93:BK93)","v":0},{"$f":"IF(N83<2,#N/A,COUNTIF('B) Eingabe (Lehrer)'!D93:BK93,1))","v":{"$error":"#N/A"}},{"$f":"IF(N83<2,#N/A,COUNTIF('B) Eingabe (Lehrer)'!D93:BK93,2))","v":{"$error":"#N/A"}},{"$f":"IF(N83<2,#N/A,COUNTIF('B) Eingabe (Lehrer)'!D93:BK93,3))","v":{"$error":"#N/A"}},{"$f":"IF(N83<2,#N/A,COUNTIF('B) Eingabe (Lehrer)'!D93:BK93,4))","v":{"$error":"#N/A"}},{"$f":"IF('B) Eingabe (Lehrer)'!C93=\"\", #N/A, 'B) Eingabe (Lehrer)'!C93)","v":{"$error":"#N/A"}}]
[51,{"$f":"IF(E84=0, #N/A,AVERAGE('B) Eingabe (Schüler)'!C93:AK93))","v":{"$error":"#N/A"}},{"$f":"IF(E84<2, #N/A, STDEVP('B) Eingabe (Schüler)'!C93:AK93))","v":{"$error":"#N/A"}},{"$error":"#N/A"},{"$f":"COUNT('B) Eingabe (Schüler)'!C93:AK93)","v":0},{"$f":"IF(E84<2,#N/A,COUNTIF('B) Eingabe (Schüler)'!C93:AK93,1))","v":{"$error":"#N/A"}},{"$f":"IF(E84<2,#N/A,COUNTIF('B) Eingabe (Schüler)'!C93:AK93,2))","v":{"$error":"#N/A"}},{"$f":"IF(E84<2,#N/A,COUNTIF('B) Eingabe (Schüler)'!C93:AK93,3))","v":{"$error":"#N/A"}},{"$f":"IF(E84<2,#N/A,COUNTIF('B) Eingabe (Schüler)'!C93:AK93,4))","v":{"$error":"#N/A"}},{"$f":"IF('B) Eingabe (Lehrer)'!C94=\"\", #N/A, 'B) Eingabe (Lehrer)'!C94)","v":{"$error":"#N/A"}},{"$f":"IF(N84=0, #N/A,AVERAGE('B) Eingabe (Lehrer)'!D94:BK94))","v":{"$error":"#N/A"}},{"$f":"IF(N84<2, #N/A, STDEVP('B) Eingabe (Lehrer)'!D94:BK94))","v":{"$error":"#N/A"}},{"$error":"#N/A"},{"$f":"COUNT('B) Eingabe (Lehrer)'!D94:BK94)","v":0},{"$f":"IF(N84<2,#N/A,COUNTIF('B) Eingabe (Lehrer)'!D94:BK94,1))","v":{"$error":"#N/A"}},{"$f":"IF(N84<2,#N/A,COUNTIF('B) Eingabe (Lehrer)'!D94:BK94,2))","v":{"$error":"#N/A"}},{"$f":"IF(N84<2,#N/A,COUNTIF('B) Eingabe (Lehrer)'!D94:BK94,3))","v":{"$error":"#N/A"}},{"$f":"IF(N84<2,#N/A,COUNTIF('B) Eingabe (Lehrer)'!D94:BK94,4))","v":{"$error":"#N/A"}},{"$f":"IF('B) Eingabe (Lehrer)'!C94=\"\", #N/A, 'B) Eingabe (Lehrer)'!C94)","v":{"$error":"#N/A"}}]
[52,{"$f":"IF(E85=0, #N/A,AVERAGE('B) Eingabe (Schüler)'!C94:AK94))","v":{"$error":"#N/A"}},{"$f":"IF(E85<2, #N/A, STDEVP('B) Eingabe (Schüler)'!C94:AK94))","v":{"$error":"#N/A"}},{"$error":"#N/A"},{"$f":"COUNT('B) Eingabe (Schüler)'!C94:AK94)","v":0},{"$f":"IF(E85<2,#N/A,COUNTIF('B) Eingabe (Schüler)'!C94:AK94,1))","v":{"$error":"#N/A"}},{"$f":"IF(E85<2,#N/A,COUNTIF('B) Eingabe (Schüler)'!C94:AK94,2))","v":{"$error":"#N/A"}},{"$f":"IF(E85<2,#N/A,COUNTIF('B) Eingabe (Schüler)'!C94:AK94,3))","v":{"$error":"#N/A"}},{"$f":"IF(E85<2,#N/A,COUNTIF('B) Eingabe (Schüler)'!C94:AK94,4))","v":{"$error":"#N/A"}},{"$f":"IF('B) Eingabe (Lehrer)'!C95=\"\", #N/A, 'B) Eingabe (Lehrer)'!C95)","v":{"$error":"#N/A"}},{"$f":"IF(N85=0, #N/A,AVERAGE('B) Eingabe (Lehrer)'!D95:BK95))","v":{"$error":"#N/A"}},{"$f":"IF(N85<2, #N/A, STDEVP('B) Eingabe (Lehrer)'!D95:BK95))","v":{"$error":"#N/A"}},{"$error":"#N/A"},{"$f":"COUNT('B) Eingabe (Lehrer)'!D95:BK95)","v":0},{"$f":"IF(N85<2,#N/A,COUNTIF('B) Eingabe (Lehrer)'!D95:BK95,1))","v":{"$error":"#N/A"}},{"$f":"IF(N85<2,#N/A,COUNTIF('B) Eingabe (Lehrer)'!D95:BK95,2))","v":{"$error":"#N/A"}},{"$f":"IF(N85<2,#N/A,COUNTIF('B) Eingabe (Lehrer)'!D95:BK95,3))","v":{"$error":"#N/A"}},{"$f":"IF(N85<2,#N/A,COUNTIF('B) Eingabe (Lehrer)'!D95:BK95,4))","v":{"$error":"#N/A"}},{"$f":"IF('B) Eingabe (Lehrer)'!C95=\"\", #N/A, 'B) Eingabe (Lehrer)'!C95)","v":{"$error":"#N/A"}}]
[53,{"$f":"IF(E86=0, #N/A,AVERAGE('B) Eingabe (Schüler)'!C95:AK95))","v":{"$error":"#N/A"}},{"$f":"IF(E86<2, #N/A, STDEVP('B) Eingabe (Schüler)'!C95:AK95))","v":{"$error":"#N/A"}},{"$error":"#N/A"},{"$f":"COUNT('B) Eingabe (Schüler)'!C95:AK95)","v":0},{"$f":"IF(E86<2,#N/A,COUNTIF('B) Eingabe (Schüler)'!C95:AK95,1))","v":{"$error":"#N/A"}},{"$f":"IF(E86<2,#N/A,COUNTIF('B) Eingabe (Schüler)'!C95:AK95,2))","v":{"$error":"#N/A"}},{"$f":"IF(E86<2,#N/A,COUNTIF('B) Eingabe (Schüler)'!C95:AK95,3))","v":{"$error":"#N/A"}},{"$f":"IF(E86<2,#N/A,COUNTIF('B) Eingabe (Schüler)'!C95:AK95,4))","v":{"$error":"#N/A"}},{"$f":"IF('B) Eingabe (Lehrer)'!C96=\"\", #N/A, 'B) Eingabe (Lehrer)'!C96)","v":{"$error":"#N/A"}},{"$f":"IF(N86=0, #N/A,AVERAGE('B) Eingabe (Lehrer)'!D96:BK96))","v":{"$error":"#N/A"}},{"$f":"IF(N86<2, #N/A, STDEVP('B) Eingabe (Lehrer)'!D96:BK96))","v":{"$error":"#N/A"}},{"$error":"#N/A"},{"$f":"COUNT('B) Eingabe (Lehrer)'!D96:BK96)","v":0},{"$f":"IF(N86<2,#N/A,COUNTIF('B) Eingabe (Lehrer)'!D96:BK96,1))","v":{"$error":"#N/A"}},{"$f":"IF(N86<2,#N/A,COUNTIF('B) Eingabe (Lehrer)'!D96:BK96,2))","v":{"$error":"#N/A"}},{"$f":"IF(N86<2,#N/A,COUNTIF('B) Eingabe (Lehrer)'!D96:BK96,3))","v":{"$error":"#N/A"}},{"$f":"IF(N86<2,#N/A,COUNTIF('B) Eingabe (Lehrer)'!D96:BK96,4))","v":{"$error":"#N/A"}},{"$f":"IF('B) Eingabe (Lehrer)'!C96=\"\", #N/A, 'B) Eingabe (Lehrer)'!C96)","v":{"$error":"#N/A"}}]
[54,{"$f":"IF(E87=0, #N/A,AVERAGE('B) Eingabe (Schüler)'!C96:AK96))","v":{"$error":"#N/A"}},{"$f":"IF(E87<2, #N/A, STDEVP('B) Eingabe (Schüler)'!C96:AK96))","v":{"$error":"#N/A"}},{"$error":"#N/A"},{"$f":"COUNT('B) Eingabe (Schüler)'!C96:AK96)","v":0},{"$f":"IF(E87<2,#N/A,COUNTIF('B) Eingabe (Schüler)'!C96:AK96,1))","v":{"$error":"#N/A"}},{"$f":"IF(E87<2,#N/A,COUNTIF('B) Eingabe (Schüler)'!C96:AK96,2))","v":{"$error":"#N/A"}},{"$f":"IF(E87<2,#N/A,COUNTIF('B) Eingabe (Schüler)'!C96:AK96,3))","v":{"$error":"#N/A"}},{"$f":"IF(E87<2,#N/A,COUNTIF('B) Eingabe (Schüler)'!C96:AK96,4))","v":{"$error":"#N/A"}},{"$f":"IF('B) Eingabe (Lehrer)'!C97=\"\", #N/A, 'B) Eingabe (Lehrer)'!C97)","v":{"$error":"#N/A"}},{"$f":"IF(N87=0, #N/A,AVERAGE('B) Eingabe (Lehrer)'!D97:BK97))","v":{"$error":"#N/A"}},{"$f":"IF(N87<2, #N/A, STDEVP('B) Eingabe (Lehrer)'!D97:BK97))","v":{"$error":"#N/A"}},{"$error":"#N/A"},{"$f":"COUNT('B) Eingabe (Lehrer)'!D97:BK97)","v":0},{"$f":"IF(N87<2,#N/A,COUNTIF('B) Eingabe (Lehrer)'!D97:BK97,1))","v":{"$error":"#N/A"}},{"$f":"IF(N87<2,#N/A,COUNTIF('B) Eingabe (Lehrer)'!D97:BK97,2))","v":{"$error":"#N/A"}},{"$f":"IF(N87<2,#N/A,COUNTIF('B) Eingabe (Lehrer)'!D97:BK97,3))","v":{"$error":"#N/A"}},{"$f":"IF(N87<2,#N/A,COUNTIF('B) Eingabe (Lehrer)'!D97:BK97,4))","v":{"$error":"#N/A"}},{"$f":"IF('B) Eingabe (Lehrer)'!C97=\"\", #N/A, 'B) Eingabe (Lehrer)'!C97)","v":{"$error":"#N/A"}}]
[55,{"$f":"IF(E88=0, #N/A,AVERAGE('B) Eingabe (Schüler)'!C97:AK97))","v":{"$error":"#N/A"}},{"$f":"IF(E88<2, #N/A, STDEVP('B) Eingabe (Schüler)'!C97:AK97))","v":{"$error":"#N/A"}},{"$error":"#N/A"},{"$f":"COUNT('B) Eingabe (Schüler)'!C97:AK97)","v":0},{"$f":"IF(E88<2,#N/A,COUNTIF('B) Eingabe (Schüler)'!C97:AK97,1))","v":{"$error":"#N/A"}},{"$f":"IF(E88<2,#N/A,COUNTIF('B) Eingabe (Schüler)'!C97:AK97,2))","v":{"$error":"#N/A"}},{"$f":"IF(E88<2,#N/A,COUNTIF('B) Eingabe (Schüler)'!C97:AK97,3))","v":{"$error":"#N/A"}},{"$f":"IF(E88<2,#N/A,COUNTIF('B) Eingabe (Schüler)'!C97:AK97,4))","v":{"$error":"#N/A"}},{"$f":"IF('B) Eingabe (Lehrer)'!C98=\"\", #N/A, 'B) Eingabe (Lehrer)'!C98)","v":{"$error":"#N/A"}},{"$f":"IF(N88=0, #N/A,AVERAGE('B) Eingabe (Lehrer)'!D98:BK98))","v":{"$error":"#N/A"}},{"$f":"IF(N88<2, #N/A, STDEVP('B) Eingabe (Lehrer)'!D98:BK98))","v":{"$error":"#N/A"}},{"$error":"#N/A"},{"$f":"COUNT('B) Eingabe (Lehrer)'!D98:BK98)","v":0},{"$f":"IF(N88<2,#N/A,COUNTIF('B) Eingabe (Lehrer)'!D98:BK98,1))","v":{"$error":"#N/A"}},{"$f":"IF(N88<2,#N/A,COUNTIF('B) Eingabe (Lehrer)'!D98:BK98,2))","v":{"$error":"#N/A"}},{"$f":"IF(N88<2,#N/A,COUNTIF('B) Eingabe (Lehrer)'!D98:BK98,3))","v":{"$error":"#N/A"}},{"$f":"IF(N88<2,#N/A,COUNTIF('B) Eingabe (Lehrer)'!D98:BK98,4))","v":{"$error":"#N/A"}},{"$f":"IF('B) Eingabe (Lehrer)'!C98=\"\", #N/A, 'B) Eingabe (Lehrer)'!C98)","v":{"$error":"#N/A"}}]
[56,{"$f":"IF(E89=0, #N/A,AVERAGE('B) Eingabe (Schüler)'!C98:AK98))","v":{"$error":"#N/A"}},{"$f":"IF(E89<2, #N/A, STDEVP('B) Eingabe (Schüler)'!C98:AK98))","v":{"$error":"#N/A"}},{"$error":"#N/A"},{"$f":"COUNT('B) Eingabe (Schüler)'!C98:AK98)","v":0},{"$f":"IF(E89<2,#N/A,COUNTIF('B) Eingabe (Schüler)'!C98:AK98,1))","v":{"$error":"#N/A"}},{"$f":"IF(E89<2,#N/A,COUNTIF('B) Eingabe (Schüler)'!C98:AK98,2))","v":{"$error":"#N/A"}},{"$f":"IF(E89<2,#N/A,COUNTIF('B) Eingabe (Schüler)'!C98:AK98,3))","v":{"$error":"#N/A"}},{"$f":"IF(E89<2,#N/A,COUNTIF('B) Eingabe (Schüler)'!C98:AK98,4))","v":{"$error":"#N/A"}},{"$f":"IF('B) Eingabe (Lehrer)'!C99=\"\", #N/A, 'B) Eingabe (Lehrer)'!C99)","v":{"$error":"#N/A"}},{"$f":"IF(N89=0, #N/A,AVERAGE('B) Eingabe (Lehrer)'!D99:BK99))","v":{"$error":"#N/A"}},{"$f":"IF(N89<2, #N/A, STDEVP('B) Eingabe (Lehrer)'!D99:BK99))","v":{"$error":"#N/A"}},{"$error":"#N/A"},{"$f":"COUNT('B) Eingabe (Lehrer)'!D99:BK99)","v":0},{"$f":"IF(N89<2,#N/A,COUNTIF('B) Eingabe (Lehrer)'!D99:BK99,1))","v":{"$error":"#N/A"}},{"$f":"IF(N89<2,#N/A,COUNTIF('B) Eingabe (Lehrer)'!D99:BK99,2))","v":{"$error":"#N/A"}},{"$f":"IF(N89<2,#N/A,COUNTIF('B) Eingabe (Lehrer)'!D99:BK99,3))","v":{"$error":"#N/A"}},{"$f":"IF(N89<2,#N/A,COUNTIF('B) Eingabe (Lehrer)'!D99:BK99,4))","v":{"$error":"#N/A"}},{"$f":"IF('B) Eingabe (Lehrer)'!C99=\"\", #N/A, 'B) Eingabe (Lehrer)'!C99)","v":{"$error":"#N/A"}}]
[57,{"$f":"IF(E90=0, #N/A,AVERAGE('B) Eingabe (Schüler)'!C99:AK99))","v":{"$error":"#N/A"}},{"$f":"IF(E90<2, #N/A, STDEVP('B) Eingabe (Schüler)'!C99:AK99))","v":{"$error":"#N/A"}},{"$error":"#N/A"},{"$f":"COUNT('B) Eingabe (Schüler)'!C99:AK99)","v":0},{"$f":"IF(E90<2,#N/A,COUNTIF('B) Eingabe (Schüler)'!C99:AK99,1))","v":{"$error":"#N/A"}},{"$f":"IF(E90<2,#N/A,COUNTIF('B) Eingabe (Schüler)'!C99:AK99,2))","v":{"$error":"#N/A"}},{"$f":"IF(E90<2,#N/A,COUNTIF('B) Eingabe (Schüler)'!C99:AK99,3))","v":{"$error":"#N/A"}},{"$f":"IF(E90<2,#N/A,COUNTIF('B) Eingabe (Schüler)'!C99:AK99,4))","v":{"$error":"#N/A"}},{"$f":"IF('B) Eingabe (Lehrer)'!C100=\"\", #N/A, 'B) Eingabe (Lehrer)'!C100)","v":{"$error":"#N/A"}},{"$f":"IF(N90=0, #N/A,AVERAGE('B) Eingabe (Lehrer)'!D100:BK100))","v":{"$error":"#N/A"}},{"$f":"IF(N90<2, #N/A, STDEVP('B) Eingabe (Lehrer)'!D100:BK100))","v":{"$error":"#N/A"}},{"$error":"#N/A"},{"$f":"COUNT('B) Eingabe (Lehrer)'!D100:BK100)","v":0},{"$f":"IF(N90<2,#N/A,COUNTIF('B) Eingabe (Lehrer)'!D100:BK100,1))","v":{"$error":"#N/A"}},{"$f":"IF(N90<2,#N/A,COUNTIF('B) Eingabe (Lehrer)'!D100:BK100,2))","v":{"$error":"#N/A"}},{"$f":"IF(N90<2,#N/A,COUNTIF('B) Eingabe (Lehrer)'!D100:BK100,3))","v":{"$error":"#N/A"}},{"$f":"IF(N90<2,#N/A,COUNTIF('B) Eingabe (Lehrer)'!D100:BK100,4))","v":{"$error":"#N/A"}},{"$f":"IF('B) Eingabe (Lehrer)'!C100=\"\", #N/A, 'B) Eingabe (Lehrer)'!C100)","v":{"$error":"#N/A"}}]
[58,{"$f":"IF(E91=0, #N/A,AVERAGE('B) Eingabe (Schüler)'!C100:AK100))","v":{"$error":"#N/A"}},{"$f":"IF(E91<2, #N/A, STDEVP('B) Eingabe (Schüler)'!C100:AK100))","v":{"$error":"#N/A"}},{"$error":"#N/A"},{"$f":"COUNT('B) Eingabe (Schüler)'!C100:AK100)","v":0},{"$f":"IF(E91<2,#N/A,COUNTIF('B) Eingabe (Schüler)'!C100:AK100,1))","v":{"$error":"#N/A"}},{"$f":"IF(E91<2,#N/A,COUNTIF('B) Eingabe (Schüler)'!C100:AK100,2))","v":{"$error":"#N/A"}},{"$f":"IF(E91<2,#N/A,COUNTIF('B) Eingabe (Schüler)'!C100:AK100,3))","v":{"$error":"#N/A"}},{"$f":"IF(E91<2,#N/A,COUNTIF('B) Eingabe (Schüler)'!C100:AK100,4))","v":{"$error":"#N/A"}},{"$f":"IF('B) Eingabe (Lehrer)'!C101=\"\", #N/A, 'B) Eingabe (Lehrer)'!C101)","v":{"$error":"#N/A"}},{"$f":"IF(N91=0, #N/A,AVERAGE('B) Eingabe (Lehrer)'!D101:BK101))","v":{"$error":"#N/A"}},{"$f":"IF(N91<2, #N/A, STDEVP('B) Eingabe (Lehrer)'!D101:BK101))","v":{"$error":"#N/A"}},{"$error":"#N/A"},{"$f":"COUNT('B) Eingabe (Lehrer)'!D101:BK101)","v":0},{"$f":"IF(N91<2,#N/A,COUNTIF('B) Eingabe (Lehrer)'!D101:BK101,1))","v":{"$error":"#N/A"}},{"$f":"IF(N91<2,#N/A,COUNTIF('B) Eingabe (Lehrer)'!D101:BK101,2))","v":{"$error":"#N/A"}},{"$f":"IF(N91<2,#N/A,COUNTIF('B) Eingabe (Lehrer)'!D101:BK101,3))","v":{"$error":"#N/A"}},{"$f":"IF(N91<2,#N/A,COUNTIF('B) Eingabe (Lehrer)'!D101:BK101,4))","v":{"$error":"#N/A"}},{"$f":"IF('B) Eingabe (Lehrer)'!C101=\"\", #N/A, 'B) Eingabe (Lehrer)'!C101)","v":{"$error":"#N/A"}}]
[59,{"$f":"IF(E92=0, #N/A,AVERAGE('B) Eingabe (Schüler)'!C101:AK101))","v":{"$error":"#N/A"}},{"$f":"IF(E92<2, #N/A, STDEVP('B) Eingabe (Schüler)'!C101:AK101))","v":{"$error":"#N/A"}},{"$error":"#N/A"},{"$f":"COUNT('B) Eingabe (Schüler)'!C101:AK101)","v":0},{"$f":"IF(E92<2,#N/A,COUNTIF('B) Eingabe (Schüler)'!C101:AK101,1))","v":{"$error":"#N/A"}},{"$f":"IF(E92<2,#N/A,COUNTIF('B) Eingabe (Schüler)'!C101:AK101,2))","v":{"$error":"#N/A"}},{"$f":"IF(E92<2,#N/A,COUNTIF('B) Eingabe (Schüler)'!C101:AK101,3))","v":{"$error":"#N/A"}},{"$f":"IF(E92<2,#N/A,COUNTIF('B) Eingabe (Schüler)'!C101:AK101,4))","v":{"$error":"#N/A"}},{"$f":"IF('B) Eingabe (Lehrer)'!C102=\"\", #N/A, 'B) Eingabe (Lehrer)'!C102)","v":{"$error":"#N/A"}},{"$f":"IF(N92=0, #N/A,AVERAGE('B) Eingabe (Lehrer)'!D102:BK102))","v":{"$error":"#N/A"}},{"$f":"IF(N92<2, #N/A, STDEVP('B) Eingabe (Lehrer)'!D102:BK102))","v":{"$error":"#N/A"}},{"$error":"#N/A"},{"$f":"COUNT('B) Eingabe (Lehrer)'!D102:BK102)","v":0},{"$f":"IF(N92<2,#N/A,COUNTIF('B) Eingabe (Lehrer)'!D102:BK102,1))","v":{"$error":"#N/A"}},{"$f":"IF(N92<2,#N/A,COUNTIF('B) Eingabe (Lehrer)'!D102:BK102,2))","v":{"$error":"#N/A"}},{"$f":"IF(N92<2,#N/A,COUNTIF('B) Eingabe (Lehrer)'!D102:BK102,3))","v":{"$error":"#N/A"}},{"$f":"IF(N92<2,#N/A,COUNTIF('B) Eingabe (Lehrer)'!D102:BK102,4))","v":{"$error":"#N/A"}},{"$f":"IF('B) Eingabe (Lehrer)'!C102=\"\", #N/A, 'B) Eingabe (Lehrer)'!C102)","v":{"$error":"#N/A"}}]
[60,{"$f":"IF(E93=0, #N/A,AVERAGE('B) Eingabe (Schüler)'!C102:AK102))","v":{"$error":"#N/A"}},{"$f":"IF(E93<2, #N/A, STDEVP('B) Eingabe (Schüler)'!C102:AK102))","v":{"$error":"#N/A"}},{"$error":"#N/A"},{"$f":"COUNT('B) Eingabe (Schüler)'!C102:AK102)","v":0},{"$f":"IF(E93<2,#N/A,COUNTIF('B) Eingabe (Schüler)'!C102:AK102,1))","v":{"$error":"#N/A"}},{"$f":"IF(E93<2,#N/A,COUNTIF('B) Eingabe (Schüler)'!C102:AK102,2))","v":{"$error":"#N/A"}},{"$f":"IF(E93<2,#N/A,COUNTIF('B) Eingabe (Schüler)'!C102:AK102,3))","v":{"$error":"#N/A"}},{"$f":"IF(E93<2,#N/A,COUNTIF('B) Eingabe (Schüler)'!C102:AK102,4))","v":{"$error":"#N/A"}},{"$f":"IF('B) Eingabe (Lehrer)'!C103=\"\", #N/A, 'B) Eingabe (Lehrer)'!C103)","v":{"$error":"#N/A"}},{"$f":"IF(N93=0, #N/A,AVERAGE('B) Eingabe (Lehrer)'!D103:BK103))","v":{"$error":"#N/A"}},{"$f":"IF(N93<2, #N/A, STDEVP('B) Eingabe (Lehrer)'!D103:BK103))","v":{"$error":"#N/A"}},{"$error":"#N/A"},{"$f":"COUNT('B) Eingabe (Lehrer)'!D103:BK103)","v":0},{"$f":"IF(N93<2,#N/A,COUNTIF('B) Eingabe (Lehrer)'!D103:BK103,1))","v":{"$error":"#N/A"}},{"$f":"IF(N93<2,#N/A,COUNTIF('B) Eingabe (Lehrer)'!D103:BK103,2))","v":{"$error":"#N/A"}},{"$f":"IF(N93<2,#N/A,COUNTIF('B) Eingabe (Lehrer)'!D103:BK103,3))","v":{"$error":"#N/A"}},{"$f":"IF(N93<2,#N/A,COUNTIF('B) Eingabe (Lehrer)'!D103:BK103,4))","v":{"$error":"#N/A"}},{"$f":"IF('B) Eingabe (Lehrer)'!C103=\"\", #N/A, 'B) Eingabe (Lehrer)'!C103)","v":{"$error":"#N/A"}}]
[]
[null,"Beurteilertendenzen"]
[null,null,"Rater ID","MW"]
[null,"Rater 1",{"$f":"'B) Temp'!B96","v":"Kollege2"},{"$f":"'B) Temp'!C96","v":2.5},{"$f":"IF(D97<>\"\",D158, #N/A)","v":3}]
[null,"Rater 2",{"$f":"'B) Temp'!B97","v":"Kollege1"},{"$f":"'B) Temp'!C97","v":2.75},{"$f":"IF(D98<>\"\",D158, #N/A)","v":3}]
[null,"Rater 3",{"$f":"'B) Temp'!B98","v":"Lehrer"},{"$f":"'B) Temp'!C98","v":3.75},{"$f":"IF(D99<>\"\",D158, #N/A)","v":3}]
[null,"Rater 4",{"$f":"'B) Temp'!B99","v":""},{"$f":"'B) Temp'!C99","v":""},{"$f":"IF(D100<>\"\",D158, #N/A)","v":{"$error":"#N/A"}}]
[null,"Rater 5",{"$f":"'B) Temp'!B100","v":""},{"$f":"'B) Temp'!C100","v":""},{"$f":"IF(D101<>\"\",D158, #N/A)","v":{"$error":"#N/A"}}]
[null,"Rater 6",{"$f":"'B) Temp'!B101","v":""},{"$f":"'B) Temp'!C101","v":""},{"$f":"IF(D102<>\"\",D158, #N/A)","v":{"$error":"#N/A"}}]
[null,"Rater 7",{"$f":"'B) Temp'!B102","v":""},{"$f":"'B) Temp'!C102","v":""},{"$f":"IF(D103<>\"\",D158, #N/A)","v":{"$error":"#N/A"}}]
[null,"Rater 8",{"$f":"'B) Temp'!B103","v":""},{"$f":"'B) Temp'!C103","v":""},{"$f":"IF(D104<>\"\",D158, #N/A)","v":{"$error":"#N/A"}}]
[null,"Rater 9",{"$f":"'B) Temp'!B104","v":""},{"$f":"'B) Temp'!C104","v":""},{"$f":"IF(D105<>\"\",D158, #N/A)","v":{"$error":"#N/A"}}]
[null,"Rater 10",{"$f":"'B) Temp'!B105","v":""},{"$f":"'B) Temp'!C105","v":""},{"$f":"IF(D106<>\"\",D158, #N/A)","v":{"$error":"#N/A"}}]
[null,"Rater 11",{"$f":"'B) Temp'!B106","v":""},{"$f":"'B) Temp'!C106","v":""},{"$f":"IF(D107<>\"\",D158, #N/A)","v":{"$error":"#N/A"}}]
[null,"Rater 12",{"$f":"'B) Temp'!B107","v":""},{"$f":"'B) Temp'!C107","v":""},{"$f":"IF(D108<>\"\",D158, #N/A)","v":{"$error":"#N/A"}}]
[null,"Rater 13",{"$f":"'B) Temp'!B108","v":""},{"$f":"'B) Temp'!C108","v":""},{"$f":"IF(D109<>\"\",D158, #N/A)","v":{"$error":"#N/A"}}]
[null,"Rater 14",{"$f":"'B) Temp'!B109","v":""},{"$f":"'B) Temp'!C109","v":""},{"$f":"IF(D110<>\"\",D158, #N/A)","v":{"$error":"#N/A"}}]
[null,"Rater 15",{"$f":"'B) Temp'!B110","v":""},{"$f":"'B) Temp'!C110","v":""},{"$f":"IF(D111<>\"\",D158, #N/A)","v":{"$error":"#N/A"}}]
[null,"Rater 16",{"$f":"'B) Temp'!B111","v":""},{"$f":"'B) Temp'!C111","v":""},{"$f":"IF(D112<>\"\",D158, #N/A)","v":{"$error":"#N/A"}}]
[null,"Rater 17",{"$f":"'B) Temp'!B112","v":""},{"$f":"'B) Temp'!C112","v":""},{"$f":"IF(D113<>\"\",D158, #N/A)","v":{"$error":"#N/A"}}]
[null,"Rater 18",{"$f":"'B) Temp'!B113","v":""},{"$f":"'B) Temp'!C113","v":""},{"$f":"IF(D114<>\"\",D158, #N/A)","v":{"$error":"#N/A"}}]
[null,"Rater 19",{"$f":"'B) Temp'!B114","v":""},{"$f":"'B) Temp'!C114","v":""},{"$f":"IF(D115<>\"\",D158, #N/A)","v":{"$error":"#N/A"}}]
[null,"Rater 20",{"$f":"'B) Temp'!B115","v":""},{"$f":"'B) Temp'!C115","v":""},{"$f":"IF(D116<>\"\",D158, #N/A)","v":{"$error":"#N/A"}}]
[null,"Rater 21",{"$f":"'B) Temp'!B116","v":""},{"$f":"'B) Temp'!C116","v":""},{"$f":"IF(D117<>\"\",D158, #N/A)","v":{"$error":"#N/A"}}]
[null,"Rater 22",{"$f":"'B) Temp'!B117","v":""},{"$f":"'B) Temp'!C117","v":""},{"$f":"IF(D118<>\"\",D158, #N/A)","v":{"$error":"#N/A"}}]
[null,"Rater 23",{"$f":"'B) Temp'!B118","v":""},{"$f":"'B) Temp'!C118","v":""},{"$f":"IF(D119<>\"\",D158, #N/A)","v":{"$error":"#N/A"}}]
[null,"Rater 24",{"$f":"'B) Temp'!B119","v":""},{"$f":"'B) Temp'!C119","v":""},{"$f":"IF(D120<>\"\",D158, #N/A)","v":{"$error":"#N/A"}}]
[null,"Rater 25",{"$f":"'B) Temp'!B120","v":""},{"$f":"'B) Temp'!C120","v":""},{"$f":"IF(D121<>\"\",D158, #N/A)","v":{"$error":"#N/A"}}]
[null,"Rater 26",{"$f":"'B) Temp'!B121","v":""},{"$f":"'B) Temp'!C121","v":""},{"$f":"IF(D122<>\"\",D158, #N/A)","v":{"$error":"#N/A"}}]
[null,"Rater 27",{"$f":"'B) Temp'!B122","v":""},{"$f":"'B) Temp'!C122","v":""},{"$f":"IF(D123<>\"\",D158, #N/A)","v":{"$error":"#N/A"}}]
[null,"Rater 28",{"$f":"'B) Temp'!B123","v":""},{"$f":"'B) Temp'!C123","v":""},{"$f":"IF(D124<>\"\",D158, #N/A)","v":{"$error":"#N/A"}}]
[null,"Rater 29",{"$f":"'B) Temp'!B124","v":""},{"$f":"'B) Temp'!C124","v":""},{"$f":"IF(D125<>\"\",D158, #N/A)","v":{"$error":"#N/A"}}]
[null,"Rater 30",{"$f":"'B) Temp'!B125","v":""},{"$f":"'B) Temp'!C125","v":""},{"$f":"IF(D126<>\"\",D158, #N/A)","v":{"$error":"#N/A"}}]
[null,"Rater 31",{"$f":"'B) Temp'!B126","v":""},{"$f":"'B) Temp'!C126","v":""},{"$f":"IF(D127<>\"\",D158, #N/A)","v":{"$error":"#N/A"}}]
[null,"Rater 32",{"$f":"'B) Temp'!B127","v":""},{"$f":"'B) Temp'!C127","v":""},{"$f":"IF(D128<>\"\",D158, #N/A)","v":{"$error":"#N/A"}}]
[null,"Rater 33",{"$f":"'B) Temp'!B128","v":""},{"$f":"'B) Temp'!C128","v":""},{"$f":"IF(D129<>\"\",D158, #N/A)","v":{"$error":"#N/A"}}]
[null,"Rater 34",{"$f":"'B) Temp'!B129","v":""},{"$f":"'B) Temp'!C129","v":""},{"$f":"IF(D130<>\"\",D158, #N/A)","v":{"$error":"#N/A"}}]
[null,"Rater 35",{"$f":"'B) Temp'!B130","v":""},{"$f":"'B) Temp'!C130","v":""},{"$f":"IF(D131<>\"\",D158, #N/A)","v":{"$error":"#N/A"}}]
[null,"Rater 36",{"$f":"'B) Temp'!B131","v":""},{"$f":"'B) Temp'!C131","v":""},{"$f":"IF(D132<>\"\",D158, #N/A)","v":{"$error":"#N/A"}}]
[null,"Rater 37",{"$f":"'B) Temp'!B132","v":""},{"$f":"'B) Temp'!C132","v":""},{"$f":"IF(D133<>\"\",D158, #N/A)","v":{"$error":"#N/A"}}]
[null,"Rater 38",{"$f":"'B) Temp'!B133","v":""},{"$f":"'B) Temp'!C133","v":""},{"$f":"IF(D134<>\"\",D158, #N/A)","v":{"$error":"#N/A"}}]
[null,"Rater 39",{"$f":"'B) Temp'!B134","v":""},{"$f":"'B) Temp'!C134","v":""},{"$f":"IF(D135<>\"\",D158, #N/A)","v":{"$error":"#N/A"}}]
[null,"Rater 40",{"$f":"'B) Temp'!B135","v":""},{"$f":"'B) Temp'!C135","v":""},{"$f":"IF(D136<>\"\",D158, #N/A)","v":{"$error":"#N/A"}}]
[null,"Rater 41",{"$f":"'B) Temp'!B136","v":""},{"$f":"'B) Temp'!C136","v":""},{"$f":"IF(D137<>\"\",D158, #N/A)","v":{"$error":"#N/A"}}]
[null,"Rater 42",{"$f":"'B) Temp'!B137","v":""},{"$f":"'B) Temp'!C137","v":""},{"$f":"IF(D138<>\"\",D158, #N/A)","v":{"$error":"#N/A"}}]
[null,"Rater 43",{"$f":"'B) Temp'!B138","v":""},{"$f":"'B) Temp'!C138","v":""},{"$f":"IF(D139<>\"\",D158, #N/A)","v":{"$error":"#N/A"}}]
[null,"Rater 44",{"$f":"'B) Temp'!B139","v":""},{"$f":"'B) Temp'!C139","v":""},{"$f":"IF(D140<>\"\",D158, #N/A)","v":{"$error":"#N/A"}}]
[null,"Rater 45",{"$f":"'B) Temp'!B140","v":""},{"$f":"'B) Temp'!C140","v":""},{"$f":"IF(D141<>\"\",D158, #N/A)","v":{"$error":"#N/A"}}]
[null,"Rater 46",{"$f":"'B) Temp'!B141","v":""},{"$f":"'B) Temp'!C141","v":""},{"$f":"IF(D142<>\"\",D158, #N/A)","v":{"$error":"#N/A"}}]
[null,"Rater 47",{"$f":"'B) Temp'!B142","v":""},{"$f":"'B) Temp'!C142","v":""},{"$f":"IF(D143<>\"\",D158, #N/A)","v":{"$error":"#N/A"}}]
[null,"Rater 48",{"$f":"'B) Temp'!B143","v":""},{"$f":"'B) Temp'!C143","v":""},{"$f":"IF(D144<>\"\",D158, #N/A)","v":{"$error":"#N/A"}}]
[null,"Rater 49",{"$f":"'B) Temp'!B144","v":""},{"$f":"'B) Temp'!C144","v":""},{"$f":"IF(D145<>\"\",D158, #N/A)","v":{"$error":"#N/A"}}]
[null,"Rater 50",{"$f":"'B) Temp'!B145","v":""},{"$f":"'B) Temp'!C145","v":""},{"$f":"IF(D146<>\"\",D158, #N/A)","v":{"$error":"#N/A"}}]
[null,"Rater 51",{"$f":"'B) Temp'!B146","v":""},{"$f":"'B) Temp'!C146","v":""},{"$f":"IF(D147<>\"\",D158, #N/A)","v":{"$error":"#N/A"}}]
[null,"Rater 52",{"$f":"'B) Temp'!B147","v":""},{"$f":"'B) Temp'!C147","v":""},{"$f":"IF(D148<>\"\",D158, #N/A)","v":{"$error":"#N/A"}}]
[null,"Rater 53",{"$f":"'B) Temp'!B148","v":""},{"$f":"'B) Temp'!C148","v":""},{"$f":"IF(D149<>\"\",D158, #N/A)","v":{"$error":"#N/A"}}]
[null,"Rater 54",{"$f":"'B) Temp'!B149","v":""},{"$f":"'B) Temp'!C149","v":""},{"$f":"IF(D150<>\"\",D158, #N/A)","v":{"$error":"#N/A"}}]
[null,"Rater 55",{"$f":"'B) Temp'!B150","v":""},{"$f":"'B) Temp'!C150","v":""},{"$f":"IF(D151<>\"\",D158, #N/A)","v":{"$error":"#N/A"}}]
[null,"Rater 56",{"$f":"'B) Temp'!B151","v":""},{"$f":"'B) Temp'!C151","v":""},{"$f":"IF(D152<>\"\",D158, #N/A)","v":{"$error":"#N/A"}}]
[null,"Rater 57",{"$f":"'B) Temp'!B152","v":""},{"$f":"'B) Temp'!C152","v":""},{"$f":"IF(D153<>\"\",D158, #N/A)","v":{"$error":"#N/A"}}]
[null,"Rater 58",{"$f":"'B) Temp'!B153","v":""},{"$f":"'B) Temp'!C153","v":""},{"$f":"IF(D154<>\"\",D158, #N/A)","v":{"$error":"#N/A"}}]
[null,"Rater 59",{"$f":"'B) Temp'!B154","v":""},{"$f":"'B) Temp'!C154","v":""},{"$f":"IF(D155<>\"\",D158, #N/A)","v":{"$error":"#N/A"}}]
[null,"Rater 60",{"$f":"'B) Temp'!B155","v":""},{"$f":"'B) Temp'!C155","v":""},{"$f":"IF(D156<>\"\",D158, #N/A)","v":{"$error":"#N/A"}}]
[null,"Rater 61",{"$f":"'B) Temp'!B156","v":""},{"$f":"'B) Temp'!C156","v":""},{"$f":"IF(D157<>\"\",D158, #N/A)","v":{"$error":"#N/A"}}]
[null,null,"MW aller",{"$f":"AVERAGE(D97:D157)","v":3}]
[null,null,null,{"$f":"IF(D97<>\"\",D97, #N/A)","v":2.5}]
[null,null,null,{"$f":"IF(D98<>\"\",D98, #N/A)","v":2.75}]
[null,null,null,3.75]
[null,null,null,{"$error":"#N/A"}]
[null,null,null,{"$error":"#N/A"}]
[null,null,null,{"$error":"#N/A"}]
[null,null,null,{"$error":"#N/A"}]
[null,null,null,{"$error":"#N/A"}]
[null,null,null,{"$error":"#N/A"}]
[null,null,null,{"$error":"#N/A"}]
[null,null,null,{"$error":"#N/A"}]
[null,null,null,{"$error":"#N/A"}]
[null,null,null,{"$error":"#N/A"}]
[null,null,null,{"$error":"#N/A"}]
[null,null,null,{"$error":"#N/A"}]
[null,null,null,{"$error":"#N/A"}]
[null,null,null,{"$error":"#N/A"}]
[null,null,null,{"$error":"#N/A"}]
[null,null,null,{"$error":"#N/A"}]
[null,null,null,{"$error":"#N/A"}]
[null,null,null,{"$error":"#N/A"}]
[null,null,null,{"$error":"#N/A"}]
[null,null,null,{"$error":"#N/A"}]
[null,null,null,{"$error":"#N/A"}]
[null,null,null,{"$error":"#N/A"}]
[null,null,null,{"$error":"#N/A"}]
[null,null,null,{"$error":"#N/A"}]
[null,null,null,{"$error":"#N/A"}]
[null,null,null,{"$error":"#N/A"}]
[null,null,null,{"$error":"#N/A"}]
[null,null,null,{"$error":"#N/A"}]
[null,null,null,{"$error":"#N/A"}]
[null,null,null,{"$error":"#N/A"}]
[null,null,null,{"$error":"#N/A"}]
[null,null,null,{"$error":"#N/A"}]
[null,null,null,{"$error":"#N/A"}]
[null,null,null,{"$error":"#N/A"}]
[null,null,null,{"$error":"#N/A"}]
[null,null,null,{"$error":"#N/A"}]
[null,null,null,{"$error":"#N/A"}]
[null,null,null,{"$error":"#N/A"}]
[null,null,null,{"$error":"#N/A"}]
[null,null,null,{"$error":"#N/A"}]
[null,null,null,{"$error":"#N/A"}]
[null,null,null,{"$error":"#N/A"}]
[null,null,null,{"$error":"#N/A"}]
[null,null,null,{"$error":"#N/A"}]
[null,null,null,{"$error":"#N/A"}]
[null,null,null,{"$error":"#N/A"}]
[null,null,null,{"$error":"#N/A"}]
[null,null,null,{"$error":"#N/A"}]
[null,null,null,{"$error":"#N/A"}]
[null,null,null,{"$error":"#N/A"}]
[null,null,null,{"$error":"#N/A"}]
[null,null,null,{"$error":"#N/A"}]
[null,null,null,{"$error":"#N/A"}]
[null,null,null,{"$error":"#N/A"}]
[null,null,null,{"$error":"#N/A"}]
[null,null,null,{"$error":"#N/A"}]
[null,null,null,{"$error":"#N/A"}]
[null,null,null,{"$error":"#N/A"}]
[null,"Item 30 Kollegen"]
[null,null,1,2,3,4,5,6,7,8,9,10,11,12,13,14,15,16,17,18,19,20,21,22,23,24,25,26,27,28,29,30,31,32,33,34,35,36,37,38,39,40,41,42,43,44,45,46,47,48,49,50,51,52,53,54,55,56,57,58,59,60,{"$error":"#N/A"},"Summe","N","MW","%"]
[]
["zu leicht","zu leicht"]
["etwas zu leicht","etwas zu leicht"]
["genau richtig","genau richtig"]
["etwas zu schwierig","etwas zu schwierig"]
["zu schwierig","zu schwierig"]
["fehlende Angaben","fehlende Angaben"]

{"sheet":"B) Temp","index":16,"n_rows":156,"n_cols":62,"rows_kept":156,"cut":false,"hidden":true,"merged":[]}
["Beurteilungstendenzen",1,2,3,4,5,6,7,8,9,10,11,12,13,14,15,16,17,18,19,20,21,22,23,24,25,26,27,28,29,30,31,32,33,34,35,36,37,38,39,40,41,42,43,44,45,46,47,48,49,50,51,52,53,54,55,56,57,58,59,60,61]
["ID",{"$f":"IF('B) Eingabe (Lehrer)'!C9=\"\", \"\", 'B) Eingabe (Lehrer)'!C9)","v":""},{"$f":"IF('B) Eingabe (Lehrer)'!D9=\"\", \"\", 'B) Eingabe (Lehrer)'!D9)","v":"1"},{"$f":"IF('B) Eingabe (Lehrer)'!E9=\"\", \"\", 'B) Eingabe (Lehrer)'!E9)","v":"2"},{"$f":"IF('B) Eingabe (Lehrer)'!F9=\"\", \"\", 'B) Eingabe (Lehrer)'!F9)","v":"3"},{"$f":"IF('B) Eingabe (Lehrer)'!G9=\"\", \"\", 'B) Eingabe (Lehrer)'!G9)","v":"4"},{"$f":"IF('B) Eingabe (Lehrer)'!H9=\"\", \"\", 'B) Eingabe (Lehrer)'!H9)","v":"5"},{"$f":"IF('B) Eingabe (Lehrer)'!I9=\"\", \"\", 'B) Eingabe (Lehrer)'!I9)","v":"6"},{"$f":"IF('B) Eingabe (Lehrer)'!J9=\"\", \"\", 'B) Eingabe (Lehrer)'!J9)","v":"7"},{"$f":"IF('B) Eingabe (Lehrer)'!K9=\"\", \"\", 'B) Eingabe (Lehrer)'!K9)","v":"8"},{"$f":"IF('B) Eingabe (Lehrer)'!L9=\"\", \"\", 'B) Eingabe (Lehrer)'!L9)","v":"9"},{"$f":"IF('B) Eingabe (Lehrer)'!M9=\"\", \"\", 'B) Eingabe (Lehrer)'!M9)","v":"10"},{"$f":"IF('B) Eingabe (Lehrer)'!N9=\"\", \"\", 'B) Eingabe (Lehrer)'!N9)","v":"11"},{"$f":"IF('B) Eingabe (Lehrer)'!O9=\"\", \"\", 'B) Eingabe (Lehrer)'!O9)","v":"12"},{"$f":"IF('B) Eingabe (Lehrer)'!P9=\"\", \"\", 'B) Eingabe (Lehrer)'!P9)","v":"13"},{"$f":"IF('B) Eingabe (Lehrer)'!Q9=\"\", \"\", 'B) Eingabe (Lehrer)'!Q9)","v":"14"},{"$f":"IF('B) Eingabe (Lehrer)'!R9=\"\", \"\", 'B) Eingabe (Lehrer)'!R9)","v":"15"},{"$f":"IF('B) Eingabe (Lehrer)'!S9=\"\", \"\", 'B) Eingabe (Lehrer)'!S9)","v":"16"},{"$f":"IF('B) Eingabe (Lehrer)'!T9=\"\", \"\", 'B) Eingabe (Lehrer)'!T9)","v":"17"},{"$f":"IF('B) Eingabe (Lehrer)'!U9=\"\", \"\", 'B) Eingabe (Lehrer)'!U9)","v":"18"},{"$f":"IF('B) Eingabe (Lehrer)'!V9=\"\", \"\", 'B) Eingabe (Lehrer)'!V9)","v":"19"},{"$f":"IF('B) Eingabe (Lehrer)'!W9=\"\", \"\", 'B) Eingabe (Lehrer)'!W9)","v":"20"},{"$f":"IF('B) Eingabe (Lehrer)'!X9=\"\", \"\", 'B) Eingabe (Lehrer)'!X9)","v":"21"},{"$f":"IF('B) Eingabe (Lehrer)'!Y9=\"\", \"\", 'B) Eingabe (Lehrer)'!Y9)","v":"22"},{"$f":"IF('B) Eingabe (Lehrer)'!Z9=\"\", \"\", 'B) Eingabe (Lehrer)'!Z9)","v":"23"},{"$f":"IF('B) Eingabe (Lehrer)'!AA9=\"\", \"\", 'B) Eingabe (Lehrer)'!AA9)","v":"24"},{"$f":"IF('B) Eingabe (Lehrer)'!AB9=\"\", \"\", 'B) Eingabe (Lehrer)'!AB9)","v":"25"},{"$f":"IF('B) Eingabe (Lehrer)'!AC9=\"\", \"\", 'B) Eingabe (Lehrer)'!AC9)","v":"26"},{"$f":"IF('B) Eingabe (Lehrer)'!AD9=\"\", \"\", 'B) Eingabe (Lehrer)'!AD9)","v":"27"},{"$f":"IF('B) Eingabe (Lehrer)'!AE9=\"\", \"\", 'B) Eingabe (Lehrer)'!AE9)","v":"28"},{"$f":"IF('B) Eingabe (Lehrer)'!AF9=\"\", \"\", 'B) Eingabe (Lehrer)'!AF9)","v":"29"},{"$f":"IF('B) Eingabe (Lehrer)'!AG9=\"\", \"\", 'B) Eingabe (Lehrer)'!AG9)","v":"30"},{"$f":"IF('B) Eingabe (Lehrer)'!AH9=\"\", \"\", 'B) Eingabe (Lehrer)'!AH9)","v":"31"},{"$f":"IF('B) Eingabe (Lehrer)'!AI9=\"\", \"\", 'B) Eingabe (Lehrer)'!AI9)","v":"32"},{"$f":"IF('B) Eingabe (Lehrer)'!AJ9=\"\", \"\", 'B) Eingabe (Lehrer)'!AJ9)","v":"33"},{"$f":"IF('B) Eingabe (Lehrer)'!AK9=\"\", \"\", 'B) Eingabe (Lehrer)'!AK9)","v":"34"},{"$f":"IF('B) Eingabe (Lehrer)'!AL9=\"\", \"\", 'B) Eingabe (Lehrer)'!AL9)","v":"35"},{"$f":"IF('B) Eingabe (Lehrer)'!AM9=\"\", \"\", 'B) Eingabe (Lehrer)'!AM9)","v":"36"},{"$f":"IF('B) Eingabe (Lehrer)'!AN9=\"\", \"\", 'B) Eingabe (Lehrer)'!AN9)","v":"37"},{"$f":"IF('B) Eingabe (Lehrer)'!AO9=\"\", \"\", 'B) Eingabe (Lehrer)'!AO9)","v":"38"},{"$f":"IF('B) Eingabe (Lehrer)'!AP9=\"\", \"\", 'B) Eingabe (Lehrer)'!AP9)","v":"39"},{"$f":"IF('B) Eingabe (Lehrer)'!AQ9=\"\", \"\", 'B) Eingabe (Lehrer)'!AQ9)","v":"40"},{"$f":"IF('B) Eingabe (Lehrer)'!AR9=\"\", \"\", 'B) Eingabe (Lehrer)'!AR9)","v":"41"},{"$f":"IF('B) Eingabe (Lehrer)'!AS9=\"\", \"\", 'B) Eingabe (Lehrer)'!AS9)","v":"42"},{"$f":"IF('B) Eingabe (Lehrer)'!AT9=\"\", \"\", 'B) Eingabe (Lehrer)'!AT9)","v":"43"},{"$f":"IF('B) Eingabe (Lehrer)'!AU9=\"\", \"\", 'B) Eingabe (Lehrer)'!AU9)","v":"44"},{"$f":"IF('B) Eingabe (Lehrer)'!AV9=\"\", \"\", 'B) Eingabe (Lehrer)'!AV9)","v":"45"},{"$f":"IF('B) Eingabe (Lehrer)'!AW9=\"\", \"\", 'B) Eingabe (Lehrer)'!AW9)","v":"46"},{"$f":"IF('B) Eingabe (Lehrer)'!AX9=\"\", \"\", 'B) Eingabe (Lehrer)'!AX9)","v":"47"},{"$f":"IF('B) Eingabe (Lehrer)'!AY9=\"\", \"\", 'B) Eingabe (Lehrer)'!AY9)","v":"48"},{"$f":"IF('B) Eingabe (Lehrer)'!AZ9=\"\", \"\", 'B) Eingabe (Lehrer)'!AZ9)","v":"49"},{"$f":"IF('B) Eingabe (Lehrer)'!BA9=\"\", \"\", 'B) Eingabe (Lehrer)'!BA9)","v":"50"},{"$f":"IF('B) Eingabe (Lehrer)'!BB9=\"\", \"\", 'B) Eingabe (Lehrer)'!BB9)","v":"51"},{"$f":"IF('B) Eingabe (Lehrer)'!BC9=\"\", \"\", 'B) Eingabe (Lehrer)'!BC9)","v":"52"},{"$f":"IF('B) Eingabe (Lehrer)'!BD9=\"\", \"\", 'B) Eingabe (Lehrer)'!BD9)","v":"53"},{"$f":"IF('B) Eingabe (Lehrer)'!BE9=\"\", \"\", 'B) Eingabe (Lehrer)'!BE9)","v":"54"},{"$f":"IF('B) Eingabe (Lehrer)'!BF9=\"\", \"\", 'B) Eingabe (Lehrer)'!BF9)","v":"55"},{"$f":"IF('B) Eingabe (Lehrer)'!BG9=\"\", \"\", 'B) Eingabe (Lehrer)'!BG9)","v":"56"},{"$f":"IF('B) Eingabe (Lehrer)'!BH9=\"\", \"\", 'B) Eingabe (Lehrer)'!BH9)","v":"57"},{"$f":"IF('B) Eingabe (Lehrer)'!BI9=\"\", \"\", 'B) Eingabe (Lehrer)'!BI9)","v":"58"},{"$f":"IF('B) Eingabe (Lehrer)'!BJ9=\"\", \"\", 'B) Eingabe (Lehrer)'!BJ9)","v":"59"},{"$f":"IF('B) Eingabe (Lehrer)'!BK9=\"\", \"\", 'B) Eingabe (Lehrer)'!BK9)","v":"60"}]
["Item 1",{"$f":"IF('B) Eingabe (Lehrer)'!C12=\"\", \"\",'B) Eingabe (Lehrer)'!C12)","v":""},{"$f":"IF('B) Eingabe (Lehrer)'!D12=\"\", \"\",'B) Eingabe (Lehrer)'!D12)","v":""},{"$f":"IF('B) Eingabe (Lehrer)'!E12=\"\", \"\",'B) Eingabe (Lehrer)'!E12)","v":""},{"$f":"IF('B) Eingabe (Lehrer)'!F12=\"\", \"\",'B) Eingabe (Lehrer)'!F12)","v":""},{"$f":"IF('B) Eingabe (Lehrer)'!G12=\"\", \"\",'B) Eingabe (Lehrer)'!G12)","v":""},{"$f":"IF('B) Eingabe (Lehrer)'!H12=\"\", \"\",'B) Eingabe (Lehrer)'!H12)","v":""},{"$f":"IF('B) Eingabe (Lehrer)'!I12=\"\", \"\",'B) Eingabe (Lehrer)'!I12)","v":""},{"$f":"IF('B) Eingabe (Lehrer)'!J12=\"\", \"\",'B) Eingabe (Lehrer)'!J12)","v":""},{"$f":"IF('B) Eingabe (Lehrer)'!K12=\"\", \"\",'B) Eingabe (Lehrer)'!K12)","v":""},{"$f":"IF('B) Eingabe (Lehrer)'!L12=\"\", \"\",'B) Eingabe (Lehrer)'!L12)","v":""},{"$f":"IF('B) Eingabe (Lehrer)'!M12=\"\", \"\",'B) Eingabe (Lehrer)'!M12)","v":""},{"$f":"IF('B) Eingabe (Lehrer)'!N12=\"\", \"\",'B) Eingabe (Lehrer)'!N12)","v":""},{"$f":"IF('B) Eingabe (Lehrer)'!O12=\"\", \"\",'B) Eingabe (Lehrer)'!O12)","v":""},{"$f":"IF('B) Eingabe (Lehrer)'!P12=\"\", \"\",'B) Eingabe (Lehrer)'!P12)","v":""},{"$f":"IF('B) Eingabe (Lehrer)'!Q12=\"\", \"\",'B) Eingabe (Lehrer)'!Q12)","v":""},{"$f":"IF('B) Eingabe (Lehrer)'!R12=\"\", \"\",'B) Eingabe (Lehrer)'!R12)","v":""},{"$f":"IF('B) Eingabe (Lehrer)'!S12=\"\", \"\",'B) Eingabe (Lehrer)'!S12)","v":""},{"$f":"IF('B) Eingabe (Lehrer)'!T12=\"\", \"\",'B) Eingabe (Lehrer)'!T12)","v":""},{"$f":"IF('B) Eingabe (Lehrer)'!U12=\"\", \"\",'B) Eingabe (Lehrer)'!U12)","v":""},{"$f":"IF('B) Eingabe (Lehrer)'!V12=\"\", \"\",'B) Eingabe (Lehrer)'!V12)","v":""},{"$f":"IF('B) Eingabe (Lehrer)'!W12=\"\", \"\",'B) Eingabe (Lehrer)'!W12)","v":""},{"$f":"IF('B) Eingabe (Lehrer)'!X12=\"\", \"\",'B) Eingabe (Lehrer)'!X12)","v":""},{"$f":"IF('B) Eingabe (Lehrer)'!Y12=\"\", \"\",'B) Eingabe (Lehrer)'!Y12)","v":""},{"$f":"IF('B) Eingabe (Lehrer)'!Z12=\"\", \"\",'B) Eingabe (Lehrer)'!Z12)","v":""},{"$f":"IF('B) Eingabe (Lehrer)'!AA12=\"\", \"\",'B) Eingabe (Lehrer)'!AA12)","v":""},{"$f":"IF('B) Eingabe (Lehrer)'!AB12=\"\", \"\",'B) Eingabe (Lehrer)'!AB12)","v":""},{"$f":"IF('B) Eingabe (Lehrer)'!AC12=\"\", \"\",'B) Eingabe (Lehrer)'!AC12)","v":""},{"$f":"IF('B) Eingabe (Lehrer)'!AD12=\"\", \"\",'B) Eingabe (Lehrer)'!AD12)","v":""},{"$f":"IF('B) Eingabe (Lehrer)'!AE12=\"\", \"\",'B) Eingabe (Lehrer)'!AE12)","v":""},{"$f":"IF('B) Eingabe (Lehrer)'!AF12=\"\", \"\",'B) Eingabe (Lehrer)'!AF12)","v":""},{"$f":"IF('B) Eingabe (Lehrer)'!AG12=\"\", \"\",'B) Eingabe (Lehrer)'!AG12)","v":""},{"$f":"IF('B) Eingabe (Lehrer)'!AH12=\"\", \"\",'B) Eingabe (Lehrer)'!AH12)","v":""},{"$f":"IF('B) Eingabe (Lehrer)'!AI12=\"\", \"\",'B) Eingabe (Lehrer)'!AI12)","v":""},{"$f":"IF('B) Eingabe (Lehrer)'!AJ12=\"\", \"\",'B) Eingabe (Lehrer)'!AJ12)","v":""},{"$f":"IF('B) Eingabe (Lehrer)'!AK12=\"\", \"\",'B) Eingabe (Lehrer)'!AK12)","v":""},{"$f":"IF('B) Eingabe (Lehrer)'!AL12=\"\", \"\",'B) Eingabe (Lehrer)'!AL12)","v":""},{"$f":"IF('B) Eingabe (Lehrer)'!AM12=\"\", \"\",'B) Eingabe (Lehrer)'!AM12)","v":""},{"$f":"IF('B) Eingabe (Lehrer)'!AN12=\"\", \"\",'B) Eingabe (Lehrer)'!AN12)","v":""},{"$f":"IF('B) Eingabe (Lehrer)'!AO12=\"\", \"\",'B) Eingabe (Lehrer)'!AO12)","v":""},{"$f":"IF('B) Eingabe (Lehrer)'!AP12=\"\", \"\",'B) Eingabe (Lehrer)'!AP12)","v":""},{"$f":"IF('B) Eingabe (Lehrer)'!AQ12=\"\", \"\",'B) Eingabe (Lehrer)'!AQ12)","v":""},{"$f":"IF('B) Eingabe (Lehrer)'!AR12=\"\", \"\",'B) Eingabe (Lehrer)'!AR12)","v":""},{"$f":"IF('B) Eingabe (Lehrer)'!AS12=\"\", \"\",'B) Eingabe (Lehrer)'!AS12)","v":""},{"$f":"IF('B) Eingabe (Lehrer)'!AT12=\"\", \"\",'B) Eingabe (Lehrer)'!AT12)","v":""},{"$f":"IF('B) Eingabe (Lehrer)'!AU12=\"\", \"\",'B) Eingabe (Lehrer)'!AU12)","v":""},{"$f":"IF('B) Eingabe (Lehrer)'!AV12=\"\", \"\",'B) Eingabe (Lehrer)'!AV12)","v":""},{"$f":"IF('B) Eingabe (Lehrer)'!AW12=\"\", \"\",'B) Eingabe (Lehrer)'!AW12)","v":""},{"$f":"IF('B) Eingabe (Lehrer)'!AX12=\"\", \"\",'B) Eingabe (Lehrer)'!AX12)","v":""},{"$f":"IF('B) Eingabe (Lehrer)'!AY12=\"\", \"\",'B) Eingabe (Lehrer)'!AY12)","v":""},{"$f":"IF('B) Eingabe (Lehrer)'!AZ12=\"\", \"\",'B) Eingabe (Lehrer)'!AZ12)","v":""},{"$f":"IF('B) Eingabe (Lehrer)'!BA12=\"\", \"\",'B) Eingabe (Lehrer)'!BA12)","v":""},{"$f":"IF('B) Eingabe (Lehrer)'!BB12=\"\", \"\",'B) Eingabe (Lehrer)'!BB12)","v":""},{"$f":"IF('B) Eingabe (Lehrer)'!BC12=\"\", \"\",'B) Eingabe (Lehrer)'!BC12)","v":""},{"$f":"IF('B) Eingabe (Lehrer)'!BD12=\"\", \"\",'B) Eingabe (Lehrer)'!BD12)","v":""},{"$f":"IF('B) Eingabe (Lehrer)'!BE12=\"\", \"\",'B) Eingabe (Lehrer)'!BE12)","v":""},{"$f":"IF('B) Eingabe (Lehrer)'!BF12=\"\", \"\",'B) Eingabe (Lehrer)'!BF12)","v":""},{"$f":"IF('B) Eingabe (Lehrer)'!BG12=\"\", \"\",'B) Eingabe (Lehrer)'!BG12)","v":""},{"$f":"IF('B) Eingabe (Lehrer)'!BH12=\"\", \"\",'B) Eingabe (Lehrer)'!BH12)","v":""},{"$f":"IF('B) Eingabe (Lehrer)'!BI12=\"\", \"\",'B) Eingabe (Lehrer)'!BI12)","v":""},{"$f":"IF('B) Eingabe (Lehrer)'!BJ12=\"\", \"\",'B) Eingabe (Lehrer)'!BJ12)","v":""},{"$f":"IF('B) Eingabe (Lehrer)'!BK12=\"\", \"\",'B) Eingabe (Lehrer)'!BK12)","v":""}]
["Item 2",{"$f":"IF('B) Eingabe (Lehrer)'!C13=\"\", \"\",'B) Eingabe (Lehrer)'!C13)","v":""},{"$f":"IF('B) Eingabe (Lehrer)'!D13=\"\", \"\",'B) Eingabe (Lehrer)'!D13)","v":""},{"$f":"IF('B) Eingabe (Lehrer)'!E13=\"\", \"\",'B) Eingabe (Lehrer)'!E13)","v":""},{"$f":"IF('B) Eingabe (Lehrer)'!F13=\"\", \"\",'B) Eingabe (Lehrer)'!F13)","v":""},{"$f":"IF('B) Eingabe (Lehrer)'!G13=\"\", \"\",'B) Eingabe (Lehrer)'!G13)","v":""},{"$f":"IF('B) Eingabe (Lehrer)'!H13=\"\", \"\",'B) Eingabe (Lehrer)'!H13)","v":""},{"$f":"IF('B) Eingabe (Lehrer)'!I13=\"\", \"\",'B) Eingabe (Lehrer)'!I13)","v":""},{"$f":"IF('B) Eingabe (Lehrer)'!J13=\"\", \"\",'B) Eingabe (Lehrer)'!J13)","v":""},{"$f":"IF('B) Eingabe (Lehrer)'!K13=\"\", \"\",'B) Eingabe (Lehrer)'!K13)","v":""},{"$f":"IF('B) Eingabe (Lehrer)'!L13=\"\", \"\",'B) Eingabe (Lehrer)'!L13)","v":""},{"$f":"IF('B) Eingabe (Lehrer)'!M13=\"\", \"\",'B) Eingabe (Lehrer)'!M13)","v":""},{"$f":"IF('B) Eingabe (Lehrer)'!N13=\"\", \"\",'B) Eingabe (Lehrer)'!N13)","v":""},{"$f":"IF('B) Eingabe (Lehrer)'!O13=\"\", \"\",'B) Eingabe (Lehrer)'!O13)","v":""},{"$f":"IF('B) Eingabe (Lehrer)'!P13=\"\", \"\",'B) Eingabe (Lehrer)'!P13)","v":""},{"$f":"IF('B) Eingabe (Lehrer)'!Q13=\"\", \"\",'B) Eingabe (Lehrer)'!Q13)","v":""},{"$f":"IF('B) Eingabe (Lehrer)'!R13=\"\", \"\",'B) Eingabe (Lehrer)'!R13)","v":""},{"$f":"IF('B) Eingabe (Lehrer)'!S13=\"\", \"\",'B) Eingabe (Lehrer)'!S13)","v":""},{"$f":"IF('B) Eingabe (Lehrer)'!T13=\"\", \"\",'B) Eingabe (Lehrer)'!T13)","v":""},{"$f":"IF('B) Eingabe (Lehrer)'!U13=\"\", \"\",'B) Eingabe (Lehrer)'!U13)","v":""},{"$f":"IF('B) Eingabe (Lehrer)'!V13=\"\", \"\",'B) Eingabe (Lehrer)'!V13)","v":""},{"$f":"IF('B) Eingabe (Lehrer)'!W13=\"\", \"\",'B) Eingabe (Lehrer)'!W13)","v":""},{"$f":"IF('B) Eingabe (Lehrer)'!X13=\"\", \"\",'B) Eingabe (Lehrer)'!X13)","v":""},{"$f":"IF('B) Eingabe (Lehrer)'!Y13=\"\", \"\",'B) Eingabe (Lehrer)'!Y13)","v":""},{"$f":"IF('B) Eingabe (Lehrer)'!Z13=\"\", \"\",'B) Eingabe (Lehrer)'!Z13)","v":""},{"$f":"IF('B) Eingabe (Lehrer)'!AA13=\"\", \"\",'B) Eingabe (Lehrer)'!AA13)","v":""},{"$f":"IF('B) Eingabe (Lehrer)'!AB13=\"\", \"\",'B) Eingabe (Lehrer)'!AB13)","v":""},{"$f":"IF('B) Eingabe (Lehrer)'!AC13=\"\", \"\",'B) Eingabe (Lehrer)'!AC13)","v":""},{"$f":"IF('B) Eingabe (Lehrer)'!AD13=\"\", \"\",'B) Eingabe (Lehrer)'!AD13)","v":""},{"$f":"IF('B) Eingabe (Lehrer)'!AE13=\"\", \"\",'B) Eingabe (Lehrer)'!AE13)","v":""},{"$f":"IF('B) Eingabe (Lehrer)'!AF13=\"\", \"\",'B) Eingabe (Lehrer)'!AF13)","v":""},{"$f":"IF('B) Eingabe (Lehrer)'!AG13=\"\", \"\",'B) Eingabe (Lehrer)'!AG13)","v":""},{"$f":"IF('B) Eingabe (Lehrer)'!AH13=\"\", \"\",'B) Eingabe (Lehrer)'!AH13)","v":""},{"$f":"IF('B) Eingabe (Lehrer)'!AI13=\"\", \"\",'B) Eingabe (Lehrer)'!AI13)","v":""},{"$f":"IF('B) Eingabe (Lehrer)'!AJ13=\"\", \"\",'B) Eingabe (Lehrer)'!AJ13)","v":""},{"$f":"IF('B) Eingabe (Lehrer)'!AK13=\"\", \"\",'B) Eingabe (Lehrer)'!AK13)","v":""},{"$f":"IF('B) Eingabe (Lehrer)'!AL13=\"\", \"\",'B) Eingabe (Lehrer)'!AL13)","v":""},{"$f":"IF('B) Eingabe (Lehrer)'!AM13=\"\", \"\",'B) Eingabe (Lehrer)'!AM13)","v":""},{"$f":"IF('B) Eingabe (Lehrer)'!AN13=\"\", \"\",'B) Eingabe (Lehrer)'!AN13)","v":""},{"$f":"IF('B) Eingabe (Lehrer)'!AO13=\"\", \"\",'B) Eingabe (Lehrer)'!AO13)","v":""},{"$f":"IF('B) Eingabe (Lehrer)'!AP13=\"\", \"\",'B) Eingabe (Lehrer)'!AP13)","v":""},{"$f":"IF('B) Eingabe (Lehrer)'!AQ13=\"\", \"\",'B) Eingabe (Lehrer)'!AQ13)","v":""},{"$f":"IF('B) Eingabe (Lehrer)'!AR13=\"\", \"\",'B) Eingabe (Lehrer)'!AR13)","v":""},{"$f":"IF('B) Eingabe (Lehrer)'!AS13=\"\", \"\",'B) Eingabe (Lehrer)'!AS13)","v":""},{"$f":"IF('B) Eingabe (Lehrer)'!AT13=\"\", \"\",'B) Eingabe (Lehrer)'!AT13)","v":""},{"$f":"IF('B) Eingabe (Lehrer)'!AU13=\"\", \"\",'B) Eingabe (Lehrer)'!AU13)","v":""},{"$f":"IF('B) Eingabe (Lehrer)'!AV13=\"\", \"\",'B) Eingabe (Lehrer)'!AV13)","v":""},{"$f":"IF('B) Eingabe (Lehrer)'!AW13=\"\", \"\",'B) Eingabe (Lehrer)'!AW13)","v":""},{"$f":"IF('B) Eingabe (Lehrer)'!AX13=\"\", \"\",'B) Eingabe (Lehrer)'!AX13)","v":""},{"$f":"IF('B) Eingabe (Lehrer)'!AY13=\"\", \"\",'B) Eingabe (Lehrer)'!AY13)","v":""},{"$f":"IF('B) Eingabe (Lehrer)'!AZ13=\"\", \"\",'B) Eingabe (Lehrer)'!AZ13)","v":""},{"$f":"IF('B) Eingabe (Lehrer)'!BA13=\"\", \"\",'B) Eingabe (Lehrer)'!BA13)","v":""},{"$f":"IF('B) Eingabe (Lehrer)'!BB13=\"\", \"\",'B) Eingabe (Lehrer)'!BB13)","v":""},{"$f":"IF('B) Eingabe (Lehrer)'!BC13=\"\", \"\",'B) Eingabe (Lehrer)'!BC13)","v":""},{"$f":"IF('B) Eingabe (Lehrer)'!BD13=\"\", \"\",'B) Eingabe (Lehrer)'!BD13)","v":""},{"$f":"IF('B) Eingabe (Lehrer)'!BE13=\"\", \"\",'B) Eingabe (Lehrer)'!BE13)","v":""},{"$f":"IF('B) Eingabe (Lehrer)'!BF13=\"\", \"\",'B) Eingabe (Lehrer)'!BF13)","v":""},{"$f":"IF('B) Eingabe (Lehrer)'!BG13=\"\", \"\",'B) Eingabe (Lehrer)'!BG13)","v":""},{"$f":"IF('B) Eingabe (Lehrer)'!BH13=\"\", \"\",'B) Eingabe (Lehrer)'!BH13)","v":""},{"$f":"IF('B) Eingabe (Lehrer)'!BI13=\"\", \"\",'B) Eingabe (Lehrer)'!BI13)","v":""},{"$f":"IF('B) Eingabe (Lehrer)'!BJ13=\"\", \"\",'B) Eingabe (Lehrer)'!BJ13)","v":""},{"$f":"IF('B) Eingabe (Lehrer)'!BK13=\"\", \"\",'B) Eingabe (Lehrer)'!BK13)","v":""}]
["Item 3",{"$f":"IF('B) Eingabe (Lehrer)'!C14=\"\", \"\",'B) Eingabe (Lehrer)'!C14)","v":""},{"$f":"IF('B) Eingabe (Lehrer)'!D14=\"\", \"\",'B) Eingabe (Lehrer)'!D14)","v":""},{"$f":"IF('B) Eingabe (Lehrer)'!E14=\"\", \"\",'B) Eingabe (Lehrer)'!E14)","v":""},{"$f":"IF('B) Eingabe (Lehrer)'!F14=\"\", \"\",'B) Eingabe (Lehrer)'!F14)","v":""},{"$f":"IF('B) Eingabe (Lehrer)'!G14=\"\", \"\",'B) Eingabe (Lehrer)'!G14)","v":""},{"$f":"IF('B) Eingabe (Lehrer)'!H14=\"\", \"\",'B) Eingabe (Lehrer)'!H14)","v":""},{"$f":"IF('B) Eingabe (Lehrer)'!I14=\"\", \"\",'B) Eingabe (Lehrer)'!I14)","v":""},{"$f":"IF('B) Eingabe (Lehrer)'!J14=\"\", \"\",'B) Eingabe (Lehrer)'!J14)","v":""},{"$f":"IF('B) Eingabe (Lehrer)'!K14=\"\", \"\",'B) Eingabe (Lehrer)'!K14)","v":""},{"$f":"IF('B) Eingabe (Lehrer)'!L14=\"\", \"\",'B) Eingabe (Lehrer)'!L14)","v":""},{"$f":"IF('B) Eingabe (Lehrer)'!M14=\"\", \"\",'B) Eingabe (Lehrer)'!M14)","v":""},{"$f":"IF('B) Eingabe (Lehrer)'!N14=\"\", \"\",'B) Eingabe (Lehrer)'!N14)","v":""},{"$f":"IF('B) Eingabe (Lehrer)'!O14=\"\", \"\",'B) Eingabe (Lehrer)'!O14)","v":""},{"$f":"IF('B) Eingabe (Lehrer)'!P14=\"\", \"\",'B) Eingabe (Lehrer)'!P14)","v":""},{"$f":"IF('B) Eingabe (Lehrer)'!Q14=\"\", \"\",'B) Eingabe (Lehrer)'!Q14)","v":""},{"$f":"IF('B) Eingabe (Lehrer)'!R14=\"\", \"\",'B) Eingabe (Lehrer)'!R14)","v":""},{"$f":"IF('B) Eingabe (Lehrer)'!S14=\"\", \"\",'B) Eingabe (Lehrer)'!S14)","v":""},{"$f":"IF('B) Eingabe (Lehrer)'!T14=\"\", \"\",'B) Eingabe (Lehrer)'!T14)","v":""},{"$f":"IF('B) Eingabe (Lehrer)'!U14=\"\", \"\",'B) Eingabe (Lehrer)'!U14)","v":""},{"$f":"IF('B) Eingabe (Lehrer)'!V14=\"\", \"\",'B) Eingabe (Lehrer)'!V14)","v":""},{"$f":"IF('B) Eingabe (Lehrer)'!W14=\"\", \"\",'B) Eingabe (Lehrer)'!W14)","v":""},{"$f":"IF('B) Eingabe (Lehrer)'!X14=\"\", \"\",'B) Eingabe (Lehrer)'!X14)","v":""},{"$f":"IF('B) Eingabe (Lehrer)'!Y14=\"\", \"\",'B) Eingabe (Lehrer)'!Y14)","v":""},{"$f":"IF('B) Eingabe (Lehrer)'!Z14=\"\", \"\",'B) Eingabe (Lehrer)'!Z14)","v":""},{"$f":"IF('B) Eingabe (Lehrer)'!AA14=\"\", \"\",'B) Eingabe (Lehrer)'!AA14)","v":""},{"$f":"IF('B) Eingabe (Lehrer)'!AB14=\"\", \"\",'B) Eingabe (Lehrer)'!AB14)","v":""},{"$f":"IF('B) Eingabe (Lehrer)'!AC14=\"\", \"\",'B) Eingabe (Lehrer)'!AC14)","v":""},{"$f":"IF('B) Eingabe (Lehrer)'!AD14=\"\", \"\",'B) Eingabe (Lehrer)'!AD14)","v":""},{"$f":"IF('B) Eingabe (Lehrer)'!AE14=\"\", \"\",'B) Eingabe (Lehrer)'!AE14)","v":""},{"$f":"IF('B) Eingabe (Lehrer)'!AF14=\"\", \"\",'B) Eingabe (Lehrer)'!AF14)","v":""},{"$f":"IF('B) Eingabe (Lehrer)'!AG14=\"\", \"\",'B) Eingabe (Lehrer)'!AG14)","v":""},{"$f":"IF('B) Eingabe (Lehrer)'!AH14=\"\", \"\",'B) Eingabe (Lehrer)'!AH14)","v":""},{"$f":"IF('B) Eingabe (Lehrer)'!AI14=\"\", \"\",'B) Eingabe (Lehrer)'!AI14)","v":""},{"$f":"IF('B) Eingabe (Lehrer)'!AJ14=\"\", \"\",'B) Eingabe (Lehrer)'!AJ14)","v":""},{"$f":"IF('B) Eingabe (Lehrer)'!AK14=\"\", \"\",'B) Eingabe (Lehrer)'!AK14)","v":""},{"$f":"IF('B) Eingabe (Lehrer)'!AL14=\"\", \"\",'B) Eingabe (Lehrer)'!AL14)","v":""},{"$f":"IF('B) Eingabe (Lehrer)'!AM14=\"\", \"\",'B) Eingabe (Lehrer)'!AM14)","v":""},{"$f":"IF('B) Eingabe (Lehrer)'!AN14=\"\", \"\",'B) Eingabe (Lehrer)'!AN14)","v":""},{"$f":"IF('B) Eingabe (Lehrer)'!AO14=\"\", \"\",'B) Eingabe (Lehrer)'!AO14)","v":""},{"$f":"IF('B) Eingabe (Lehrer)'!AP14=\"\", \"\",'B) Eingabe (Lehrer)'!AP14)","v":""},{"$f":"IF('B) Eingabe (Lehrer)'!AQ14=\"\", \"\",'B) Eingabe (Lehrer)'!AQ14)","v":""},{"$f":"IF('B) Eingabe (Lehrer)'!AR14=\"\", \"\",'B) Eingabe (Lehrer)'!AR14)","v":""},{"$f":"IF('B) Eingabe (Lehrer)'!AS14=\"\", \"\",'B) Eingabe (Lehrer)'!AS14)","v":""},{"$f":"IF('B) Eingabe (Lehrer)'!AT14=\"\", \"\",'B) Eingabe (Lehrer)'!AT14)","v":""},{"$f":"IF('B) Eingabe (Lehrer)'!AU14=\"\", \"\",'B) Eingabe (Lehrer)'!AU14)","v":""},{"$f":"IF('B) Eingabe (Lehrer)'!AV14=\"\", \"\",'B) Eingabe (Lehrer)'!AV14)","v":""},{"$f":"IF('B) Eingabe (Lehrer)'!AW14=\"\", \"\",'B) Eingabe (Lehrer)'!AW14)","v":""},{"$f":"IF('B) Eingabe (Lehrer)'!AX14=\"\", \"\",'B) Eingabe (Lehrer)'!AX14)","v":""},{"$f":"IF('B) Eingabe (Lehrer)'!AY14=\"\", \"\",'B) Eingabe (Lehrer)'!AY14)","v":""},{"$f":"IF('B) Eingabe (Lehrer)'!AZ14=\"\", \"\",'B) Eingabe (Lehrer)'!AZ14)","v":""},{"$f":"IF('B) Eingabe (Lehrer)'!BA14=\"\", \"\",'B) Eingabe (Lehrer)'!BA14)","v":""},{"$f":"IF('B) Eingabe (Lehrer)'!BB14=\"\", \"\",'B) Eingabe (Lehrer)'!BB14)","v":""},{"$f":"IF('B) Eingabe (Lehrer)'!BC14=\"\", \"\",'B) Eingabe (Lehrer)'!BC14)","v":""},{"$f":"IF('B) Eingabe (Lehrer)'!BD14=\"\", \"\",'B) Eingabe (Lehrer)'!BD14)","v":""},{"$f":"IF('B) Eingabe (Lehrer)'!BE14=\"\", \"\",'B) Eingabe (Lehrer)'!BE14)","v":""},{"$f":"IF('B) Eingabe (Lehrer)'!BF14=\"\", \"\",'B) Eingabe (Lehrer)'!BF14)","v":""},{"$f":"IF('B) Eingabe (Lehrer)'!BG14=\"\", \"\",'B) Eingabe (Lehrer)'!BG14)","v":""},{"$f":"IF('B) Eingabe (Lehrer)'!BH14=\"\", \"\",'B) Eingabe (Lehrer)'!BH14)","v":""},{"$f":"IF('B) Eingabe (Lehrer)'!BI14=\"\", \"\",'B) Eingabe (Lehrer)'!BI14)","v":""},{"$f":"IF('B) Eingabe (Lehrer)'!BJ14=\"\", \"\",'B) Eingabe (Lehrer)'!BJ14)","v":""},{"$f":"IF('B) Eingabe (Lehrer)'!BK14=\"\", \"\",'B) Eingabe (Lehrer)'!BK14)","v":""}]
["Item 4",{"$f":"IF('B) Eingabe (Lehrer)'!C15=\"\", \"\",'B) Eingabe (Lehrer)'!C15)","v":""},{"$f":"IF('B) Eingabe (Lehrer)'!D15=\"\", \"\",'B) Eingabe (Lehrer)'!D15)","v":""},{"$f":"IF('B) Eingabe (Lehrer)'!E15=\"\", \"\",'B) Eingabe (Lehrer)'!E15)","v":""},{"$f":"IF('B) Eingabe (Lehrer)'!F15=\"\", \"\",'B) Eingabe (Lehrer)'!F15)","v":""},{"$f":"IF('B) Eingabe (Lehrer)'!G15=\"\", \"\",'B) Eingabe (Lehrer)'!G15)","v":""},{"$f":"IF('B) Eingabe (Lehrer)'!H15=\"\", \"\",'B) Eingabe (Lehrer)'!H15)","v":""},{"$f":"IF('B) Eingabe (Lehrer)'!I15=\"\", \"\",'B) Eingabe (Lehrer)'!I15)","v":""},{"$f":"IF('B) Eingabe (Lehrer)'!J15=\"\", \"\",'B) Eingabe (Lehrer)'!J15)","v":""},{"$f":"IF('B) Eingabe (Lehrer)'!K15=\"\", \"\",'B) Eingabe (Lehrer)'!K15)","v":""},{"$f":"IF('B) Eingabe (Lehrer)'!L15=\"\", \"\",'B) Eingabe (Lehrer)'!L15)","v":""},{"$f":"IF('B) Eingabe (Lehrer)'!M15=\"\", \"\",'B) Eingabe (Lehrer)'!M15)","v":""},{"$f":"IF('B) Eingabe (Lehrer)'!N15=\"\", \"\",'B) Eingabe (Lehrer)'!N15)","v":""},{"$f":"IF('B) Eingabe (Lehrer)'!O15=\"\", \"\",'B) Eingabe (Lehrer)'!O15)","v":""},{"$f":"IF('B) Eingabe (Lehrer)'!P15=\"\", \"\",'B) Eingabe (Lehrer)'!P15)","v":""},{"$f":"IF('B) Eingabe (Lehrer)'!Q15=\"\", \"\",'B) Eingabe (Lehrer)'!Q15)","v":""},{"$f":"IF('B) Eingabe (Lehrer)'!R15=\"\", \"\",'B) Eingabe (Lehrer)'!R15)","v":""},{"$f":"IF('B) Eingabe (Lehrer)'!S15=\"\", \"\",'B) Eingabe (Lehrer)'!S15)","v":""},{"$f":"IF('B) Eingabe (Lehrer)'!T15=\"\", \"\",'B) Eingabe (Lehrer)'!T15)","v":""},{"$f":"IF('B) Eingabe (Lehrer)'!U15=\"\", \"\",'B) Eingabe (Lehrer)'!U15)","v":""},{"$f":"IF('B) Eingabe (Lehrer)'!V15=\"\", \"\",'B) Eingabe (Lehrer)'!V15)","v":""},{"$f":"IF('B) Eingabe (Lehrer)'!W15=\"\", \"\",'B) Eingabe (Lehrer)'!W15)","v":""},{"$f":"IF('B) Eingabe (Lehrer)'!X15=\"\", \"\",'B) Eingabe (Lehrer)'!X15)","v":""},{"$f":"IF('B) Eingabe (Lehrer)'!Y15=\"\", \"\",'B) Eingabe (Lehrer)'!Y15)","v":""},{"$f":"IF('B) Eingabe (Lehrer)'!Z15=\"\", \"\",'B) Eingabe (Lehrer)'!Z15)","v":""},{"$f":"IF('B) Eingabe (Lehrer)'!AA15=\"\", \"\",'B) Eingabe (Lehrer)'!AA15)","v":""},{"$f":"IF('B) Eingabe (Lehrer)'!AB15=\"\", \"\",'B) Eingabe (Lehrer)'!AB15)","v":""},{"$f":"IF('B) Eingabe (Lehrer)'!AC15=\"\", \"\",'B) Eingabe (Lehrer)'!AC15)","v":""},{"$f":"IF('B) Eingabe (Lehrer)'!AD15=\"\", \"\",'B) Eingabe (Lehrer)'!AD15)","v":""},{"$f":"IF('B) Eingabe (Lehrer)'!AE15=\"\", \"\",'B) Eingabe (Lehrer)'!AE15)","v":""},{"$f":"IF('B) Eingabe (Lehrer)'!AF15=\"\", \"\",'B) Eingabe (Lehrer)'!AF15)","v":""},{"$f":"IF('B) Eingabe (Lehrer)'!AG15=\"\", \"\",'B) Eingabe (Lehrer)'!AG15)","v":""},{"$f":"IF('B) Eingabe (Lehrer)'!AH15=\"\", \"\",'B) Eingabe (Lehrer)'!AH15)","v":""},{"$f":"IF('B) Eingabe (Lehrer)'!AI15=\"\", \"\",'B) Eingabe (Lehrer)'!AI15)","v":""},{"$f":"IF('B) Eingabe (Lehrer)'!AJ15=\"\", \"\",'B) Eingabe (Lehrer)'!AJ15)","v":""},{"$f":"IF('B) Eingabe (Lehrer)'!AK15=\"\", \"\",'B) Eingabe (Lehrer)'!AK15)","v":""},{"$f":"IF('B) Eingabe (Lehrer)'!AL15=\"\", \"\",'B) Eingabe (Lehrer)'!AL15)","v":""},{"$f":"IF('B) Eingabe (Lehrer)'!AM15=\"\", \"\",'B) Eingabe (Lehrer)'!AM15)","v":""},{"$f":"IF('B) Eingabe (Lehrer)'!AN15=\"\", \"\",'B) Eingabe (Lehrer)'!AN15)","v":""},{"$f":"IF('B) Eingabe (Lehrer)'!AO15=\"\", \"\",'B) Eingabe (Lehrer)'!AO15)","v":""},{"$f":"IF('B) Eingabe (Lehrer)'!AP15=\"\", \"\",'B) Eingabe (Lehrer)'!AP15)","v":""},{"$f":"IF('B) Eingabe (Lehrer)'!AQ15=\"\", \"\",'B) Eingabe (Lehrer)'!AQ15)","v":""},{"$f":"IF('B) Eingabe (Lehrer)'!AR15=\"\", \"\",'B) Eingabe (Lehrer)'!AR15)","v":""},{"$f":"IF('B) Eingabe (Lehrer)'!AS15=\"\", \"\",'B) Eingabe (Lehrer)'!AS15)","v":""},{"$f":"IF('B) Eingabe (Lehrer)'!AT15=\"\", \"\",'B) Eingabe (Lehrer)'!AT15)","v":""},{"$f":"IF('B) Eingabe (Lehrer)'!AU15=\"\", \"\",'B) Eingabe (Lehrer)'!AU15)","v":""},{"$f":"IF('B) Eingabe (Lehrer)'!AV15=\"\", \"\",'B) Eingabe (Lehrer)'!AV15)","v":""},{"$f":"IF('B) Eingabe (Lehrer)'!AW15=\"\", \"\",'B) Eingabe (Lehrer)'!AW15)","v":""},{"$f":"IF('B) Eingabe (Lehrer)'!AX15=\"\", \"\",'B) Eingabe (Lehrer)'!AX15)","v":""},{"$f":"IF('B) Eingabe (Lehrer)'!AY15=\"\", \"\",'B) Eingabe (Lehrer)'!AY15)","v":""},{"$f":"IF('B) Eingabe (Lehrer)'!AZ15=\"\", \"\",'B) Eingabe (Lehrer)'!AZ15)","v":""},{"$f":"IF('B) Eingabe (Lehrer)'!BA15=\"\", \"\",'B) Eingabe (Lehrer)'!BA15)","v":""},{"$f":"IF('B) Eingabe (Lehrer)'!BB15=\"\", \"\",'B) Eingabe (Lehrer)'!BB15)","v":""},{"$f":"IF('B) Eingabe (Lehrer)'!BC15=\"\", \"\",'B) Eingabe (Lehrer)'!BC15)","v":""},{"$f":"IF('B) Eingabe (Lehrer)'!BD15=\"\", \"\",'B) Eingabe (Lehrer)'!BD15)","v":""},{"$f":"IF('B) Eingabe (Lehrer)'!BE15=\"\", \"\",'B) Eingabe (Lehrer)'!BE15)","v":""},{"$f":"IF('B) Eingabe (Lehrer)'!BF15=\"\", \"\",'B) Eingabe (Lehrer)'!BF15)","v":""},{"$f":"IF('B) Eingabe (Lehrer)'!BG15=\"\", \"\",'B) Eingabe (Lehrer)'!BG15)","v":""},{"$f":"IF('B) Eingabe (Lehrer)'!BH15=\"\", \"\",'B) Eingabe (Lehrer)'!BH15)","v":""},{"$f":"IF('B) Eingabe (Lehrer)'!BI15=\"\", \"\",'B) Eingabe (Lehrer)'!BI15)","v":""},{"$f":"IF('B) Eingabe (Lehrer)'!BJ15=\"\", \"\",'B) Eingabe (Lehrer)'!BJ15)","v":""},{"$f":"IF('B) Eingabe (Lehrer)'!BK15=\"\", \"\",'B) Eingabe (Lehrer)'!BK15)","v":""}]
["Item 5",{"$f":"IF('B) Eingabe (Lehrer)'!C16=\"\", \"\",'B) Eingabe (Lehrer)'!C16)","v":""},{"$f":"IF('B) Eingabe (Lehrer)'!D16=\"\", \"\",'B) Eingabe (Lehrer)'!D16)","v":""},{"$f":"IF('B) Eingabe (Lehrer)'!E16=\"\", \"\",'B) Eingabe (Lehrer)'!E16)","v":""},{"$f":"IF('B) Eingabe (Lehrer)'!F16=\"\", \"\",'B) Eingabe (Lehrer)'!F16)","v":""},{"$f":"IF('B) Eingabe (Lehrer)'!G16=\"\", \"\",'B) Eingabe (Lehrer)'!G16)","v":""},{"$f":"IF('B) Eingabe (Lehrer)'!H16=\"\", \"\",'B) Eingabe (Lehrer)'!H16)","v":""},{"$f":"IF('B) Eingabe (Lehrer)'!I16=\"\", \"\",'B) Eingabe (Lehrer)'!I16)","v":""},{"$f":"IF('B) Eingabe (Lehrer)'!J16=\"\", \"\",'B) Eingabe (Lehrer)'!J16)","v":""},{"$f":"IF('B) Eingabe (Lehrer)'!K16=\"\", \"\",'B) Eingabe (Lehrer)'!K16)","v":""},{"$f":"IF('B) Eingabe (Lehrer)'!L16=\"\", \"\",'B) Eingabe (Lehrer)'!L16)","v":""},{"$f":"IF('B) Eingabe (Lehrer)'!M16=\"\", \"\",'B) Eingabe (Lehrer)'!M16)","v":""},{"$f":"IF('B) Eingabe (Lehrer)'!N16=\"\", \"\",'B) Eingabe (Lehrer)'!N16)","v":""},{"$f":"IF('B) Eingabe (Lehrer)'!O16=\"\", \"\",'B) Eingabe (Lehrer)'!O16)","v":""},{"$f":"IF('B) Eingabe (Lehrer)'!P16=\"\", \"\",'B) Eingabe (Lehrer)'!P16)","v":""},{"$f":"IF('B) Eingabe (Lehrer)'!Q16=\"\", \"\",'B) Eingabe (Lehrer)'!Q16)","v":""},{"$f":"IF('B) Eingabe (Lehrer)'!R16=\"\", \"\",'B) Eingabe (Lehrer)'!R16)","v":""},{"$f":"IF('B) Eingabe (Lehrer)'!S16=\"\", \"\",'B) Eingabe (Lehrer)'!S16)","v":""},{"$f":"IF('B) Eingabe (Lehrer)'!T16=\"\", \"\",'B) Eingabe (Lehrer)'!T16)","v":""},{"$f":"IF('B) Eingabe (Lehrer)'!U16=\"\", \"\",'B) Eingabe (Lehrer)'!U16)","v":""},{"$f":"IF('B) Eingabe (Lehrer)'!V16=\"\", \"\",'B) Eingabe (Lehrer)'!V16)","v":""},{"$f":"IF('B) Eingabe (Lehrer)'!W16=\"\", \"\",'B) Eingabe (Lehrer)'!W16)","v":""},{"$f":"IF('B) Eingabe (Lehrer)'!X16=\"\", \"\",'B) Eingabe (Lehrer)'!X16)","v":""},{"$f":"IF('B) Eingabe (Lehrer)'!Y16=\"\", \"\",'B) Eingabe (Lehrer)'!Y16)","v":""},{"$f":"IF('B) Eingabe (Lehrer)'!Z16=\"\", \"\",'B) Eingabe (Lehrer)'!Z16)","v":""},{"$f":"IF('B) Eingabe (Lehrer)'!AA16=\"\", \"\",'B) Eingabe (Lehrer)'!AA16)","v":""},{"$f":"IF('B) Eingabe (Lehrer)'!AB16=\"\", \"\",'B) Eingabe (Lehrer)'!AB16)","v":""},{"$f":"IF('B) Eingabe (Lehrer)'!AC16=\"\", \"\",'B) Eingabe (Lehrer)'!AC16)","v":""},{"$f":"IF('B) Eingabe (Lehrer)'!AD16=\"\", \"\",'B) Eingabe (Lehrer)'!AD16)","v":""},{"$f":"IF('B) Eingabe (Lehrer)'!AE16=\"\", \"\",'B) Eingabe (Lehrer)'!AE16)","v":""},{"$f":"IF('B) Eingabe (Lehrer)'!AF16=\"\", \"\",'B) Eingabe (Lehrer)'!AF16)","v":""},{"$f":"IF('B) Eingabe (Lehrer)'!AG16=\"\", \"\",'B) Eingabe (Lehrer)'!AG16)","v":""},{"$f":"IF('B) Eingabe (Lehrer)'!AH16=\"\", \"\",'B) Eingabe (Lehrer)'!AH16)","v":""},{"$f":"IF('B) Eingabe (Lehrer)'!AI16=\"\", \"\",'B) Eingabe (Lehrer)'!AI16)","v":""},{"$f":"IF('B) Eingabe (Lehrer)'!AJ16=\"\", \"\",'B) Eingabe (Lehrer)'!AJ16)","v":""},{"$f":"IF('B) Eingabe (Lehrer)'!AK16=\"\", \"\",'B) Eingabe (Lehrer)'!AK16)","v":""},{"$f":"IF('B) Eingabe (Lehrer)'!AL16=\"\", \"\",'B) Eingabe (Lehrer)'!AL16)","v":""},{"$f":"IF('B) Eingabe (Lehrer)'!AM16=\"\", \"\",'B) Eingabe (Lehrer)'!AM16)","v":""},{"$f":"IF('B) Eingabe (Lehrer)'!AN16=\"\", \"\",'B) Eingabe (Lehrer)'!AN16)","v":""},{"$f":"IF('B) Eingabe (Lehrer)'!AO16=\"\", \"\",'B) Eingabe (Lehrer)'!AO16)","v":""},{"$f":"IF('B) Eingabe (Lehrer)'!AP16=\"\", \"\",'B) Eingabe (Lehrer)'!AP16)","v":""},{"$f":"IF('B) Eingabe (Lehrer)'!AQ16=\"\", \"\",'B) Eingabe (Lehrer)'!AQ16)","v":""},{"$f":"IF('B) Eingabe (Lehrer)'!AR16=\"\", \"\",'B) Eingabe (Lehrer)'!AR16)","v":""},{"$f":"IF('B) Eingabe (Lehrer)'!AS16=\"\", \"\",'B) Eingabe (Lehrer)'!AS16)","v":""},{"$f":"IF('B) Eingabe (Lehrer)'!AT16=\"\", \"\",'B) Eingabe (Lehrer)'!AT16)","v":""},{"$f":"IF('B) Eingabe (Lehrer)'!AU16=\"\", \"\",'B) Eingabe (Lehrer)'!AU16)","v":""},{"$f":"IF('B) Eingabe (Lehrer)'!AV16=\"\", \"\",'B) Eingabe (Lehrer)'!AV16)","v":""},{"$f":"IF('B) Eingabe (Lehrer)'!AW16=\"\", \"\",'B) Eingabe (Lehrer)'!AW16)","v":""},{"$f":"IF('B) Eingabe (Lehrer)'!AX16=\"\", \"\",'B) Eingabe (Lehrer)'!AX16)","v":""},{"$f":"IF('B) Eingabe (Lehrer)'!AY16=\"\", \"\",'B) Eingabe (Lehrer)'!AY16)","v":""},{"$f":"IF('B) Eingabe (Lehrer)'!AZ16=\"\", \"\",'B) Eingabe (Lehrer)'!AZ16)","v":""},{"$f":"IF('B) Eingabe (Lehrer)'!BA16=\"\", \"\",'B) Eingabe (Lehrer)'!BA16)","v":""},{"$f":"IF('B) Eingabe (Lehrer)'!BB16=\"\", \"\",'B) Eingabe (Lehrer)'!BB16)","v":""},{"$f":"IF('B) Eingabe (Lehrer)'!BC16=\"\", \"\",'B) Eingabe (Lehrer)'!BC16)","v":""},{"$f":"IF('B) Eingabe (Lehrer)'!BD16=\"\", \"\",'B) Eingabe (Lehrer)'!BD16)","v":""},{"$f":"IF('B) Eingabe (Lehrer)'!BE16=\"\", \"\",'B) Eingabe (Lehrer)'!BE16)","v":""},{"$f":"IF('B) Eingabe (Lehrer)'!BF16=\"\", \"\",'B) Eingabe (Lehrer)'!BF16)","v":""},{"$f":"IF('B) Eingabe (Lehrer)'!BG16=\"\", \"\",'B) Eingabe (Lehrer)'!BG16)","v":""},{"$f":"IF('B) Eingabe (Lehrer)'!BH16=\"\", \"\",'B) Eingabe (Lehrer)'!BH16)","v":""},{"$f":"IF('B) Eingabe (Lehrer)'!BI16=\"\", \"\",'B) Eingabe (Lehrer)'!BI16)","v":""},{"$f":"IF('B) Eingabe (Lehrer)'!BJ16=\"\", \"\",'B) Eingabe (Lehrer)'!BJ16)","v":""},{"$f":"IF('B) Eingabe (Lehrer)'!BK16=\"\", \"\",'B) Eingabe (Lehrer)'!BK16)","v":""}]
["Item 6",{"$f":"IF('B) Eingabe (Lehrer)'!C18=\"\", \"\",'B) Eingabe (Lehrer)'!C18)","v":""},{"$f":"IF('B) Eingabe (Lehrer)'!D18=\"\", \"\",'B) Eingabe (Lehrer)'!D18)","v":""},{"$f":"IF('B) Eingabe (Lehrer)'!E18=\"\", \"\",'B) Eingabe (Lehrer)'!E18)","v":""},{"$f":"IF('B) Eingabe (Lehrer)'!F18=\"\", \"\",'B) Eingabe (Lehrer)'!F18)","v":""},{"$f":"IF('B) Eingabe (Lehrer)'!G18=\"\", \"\",'B) Eingabe (Lehrer)'!G18)","v":""},{"$f":"IF('B) Eingabe (Lehrer)'!H18=\"\", \"\",'B) Eingabe (Lehrer)'!H18)","v":""},{"$f":"IF('B) Eingabe (Lehrer)'!I18=\"\", \"\",'B) Eingabe (Lehrer)'!I18)","v":""},{"$f":"IF('B) Eingabe (Lehrer)'!J18=\"\", \"\",'B) Eingabe (Lehrer)'!J18)","v":""},{"$f":"IF('B) Eingabe (Lehrer)'!K18=\"\", \"\",'B) Eingabe (Lehrer)'!K18)","v":""},{"$f":"IF('B) Eingabe (Lehrer)'!L18=\"\", \"\",'B) Eingabe (Lehrer)'!L18)","v":""},{"$f":"IF('B) Eingabe (Lehrer)'!M18=\"\", \"\",'B) Eingabe (Lehrer)'!M18)","v":""},{"$f":"IF('B) Eingabe (Lehrer)'!N18=\"\", \"\",'B) Eingabe (Lehrer)'!N18)","v":""},{"$f":"IF('B) Eingabe (Lehrer)'!O18=\"\", \"\",'B) Eingabe (Lehrer)'!O18)","v":""},{"$f":"IF('B) Eingabe (Lehrer)'!P18=\"\", \"\",'B) Eingabe (Lehrer)'!P18)","v":""},{"$f":"IF('B) Eingabe (Lehrer)'!Q18=\"\", \"\",'B) Eingabe (Lehrer)'!Q18)","v":""},{"$f":"IF('B) Eingabe (Lehrer)'!R18=\"\", \"\",'B) Eingabe (Lehrer)'!R18)","v":""},{"$f":"IF('B) Eingabe (Lehrer)'!S18=\"\", \"\",'B) Eingabe (Lehrer)'!S18)","v":""},{"$f":"IF('B) Eingabe (Lehrer)'!T18=\"\", \"\",'B) Eingabe (Lehrer)'!T18)","v":""},{"$f":"IF('B) Eingabe (Lehrer)'!U18=\"\", \"\",'B) Eingabe (Lehrer)'!U18)","v":""},{"$f":"IF('B) Eingabe (Lehrer)'!V18=\"\", \"\",'B) Eingabe (Lehrer)'!V18)","v":""},{"$f":"IF('B) Eingabe (Lehrer)'!W18=\"\", \"\",'B) Eingabe (Lehrer)'!W18)","v":""},{"$f":"IF('B) Eingabe (Lehrer)'!X18=\"\", \"\",'B) Eingabe (Lehrer)'!X18)","v":""},{"$f":"IF('B) Eingabe (Lehrer)'!Y18=\"\", \"\",'B) Eingabe (Lehrer)'!Y18)","v":""},{"$f":"IF('B) Eingabe (Lehrer)'!Z18=\"\", \"\",'B) Eingabe (Lehrer)'!Z18)","v":""},{"$f":"IF('B) Eingabe (Lehrer)'!AA18=\"\", \"\",'B) Eingabe (Lehrer)'!AA18)","v":""},{"$f":"IF('B) Eingabe (Lehrer)'!AB18=\"\", \"\",'B) Eingabe (Lehrer)'!AB18)","v":""},{"$f":"IF('B) Eingabe (Lehrer)'!AC18=\"\", \"\",'B) Eingabe (Lehrer)'!AC18)","v":""},{"$f":"IF('B) Eingabe (Lehrer)'!AD18=\"\", \"\",'B) Eingabe (Lehrer)'!AD18)","v":""},{"$f":"IF('B) Eingabe (Lehrer)'!AE18=\"\", \"\",'B) Eingabe (Lehrer)'!AE18)","v":""},{"$f":"IF('B) Eingabe (Lehrer)'!AF18=\"\", \"\",'B) Eingabe (Lehrer)'!AF18)","v":""},{"$f":"IF('B) Eingabe (Lehrer)'!AG18=\"\", \"\",'B) Eingabe (Lehrer)'!AG18)","v":""},{"$f":"IF('B) Eingabe (Lehrer)'!AH18=\"\", \"\",'B) Eingabe (Lehrer)'!AH18)","v":""},{"$f":"IF('B) Eingabe (Lehrer)'!AI18=\"\", \"\",'B) Eingabe (Lehrer)'!AI18)","v":""},{"$f":"IF('B) Eingabe (Lehrer)'!AJ18=\"\", \"\",'B) Eingabe (Lehrer)'!AJ18)","v":""},{"$f":"IF('B) Eingabe (Lehrer)'!AK18=\"\", \"\",'B) Eingabe (Lehrer)'!AK18)","v":""},{"$f":"IF('B) Eingabe (Lehrer)'!AL18=\"\", \"\",'B) Eingabe (Lehrer)'!AL18)","v":""},{"$f":"IF('B) Eingabe (Lehrer)'!AM18=\"\", \"\",'B) Eingabe (Lehrer)'!AM18)","v":""},{"$f":"IF('B) Eingabe (Lehrer)'!AN18=\"\", \"\",'B) Eingabe (Lehrer)'!AN18)","v":""},{"$f":"IF('B) Eingabe (Lehrer)'!AO18=\"\", \"\",'B) Eingabe (Lehrer)'!AO18)","v":""},{"$f":"IF('B) Eingabe (Lehrer)'!AP18=\"\", \"\",'B) Eingabe (Lehrer)'!AP18)","v":""},{"$f":"IF('B) Eingabe (Lehrer)'!AQ18=\"\", \"\",'B) Eingabe (Lehrer)'!AQ18)","v":""},{"$f":"IF('B) Eingabe (Lehrer)'!AR18=\"\", \"\",'B) Eingabe (Lehrer)'!AR18)","v":""},{"$f":"IF('B) Eingabe (Lehrer)'!AS18=\"\", \"\",'B) Eingabe (Lehrer)'!AS18)","v":""},{"$f":"IF('B) Eingabe (Lehrer)'!AT18=\"\", \"\",'B) Eingabe (Lehrer)'!AT18)","v":""},{"$f":"IF('B) Eingabe (Lehrer)'!AU18=\"\", \"\",'B) Eingabe (Lehrer)'!AU18)","v":""},{"$f":"IF('B) Eingabe (Lehrer)'!AV18=\"\", \"\",'B) Eingabe (Lehrer)'!AV18)","v":""},{"$f":"IF('B) Eingabe (Lehrer)'!AW18=\"\", \"\",'B) Eingabe (Lehrer)'!AW18)","v":""},{"$f":"IF('B) Eingabe (Lehrer)'!AX18=\"\", \"\",'B) Eingabe (Lehrer)'!AX18)","v":""},{"$f":"IF('B) Eingabe (Lehrer)'!AY18=\"\", \"\",'B) Eingabe (Lehrer)'!AY18)","v":""},{"$f":"IF('B) Eingabe (Lehrer)'!AZ18=\"\", \"\",'B) Eingabe (Lehrer)'!AZ18)","v":""},{"$f":"IF('B) Eingabe (Lehrer)'!BA18=\"\", \"\",'B) Eingabe (Lehrer)'!BA18)","v":""},{"$f":"IF('B) Eingabe (Lehrer)'!BB18=\"\", \"\",'B) Eingabe (Lehrer)'!BB18)","v":""},{"$f":"IF('B) Eingabe (Lehrer)'!BC18=\"\", \"\",'B) Eingabe (Lehrer)'!BC18)","v":""},{"$f":"IF('B) Eingabe (Lehrer)'!BD18=\"\", \"\",'B) Eingabe (Lehrer)'!BD18)","v":""},{"$f":"IF('B) Eingabe (Lehrer)'!BE18=\"\", \"\",'B) Eingabe (Lehrer)'!BE18)","v":""},{"$f":"IF('B) Eingabe (Lehrer)'!BF18=\"\", \"\",'B) Eingabe (Lehrer)'!BF18)","v":""},{"$f":"IF('B) Eingabe (Lehrer)'!BG18=\"\", \"\",'B) Eingabe (Lehrer)'!BG18)","v":""},{"$f":"IF('B) Eingabe (Lehrer)'!BH18=\"\", \"\",'B) Eingabe (Lehrer)'!BH18)","v":""},{"$f":"IF('B) Eingabe (Lehrer)'!BI18=\"\", \"\",'B) Eingabe (Lehrer)'!BI18)","v":""},{"$f":"IF('B) Eingabe (Lehrer)'!BJ18=\"\", \"\",'B) Eingabe (Lehrer)'!BJ18)","v":""},{"$f":"IF('B) Eingabe (Lehrer)'!BK18=\"\", \"\",'B) Eingabe (Lehrer)'!BK18)","v":""}]
["Item 7",{"$f":"IF('B) Eingabe (Lehrer)'!C19=\"\", \"\",'B) Eingabe (Lehrer)'!C19)","v":""},{"$f":"IF('B) Eingabe (Lehrer)'!D19=\"\", \"\",'B) Eingabe (Lehrer)'!D19)","v":""},{"$f":"IF('B) Eingabe (Lehrer)'!E19=\"\", \"\",'B) Eingabe (Lehrer)'!E19)","v":""},{"$f":"IF('B) Eingabe (Lehrer)'!F19=\"\", \"\",'B) Eingabe (Lehrer)'!F19)","v":""},{"$f":"IF('B) Eingabe (Lehrer)'!G19=\"\", \"\",'B) Eingabe (Lehrer)'!G19)","v":""},{"$f":"IF('B) Eingabe (Lehrer)'!H19=\"\", \"\",'B) Eingabe (Lehrer)'!H19)","v":""},{"$f":"IF('B) Eingabe (Lehrer)'!I19=\"\", \"\",'B) Eingabe (Lehrer)'!I19)","v":""},{"$f":"IF('B) Eingabe (Lehrer)'!J19=\"\", \"\",'B) Eingabe (Lehrer)'!J19)","v":""},{"$f":"IF('B) Eingabe (Lehrer)'!K19=\"\", \"\",'B) Eingabe (Lehrer)'!K19)","v":""},{"$f":"IF('B) Eingabe (Lehrer)'!L19=\"\", \"\",'B) Eingabe (Lehrer)'!L19)","v":""},{"$f":"IF('B) Eingabe (Lehrer)'!M19=\"\", \"\",'B) Eingabe (Lehrer)'!M19)","v":""},{"$f":"IF('B) Eingabe (Lehrer)'!N19=\"\", \"\",'B) Eingabe (Lehrer)'!N19)","v":""},{"$f":"IF('B) Eingabe (Lehrer)'!O19=\"\", \"\",'B) Eingabe (Lehrer)'!O19)","v":""},{"$f":"IF('B) Eingabe (Lehrer)'!P19=\"\", \"\",'B) Eingabe (Lehrer)'!P19)","v":""},{"$f":"IF('B) Eingabe (Lehrer)'!Q19=\"\", \"\",'B) Eingabe (Lehrer)'!Q19)","v":""},{"$f":"IF('B) Eingabe (Lehrer)'!R19=\"\", \"\",'B) Eingabe (Lehrer)'!R19)","v":""},{"$f":"IF('B) Eingabe (Lehrer)'!S19=\"\", \"\",'B) Eingabe (Lehrer)'!S19)","v":""},{"$f":"IF('B) Eingabe (Lehrer)'!T19=\"\", \"\",'B) Eingabe (Lehrer)'!T19)","v":""},{"$f":"IF('B) Eingabe (Lehrer)'!U19=\"\", \"\",'B) Eingabe (Lehrer)'!U19)","v":""},{"$f":"IF('B) Eingabe (Lehrer)'!V19=\"\", \"\",'B) Eingabe (Lehrer)'!V19)","v":""},{"$f":"IF('B) Eingabe (Lehrer)'!W19=\"\", \"\",'B) Eingabe (Lehrer)'!W19)","v":""},{"$f":"IF('B) Eingabe (Lehrer)'!X19=\"\", \"\",'B) Eingabe (Lehrer)'!X19)","v":""},{"$f":"IF('B) Eingabe (Lehrer)'!Y19=\"\", \"\",'B) Eingabe (Lehrer)'!Y19)","v":""},{"$f":"IF('B) Eingabe (Lehrer)'!Z19=\"\", \"\",'B) Eingabe (Lehrer)'!Z19)","v":""},{"$f":"IF('B) Eingabe (Lehrer)'!AA19=\"\", \"\",'B) Eingabe (Lehrer)'!AA19)","v":""},{"$f":"IF('B) Eingabe (Lehrer)'!AB19=\"\", \"\",'B) Eingabe (Lehrer)'!AB19)","v":""},{"$f":"IF('B) Eingabe (Lehrer)'!AC19=\"\", \"\",'B) Eingabe (Lehrer)'!AC19)","v":""},{"$f":"IF('B) Eingabe (Lehrer)'!AD19=\"\", \"\",'B) Eingabe (Lehrer)'!AD19)","v":""},{"$f":"IF('B) Eingabe (Lehrer)'!AE19=\"\", \"\",'B) Eingabe (Lehrer)'!AE19)","v":""},{"$f":"IF('B) Eingabe (Lehrer)'!AF19=\"\", \"\",'B) Eingabe (Lehrer)'!AF19)","v":""},{"$f":"IF('B) Eingabe (Lehrer)'!AG19=\"\", \"\",'B) Eingabe (Lehrer)'!AG19)","v":""},{"$f":"IF('B) Eingabe (Lehrer)'!AH19=\"\", \"\",'B) Eingabe (Lehrer)'!AH19)","v":""},{"$f":"IF('B) Eingabe (Lehrer)'!AI19=\"\", \"\",'B) Eingabe (Lehrer)'!AI19)","v":""},{"$f":"IF('B) Eingabe (Lehrer)'!AJ19=\"\", \"\",'B) Eingabe (Lehrer)'!AJ19)","v":""},{"$f":"IF('B) Eingabe (Lehrer)'!AK19=\"\", \"\",'B) Eingabe (Lehrer)'!AK19)","v":""},{"$f":"IF('B) Eingabe (Lehrer)'!AL19=\"\", \"\",'B) Eingabe (Lehrer)'!AL19)","v":""},{"$f":"IF('B) Eingabe (Lehrer)'!AM19=\"\", \"\",'B) Eingabe (Lehrer)'!AM19)","v":""},{"$f":"IF('B) Eingabe (Lehrer)'!AN19=\"\", \"\",'B) Eingabe (Lehrer)'!AN19)","v":""},{"$f":"IF('B) Eingabe (Lehrer)'!AO19=\"\", \"\",'B) Eingabe (Lehrer)'!AO19)","v":""},{"$f":"IF('B) Eingabe (Lehrer)'!AP19=\"\", \"\",'B) Eingabe (Lehrer)'!AP19)","v":""},{"$f":"IF('B) Eingabe (Lehrer)'!AQ19=\"\", \"\",'B) Eingabe (Lehrer)'!AQ19)","v":""},{"$f":"IF('B) Eingabe (Lehrer)'!AR19=\"\", \"\",'B) Eingabe (Lehrer)'!AR19)","v":""},{"$f":"IF('B) Eingabe (Lehrer)'!AS19=\"\", \"\",'B) Eingabe (Lehrer)'!AS19)","v":""},{"$f":"IF('B) Eingabe (Lehrer)'!AT19=\"\", \"\",'B) Eingabe (Lehrer)'!AT19)","v":""},{"$f":"IF('B) Eingabe (Lehrer)'!AU19=\"\", \"\",'B) Eingabe (Lehrer)'!AU19)","v":""},{"$f":"IF('B) Eingabe (Lehrer)'!AV19=\"\", \"\",'B) Eingabe (Lehrer)'!AV19)","v":""},{"$f":"IF('B) Eingabe (Lehrer)'!AW19=\"\", \"\",'B) Eingabe (Lehrer)'!AW19)","v":""},{"$f":"IF('B) Eingabe (Lehrer)'!AX19=\"\", \"\",'B) Eingabe (Lehrer)'!AX19)","v":""},{"$f":"IF('B) Eingabe (Lehrer)'!AY19=\"\", \"\",'B) Eingabe (Lehrer)'!AY19)","v":""},{"$f":"IF('B) Eingabe (Lehrer)'!AZ19=\"\", \"\",'B) Eingabe (Lehrer)'!AZ19)","v":""},{"$f":"IF('B) Eingabe (Lehrer)'!BA19=\"\", \"\",'B) Eingabe (Lehrer)'!BA19)","v":""},{"$f":"IF('B) Eingabe (Lehrer)'!BB19=\"\", \"\",'B) Eingabe (Lehrer)'!BB19)","v":""},{"$f":"IF('B) Eingabe (Lehrer)'!BC19=\"\", \"\",'B) Eingabe (Lehrer)'!BC19)","v":""},{"$f":"IF('B) Eingabe (Lehrer)'!BD19=\"\", \"\",'B) Eingabe (Lehrer)'!BD19)","v":""},{"$f":"IF('B) Eingabe (Lehrer)'!BE19=\"\", \"\",'B) Eingabe (Lehrer)'!BE19)","v":""},{"$f":"IF('B) Eingabe (Lehrer)'!BF19=\"\", \"\",'B) Eingabe (Lehrer)'!BF19)","v":""},{"$f":"IF('B) Eingabe (Lehrer)'!BG19=\"\", \"\",'B) Eingabe (Lehrer)'!BG19)","v":""},{"$f":"IF('B) Eingabe (Lehrer)'!BH19=\"\", \"\",'B) Eingabe (Lehrer)'!BH19)","v":""},{"$f":"IF('B) Eingabe (Lehrer)'!BI19=\"\", \"\",'B) Eingabe (Lehrer)'!BI19)","v":""},{"$f":"IF('B) Eingabe (Lehrer)'!BJ19=\"\", \"\",'B) Eingabe (Lehrer)'!BJ19)","v":""},{"$f":"IF('B) Eingabe (Lehrer)'!BK19=\"\", \"\",'B) Eingabe (Lehrer)'!BK19)","v":""}]
["Item 8",{"$f":"IF('B) Eingabe (Lehrer)'!C20=\"\", \"\",'B) Eingabe (Lehrer)'!C20)","v":""},{"$f":"IF('B) Eingabe (Lehrer)'!D20=\"\", \"\",'B) Eingabe (Lehrer)'!D20)","v":""},{"$f":"IF('B) Eingabe (Lehrer)'!E20=\"\", \"\",'B) Eingabe (Lehrer)'!E20)","v":""},{"$f":"IF('B) Eingabe (Lehrer)'!F20=\"\", \"\",'B) Eingabe (Lehrer)'!F20)","v":""},{"$f":"IF('B) Eingabe (Lehrer)'!G20=\"\", \"\",'B) Eingabe (Lehrer)'!G20)","v":""},{"$f":"IF('B) Eingabe (Lehrer)'!H20=\"\", \"\",'B) Eingabe (Lehrer)'!H20)","v":""},{"$f":"IF('B) Eingabe (Lehrer)'!I20=\"\", \"\",'B) Eingabe (Lehrer)'!I20)","v":""},{"$f":"IF('B) Eingabe (Lehrer)'!J20=\"\", \"\",'B) Eingabe (Lehrer)'!J20)","v":""},{"$f":"IF('B) Eingabe (Lehrer)'!K20=\"\", \"\",'B) Eingabe (Lehrer)'!K20)","v":""},{"$f":"IF('B) Eingabe (Lehrer)'!L20=\"\", \"\",'B) Eingabe (Lehrer)'!L20)","v":""},{"$f":"IF('B) Eingabe (Lehrer)'!M20=\"\", \"\",'B) Eingabe (Lehrer)'!M20)","v":""},{"$f":"IF('B) Eingabe (Lehrer)'!N20=\"\", \"\",'B) Eingabe (Lehrer)'!N20)","v":""},{"$f":"IF('B) Eingabe (Lehrer)'!O20=\"\", \"\",'B) Eingabe (Lehrer)'!O20)","v":""},{"$f":"IF('B) Eingabe (Lehrer)'!P20=\"\", \"\",'B) Eingabe (Lehrer)'!P20)","v":""},{"$f":"IF('B) Eingabe (Lehrer)'!Q20=\"\", \"\",'B) Eingabe (Lehrer)'!Q20)","v":""},{"$f":"IF('B) Eingabe (Lehrer)'!R20=\"\", \"\",'B) Eingabe (Lehrer)'!R20)","v":""},{"$f":"IF('B) Eingabe (Lehrer)'!S20=\"\", \"\",'B) Eingabe (Lehrer)'!S20)","v":""},{"$f":"IF('B) Eingabe (Lehrer)'!T20=\"\", \"\",'B) Eingabe (Lehrer)'!T20)","v":""},{"$f":"IF('B) Eingabe (Lehrer)'!U20=\"\", \"\",'B) Eingabe (Lehrer)'!U20)","v":""},{"$f":"IF('B) Eingabe (Lehrer)'!V20=\"\", \"\",'B) Eingabe (Lehrer)'!V20)","v":""},{"$f":"IF('B) Eingabe (Lehrer)'!W20=\"\", \"\",'B) Eingabe (Lehrer)'!W20)","v":""},{"$f":"IF('B) Eingabe (Lehrer)'!X20=\"\", \"\",'B) Eingabe (Lehrer)'!X20)","v":""},{"$f":"IF('B) Eingabe (Lehrer)'!Y20=\"\", \"\",'B) Eingabe (Lehrer)'!Y20)","v":""},{"$f":"IF('B) Eingabe (Lehrer)'!Z20=\"\", \"\",'B) Eingabe (Lehrer)'!Z20)","v":""},{"$f":"IF('B) Eingabe (Lehrer)'!AA20=\"\", \"\",'B) Eingabe (Lehrer)'!AA20)","v":""},{"$f":"IF('B) Eingabe (Lehrer)'!AB20=\"\", \"\",'B) Eingabe (Lehrer)'!AB20)","v":""},{"$f":"IF('B) Eingabe (Lehrer)'!AC20=\"\", \"\",'B) Eingabe (Lehrer)'!AC20)","v":""},{"$f":"IF('B) Eingabe (Lehrer)'!AD20=\"\", \"\",'B) Eingabe (Lehrer)'!AD20)","v":""},{"$f":"IF('B) Eingabe (Lehrer)'!AE20=\"\", \"\",'B) Eingabe (Lehrer)'!AE20)","v":""},{"$f":"IF('B) Eingabe (Lehrer)'!AF20=\"\", \"\",'B) Eingabe (Lehrer)'!AF20)","v":""},{"$f":"IF('B) Eingabe (Lehrer)'!AG20=\"\", \"\",'B) Eingabe (Lehrer)'!AG20)","v":""},{"$f":"IF('B) Eingabe (Lehrer)'!AH20=\"\", \"\",'B) Eingabe (Lehrer)'!AH20)","v":""},{"$f":"IF('B) Eingabe (Lehrer)'!AI20=\"\", \"\",'B) Eingabe (Lehrer)'!AI20)","v":""},{"$f":"IF('B) Eingabe (Lehrer)'!AJ20=\"\", \"\",'B) Eingabe (Lehrer)'!AJ20)","v":""},{"$f":"IF('B) Eingabe (Lehrer)'!AK20=\"\", \"\",'B) Eingabe (Lehrer)'!AK20)","v":""},{"$f":"IF('B) Eingabe (Lehrer)'!AL20=\"\", \"\",'B) Eingabe (Lehrer)'!AL20)","v":""},{"$f":"IF('B) Eingabe (Lehrer)'!AM20=\"\", \"\",'B) Eingabe (Lehrer)'!AM20)","v":""},{"$f":"IF('B) Eingabe (Lehrer)'!AN20=\"\", \"\",'B) Eingabe (Lehrer)'!AN20)","v":""},{"$f":"IF('B) Eingabe (Lehrer)'!AO20=\"\", \"\",'B) Eingabe (Lehrer)'!AO20)","v":""},{"$f":"IF('B) Eingabe (Lehrer)'!AP20=\"\", \"\",'B) Eingabe (Lehrer)'!AP20)","v":""},{"$f":"IF('B) Eingabe (Lehrer)'!AQ20=\"\", \"\",'B) Eingabe (Lehrer)'!AQ20)","v":""},{"$f":"IF('B) Eingabe (Lehrer)'!AR20=\"\", \"\",'B) Eingabe (Lehrer)'!AR20)","v":""},{"$f":"IF('B) Eingabe (Lehrer)'!AS20=\"\", \"\",'B) Eingabe (Lehrer)'!AS20)","v":""},{"$f":"IF('B) Eingabe (Lehrer)'!AT20=\"\", \"\",'B) Eingabe (Lehrer)'!AT20)","v":""},{"$f":"IF('B) Eingabe (Lehrer)'!AU20=\"\", \"\",'B) Eingabe (Lehrer)'!AU20)","v":""},{"$f":"IF('B) Eingabe (Lehrer)'!AV20=\"\", \"\",'B) Eingabe (Lehrer)'!AV20)","v":""},{"$f":"IF('B) Eingabe (Lehrer)'!AW20=\"\", \"\",'B) Eingabe (Lehrer)'!AW20)","v":""},{"$f":"IF('B) Eingabe (Lehrer)'!AX20=\"\", \"\",'B) Eingabe (Lehrer)'!AX20)","v":""},{"$f":"IF('B) Eingabe (Lehrer)'!AY20=\"\", \"\",'B) Eingabe (Lehrer)'!AY20)","v":""},{"$f":"IF('B) Eingabe (Lehrer)'!AZ20=\"\", \"\",'B) Eingabe (Lehrer)'!AZ20)","v":""},{"$f":"IF('B) Eingabe (Lehrer)'!BA20=\"\", \"\",'B) Eingabe (Lehrer)'!BA20)","v":""},{"$f":"IF('B) Eingabe (Lehrer)'!BB20=\"\", \"\",'B) Eingabe (Lehrer)'!BB20)","v":""},{"$f":"IF('B) Eingabe (Lehrer)'!BC20=\"\", \"\",'B) Eingabe (Lehrer)'!BC20)","v":""},{"$f":"IF('B) Eingabe (Lehrer)'!BD20=\"\", \"\",'B) Eingabe (Lehrer)'!BD20)","v":""},{"$f":"IF('B) Eingabe (Lehrer)'!BE20=\"\", \"\",'B) Eingabe (Lehrer)'!BE20)","v":""},{"$f":"IF('B) Eingabe (Lehrer)'!BF20=\"\", \"\",'B) Eingabe (Lehrer)'!BF20)","v":""},{"$f":"IF('B) Eingabe (Lehrer)'!BG20=\"\", \"\",'B) Eingabe (Lehrer)'!BG20)","v":""},{"$f":"IF('B) Eingabe (Lehrer)'!BH20=\"\", \"\",'B) Eingabe (Lehrer)'!BH20)","v":""},{"$f":"IF('B) Eingabe (Lehrer)'!BI20=\"\", \"\",'B) Eingabe (Lehrer)'!BI20)","v":""},{"$f":"IF('B) Eingabe (Lehrer)'!BJ20=\"\", \"\",'B) Eingabe (Lehrer)'!BJ20)","v":""},{"$f":"IF('B) Eingabe (Lehrer)'!BK20=\"\", \"\",'B) Eingabe (Lehrer)'!BK20)","v":""}]
["Item 9",{"$f":"IF('B) Eingabe (Lehrer)'!C21=\"\", \"\",'B) Eingabe (Lehrer)'!C21)","v":""},{"$f":"IF('B) Eingabe (Lehrer)'!D21=\"\", \"\",'B) Eingabe (Lehrer)'!D21)","v":""},{"$f":"IF('B) Eingabe (Lehrer)'!E21=\"\", \"\",'B) Eingabe (Lehrer)'!E21)","v":""},{"$f":"IF('B) Eingabe (Lehrer)'!F21=\"\", \"\",'B) Eingabe (Lehrer)'!F21)","v":""},{"$f":"IF('B) Eingabe (Lehrer)'!G21=\"\", \"\",'B) Eingabe (Lehrer)'!G21)","v":""},{"$f":"IF('B) Eingabe (Lehrer)'!H21=\"\", \"\",'B) Eingabe (Lehrer)'!H21)","v":""},{"$f":"IF('B) Eingabe (Lehrer)'!I21=\"\", \"\",'B) Eingabe (Lehrer)'!I21)","v":""},{"$f":"IF('B) Eingabe (Lehrer)'!J21=\"\", \"\",'B) Eingabe (Lehrer)'!J21)","v":""},{"$f":"IF('B) Eingabe (Lehrer)'!K21=\"\", \"\",'B) Eingabe (Lehrer)'!K21)","v":""},{"$f":"IF('B) Eingabe (Lehrer)'!L21=\"\", \"\",'B) Eingabe (Lehrer)'!L21)","v":""},{"$f":"IF('B) Eingabe (Lehrer)'!M21=\"\", \"\",'B) Eingabe (Lehrer)'!M21)","v":""},{"$f":"IF('B) Eingabe (Lehrer)'!N21=\"\", \"\",'B) Eingabe (Lehrer)'!N21)","v":""},{"$f":"IF('B) Eingabe (Lehrer)'!O21=\"\", \"\",'B) Eingabe (Lehrer)'!O21)","v":""},{"$f":"IF('B) Eingabe (Lehrer)'!P21=\"\", \"\",'B) Eingabe (Lehrer)'!P21)","v":""},{"$f":"IF('B) Eingabe (Lehrer)'!Q21=\"\", \"\",'B) Eingabe (Lehrer)'!Q21)","v":""},{"$f":"IF('B) Eingabe (Lehrer)'!R21=\"\", \"\",'B) Eingabe (Lehrer)'!R21)","v":""},{"$f":"IF('B) Eingabe (Lehrer)'!S21=\"\", \"\",'B) Eingabe (Lehrer)'!S21)","v":""},{"$f":"IF('B) Eingabe (Lehrer)'!T21=\"\", \"\",'B) Eingabe (Lehrer)'!T21)","v":""},{"$f":"IF('B) Eingabe (Lehrer)'!U21=\"\", \"\",'B) Eingabe (Lehrer)'!U21)","v":""},{"$f":"IF('B) Eingabe (Lehrer)'!V21=\"\", \"\",'B) Eingabe (Lehrer)'!V21)","v":""},{"$f":"IF('B) Eingabe (Lehrer)'!W21=\"\", \"\",'B) Eingabe (Lehrer)'!W21)","v":""},{"$f":"IF('B) Eingabe (Lehrer)'!X21=\"\", \"\",'B) Eingabe (Lehrer)'!X21)","v":""},{"$f":"IF('B) Eingabe (Lehrer)'!Y21=\"\", \"\",'B) Eingabe (Lehrer)'!Y21)","v":""},{"$f":"IF('B) Eingabe (Lehrer)'!Z21=\"\", \"\",'B) Eingabe (Lehrer)'!Z21)","v":""},{"$f":"IF('B) Eingabe (Lehrer)'!AA21=\"\", \"\",'B) Eingabe (Lehrer)'!AA21)","v":""},{"$f":"IF('B) Eingabe (Lehrer)'!AB21=\"\", \"\",'B) Eingabe (Lehrer)'!AB21)","v":""},{"$f":"IF('B) Eingabe (Lehrer)'!AC21=\"\", \"\",'B) Eingabe (Lehrer)'!AC21)","v":""},{"$f":"IF('B) Eingabe (Lehrer)'!AD21=\"\", \"\",'B) Eingabe (Lehrer)'!AD21)","v":""},{"$f":"IF('B) Eingabe (Lehrer)'!AE21=\"\", \"\",'B) Eingabe (Lehrer)'!AE21)","v":""},{"$f":"IF('B) Eingabe (Lehrer)'!AF21=\"\", \"\",'B) Eingabe (Lehrer)'!AF21)","v":""},{"$f":"IF('B) Eingabe (Lehrer)'!AG21=\"\", \"\",'B) Eingabe (Lehrer)'!AG21)","v":""},{"$f":"IF('B) Eingabe (Lehrer)'!AH21=\"\", \"\",'B) Eingabe (Lehrer)'!AH21)","v":""},{"$f":"IF('B) Eingabe (Lehrer)'!AI21=\"\", \"\",'B) Eingabe (Lehrer)'!AI21)","v":""},{"$f":"IF('B) Eingabe (Lehrer)'!AJ21=\"\", \"\",'B) Eingabe (Lehrer)'!AJ21)","v":""},{"$f":"IF('B) Eingabe (Lehrer)'!AK21=\"\", \"\",'B) Eingabe (Lehrer)'!AK21)","v":""},{"$f":"IF('B) Eingabe (Lehrer)'!AL21=\"\", \"\",'B) Eingabe (Lehrer)'!AL21)","v":""},{"$f":"IF('B) Eingabe (Lehrer)'!AM21=\"\", \"\",'B) Eingabe (Lehrer)'!AM21)","v":""},{"$f":"IF('B) Eingabe (Lehrer)'!AN21=\"\", \"\",'B) Eingabe (Lehrer)'!AN21)","v":""},{"$f":"IF('B) Eingabe (Lehrer)'!AO21=\"\", \"\",'B) Eingabe (Lehrer)'!AO21)","v":""},{"$f":"IF('B) Eingabe (Lehrer)'!AP21=\"\", \"\",'B) Eingabe (Lehrer)'!AP21)","v":""},{"$f":"IF('B) Eingabe (Lehrer)'!AQ21=\"\", \"\",'B) Eingabe (Lehrer)'!AQ21)","v":""},{"$f":"IF('B) Eingabe (Lehrer)'!AR21=\"\", \"\",'B) Eingabe (Lehrer)'!AR21)","v":""},{"$f":"IF('B) Eingabe (Lehrer)'!AS21=\"\", \"\",'B) Eingabe (Lehrer)'!AS21)","v":""},{"$f":"IF('B) Eingabe (Lehrer)'!AT21=\"\", \"\",'B) Eingabe (Lehrer)'!AT21)","v":""},{"$f":"IF('B) Eingabe (Lehrer)'!AU21=\"\", \"\",'B) Eingabe (Lehrer)'!AU21)","v":""},{"$f":"IF('B) Eingabe (Lehrer)'!AV21=\"\", \"\",'B) Eingabe (Lehrer)'!AV21)","v":""},{"$f":"IF('B) Eingabe (Lehrer)'!AW21=\"\", \"\",'B) Eingabe (Lehrer)'!AW21)","v":""},{"$f":"IF('B) Eingabe (Lehrer)'!AX21=\"\", \"\",'B) Eingabe (Lehrer)'!AX21)","v":""},{"$f":"IF('B) Eingabe (Lehrer)'!AY21=\"\", \"\",'B) Eingabe (Lehrer)'!AY21)","v":""},{"$f":"IF('B) Eingabe (Lehrer)'!AZ21=\"\", \"\",'B) Eingabe (Lehrer)'!AZ21)","v":""},{"$f":"IF('B) Eingabe (Lehrer)'!BA21=\"\", \"\",'B) Eingabe (Lehrer)'!BA21)","v":""},{"$f":"IF('B) Eingabe (Lehrer)'!BB21=\"\", \"\",'B) Eingabe (Lehrer)'!BB21)","v":""},{"$f":"IF('B) Eingabe (Lehrer)'!BC21=\"\", \"\",'B) Eingabe (Lehrer)'!BC21)","v":""},{"$f":"IF('B) Eingabe (Lehrer)'!BD21=\"\", \"\",'B) Eingabe (Lehrer)'!BD21)","v":""},{"$f":"IF('B) Eingabe (Lehrer)'!BE21=\"\", \"\",'B) Eingabe (Lehrer)'!BE21)","v":""},{"$f":"IF('B) Eingabe (Lehrer)'!BF21=\"\", \"\",'B) Eingabe (Lehrer)'!BF21)","v":""},{"$f":"IF('B) Eingabe (Lehrer)'!BG21=\"\", \"\",'B) Eingabe (Lehrer)'!BG21)","v":""},{"$f":"IF('B) Eingabe (Lehrer)'!BH21=\"\", \"\",'B) Eingabe (Lehrer)'!BH21)","v":""},{"$f":"IF('B) Eingabe (Lehrer)'!BI21=\"\", \"\",'B) Eingabe (Lehrer)'!BI21)","v":""},{"$f":"IF('B) Eingabe (Lehrer)'!BJ21=\"\", \"\",'B) Eingabe (Lehrer)'!BJ21)","v":""},{"$f":"IF('B) Eingabe (Lehrer)'!BK21=\"\", \"\",'B) Eingabe (Lehrer)'!BK21)","v":""}]
["Item 10",{"$f":"IF('B) Eingabe (Lehrer)'!C22=\"\", \"\",'B) Eingabe (Lehrer)'!C22)","v":""},{"$f":"IF('B) Eingabe (Lehrer)'!D22=\"\", \"\",'B) Eingabe (Lehrer)'!D22)","v":""},{"$f":"IF('B) Eingabe (Lehrer)'!E22=\"\", \"\",'B) Eingabe (Lehrer)'!E22)","v":""},{"$f":"IF('B) Eingabe (Lehrer)'!F22=\"\", \"\",'B) Eingabe (Lehrer)'!F22)","v":""},{"$f":"IF('B) Eingabe (Lehrer)'!G22=\"\", \"\",'B) Eingabe (Lehrer)'!G22)","v":""},{"$f":"IF('B) Eingabe (Lehrer)'!H22=\"\", \"\",'B) Eingabe (Lehrer)'!H22)","v":""},{"$f":"IF('B) Eingabe (Lehrer)'!I22=\"\", \"\",'B) Eingabe (Lehrer)'!I22)","v":""},{"$f":"IF('B) Eingabe (Lehrer)'!J22=\"\", \"\",'B) Eingabe (Lehrer)'!J22)","v":""},{"$f":"IF('B) Eingabe (Lehrer)'!K22=\"\", \"\",'B) Eingabe (Lehrer)'!K22)","v":""},{"$f":"IF('B) Eingabe (Lehrer)'!L22=\"\", \"\",'B) Eingabe (Lehrer)'!L22)","v":""},{"$f":"IF('B) Eingabe (Lehrer)'!M22=\"\", \"\",'B) Eingabe (Lehrer)'!M22)","v":""},{"$f":"IF('B) Eingabe (Lehrer)'!N22=\"\", \"\",'B) Eingabe (Lehrer)'!N22)","v":""},{"$f":"IF('B) Eingabe (Lehrer)'!O22=\"\", \"\",'B) Eingabe (Lehrer)'!O22)","v":""},{"$f":"IF('B) Eingabe (Lehrer)'!P22=\"\", \"\",'B) Eingabe (Lehrer)'!P22)","v":""},{"$f":"IF('B) Eingabe (Lehrer)'!Q22=\"\", \"\",'B) Eingabe (Lehrer)'!Q22)","v":""},{"$f":"IF('B) Eingabe (Lehrer)'!R22=\"\", \"\",'B) Eingabe (Lehrer)'!R22)","v":""},{"$f":"IF('B) Eingabe (Lehrer)'!S22=\"\", \"\",'B) Eingabe (Lehrer)'!S22)","v":""},{"$f":"IF('B) Eingabe (Lehrer)'!T22=\"\", \"\",'B) Eingabe (Lehrer)'!T22)","v":""},{"$f":"IF('B) Eingabe (Lehrer)'!U22=\"\", \"\",'B) Eingabe (Lehrer)'!U22)","v":""},{"$f":"IF('B) Eingabe (Lehrer)'!V22=\"\", \"\",'B) Eingabe (Lehrer)'!V22)","v":""},{"$f":"IF('B) Eingabe (Lehrer)'!W22=\"\", \"\",'B) Eingabe (Lehrer)'!W22)","v":""},{"$f":"IF('B) Eingabe (Lehrer)'!X22=\"\", \"\",'B) Eingabe (Lehrer)'!X22)","v":""},{"$f":"IF('B) Eingabe (Lehrer)'!Y22=\"\", \"\",'B) Eingabe (Lehrer)'!Y22)","v":""},{"$f":"IF('B) Eingabe (Lehrer)'!Z22=\"\", \"\",'B) Eingabe (Lehrer)'!Z22)","v":""},{"$f":"IF('B) Eingabe (Lehrer)'!AA22=\"\", \"\",'B) Eingabe (Lehrer)'!AA22)","v":""},{"$f":"IF('B) Eingabe (Lehrer)'!AB22=\"\", \"\",'B) Eingabe (Lehrer)'!AB22)","v":""},{"$f":"IF('B) Eingabe (Lehrer)'!AC22=\"\", \"\",'B) Eingabe (Lehrer)'!AC22)","v":""},{"$f":"IF('B) Eingabe (Lehrer)'!AD22=\"\", \"\",'B) Eingabe (Lehrer)'!AD22)","v":""},{"$f":"IF('B) Eingabe (Lehrer)'!AE22=\"\", \"\",'B) Eingabe (Lehrer)'!AE22)","v":""},{"$f":"IF('B) Eingabe (Lehrer)'!AF22=\"\", \"\",'B) Eingabe (Lehrer)'!AF22)","v":""},{"$f":"IF('B) Eingabe (Lehrer)'!AG22=\"\", \"\",'B) Eingabe (Lehrer)'!AG22)","v":""},{"$f":"IF('B) Eingabe (Lehrer)'!AH22=\"\", \"\",'B) Eingabe (Lehrer)'!AH22)","v":""},{"$f":"IF('B) Eingabe (Lehrer)'!AI22=\"\", \"\",'B) Eingabe (Lehrer)'!AI22)","v":""},{"$f":"IF('B) Eingabe (Lehrer)'!AJ22=\"\", \"\",'B) Eingabe (Lehrer)'!AJ22)","v":""},{"$f":"IF('B) Eingabe (Lehrer)'!AK22=\"\", \"\",'B) Eingabe (Lehrer)'!AK22)","v":""},{"$f":"IF('B) Eingabe (Lehrer)'!AL22=\"\", \"\",'B) Eingabe (Lehrer)'!AL22)","v":""},{"$f":"IF('B) Eingabe (Lehrer)'!AM22=\"\", \"\",'B) Eingabe (Lehrer)'!AM22)","v":""},{"$f":"IF('B) Eingabe (Lehrer)'!AN22=\"\", \"\",'B) Eingabe (Lehrer)'!AN22)","v":""},{"$f":"IF('B) Eingabe (Lehrer)'!AO22=\"\", \"\",'B) Eingabe (Lehrer)'!AO22)","v":""},{"$f":"IF('B) Eingabe (Lehrer)'!AP22=\"\", \"\",'B) Eingabe (Lehrer)'!AP22)","v":""},{"$f":"IF('B) Eingabe (Lehrer)'!AQ22=\"\", \"\",'B) Eingabe (Lehrer)'!AQ22)","v":""},{"$f":"IF('B) Eingabe (Lehrer)'!AR22=\"\", \"\",'B) Eingabe (Lehrer)'!AR22)","v":""},{"$f":"IF('B) Eingabe (Lehrer)'!AS22=\"\", \"\",'B) Eingabe (Lehrer)'!AS22)","v":""},{"$f":"IF('B) Eingabe (Lehrer)'!AT22=\"\", \"\",'B) Eingabe (Lehrer)'!AT22)","v":""},{"$f":"IF('B) Eingabe (Lehrer)'!AU22=\"\", \"\",'B) Eingabe (Lehrer)'!AU22)","v":""},{"$f":"IF('B) Eingabe (Lehrer)'!AV22=\"\", \"\",'B) Eingabe (Lehrer)'!AV22)","v":""},{"$f":"IF('B) Eingabe (Lehrer)'!AW22=\"\", \"\",'B) Eingabe (Lehrer)'!AW22)","v":""},{"$f":"IF('B) Eingabe (Lehrer)'!AX22=\"\", \"\",'B) Eingabe (Lehrer)'!AX22)","v":""},{"$f":"IF('B) Eingabe (Lehrer)'!AY22=\"\", \"\",'B) Eingabe (Lehrer)'!AY22)","v":""},{"$f":"IF('B) Eingabe (Lehrer)'!AZ22=\"\", \"\",'B) Eingabe (Lehrer)'!AZ22)","v":""},{"$f":"IF('B) Eingabe (Lehrer)'!BA22=\"\", \"\",'B) Eingabe (Lehrer)'!BA22)","v":""},{"$f":"IF('B) Eingabe (Lehrer)'!BB22=\"\", \"\",'B) Eingabe (Lehrer)'!BB22)","v":""},{"$f":"IF('B) Eingabe (Lehrer)'!BC22=\"\", \"\",'B) Eingabe (Lehrer)'!BC22)","v":""},{"$f":"IF('B) Eingabe (Lehrer)'!BD22=\"\", \"\",'B) Eingabe (Lehrer)'!BD22)","v":""},{"$f":"IF('B) Eingabe (Lehrer)'!BE22=\"\", \"\",'B) Eingabe (Lehrer)'!BE22)","v":""},{"$f":"IF('B) Eingabe (Lehrer)'!BF22=\"\", \"\",'B) Eingabe (Lehrer)'!BF22)","v":""},{"$f":"IF('B) Eingabe (Lehrer)'!BG22=\"\", \"\",'B) Eingabe (Lehrer)'!BG22)","v":""},{"$f":"IF('B) Eingabe (Lehrer)'!BH22=\"\", \"\",'B) Eingabe (Lehrer)'!BH22)","v":""},{"$f":"IF('B) Eingabe (Lehrer)'!BI22=\"\", \"\",'B) Eingabe (Lehrer)'!BI22)","v":""},{"$f":"IF('B) Eingabe (Lehrer)'!BJ22=\"\", \"\",'B) Eingabe (Lehrer)'!BJ22)","v":""},{"$f":"IF('B) Eingabe (Lehrer)'!BK22=\"\", \"\",'B) Eingabe (Lehrer)'!BK22)","v":""}]
["Item 11",{"$f":"IF('B) Eingabe (Lehrer)'!C23=\"\", \"\",'B) Eingabe (Lehrer)'!C23)","v":""},{"$f":"IF('B) Eingabe (Lehrer)'!D23=\"\", \"\",'B) Eingabe (Lehrer)'!D23)","v":""},{"$f":"IF('B) Eingabe (Lehrer)'!E23=\"\", \"\",'B) Eingabe (Lehrer)'!E23)","v":""},{"$f":"IF('B) Eingabe (Lehrer)'!F23=\"\", \"\",'B) Eingabe (Lehrer)'!F23)","v":""},{"$f":"IF('B) Eingabe (Lehrer)'!G23=\"\", \"\",'B) Eingabe (Lehrer)'!G23)","v":""},{"$f":"IF('B) Eingabe (Lehrer)'!H23=\"\", \"\",'B) Eingabe (Lehrer)'!H23)","v":""},{"$f":"IF('B) Eingabe (Lehrer)'!I23=\"\", \"\",'B) Eingabe (Lehrer)'!I23)","v":""},{"$f":"IF('B) Eingabe (Lehrer)'!J23=\"\", \"\",'B) Eingabe (Lehrer)'!J23)","v":""},{"$f":"IF('B) Eingabe (Lehrer)'!K23=\"\", \"\",'B) Eingabe (Lehrer)'!K23)","v":""},{"$f":"IF('B) Eingabe (Lehrer)'!L23=\"\", \"\",'B) Eingabe (Lehrer)'!L23)","v":""},{"$f":"IF('B) Eingabe (Lehrer)'!M23=\"\", \"\",'B) Eingabe (Lehrer)'!M23)","v":""},{"$f":"IF('B) Eingabe (Lehrer)'!N23=\"\", \"\",'B) Eingabe (Lehrer)'!N23)","v":""},{"$f":"IF('B) Eingabe (Lehrer)'!O23=\"\", \"\",'B) Eingabe (Lehrer)'!O23)","v":""},{"$f":"IF('B) Eingabe (Lehrer)'!P23=\"\", \"\",'B) Eingabe (Lehrer)'!P23)","v":""},{"$f":"IF('B) Eingabe (Lehrer)'!Q23=\"\", \"\",'B) Eingabe (Lehrer)'!Q23)","v":""},{"$f":"IF('B) Eingabe (Lehrer)'!R23=\"\", \"\",'B) Eingabe (Lehrer)'!R23)","v":""},{"$f":"IF('B) Eingabe (Lehrer)'!S23=\"\", \"\",'B) Eingabe (Lehrer)'!S23)","v":""},{"$f":"IF('B) Eingabe (Lehrer)'!T23=\"\", \"\",'B) Eingabe (Lehrer)'!T23)","v":""},{"$f":"IF('B) Eingabe (Lehrer)'!U23=\"\", \"\",'B) Eingabe (Lehrer)'!U23)","v":""},{"$f":"IF('B) Eingabe (Lehrer)'!V23=\"\", \"\",'B) Eingabe (Lehrer)'!V23)","v":""},{"$f":"IF('B) Eingabe (Lehrer)'!W23=\"\", \"\",'B) Eingabe (Lehrer)'!W23)","v":""},{"$f":"IF('B) Eingabe (Lehrer)'!X23=\"\", \"\",'B) Eingabe (Lehrer)'!X23)","v":""},{"$f":"IF('B) Eingabe (Lehrer)'!Y23=\"\", \"\",'B) Eingabe (Lehrer)'!Y23)","v":""},{"$f":"IF('B) Eingabe (Lehrer)'!Z23=\"\", \"\",'B) Eingabe (Lehrer)'!Z23)","v":""},{"$f":"IF('B) Eingabe (Lehrer)'!AA23=\"\", \"\",'B) Eingabe (Lehrer)'!AA23)","v":""},{"$f":"IF('B) Eingabe (Lehrer)'!AB23=\"\", \"\",'B) Eingabe (Lehrer)'!AB23)","v":""},{"$f":"IF('B) Eingabe (Lehrer)'!AC23=\"\", \"\",'B) Eingabe (Lehrer)'!AC23)","v":""},{"$f":"IF('B) Eingabe (Lehrer)'!AD23=\"\", \"\",'B) Eingabe (Lehrer)'!AD23)","v":""},{"$f":"IF('B) Eingabe (Lehrer)'!AE23=\"\", \"\",'B) Eingabe (Lehrer)'!AE23)","v":""},{"$f":"IF('B) Eingabe (Lehrer)'!AF23=\"\", \"\",'B) Eingabe (Lehrer)'!AF23)","v":""},{"$f":"IF('B) Eingabe (Lehrer)'!AG23=\"\", \"\",'B) Eingabe (Lehrer)'!AG23)","v":""},{"$f":"IF('B) Eingabe (Lehrer)'!AH23=\"\", \"\",'B) Eingabe (Lehrer)'!AH23)","v":""},{"$f":"IF('B) Eingabe (Lehrer)'!AI23=\"\", \"\",'B) Eingabe (Lehrer)'!AI23)","v":""},{"$f":"IF('B) Eingabe (Lehrer)'!AJ23=\"\", \"\",'B) Eingabe (Lehrer)'!AJ23)","v":""},{"$f":"IF('B) Eingabe (Lehrer)'!AK23=\"\", \"\",'B) Eingabe (Lehrer)'!AK23)","v":""},{"$f":"IF('B) Eingabe (Lehrer)'!AL23=\"\", \"\",'B) Eingabe (Lehrer)'!AL23)","v":""},{"$f":"IF('B) Eingabe (Lehrer)'!AM23=\"\", \"\",'B) Eingabe (Lehrer)'!AM23)","v":""},{"$f":"IF('B) Eingabe (Lehrer)'!AN23=\"\", \"\",'B) Eingabe (Lehrer)'!AN23)","v":""},{"$f":"IF('B) Eingabe (Lehrer)'!AO23=\"\", \"\",'B) Eingabe (Lehrer)'!AO23)","v":""},{"$f":"IF('B) Eingabe (Lehrer)'!AP23=\"\", \"\",'B) Eingabe (Lehrer)'!AP23)","v":""},{"$f":"IF('B) Eingabe (Lehrer)'!AQ23=\"\", \"\",'B) Eingabe (Lehrer)'!AQ23)","v":""},{"$f":"IF('B) Eingabe (Lehrer)'!AR23=\"\", \"\",'B) Eingabe (Lehrer)'!AR23)","v":""},{"$f":"IF('B) Eingabe (Lehrer)'!AS23=\"\", \"\",'B) Eingabe (Lehrer)'!AS23)","v":""},{"$f":"IF('B) Eingabe (Lehrer)'!AT23=\"\", \"\",'B) Eingabe (Lehrer)'!AT23)","v":""},{"$f":"IF('B) Eingabe (Lehrer)'!AU23=\"\", \"\",'B) Eingabe (Lehrer)'!AU23)","v":""},{"$f":"IF('B) Eingabe (Lehrer)'!AV23=\"\", \"\",'B) Eingabe (Lehrer)'!AV23)","v":""},{"$f":"IF('B) Eingabe (Lehrer)'!AW23=\"\", \"\",'B) Eingabe (Lehrer)'!AW23)","v":""},{"$f":"IF('B) Eingabe (Lehrer)'!AX23=\"\", \"\",'B) Eingabe (Lehrer)'!AX23)","v":""},{"$f":"IF('B) Eingabe (Lehrer)'!AY23=\"\", \"\",'B) Eingabe (Lehrer)'!AY23)","v":""},{"$f":"IF('B) Eingabe (Lehrer)'!AZ23=\"\", \"\",'B) Eingabe (Lehrer)'!AZ23)","v":""},{"$f":"IF('B) Eingabe (Lehrer)'!BA23=\"\", \"\",'B) Eingabe (Lehrer)'!BA23)","v":""},{"$f":"IF('B) Eingabe (Lehrer)'!BB23=\"\", \"\",'B) Eingabe (Lehrer)'!BB23)","v":""},{"$f":"IF('B) Eingabe (Lehrer)'!BC23=\"\", \"\",'B) Eingabe (Lehrer)'!BC23)","v":""},{"$f":"IF('B) Eingabe (Lehrer)'!BD23=\"\", \"\",'B) Eingabe (Lehrer)'!BD23)","v":""},{"$f":"IF('B) Eingabe (Lehrer)'!BE23=\"\", \"\",'B) Eingabe (Lehrer)'!BE23)","v":""},{"$f":"IF('B) Eingabe (Lehrer)'!BF23=\"\", \"\",'B) Eingabe (Lehrer)'!BF23)","v":""},{"$f":"IF('B) Eingabe (Lehrer)'!BG23=\"\", \"\",'B) Eingabe (Lehrer)'!BG23)","v":""},{"$f":"IF('B) Eingabe (Lehrer)'!BH23=\"\", \"\",'B) Eingabe (Lehrer)'!BH23)","v":""},{"$f":"IF('B) Eingabe (Lehrer)'!BI23=\"\", \"\",'B) Eingabe (Lehrer)'!BI23)","v":""},{"$f":"IF('B) Eingabe (Lehrer)'!BJ23=\"\", \"\",'B) Eingabe (Lehrer)'!BJ23)","v":""},{"$f":"IF('B) Eingabe (Lehrer)'!BK23=\"\", \"\",'B) Eingabe (Lehrer)'!BK23)","v":""}]
["Item 12",{"$f":"IF('B) Eingabe (Lehrer)'!C25=\"\", \"\",'B) Eingabe (Lehrer)'!C25)","v":""},{"$f":"IF('B) Eingabe (Lehrer)'!D25=\"\", \"\",'B) Eingabe (Lehrer)'!D25)","v":""},{"$f":"IF('B) Eingabe (Lehrer)'!E25=\"\", \"\",'B) Eingabe (Lehrer)'!E25)","v":""},{"$f":"IF('B) Eingabe (Lehrer)'!F25=\"\", \"\",'B) Eingabe (Lehrer)'!F25)","v":""},{"$f":"IF('B) Eingabe (Lehrer)'!G25=\"\", \"\",'B) Eingabe (Lehrer)'!G25)","v":""},{"$f":"IF('B) Eingabe (Lehrer)'!H25=\"\", \"\",'B) Eingabe (Lehrer)'!H25)","v":""},{"$f":"IF('B) Eingabe (Lehrer)'!I25=\"\", \"\",'B) Eingabe (Lehrer)'!I25)","v":""},{"$f":"IF('B) Eingabe (Lehrer)'!J25=\"\", \"\",'B) Eingabe (Lehrer)'!J25)","v":""},{"$f":"IF('B) Eingabe (Lehrer)'!K25=\"\", \"\",'B) Eingabe (Lehrer)'!K25)","v":""},{"$f":"IF('B) Eingabe (Lehrer)'!L25=\"\", \"\",'B) Eingabe (Lehrer)'!L25)","v":""},{"$f":"IF('B) Eingabe (Lehrer)'!M25=\"\", \"\",'B) Eingabe (Lehrer)'!M25)","v":""},{"$f":"IF('B) Eingabe (Lehrer)'!N25=\"\", \"\",'B) Eingabe (Lehrer)'!N25)","v":""},{"$f":"IF('B) Eingabe (Lehrer)'!O25=\"\", \"\",'B) Eingabe (Lehrer)'!O25)","v":""},{"$f":"IF('B) Eingabe (Lehrer)'!P25=\"\", \"\",'B) Eingabe (Lehrer)'!P25)","v":""},{"$f":"IF('B) Eingabe (Lehrer)'!Q25=\"\", \"\",'B) Eingabe (Lehrer)'!Q25)","v":""},{"$f":"IF('B) Eingabe (Lehrer)'!R25=\"\", \"\",'B) Eingabe (Lehrer)'!R25)","v":""},{"$f":"IF('B) Eingabe (Lehrer)'!S25=\"\", \"\",'B) Eingabe (Lehrer)'!S25)","v":""},{"$f":"IF('B) Eingabe (Lehrer)'!T25=\"\", \"\",'B) Eingabe (Lehrer)'!T25)","v":""},{"$f":"IF('B) Eingabe (Lehrer)'!U25=\"\", \"\",'B) Eingabe (Lehrer)'!U25)","v":""},{"$f":"IF('B) Eingabe (Lehrer)'!V25=\"\", \"\",'B) Eingabe (Lehrer)'!V25)","v":""},{"$f":"IF('B) Eingabe (Lehrer)'!W25=\"\", \"\",'B) Eingabe (Lehrer)'!W25)","v":""},{"$f":"IF('B) Eingabe (Lehrer)'!X25=\"\", \"\",'B) Eingabe (Lehrer)'!X25)","v":""},{"$f":"IF('B) Eingabe (Lehrer)'!Y25=\"\", \"\",'B) Eingabe (Lehrer)'!Y25)","v":""},{"$f":"IF('B) Eingabe (Lehrer)'!Z25=\"\", \"\",'B) Eingabe (Lehrer)'!Z25)","v":""},{"$f":"IF('B) Eingabe (Lehrer)'!AA25=\"\", \"\",'B) Eingabe (Lehrer)'!AA25)","v":""},{"$f":"IF('B) Eingabe (Lehrer)'!AB25=\"\", \"\",'B) Eingabe (Lehrer)'!AB25)","v":""},{"$f":"IF('B) Eingabe (Lehrer)'!AC25=\"\", \"\",'B) Eingabe (Lehrer)'!AC25)","v":""},{"$f":"IF('B) Eingabe (Lehrer)'!AD25=\"\", \"\",'B) Eingabe (Lehrer)'!AD25)","v":""},{"$f":"IF('B) Eingabe (Lehrer)'!AE25=\"\", \"\",'B) Eingabe (Lehrer)'!AE25)","v":""},{"$f":"IF('B) Eingabe (Lehrer)'!AF25=\"\", \"\",'B) Eingabe (Lehrer)'!AF25)","v":""},{"$f":"IF('B) Eingabe (Lehrer)'!AG25=\"\", \"\",'B) Eingabe (Lehrer)'!AG25)","v":""},{"$f":"IF('B) Eingabe (Lehrer)'!AH25=\"\", \"\",'B) Eingabe (Lehrer)'!AH25)","v":""},{"$f":"IF('B) Eingabe (Lehrer)'!AI25=\"\", \"\",'B) Eingabe (Lehrer)'!AI25)","v":""},{"$f":"IF('B) Eingabe (Lehrer)'!AJ25=\"\", \"\",'B) Eingabe (Lehrer)'!AJ25)","v":""},{"$f":"IF('B) Eingabe (Lehrer)'!AK25=\"\", \"\",'B) Eingabe (Lehrer)'!AK25)","v":""},{"$f":"IF('B) Eingabe (Lehrer)'!AL25=\"\", \"\",'B) Eingabe (Lehrer)'!AL25)","v":""},{"$f":"IF('B) Eingabe (Lehrer)'!AM25=\"\", \"\",'B) Eingabe (Lehrer)'!AM25)","v":""},{"$f":"IF('B) Eingabe (Lehrer)'!AN25=\"\", \"\",'B) Eingabe (Lehrer)'!AN25)","v":""},{"$f":"IF('B) Eingabe (Lehrer)'!AO25=\"\", \"\",'B) Eingabe (Lehrer)'!AO25)","v":""},{"$f":"IF('B) Eingabe (Lehrer)'!AP25=\"\", \"\",'B) Eingabe (Lehrer)'!AP25)","v":""},{"$f":"IF('B) Eingabe (Lehrer)'!AQ25=\"\", \"\",'B) Eingabe (Lehrer)'!AQ25)","v":""},{"$f":"IF('B) Eingabe (Lehrer)'!AR25=\"\", \"\",'B) Eingabe (Lehrer)'!AR25)","v":""},{"$f":"IF('B) Eingabe (Lehrer)'!AS25=\"\", \"\",'B) Eingabe (Lehrer)'!AS25)","v":""},{"$f":"IF('B) Eingabe (Lehrer)'!AT25=\"\", \"\",'B) Eingabe (Lehrer)'!AT25)","v":""},{"$f":"IF('B) Eingabe (Lehrer)'!AU25=\"\", \"\",'B) Eingabe (Lehrer)'!AU25)","v":""},{"$f":"IF('B) Eingabe (Lehrer)'!AV25=\"\", \"\",'B) Eingabe (Lehrer)'!AV25)","v":""},{"$f":"IF('B) Eingabe (Lehrer)'!AW25=\"\", \"\",'B) Eingabe (Lehrer)'!AW25)","v":""},{"$f":"IF('B) Eingabe (Lehrer)'!AX25=\"\", \"\",'B) Eingabe (Lehrer)'!AX25)","v":""},{"$f":"IF('B) Eingabe (Lehrer)'!AY25=\"\", \"\",'B) Eingabe (Lehrer)'!AY25)","v":""},{"$f":"IF('B) Eingabe (Lehrer)'!AZ25=\"\", \"\",'B) Eingabe (Lehrer)'!AZ25)","v":""},{"$f":"IF('B) Eingabe (Lehrer)'!BA25=\"\", \"\",'B) Eingabe (Lehrer)'!BA25)","v":""},{"$f":"IF('B) Eingabe (Lehrer)'!BB25=\"\", \"\",'B) Eingabe (Lehrer)'!BB25)","v":""},{"$f":"IF('B) Eingabe (Lehrer)'!BC25=\"\", \"\",'B) Eingabe (Lehrer)'!BC25)","v":""},{"$f":"IF('B) Eingabe (Lehrer)'!BD25=\"\", \"\",'B) Eingabe (Lehrer)'!BD25)","v":""},{"$f":"IF('B) Eingabe (Lehrer)'!BE25=\"\", \"\",'B) Eingabe (Lehrer)'!BE25)","v":""},{"$f":"IF('B) Eingabe (Lehrer)'!BF25=\"\", \"\",'B) Eingabe (Lehrer)'!BF25)","v":""},{"$f":"IF('B) Eingabe (Lehrer)'!BG25=\"\", \"\",'B) Eingabe (Lehrer)'!BG25)","v":""},{"$f":"IF('B) Eingabe (Lehrer)'!BH25=\"\", \"\",'B) Eingabe (Lehrer)'!BH25)","v":""},{"$f":"IF('B) Eingabe (Lehrer)'!BI25=\"\", \"\",'B) Eingabe (Lehrer)'!BI25)","v":""},{"$f":"IF('B) Eingabe (Lehrer)'!BJ25=\"\", \"\",'B) Eingabe (Lehrer)'!BJ25)","v":""},{"$f":"IF('B) Eingabe (Lehrer)'!BK25=\"\", \"\",'B) Eingabe (Lehrer)'!BK25)","v":""}]
["Item 13",{"$f":"IF('B) Eingabe (Lehrer)'!C26=\"\", \"\",'B) Eingabe (Lehrer)'!C26)","v":""},{"$f":"IF('B) Eingabe (Lehrer)'!D26=\"\", \"\",'B) Eingabe (Lehrer)'!D26)","v":""},{"$f":"IF('B) Eingabe (Lehrer)'!E26=\"\", \"\",'B) Eingabe (Lehrer)'!E26)","v":""},{"$f":"IF('B) Eingabe (Lehrer)'!F26=\"\", \"\",'B) Eingabe (Lehrer)'!F26)","v":""},{"$f":"IF('B) Eingabe (Lehrer)'!G26=\"\", \"\",'B) Eingabe (Lehrer)'!G26)","v":""},{"$f":"IF('B) Eingabe (Lehrer)'!H26=\"\", \"\",'B) Eingabe (Lehrer)'!H26)","v":""},{"$f":"IF('B) Eingabe (Lehrer)'!I26=\"\", \"\",'B) Eingabe (Lehrer)'!I26)","v":""},{"$f":"IF('B) Eingabe (Lehrer)'!J26=\"\", \"\",'B) Eingabe (Lehrer)'!J26)","v":""},{"$f":"IF('B) Eingabe (Lehrer)'!K26=\"\", \"\",'B) Eingabe (Lehrer)'!K26)","v":""},{"$f":"IF('B) Eingabe (Lehrer)'!L26=\"\", \"\",'B) Eingabe (Lehrer)'!L26)","v":""},{"$f":"IF('B) Eingabe (Lehrer)'!M26=\"\", \"\",'B) Eingabe (Lehrer)'!M26)","v":""},{"$f":"IF('B) Eingabe (Lehrer)'!N26=\"\", \"\",'B) Eingabe (Lehrer)'!N26)","v":""},{"$f":"IF('B) Eingabe (Lehrer)'!O26=\"\", \"\",'B) Eingabe (Lehrer)'!O26)","v":""},{"$f":"IF('B) Eingabe (Lehrer)'!P26=\"\", \"\",'B) Eingabe (Lehrer)'!P26)","v":""},{"$f":"IF('B) Eingabe (Lehrer)'!Q26=\"\", \"\",'B) Eingabe (Lehrer)'!Q26)","v":""},{"$f":"IF('B) Eingabe (Lehrer)'!R26=\"\", \"\",'B) Eingabe (Lehrer)'!R26)","v":""},{"$f":"IF('B) Eingabe (Lehrer)'!S26=\"\", \"\",'B) Eingabe (Lehrer)'!S26)","v":""},{"$f":"IF('B) Eingabe (Lehrer)'!T26=\"\", \"\",'B) Eingabe (Lehrer)'!T26)","v":""},{"$f":"IF('B) Eingabe (Lehrer)'!U26=\"\", \"\",'B) Eingabe (Lehrer)'!U26)","v":""},{"$f":"IF('B) Eingabe (Lehrer)'!V26=\"\", \"\",'B) Eingabe (Lehrer)'!V26)","v":""},{"$f":"IF('B) Eingabe (Lehrer)'!W26=\"\", \"\",'B) Eingabe (Lehrer)'!W26)","v":""},{"$f":"IF('B) Eingabe (Lehrer)'!X26=\"\", \"\",'B) Eingabe (Lehrer)'!X26)","v":""},{"$f":"IF('B) Eingabe (Lehrer)'!Y26=\"\", \"\",'B) Eingabe (Lehrer)'!Y26)","v":""},{"$f":"IF('B) Eingabe (Lehrer)'!Z26=\"\", \"\",'B) Eingabe (Lehrer)'!Z26)","v":""},{"$f":"IF('B) Eingabe (Lehrer)'!AA26=\"\", \"\",'B) Eingabe (Lehrer)'!AA26)","v":""},{"$f":"IF('B) Eingabe (Lehrer)'!AB26=\"\", \"\",'B) Eingabe (Lehrer)'!AB26)","v":""},{"$f":"IF('B) Eingabe (Lehrer)'!AC26=\"\", \"\",'B) Eingabe (Lehrer)'!AC26)","v":""},{"$f":"IF('B) Eingabe (Lehrer)'!AD26=\"\", \"\",'B) Eingabe (Lehrer)'!AD26)","v":""},{"$f":"IF('B) Eingabe (Lehrer)'!AE26=\"\", \"\",'B) Eingabe (Lehrer)'!AE26)","v":""},{"$f":"IF('B) Eingabe (Lehrer)'!AF26=\"\", \"\",'B) Eingabe (Lehrer)'!AF26)","v":""},{"$f":"IF('B) Eingabe (Lehrer)'!AG26=\"\", \"\",'B) Eingabe (Lehrer)'!AG26)","v":""},{"$f":"IF('B) Eingabe (Lehrer)'!AH26=\"\", \"\",'B) Eingabe (Lehrer)'!AH26)","v":""},{"$f":"IF('B) Eingabe (Lehrer)'!AI26=\"\", \"\",'B) Eingabe (Lehrer)'!AI26)","v":""},{"$f":"IF('B) Eingabe (Lehrer)'!AJ26=\"\", \"\",'B) Eingabe (Lehrer)'!AJ26)","v":""},{"$f":"IF('B) Eingabe (Lehrer)'!AK26=\"\", \"\",'B) Eingabe (Lehrer)'!AK26)","v":""},{"$f":"IF('B) Eingabe (Lehrer)'!AL26=\"\", \"\",'B) Eingabe (Lehrer)'!AL26)","v":""},{"$f":"IF('B) Eingabe (Lehrer)'!AM26=\"\", \"\",'B) Eingabe (Lehrer)'!AM26)","v":""},{"$f":"IF('B) Eingabe (Lehrer)'!AN26=\"\", \"\",'B) Eingabe (Lehrer)'!AN26)","v":""},{"$f":"IF('B) Eingabe (Lehrer)'!AO26=\"\", \"\",'B) Eingabe (Lehrer)'!AO26)","v":""},{"$f":"IF('B) Eingabe (Lehrer)'!AP26=\"\", \"\",'B) Eingabe (Lehrer)'!AP26)","v":""},{"$f":"IF('B) Eingabe (Lehrer)'!AQ26=\"\", \"\",'B) Eingabe (Lehrer)'!AQ26)","v":""},{"$f":"IF('B) Eingabe (Lehrer)'!AR26=\"\", \"\",'B) Eingabe (Lehrer)'!AR26)","v":""},{"$f":"IF('B) Eingabe (Lehrer)'!AS26=\"\", \"\",'B) Eingabe (Lehrer)'!AS26)","v":""},{"$f":"IF('B) Eingabe (Lehrer)'!AT26=\"\", \"\",'B) Eingabe (Lehrer)'!AT26)","v":""},{"$f":"IF('B) Eingabe (Lehrer)'!AU26=\"\", \"\",'B) Eingabe (Lehrer)'!AU26)","v":""},{"$f":"IF('B) Eingabe (Lehrer)'!AV26=\"\", \"\",'B) Eingabe (Lehrer)'!AV26)","v":""},{"$f":"IF('B) Eingabe (Lehrer)'!AW26=\"\", \"\",'B) Eingabe (Lehrer)'!AW26)","v":""},{"$f":"IF('B) Eingabe (Lehrer)'!AX26=\"\", \"\",'B) Eingabe (Lehrer)'!AX26)","v":""},{"$f":"IF('B) Eingabe (Lehrer)'!AY26=\"\", \"\",'B) Eingabe (Lehrer)'!AY26)","v":""},{"$f":"IF('B) Eingabe (Lehrer)'!AZ26=\"\", \"\",'B) Eingabe (Lehrer)'!AZ26)","v":""},{"$f":"IF('B) Eingabe (Lehrer)'!BA26=\"\", \"\",'B) Eingabe (Lehrer)'!BA26)","v":""},{"$f":"IF('B) Eingabe (Lehrer)'!BB26=\"\", \"\",'B) Eingabe (Lehrer)'!BB26)","v":""},{"$f":"IF('B) Eingabe (Lehrer)'!BC26=\"\", \"\",'B) Eingabe (Lehrer)'!BC26)","v":""},{"$f":"IF('B) Eingabe (Lehrer)'!BD26=\"\", \"\",'B) Eingabe (Lehrer)'!BD26)","v":""},{"$f":"IF('B) Eingabe (Lehrer)'!BE26=\"\", \"\",'B) Eingabe (Lehrer)'!BE26)","v":""},{"$f":"IF('B) Eingabe (Lehrer)'!BF26=\"\", \"\",'B) Eingabe (Lehrer)'!BF26)","v":""},{"$f":"IF('B) Eingabe (Lehrer)'!BG26=\"\", \"\",'B) Eingabe (Lehrer)'!BG26)","v":""},{"$f":"IF('B) Eingabe (Lehrer)'!BH26=\"\", \"\",'B) Eingabe (Lehrer)'!BH26)","v":""},{"$f":"IF('B) Eingabe (Lehrer)'!BI26=\"\", \"\",'B) Eingabe (Lehrer)'!BI26)","v":""},{"$f":"IF('B) Eingabe (Lehrer)'!BJ26=\"\", \"\",'B) Eingabe (Lehrer)'!BJ26)","v":""},{"$f":"IF('B) Eingabe (Lehrer)'!BK26=\"\", \"\",'B) Eingabe (Lehrer)'!BK26)","v":""}]
["Item 14",{"$f":"IF('B) Eingabe (Lehrer)'!C27=\"\", \"\",'B) Eingabe (Lehrer)'!C27)","v":""},{"$f":"IF('B) Eingabe (Lehrer)'!D27=\"\", \"\",'B) Eingabe (Lehrer)'!D27)","v":""},{"$f":"IF('B) Eingabe (Lehrer)'!E27=\"\", \"\",'B) Eingabe (Lehrer)'!E27)","v":""},{"$f":"IF('B) Eingabe (Lehrer)'!F27=\"\", \"\",'B) Eingabe (Lehrer)'!F27)","v":""},{"$f":"IF('B) Eingabe (Lehrer)'!G27=\"\", \"\",'B) Eingabe (Lehrer)'!G27)","v":""},{"$f":"IF('B) Eingabe (Lehrer)'!H27=\"\", \"\",'B) Eingabe (Lehrer)'!H27)","v":""},{"$f":"IF('B) Eingabe (Lehrer)'!I27=\"\", \"\",'B) Eingabe (Lehrer)'!I27)","v":""},{"$f":"IF('B) Eingabe (Lehrer)'!J27=\"\", \"\",'B) Eingabe (Lehrer)'!J27)","v":""},{"$f":"IF('B) Eingabe (Lehrer)'!K27=\"\", \"\",'B) Eingabe (Lehrer)'!K27)","v":""},{"$f":"IF('B) Eingabe (Lehrer)'!L27=\"\", \"\",'B) Eingabe (Lehrer)'!L27)","v":""},{"$f":"IF('B) Eingabe (Lehrer)'!M27=\"\", \"\",'B) Eingabe (Lehrer)'!M27)","v":""},{"$f":"IF('B) Eingabe (Lehrer)'!N27=\"\", \"\",'B) Eingabe (Lehrer)'!N27)","v":""},{"$f":"IF('B) Eingabe (Lehrer)'!O27=\"\", \"\",'B) Eingabe (Lehrer)'!O27)","v":""},{"$f":"IF('B) Eingabe (Lehrer)'!P27=\"\", \"\",'B) Eingabe (Lehrer)'!P27)","v":""},{"$f":"IF('B) Eingabe (Lehrer)'!Q27=\"\", \"\",'B) Eingabe (Lehrer)'!Q27)","v":""},{"$f":"IF('B) Eingabe (Lehrer)'!R27=\"\", \"\",'B) Eingabe (Lehrer)'!R27)","v":""},{"$f":"IF('B) Eingabe (Lehrer)'!S27=\"\", \"\",'B) Eingabe (Lehrer)'!S27)","v":""},{"$f":"IF('B) Eingabe (Lehrer)'!T27=\"\", \"\",'B) Eingabe (Lehrer)'!T27)","v":""},{"$f":"IF('B) Eingabe (Lehrer)'!U27=\"\", \"\",'B) Eingabe (Lehrer)'!U27)","v":""},{"$f":"IF('B) Eingabe (Lehrer)'!V27=\"\", \"\",'B) Eingabe (Lehrer)'!V27)","v":""},{"$f":"IF('B) Eingabe (Lehrer)'!W27=\"\", \"\",'B) Eingabe (Lehrer)'!W27)","v":""},{"$f":"IF('B) Eingabe (Lehrer)'!X27=\"\", \"\",'B) Eingabe (Lehrer)'!X27)","v":""},{"$f":"IF('B) Eingabe (Lehrer)'!Y27=\"\", \"\",'B) Eingabe (Lehrer)'!Y27)","v":""},{"$f":"IF('B) Eingabe (Lehrer)'!Z27=\"\", \"\",'B) Eingabe (Lehrer)'!Z27)","v":""},{"$f":"IF('B) Eingabe (Lehrer)'!AA27=\"\", \"\",'B) Eingabe (Lehrer)'!AA27)","v":""},{"$f":"IF('B) Eingabe (Lehrer)'!AB27=\"\", \"\",'B) Eingabe (Lehrer)'!AB27)","v":""},{"$f":"IF('B) Eingabe (Lehrer)'!AC27=\"\", \"\",'B) Eingabe (Lehrer)'!AC27)","v":""},{"$f":"IF('B) Eingabe (Lehrer)'!AD27=\"\", \"\",'B) Eingabe (Lehrer)'!AD27)","v":""},{"$f":"IF('B) Eingabe (Lehrer)'!AE27=\"\", \"\",'B) Eingabe (Lehrer)'!AE27)","v":""},{"$f":"IF('B) Eingabe (Lehrer)'!AF27=\"\", \"\",'B) Eingabe (Lehrer)'!AF27)","v":""},{"$f":"IF('B) Eingabe (Lehrer)'!AG27=\"\", \"\",'B) Eingabe (Lehrer)'!AG27)","v":""},{"$f":"IF('B) Eingabe (Lehrer)'!AH27=\"\", \"\",'B) Eingabe (Lehrer)'!AH27)","v":""},{"$f":"IF('B) Eingabe (Lehrer)'!AI27=\"\", \"\",'B) Eingabe (Lehrer)'!AI27)","v":""},{"$f":"IF('B) Eingabe (Lehrer)'!AJ27=\"\", \"\",'B) Eingabe (Lehrer)'!AJ27)","v":""},{"$f":"IF('B) Eingabe (Lehrer)'!AK27=\"\", \"\",'B) Eingabe (Lehrer)'!AK27)","v":""},{"$f":"IF('B) Eingabe (Lehrer)'!AL27=\"\", \"\",'B) Eingabe (Lehrer)'!AL27)","v":""},{"$f":"IF('B) Eingabe (Lehrer)'!AM27=\"\", \"\",'B) Eingabe (Lehrer)'!AM27)","v":""},{"$f":"IF('B) Eingabe (Lehrer)'!AN27=\"\", \"\",'B) Eingabe (Lehrer)'!AN27)","v":""},{"$f":"IF('B) Eingabe (Lehrer)'!AO27=\"\", \"\",'B) Eingabe (Lehrer)'!AO27)","v":""},{"$f":"IF('B) Eingabe (Lehrer)'!AP27=\"\", \"\",'B) Eingabe (Lehrer)'!AP27)","v":""},{"$f":"IF('B) Eingabe (Lehrer)'!AQ27=\"\", \"\",'B) Eingabe (Lehrer)'!AQ27)","v":""},{"$f":"IF('B) Eingabe (Lehrer)'!AR27=\"\", \"\",'B) Eingabe (Lehrer)'!AR27)","v":""},{"$f":"IF('B) Eingabe (Lehrer)'!AS27=\"\", \"\",'B) Eingabe (Lehrer)'!AS27)","v":""},{"$f":"IF('B) Eingabe (Lehrer)'!AT27=\"\", \"\",'B) Eingabe (Lehrer)'!AT27)","v":""},{"$f":"IF('B) Eingabe (Lehrer)'!AU27=\"\", \"\",'B) Eingabe (Lehrer)'!AU27)","v":""},{"$f":"IF('B) Eingabe (Lehrer)'!AV27=\"\", \"\",'B) Eingabe (Lehrer)'!AV27)","v":""},{"$f":"IF('B) Eingabe (Lehrer)'!AW27=\"\", \"\",'B) Eingabe (Lehrer)'!AW27)","v":""},{"$f":"IF('B) Eingabe (Lehrer)'!AX27=\"\", \"\",'B) Eingabe (Lehrer)'!AX27)","v":""},{"$f":"IF('B) Eingabe (Lehrer)'!AY27=\"\", \"\",'B) Eingabe (Lehrer)'!AY27)","v":""},{"$f":"IF('B) Eingabe (Lehrer)'!AZ27=\"\", \"\",'B) Eingabe (Lehrer)'!AZ27)","v":""},{"$f":"IF('B) Eingabe (Lehrer)'!BA27=\"\", \"\",'B) Eingabe (Lehrer)'!BA27)","v":""},{"$f":"IF('B) Eingabe (Lehrer)'!BB27=\"\", \"\",'B) Eingabe (Lehrer)'!BB27)","v":""},{"$f":"IF('B) Eingabe (Lehrer)'!BC27=\"\", \"\",'B) Eingabe (Lehrer)'!BC27)","v":""},{"$f":"IF('B) Eingabe (Lehrer)'!BD27=\"\", \"\",'B) Eingabe (Lehrer)'!BD27)","v":""},{"$f":"IF('B) Eingabe (Lehrer)'!BE27=\"\", \"\",'B) Eingabe (Lehrer)'!BE27)","v":""},{"$f":"IF('B) Eingabe (Lehrer)'!BF27=\"\", \"\",'B) Eingabe (Lehrer)'!BF27)","v":""},{"$f":"IF('B) Eingabe (Lehrer)'!BG27=\"\", \"\",'B) Eingabe (Lehrer)'!BG27)","v":""},{"$f":"IF('B) Eingabe (Lehrer)'!BH27=\"\", \"\",'B) Eingabe (Lehrer)'!BH27)","v":""},{"$f":"IF('B) Eingabe (Lehrer)'!BI27=\"\", \"\",'B) Eingabe (Lehrer)'!BI27)","v":""},{"$f":"IF('B) Eingabe (Lehrer)'!BJ27=\"\", \"\",'B) Eingabe (Lehrer)'!BJ27)","v":""},{"$f":"IF('B) Eingabe (Lehrer)'!BK27=\"\", \"\",'B) Eingabe (Lehrer)'!BK27)","v":""}]
["Item 15",{"$f":"IF('B) Eingabe (Lehrer)'!C28=\"\", \"\",'B) Eingabe (Lehrer)'!C28)","v":""},{"$f":"IF('B) Eingabe (Lehrer)'!D28=\"\", \"\",'B) Eingabe (Lehrer)'!D28)","v":""},{"$f":"IF('B) Eingabe (Lehrer)'!E28=\"\", \"\",'B) Eingabe (Lehrer)'!E28)","v":""},{"$f":"IF('B) Eingabe (Lehrer)'!F28=\"\", \"\",'B) Eingabe (Lehrer)'!F28)","v":""},{"$f":"IF('B) Eingabe (Lehrer)'!G28=\"\", \"\",'B) Eingabe (Lehrer)'!G28)","v":""},{"$f":"IF('B) Eingabe (Lehrer)'!H28=\"\", \"\",'B) Eingabe (Lehrer)'!H28)","v":""},{"$f":"IF('B) Eingabe (Lehrer)'!I28=\"\", \"\",'B) Eingabe (Lehrer)'!I28)","v":""},{"$f":"IF('B) Eingabe (Lehrer)'!J28=\"\", \"\",'B) Eingabe (Lehrer)'!J28)","v":""},{"$f":"IF('B) Eingabe (Lehrer)'!K28=\"\", \"\",'B) Eingabe (Lehrer)'!K28)","v":""},{"$f":"IF('B) Eingabe (Lehrer)'!L28=\"\", \"\",'B) Eingabe (Lehrer)'!L28)","v":""},{"$f":"IF('B) Eingabe (Lehrer)'!M28=\"\", \"\",'B) Eingabe (Lehrer)'!M28)","v":""},{"$f":"IF('B) Eingabe (Lehrer)'!N28=\"\", \"\",'B) Eingabe (Lehrer)'!N28)","v":""},{"$f":"IF('B) Eingabe (Lehrer)'!O28=\"\", \"\",'B) Eingabe (Lehrer)'!O28)","v":""},{"$f":"IF('B) Eingabe (Lehrer)'!P28=\"\", \"\",'B) Eingabe (Lehrer)'!P28)","v":""},{"$f":"IF('B) Eingabe (Lehrer)'!Q28=\"\", \"\",'B) Eingabe (Lehrer)'!Q28)","v":""},{"$f":"IF('B) Eingabe (Lehrer)'!R28=\"\", \"\",'B) Eingabe (Lehrer)'!R28)","v":""},{"$f":"IF('B) Eingabe (Lehrer)'!S28=\"\", \"\",'B) Eingabe (Lehrer)'!S28)","v":""},{"$f":"IF('B) Eingabe (Lehrer)'!T28=\"\", \"\",'B) Eingabe (Lehrer)'!T28)","v":""},{"$f":"IF('B) Eingabe (Lehrer)'!U28=\"\", \"\",'B) Eingabe (Lehrer)'!U28)","v":""},{"$f":"IF('B) Eingabe (Lehrer)'!V28=\"\", \"\",'B) Eingabe (Lehrer)'!V28)","v":""},{"$f":"IF('B) Eingabe (Lehrer)'!W28=\"\", \"\",'B) Eingabe (Lehrer)'!W28)","v":""},{"$f":"IF('B) Eingabe (Lehrer)'!X28=\"\", \"\",'B) Eingabe (Lehrer)'!X28)","v":""},{"$f":"IF('B) Eingabe (Lehrer)'!Y28=\"\", \"\",'B) Eingabe (Lehrer)'!Y28)","v":""},{"$f":"IF('B) Eingabe (Lehrer)'!Z28=\"\", \"\",'B) Eingabe (Lehrer)'!Z28)","v":""},{"$f":"IF('B) Eingabe (Lehrer)'!AA28=\"\", \"\",'B) Eingabe (Lehrer)'!AA28)","v":""},{"$f":"IF('B) Eingabe (Lehrer)'!AB28=\"\", \"\",'B) Eingabe (Lehrer)'!AB28)","v":""},{"$f":"IF('B) Eingabe (Lehrer)'!AC28=\"\", \"\",'B) Eingabe (Lehrer)'!AC28)","v":""},{"$f":"IF('B) Eingabe (Lehrer)'!AD28=\"\", \"\",'B) Eingabe (Lehrer)'!AD28)","v":""},{"$f":"IF('B) Eingabe (Lehrer)'!AE28=\"\", \"\",'B) Eingabe (Lehrer)'!AE28)","v":""},{"$f":"IF('B) Eingabe (Lehrer)'!AF28=\"\", \"\",'B) Eingabe (Lehrer)'!AF28)","v":""},{"$f":"IF('B) Eingabe (Lehrer)'!AG28=\"\", \"\",'B) Eingabe (Lehrer)'!AG28)","v":""},{"$f":"IF('B) Eingabe (Lehrer)'!AH28=\"\", \"\",'B) Eingabe (Lehrer)'!AH28)","v":""},{"$f":"IF('B) Eingabe (Lehrer)'!AI28=\"\", \"\",'B) Eingabe (Lehrer)'!AI28)","v":""},{"$f":"IF('B) Eingabe (Lehrer)'!AJ28=\"\", \"\",'B) Eingabe (Lehrer)'!AJ28)","v":""},{"$f":"IF('B) Eingabe (Lehrer)'!AK28=\"\", \"\",'B) Eingabe (Lehrer)'!AK28)","v":""},{"$f":"IF('B) Eingabe (Lehrer)'!AL28=\"\", \"\",'B) Eingabe (Lehrer)'!AL28)","v":""},{"$f":"IF('B) Eingabe (Lehrer)'!AM28=\"\", \"\",'B) Eingabe (Lehrer)'!AM28)","v":""},{"$f":"IF('B) Eingabe (Lehrer)'!AN28=\"\", \"\",'B) Eingabe (Lehrer)'!AN28)","v":""},{"$f":"IF('B) Eingabe (Lehrer)'!AO28=\"\", \"\",'B) Eingabe (Lehrer)'!AO28)","v":""},{"$f":"IF('B) Eingabe (Lehrer)'!AP28=\"\", \"\",'B) Eingabe (Lehrer)'!AP28)","v":""},{"$f":"IF('B) Eingabe (Lehrer)'!AQ28=\"\", \"\",'B) Eingabe (Lehrer)'!AQ28)","v":""},{"$f":"IF('B) Eingabe (Lehrer)'!AR28=\"\", \"\",'B) Eingabe (Lehrer)'!AR28)","v":""},{"$f":"IF('B) Eingabe (Lehrer)'!AS28=\"\", \"\",'B) Eingabe (Lehrer)'!AS28)","v":""},{"$f":"IF('B) Eingabe (Lehrer)'!AT28=\"\", \"\",'B) Eingabe (Lehrer)'!AT28)","v":""},{"$f":"IF('B) Eingabe (Lehrer)'!AU28=\"\", \"\",'B) Eingabe (Lehrer)'!AU28)","v":""},{"$f":"IF('B) Eingabe (Lehrer)'!AV28=\"\", \"\",'B) Eingabe (Lehrer)'!AV28)","v":""},{"$f":"IF('B) Eingabe (Lehrer)'!AW28=\"\", \"\",'B) Eingabe (Lehrer)'!AW28)","v":""},{"$f":"IF('B) Eingabe (Lehrer)'!AX28=\"\", \"\",'B) Eingabe (Lehrer)'!AX28)","v":""},{"$f":"IF('B) Eingabe (Lehrer)'!AY28=\"\", \"\",'B) Eingabe (Lehrer)'!AY28)","v":""},{"$f":"IF('B) Eingabe (Lehrer)'!AZ28=\"\", \"\",'B) Eingabe (Lehrer)'!AZ28)","v":""},{"$f":"IF('B) Eingabe (Lehrer)'!BA28=\"\", \"\",'B) Eingabe (Lehrer)'!BA28)","v":""},{"$f":"IF('B) Eingabe (Lehrer)'!BB28=\"\", \"\",'B) Eingabe (Lehrer)'!BB28)","v":""},{"$f":"IF('B) Eingabe (Lehrer)'!BC28=\"\", \"\",'B) Eingabe (Lehrer)'!BC28)","v":""},{"$f":"IF('B) Eingabe (Lehrer)'!BD28=\"\", \"\",'B) Eingabe (Lehrer)'!BD28)","v":""},{"$f":"IF('B) Eingabe (Lehrer)'!BE28=\"\", \"\",'B) Eingabe (Lehrer)'!BE28)","v":""},{"$f":"IF('B) Eingabe (Lehrer)'!BF28=\"\", \"\",'B) Eingabe (Lehrer)'!BF28)","v":""},{"$f":"IF('B) Eingabe (Lehrer)'!BG28=\"\", \"\",'B) Eingabe (Lehrer)'!BG28)","v":""},{"$f":"IF('B) Eingabe (Lehrer)'!BH28=\"\", \"\",'B) Eingabe (Lehrer)'!BH28)","v":""},{"$f":"IF('B) Eingabe (Lehrer)'!BI28=\"\", \"\",'B) Eingabe (Lehrer)'!BI28)","v":""},{"$f":"IF('B) Eingabe (Lehrer)'!BJ28=\"\", \"\",'B) Eingabe (Lehrer)'!BJ28)","v":""},{"$f":"IF('B) Eingabe (Lehrer)'!BK28=\"\", \"\",'B) Eingabe (Lehrer)'!BK28)","v":""}]
["Item 16",{"$f":"IF('B) Eingabe (Lehrer)'!C29=\"\", \"\",'B) Eingabe (Lehrer)'!C29)","v":""},{"$f":"IF('B) Eingabe (Lehrer)'!D29=\"\", \"\",'B) Eingabe (Lehrer)'!D29)","v":""},{"$f":"IF('B) Eingabe (Lehrer)'!E29=\"\", \"\",'B) Eingabe (Lehrer)'!E29)","v":""},{"$f":"IF('B) Eingabe (Lehrer)'!F29=\"\", \"\",'B) Eingabe (Lehrer)'!F29)","v":""},{"$f":"IF('B) Eingabe (Lehrer)'!G29=\"\", \"\",'B) Eingabe (Lehrer)'!G29)","v":""},{"$f":"IF('B) Eingabe (Lehrer)'!H29=\"\", \"\",'B) Eingabe (Lehrer)'!H29)","v":""},{"$f":"IF('B) Eingabe (Lehrer)'!I29=\"\", \"\",'B) Eingabe (Lehrer)'!I29)","v":""},{"$f":"IF('B) Eingabe (Lehrer)'!J29=\"\", \"\",'B) Eingabe (Lehrer)'!J29)","v":""},{"$f":"IF('B) Eingabe (Lehrer)'!K29=\"\", \"\",'B) Eingabe (Lehrer)'!K29)","v":""},{"$f":"IF('B) Eingabe (Lehrer)'!L29=\"\", \"\",'B) Eingabe (Lehrer)'!L29)","v":""},{"$f":"IF('B) Eingabe (Lehrer)'!M29=\"\", \"\",'B) Eingabe (Lehrer)'!M29)","v":""},{"$f":"IF('B) Eingabe (Lehrer)'!N29=\"\", \"\",'B) Eingabe (Lehrer)'!N29)","v":""},{"$f":"IF('B) Eingabe (Lehrer)'!O29=\"\", \"\",'B) Eingabe (Lehrer)'!O29)","v":""},{"$f":"IF('B) Eingabe (Lehrer)'!P29=\"\", \"\",'B) Eingabe (Lehrer)'!P29)","v":""},{"$f":"IF('B) Eingabe (Lehrer)'!Q29=\"\", \"\",'B) Eingabe (Lehrer)'!Q29)","v":""},{"$f":"IF('B) Eingabe (Lehrer)'!R29=\"\", \"\",'B) Eingabe (Lehrer)'!R29)","v":""},{"$f":"IF('B) Eingabe (Lehrer)'!S29=\"\", \"\",'B) Eingabe (Lehrer)'!S29)","v":""},{"$f":"IF('B) Eingabe (Lehrer)'!T29=\"\", \"\",'B) Eingabe (Lehrer)'!T29)","v":""},{"$f":"IF('B) Eingabe (Lehrer)'!U29=\"\", \"\",'B) Eingabe (Lehrer)'!U29)","v":""},{"$f":"IF('B) Eingabe (Lehrer)'!V29=\"\", \"\",'B) Eingabe (Lehrer)'!V29)","v":""},{"$f":"IF('B) Eingabe (Lehrer)'!W29=\"\", \"\",'B) Eingabe (Lehrer)'!W29)","v":""},{"$f":"IF('B) Eingabe (Lehrer)'!X29=\"\", \"\",'B) Eingabe (Lehrer)'!X29)","v":""},{"$f":"IF('B) Eingabe (Lehrer)'!Y29=\"\", \"\",'B) Eingabe (Lehrer)'!Y29)","v":""},{"$f":"IF('B) Eingabe (Lehrer)'!Z29=\"\", \"\",'B) Eingabe (Lehrer)'!Z29)","v":""},{"$f":"IF('B) Eingabe (Lehrer)'!AA29=\"\", \"\",'B) Eingabe (Lehrer)'!AA29)","v":""},{"$f":"IF('B) Eingabe (Lehrer)'!AB29=\"\", \"\",'B) Eingabe (Lehrer)'!AB29)","v":""},{"$f":"IF('B) Eingabe (Lehrer)'!AC29=\"\", \"\",'B) Eingabe (Lehrer)'!AC29)","v":""},{"$f":"IF('B) Eingabe (Lehrer)'!AD29=\"\", \"\",'B) Eingabe (Lehrer)'!AD29)","v":""},{"$f":"IF('B) Eingabe (Lehrer)'!AE29=\"\", \"\",'B) Eingabe (Lehrer)'!AE29)","v":""},{"$f":"IF('B) Eingabe (Lehrer)'!AF29=\"\", \"\",'B) Eingabe (Lehrer)'!AF29)","v":""},{"$f":"IF('B) Eingabe (Lehrer)'!AG29=\"\", \"\",'B) Eingabe (Lehrer)'!AG29)","v":""},{"$f":"IF('B) Eingabe (Lehrer)'!AH29=\"\", \"\",'B) Eingabe (Lehrer)'!AH29)","v":""},{"$f":"IF('B) Eingabe (Lehrer)'!AI29=\"\", \"\",'B) Eingabe (Lehrer)'!AI29)","v":""},{"$f":"IF('B) Eingabe (Lehrer)'!AJ29=\"\", \"\",'B) Eingabe (Lehrer)'!AJ29)","v":""},{"$f":"IF('B) Eingabe (Lehrer)'!AK29=\"\", \"\",'B) Eingabe (Lehrer)'!AK29)","v":""},{"$f":"IF('B) Eingabe (Lehrer)'!AL29=\"\", \"\",'B) Eingabe (Lehrer)'!AL29)","v":""},{"$f":"IF('B) Eingabe (Lehrer)'!AM29=\"\", \"\",'B) Eingabe (Lehrer)'!AM29)","v":""},{"$f":"IF('B) Eingabe (Lehrer)'!AN29=\"\", \"\",'B) Eingabe (Lehrer)'!AN29)","v":""},{"$f":"IF('B) Eingabe (Lehrer)'!AO29=\"\", \"\",'B) Eingabe (Lehrer)'!AO29)","v":""},{"$f":"IF('B) Eingabe (Lehrer)'!AP29=\"\", \"\",'B) Eingabe (Lehrer)'!AP29)","v":""},{"$f":"IF('B) Eingabe (Lehrer)'!AQ29=\"\", \"\",'B) Eingabe (Lehrer)'!AQ29)","v":""},{"$f":"IF('B) Eingabe (Lehrer)'!AR29=\"\", \"\",'B) Eingabe (Lehrer)'!AR29)","v":""},{"$f":"IF('B) Eingabe (Lehrer)'!AS29=\"\", \"\",'B) Eingabe (Lehrer)'!AS29)","v":""},{"$f":"IF('B) Eingabe (Lehrer)'!AT29=\"\", \"\",'B) Eingabe (Lehrer)'!AT29)","v":""},{"$f":"IF('B) Eingabe (Lehrer)'!AU29=\"\", \"\",'B) Eingabe (Lehrer)'!AU29)","v":""},{"$f":"IF('B) Eingabe (Lehrer)'!AV29=\"\", \"\",'B) Eingabe (Lehrer)'!AV29)","v":""},{"$f":"IF('B) Eingabe (Lehrer)'!AW29=\"\", \"\",'B) Eingabe (Lehrer)'!AW29)","v":""},{"$f":"IF('B) Eingabe (Lehrer)'!AX29=\"\", \"\",'B) Eingabe (Lehrer)'!AX29)","v":""},{"$f":"IF('B) Eingabe (Lehrer)'!AY29=\"\", \"\",'B) Eingabe (Lehrer)'!AY29)","v":""},{"$f":"IF('B) Eingabe (Lehrer)'!AZ29=\"\", \"\",'B) Eingabe (Lehrer)'!AZ29)","v":""},{"$f":"IF('B) Eingabe (Lehrer)'!BA29=\"\", \"\",'B) Eingabe (Lehrer)'!BA29)","v":""},{"$f":"IF('B) Eingabe (Lehrer)'!BB29=\"\", \"\",'B) Eingabe (Lehrer)'!BB29)","v":""},{"$f":"IF('B) Eingabe (Lehrer)'!BC29=\"\", \"\",'B) Eingabe (Lehrer)'!BC29)","v":""},{"$f":"IF('B) Eingabe (Lehrer)'!BD29=\"\", \"\",'B) Eingabe (Lehrer)'!BD29)","v":""},{"$f":"IF('B) Eingabe (Lehrer)'!BE29=\"\", \"\",'B) Eingabe (Lehrer)'!BE29)","v":""},{"$f":"IF('B) Eingabe (Lehrer)'!BF29=\"\", \"\",'B) Eingabe (Lehrer)'!BF29)","v":""},{"$f":"IF('B) Eingabe (Lehrer)'!BG29=\"\", \"\",'B) Eingabe (Lehrer)'!BG29)","v":""},{"$f":"IF('B) Eingabe (Lehrer)'!BH29=\"\", \"\",'B) Eingabe (Lehrer)'!BH29)","v":""},{"$f":"IF('B) Eingabe (Lehrer)'!BI29=\"\", \"\",'B) Eingabe (Lehrer)'!BI29)","v":""},{"$f":"IF('B) Eingabe (Lehrer)'!BJ29=\"\", \"\",'B) Eingabe (Lehrer)'!BJ29)","v":""},{"$f":"IF('B) Eingabe (Lehrer)'!BK29=\"\", \"\",'B) Eingabe (Lehrer)'!BK29)","v":""}]
["Item 17",{"$f":"IF('B) Eingabe (Lehrer)'!C31=\"\", \"\",'B) Eingabe (Lehrer)'!C31)","v":""},{"$f":"IF('B) Eingabe (Lehrer)'!D31=\"\", \"\",'B) Eingabe (Lehrer)'!D31)","v":""},{"$f":"IF('B) Eingabe (Lehrer)'!E31=\"\", \"\",'B) Eingabe (Lehrer)'!E31)","v":""},{"$f":"IF('B) Eingabe (Lehrer)'!F31=\"\", \"\",'B) Eingabe (Lehrer)'!F31)","v":""},{"$f":"IF('B) Eingabe (Lehrer)'!G31=\"\", \"\",'B) Eingabe (Lehrer)'!G31)","v":""},{"$f":"IF('B) Eingabe (Lehrer)'!H31=\"\", \"\",'B) Eingabe (Lehrer)'!H31)","v":""},{"$f":"IF('B) Eingabe (Lehrer)'!I31=\"\", \"\",'B) Eingabe (Lehrer)'!I31)","v":""},{"$f":"IF('B) Eingabe (Lehrer)'!J31=\"\", \"\",'B) Eingabe (Lehrer)'!J31)","v":""},{"$f":"IF('B) Eingabe (Lehrer)'!K31=\"\", \"\",'B) Eingabe (Lehrer)'!K31)","v":""},{"$f":"IF('B) Eingabe (Lehrer)'!L31=\"\", \"\",'B) Eingabe (Lehrer)'!L31)","v":""},{"$f":"IF('B) Eingabe (Lehrer)'!M31=\"\", \"\",'B) Eingabe (Lehrer)'!M31)","v":""},{"$f":"IF('B) Eingabe (Lehrer)'!N31=\"\", \"\",'B) Eingabe (Lehrer)'!N31)","v":""},{"$f":"IF('B) Eingabe (Lehrer)'!O31=\"\", \"\",'B) Eingabe (Lehrer)'!O31)","v":""},{"$f":"IF('B) Eingabe (Lehrer)'!P31=\"\", \"\",'B) Eingabe (Lehrer)'!P31)","v":""},{"$f":"IF('B) Eingabe (Lehrer)'!Q31=\"\", \"\",'B) Eingabe (Lehrer)'!Q31)","v":""},{"$f":"IF('B) Eingabe (Lehrer)'!R31=\"\", \"\",'B) Eingabe (Lehrer)'!R31)","v":""},{"$f":"IF('B) Eingabe (Lehrer)'!S31=\"\", \"\",'B) Eingabe (Lehrer)'!S31)","v":""},{"$f":"IF('B) Eingabe (Lehrer)'!T31=\"\", \"\",'B) Eingabe (Lehrer)'!T31)","v":""},{"$f":"IF('B) Eingabe (Lehrer)'!U31=\"\", \"\",'B) Eingabe (Lehrer)'!U31)","v":""},{"$f":"IF('B) Eingabe (Lehrer)'!V31=\"\", \"\",'B) Eingabe (Lehrer)'!V31)","v":""},{"$f":"IF('B) Eingabe (Lehrer)'!W31=\"\", \"\",'B) Eingabe (Lehrer)'!W31)","v":""},{"$f":"IF('B) Eingabe (Lehrer)'!X31=\"\", \"\",'B) Eingabe (Lehrer)'!X31)","v":""},{"$f":"IF('B) Eingabe (Lehrer)'!Y31=\"\", \"\",'B) Eingabe (Lehrer)'!Y31)","v":""},{"$f":"IF('B) Eingabe (Lehrer)'!Z31=\"\", \"\",'B) Eingabe (Lehrer)'!Z31)","v":""},{"$f":"IF('B) Eingabe (Lehrer)'!AA31=\"\", \"\",'B) Eingabe (Lehrer)'!AA31)","v":""},{"$f":"IF('B) Eingabe (Lehrer)'!AB31=\"\", \"\",'B) Eingabe (Lehrer)'!AB31)","v":""},{"$f":"IF('B) Eingabe (Lehrer)'!AC31=\"\", \"\",'B) Eingabe (Lehrer)'!AC31)","v":""},{"$f":"IF('B) Eingabe (Lehrer)'!AD31=\"\", \"\",'B) Eingabe (Lehrer)'!AD31)","v":""},{"$f":"IF('B) Eingabe (Lehrer)'!AE31=\"\", \"\",'B) Eingabe (Lehrer)'!AE31)","v":""},{"$f":"IF('B) Eingabe (Lehrer)'!AF31=\"\", \"\",'B) Eingabe (Lehrer)'!AF31)","v":""},{"$f":"IF('B) Eingabe (Lehrer)'!AG31=\"\", \"\",'B) Eingabe (Lehrer)'!AG31)","v":""},{"$f":"IF('B) Eingabe (Lehrer)'!AH31=\"\", \"\",'B) Eingabe (Lehrer)'!AH31)","v":""},{"$f":"IF('B) Eingabe (Lehrer)'!AI31=\"\", \"\",'B) Eingabe (Lehrer)'!AI31)","v":""},{"$f":"IF('B) Eingabe (Lehrer)'!AJ31=\"\", \"\",'B) Eingabe (Lehrer)'!AJ31)","v":""},{"$f":"IF('B) Eingabe (Lehrer)'!AK31=\"\", \"\",'B) Eingabe (Lehrer)'!AK31)","v":""},{"$f":"IF('B) Eingabe (Lehrer)'!AL31=\"\", \"\",'B) Eingabe (Lehrer)'!AL31)","v":""},{"$f":"IF('B) Eingabe (Lehrer)'!AM31=\"\", \"\",'B) Eingabe (Lehrer)'!AM31)","v":""},{"$f":"IF('B) Eingabe (Lehrer)'!AN31=\"\", \"\",'B) Eingabe (Lehrer)'!AN31)","v":""},{"$f":"IF('B) Eingabe (Lehrer)'!AO31=\"\", \"\",'B) Eingabe (Lehrer)'!AO31)","v":""},{"$f":"IF('B) Eingabe (Lehrer)'!AP31=\"\", \"\",'B) Eingabe (Lehrer)'!AP31)","v":""},{"$f":"IF('B) Eingabe (Lehrer)'!AQ31=\"\", \"\",'B) Eingabe (Lehrer)'!AQ31)","v":""},{"$f":"IF('B) Eingabe (Lehrer)'!AR31=\"\", \"\",'B) Eingabe (Lehrer)'!AR31)","v":""},{"$f":"IF('B) Eingabe (Lehrer)'!AS31=\"\", \"\",'B) Eingabe (Lehrer)'!AS31)","v":""},{"$f":"IF('B) Eingabe (Lehrer)'!AT31=\"\", \"\",'B) Eingabe (Lehrer)'!AT31)","v":""},{"$f":"IF('B) Eingabe (Lehrer)'!AU31=\"\", \"\",'B) Eingabe (Lehrer)'!AU31)","v":""},{"$f":"IF('B) Eingabe (Lehrer)'!AV31=\"\", \"\",'B) Eingabe (Lehrer)'!AV31)","v":""},{"$f":"IF('B) Eingabe (Lehrer)'!AW31=\"\", \"\",'B) Eingabe (Lehrer)'!AW31)","v":""},{"$f":"IF('B) Eingabe (Lehrer)'!AX31=\"\", \"\",'B) Eingabe (Lehrer)'!AX31)","v":""},{"$f":"IF('B) Eingabe (Lehrer)'!AY31=\"\", \"\",'B) Eingabe (Lehrer)'!AY31)","v":""},{"$f":"IF('B) Eingabe (Lehrer)'!AZ31=\"\", \"\",'B) Eingabe (Lehrer)'!AZ31)","v":""},{"$f":"IF('B) Eingabe (Lehrer)'!BA31=\"\", \"\",'B) Eingabe (Lehrer)'!BA31)","v":""},{"$f":"IF('B) Eingabe (Lehrer)'!BB31=\"\", \"\",'B) Eingabe (Lehrer)'!BB31)","v":""},{"$f":"IF('B) Eingabe (Lehrer)'!BC31=\"\", \"\",'B) Eingabe (Lehrer)'!BC31)","v":""},{"$f":"IF('B) Eingabe (Lehrer)'!BD31=\"\", \"\",'B) Eingabe (Lehrer)'!BD31)","v":""},{"$f":"IF('B) Eingabe (Lehrer)'!BE31=\"\", \"\",'B) Eingabe (Lehrer)'!BE31)","v":""},{"$f":"IF('B) Eingabe (Lehrer)'!BF31=\"\", \"\",'B) Eingabe (Lehrer)'!BF31)","v":""},{"$f":"IF('B) Eingabe (Lehrer)'!BG31=\"\", \"\",'B) Eingabe (Lehrer)'!BG31)","v":""},{"$f":"IF('B) Eingabe (Lehrer)'!BH31=\"\", \"\",'B) Eingabe (Lehrer)'!BH31)","v":""},{"$f":"IF('B) Eingabe (Lehrer)'!BI31=\"\", \"\",'B) Eingabe (Lehrer)'!BI31)","v":""},{"$f":"IF('B) Eingabe (Lehrer)'!BJ31=\"\", \"\",'B) Eingabe (Lehrer)'!BJ31)","v":""},{"$f":"IF('B) Eingabe (Lehrer)'!BK31=\"\", \"\",'B) Eingabe (Lehrer)'!BK31)","v":""}]
["Item 18",{"$f":"IF('B) Eingabe (Lehrer)'!C32=\"\", \"\",'B) Eingabe (Lehrer)'!C32)","v":""},{"$f":"IF('B) Eingabe (Lehrer)'!D32=\"\", \"\",'B) Eingabe (Lehrer)'!D32)","v":""},{"$f":"IF('B) Eingabe (Lehrer)'!E32=\"\", \"\",'B) Eingabe (Lehrer)'!E32)","v":""},{"$f":"IF('B) Eingabe (Lehrer)'!F32=\"\", \"\",'B) Eingabe (Lehrer)'!F32)","v":""},{"$f":"IF('B) Eingabe (Lehrer)'!G32=\"\", \"\",'B) Eingabe (Lehrer)'!G32)","v":""},{"$f":"IF('B) Eingabe (Lehrer)'!H32=\"\", \"\",'B) Eingabe (Lehrer)'!H32)","v":""},{"$f":"IF('B) Eingabe (Lehrer)'!I32=\"\", \"\",'B) Eingabe (Lehrer)'!I32)","v":""},{"$f":"IF('B) Eingabe (Lehrer)'!J32=\"\", \"\",'B) Eingabe (Lehrer)'!J32)","v":""},{"$f":"IF('B) Eingabe (Lehrer)'!K32=\"\", \"\",'B) Eingabe (Lehrer)'!K32)","v":""},{"$f":"IF('B) Eingabe (Lehrer)'!L32=\"\", \"\",'B) Eingabe (Lehrer)'!L32)","v":""},{"$f":"IF('B) Eingabe (Lehrer)'!M32=\"\", \"\",'B) Eingabe (Lehrer)'!M32)","v":""},{"$f":"IF('B) Eingabe (Lehrer)'!N32=\"\", \"\",'B) Eingabe (Lehrer)'!N32)","v":""},{"$f":"IF('B) Eingabe (Lehrer)'!O32=\"\", \"\",'B) Eingabe (Lehrer)'!O32)","v":""},{"$f":"IF('B) Eingabe (Lehrer)'!P32=\"\", \"\",'B) Eingabe (Lehrer)'!P32)","v":""},{"$f":"IF('B) Eingabe (Lehrer)'!Q32=\"\", \"\",'B) Eingabe (Lehrer)'!Q32)","v":""},{"$f":"IF('B) Eingabe (Lehrer)'!R32=\"\", \"\",'B) Eingabe (Lehrer)'!R32)","v":""},{"$f":"IF('B) Eingabe (Lehrer)'!S32=\"\", \"\",'B) Eingabe (Lehrer)'!S32)","v":""},{"$f":"IF('B) Eingabe (Lehrer)'!T32=\"\", \"\",'B) Eingabe (Lehrer)'!T32)","v":""},{"$f":"IF('B) Eingabe (Lehrer)'!U32=\"\", \"\",'B) Eingabe (Lehrer)'!U32)","v":""},{"$f":"IF('B) Eingabe (Lehrer)'!V32=\"\", \"\",'B) Eingabe (Lehrer)'!V32)","v":""},{"$f":"IF('B) Eingabe (Lehrer)'!W32=\"\", \"\",'B) Eingabe (Lehrer)'!W32)","v":""},{"$f":"IF('B) Eingabe (Lehrer)'!X32=\"\", \"\",'B) Eingabe (Lehrer)'!X32)","v":""},{"$f":"IF('B) Eingabe (Lehrer)'!Y32=\"\", \"\",'B) Eingabe (Lehrer)'!Y32)","v":""},{"$f":"IF('B) Eingabe (Lehrer)'!Z32=\"\", \"\",'B) Eingabe (Lehrer)'!Z32)","v":""},{"$f":"IF('B) Eingabe (Lehrer)'!AA32=\"\", \"\",'B) Eingabe (Lehrer)'!AA32)","v":""},{"$f":"IF('B) Eingabe (Lehrer)'!AB32=\"\", \"\",'B) Eingabe (Lehrer)'!AB32)","v":""},{"$f":"IF('B) Eingabe (Lehrer)'!AC32=\"\", \"\",'B) Eingabe (Lehrer)'!AC32)","v":""},{"$f":"IF('B) Eingabe (Lehrer)'!AD32=\"\", \"\",'B) Eingabe (Lehrer)'!AD32)","v":""},{"$f":"IF('B) Eingabe (Lehrer)'!AE32=\"\", \"\",'B) Eingabe (Lehrer)'!AE32)","v":""},{"$f":"IF('B) Eingabe (Lehrer)'!AF32=\"\", \"\",'B) Eingabe (Lehrer)'!AF32)","v":""},{"$f":"IF('B) Eingabe (Lehrer)'!AG32=\"\", \"\",'B) Eingabe (Lehrer)'!AG32)","v":""},{"$f":"IF('B) Eingabe (Lehrer)'!AH32=\"\", \"\",'B) Eingabe (Lehrer)'!AH32)","v":""},{"$f":"IF('B) Eingabe (Lehrer)'!AI32=\"\", \"\",'B) Eingabe (Lehrer)'!AI32)","v":""},{"$f":"IF('B) Eingabe (Lehrer)'!AJ32=\"\", \"\",'B) Eingabe (Lehrer)'!AJ32)","v":""},{"$f":"IF('B) Eingabe (Lehrer)'!AK32=\"\", \"\",'B) Eingabe (Lehrer)'!AK32)","v":""},{"$f":"IF('B) Eingabe (Lehrer)'!AL32=\"\", \"\",'B) Eingabe (Lehrer)'!AL32)","v":""},{"$f":"IF('B) Eingabe (Lehrer)'!AM32=\"\", \"\",'B) Eingabe (Lehrer)'!AM32)","v":""},{"$f":"IF('B) Eingabe (Lehrer)'!AN32=\"\", \"\",'B) Eingabe (Lehrer)'!AN32)","v":""},{"$f":"IF('B) Eingabe (Lehrer)'!AO32=\"\", \"\",'B) Eingabe (Lehrer)'!AO32)","v":""},{"$f":"IF('B) Eingabe (Lehrer)'!AP32=\"\", \"\",'B) Eingabe (Lehrer)'!AP32)","v":""},{"$f":"IF('B) Eingabe (Lehrer)'!AQ32=\"\", \"\",'B) Eingabe (Lehrer)'!AQ32)","v":""},{"$f":"IF('B) Eingabe (Lehrer)'!AR32=\"\", \"\",'B) Eingabe (Lehrer)'!AR32)","v":""},{"$f":"IF('B) Eingabe (Lehrer)'!AS32=\"\", \"\",'B) Eingabe (Lehrer)'!AS32)","v":""},{"$f":"IF('B) Eingabe (Lehrer)'!AT32=\"\", \"\",'B) Eingabe (Lehrer)'!AT32)","v":""},{"$f":"IF('B) Eingabe (Lehrer)'!AU32=\"\", \"\",'B) Eingabe (Lehrer)'!AU32)","v":""},{"$f":"IF('B) Eingabe (Lehrer)'!AV32=\"\", \"\",'B) Eingabe (Lehrer)'!AV32)","v":""},{"$f":"IF('B) Eingabe (Lehrer)'!AW32=\"\", \"\",'B) Eingabe (Lehrer)'!AW32)","v":""},{"$f":"IF('B) Eingabe (Lehrer)'!AX32=\"\", \"\",'B) Eingabe (Lehrer)'!AX32)","v":""},{"$f":"IF('B) Eingabe (Lehrer)'!AY32=\"\", \"\",'B) Eingabe (Lehrer)'!AY32)","v":""},{"$f":"IF('B) Eingabe (Lehrer)'!AZ32=\"\", \"\",'B) Eingabe (Lehrer)'!AZ32)","v":""},{"$f":"IF('B) Eingabe (Lehrer)'!BA32=\"\", \"\",'B) Eingabe (Lehrer)'!BA32)","v":""},{"$f":"IF('B) Eingabe (Lehrer)'!BB32=\"\", \"\",'B) Eingabe (Lehrer)'!BB32)","v":""},{"$f":"IF('B) Eingabe (Lehrer)'!BC32=\"\", \"\",'B) Eingabe (Lehrer)'!BC32)","v":""},{"$f":"IF('B) Eingabe (Lehrer)'!BD32=\"\", \"\",'B) Eingabe (Lehrer)'!BD32)","v":""},{"$f":"IF('B) Eingabe (Lehrer)'!BE32=\"\", \"\",'B) Eingabe (Lehrer)'!BE32)","v":""},{"$f":"IF('B) Eingabe (Lehrer)'!BF32=\"\", \"\",'B) Eingabe (Lehrer)'!BF32)","v":""},{"$f":"IF('B) Eingabe (Lehrer)'!BG32=\"\", \"\",'B) Eingabe (Lehrer)'!BG32)","v":""},{"$f":"IF('B) Eingabe (Lehrer)'!BH32=\"\", \"\",'B) Eingabe (Lehrer)'!BH32)","v":""},{"$f":"IF('B) Eingabe (Lehrer)'!BI32=\"\", \"\",'B) Eingabe (Lehrer)'!BI32)","v":""},{"$f":"IF('B) Eingabe (Lehrer)'!BJ32=\"\", \"\",'B) Eingabe (Lehrer)'!BJ32)","v":""},{"$f":"IF('B) Eingabe (Lehrer)'!BK32=\"\", \"\",'B) Eingabe (Lehrer)'!BK32)","v":""}]
["Item 19",{"$f":"IF('B) Eingabe (Lehrer)'!C33=\"\", \"\",'B) Eingabe (Lehrer)'!C33)","v":""},{"$f":"IF('B) Eingabe (Lehrer)'!D33=\"\", \"\",'B) Eingabe (Lehrer)'!D33)","v":""},{"$f":"IF('B) Eingabe (Lehrer)'!E33=\"\", \"\",'B) Eingabe (Lehrer)'!E33)","v":""},{"$f":"IF('B) Eingabe (Lehrer)'!F33=\"\", \"\",'B) Eingabe (Lehrer)'!F33)","v":""},{"$f":"IF('B) Eingabe (Lehrer)'!G33=\"\", \"\",'B) Eingabe (Lehrer)'!G33)","v":""},{"$f":"IF('B) Eingabe (Lehrer)'!H33=\"\", \"\",'B) Eingabe (Lehrer)'!H33)","v":""},{"$f":"IF('B) Eingabe (Lehrer)'!I33=\"\", \"\",'B) Eingabe (Lehrer)'!I33)","v":""},{"$f":"IF('B) Eingabe (Lehrer)'!J33=\"\", \"\",'B) Eingabe (Lehrer)'!J33)","v":""},{"$f":"IF('B) Eingabe (Lehrer)'!K33=\"\", \"\",'B) Eingabe (Lehrer)'!K33)","v":""},{"$f":"IF('B) Eingabe (Lehrer)'!L33=\"\", \"\",'B) Eingabe (Lehrer)'!L33)","v":""},{"$f":"IF('B) Eingabe (Lehrer)'!M33=\"\", \"\",'B) Eingabe (Lehrer)'!M33)","v":""},{"$f":"IF('B) Eingabe (Lehrer)'!N33=\"\", \"\",'B) Eingabe (Lehrer)'!N33)","v":""},{"$f":"IF('B) Eingabe (Lehrer)'!O33=\"\", \"\",'B) Eingabe (Lehrer)'!O33)","v":""},{"$f":"IF('B) Eingabe (Lehrer)'!P33=\"\", \"\",'B) Eingabe (Lehrer)'!P33)","v":""},{"$f":"IF('B) Eingabe (Lehrer)'!Q33=\"\", \"\",'B) Eingabe (Lehrer)'!Q33)","v":""},{"$f":"IF('B) Eingabe (Lehrer)'!R33=\"\", \"\",'B) Eingabe (Lehrer)'!R33)","v":""},{"$f":"IF('B) Eingabe (Lehrer)'!S33=\"\", \"\",'B) Eingabe (Lehrer)'!S33)","v":""},{"$f":"IF('B) Eingabe (Lehrer)'!T33=\"\", \"\",'B) Eingabe (Lehrer)'!T33)","v":""},{"$f":"IF('B) Eingabe (Lehrer)'!U33=\"\", \"\",'B) Eingabe (Lehrer)'!U33)","v":""},{"$f":"IF('B) Eingabe (Lehrer)'!V33=\"\", \"\",'B) Eingabe (Lehrer)'!V33)","v":""},{"$f":"IF('B) Eingabe (Lehrer)'!W33=\"\", \"\",'B) Eingabe (Lehrer)'!W33)","v":""},{"$f":"IF('B) Eingabe (Lehrer)'!X33=\"\", \"\",'B) Eingabe (Lehrer)'!X33)","v":""},{"$f":"IF('B) Eingabe (Lehrer)'!Y33=\"\", \"\",'B) Eingabe (Lehrer)'!Y33)","v":""},{"$f":"IF('B) Eingabe (Lehrer)'!Z33=\"\", \"\",'B) Eingabe (Lehrer)'!Z33)","v":""},{"$f":"IF('B) Eingabe (Lehrer)'!AA33=\"\", \"\",'B) Eingabe (Lehrer)'!AA33)","v":""},{"$f":"IF('B) Eingabe (Lehrer)'!AB33=\"\", \"\",'B) Eingabe (Lehrer)'!AB33)","v":""},{"$f":"IF('B) Eingabe (Lehrer)'!AC33=\"\", \"\",'B) Eingabe (Lehrer)'!AC33)","v":""},{"$f":"IF('B) Eingabe (Lehrer)'!AD33=\"\", \"\",'B) Eingabe (Lehrer)'!AD33)","v":""},{"$f":"IF('B) Eingabe (Lehrer)'!AE33=\"\", \"\",'B) Eingabe (Lehrer)'!AE33)","v":""},{"$f":"IF('B) Eingabe (Lehrer)'!AF33=\"\", \"\",'B) Eingabe (Lehrer)'!AF33)","v":""},{"$f":"IF('B) Eingabe (Lehrer)'!AG33=\"\", \"\",'B) Eingabe (Lehrer)'!AG33)","v":""},{"$f":"IF('B) Eingabe (Lehrer)'!AH33=\"\", \"\",'B) Eingabe (Lehrer)'!AH33)","v":""},{"$f":"IF('B) Eingabe (Lehrer)'!AI33=\"\", \"\",'B) Eingabe (Lehrer)'!AI33)","v":""},{"$f":"IF('B) Eingabe (Lehrer)'!AJ33=\"\", \"\",'B) Eingabe (Lehrer)'!AJ33)","v":""},{"$f":"IF('B) Eingabe (Lehrer)'!AK33=\"\", \"\",'B) Eingabe (Lehrer)'!AK33)","v":""},{"$f":"IF('B) Eingabe (Lehrer)'!AL33=\"\", \"\",'B) Eingabe (Lehrer)'!AL33)","v":""},{"$f":"IF('B) Eingabe (Lehrer)'!AM33=\"\", \"\",'B) Eingabe (Lehrer)'!AM33)","v":""},{"$f":"IF('B) Eingabe (Lehrer)'!AN33=\"\", \"\",'B) Eingabe (Lehrer)'!AN33)","v":""},{"$f":"IF('B) Eingabe (Lehrer)'!AO33=\"\", \"\",'B) Eingabe (Lehrer)'!AO33)","v":""},{"$f":"IF('B) Eingabe (Lehrer)'!AP33=\"\", \"\",'B) Eingabe (Lehrer)'!AP33)","v":""},{"$f":"IF('B) Eingabe (Lehrer)'!AQ33=\"\", \"\",'B) Eingabe (Lehrer)'!AQ33)","v":""},{"$f":"IF('B) Eingabe (Lehrer)'!AR33=\"\", \"\",'B) Eingabe (Lehrer)'!AR33)","v":""},{"$f":"IF('B) Eingabe (Lehrer)'!AS33=\"\", \"\",'B) Eingabe (Lehrer)'!AS33)","v":""},{"$f":"IF('B) Eingabe (Lehrer)'!AT33=\"\", \"\",'B) Eingabe (Lehrer)'!AT33)","v":""},{"$f":"IF('B) Eingabe (Lehrer)'!AU33=\"\", \"\",'B) Eingabe (Lehrer)'!AU33)","v":""},{"$f":"IF('B) Eingabe (Lehrer)'!AV33=\"\", \"\",'B) Eingabe (Lehrer)'!AV33)","v":""},{"$f":"IF('B) Eingabe (Lehrer)'!AW33=\"\", \"\",'B) Eingabe (Lehrer)'!AW33)","v":""},{"$f":"IF('B) Eingabe (Lehrer)'!AX33=\"\", \"\",'B) Eingabe (Lehrer)'!AX33)","v":""},{"$f":"IF('B) Eingabe (Lehrer)'!AY33=\"\", \"\",'B) Eingabe (Lehrer)'!AY33)","v":""},{"$f":"IF('B) Eingabe (Lehrer)'!AZ33=\"\", \"\",'B) Eingabe (Lehrer)'!AZ33)","v":""},{"$f":"IF('B) Eingabe (Lehrer)'!BA33=\"\", \"\",'B) Eingabe (Lehrer)'!BA33)","v":""},{"$f":"IF('B) Eingabe (Lehrer)'!BB33=\"\", \"\",'B) Eingabe (Lehrer)'!BB33)","v":""},{"$f":"IF('B) Eingabe (Lehrer)'!BC33=\"\", \"\",'B) Eingabe (Lehrer)'!BC33)","v":""},{"$f":"IF('B) Eingabe (Lehrer)'!BD33=\"\", \"\",'B) Eingabe (Lehrer)'!BD33)","v":""},{"$f":"IF('B) Eingabe (Lehrer)'!BE33=\"\", \"\",'B) Eingabe (Lehrer)'!BE33)","v":""},{"$f":"IF('B) Eingabe (Lehrer)'!BF33=\"\", \"\",'B) Eingabe (Lehrer)'!BF33)","v":""},{"$f":"IF('B) Eingabe (Lehrer)'!BG33=\"\", \"\",'B) Eingabe (Lehrer)'!BG33)","v":""},{"$f":"IF('B) Eingabe (Lehrer)'!BH33=\"\", \"\",'B) Eingabe (Lehrer)'!BH33)","v":""},{"$f":"IF('B) Eingabe (Lehrer)'!BI33=\"\", \"\",'B) Eingabe (Lehrer)'!BI33)","v":""},{"$f":"IF('B) Eingabe (Lehrer)'!BJ33=\"\", \"\",'B) Eingabe (Lehrer)'!BJ33)","v":""},{"$f":"IF('B) Eingabe (Lehrer)'!BK33=\"\", \"\",'B) Eingabe (Lehrer)'!BK33)","v":""}]
["Item 20",{"$f":"IF('B) Eingabe (Lehrer)'!C34=\"\", \"\",'B) Eingabe (Lehrer)'!C34)","v":""},{"$f":"IF('B) Eingabe (Lehrer)'!D34=\"\", \"\",'B) Eingabe (Lehrer)'!D34)","v":""},{"$f":"IF('B) Eingabe (Lehrer)'!E34=\"\", \"\",'B) Eingabe (Lehrer)'!E34)","v":""},{"$f":"IF('B) Eingabe (Lehrer)'!F34=\"\", \"\",'B) Eingabe (Lehrer)'!F34)","v":""},{"$f":"IF('B) Eingabe (Lehrer)'!G34=\"\", \"\",'B) Eingabe (Lehrer)'!G34)","v":""},{"$f":"IF('B) Eingabe (Lehrer)'!H34=\"\", \"\",'B) Eingabe (Lehrer)'!H34)","v":""},{"$f":"IF('B) Eingabe (Lehrer)'!I34=\"\", \"\",'B) Eingabe (Lehrer)'!I34)","v":""},{"$f":"IF('B) Eingabe (Lehrer)'!J34=\"\", \"\",'B) Eingabe (Lehrer)'!J34)","v":""},{"$f":"IF('B) Eingabe (Lehrer)'!K34=\"\", \"\",'B) Eingabe (Lehrer)'!K34)","v":""},{"$f":"IF('B) Eingabe (Lehrer)'!L34=\"\", \"\",'B) Eingabe (Lehrer)'!L34)","v":""},{"$f":"IF('B) Eingabe (Lehrer)'!M34=\"\", \"\",'B) Eingabe (Lehrer)'!M34)","v":""},{"$f":"IF('B) Eingabe (Lehrer)'!N34=\"\", \"\",'B) Eingabe (Lehrer)'!N34)","v":""},{"$f":"IF('B) Eingabe (Lehrer)'!O34=\"\", \"\",'B) Eingabe (Lehrer)'!O34)","v":""},{"$f":"IF('B) Eingabe (Lehrer)'!P34=\"\", \"\",'B) Eingabe (Lehrer)'!P34)","v":""},{"$f":"IF('B) Eingabe (Lehrer)'!Q34=\"\", \"\",'B) Eingabe (Lehrer)'!Q34)","v":""},{"$f":"IF('B) Eingabe (Lehrer)'!R34=\"\", \"\",'B) Eingabe (Lehrer)'!R34)","v":""},{"$f":"IF('B) Eingabe (Lehrer)'!S34=\"\", \"\",'B) Eingabe (Lehrer)'!S34)","v":""},{"$f":"IF('B) Eingabe (Lehrer)'!T34=\"\", \"\",'B) Eingabe (Lehrer)'!T34)","v":""},{"$f":"IF('B) Eingabe (Lehrer)'!U34=\"\", \"\",'B) Eingabe (Lehrer)'!U34)","v":""},{"$f":"IF('B) Eingabe (Lehrer)'!V34=\"\", \"\",'B) Eingabe (Lehrer)'!V34)","v":""},{"$f":"IF('B) Eingabe (Lehrer)'!W34=\"\", \"\",'B) Eingabe (Lehrer)'!W34)","v":""},{"$f":"IF('B) Eingabe (Lehrer)'!X34=\"\", \"\",'B) Eingabe (Lehrer)'!X34)","v":""},{"$f":"IF('B) Eingabe (Lehrer)'!Y34=\"\", \"\",'B) Eingabe (Lehrer)'!Y34)","v":""},{"$f":"IF('B) Eingabe (Lehrer)'!Z34=\"\", \"\",'B) Eingabe (Lehrer)'!Z34)","v":""},{"$f":"IF('B) Eingabe (Lehrer)'!AA34=\"\", \"\",'B) Eingabe (Lehrer)'!AA34)","v":""},{"$f":"IF('B) Eingabe (Lehrer)'!AB34=\"\", \"\",'B) Eingabe (Lehrer)'!AB34)","v":""},{"$f":"IF('B) Eingabe (Lehrer)'!AC34=\"\", \"\",'B) Eingabe (Lehrer)'!AC34)","v":""},{"$f":"IF('B) Eingabe (Lehrer)'!AD34=\"\", \"\",'B) Eingabe (Lehrer)'!AD34)","v":""},{"$f":"IF('B) Eingabe (Lehrer)'!AE34=\"\", \"\",'B) Eingabe (Lehrer)'!AE34)","v":""},{"$f":"IF('B) Eingabe (Lehrer)'!AF34=\"\", \"\",'B) Eingabe (Lehrer)'!AF34)","v":""},{"$f":"IF('B) Eingabe (Lehrer)'!AG34=\"\", \"\",'B) Eingabe (Lehrer)'!AG34)","v":""},{"$f":"IF('B) Eingabe (Lehrer)'!AH34=\"\", \"\",'B) Eingabe (Lehrer)'!AH34)","v":""},{"$f":"IF('B) Eingabe (Lehrer)'!AI34=\"\", \"\",'B) Eingabe (Lehrer)'!AI34)","v":""},{"$f":"IF('B) Eingabe (Lehrer)'!AJ34=\"\", \"\",'B) Eingabe (Lehrer)'!AJ34)","v":""},{"$f":"IF('B) Eingabe (Lehrer)'!AK34=\"\", \"\",'B) Eingabe (Lehrer)'!AK34)","v":""},{"$f":"IF('B) Eingabe (Lehrer)'!AL34=\"\", \"\",'B) Eingabe (Lehrer)'!AL34)","v":""},{"$f":"IF('B) Eingabe (Lehrer)'!AM34=\"\", \"\",'B) Eingabe (Lehrer)'!AM34)","v":""},{"$f":"IF('B) Eingabe (Lehrer)'!AN34=\"\", \"\",'B) Eingabe (Lehrer)'!AN34)","v":""},{"$f":"IF('B) Eingabe (Lehrer)'!AO34=\"\", \"\",'B) Eingabe (Lehrer)'!AO34)","v":""},{"$f":"IF('B) Eingabe (Lehrer)'!AP34=\"\", \"\",'B) Eingabe (Lehrer)'!AP34)","v":""},{"$f":"IF('B) Eingabe (Lehrer)'!AQ34=\"\", \"\",'B) Eingabe (Lehrer)'!AQ34)","v":""},{"$f":"IF('B) Eingabe (Lehrer)'!AR34=\"\", \"\",'B) Eingabe (Lehrer)'!AR34)","v":""},{"$f":"IF('B) Eingabe (Lehrer)'!AS34=\"\", \"\",'B) Eingabe (Lehrer)'!AS34)","v":""},{"$f":"IF('B) Eingabe (Lehrer)'!AT34=\"\", \"\",'B) Eingabe (Lehrer)'!AT34)","v":""},{"$f":"IF('B) Eingabe (Lehrer)'!AU34=\"\", \"\",'B) Eingabe (Lehrer)'!AU34)","v":""},{"$f":"IF('B) Eingabe (Lehrer)'!AV34=\"\", \"\",'B) Eingabe (Lehrer)'!AV34)","v":""},{"$f":"IF('B) Eingabe (Lehrer)'!AW34=\"\", \"\",'B) Eingabe (Lehrer)'!AW34)","v":""},{"$f":"IF('B) Eingabe (Lehrer)'!AX34=\"\", \"\",'B) Eingabe (Lehrer)'!AX34)","v":""},{"$f":"IF('B) Eingabe (Lehrer)'!AY34=\"\", \"\",'B) Eingabe (Lehrer)'!AY34)","v":""},{"$f":"IF('B) Eingabe (Lehrer)'!AZ34=\"\", \"\",'B) Eingabe (Lehrer)'!AZ34)","v":""},{"$f":"IF('B) Eingabe (Lehrer)'!BA34=\"\", \"\",'B) Eingabe (Lehrer)'!BA34)","v":""},{"$f":"IF('B) Eingabe (Lehrer)'!BB34=\"\", \"\",'B) Eingabe (Lehrer)'!BB34)","v":""},{"$f":"IF('B) Eingabe (Lehrer)'!BC34=\"\", \"\",'B) Eingabe (Lehrer)'!BC34)","v":""},{"$f":"IF('B) Eingabe (Lehrer)'!BD34=\"\", \"\",'B) Eingabe (Lehrer)'!BD34)","v":""},{"$f":"IF('B) Eingabe (Lehrer)'!BE34=\"\", \"\",'B) Eingabe (Lehrer)'!BE34)","v":""},{"$f":"IF('B) Eingabe (Lehrer)'!BF34=\"\", \"\",'B) Eingabe (Lehrer)'!BF34)","v":""},{"$f":"IF('B) Eingabe (Lehrer)'!BG34=\"\", \"\",'B) Eingabe (Lehrer)'!BG34)","v":""},{"$f":"IF('B) Eingabe (Lehrer)'!BH34=\"\", \"\",'B) Eingabe (Lehrer)'!BH34)","v":""},{"$f":"IF('B) Eingabe (Lehrer)'!BI34=\"\", \"\",'B) Eingabe (Lehrer)'!BI34)","v":""},{"$f":"IF('B) Eingabe (Lehrer)'!BJ34=\"\", \"\",'B) Eingabe (Lehrer)'!BJ34)","v":""},{"$f":"IF('B) Eingabe (Lehrer)'!BK34=\"\", \"\",'B) Eingabe (Lehrer)'!BK34)","v":""}]
["Item 21",{"$f":"IF('B) Eingabe (Lehrer)'!C35=\"\", \"\",'B) Eingabe (Lehrer)'!C35)","v":""},{"$f":"IF('B) Eingabe (Lehrer)'!D35=\"\", \"\",'B) Eingabe (Lehrer)'!D35)","v":""},{"$f":"IF('B) Eingabe (Lehrer)'!E35=\"\", \"\",'B) Eingabe (Lehrer)'!E35)","v":""},{"$f":"IF('B) Eingabe (Lehrer)'!F35=\"\", \"\",'B) Eingabe (Lehrer)'!F35)","v":""},{"$f":"IF('B) Eingabe (Lehrer)'!G35=\"\", \"\",'B) Eingabe (Lehrer)'!G35)","v":""},{"$f":"IF('B) Eingabe (Lehrer)'!H35=\"\", \"\",'B) Eingabe (Lehrer)'!H35)","v":""},{"$f":"IF('B) Eingabe (Lehrer)'!I35=\"\", \"\",'B) Eingabe (Lehrer)'!I35)","v":""},{"$f":"IF('B) Eingabe (Lehrer)'!J35=\"\", \"\",'B) Eingabe (Lehrer)'!J35)","v":""},{"$f":"IF('B) Eingabe (Lehrer)'!K35=\"\", \"\",'B) Eingabe (Lehrer)'!K35)","v":""},{"$f":"IF('B) Eingabe (Lehrer)'!L35=\"\", \"\",'B) Eingabe (Lehrer)'!L35)","v":""},{"$f":"IF('B) Eingabe (Lehrer)'!M35=\"\", \"\",'B) Eingabe (Lehrer)'!M35)","v":""},{"$f":"IF('B) Eingabe (Lehrer)'!N35=\"\", \"\",'B) Eingabe (Lehrer)'!N35)","v":""},{"$f":"IF('B) Eingabe (Lehrer)'!O35=\"\", \"\",'B) Eingabe (Lehrer)'!O35)","v":""},{"$f":"IF('B) Eingabe (Lehrer)'!P35=\"\", \"\",'B) Eingabe (Lehrer)'!P35)","v":""},{"$f":"IF('B) Eingabe (Lehrer)'!Q35=\"\", \"\",'B) Eingabe (Lehrer)'!Q35)","v":""},{"$f":"IF('B) Eingabe (Lehrer)'!R35=\"\", \"\",'B) Eingabe (Lehrer)'!R35)","v":""},{"$f":"IF('B) Eingabe (Lehrer)'!S35=\"\", \"\",'B) Eingabe (Lehrer)'!S35)","v":""},{"$f":"IF('B) Eingabe (Lehrer)'!T35=\"\", \"\",'B) Eingabe (Lehrer)'!T35)","v":""},{"$f":"IF('B) Eingabe (Lehrer)'!U35=\"\", \"\",'B) Eingabe (Lehrer)'!U35)","v":""},{"$f":"IF('B) Eingabe (Lehrer)'!V35=\"\", \"\",'B) Eingabe (Lehrer)'!V35)","v":""},{"$f":"IF('B) Eingabe (Lehrer)'!W35=\"\", \"\",'B) Eingabe (Lehrer)'!W35)","v":""},{"$f":"IF('B) Eingabe (Lehrer)'!X35=\"\", \"\",'B) Eingabe (Lehrer)'!X35)","v":""},{"$f":"IF('B) Eingabe (Lehrer)'!Y35=\"\", \"\",'B) Eingabe (Lehrer)'!Y35)","v":""},{"$f":"IF('B) Eingabe (Lehrer)'!Z35=\"\", \"\",'B) Eingabe (Lehrer)'!Z35)","v":""},{"$f":"IF('B) Eingabe (Lehrer)'!AA35=\"\", \"\",'B) Eingabe (Lehrer)'!AA35)","v":""},{"$f":"IF('B) Eingabe (Lehrer)'!AB35=\"\", \"\",'B) Eingabe (Lehrer)'!AB35)","v":""},{"$f":"IF('B) Eingabe (Lehrer)'!AC35=\"\", \"\",'B) Eingabe (Lehrer)'!AC35)","v":""},{"$f":"IF('B) Eingabe (Lehrer)'!AD35=\"\", \"\",'B) Eingabe (Lehrer)'!AD35)","v":""},{"$f":"IF('B) Eingabe (Lehrer)'!AE35=\"\", \"\",'B) Eingabe (Lehrer)'!AE35)","v":""},{"$f":"IF('B) Eingabe (Lehrer)'!AF35=\"\", \"\",'B) Eingabe (Lehrer)'!AF35)","v":""},{"$f":"IF('B) Eingabe (Lehrer)'!AG35=\"\", \"\",'B) Eingabe (Lehrer)'!AG35)","v":""},{"$f":"IF('B) Eingabe (Lehrer)'!AH35=\"\", \"\",'B) Eingabe (Lehrer)'!AH35)","v":""},{"$f":"IF('B) Eingabe (Lehrer)'!AI35=\"\", \"\",'B) Eingabe (Lehrer)'!AI35)","v":""},{"$f":"IF('B) Eingabe (Lehrer)'!AJ35=\"\", \"\",'B) Eingabe (Lehrer)'!AJ35)","v":""},{"$f":"IF('B) Eingabe (Lehrer)'!AK35=\"\", \"\",'B) Eingabe (Lehrer)'!AK35)","v":""},{"$f":"IF('B) Eingabe (Lehrer)'!AL35=\"\", \"\",'B) Eingabe (Lehrer)'!AL35)","v":""},{"$f":"IF('B) Eingabe (Lehrer)'!AM35=\"\", \"\",'B) Eingabe (Lehrer)'!AM35)","v":""},{"$f":"IF('B) Eingabe (Lehrer)'!AN35=\"\", \"\",'B) Eingabe (Lehrer)'!AN35)","v":""},{"$f":"IF('B) Eingabe (Lehrer)'!AO35=\"\", \"\",'B) Eingabe (Lehrer)'!AO35)","v":""},{"$f":"IF('B) Eingabe (Lehrer)'!AP35=\"\", \"\",'B) Eingabe (Lehrer)'!AP35)","v":""},{"$f":"IF('B) Eingabe (Lehrer)'!AQ35=\"\", \"\",'B) Eingabe (Lehrer)'!AQ35)","v":""},{"$f":"IF('B) Eingabe (Lehrer)'!AR35=\"\", \"\",'B) Eingabe (Lehrer)'!AR35)","v":""},{"$f":"IF('B) Eingabe (Lehrer)'!AS35=\"\", \"\",'B) Eingabe (Lehrer)'!AS35)","v":""},{"$f":"IF('B) Eingabe (Lehrer)'!AT35=\"\", \"\",'B) Eingabe (Lehrer)'!AT35)","v":""},{"$f":"IF('B) Eingabe (Lehrer)'!AU35=\"\", \"\",'B) Eingabe (Lehrer)'!AU35)","v":""},{"$f":"IF('B) Eingabe (Lehrer)'!AV35=\"\", \"\",'B) Eingabe (Lehrer)'!AV35)","v":""},{"$f":"IF('B) Eingabe (Lehrer)'!AW35=\"\", \"\",'B) Eingabe (Lehrer)'!AW35)","v":""},{"$f":"IF('B) Eingabe (Lehrer)'!AX35=\"\", \"\",'B) Eingabe (Lehrer)'!AX35)","v":""},{"$f":"IF('B) Eingabe (Lehrer)'!AY35=\"\", \"\",'B) Eingabe (Lehrer)'!AY35)","v":""},{"$f":"IF('B) Eingabe (Lehrer)'!AZ35=\"\", \"\",'B) Eingabe (Lehrer)'!AZ35)","v":""},{"$f":"IF('B) Eingabe (Lehrer)'!BA35=\"\", \"\",'B) Eingabe (Lehrer)'!BA35)","v":""},{"$f":"IF('B) Eingabe (Lehrer)'!BB35=\"\", \"\",'B) Eingabe (Lehrer)'!BB35)","v":""},{"$f":"IF('B) Eingabe (Lehrer)'!BC35=\"\", \"\",'B) Eingabe (Lehrer)'!BC35)","v":""},{"$f":"IF('B) Eingabe (Lehrer)'!BD35=\"\", \"\",'B) Eingabe (Lehrer)'!BD35)","v":""},{"$f":"IF('B) Eingabe (Lehrer)'!BE35=\"\", \"\",'B) Eingabe (Lehrer)'!BE35)","v":""},{"$f":"IF('B) Eingabe (Lehrer)'!BF35=\"\", \"\",'B) Eingabe (Lehrer)'!BF35)","v":""},{"$f":"IF('B) Eingabe (Lehrer)'!BG35=\"\", \"\",'B) Eingabe (Lehrer)'!BG35)","v":""},{"$f":"IF('B) Eingabe (Lehrer)'!BH35=\"\", \"\",'B) Eingabe (Lehrer)'!BH35)","v":""},{"$f":"IF('B) Eingabe (Lehrer)'!BI35=\"\", \"\",'B) Eingabe (Lehrer)'!BI35)","v":""},{"$f":"IF('B) Eingabe (Lehrer)'!BJ35=\"\", \"\",'B) Eingabe (Lehrer)'!BJ35)","v":""},{"$f":"IF('B) Eingabe (Lehrer)'!BK35=\"\", \"\",'B) Eingabe (Lehrer)'!BK35)","v":""}]
["Item 22",{"$f":"IF('B) Eingabe (Lehrer)'!C36=\"\", \"\",'B) Eingabe (Lehrer)'!C36)","v":""},{"$f":"IF('B) Eingabe (Lehrer)'!D36=\"\", \"\",'B) Eingabe (Lehrer)'!D36)","v":""},{"$f":"IF('B) Eingabe (Lehrer)'!E36=\"\", \"\",'B) Eingabe (Lehrer)'!E36)","v":""},{"$f":"IF('B) Eingabe (Lehrer)'!F36=\"\", \"\",'B) Eingabe (Lehrer)'!F36)","v":""},{"$f":"IF('B) Eingabe (Lehrer)'!G36=\"\", \"\",'B) Eingabe (Lehrer)'!G36)","v":""},{"$f":"IF('B) Eingabe (Lehrer)'!H36=\"\", \"\",'B) Eingabe (Lehrer)'!H36)","v":""},{"$f":"IF('B) Eingabe (Lehrer)'!I36=\"\", \"\",'B) Eingabe (Lehrer)'!I36)","v":""},{"$f":"IF('B) Eingabe (Lehrer)'!J36=\"\", \"\",'B) Eingabe (Lehrer)'!J36)","v":""},{"$f":"IF('B) Eingabe (Lehrer)'!K36=\"\", \"\",'B) Eingabe (Lehrer)'!K36)","v":""},{"$f":"IF('B) Eingabe (Lehrer)'!L36=\"\", \"\",'B) Eingabe (Lehrer)'!L36)","v":""},{"$f":"IF('B) Eingabe (Lehrer)'!M36=\"\", \"\",'B) Eingabe (Lehrer)'!M36)","v":""},{"$f":"IF('B) Eingabe (Lehrer)'!N36=\"\", \"\",'B) Eingabe (Lehrer)'!N36)","v":""},{"$f":"IF('B) Eingabe (Lehrer)'!O36=\"\", \"\",'B) Eingabe (Lehrer)'!O36)","v":""},{"$f":"IF('B) Eingabe (Lehrer)'!P36=\"\", \"\",'B) Eingabe (Lehrer)'!P36)","v":""},{"$f":"IF('B) Eingabe (Lehrer)'!Q36=\"\", \"\",'B) Eingabe (Lehrer)'!Q36)","v":""},{"$f":"IF('B) Eingabe (Lehrer)'!R36=\"\", \"\",'B) Eingabe (Lehrer)'!R36)","v":""},{"$f":"IF('B) Eingabe (Lehrer)'!S36=\"\", \"\",'B) Eingabe (Lehrer)'!S36)","v":""},{"$f":"IF('B) Eingabe (Lehrer)'!T36=\"\", \"\",'B) Eingabe (Lehrer)'!T36)","v":""},{"$f":"IF('B) Eingabe (Lehrer)'!U36=\"\", \"\",'B) Eingabe (Lehrer)'!U36)","v":""},{"$f":"IF('B) Eingabe (Lehrer)'!V36=\"\", \"\",'B) Eingabe (Lehrer)'!V36)","v":""},{"$f":"IF('B) Eingabe (Lehrer)'!W36=\"\", \"\",'B) Eingabe (Lehrer)'!W36)","v":""},{"$f":"IF('B) Eingabe (Lehrer)'!X36=\"\", \"\",'B) Eingabe (Lehrer)'!X36)","v":""},{"$f":"IF('B) Eingabe (Lehrer)'!Y36=\"\", \"\",'B) Eingabe (Lehrer)'!Y36)","v":""},{"$f":"IF('B) Eingabe (Lehrer)'!Z36=\"\", \"\",'B) Eingabe (Lehrer)'!Z36)","v":""},{"$f":"IF('B) Eingabe (Lehrer)'!AA36=\"\", \"\",'B) Eingabe (Lehrer)'!AA36)","v":""},{"$f":"IF('B) Eingabe (Lehrer)'!AB36=\"\", \"\",'B) Eingabe (Lehrer)'!AB36)","v":""},{"$f":"IF('B) Eingabe (Lehrer)'!AC36=\"\", \"\",'B) Eingabe (Lehrer)'!AC36)","v":""},{"$f":"IF('B) Eingabe (Lehrer)'!AD36=\"\", \"\",'B) Eingabe (Lehrer)'!AD36)","v":""},{"$f":"IF('B) Eingabe (Lehrer)'!AE36=\"\", \"\",'B) Eingabe (Lehrer)'!AE36)","v":""},{"$f":"IF('B) Eingabe (Lehrer)'!AF36=\"\", \"\",'B) Eingabe (Lehrer)'!AF36)","v":""},{"$f":"IF('B) Eingabe (Lehrer)'!AG36=\"\", \"\",'B) Eingabe (Lehrer)'!AG36)","v":""},{"$f":"IF('B) Eingabe (Lehrer)'!AH36=\"\", \"\",'B) Eingabe (Lehrer)'!AH36)","v":""},{"$f":"IF('B) Eingabe (Lehrer)'!AI36=\"\", \"\",'B) Eingabe (Lehrer)'!AI36)","v":""},{"$f":"IF('B) Eingabe (Lehrer)'!AJ36=\"\", \"\",'B) Eingabe (Lehrer)'!AJ36)","v":""},{"$f":"IF('B) Eingabe (Lehrer)'!AK36=\"\", \"\",'B) Eingabe (Lehrer)'!AK36)","v":""},{"$f":"IF('B) Eingabe (Lehrer)'!AL36=\"\", \"\",'B) Eingabe (Lehrer)'!AL36)","v":""},{"$f":"IF('B) Eingabe (Lehrer)'!AM36=\"\", \"\",'B) Eingabe (Lehrer)'!AM36)","v":""},{"$f":"IF('B) Eingabe (Lehrer)'!AN36=\"\", \"\",'B) Eingabe (Lehrer)'!AN36)","v":""},{"$f":"IF('B) Eingabe (Lehrer)'!AO36=\"\", \"\",'B) Eingabe (Lehrer)'!AO36)","v":""},{"$f":"IF('B) Eingabe (Lehrer)'!AP36=\"\", \"\",'B) Eingabe (Lehrer)'!AP36)","v":""},{"$f":"IF('B) Eingabe (Lehrer)'!AQ36=\"\", \"\",'B) Eingabe (Lehrer)'!AQ36)","v":""},{"$f":"IF('B) Eingabe (Lehrer)'!AR36=\"\", \"\",'B) Eingabe (Lehrer)'!AR36)","v":""},{"$f":"IF('B) Eingabe (Lehrer)'!AS36=\"\", \"\",'B) Eingabe (Lehrer)'!AS36)","v":""},{"$f":"IF('B) Eingabe (Lehrer)'!AT36=\"\", \"\",'B) Eingabe (Lehrer)'!AT36)","v":""},{"$f":"IF('B) Eingabe (Lehrer)'!AU36=\"\", \"\",'B) Eingabe (Lehrer)'!AU36)","v":""},{"$f":"IF('B) Eingabe (Lehrer)'!AV36=\"\", \"\",'B) Eingabe (Lehrer)'!AV36)","v":""},{"$f":"IF('B) Eingabe (Lehrer)'!AW36=\"\", \"\",'B) Eingabe (Lehrer)'!AW36)","v":""},{"$f":"IF('B) Eingabe (Lehrer)'!AX36=\"\", \"\",'B) Eingabe (Lehrer)'!AX36)","v":""},{"$f":"IF('B) Eingabe (Lehrer)'!AY36=\"\", \"\",'B) Eingabe (Lehrer)'!AY36)","v":""},{"$f":"IF('B) Eingabe (Lehrer)'!AZ36=\"\", \"\",'B) Eingabe (Lehrer)'!AZ36)","v":""},{"$f":"IF('B) Eingabe (Lehrer)'!BA36=\"\", \"\",'B) Eingabe (Lehrer)'!BA36)","v":""},{"$f":"IF('B) Eingabe (Lehrer)'!BB36=\"\", \"\",'B) Eingabe (Lehrer)'!BB36)","v":""},{"$f":"IF('B) Eingabe (Lehrer)'!BC36=\"\", \"\",'B) Eingabe (Lehrer)'!BC36)","v":""},{"$f":"IF('B) Eingabe (Lehrer)'!BD36=\"\", \"\",'B) Eingabe (Lehrer)'!BD36)","v":""},{"$f":"IF('B) Eingabe (Lehrer)'!BE36=\"\", \"\",'B) Eingabe (Lehrer)'!BE36)","v":""},{"$f":"IF('B) Eingabe (Lehrer)'!BF36=\"\", \"\",'B) Eingabe (Lehrer)'!BF36)","v":""},{"$f":"IF('B) Eingabe (Lehrer)'!BG36=\"\", \"\",'B) Eingabe (Lehrer)'!BG36)","v":""},{"$f":"IF('B) Eingabe (Lehrer)'!BH36=\"\", \"\",'B) Eingabe (Lehrer)'!BH36)","v":""},{"$f":"IF('B) Eingabe (Lehrer)'!BI36=\"\", \"\",'B) Eingabe (Lehrer)'!BI36)","v":""},{"$f":"IF('B) Eingabe (Lehrer)'!BJ36=\"\", \"\",'B) Eingabe (Lehrer)'!BJ36)","v":""},{"$f":"IF('B) Eingabe (Lehrer)'!BK36=\"\", \"\",'B) Eingabe (Lehrer)'!BK36)","v":""}]
["Item 23",{"$f":"IF('B) Eingabe (Lehrer)'!C38=\"\", \"\",'B) Eingabe (Lehrer)'!C38)","v":""},{"$f":"IF('B) Eingabe (Lehrer)'!D38=\"\", \"\",'B) Eingabe (Lehrer)'!D38)","v":""},{"$f":"IF('B) Eingabe (Lehrer)'!E38=\"\", \"\",'B) Eingabe (Lehrer)'!E38)","v":""},{"$f":"IF('B) Eingabe (Lehrer)'!F38=\"\", \"\",'B) Eingabe (Lehrer)'!F38)","v":""},{"$f":"IF('B) Eingabe (Lehrer)'!G38=\"\", \"\",'B) Eingabe (Lehrer)'!G38)","v":""},{"$f":"IF('B) Eingabe (Lehrer)'!H38=\"\", \"\",'B) Eingabe (Lehrer)'!H38)","v":""},{"$f":"IF('B) Eingabe (Lehrer)'!I38=\"\", \"\",'B) Eingabe (Lehrer)'!I38)","v":""},{"$f":"IF('B) Eingabe (Lehrer)'!J38=\"\", \"\",'B) Eingabe (Lehrer)'!J38)","v":""},{"$f":"IF('B) Eingabe (Lehrer)'!K38=\"\", \"\",'B) Eingabe (Lehrer)'!K38)","v":""},{"$f":"IF('B) Eingabe (Lehrer)'!L38=\"\", \"\",'B) Eingabe (Lehrer)'!L38)","v":""},{"$f":"IF('B) Eingabe (Lehrer)'!M38=\"\", \"\",'B) Eingabe (Lehrer)'!M38)","v":""},{"$f":"IF('B) Eingabe (Lehrer)'!N38=\"\", \"\",'B) Eingabe (Lehrer)'!N38)","v":""},{"$f":"IF('B) Eingabe (Lehrer)'!O38=\"\", \"\",'B) Eingabe (Lehrer)'!O38)","v":""},{"$f":"IF('B) Eingabe (Lehrer)'!P38=\"\", \"\",'B) Eingabe (Lehrer)'!P38)","v":""},{"$f":"IF('B) Eingabe (Lehrer)'!Q38=\"\", \"\",'B) Eingabe (Lehrer)'!Q38)","v":""},{"$f":"IF('B) Eingabe (Lehrer)'!R38=\"\", \"\",'B) Eingabe (Lehrer)'!R38)","v":""},{"$f":"IF('B) Eingabe (Lehrer)'!S38=\"\", \"\",'B) Eingabe (Lehrer)'!S38)","v":""},{"$f":"IF('B) Eingabe (Lehrer)'!T38=\"\", \"\",'B) Eingabe (Lehrer)'!T38)","v":""},{"$f":"IF('B) Eingabe (Lehrer)'!U38=\"\", \"\",'B) Eingabe (Lehrer)'!U38)","v":""},{"$f":"IF('B) Eingabe (Lehrer)'!V38=\"\", \"\",'B) Eingabe (Lehrer)'!V38)","v":""},{"$f":"IF('B) Eingabe (Lehrer)'!W38=\"\", \"\",'B) Eingabe (Lehrer)'!W38)","v":""},{"$f":"IF('B) Eingabe (Lehrer)'!X38=\"\", \"\",'B) Eingabe (Lehrer)'!X38)","v":""},{"$f":"IF('B) Eingabe (Lehrer)'!Y38=\"\", \"\",'B) Eingabe (Lehrer)'!Y38)","v":""},{"$f":"IF('B) Eingabe (Lehrer)'!Z38=\"\", \"\",'B) Eingabe (Lehrer)'!Z38)","v":""},{"$f":"IF('B) Eingabe (Lehrer)'!AA38=\"\", \"\",'B) Eingabe (Lehrer)'!AA38)","v":""},{"$f":"IF('B) Eingabe (Lehrer)'!AB38=\"\", \"\",'B) Eingabe (Lehrer)'!AB38)","v":""},{"$f":"IF('B) Eingabe (Lehrer)'!AC38=\"\", \"\",'B) Eingabe (Lehrer)'!AC38)","v":""},{"$f":"IF('B) Eingabe (Lehrer)'!AD38=\"\", \"\",'B) Eingabe (Lehrer)'!AD38)","v":""},{"$f":"IF('B) Eingabe (Lehrer)'!AE38=\"\", \"\",'B) Eingabe (Lehrer)'!AE38)","v":""},{"$f":"IF('B) Eingabe (Lehrer)'!AF38=\"\", \"\",'B) Eingabe (Lehrer)'!AF38)","v":""},{"$f":"IF('B) Eingabe (Lehrer)'!AG38=\"\", \"\",'B) Eingabe (Lehrer)'!AG38)","v":""},{"$f":"IF('B) Eingabe (Lehrer)'!AH38=\"\", \"\",'B) Eingabe (Lehrer)'!AH38)","v":""},{"$f":"IF('B) Eingabe (Lehrer)'!AI38=\"\", \"\",'B) Eingabe (Lehrer)'!AI38)","v":""},{"$f":"IF('B) Eingabe (Lehrer)'!AJ38=\"\", \"\",'B) Eingabe (Lehrer)'!AJ38)","v":""},{"$f":"IF('B) Eingabe (Lehrer)'!AK38=\"\", \"\",'B) Eingabe (Lehrer)'!AK38)","v":""},{"$f":"IF('B) Eingabe (Lehrer)'!AL38=\"\", \"\",'B) Eingabe (Lehrer)'!AL38)","v":""},{"$f":"IF('B) Eingabe (Lehrer)'!AM38=\"\", \"\",'B) Eingabe (Lehrer)'!AM38)","v":""},{"$f":"IF('B) Eingabe (Lehrer)'!AN38=\"\", \"\",'B) Eingabe (Lehrer)'!AN38)","v":""},{"$f":"IF('B) Eingabe (Lehrer)'!AO38=\"\", \"\",'B) Eingabe (Lehrer)'!AO38)","v":""},{"$f":"IF('B) Eingabe (Lehrer)'!AP38=\"\", \"\",'B) Eingabe (Lehrer)'!AP38)","v":""},{"$f":"IF('B) Eingabe (Lehrer)'!AQ38=\"\", \"\",'B) Eingabe (Lehrer)'!AQ38)","v":""},{"$f":"IF('B) Eingabe (Lehrer)'!AR38=\"\", \"\",'B) Eingabe (Lehrer)'!AR38)","v":""},{"$f":"IF('B) Eingabe (Lehrer)'!AS38=\"\", \"\",'B) Eingabe (Lehrer)'!AS38)","v":""},{"$f":"IF('B) Eingabe (Lehrer)'!AT38=\"\", \"\",'B) Eingabe (Lehrer)'!AT38)","v":""},{"$f":"IF('B) Eingabe (Lehrer)'!AU38=\"\", \"\",'B) Eingabe (Lehrer)'!AU38)","v":""},{"$f":"IF('B) Eingabe (Lehrer)'!AV38=\"\", \"\",'B) Eingabe (Lehrer)'!AV38)","v":""},{"$f":"IF('B) Eingabe (Lehrer)'!AW38=\"\", \"\",'B) Eingabe (Lehrer)'!AW38)","v":""},{"$f":"IF('B) Eingabe (Lehrer)'!AX38=\"\", \"\",'B) Eingabe (Lehrer)'!AX38)","v":""},{"$f":"IF('B) Eingabe (Lehrer)'!AY38=\"\", \"\",'B) Eingabe (Lehrer)'!AY38)","v":""},{"$f":"IF('B) Eingabe (Lehrer)'!AZ38=\"\", \"\",'B) Eingabe (Lehrer)'!AZ38)","v":""},{"$f":"IF('B) Eingabe (Lehrer)'!BA38=\"\", \"\",'B) Eingabe (Lehrer)'!BA38)","v":""},{"$f":"IF('B) Eingabe (Lehrer)'!BB38=\"\", \"\",'B) Eingabe (Lehrer)'!BB38)","v":""},{"$f":"IF('B) Eingabe (Lehrer)'!BC38=\"\", \"\",'B) Eingabe (Lehrer)'!BC38)","v":""},{"$f":"IF('B) Eingabe (Lehrer)'!BD38=\"\", \"\",'B) Eingabe (Lehrer)'!BD38)","v":""},{"$f":"IF('B) Eingabe (Lehrer)'!BE38=\"\", \"\",'B) Eingabe (Lehrer)'!BE38)","v":""},{"$f":"IF('B) Eingabe (Lehrer)'!BF38=\"\", \"\",'B) Eingabe (Lehrer)'!BF38)","v":""},{"$f":"IF('B) Eingabe (Lehrer)'!BG38=\"\", \"\",'B) Eingabe (Lehrer)'!BG38)","v":""},{"$f":"IF('B) Eingabe (Lehrer)'!BH38=\"\", \"\",'B) Eingabe (Lehrer)'!BH38)","v":""},{"$f":"IF('B) Eingabe (Lehrer)'!BI38=\"\", \"\",'B) Eingabe (Lehrer)'!BI38)","v":""},{"$f":"IF('B) Eingabe (Lehrer)'!BJ38=\"\", \"\",'B) Eingabe (Lehrer)'!BJ38)","v":""},{"$f":"IF('B) Eingabe (Lehrer)'!BK38=\"\", \"\",'B) Eingabe (Lehrer)'!BK38)","v":""}]
["Item 24",{"$f":"IF('B) Eingabe (Lehrer)'!C39=\"\", \"\",'B) Eingabe (Lehrer)'!C39)","v":""},{"$f":"IF('B) Eingabe (Lehrer)'!D39=\"\", \"\",'B) Eingabe (Lehrer)'!D39)","v":""},{"$f":"IF('B) Eingabe (Lehrer)'!E39=\"\", \"\",'B) Eingabe (Lehrer)'!E39)","v":""},{"$f":"IF('B) Eingabe (Lehrer)'!F39=\"\", \"\",'B) Eingabe (Lehrer)'!F39)","v":""},{"$f":"IF('B) Eingabe (Lehrer)'!G39=\"\", \"\",'B) Eingabe (Lehrer)'!G39)","v":""},{"$f":"IF('B) Eingabe (Lehrer)'!H39=\"\", \"\",'B) Eingabe (Lehrer)'!H39)","v":""},{"$f":"IF('B) Eingabe (Lehrer)'!I39=\"\", \"\",'B) Eingabe (Lehrer)'!I39)","v":""},{"$f":"IF('B) Eingabe (Lehrer)'!J39=\"\", \"\",'B) Eingabe (Lehrer)'!J39)","v":""},{"$f":"IF('B) Eingabe (Lehrer)'!K39=\"\", \"\",'B) Eingabe (Lehrer)'!K39)","v":""},{"$f":"IF('B) Eingabe (Lehrer)'!L39=\"\", \"\",'B) Eingabe (Lehrer)'!L39)","v":""},{"$f":"IF('B) Eingabe (Lehrer)'!M39=\"\", \"\",'B) Eingabe (Lehrer)'!M39)","v":""},{"$f":"IF('B) Eingabe (Lehrer)'!N39=\"\", \"\",'B) Eingabe (Lehrer)'!N39)","v":""},{"$f":"IF('B) Eingabe (Lehrer)'!O39=\"\", \"\",'B) Eingabe (Lehrer)'!O39)","v":""},{"$f":"IF('B) Eingabe (Lehrer)'!P39=\"\", \"\",'B) Eingabe (Lehrer)'!P39)","v":""},{"$f":"IF('B) Eingabe (Lehrer)'!Q39=\"\", \"\",'B) Eingabe (Lehrer)'!Q39)","v":""},{"$f":"IF('B) Eingabe (Lehrer)'!R39=\"\", \"\",'B) Eingabe (Lehrer)'!R39)","v":""},{"$f":"IF('B) Eingabe (Lehrer)'!S39=\"\", \"\",'B) Eingabe (Lehrer)'!S39)","v":""},{"$f":"IF('B) Eingabe (Lehrer)'!T39=\"\", \"\",'B) Eingabe (Lehrer)'!T39)","v":""},{"$f":"IF('B) Eingabe (Lehrer)'!U39=\"\", \"\",'B) Eingabe (Lehrer)'!U39)","v":""},{"$f":"IF('B) Eingabe (Lehrer)'!V39=\"\", \"\",'B) Eingabe (Lehrer)'!V39)","v":""},{"$f":"IF('B) Eingabe (Lehrer)'!W39=\"\", \"\",'B) Eingabe (Lehrer)'!W39)","v":""},{"$f":"IF('B) Eingabe (Lehrer)'!X39=\"\", \"\",'B) Eingabe (Lehrer)'!X39)","v":""},{"$f":"IF('B) Eingabe (Lehrer)'!Y39=\"\", \"\",'B) Eingabe (Lehrer)'!Y39)","v":""},{"$f":"IF('B) Eingabe (Lehrer)'!Z39=\"\", \"\",'B) Eingabe (Lehrer)'!Z39)","v":""},{"$f":"IF('B) Eingabe (Lehrer)'!AA39=\"\", \"\",'B) Eingabe (Lehrer)'!AA39)","v":""},{"$f":"IF('B) Eingabe (Lehrer)'!AB39=\"\", \"\",'B) Eingabe (Lehrer)'!AB39)","v":""},{"$f":"IF('B) Eingabe (Lehrer)'!AC39=\"\", \"\",'B) Eingabe (Lehrer)'!AC39)","v":""},{"$f":"IF('B) Eingabe (Lehrer)'!AD39=\"\", \"\",'B) Eingabe (Lehrer)'!AD39)","v":""},{"$f":"IF('B) Eingabe (Lehrer)'!AE39=\"\", \"\",'B) Eingabe (Lehrer)'!AE39)","v":""},{"$f":"IF('B) Eingabe (Lehrer)'!AF39=\"\", \"\",'B) Eingabe (Lehrer)'!AF39)","v":""},{"$f":"IF('B) Eingabe (Lehrer)'!AG39=\"\", \"\",'B) Eingabe (Lehrer)'!AG39)","v":""},{"$f":"IF('B) Eingabe (Lehrer)'!AH39=\"\", \"\",'B) Eingabe (Lehrer)'!AH39)","v":""},{"$f":"IF('B) Eingabe (Lehrer)'!AI39=\"\", \"\",'B) Eingabe (Lehrer)'!AI39)","v":""},{"$f":"IF('B) Eingabe (Lehrer)'!AJ39=\"\", \"\",'B) Eingabe (Lehrer)'!AJ39)","v":""},{"$f":"IF('B) Eingabe (Lehrer)'!AK39=\"\", \"\",'B) Eingabe (Lehrer)'!AK39)","v":""},{"$f":"IF('B) Eingabe (Lehrer)'!AL39=\"\", \"\",'B) Eingabe (Lehrer)'!AL39)","v":""},{"$f":"IF('B) Eingabe (Lehrer)'!AM39=\"\", \"\",'B) Eingabe (Lehrer)'!AM39)","v":""},{"$f":"IF('B) Eingabe (Lehrer)'!AN39=\"\", \"\",'B) Eingabe (Lehrer)'!AN39)","v":""},{"$f":"IF('B) Eingabe (Lehrer)'!AO39=\"\", \"\",'B) Eingabe (Lehrer)'!AO39)","v":""},{"$f":"IF('B) Eingabe (Lehrer)'!AP39=\"\", \"\",'B) Eingabe (Lehrer)'!AP39)","v":""},{"$f":"IF('B) Eingabe (Lehrer)'!AQ39=\"\", \"\",'B) Eingabe (Lehrer)'!AQ39)","v":""},{"$f":"IF('B) Eingabe (Lehrer)'!AR39=\"\", \"\",'B) Eingabe (Lehrer)'!AR39)","v":""},{"$f":"IF('B) Eingabe (Lehrer)'!AS39=\"\", \"\",'B) Eingabe (Lehrer)'!AS39)","v":""},{"$f":"IF('B) Eingabe (Lehrer)'!AT39=\"\", \"\",'B) Eingabe (Lehrer)'!AT39)","v":""},{"$f":"IF('B) Eingabe (Lehrer)'!AU39=\"\", \"\",'B) Eingabe (Lehrer)'!AU39)","v":""},{"$f":"IF('B) Eingabe (Lehrer)'!AV39=\"\", \"\",'B) Eingabe (Lehrer)'!AV39)","v":""},{"$f":"IF('B) Eingabe (Lehrer)'!AW39=\"\", \"\",'B) Eingabe (Lehrer)'!AW39)","v":""},{"$f":"IF('B) Eingabe (Lehrer)'!AX39=\"\", \"\",'B) Eingabe (Lehrer)'!AX39)","v":""},{"$f":"IF('B) Eingabe (Lehrer)'!AY39=\"\", \"\",'B) Eingabe (Lehrer)'!AY39)","v":""},{"$f":"IF('B) Eingabe (Lehrer)'!AZ39=\"\", \"\",'B) Eingabe (Lehrer)'!AZ39)","v":""},{"$f":"IF('B) Eingabe (Lehrer)'!BA39=\"\", \"\",'B) Eingabe (Lehrer)'!BA39)","v":""},{"$f":"IF('B) Eingabe (Lehrer)'!BB39=\"\", \"\",'B) Eingabe (Lehrer)'!BB39)","v":""},{"$f":"IF('B) Eingabe (Lehrer)'!BC39=\"\", \"\",'B) Eingabe (Lehrer)'!BC39)","v":""},{"$f":"IF('B) Eingabe (Lehrer)'!BD39=\"\", \"\",'B) Eingabe (Lehrer)'!BD39)","v":""},{"$f":"IF('B) Eingabe (Lehrer)'!BE39=\"\", \"\",'B) Eingabe (Lehrer)'!BE39)","v":""},{"$f":"IF('B) Eingabe (Lehrer)'!BF39=\"\", \"\",'B) Eingabe (Lehrer)'!BF39)","v":""},{"$f":"IF('B) Eingabe (Lehrer)'!BG39=\"\", \"\",'B) Eingabe (Lehrer)'!BG39)","v":""},{"$f":"IF('B) Eingabe (Lehrer)'!BH39=\"\", \"\",'B) Eingabe (Lehrer)'!BH39)","v":""},{"$f":"IF('B) Eingabe (Lehrer)'!BI39=\"\", \"\",'B) Eingabe (Lehrer)'!BI39)","v":""},{"$f":"IF('B) Eingabe (Lehrer)'!BJ39=\"\", \"\",'B) Eingabe (Lehrer)'!BJ39)","v":""},{"$f":"IF('B) Eingabe (Lehrer)'!BK39=\"\", \"\",'B) Eingabe (Lehrer)'!BK39)","v":""}]
["Item 25",{"$f":"IF('B) Eingabe (Lehrer)'!C40=\"\", \"\",'B) Eingabe (Lehrer)'!C40)","v":""},{"$f":"IF('B) Eingabe (Lehrer)'!D40=\"\", \"\",'B) Eingabe (Lehrer)'!D40)","v":""},{"$f":"IF('B) Eingabe (Lehrer)'!E40=\"\", \"\",'B) Eingabe (Lehrer)'!E40)","v":""},{"$f":"IF('B) Eingabe (Lehrer)'!F40=\"\", \"\",'B) Eingabe (Lehrer)'!F40)","v":""},{"$f":"IF('B) Eingabe (Lehrer)'!G40=\"\", \"\",'B) Eingabe (Lehrer)'!G40)","v":""},{"$f":"IF('B) Eingabe (Lehrer)'!H40=\"\", \"\",'B) Eingabe (Lehrer)'!H40)","v":""},{"$f":"IF('B) Eingabe (Lehrer)'!I40=\"\", \"\",'B) Eingabe (Lehrer)'!I40)","v":""},{"$f":"IF('B) Eingabe (Lehrer)'!J40=\"\", \"\",'B) Eingabe (Lehrer)'!J40)","v":""},{"$f":"IF('B) Eingabe (Lehrer)'!K40=\"\", \"\",'B) Eingabe (Lehrer)'!K40)","v":""},{"$f":"IF('B) Eingabe (Lehrer)'!L40=\"\", \"\",'B) Eingabe (Lehrer)'!L40)","v":""},{"$f":"IF('B) Eingabe (Lehrer)'!M40=\"\", \"\",'B) Eingabe (Lehrer)'!M40)","v":""},{"$f":"IF('B) Eingabe (Lehrer)'!N40=\"\", \"\",'B) Eingabe (Lehrer)'!N40)","v":""},{"$f":"IF('B) Eingabe (Lehrer)'!O40=\"\", \"\",'B) Eingabe (Lehrer)'!O40)","v":""},{"$f":"IF('B) Eingabe (Lehrer)'!P40=\"\", \"\",'B) Eingabe (Lehrer)'!P40)","v":""},{"$f":"IF('B) Eingabe (Lehrer)'!Q40=\"\", \"\",'B) Eingabe (Lehrer)'!Q40)","v":""},{"$f":"IF('B) Eingabe (Lehrer)'!R40=\"\", \"\",'B) Eingabe (Lehrer)'!R40)","v":""},{"$f":"IF('B) Eingabe (Lehrer)'!S40=\"\", \"\",'B) Eingabe (Lehrer)'!S40)","v":""},{"$f":"IF('B) Eingabe (Lehrer)'!T40=\"\", \"\",'B) Eingabe (Lehrer)'!T40)","v":""},{"$f":"IF('B) Eingabe (Lehrer)'!U40=\"\", \"\",'B) Eingabe (Lehrer)'!U40)","v":""},{"$f":"IF('B) Eingabe (Lehrer)'!V40=\"\", \"\",'B) Eingabe (Lehrer)'!V40)","v":""},{"$f":"IF('B) Eingabe (Lehrer)'!W40=\"\", \"\",'B) Eingabe (Lehrer)'!W40)","v":""},{"$f":"IF('B) Eingabe (Lehrer)'!X40=\"\", \"\",'B) Eingabe (Lehrer)'!X40)","v":""},{"$f":"IF('B) Eingabe (Lehrer)'!Y40=\"\", \"\",'B) Eingabe (Lehrer)'!Y40)","v":""},{"$f":"IF('B) Eingabe (Lehrer)'!Z40=\"\", \"\",'B) Eingabe (Lehrer)'!Z40)","v":""},{"$f":"IF('B) Eingabe (Lehrer)'!AA40=\"\", \"\",'B) Eingabe (Lehrer)'!AA40)","v":""},{"$f":"IF('B) Eingabe (Lehrer)'!AB40=\"\", \"\",'B) Eingabe (Lehrer)'!AB40)","v":""},{"$f":"IF('B) Eingabe (Lehrer)'!AC40=\"\", \"\",'B) Eingabe (Lehrer)'!AC40)","v":""},{"$f":"IF('B) Eingabe (Lehrer)'!AD40=\"\", \"\",'B) Eingabe (Lehrer)'!AD40)","v":""},{"$f":"IF('B) Eingabe (Lehrer)'!AE40=\"\", \"\",'B) Eingabe (Lehrer)'!AE40)","v":""},{"$f":"IF('B) Eingabe (Lehrer)'!AF40=\"\", \"\",'B) Eingabe (Lehrer)'!AF40)","v":""},{"$f":"IF('B) Eingabe (Lehrer)'!AG40=\"\", \"\",'B) Eingabe (Lehrer)'!AG40)","v":""},{"$f":"IF('B) Eingabe (Lehrer)'!AH40=\"\", \"\",'B) Eingabe (Lehrer)'!AH40)","v":""},{"$f":"IF('B) Eingabe (Lehrer)'!AI40=\"\", \"\",'B) Eingabe (Lehrer)'!AI40)","v":""},{"$f":"IF('B) Eingabe (Lehrer)'!AJ40=\"\", \"\",'B) Eingabe (Lehrer)'!AJ40)","v":""},{"$f":"IF('B) Eingabe (Lehrer)'!AK40=\"\", \"\",'B) Eingabe (Lehrer)'!AK40)","v":""},{"$f":"IF('B) Eingabe (Lehrer)'!AL40=\"\", \"\",'B) Eingabe (Lehrer)'!AL40)","v":""},{"$f":"IF('B) Eingabe (Lehrer)'!AM40=\"\", \"\",'B) Eingabe (Lehrer)'!AM40)","v":""},{"$f":"IF('B) Eingabe (Lehrer)'!AN40=\"\", \"\",'B) Eingabe (Lehrer)'!AN40)","v":""},{"$f":"IF('B) Eingabe (Lehrer)'!AO40=\"\", \"\",'B) Eingabe (Lehrer)'!AO40)","v":""},{"$f":"IF('B) Eingabe (Lehrer)'!AP40=\"\", \"\",'B) Eingabe (Lehrer)'!AP40)","v":""},{"$f":"IF('B) Eingabe (Lehrer)'!AQ40=\"\", \"\",'B) Eingabe (Lehrer)'!AQ40)","v":""},{"$f":"IF('B) Eingabe (Lehrer)'!AR40=\"\", \"\",'B) Eingabe (Lehrer)'!AR40)","v":""},{"$f":"IF('B) Eingabe (Lehrer)'!AS40=\"\", \"\",'B) Eingabe (Lehrer)'!AS40)","v":""},{"$f":"IF('B) Eingabe (Lehrer)'!AT40=\"\", \"\",'B) Eingabe (Lehrer)'!AT40)","v":""},{"$f":"IF('B) Eingabe (Lehrer)'!AU40=\"\", \"\",'B) Eingabe (Lehrer)'!AU40)","v":""},{"$f":"IF('B) Eingabe (Lehrer)'!AV40=\"\", \"\",'B) Eingabe (Lehrer)'!AV40)","v":""},{"$f":"IF('B) Eingabe (Lehrer)'!AW40=\"\", \"\",'B) Eingabe (Lehrer)'!AW40)","v":""},{"$f":"IF('B) Eingabe (Lehrer)'!AX40=\"\", \"\",'B) Eingabe (Lehrer)'!AX40)","v":""},{"$f":"IF('B) Eingabe (Lehrer)'!AY40=\"\", \"\",'B) Eingabe (Lehrer)'!AY40)","v":""},{"$f":"IF('B) Eingabe (Lehrer)'!AZ40=\"\", \"\",'B) Eingabe (Lehrer)'!AZ40)","v":""},{"$f":"IF('B) Eingabe (Lehrer)'!BA40=\"\", \"\",'B) Eingabe (Lehrer)'!BA40)","v":""},{"$f":"IF('B) Eingabe (Lehrer)'!BB40=\"\", \"\",'B) Eingabe (Lehrer)'!BB40)","v":""},{"$f":"IF('B) Eingabe (Lehrer)'!BC40=\"\", \"\",'B) Eingabe (Lehrer)'!BC40)","v":""},{"$f":"IF('B) Eingabe (Lehrer)'!BD40=\"\", \"\",'B) Eingabe (Lehrer)'!BD40)","v":""},{"$f":"IF('B) Eingabe (Lehrer)'!BE40=\"\", \"\",'B) Eingabe (Lehrer)'!BE40)","v":""},{"$f":"IF('B) Eingabe (Lehrer)'!BF40=\"\", \"\",'B) Eingabe (Lehrer)'!BF40)","v":""},{"$f":"IF('B) Eingabe (Lehrer)'!BG40=\"\", \"\",'B) Eingabe (Lehrer)'!BG40)","v":""},{"$f":"IF('B) Eingabe (Lehrer)'!BH40=\"\", \"\",'B) Eingabe (Lehrer)'!BH40)","v":""},{"$f":"IF('B) Eingabe (Lehrer)'!BI40=\"\", \"\",'B) Eingabe (Lehrer)'!BI40)","v":""},{"$f":"IF('B) Eingabe (Lehrer)'!BJ40=\"\", \"\",'B) Eingabe (Lehrer)'!BJ40)","v":""},{"$f":"IF('B) Eingabe (Lehrer)'!BK40=\"\", \"\",'B) Eingabe (Lehrer)'!BK40)","v":""}]
["Item 26",{"$f":"IF('B) Eingabe (Lehrer)'!C41=\"\", \"\",'B) Eingabe (Lehrer)'!C41)","v":""},{"$f":"IF('B) Eingabe (Lehrer)'!D41=\"\", \"\",'B) Eingabe (Lehrer)'!D41)","v":""},{"$f":"IF('B) Eingabe (Lehrer)'!E41=\"\", \"\",'B) Eingabe (Lehrer)'!E41)","v":""},{"$f":"IF('B) Eingabe (Lehrer)'!F41=\"\", \"\",'B) Eingabe (Lehrer)'!F41)","v":""},{"$f":"IF('B) Eingabe (Lehrer)'!G41=\"\", \"\",'B) Eingabe (Lehrer)'!G41)","v":""},{"$f":"IF('B) Eingabe (Lehrer)'!H41=\"\", \"\",'B) Eingabe (Lehrer)'!H41)","v":""},{"$f":"IF('B) Eingabe (Lehrer)'!I41=\"\", \"\",'B) Eingabe (Lehrer)'!I41)","v":""},{"$f":"IF('B) Eingabe (Lehrer)'!J41=\"\", \"\",'B) Eingabe (Lehrer)'!J41)","v":""},{"$f":"IF('B) Eingabe (Lehrer)'!K41=\"\", \"\",'B) Eingabe (Lehrer)'!K41)","v":""},{"$f":"IF('B) Eingabe (Lehrer)'!L41=\"\", \"\",'B) Eingabe (Lehrer)'!L41)","v":""},{"$f":"IF('B) Eingabe (Lehrer)'!M41=\"\", \"\",'B) Eingabe (Lehrer)'!M41)","v":""},{"$f":"IF('B) Eingabe (Lehrer)'!N41=\"\", \"\",'B) Eingabe (Lehrer)'!N41)","v":""},{"$f":"IF('B) Eingabe (Lehrer)'!O41=\"\", \"\",'B) Eingabe (Lehrer)'!O41)","v":""},{"$f":"IF('B) Eingabe (Lehrer)'!P41=\"\", \"\",'B) Eingabe (Lehrer)'!P41)","v":""},{"$f":"IF('B) Eingabe (Lehrer)'!Q41=\"\", \"\",'B) Eingabe (Lehrer)'!Q41)","v":""},{"$f":"IF('B) Eingabe (Lehrer)'!R41=\"\", \"\",'B) Eingabe (Lehrer)'!R41)","v":""},{"$f":"IF('B) Eingabe (Lehrer)'!S41=\"\", \"\",'B) Eingabe (Lehrer)'!S41)","v":""},{"$f":"IF('B) Eingabe (Lehrer)'!T41=\"\", \"\",'B) Eingabe (Lehrer)'!T41)","v":""},{"$f":"IF('B) Eingabe (Lehrer)'!U41=\"\", \"\",'B) Eingabe (Lehrer)'!U41)","v":""},{"$f":"IF('B) Eingabe (Lehrer)'!V41=\"\", \"\",'B) Eingabe (Lehrer)'!V41)","v":""},{"$f":"IF('B) Eingabe (Lehrer)'!W41=\"\", \"\",'B) Eingabe (Lehrer)'!W41)","v":""},{"$f":"IF('B) Eingabe (Lehrer)'!X41=\"\", \"\",'B) Eingabe (Lehrer)'!X41)","v":""},{"$f":"IF('B) Eingabe (Lehrer)'!Y41=\"\", \"\",'B) Eingabe (Lehrer)'!Y41)","v":""},{"$f":"IF('B) Eingabe (Lehrer)'!Z41=\"\", \"\",'B) Eingabe (Lehrer)'!Z41)","v":""},{"$f":"IF('B) Eingabe (Lehrer)'!AA41=\"\", \"\",'B) Eingabe (Lehrer)'!AA41)","v":""},{"$f":"IF('B) Eingabe (Lehrer)'!AB41=\"\", \"\",'B) Eingabe (Lehrer)'!AB41)","v":""},{"$f":"IF('B) Eingabe (Lehrer)'!AC41=\"\", \"\",'B) Eingabe (Lehrer)'!AC41)","v":""},{"$f":"IF('B) Eingabe (Lehrer)'!AD41=\"\", \"\",'B) Eingabe (Lehrer)'!AD41)","v":""},{"$f":"IF('B) Eingabe (Lehrer)'!AE41=\"\", \"\",'B) Eingabe (Lehrer)'!AE41)","v":""},{"$f":"IF('B) Eingabe (Lehrer)'!AF41=\"\", \"\",'B) Eingabe (Lehrer)'!AF41)","v":""},{"$f":"IF('B) Eingabe (Lehrer)'!AG41=\"\", \"\",'B) Eingabe (Lehrer)'!AG41)","v":""},{"$f":"IF('B) Eingabe (Lehrer)'!AH41=\"\", \"\",'B) Eingabe (Lehrer)'!AH41)","v":""},{"$f":"IF('B) Eingabe (Lehrer)'!AI41=\"\", \"\",'B) Eingabe (Lehrer)'!AI41)","v":""},{"$f":"IF('B) Eingabe (Lehrer)'!AJ41=\"\", \"\",'B) Eingabe (Lehrer)'!AJ41)","v":""},{"$f":"IF('B) Eingabe (Lehrer)'!AK41=\"\", \"\",'B) Eingabe (Lehrer)'!AK41)","v":""},{"$f":"IF('B) Eingabe (Lehrer)'!AL41=\"\", \"\",'B) Eingabe (Lehrer)'!AL41)","v":""},{"$f":"IF('B) Eingabe (Lehrer)'!AM41=\"\", \"\",'B) Eingabe (Lehrer)'!AM41)","v":""},{"$f":"IF('B) Eingabe (Lehrer)'!AN41=\"\", \"\",'B) Eingabe (Lehrer)'!AN41)","v":""},{"$f":"IF('B) Eingabe (Lehrer)'!AO41=\"\", \"\",'B) Eingabe (Lehrer)'!AO41)","v":""},{"$f":"IF('B) Eingabe (Lehrer)'!AP41=\"\", \"\",'B) Eingabe (Lehrer)'!AP41)","v":""},{"$f":"IF('B) Eingabe (Lehrer)'!AQ41=\"\", \"\",'B) Eingabe (Lehrer)'!AQ41)","v":""},{"$f":"IF('B) Eingabe (Lehrer)'!AR41=\"\", \"\",'B) Eingabe (Lehrer)'!AR41)","v":""},{"$f":"IF('B) Eingabe (Lehrer)'!AS41=\"\", \"\",'B) Eingabe (Lehrer)'!AS41)","v":""},{"$f":"IF('B) Eingabe (Lehrer)'!AT41=\"\", \"\",'B) Eingabe (Lehrer)'!AT41)","v":""},{"$f":"IF('B) Eingabe (Lehrer)'!AU41=\"\", \"\",'B) Eingabe (Lehrer)'!AU41)","v":""},{"$f":"IF('B) Eingabe (Lehrer)'!AV41=\"\", \"\",'B) Eingabe (Lehrer)'!AV41)","v":""},{"$f":"IF('B) Eingabe (Lehrer)'!AW41=\"\", \"\",'B) Eingabe (Lehrer)'!AW41)","v":""},{"$f":"IF('B) Eingabe (Lehrer)'!AX41=\"\", \"\",'B) Eingabe (Lehrer)'!AX41)","v":""},{"$f":"IF('B) Eingabe (Lehrer)'!AY41=\"\", \"\",'B) Eingabe (Lehrer)'!AY41)","v":""},{"$f":"IF('B) Eingabe (Lehrer)'!AZ41=\"\", \"\",'B) Eingabe (Lehrer)'!AZ41)","v":""},{"$f":"IF('B) Eingabe (Lehrer)'!BA41=\"\", \"\",'B) Eingabe (Lehrer)'!BA41)","v":""},{"$f":"IF('B) Eingabe (Lehrer)'!BB41=\"\", \"\",'B) Eingabe (Lehrer)'!BB41)","v":""},{"$f":"IF('B) Eingabe (Lehrer)'!BC41=\"\", \"\",'B) Eingabe (Lehrer)'!BC41)","v":""},{"$f":"IF('B) Eingabe (Lehrer)'!BD41=\"\", \"\",'B) Eingabe (Lehrer)'!BD41)","v":""},{"$f":"IF('B) Eingabe (Lehrer)'!BE41=\"\", \"\",'B) Eingabe (Lehrer)'!BE41)","v":""},{"$f":"IF('B) Eingabe (Lehrer)'!BF41=\"\", \"\",'B) Eingabe (Lehrer)'!BF41)","v":""},{"$f":"IF('B) Eingabe (Lehrer)'!BG41=\"\", \"\",'B) Eingabe (Lehrer)'!BG41)","v":""},{"$f":"IF('B) Eingabe (Lehrer)'!BH41=\"\", \"\",'B) Eingabe (Lehrer)'!BH41)","v":""},{"$f":"IF('B) Eingabe (Lehrer)'!BI41=\"\", \"\",'B) Eingabe (Lehrer)'!BI41)","v":""},{"$f":"IF('B) Eingabe (Lehrer)'!BJ41=\"\", \"\",'B) Eingabe (Lehrer)'!BJ41)","v":""},{"$f":"IF('B) Eingabe (Lehrer)'!BK41=\"\", \"\",'B) Eingabe (Lehrer)'!BK41)","v":""}]
["Item 27",{"$f":"IF('B) Eingabe (Lehrer)'!C42=\"\", \"\",'B) Eingabe (Lehrer)'!C42)","v":""},{"$f":"IF('B) Eingabe (Lehrer)'!D42=\"\", \"\",'B) Eingabe (Lehrer)'!D42)","v":""},{"$f":"IF('B) Eingabe (Lehrer)'!E42=\"\", \"\",'B) Eingabe (Lehrer)'!E42)","v":""},{"$f":"IF('B) Eingabe (Lehrer)'!F42=\"\", \"\",'B) Eingabe (Lehrer)'!F42)","v":""},{"$f":"IF('B) Eingabe (Lehrer)'!G42=\"\", \"\",'B) Eingabe (Lehrer)'!G42)","v":""},{"$f":"IF('B) Eingabe (Lehrer)'!H42=\"\", \"\",'B) Eingabe (Lehrer)'!H42)","v":""},{"$f":"IF('B) Eingabe (Lehrer)'!I42=\"\", \"\",'B) Eingabe (Lehrer)'!I42)","v":""},{"$f":"IF('B) Eingabe (Lehrer)'!J42=\"\", \"\",'B) Eingabe (Lehrer)'!J42)","v":""},{"$f":"IF('B) Eingabe (Lehrer)'!K42=\"\", \"\",'B) Eingabe (Lehrer)'!K42)","v":""},{"$f":"IF('B) Eingabe (Lehrer)'!L42=\"\", \"\",'B) Eingabe (Lehrer)'!L42)","v":""},{"$f":"IF('B) Eingabe (Lehrer)'!M42=\"\", \"\",'B) Eingabe (Lehrer)'!M42)","v":""},{"$f":"IF('B) Eingabe (Lehrer)'!N42=\"\", \"\",'B) Eingabe (Lehrer)'!N42)","v":""},{"$f":"IF('B) Eingabe (Lehrer)'!O42=\"\", \"\",'B) Eingabe (Lehrer)'!O42)","v":""},{"$f":"IF('B) Eingabe (Lehrer)'!P42=\"\", \"\",'B) Eingabe (Lehrer)'!P42)","v":""},{"$f":"IF('B) Eingabe (Lehrer)'!Q42=\"\", \"\",'B) Eingabe (Lehrer)'!Q42)","v":""},{"$f":"IF('B) Eingabe (Lehrer)'!R42=\"\", \"\",'B) Eingabe (Lehrer)'!R42)","v":""},{"$f":"IF('B) Eingabe (Lehrer)'!S42=\"\", \"\",'B) Eingabe (Lehrer)'!S42)","v":""},{"$f":"IF('B) Eingabe (Lehrer)'!T42=\"\", \"\",'B) Eingabe (Lehrer)'!T42)","v":""},{"$f":"IF('B) Eingabe (Lehrer)'!U42=\"\", \"\",'B) Eingabe (Lehrer)'!U42)","v":""},{"$f":"IF('B) Eingabe (Lehrer)'!V42=\"\", \"\",'B) Eingabe (Lehrer)'!V42)","v":""},{"$f":"IF('B) Eingabe (Lehrer)'!W42=\"\", \"\",'B) Eingabe (Lehrer)'!W42)","v":""},{"$f":"IF('B) Eingabe (Lehrer)'!X42=\"\", \"\",'B) Eingabe (Lehrer)'!X42)","v":""},{"$f":"IF('B) Eingabe (Lehrer)'!Y42=\"\", \"\",'B) Eingabe (Lehrer)'!Y42)","v":""},{"$f":"IF('B) Eingabe (Lehrer)'!Z42=\"\", \"\",'B) Eingabe (Lehrer)'!Z42)","v":""},{"$f":"IF('B) Eingabe (Lehrer)'!AA42=\"\", \"\",'B) Eingabe (Lehrer)'!AA42)","v":""},{"$f":"IF('B) Eingabe (Lehrer)'!AB42=\"\", \"\",'B) Eingabe (Lehrer)'!AB42)","v":""},{"$f":"IF('B) Eingabe (Lehrer)'!AC42=\"\", \"\",'B) Eingabe (Lehrer)'!AC42)","v":""},{"$f":"IF('B) Eingabe (Lehrer)'!AD42=\"\", \"\",'B) Eingabe (Lehrer)'!AD42)","v":""},{"$f":"IF('B) Eingabe (Lehrer)'!AE42=\"\", \"\",'B) Eingabe (Lehrer)'!AE42)","v":""},{"$f":"IF('B) Eingabe (Lehrer)'!AF42=\"\", \"\",'B) Eingabe (Lehrer)'!AF42)","v":""},{"$f":"IF('B) Eingabe (Lehrer)'!AG42=\"\", \"\",'B) Eingabe (Lehrer)'!AG42)","v":""},{"$f":"IF('B) Eingabe (Lehrer)'!AH42=\"\", \"\",'B) Eingabe (Lehrer)'!AH42)","v":""},{"$f":"IF('B) Eingabe (Lehrer)'!AI42=\"\", \"\",'B) Eingabe (Lehrer)'!AI42)","v":""},{"$f":"IF('B) Eingabe (Lehrer)'!AJ42=\"\", \"\",'B) Eingabe (Lehrer)'!AJ42)","v":""},{"$f":"IF('B) Eingabe (Lehrer)'!AK42=\"\", \"\",'B) Eingabe (Lehrer)'!AK42)","v":""},{"$f":"IF('B) Eingabe (Lehrer)'!AL42=\"\", \"\",'B) Eingabe (Lehrer)'!AL42)","v":""},{"$f":"IF('B) Eingabe (Lehrer)'!AM42=\"\", \"\",'B) Eingabe (Lehrer)'!AM42)","v":""},{"$f":"IF('B) Eingabe (Lehrer)'!AN42=\"\", \"\",'B) Eingabe (Lehrer)'!AN42)","v":""},{"$f":"IF('B) Eingabe (Lehrer)'!AO42=\"\", \"\",'B) Eingabe (Lehrer)'!AO42)","v":""},{"$f":"IF('B) Eingabe (Lehrer)'!AP42=\"\", \"\",'B) Eingabe (Lehrer)'!AP42)","v":""},{"$f":"IF('B) Eingabe (Lehrer)'!AQ42=\"\", \"\",'B) Eingabe (Lehrer)'!AQ42)","v":""},{"$f":"IF('B) Eingabe (Lehrer)'!AR42=\"\", \"\",'B) Eingabe (Lehrer)'!AR42)","v":""},{"$f":"IF('B) Eingabe (Lehrer)'!AS42=\"\", \"\",'B) Eingabe (Lehrer)'!AS42)","v":""},{"$f":"IF('B) Eingabe (Lehrer)'!AT42=\"\", \"\",'B) Eingabe (Lehrer)'!AT42)","v":""},{"$f":"IF('B) Eingabe (Lehrer)'!AU42=\"\", \"\",'B) Eingabe (Lehrer)'!AU42)","v":""},{"$f":"IF('B) Eingabe (Lehrer)'!AV42=\"\", \"\",'B) Eingabe (Lehrer)'!AV42)","v":""},{"$f":"IF('B) Eingabe (Lehrer)'!AW42=\"\", \"\",'B) Eingabe (Lehrer)'!AW42)","v":""},{"$f":"IF('B) Eingabe (Lehrer)'!AX42=\"\", \"\",'B) Eingabe (Lehrer)'!AX42)","v":""},{"$f":"IF('B) Eingabe (Lehrer)'!AY42=\"\", \"\",'B) Eingabe (Lehrer)'!AY42)","v":""},{"$f":"IF('B) Eingabe (Lehrer)'!AZ42=\"\", \"\",'B) Eingabe (Lehrer)'!AZ42)","v":""},{"$f":"IF('B) Eingabe (Lehrer)'!BA42=\"\", \"\",'B) Eingabe (Lehrer)'!BA42)","v":""},{"$f":"IF('B) Eingabe (Lehrer)'!BB42=\"\", \"\",'B) Eingabe (Lehrer)'!BB42)","v":""},{"$f":"IF('B) Eingabe (Lehrer)'!BC42=\"\", \"\",'B) Eingabe (Lehrer)'!BC42)","v":""},{"$f":"IF('B) Eingabe (Lehrer)'!BD42=\"\", \"\",'B) Eingabe (Lehrer)'!BD42)","v":""},{"$f":"IF('B) Eingabe (Lehrer)'!BE42=\"\", \"\",'B) Eingabe (Lehrer)'!BE42)","v":""},{"$f":"IF('B) Eingabe (Lehrer)'!BF42=\"\", \"\",'B) Eingabe (Lehrer)'!BF42)","v":""},{"$f":"IF('B) Eingabe (Lehrer)'!BG42=\"\", \"\",'B) Eingabe (Lehrer)'!BG42)","v":""},{"$f":"IF('B) Eingabe (Lehrer)'!BH42=\"\", \"\",'B) Eingabe (Lehrer)'!BH42)","v":""},{"$f":"IF('B) Eingabe (Lehrer)'!BI42=\"\", \"\",'B) Eingabe (Lehrer)'!BI42)","v":""},{"$f":"IF('B) Eingabe (Lehrer)'!BJ42=\"\", \"\",'B) Eingabe (Lehrer)'!BJ42)","v":""},{"$f":"IF('B) Eingabe (Lehrer)'!BK42=\"\", \"\",'B) Eingabe (Lehrer)'!BK42)","v":""}]
["Zusatzitem 1",{"$f":"IF('B) Eingabe (Lehrer)'!C44=\"\", \"\",'B) Eingabe (Lehrer)'!C44)","v":""},{"$f":"IF('B) Eingabe (Lehrer)'!D44=\"\", \"\",'B) Eingabe (Lehrer)'!D44)","v":""},{"$f":"IF('B) Eingabe (Lehrer)'!E44=\"\", \"\",'B) Eingabe (Lehrer)'!E44)","v":""},{"$f":"IF('B) Eingabe (Lehrer)'!F44=\"\", \"\",'B) Eingabe (Lehrer)'!F44)","v":""},{"$f":"IF('B) Eingabe (Lehrer)'!G44=\"\", \"\",'B) Eingabe (Lehrer)'!G44)","v":""},{"$f":"IF('B) Eingabe (Lehrer)'!H44=\"\", \"\",'B) Eingabe (Lehrer)'!H44)","v":""},{"$f":"IF('B) Eingabe (Lehrer)'!I44=\"\", \"\",'B) Eingabe (Lehrer)'!I44)","v":""},{"$f":"IF('B) Eingabe (Lehrer)'!J44=\"\", \"\",'B) Eingabe (Lehrer)'!J44)","v":""},{"$f":"IF('B) Eingabe (Lehrer)'!K44=\"\", \"\",'B) Eingabe (Lehrer)'!K44)","v":""},{"$f":"IF('B) Eingabe (Lehrer)'!L44=\"\", \"\",'B) Eingabe (Lehrer)'!L44)","v":""},{"$f":"IF('B) Eingabe (Lehrer)'!M44=\"\", \"\",'B) Eingabe (Lehrer)'!M44)","v":""},{"$f":"IF('B) Eingabe (Lehrer)'!N44=\"\", \"\",'B) Eingabe (Lehrer)'!N44)","v":""},{"$f":"IF('B) Eingabe (Lehrer)'!O44=\"\", \"\",'B) Eingabe (Lehrer)'!O44)","v":""},{"$f":"IF('B) Eingabe (Lehrer)'!P44=\"\", \"\",'B) Eingabe (Lehrer)'!P44)","v":""},{"$f":"IF('B) Eingabe (Lehrer)'!Q44=\"\", \"\",'B) Eingabe (Lehrer)'!Q44)","v":""},{"$f":"IF('B) Eingabe (Lehrer)'!R44=\"\", \"\",'B) Eingabe (Lehrer)'!R44)","v":""},{"$f":"IF('B) Eingabe (Lehrer)'!S44=\"\", \"\",'B) Eingabe (Lehrer)'!S44)","v":""},{"$f":"IF('B) Eingabe (Lehrer)'!T44=\"\", \"\",'B) Eingabe (Lehrer)'!T44)","v":""},{"$f":"IF('B) Eingabe (Lehrer)'!U44=\"\", \"\",'B) Eingabe (Lehrer)'!U44)","v":""},{"$f":"IF('B) Eingabe (Lehrer)'!V44=\"\", \"\",'B) Eingabe (Lehrer)'!V44)","v":""},{"$f":"IF('B) Eingabe (Lehrer)'!W44=\"\", \"\",'B) Eingabe (Lehrer)'!W44)","v":""},{"$f":"IF('B) Eingabe (Lehrer)'!X44=\"\", \"\",'B) Eingabe (Lehrer)'!X44)","v":""},{"$f":"IF('B) Eingabe (Lehrer)'!Y44=\"\", \"\",'B) Eingabe (Lehrer)'!Y44)","v":""},{"$f":"IF('B) Eingabe (Lehrer)'!Z44=\"\", \"\",'B) Eingabe (Lehrer)'!Z44)","v":""},{"$f":"IF('B) Eingabe (Lehrer)'!AA44=\"\", \"\",'B) Eingabe (Lehrer)'!AA44)","v":""},{"$f":"IF('B) Eingabe (Lehrer)'!AB44=\"\", \"\",'B) Eingabe (Lehrer)'!AB44)","v":""},{"$f":"IF('B) Eingabe (Lehrer)'!AC44=\"\", \"\",'B) Eingabe (Lehrer)'!AC44)","v":""},{"$f":"IF('B) Eingabe (Lehrer)'!AD44=\"\", \"\",'B) Eingabe (Lehrer)'!AD44)","v":""},{"$f":"IF('B) Eingabe (Lehrer)'!AE44=\"\", \"\",'B) Eingabe (Lehrer)'!AE44)","v":""},{"$f":"IF('B) Eingabe (Lehrer)'!AF44=\"\", \"\",'B) Eingabe (Lehrer)'!AF44)","v":""},{"$f":"IF('B) Eingabe (Lehrer)'!AG44=\"\", \"\",'B) Eingabe (Lehrer)'!AG44)","v":""},{"$f":"IF('B) Eingabe (Lehrer)'!AH44=\"\", \"\",'B) Eingabe (Lehrer)'!AH44)","v":""},{"$f":"IF('B) Eingabe (Lehrer)'!AI44=\"\", \"\",'B) Eingabe (Lehrer)'!AI44)","v":""},{"$f":"IF('B) Eingabe (Lehrer)'!AJ44=\"\", \"\",'B) Eingabe (Lehrer)'!AJ44)","v":""},{"$f":"IF('B) Eingabe (Lehrer)'!AK44=\"\", \"\",'B) Eingabe (Lehrer)'!AK44)","v":""},{"$f":"IF('B) Eingabe (Lehrer)'!AL44=\"\", \"\",'B) Eingabe (Lehrer)'!AL44)","v":""},{"$f":"IF('B) Eingabe (Lehrer)'!AM44=\"\", \"\",'B) Eingabe (Lehrer)'!AM44)","v":""},{"$f":"IF('B) Eingabe (Lehrer)'!AN44=\"\", \"\",'B) Eingabe (Lehrer)'!AN44)","v":""},{"$f":"IF('B) Eingabe (Lehrer)'!AO44=\"\", \"\",'B) Eingabe (Lehrer)'!AO44)","v":""},{"$f":"IF('B) Eingabe (Lehrer)'!AP44=\"\", \"\",'B) Eingabe (Lehrer)'!AP44)","v":""},{"$f":"IF('B) Eingabe (Lehrer)'!AQ44=\"\", \"\",'B) Eingabe (Lehrer)'!AQ44)","v":""},{"$f":"IF('B) Eingabe (Lehrer)'!AR44=\"\", \"\",'B) Eingabe (Lehrer)'!AR44)","v":""},{"$f":"IF('B) Eingabe (Lehrer)'!AS44=\"\", \"\",'B) Eingabe (Lehrer)'!AS44)","v":""},{"$f":"IF('B) Eingabe (Lehrer)'!AT44=\"\", \"\",'B) Eingabe (Lehrer)'!AT44)","v":""},{"$f":"IF('B) Eingabe (Lehrer)'!AU44=\"\", \"\",'B) Eingabe (Lehrer)'!AU44)","v":""},{"$f":"IF('B) Eingabe (Lehrer)'!AV44=\"\", \"\",'B) Eingabe (Lehrer)'!AV44)","v":""},{"$f":"IF('B) Eingabe (Lehrer)'!AW44=\"\", \"\",'B) Eingabe (Lehrer)'!AW44)","v":""},{"$f":"IF('B) Eingabe (Lehrer)'!AX44=\"\", \"\",'B) Eingabe (Lehrer)'!AX44)","v":""},{"$f":"IF('B) Eingabe (Lehrer)'!AY44=\"\", \"\",'B) Eingabe (Lehrer)'!AY44)","v":""},{"$f":"IF('B) Eingabe (Lehrer)'!AZ44=\"\", \"\",'B) Eingabe (Lehrer)'!AZ44)","v":""},{"$f":"IF('B) Eingabe (Lehrer)'!BA44=\"\", \"\",'B) Eingabe (Lehrer)'!BA44)","v":""},{"$f":"IF('B) Eingabe (Lehrer)'!BB44=\"\", \"\",'B) Eingabe (Lehrer)'!BB44)","v":""},{"$f":"IF('B) Eingabe (Lehrer)'!BC44=\"\", \"\",'B) Eingabe (Lehrer)'!BC44)","v":""},{"$f":"IF('B) Eingabe (Lehrer)'!BD44=\"\", \"\",'B) Eingabe (Lehrer)'!BD44)","v":""},{"$f":"IF('B) Eingabe (Lehrer)'!BE44=\"\", \"\",'B) Eingabe (Lehrer)'!BE44)","v":""},{"$f":"IF('B) Eingabe (Lehrer)'!BF44=\"\", \"\",'B) Eingabe (Lehrer)'!BF44)","v":""},{"$f":"IF('B) Eingabe (Lehrer)'!BG44=\"\", \"\",'B) Eingabe (Lehrer)'!BG44)","v":""},{"$f":"IF('B) Eingabe (Lehrer)'!BH44=\"\", \"\",'B) Eingabe (Lehrer)'!BH44)","v":""},{"$f":"IF('B) Eingabe (Lehrer)'!BI44=\"\", \"\",'B) Eingabe (Lehrer)'!BI44)","v":""},{"$f":"IF('B) Eingabe (Lehrer)'!BJ44=\"\", \"\",'B) Eingabe (Lehrer)'!BJ44)","v":""},{"$f":"IF('B) Eingabe (Lehrer)'!BK44=\"\", \"\",'B) Eingabe (Lehrer)'!BK44)","v":""}]
["Zusatzitem 2",{"$f":"IF('B) Eingabe (Lehrer)'!C45=\"\", \"\",'B) Eingabe (Lehrer)'!C45)","v":""},{"$f":"IF('B) Eingabe (Lehrer)'!D45=\"\", \"\",'B) Eingabe (Lehrer)'!D45)","v":""},{"$f":"IF('B) Eingabe (Lehrer)'!E45=\"\", \"\",'B) Eingabe (Lehrer)'!E45)","v":""},{"$f":"IF('B) Eingabe (Lehrer)'!F45=\"\", \"\",'B) Eingabe (Lehrer)'!F45)","v":""},{"$f":"IF('B) Eingabe (Lehrer)'!G45=\"\", \"\",'B) Eingabe (Lehrer)'!G45)","v":""},{"$f":"IF('B) Eingabe (Lehrer)'!H45=\"\", \"\",'B) Eingabe (Lehrer)'!H45)","v":""},{"$f":"IF('B) Eingabe (Lehrer)'!I45=\"\", \"\",'B) Eingabe (Lehrer)'!I45)","v":""},{"$f":"IF('B) Eingabe (Lehrer)'!J45=\"\", \"\",'B) Eingabe (Lehrer)'!J45)","v":""},{"$f":"IF('B) Eingabe (Lehrer)'!K45=\"\", \"\",'B) Eingabe (Lehrer)'!K45)","v":""},{"$f":"IF('B) Eingabe (Lehrer)'!L45=\"\", \"\",'B) Eingabe (Lehrer)'!L45)","v":""},{"$f":"IF('B) Eingabe (Lehrer)'!M45=\"\", \"\",'B) Eingabe (Lehrer)'!M45)","v":""},{"$f":"IF('B) Eingabe (Lehrer)'!N45=\"\", \"\",'B) Eingabe (Lehrer)'!N45)","v":""},{"$f":"IF('B) Eingabe (Lehrer)'!O45=\"\", \"\",'B) Eingabe (Lehrer)'!O45)","v":""},{"$f":"IF('B) Eingabe (Lehrer)'!P45=\"\", \"\",'B) Eingabe (Lehrer)'!P45)","v":""},{"$f":"IF('B) Eingabe (Lehrer)'!Q45=\"\", \"\",'B) Eingabe (Lehrer)'!Q45)","v":""},{"$f":"IF('B) Eingabe (Lehrer)'!R45=\"\", \"\",'B) Eingabe (Lehrer)'!R45)","v":""},{"$f":"IF('B) Eingabe (Lehrer)'!S45=\"\", \"\",'B) Eingabe (Lehrer)'!S45)","v":""},{"$f":"IF('B) Eingabe (Lehrer)'!T45=\"\", \"\",'B) Eingabe (Lehrer)'!T45)","v":""},{"$f":"IF('B) Eingabe (Lehrer)'!U45=\"\", \"\",'B) Eingabe (Lehrer)'!U45)","v":""},{"$f":"IF('B) Eingabe (Lehrer)'!V45=\"\", \"\",'B) Eingabe (Lehrer)'!V45)","v":""},{"$f":"IF('B) Eingabe (Lehrer)'!W45=\"\", \"\",'B) Eingabe (Lehrer)'!W45)","v":""},{"$f":"IF('B) Eingabe (Lehrer)'!X45=\"\", \"\",'B) Eingabe (Lehrer)'!X45)","v":""},{"$f":"IF('B) Eingabe (Lehrer)'!Y45=\"\", \"\",'B) Eingabe (Lehrer)'!Y45)","v":""},{"$f":"IF('B) Eingabe (Lehrer)'!Z45=\"\", \"\",'B) Eingabe (Lehrer)'!Z45)","v":""},{"$f":"IF('B) Eingabe (Lehrer)'!AA45=\"\", \"\",'B) Eingabe (Lehrer)'!AA45)","v":""},{"$f":"IF('B) Eingabe (Lehrer)'!AB45=\"\", \"\",'B) Eingabe (Lehrer)'!AB45)","v":""},{"$f":"IF('B) Eingabe (Lehrer)'!AC45=\"\", \"\",'B) Eingabe (Lehrer)'!AC45)","v":""},{"$f":"IF('B) Eingabe (Lehrer)'!AD45=\"\", \"\",'B) Eingabe (Lehrer)'!AD45)","v":""},{"$f":"IF('B) Eingabe (Lehrer)'!AE45=\"\", \"\",'B) Eingabe (Lehrer)'!AE45)","v":""},{"$f":"IF('B) Eingabe (Lehrer)'!AF45=\"\", \"\",'B) Eingabe (Lehrer)'!AF45)","v":""},{"$f":"IF('B) Eingabe (Lehrer)'!AG45=\"\", \"\",'B) Eingabe (Lehrer)'!AG45)","v":""},{"$f":"IF('B) Eingabe (Lehrer)'!AH45=\"\", \"\",'B) Eingabe (Lehrer)'!AH45)","v":""},{"$f":"IF('B) Eingabe (Lehrer)'!AI45=\"\", \"\",'B) Eingabe (Lehrer)'!AI45)","v":""},{"$f":"IF('B) Eingabe (Lehrer)'!AJ45=\"\", \"\",'B) Eingabe (Lehrer)'!AJ45)","v":""},{"$f":"IF('B) Eingabe (Lehrer)'!AK45=\"\", \"\",'B) Eingabe (Lehrer)'!AK45)","v":""},{"$f":"IF('B) Eingabe (Lehrer)'!AL45=\"\", \"\",'B) Eingabe (Lehrer)'!AL45)","v":""},{"$f":"IF('B) Eingabe (Lehrer)'!AM45=\"\", \"\",'B) Eingabe (Lehrer)'!AM45)","v":""},{"$f":"IF('B) Eingabe (Lehrer)'!AN45=\"\", \"\",'B) Eingabe (Lehrer)'!AN45)","v":""},{"$f":"IF('B) Eingabe (Lehrer)'!AO45=\"\", \"\",'B) Eingabe (Lehrer)'!AO45)","v":""},{"$f":"IF('B) Eingabe (Lehrer)'!AP45=\"\", \"\",'B) Eingabe (Lehrer)'!AP45)","v":""},{"$f":"IF('B) Eingabe (Lehrer)'!AQ45=\"\", \"\",'B) Eingabe (Lehrer)'!AQ45)","v":""},{"$f":"IF('B) Eingabe (Lehrer)'!AR45=\"\", \"\",'B) Eingabe (Lehrer)'!AR45)","v":""},{"$f":"IF('B) Eingabe (Lehrer)'!AS45=\"\", \"\",'B) Eingabe (Lehrer)'!AS45)","v":""},{"$f":"IF('B) Eingabe (Lehrer)'!AT45=\"\", \"\",'B) Eingabe (Lehrer)'!AT45)","v":""},{"$f":"IF('B) Eingabe (Lehrer)'!AU45=\"\", \"\",'B) Eingabe (Lehrer)'!AU45)","v":""},{"$f":"IF('B) Eingabe (Lehrer)'!AV45=\"\", \"\",'B) Eingabe (Lehrer)'!AV45)","v":""},{"$f":"IF('B) Eingabe (Lehrer)'!AW45=\"\", \"\",'B) Eingabe (Lehrer)'!AW45)","v":""},{"$f":"IF('B) Eingabe (Lehrer)'!AX45=\"\", \"\",'B) Eingabe (Lehrer)'!AX45)","v":""},{"$f":"IF('B) Eingabe (Lehrer)'!AY45=\"\", \"\",'B) Eingabe (Lehrer)'!AY45)","v":""},{"$f":"IF('B) Eingabe (Lehrer)'!AZ45=\"\", \"\",'B) Eingabe (Lehrer)'!AZ45)","v":""},{"$f":"IF('B) Eingabe (Lehrer)'!BA45=\"\", \"\",'B) Eingabe (Lehrer)'!BA45)","v":""},{"$f":"IF('B) Eingabe (Lehrer)'!BB45=\"\", \"\",'B) Eingabe (Lehrer)'!BB45)","v":""},{"$f":"IF('B) Eingabe (Lehrer)'!BC45=\"\", \"\",'B) Eingabe (Lehrer)'!BC45)","v":""},{"$f":"IF('B) Eingabe (Lehrer)'!BD45=\"\", \"\",'B) Eingabe (Lehrer)'!BD45)","v":""},{"$f":"IF('B) Eingabe (Lehrer)'!BE45=\"\", \"\",'B) Eingabe (Lehrer)'!BE45)","v":""},{"$f":"IF('B) Eingabe (Lehrer)'!BF45=\"\", \"\",'B) Eingabe (Lehrer)'!BF45)","v":""},{"$f":"IF('B) Eingabe (Lehrer)'!BG45=\"\", \"\",'B) Eingabe (Lehrer)'!BG45)","v":""},{"$f":"IF('B) Eingabe (Lehrer)'!BH45=\"\", \"\",'B) Eingabe (Lehrer)'!BH45)","v":""},{"$f":"IF('B) Eingabe (Lehrer)'!BI45=\"\", \"\",'B) Eingabe (Lehrer)'!BI45)","v":""},{"$f":"IF('B) Eingabe (Lehrer)'!BJ45=\"\", \"\",'B) Eingabe (Lehrer)'!BJ45)","v":""},{"$f":"IF('B) Eingabe (Lehrer)'!BK45=\"\", \"\",'B) Eingabe (Lehrer)'!BK45)","v":""}]
["Zusatzitem 3",{"$f":"IF('B) Eingabe (Lehrer)'!C46=\"\", \"\",'B) Eingabe (Lehrer)'!C46)","v":""},{"$f":"IF('B) Eingabe (Lehrer)'!D46=\"\", \"\",'B) Eingabe (Lehrer)'!D46)","v":""},{"$f":"IF('B) Eingabe (Lehrer)'!E46=\"\", \"\",'B) Eingabe (Lehrer)'!E46)","v":""},{"$f":"IF('B) Eingabe (Lehrer)'!F46=\"\", \"\",'B) Eingabe (Lehrer)'!F46)","v":""},{"$f":"IF('B) Eingabe (Lehrer)'!G46=\"\", \"\",'B) Eingabe (Lehrer)'!G46)","v":""},{"$f":"IF('B) Eingabe (Lehrer)'!H46=\"\", \"\",'B) Eingabe (Lehrer)'!H46)","v":""},{"$f":"IF('B) Eingabe (Lehrer)'!I46=\"\", \"\",'B) Eingabe (Lehrer)'!I46)","v":""},{"$f":"IF('B) Eingabe (Lehrer)'!J46=\"\", \"\",'B) Eingabe (Lehrer)'!J46)","v":""},{"$f":"IF('B) Eingabe (Lehrer)'!K46=\"\", \"\",'B) Eingabe (Lehrer)'!K46)","v":""},{"$f":"IF('B) Eingabe (Lehrer)'!L46=\"\", \"\",'B) Eingabe (Lehrer)'!L46)","v":""},{"$f":"IF('B) Eingabe (Lehrer)'!M46=\"\", \"\",'B) Eingabe (Lehrer)'!M46)","v":""},{"$f":"IF('B) Eingabe (Lehrer)'!N46=\"\", \"\",'B) Eingabe (Lehrer)'!N46)","v":""},{"$f":"IF('B) Eingabe (Lehrer)'!O46=\"\", \"\",'B) Eingabe (Lehrer)'!O46)","v":""},{"$f":"IF('B) Eingabe (Lehrer)'!P46=\"\", \"\",'B) Eingabe (Lehrer)'!P46)","v":""},{"$f":"IF('B) Eingabe (Lehrer)'!Q46=\"\", \"\",'B) Eingabe (Lehrer)'!Q46)","v":""},{"$f":"IF('B) Eingabe (Lehrer)'!R46=\"\", \"\",'B) Eingabe (Lehrer)'!R46)","v":""},{"$f":"IF('B) Eingabe (Lehrer)'!S46=\"\", \"\",'B) Eingabe (Lehrer)'!S46)","v":""},{"$f":"IF('B) Eingabe (Lehrer)'!T46=\"\", \"\",'B) Eingabe (Lehrer)'!T46)","v":""},{"$f":"IF('B) Eingabe (Lehrer)'!U46=\"\", \"\",'B) Eingabe (Lehrer)'!U46)","v":""},{"$f":"IF('B) Eingabe (Lehrer)'!V46=\"\", \"\",'B) Eingabe (Lehrer)'!V46)","v":""},{"$f":"IF('B) Eingabe (Lehrer)'!W46=\"\", \"\",'B) Eingabe (Lehrer)'!W46)","v":""},{"$f":"IF('B) Eingabe (Lehrer)'!X46=\"\", \"\",'B) Eingabe (Lehrer)'!X46)","v":""},{"$f":"IF('B) Eingabe (Lehrer)'!Y46=\"\", \"\",'B) Eingabe (Lehrer)'!Y46)","v":""},{"$f":"IF('B) Eingabe (Lehrer)'!Z46=\"\", \"\",'B) Eingabe (Lehrer)'!Z46)","v":""},{"$f":"IF('B) Eingabe (Lehrer)'!AA46=\"\", \"\",'B) Eingabe (Lehrer)'!AA46)","v":""},{"$f":"IF('B) Eingabe (Lehrer)'!AB46=\"\", \"\",'B) Eingabe (Lehrer)'!AB46)","v":""},{"$f":"IF('B) Eingabe (Lehrer)'!AC46=\"\", \"\",'B) Eingabe (Lehrer)'!AC46)","v":""},{"$f":"IF('B) Eingabe (Lehrer)'!AD46=\"\", \"\",'B) Eingabe (Lehrer)'!AD46)","v":""},{"$f":"IF('B) Eingabe (Lehrer)'!AE46=\"\", \"\",'B) Eingabe (Lehrer)'!AE46)","v":""},{"$f":"IF('B) Eingabe (Lehrer)'!AF46=\"\", \"\",'B) Eingabe (Lehrer)'!AF46)","v":""},{"$f":"IF('B) Eingabe (Lehrer)'!AG46=\"\", \"\",'B) Eingabe (Lehrer)'!AG46)","v":""},{"$f":"IF('B) Eingabe (Lehrer)'!AH46=\"\", \"\",'B) Eingabe (Lehrer)'!AH46)","v":""},{"$f":"IF('B) Eingabe (Lehrer)'!AI46=\"\", \"\",'B) Eingabe (Lehrer)'!AI46)","v":""},{"$f":"IF('B) Eingabe (Lehrer)'!AJ46=\"\", \"\",'B) Eingabe (Lehrer)'!AJ46)","v":""},{"$f":"IF('B) Eingabe (Lehrer)'!AK46=\"\", \"\",'B) Eingabe (Lehrer)'!AK46)","v":""},{"$f":"IF('B) Eingabe (Lehrer)'!AL46=\"\", \"\",'B) Eingabe (Lehrer)'!AL46)","v":""},{"$f":"IF('B) Eingabe (Lehrer)'!AM46=\"\", \"\",'B) Eingabe (Lehrer)'!AM46)","v":""},{"$f":"IF('B) Eingabe (Lehrer)'!AN46=\"\", \"\",'B) Eingabe (Lehrer)'!AN46)","v":""},{"$f":"IF('B) Eingabe (Lehrer)'!AO46=\"\", \"\",'B) Eingabe (Lehrer)'!AO46)","v":""},{"$f":"IF('B) Eingabe (Lehrer)'!AP46=\"\", \"\",'B) Eingabe (Lehrer)'!AP46)","v":""},{"$f":"IF('B) Eingabe (Lehrer)'!AQ46=\"\", \"\",'B) Eingabe (Lehrer)'!AQ46)","v":""},{"$f":"IF('B) Eingabe (Lehrer)'!AR46=\"\", \"\",'B) Eingabe (Lehrer)'!AR46)","v":""},{"$f":"IF('B) Eingabe (Lehrer)'!AS46=\"\", \"\",'B) Eingabe (Lehrer)'!AS46)","v":""},{"$f":"IF('B) Eingabe (Lehrer)'!AT46=\"\", \"\",'B) Eingabe (Lehrer)'!AT46)","v":""},{"$f":"IF('B) Eingabe (Lehrer)'!AU46=\"\", \"\",'B) Eingabe (Lehrer)'!AU46)","v":""},{"$f":"IF('B) Eingabe (Lehrer)'!AV46=\"\", \"\",'B) Eingabe (Lehrer)'!AV46)","v":""},{"$f":"IF('B) Eingabe (Lehrer)'!AW46=\"\", \"\",'B) Eingabe (Lehrer)'!AW46)","v":""},{"$f":"IF('B) Eingabe (Lehrer)'!AX46=\"\", \"\",'B) Eingabe (Lehrer)'!AX46)","v":""},{"$f":"IF('B) Eingabe (Lehrer)'!AY46=\"\", \"\",'B) Eingabe (Lehrer)'!AY46)","v":""},{"$f":"IF('B) Eingabe (Lehrer)'!AZ46=\"\", \"\",'B) Eingabe (Lehrer)'!AZ46)","v":""},{"$f":"IF('B) Eingabe (Lehrer)'!BA46=\"\", \"\",'B) Eingabe (Lehrer)'!BA46)","v":""},{"$f":"IF('B) Eingabe (Lehrer)'!BB46=\"\", \"\",'B) Eingabe (Lehrer)'!BB46)","v":""},{"$f":"IF('B) Eingabe (Lehrer)'!BC46=\"\", \"\",'B) Eingabe (Lehrer)'!BC46)","v":""},{"$f":"IF('B) Eingabe (Lehrer)'!BD46=\"\", \"\",'B) Eingabe (Lehrer)'!BD46)","v":""},{"$f":"IF('B) Eingabe (Lehrer)'!BE46=\"\", \"\",'B) Eingabe (Lehrer)'!BE46)","v":""},{"$f":"IF('B) Eingabe (Lehrer)'!BF46=\"\", \"\",'B) Eingabe (Lehrer)'!BF46)","v":""},{"$f":"IF('B) Eingabe (Lehrer)'!BG46=\"\", \"\",'B) Eingabe (Lehrer)'!BG46)","v":""},{"$f":"IF('B) Eingabe (Lehrer)'!BH46=\"\", \"\",'B) Eingabe (Lehrer)'!BH46)","v":""},{"$f":"IF('B) Eingabe (Lehrer)'!BI46=\"\", \"\",'B) Eingabe (Lehrer)'!BI46)","v":""},{"$f":"IF('B) Eingabe (Lehrer)'!BJ46=\"\", \"\",'B) Eingabe (Lehrer)'!BJ46)","v":""},{"$f":"IF('B) Eingabe (Lehrer)'!BK46=\"\", \"\",'B) Eingabe (Lehrer)'!BK46)","v":""}]
["Zusatzitem 4",{"$f":"IF('B) Eingabe (Lehrer)'!C47=\"\", \"\",'B) Eingabe (Lehrer)'!C47)","v":""},{"$f":"IF('B) Eingabe (Lehrer)'!D47=\"\", \"\",'B) Eingabe (Lehrer)'!D47)","v":""},{"$f":"IF('B) Eingabe (Lehrer)'!E47=\"\", \"\",'B) Eingabe (Lehrer)'!E47)","v":""},{"$f":"IF('B) Eingabe (Lehrer)'!F47=\"\", \"\",'B) Eingabe (Lehrer)'!F47)","v":""},{"$f":"IF('B) Eingabe (Lehrer)'!G47=\"\", \"\",'B) Eingabe (Lehrer)'!G47)","v":""},{"$f":"IF('B) Eingabe (Lehrer)'!H47=\"\", \"\",'B) Eingabe (Lehrer)'!H47)","v":""},{"$f":"IF('B) Eingabe (Lehrer)'!I47=\"\", \"\",'B) Eingabe (Lehrer)'!I47)","v":""},{"$f":"IF('B) Eingabe (Lehrer)'!J47=\"\", \"\",'B) Eingabe (Lehrer)'!J47)","v":""},{"$f":"IF('B) Eingabe (Lehrer)'!K47=\"\", \"\",'B) Eingabe (Lehrer)'!K47)","v":""},{"$f":"IF('B) Eingabe (Lehrer)'!L47=\"\", \"\",'B) Eingabe (Lehrer)'!L47)","v":""},{"$f":"IF('B) Eingabe (Lehrer)'!M47=\"\", \"\",'B) Eingabe (Lehrer)'!M47)","v":""},{"$f":"IF('B) Eingabe (Lehrer)'!N47=\"\", \"\",'B) Eingabe (Lehrer)'!N47)","v":""},{"$f":"IF('B) Eingabe (Lehrer)'!O47=\"\", \"\",'B) Eingabe (Lehrer)'!O47)","v":""},{"$f":"IF('B) Eingabe (Lehrer)'!P47=\"\", \"\",'B) Eingabe (Lehrer)'!P47)","v":""},{"$f":"IF('B) Eingabe (Lehrer)'!Q47=\"\", \"\",'B) Eingabe (Lehrer)'!Q47)","v":""},{"$f":"IF('B) Eingabe (Lehrer)'!R47=\"\", \"\",'B) Eingabe (Lehrer)'!R47)","v":""},{"$f":"IF('B) Eingabe (Lehrer)'!S47=\"\", \"\",'B) Eingabe (Lehrer)'!S47)","v":""},{"$f":"IF('B) Eingabe (Lehrer)'!T47=\"\", \"\",'B) Eingabe (Lehrer)'!T47)","v":""},{"$f":"IF('B) Eingabe (Lehrer)'!U47=\"\", \"\",'B) Eingabe (Lehrer)'!U47)","v":""},{"$f":"IF('B) Eingabe (Lehrer)'!V47=\"\", \"\",'B) Eingabe (Lehrer)'!V47)","v":""},{"$f":"IF('B) Eingabe (Lehrer)'!W47=\"\", \"\",'B) Eingabe (Lehrer)'!W47)","v":""},{"$f":"IF('B) Eingabe (Lehrer)'!X47=\"\", \"\",'B) Eingabe (Lehrer)'!X47)","v":""},{"$f":"IF('B) Eingabe (Lehrer)'!Y47=\"\", \"\",'B) Eingabe (Lehrer)'!Y47)","v":""},{"$f":"IF('B) Eingabe (Lehrer)'!Z47=\"\", \"\",'B) Eingabe (Lehrer)'!Z47)","v":""},{"$f":"IF('B) Eingabe (Lehrer)'!AA47=\"\", \"\",'B) Eingabe (Lehrer)'!AA47)","v":""},{"$f":"IF('B) Eingabe (Lehrer)'!AB47=\"\", \"\",'B) Eingabe (Lehrer)'!AB47)","v":""},{"$f":"IF('B) Eingabe (Lehrer)'!AC47=\"\", \"\",'B) Eingabe (Lehrer)'!AC47)","v":""},{"$f":"IF('B) Eingabe (Lehrer)'!AD47=\"\", \"\",'B) Eingabe (Lehrer)'!AD47)","v":""},{"$f":"IF('B) Eingabe (Lehrer)'!AE47=\"\", \"\",'B) Eingabe (Lehrer)'!AE47)","v":""},{"$f":"IF('B) Eingabe (Lehrer)'!AF47=\"\", \"\",'B) Eingabe (Lehrer)'!AF47)","v":""},{"$f":"IF('B) Eingabe (Lehrer)'!AG47=\"\", \"\",'B) Eingabe (Lehrer)'!AG47)","v":""},{"$f":"IF('B) Eingabe (Lehrer)'!AH47=\"\", \"\",'B) Eingabe (Lehrer)'!AH47)","v":""},{"$f":"IF('B) Eingabe (Lehrer)'!AI47=\"\", \"\",'B) Eingabe (Lehrer)'!AI47)","v":""},{"$f":"IF('B) Eingabe (Lehrer)'!AJ47=\"\", \"\",'B) Eingabe (Lehrer)'!AJ47)","v":""},{"$f":"IF('B) Eingabe (Lehrer)'!AK47=\"\", \"\",'B) Eingabe (Lehrer)'!AK47)","v":""},{"$f":"IF('B) Eingabe (Lehrer)'!AL47=\"\", \"\",'B) Eingabe (Lehrer)'!AL47)","v":""},{"$f":"IF('B) Eingabe (Lehrer)'!AM47=\"\", \"\",'B) Eingabe (Lehrer)'!AM47)","v":""},{"$f":"IF('B) Eingabe (Lehrer)'!AN47=\"\", \"\",'B) Eingabe (Lehrer)'!AN47)","v":""},{"$f":"IF('B) Eingabe (Lehrer)'!AO47=\"\", \"\",'B) Eingabe (Lehrer)'!AO47)","v":""},{"$f":"IF('B) Eingabe (Lehrer)'!AP47=\"\", \"\",'B) Eingabe (Lehrer)'!AP47)","v":""},{"$f":"IF('B) Eingabe (Lehrer)'!AQ47=\"\", \"\",'B) Eingabe (Lehrer)'!AQ47)","v":""},{"$f":"IF('B) Eingabe (Lehrer)'!AR47=\"\", \"\",'B) Eingabe (Lehrer)'!AR47)","v":""},{"$f":"IF('B) Eingabe (Lehrer)'!AS47=\"\", \"\",'B) Eingabe (Lehrer)'!AS47)","v":""},{"$f":"IF('B) Eingabe (Lehrer)'!AT47=\"\", \"\",'B) Eingabe (Lehrer)'!AT47)","v":""},{"$f":"IF('B) Eingabe (Lehrer)'!AU47=\"\", \"\",'B) Eingabe (Lehrer)'!AU47)","v":""},{"$f":"IF('B) Eingabe (Lehrer)'!AV47=\"\", \"\",'B) Eingabe (Lehrer)'!AV47)","v":""},{"$f":"IF('B) Eingabe (Lehrer)'!AW47=\"\", \"\",'B) Eingabe (Lehrer)'!AW47)","v":""},{"$f":"IF('B) Eingabe (Lehrer)'!AX47=\"\", \"\",'B) Eingabe (Lehrer)'!AX47)","v":""},{"$f":"IF('B) Eingabe (Lehrer)'!AY47=\"\", \"\",'B) Eingabe (Lehrer)'!AY47)","v":""},{"$f":"IF('B) Eingabe (Lehrer)'!AZ47=\"\", \"\",'B) Eingabe (Lehrer)'!AZ47)","v":""},{"$f":"IF('B) Eingabe (Lehrer)'!BA47=\"\", \"\",'B) Eingabe (Lehrer)'!BA47)","v":""},{"$f":"IF('B) Eingabe (Lehrer)'!BB47=\"\", \"\",'B) Eingabe (Lehrer)'!BB47)","v":""},{"$f":"IF('B) Eingabe (Lehrer)'!BC47=\"\", \"\",'B) Eingabe (Lehrer)'!BC47)","v":""},{"$f":"IF('B) Eingabe (Lehrer)'!BD47=\"\", \"\",'B) Eingabe (Lehrer)'!BD47)","v":""},{"$f":"IF('B) Eingabe (Lehrer)'!BE47=\"\", \"\",'B) Eingabe (Lehrer)'!BE47)","v":""},{"$f":"IF('B) Eingabe (Lehrer)'!BF47=\"\", \"\",'B) Eingabe (Lehrer)'!BF47)","v":""},{"$f":"IF('B) Eingabe (Lehrer)'!BG47=\"\", \"\",'B) Eingabe (Lehrer)'!BG47)","v":""},{"$f":"IF('B) Eingabe (Lehrer)'!BH47=\"\", \"\",'B) Eingabe (Lehrer)'!BH47)","v":""},{"$f":"IF('B) Eingabe (Lehrer)'!BI47=\"\", \"\",'B) Eingabe (Lehrer)'!BI47)","v":""},{"$f":"IF('B) Eingabe (Lehrer)'!BJ47=\"\", \"\",'B) Eingabe (Lehrer)'!BJ47)","v":""},{"$f":"IF('B) Eingabe (Lehrer)'!BK47=\"\", \"\",'B) Eingabe (Lehrer)'!BK47)","v":""}]
["Zusatzitem 5",{"$f":"IF('B) Eingabe (Lehrer)'!C48=\"\", \"\",'B) Eingabe (Lehrer)'!C48)","v":""},{"$f":"IF('B) Eingabe (Lehrer)'!D48=\"\", \"\",'B) Eingabe (Lehrer)'!D48)","v":""},{"$f":"IF('B) Eingabe (Lehrer)'!E48=\"\", \"\",'B) Eingabe (Lehrer)'!E48)","v":""},{"$f":"IF('B) Eingabe (Lehrer)'!F48=\"\", \"\",'B) Eingabe (Lehrer)'!F48)","v":""},{"$f":"IF('B) Eingabe (Lehrer)'!G48=\"\", \"\",'B) Eingabe (Lehrer)'!G48)","v":""},{"$f":"IF('B) Eingabe (Lehrer)'!H48=\"\", \"\",'B) Eingabe (Lehrer)'!H48)","v":""},{"$f":"IF('B) Eingabe (Lehrer)'!I48=\"\", \"\",'B) Eingabe (Lehrer)'!I48)","v":""},{"$f":"IF('B) Eingabe (Lehrer)'!J48=\"\", \"\",'B) Eingabe (Lehrer)'!J48)","v":""},{"$f":"IF('B) Eingabe (Lehrer)'!K48=\"\", \"\",'B) Eingabe (Lehrer)'!K48)","v":""},{"$f":"IF('B) Eingabe (Lehrer)'!L48=\"\", \"\",'B) Eingabe (Lehrer)'!L48)","v":""},{"$f":"IF('B) Eingabe (Lehrer)'!M48=\"\", \"\",'B) Eingabe (Lehrer)'!M48)","v":""},{"$f":"IF('B) Eingabe (Lehrer)'!N48=\"\", \"\",'B) Eingabe (Lehrer)'!N48)","v":""},{"$f":"IF('B) Eingabe (Lehrer)'!O48=\"\", \"\",'B) Eingabe (Lehrer)'!O48)","v":""},{"$f":"IF('B) Eingabe (Lehrer)'!P48=\"\", \"\",'B) Eingabe (Lehrer)'!P48)","v":""},{"$f":"IF('B) Eingabe (Lehrer)'!Q48=\"\", \"\",'B) Eingabe (Lehrer)'!Q48)","v":""},{"$f":"IF('B) Eingabe (Lehrer)'!R48=\"\", \"\",'B) Eingabe (Lehrer)'!R48)","v":""},{"$f":"IF('B) Eingabe (Lehrer)'!S48=\"\", \"\",'B) Eingabe (Lehrer)'!S48)","v":""},{"$f":"IF('B) Eingabe (Lehrer)'!T48=\"\", \"\",'B) Eingabe (Lehrer)'!T48)","v":""},{"$f":"IF('B) Eingabe (Lehrer)'!U48=\"\", \"\",'B) Eingabe (Lehrer)'!U48)","v":""},{"$f":"IF('B) Eingabe (Lehrer)'!V48=\"\", \"\",'B) Eingabe (Lehrer)'!V48)","v":""},{"$f":"IF('B) Eingabe (Lehrer)'!W48=\"\", \"\",'B) Eingabe (Lehrer)'!W48)","v":""},{"$f":"IF('B) Eingabe (Lehrer)'!X48=\"\", \"\",'B) Eingabe (Lehrer)'!X48)","v":""},{"$f":"IF('B) Eingabe (Lehrer)'!Y48=\"\", \"\",'B) Eingabe (Lehrer)'!Y48)","v":""},{"$f":"IF('B) Eingabe (Lehrer)'!Z48=\"\", \"\",'B) Eingabe (Lehrer)'!Z48)","v":""},{"$f":"IF('B) Eingabe (Lehrer)'!AA48=\"\", \"\",'B) Eingabe (Lehrer)'!AA48)","v":""},{"$f":"IF('B) Eingabe (Lehrer)'!AB48=\"\", \"\",'B) Eingabe (Lehrer)'!AB48)","v":""},{"$f":"IF('B) Eingabe (Lehrer)'!AC48=\"\", \"\",'B) Eingabe (Lehrer)'!AC48)","v":""},{"$f":"IF('B) Eingabe (Lehrer)'!AD48=\"\", \"\",'B) Eingabe (Lehrer)'!AD48)","v":""},{"$f":"IF('B) Eingabe (Lehrer)'!AE48=\"\", \"\",'B) Eingabe (Lehrer)'!AE48)","v":""},{"$f":"IF('B) Eingabe (Lehrer)'!AF48=\"\", \"\",'B) Eingabe (Lehrer)'!AF48)","v":""},{"$f":"IF('B) Eingabe (Lehrer)'!AG48=\"\", \"\",'B) Eingabe (Lehrer)'!AG48)","v":""},{"$f":"IF('B) Eingabe (Lehrer)'!AH48=\"\", \"\",'B) Eingabe (Lehrer)'!AH48)","v":""},{"$f":"IF('B) Eingabe (Lehrer)'!AI48=\"\", \"\",'B) Eingabe (Lehrer)'!AI48)","v":""},{"$f":"IF('B) Eingabe (Lehrer)'!AJ48=\"\", \"\",'B) Eingabe (Lehrer)'!AJ48)","v":""},{"$f":"IF('B) Eingabe (Lehrer)'!AK48=\"\", \"\",'B) Eingabe (Lehrer)'!AK48)","v":""},{"$f":"IF('B) Eingabe (Lehrer)'!AL48=\"\", \"\",'B) Eingabe (Lehrer)'!AL48)","v":""},{"$f":"IF('B) Eingabe (Lehrer)'!AM48=\"\", \"\",'B) Eingabe (Lehrer)'!AM48)","v":""},{"$f":"IF('B) Eingabe (Lehrer)'!AN48=\"\", \"\",'B) Eingabe (Lehrer)'!AN48)","v":""},{"$f":"IF('B) Eingabe (Lehrer)'!AO48=\"\", \"\",'B) Eingabe (Lehrer)'!AO48)","v":""},{"$f":"IF('B) Eingabe (Lehrer)'!AP48=\"\", \"\",'B) Eingabe (Lehrer)'!AP48)","v":""},{"$f":"IF('B) Eingabe (Lehrer)'!AQ48=\"\", \"\",'B) Eingabe (Lehrer)'!AQ48)","v":""},{"$f":"IF('B) Eingabe (Lehrer)'!AR48=\"\", \"\",'B) Eingabe (Lehrer)'!AR48)","v":""},{"$f":"IF('B) Eingabe (Lehrer)'!AS48=\"\", \"\",'B) Eingabe (Lehrer)'!AS48)","v":""},{"$f":"IF('B) Eingabe (Lehrer)'!AT48=\"\", \"\",'B) Eingabe (Lehrer)'!AT48)","v":""},{"$f":"IF('B) Eingabe (Lehrer)'!AU48=\"\", \"\",'B) Eingabe (Lehrer)'!AU48)","v":""},{"$f":"IF('B) Eingabe (Lehrer)'!AV48=\"\", \"\",'B) Eingabe (Lehrer)'!AV48)","v":""},{"$f":"IF('B) Eingabe (Lehrer)'!AW48=\"\", \"\",'B) Eingabe (Lehrer)'!AW48)","v":""},{"$f":"IF('B) Eingabe (Lehrer)'!AX48=\"\", \"\",'B) Eingabe (Lehrer)'!AX48)","v":""},{"$f":"IF('B) Eingabe (Lehrer)'!AY48=\"\", \"\",'B) Eingabe (Lehrer)'!AY48)","v":""},{"$f":"IF('B) Eingabe (Lehrer)'!AZ48=\"\", \"\",'B) Eingabe (Lehrer)'!AZ48)","v":""},{"$f":"IF('B) Eingabe (Lehrer)'!BA48=\"\", \"\",'B) Eingabe (Lehrer)'!BA48)","v":""},{"$f":"IF('B) Eingabe (Lehrer)'!BB48=\"\", \"\",'B) Eingabe (Lehrer)'!BB48)","v":""},{"$f":"IF('B) Eingabe (Lehrer)'!BC48=\"\", \"\",'B) Eingabe (Lehrer)'!BC48)","v":""},{"$f":"IF('B) Eingabe (Lehrer)'!BD48=\"\", \"\",'B) Eingabe (Lehrer)'!BD48)","v":""},{"$f":"IF('B) Eingabe (Lehrer)'!BE48=\"\", \"\",'B) Eingabe (Lehrer)'!BE48)","v":""},{"$f":"IF('B) Eingabe (Lehrer)'!BF48=\"\", \"\",'B) Eingabe (Lehrer)'!BF48)","v":""},{"$f":"IF('B) Eingabe (Lehrer)'!BG48=\"\", \"\",'B) Eingabe (Lehrer)'!BG48)","v":""},{"$f":"IF('B) Eingabe (Lehrer)'!BH48=\"\", \"\",'B) Eingabe (Lehrer)'!BH48)","v":""},{"$f":"IF('B) Eingabe (Lehrer)'!BI48=\"\", \"\",'B) Eingabe (Lehrer)'!BI48)","v":""},{"$f":"IF('B) Eingabe (Lehrer)'!BJ48=\"\", \"\",'B) Eingabe (Lehrer)'!BJ48)","v":""},{"$f":"IF('B) Eingabe (Lehrer)'!BK48=\"\", \"\",'B) Eingabe (Lehrer)'!BK48)","v":""}]
["Zusatzitem 6",{"$f":"IF('B) Eingabe (Lehrer)'!C49=\"\", \"\",'B) Eingabe (Lehrer)'!C49)","v":""},{"$f":"IF('B) Eingabe (Lehrer)'!D49=\"\", \"\",'B) Eingabe (Lehrer)'!D49)","v":""},{"$f":"IF('B) Eingabe (Lehrer)'!E49=\"\", \"\",'B) Eingabe (Lehrer)'!E49)","v":""},{"$f":"IF('B) Eingabe (Lehrer)'!F49=\"\", \"\",'B) Eingabe (Lehrer)'!F49)","v":""},{"$f":"IF('B) Eingabe (Lehrer)'!G49=\"\", \"\",'B) Eingabe (Lehrer)'!G49)","v":""},{"$f":"IF('B) Eingabe (Lehrer)'!H49=\"\", \"\",'B) Eingabe (Lehrer)'!H49)","v":""},{"$f":"IF('B) Eingabe (Lehrer)'!I49=\"\", \"\",'B) Eingabe (Lehrer)'!I49)","v":""},{"$f":"IF('B) Eingabe (Lehrer)'!J49=\"\", \"\",'B) Eingabe (Lehrer)'!J49)","v":""},{"$f":"IF('B) Eingabe (Lehrer)'!K49=\"\", \"\",'B) Eingabe (Lehrer)'!K49)","v":""},{"$f":"IF('B) Eingabe (Lehrer)'!L49=\"\", \"\",'B) Eingabe (Lehrer)'!L49)","v":""},{"$f":"IF('B) Eingabe (Lehrer)'!M49=\"\", \"\",'B) Eingabe (Lehrer)'!M49)","v":""},{"$f":"IF('B) Eingabe (Lehrer)'!N49=\"\", \"\",'B) Eingabe (Lehrer)'!N49)","v":""},{"$f":"IF('B) Eingabe (Lehrer)'!O49=\"\", \"\",'B) Eingabe (Lehrer)'!O49)","v":""},{"$f":"IF('B) Eingabe (Lehrer)'!P49=\"\", \"\",'B) Eingabe (Lehrer)'!P49)","v":""},{"$f":"IF('B) Eingabe (Lehrer)'!Q49=\"\", \"\",'B) Eingabe (Lehrer)'!Q49)","v":""},{"$f":"IF('B) Eingabe (Lehrer)'!R49=\"\", \"\",'B) Eingabe (Lehrer)'!R49)","v":""},{"$f":"IF('B) Eingabe (Lehrer)'!S49=\"\", \"\",'B) Eingabe (Lehrer)'!S49)","v":""},{"$f":"IF('B) Eingabe (Lehrer)'!T49=\"\", \"\",'B) Eingabe (Lehrer)'!T49)","v":""},{"$f":"IF('B) Eingabe (Lehrer)'!U49=\"\", \"\",'B) Eingabe (Lehrer)'!U49)","v":""},{"$f":"IF('B) Eingabe (Lehrer)'!V49=\"\", \"\",'B) Eingabe (Lehrer)'!V49)","v":""},{"$f":"IF('B) Eingabe (Lehrer)'!W49=\"\", \"\",'B) Eingabe (Lehrer)'!W49)","v":""},{"$f":"IF('B) Eingabe (Lehrer)'!X49=\"\", \"\",'B) Eingabe (Lehrer)'!X49)","v":""},{"$f":"IF('B) Eingabe (Lehrer)'!Y49=\"\", \"\",'B) Eingabe (Lehrer)'!Y49)","v":""},{"$f":"IF('B) Eingabe (Lehrer)'!Z49=\"\", \"\",'B) Eingabe (Lehrer)'!Z49)","v":""},{"$f":"IF('B) Eingabe (Lehrer)'!AA49=\"\", \"\",'B) Eingabe (Lehrer)'!AA49)","v":""},{"$f":"IF('B) Eingabe (Lehrer)'!AB49=\"\", \"\",'B) Eingabe (Lehrer)'!AB49)","v":""},{"$f":"IF('B) Eingabe (Lehrer)'!AC49=\"\", \"\",'B) Eingabe (Lehrer)'!AC49)","v":""},{"$f":"IF('B) Eingabe (Lehrer)'!AD49=\"\", \"\",'B) Eingabe (Lehrer)'!AD49)","v":""},{"$f":"IF('B) Eingabe (Lehrer)'!AE49=\"\", \"\",'B) Eingabe (Lehrer)'!AE49)","v":""},{"$f":"IF('B) Eingabe (Lehrer)'!AF49=\"\", \"\",'B) Eingabe (Lehrer)'!AF49)","v":""},{"$f":"IF('B) Eingabe (Lehrer)'!AG49=\"\", \"\",'B) Eingabe (Lehrer)'!AG49)","v":""},{"$f":"IF('B) Eingabe (Lehrer)'!AH49=\"\", \"\",'B) Eingabe (Lehrer)'!AH49)","v":""},{"$f":"IF('B) Eingabe (Lehrer)'!AI49=\"\", \"\",'B) Eingabe (Lehrer)'!AI49)","v":""},{"$f":"IF('B) Eingabe (Lehrer)'!AJ49=\"\", \"\",'B) Eingabe (Lehrer)'!AJ49)","v":""},{"$f":"IF('B) Eingabe (Lehrer)'!AK49=\"\", \"\",'B) Eingabe (Lehrer)'!AK49)","v":""},{"$f":"IF('B) Eingabe (Lehrer)'!AL49=\"\", \"\",'B) Eingabe (Lehrer)'!AL49)","v":""},{"$f":"IF('B) Eingabe (Lehrer)'!AM49=\"\", \"\",'B) Eingabe (Lehrer)'!AM49)","v":""},{"$f":"IF('B) Eingabe (Lehrer)'!AN49=\"\", \"\",'B) Eingabe (Lehrer)'!AN49)","v":""},{"$f":"IF('B) Eingabe (Lehrer)'!AO49=\"\", \"\",'B) Eingabe (Lehrer)'!AO49)","v":""},{"$f":"IF('B) Eingabe (Lehrer)'!AP49=\"\", \"\",'B) Eingabe (Lehrer)'!AP49)","v":""},{"$f":"IF('B) Eingabe (Lehrer)'!AQ49=\"\", \"\",'B) Eingabe (Lehrer)'!AQ49)","v":""},{"$f":"IF('B) Eingabe (Lehrer)'!AR49=\"\", \"\",'B) Eingabe (Lehrer)'!AR49)","v":""},{"$f":"IF('B) Eingabe (Lehrer)'!AS49=\"\", \"\",'B) Eingabe (Lehrer)'!AS49)","v":""},{"$f":"IF('B) Eingabe (Lehrer)'!AT49=\"\", \"\",'B) Eingabe (Lehrer)'!AT49)","v":""},{"$f":"IF('B) Eingabe (Lehrer)'!AU49=\"\", \"\",'B) Eingabe (Lehrer)'!AU49)","v":""},{"$f":"IF('B) Eingabe (Lehrer)'!AV49=\"\", \"\",'B) Eingabe (Lehrer)'!AV49)","v":""},{"$f":"IF('B) Eingabe (Lehrer)'!AW49=\"\", \"\",'B) Eingabe (Lehrer)'!AW49)","v":""},{"$f":"IF('B) Eingabe (Lehrer)'!AX49=\"\", \"\",'B) Eingabe (Lehrer)'!AX49)","v":""},{"$f":"IF('B) Eingabe (Lehrer)'!AY49=\"\", \"\",'B) Eingabe (Lehrer)'!AY49)","v":""},{"$f":"IF('B) Eingabe (Lehrer)'!AZ49=\"\", \"\",'B) Eingabe (Lehrer)'!AZ49)","v":""},{"$f":"IF('B) Eingabe (Lehrer)'!BA49=\"\", \"\",'B) Eingabe (Lehrer)'!BA49)","v":""},{"$f":"IF('B) Eingabe (Lehrer)'!BB49=\"\", \"\",'B) Eingabe (Lehrer)'!BB49)","v":""},{"$f":"IF('B) Eingabe (Lehrer)'!BC49=\"\", \"\",'B) Eingabe (Lehrer)'!BC49)","v":""},{"$f":"IF('B) Eingabe (Lehrer)'!BD49=\"\", \"\",'B) Eingabe (Lehrer)'!BD49)","v":""},{"$f":"IF('B) Eingabe (Lehrer)'!BE49=\"\", \"\",'B) Eingabe (Lehrer)'!BE49)","v":""},{"$f":"IF('B) Eingabe (Lehrer)'!BF49=\"\", \"\",'B) Eingabe (Lehrer)'!BF49)","v":""},{"$f":"IF('B) Eingabe (Lehrer)'!BG49=\"\", \"\",'B) Eingabe (Lehrer)'!BG49)","v":""},{"$f":"IF('B) Eingabe (Lehrer)'!BH49=\"\", \"\",'B) Eingabe (Lehrer)'!BH49)","v":""},{"$f":"IF('B) Eingabe (Lehrer)'!BI49=\"\", \"\",'B) Eingabe (Lehrer)'!BI49)","v":""},{"$f":"IF('B) Eingabe (Lehrer)'!BJ49=\"\", \"\",'B) Eingabe (Lehrer)'!BJ49)","v":""},{"$f":"IF('B) Eingabe (Lehrer)'!BK49=\"\", \"\",'B) Eingabe (Lehrer)'!BK49)","v":""}]
["Zusatzitem 7",{"$f":"IF('B) Eingabe (Lehrer)'!C50=\"\", \"\",'B) Eingabe (Lehrer)'!C50)","v":""},{"$f":"IF('B) Eingabe (Lehrer)'!D50=\"\", \"\",'B) Eingabe (Lehrer)'!D50)","v":""},{"$f":"IF('B) Eingabe (Lehrer)'!E50=\"\", \"\",'B) Eingabe (Lehrer)'!E50)","v":""},{"$f":"IF('B) Eingabe (Lehrer)'!F50=\"\", \"\",'B) Eingabe (Lehrer)'!F50)","v":""},{"$f":"IF('B) Eingabe (Lehrer)'!G50=\"\", \"\",'B) Eingabe (Lehrer)'!G50)","v":""},{"$f":"IF('B) Eingabe (Lehrer)'!H50=\"\", \"\",'B) Eingabe (Lehrer)'!H50)","v":""},{"$f":"IF('B) Eingabe (Lehrer)'!I50=\"\", \"\",'B) Eingabe (Lehrer)'!I50)","v":""},{"$f":"IF('B) Eingabe (Lehrer)'!J50=\"\", \"\",'B) Eingabe (Lehrer)'!J50)","v":""},{"$f":"IF('B) Eingabe (Lehrer)'!K50=\"\", \"\",'B) Eingabe (Lehrer)'!K50)","v":""},{"$f":"IF('B) Eingabe (Lehrer)'!L50=\"\", \"\",'B) Eingabe (Lehrer)'!L50)","v":""},{"$f":"IF('B) Eingabe (Lehrer)'!M50=\"\", \"\",'B) Eingabe (Lehrer)'!M50)","v":""},{"$f":"IF('B) Eingabe (Lehrer)'!N50=\"\", \"\",'B) Eingabe (Lehrer)'!N50)","v":""},{"$f":"IF('B) Eingabe (Lehrer)'!O50=\"\", \"\",'B) Eingabe (Lehrer)'!O50)","v":""},{"$f":"IF('B) Eingabe (Lehrer)'!P50=\"\", \"\",'B) Eingabe (Lehrer)'!P50)","v":""},{"$f":"IF('B) Eingabe (Lehrer)'!Q50=\"\", \"\",'B) Eingabe (Lehrer)'!Q50)","v":""},{"$f":"IF('B) Eingabe (Lehrer)'!R50=\"\", \"\",'B) Eingabe (Lehrer)'!R50)","v":""},{"$f":"IF('B) Eingabe (Lehrer)'!S50=\"\", \"\",'B) Eingabe (Lehrer)'!S50)","v":""},{"$f":"IF('B) Eingabe (Lehrer)'!T50=\"\", \"\",'B) Eingabe (Lehrer)'!T50)","v":""},{"$f":"IF('B) Eingabe (Lehrer)'!U50=\"\", \"\",'B) Eingabe (Lehrer)'!U50)","v":""},{"$f":"IF('B) Eingabe (Lehrer)'!V50=\"\", \"\",'B) Eingabe (Lehrer)'!V50)","v":""},{"$f":"IF('B) Eingabe (Lehrer)'!W50=\"\", \"\",'B) Eingabe (Lehrer)'!W50)","v":""},{"$f":"IF('B) Eingabe (Lehrer)'!X50=\"\", \"\",'B) Eingabe (Lehrer)'!X50)","v":""},{"$f":"IF('B) Eingabe (Lehrer)'!Y50=\"\", \"\",'B) Eingabe (Lehrer)'!Y50)","v":""},{"$f":"IF('B) Eingabe (Lehrer)'!Z50=\"\", \"\",'B) Eingabe (Lehrer)'!Z50)","v":""},{"$f":"IF('B) Eingabe (Lehrer)'!AA50=\"\", \"\",'B) Eingabe (Lehrer)'!AA50)","v":""},{"$f":"IF('B) Eingabe (Lehrer)'!AB50=\"\", \"\",'B) Eingabe (Lehrer)'!AB50)","v":""},{"$f":"IF('B) Eingabe (Lehrer)'!AC50=\"\", \"\",'B) Eingabe (Lehrer)'!AC50)","v":""},{"$f":"IF('B) Eingabe (Lehrer)'!AD50=\"\", \"\",'B) Eingabe (Lehrer)'!AD50)","v":""},{"$f":"IF('B) Eingabe (Lehrer)'!AE50=\"\", \"\",'B) Eingabe (Lehrer)'!AE50)","v":""},{"$f":"IF('B) Eingabe (Lehrer)'!AF50=\"\", \"\",'B) Eingabe (Lehrer)'!AF50)","v":""},{"$f":"IF('B) Eingabe (Lehrer)'!AG50=\"\", \"\",'B) Eingabe (Lehrer)'!AG50)","v":""},{"$f":"IF('B) Eingabe (Lehrer)'!AH50=\"\", \"\",'B) Eingabe (Lehrer)'!AH50)","v":""},{"$f":"IF('B) Eingabe (Lehrer)'!AI50=\"\", \"\",'B) Eingabe (Lehrer)'!AI50)","v":""},{"$f":"IF('B) Eingabe (Lehrer)'!AJ50=\"\", \"\",'B) Eingabe (Lehrer)'!AJ50)","v":""},{"$f":"IF('B) Eingabe (Lehrer)'!AK50=\"\", \"\",'B) Eingabe (Lehrer)'!AK50)","v":""},{"$f":"IF('B) Eingabe (Lehrer)'!AL50=\"\", \"\",'B) Eingabe (Lehrer)'!AL50)","v":""},{"$f":"IF('B) Eingabe (Lehrer)'!AM50=\"\", \"\",'B) Eingabe (Lehrer)'!AM50)","v":""},{"$f":"IF('B) Eingabe (Lehrer)'!AN50=\"\", \"\",'B) Eingabe (Lehrer)'!AN50)","v":""},{"$f":"IF('B) Eingabe (Lehrer)'!AO50=\"\", \"\",'B) Eingabe (Lehrer)'!AO50)","v":""},{"$f":"IF('B) Eingabe (Lehrer)'!AP50=\"\", \"\",'B) Eingabe (Lehrer)'!AP50)","v":""},{"$f":"IF('B) Eingabe (Lehrer)'!AQ50=\"\", \"\",'B) Eingabe (Lehrer)'!AQ50)","v":""},{"$f":"IF('B) Eingabe (Lehrer)'!AR50=\"\", \"\",'B) Eingabe (Lehrer)'!AR50)","v":""},{"$f":"IF('B) Eingabe (Lehrer)'!AS50=\"\", \"\",'B) Eingabe (Lehrer)'!AS50)","v":""},{"$f":"IF('B) Eingabe (Lehrer)'!AT50=\"\", \"\",'B) Eingabe (Lehrer)'!AT50)","v":""},{"$f":"IF('B) Eingabe (Lehrer)'!AU50=\"\", \"\",'B) Eingabe (Lehrer)'!AU50)","v":""},{"$f":"IF('B) Eingabe (Lehrer)'!AV50=\"\", \"\",'B) Eingabe (Lehrer)'!AV50)","v":""},{"$f":"IF('B) Eingabe (Lehrer)'!AW50=\"\", \"\",'B) Eingabe (Lehrer)'!AW50)","v":""},{"$f":"IF('B) Eingabe (Lehrer)'!AX50=\"\", \"\",'B) Eingabe (Lehrer)'!AX50)","v":""},{"$f":"IF('B) Eingabe (Lehrer)'!AY50=\"\", \"\",'B) Eingabe (Lehrer)'!AY50)","v":""},{"$f":"IF('B) Eingabe (Lehrer)'!AZ50=\"\", \"\",'B) Eingabe (Lehrer)'!AZ50)","v":""},{"$f":"IF('B) Eingabe (Lehrer)'!BA50=\"\", \"\",'B) Eingabe (Lehrer)'!BA50)","v":""},{"$f":"IF('B) Eingabe (Lehrer)'!BB50=\"\", \"\",'B) Eingabe (Lehrer)'!BB50)","v":""},{"$f":"IF('B) Eingabe (Lehrer)'!BC50=\"\", \"\",'B) Eingabe (Lehrer)'!BC50)","v":""},{"$f":"IF('B) Eingabe (Lehrer)'!BD50=\"\", \"\",'B) Eingabe (Lehrer)'!BD50)","v":""},{"$f":"IF('B) Eingabe (Lehrer)'!BE50=\"\", \"\",'B) Eingabe (Lehrer)'!BE50)","v":""},{"$f":"IF('B) Eingabe (Lehrer)'!BF50=\"\", \"\",'B) Eingabe (Lehrer)'!BF50)","v":""},{"$f":"IF('B) Eingabe (Lehrer)'!BG50=\"\", \"\",'B) Eingabe (Lehrer)'!BG50)","v":""},{"$f":"IF('B) Eingabe (Lehrer)'!BH50=\"\", \"\",'B) Eingabe (Lehrer)'!BH50)","v":""},{"$f":"IF('B) Eingabe (Lehrer)'!BI50=\"\", \"\",'B) Eingabe (Lehrer)'!BI50)","v":""},{"$f":"IF('B) Eingabe (Lehrer)'!BJ50=\"\", \"\",'B) Eingabe (Lehrer)'!BJ50)","v":""},{"$f":"IF('B) Eingabe (Lehrer)'!BK50=\"\", \"\",'B) Eingabe (Lehrer)'!BK50)","v":""}]
["Zusatzitem 8",{"$f":"IF('B) Eingabe (Lehrer)'!C51=\"\", \"\",'B) Eingabe (Lehrer)'!C51)","v":""},{"$f":"IF('B) Eingabe (Lehrer)'!D51=\"\", \"\",'B) Eingabe (Lehrer)'!D51)","v":""},{"$f":"IF('B) Eingabe (Lehrer)'!E51=\"\", \"\",'B) Eingabe (Lehrer)'!E51)","v":""},{"$f":"IF('B) Eingabe (Lehrer)'!F51=\"\", \"\",'B) Eingabe (Lehrer)'!F51)","v":""},{"$f":"IF('B) Eingabe (Lehrer)'!G51=\"\", \"\",'B) Eingabe (Lehrer)'!G51)","v":""},{"$f":"IF('B) Eingabe (Lehrer)'!H51=\"\", \"\",'B) Eingabe (Lehrer)'!H51)","v":""},{"$f":"IF('B) Eingabe (Lehrer)'!I51=\"\", \"\",'B) Eingabe (Lehrer)'!I51)","v":""},{"$f":"IF('B) Eingabe (Lehrer)'!J51=\"\", \"\",'B) Eingabe (Lehrer)'!J51)","v":""},{"$f":"IF('B) Eingabe (Lehrer)'!K51=\"\", \"\",'B) Eingabe (Lehrer)'!K51)","v":""},{"$f":"IF('B) Eingabe (Lehrer)'!L51=\"\", \"\",'B) Eingabe (Lehrer)'!L51)","v":""},{"$f":"IF('B) Eingabe (Lehrer)'!M51=\"\", \"\",'B) Eingabe (Lehrer)'!M51)","v":""},{"$f":"IF('B) Eingabe (Lehrer)'!N51=\"\", \"\",'B) Eingabe (Lehrer)'!N51)","v":""},{"$f":"IF('B) Eingabe (Lehrer)'!O51=\"\", \"\",'B) Eingabe (Lehrer)'!O51)","v":""},{"$f":"IF('B) Eingabe (Lehrer)'!P51=\"\", \"\",'B) Eingabe (Lehrer)'!P51)","v":""},{"$f":"IF('B) Eingabe (Lehrer)'!Q51=\"\", \"\",'B) Eingabe (Lehrer)'!Q51)","v":""},{"$f":"IF('B) Eingabe (Lehrer)'!R51=\"\", \"\",'B) Eingabe (Lehrer)'!R51)","v":""},{"$f":"IF('B) Eingabe (Lehrer)'!S51=\"\", \"\",'B) Eingabe (Lehrer)'!S51)","v":""},{"$f":"IF('B) Eingabe (Lehrer)'!T51=\"\", \"\",'B) Eingabe (Lehrer)'!T51)","v":""},{"$f":"IF('B) Eingabe (Lehrer)'!U51=\"\", \"\",'B) Eingabe (Lehrer)'!U51)","v":""},{"$f":"IF('B) Eingabe (Lehrer)'!V51=\"\", \"\",'B) Eingabe (Lehrer)'!V51)","v":""},{"$f":"IF('B) Eingabe (Lehrer)'!W51=\"\", \"\",'B) Eingabe (Lehrer)'!W51)","v":""},{"$f":"IF('B) Eingabe (Lehrer)'!X51=\"\", \"\",'B) Eingabe (Lehrer)'!X51)","v":""},{"$f":"IF('B) Eingabe (Lehrer)'!Y51=\"\", \"\",'B) Eingabe (Lehrer)'!Y51)","v":""},{"$f":"IF('B) Eingabe (Lehrer)'!Z51=\"\", \"\",'B) Eingabe (Lehrer)'!Z51)","v":""},{"$f":"IF('B) Eingabe (Lehrer)'!AA51=\"\", \"\",'B) Eingabe (Lehrer)'!AA51)","v":""},{"$f":"IF('B) Eingabe (Lehrer)'!AB51=\"\", \"\",'B) Eingabe (Lehrer)'!AB51)","v":""},{"$f":"IF('B) Eingabe (Lehrer)'!AC51=\"\", \"\",'B) Eingabe (Lehrer)'!AC51)","v":""},{"$f":"IF('B) Eingabe (Lehrer)'!AD51=\"\", \"\",'B) Eingabe (Lehrer)'!AD51)","v":""},{"$f":"IF('B) Eingabe (Lehrer)'!AE51=\"\", \"\",'B) Eingabe (Lehrer)'!AE51)","v":""},{"$f":"IF('B) Eingabe (Lehrer)'!AF51=\"\", \"\",'B) Eingabe (Lehrer)'!AF51)","v":""},{"$f":"IF('B) Eingabe (Lehrer)'!AG51=\"\", \"\",'B) Eingabe (Lehrer)'!AG51)","v":""},{"$f":"IF('B) Eingabe (Lehrer)'!AH51=\"\", \"\",'B) Eingabe (Lehrer)'!AH51)","v":""},{"$f":"IF('B) Eingabe (Lehrer)'!AI51=\"\", \"\",'B) Eingabe (Lehrer)'!AI51)","v":""},{"$f":"IF('B) Eingabe (Lehrer)'!AJ51=\"\", \"\",'B) Eingabe (Lehrer)'!AJ51)","v":""},{"$f":"IF('B) Eingabe (Lehrer)'!AK51=\"\", \"\",'B) Eingabe (Lehrer)'!AK51)","v":""},{"$f":"IF('B) Eingabe (Lehrer)'!AL51=\"\", \"\",'B) Eingabe (Lehrer)'!AL51)","v":""},{"$f":"IF('B) Eingabe (Lehrer)'!AM51=\"\", \"\",'B) Eingabe (Lehrer)'!AM51)","v":""},{"$f":"IF('B) Eingabe (Lehrer)'!AN51=\"\", \"\",'B) Eingabe (Lehrer)'!AN51)","v":""},{"$f":"IF('B) Eingabe (Lehrer)'!AO51=\"\", \"\",'B) Eingabe (Lehrer)'!AO51)","v":""},{"$f":"IF('B) Eingabe (Lehrer)'!AP51=\"\", \"\",'B) Eingabe (Lehrer)'!AP51)","v":""},{"$f":"IF('B) Eingabe (Lehrer)'!AQ51=\"\", \"\",'B) Eingabe (Lehrer)'!AQ51)","v":""},{"$f":"IF('B) Eingabe (Lehrer)'!AR51=\"\", \"\",'B) Eingabe (Lehrer)'!AR51)","v":""},{"$f":"IF('B) Eingabe (Lehrer)'!AS51=\"\", \"\",'B) Eingabe (Lehrer)'!AS51)","v":""},{"$f":"IF('B) Eingabe (Lehrer)'!AT51=\"\", \"\",'B) Eingabe (Lehrer)'!AT51)","v":""},{"$f":"IF('B) Eingabe (Lehrer)'!AU51=\"\", \"\",'B) Eingabe (Lehrer)'!AU51)","v":""},{"$f":"IF('B) Eingabe (Lehrer)'!AV51=\"\", \"\",'B) Eingabe (Lehrer)'!AV51)","v":""},{"$f":"IF('B) Eingabe (Lehrer)'!AW51=\"\", \"\",'B) Eingabe (Lehrer)'!AW51)","v":""},{"$f":"IF('B) Eingabe (Lehrer)'!AX51=\"\", \"\",'B) Eingabe (Lehrer)'!AX51)","v":""},{"$f":"IF('B) Eingabe (Lehrer)'!AY51=\"\", \"\",'B) Eingabe (Lehrer)'!AY51)","v":""},{"$f":"IF('B) Eingabe (Lehrer)'!AZ51=\"\", \"\",'B) Eingabe (Lehrer)'!AZ51)","v":""},{"$f":"IF('B) Eingabe (Lehrer)'!BA51=\"\", \"\",'B) Eingabe (Lehrer)'!BA51)","v":""},{"$f":"IF('B) Eingabe (Lehrer)'!BB51=\"\", \"\",'B) Eingabe (Lehrer)'!BB51)","v":""},{"$f":"IF('B) Eingabe (Lehrer)'!BC51=\"\", \"\",'B) Eingabe (Lehrer)'!BC51)","v":""},{"$f":"IF('B) Eingabe (Lehrer)'!BD51=\"\", \"\",'B) Eingabe (Lehrer)'!BD51)","v":""},{"$f":"IF('B) Eingabe (Lehrer)'!BE51=\"\", \"\",'B) Eingabe (Lehrer)'!BE51)","v":""},{"$f":"IF('B) Eingabe (Lehrer)'!BF51=\"\", \"\",'B) Eingabe (Lehrer)'!BF51)","v":""},{"$f":"IF('B) Eingabe (Lehrer)'!BG51=\"\", \"\",'B) Eingabe (Lehrer)'!BG51)","v":""},{"$f":"IF('B) Eingabe (Lehrer)'!BH51=\"\", \"\",'B) Eingabe (Lehrer)'!BH51)","v":""},{"$f":"IF('B) Eingabe (Lehrer)'!BI51=\"\", \"\",'B) Eingabe (Lehrer)'!BI51)","v":""},{"$f":"IF('B) Eingabe (Lehrer)'!BJ51=\"\", \"\",'B) Eingabe (Lehrer)'!BJ51)","v":""},{"$f":"IF('B) Eingabe (Lehrer)'!BK51=\"\", \"\",'B) Eingabe (Lehrer)'!BK51)","v":""}]
["Zusatzitem 9",{"$f":"IF('B) Eingabe (Lehrer)'!C52=\"\", \"\",'B) Eingabe (Lehrer)'!C52)","v":""},{"$f":"IF('B) Eingabe (Lehrer)'!D52=\"\", \"\",'B) Eingabe (Lehrer)'!D52)","v":""},{"$f":"IF('B) Eingabe (Lehrer)'!E52=\"\", \"\",'B) Eingabe (Lehrer)'!E52)","v":""},{"$f":"IF('B) Eingabe (Lehrer)'!F52=\"\", \"\",'B) Eingabe (Lehrer)'!F52)","v":""},{"$f":"IF('B) Eingabe (Lehrer)'!G52=\"\", \"\",'B) Eingabe (Lehrer)'!G52)","v":""},{"$f":"IF('B) Eingabe (Lehrer)'!H52=\"\", \"\",'B) Eingabe (Lehrer)'!H52)","v":""},{"$f":"IF('B) Eingabe (Lehrer)'!I52=\"\", \"\",'B) Eingabe (Lehrer)'!I52)","v":""},{"$f":"IF('B) Eingabe (Lehrer)'!J52=\"\", \"\",'B) Eingabe (Lehrer)'!J52)","v":""},{"$f":"IF('B) Eingabe (Lehrer)'!K52=\"\", \"\",'B) Eingabe (Lehrer)'!K52)","v":""},{"$f":"IF('B) Eingabe (Lehrer)'!L52=\"\", \"\",'B) Eingabe (Lehrer)'!L52)","v":""},{"$f":"IF('B) Eingabe (Lehrer)'!M52=\"\", \"\",'B) Eingabe (Lehrer)'!M52)","v":""},{"$f":"IF('B) Eingabe (Lehrer)'!N52=\"\", \"\",'B) Eingabe (Lehrer)'!N52)","v":""},{"$f":"IF('B) Eingabe (Lehrer)'!O52=\"\", \"\",'B) Eingabe (Lehrer)'!O52)","v":""},{"$f":"IF('B) Eingabe (Lehrer)'!P52=\"\", \"\",'B) Eingabe (Lehrer)'!P52)","v":""},{"$f":"IF('B) Eingabe (Lehrer)'!Q52=\"\", \"\",'B) Eingabe (Lehrer)'!Q52)","v":""},{"$f":"IF('B) Eingabe (Lehrer)'!R52=\"\", \"\",'B) Eingabe (Lehrer)'!R52)","v":""},{"$f":"IF('B) Eingabe (Lehrer)'!S52=\"\", \"\",'B) Eingabe (Lehrer)'!S52)","v":""},{"$f":"IF('B) Eingabe (Lehrer)'!T52=\"\", \"\",'B) Eingabe (Lehrer)'!T52)","v":""},{"$f":"IF('B) Eingabe (Lehrer)'!U52=\"\", \"\",'B) Eingabe (Lehrer)'!U52)","v":""},{"$f":"IF('B) Eingabe (Lehrer)'!V52=\"\", \"\",'B) Eingabe (Lehrer)'!V52)","v":""},{"$f":"IF('B) Eingabe (Lehrer)'!W52=\"\", \"\",'B) Eingabe (Lehrer)'!W52)","v":""},{"$f":"IF('B) Eingabe (Lehrer)'!X52=\"\", \"\",'B) Eingabe (Lehrer)'!X52)","v":""},{"$f":"IF('B) Eingabe (Lehrer)'!Y52=\"\", \"\",'B) Eingabe (Lehrer)'!Y52)","v":""},{"$f":"IF('B) Eingabe (Lehrer)'!Z52=\"\", \"\",'B) Eingabe (Lehrer)'!Z52)","v":""},{"$f":"IF('B) Eingabe (Lehrer)'!AA52=\"\", \"\",'B) Eingabe (Lehrer)'!AA52)","v":""},{"$f":"IF('B) Eingabe (Lehrer)'!AB52=\"\", \"\",'B) Eingabe (Lehrer)'!AB52)","v":""},{"$f":"IF('B) Eingabe (Lehrer)'!AC52=\"\", \"\",'B) Eingabe (Lehrer)'!AC52)","v":""},{"$f":"IF('B) Eingabe (Lehrer)'!AD52=\"\", \"\",'B) Eingabe (Lehrer)'!AD52)","v":""},{"$f":"IF('B) Eingabe (Lehrer)'!AE52=\"\", \"\",'B) Eingabe (Lehrer)'!AE52)","v":""},{"$f":"IF('B) Eingabe (Lehrer)'!AF52=\"\", \"\",'B) Eingabe (Lehrer)'!AF52)","v":""},{"$f":"IF('B) Eingabe (Lehrer)'!AG52=\"\", \"\",'B) Eingabe (Lehrer)'!AG52)","v":""},{"$f":"IF('B) Eingabe (Lehrer)'!AH52=\"\", \"\",'B) Eingabe (Lehrer)'!AH52)","v":""},{"$f":"IF('B) Eingabe (Lehrer)'!AI52=\"\", \"\",'B) Eingabe (Lehrer)'!AI52)","v":""},{"$f":"IF('B) Eingabe (Lehrer)'!AJ52=\"\", \"\",'B) Eingabe (Lehrer)'!AJ52)","v":""},{"$f":"IF('B) Eingabe (Lehrer)'!AK52=\"\", \"\",'B) Eingabe (Lehrer)'!AK52)","v":""},{"$f":"IF('B) Eingabe (Lehrer)'!AL52=\"\", \"\",'B) Eingabe (Lehrer)'!AL52)","v":""},{"$f":"IF('B) Eingabe (Lehrer)'!AM52=\"\", \"\",'B) Eingabe (Lehrer)'!AM52)","v":""},{"$f":"IF('B) Eingabe (Lehrer)'!AN52=\"\", \"\",'B) Eingabe (Lehrer)'!AN52)","v":""},{"$f":"IF('B) Eingabe (Lehrer)'!AO52=\"\", \"\",'B) Eingabe (Lehrer)'!AO52)","v":""},{"$f":"IF('B) Eingabe (Lehrer)'!AP52=\"\", \"\",'B) Eingabe (Lehrer)'!AP52)","v":""},{"$f":"IF('B) Eingabe (Lehrer)'!AQ52=\"\", \"\",'B) Eingabe (Lehrer)'!AQ52)","v":""},{"$f":"IF('B) Eingabe (Lehrer)'!AR52=\"\", \"\",'B) Eingabe (Lehrer)'!AR52)","v":""},{"$f":"IF('B) Eingabe (Lehrer)'!AS52=\"\", \"\",'B) Eingabe (Lehrer)'!AS52)","v":""},{"$f":"IF('B) Eingabe (Lehrer)'!AT52=\"\", \"\",'B) Eingabe (Lehrer)'!AT52)","v":""},{"$f":"IF('B) Eingabe (Lehrer)'!AU52=\"\", \"\",'B) Eingabe (Lehrer)'!AU52)","v":""},{"$f":"IF('B) Eingabe (Lehrer)'!AV52=\"\", \"\",'B) Eingabe (Lehrer)'!AV52)","v":""},{"$f":"IF('B) Eingabe (Lehrer)'!AW52=\"\", \"\",'B) Eingabe (Lehrer)'!AW52)","v":""},{"$f":"IF('B) Eingabe (Lehrer)'!AX52=\"\", \"\",'B) Eingabe (Lehrer)'!AX52)","v":""},{"$f":"IF('B) Eingabe (Lehrer)'!AY52=\"\", \"\",'B) Eingabe (Lehrer)'!AY52)","v":""},{"$f":"IF('B) Eingabe (Lehrer)'!AZ52=\"\", \"\",'B) Eingabe (Lehrer)'!AZ52)","v":""},{"$f":"IF('B) Eingabe (Lehrer)'!BA52=\"\", \"\",'B) Eingabe (Lehrer)'!BA52)","v":""},{"$f":"IF('B) Eingabe (Lehrer)'!BB52=\"\", \"\",'B) Eingabe (Lehrer)'!BB52)","v":""},{"$f":"IF('B) Eingabe (Lehrer)'!BC52=\"\", \"\",'B) Eingabe (Lehrer)'!BC52)","v":""},{"$f":"IF('B) Eingabe (Lehrer)'!BD52=\"\", \"\",'B) Eingabe (Lehrer)'!BD52)","v":""},{"$f":"IF('B) Eingabe (Lehrer)'!BE52=\"\", \"\",'B) Eingabe (Lehrer)'!BE52)","v":""},{"$f":"IF('B) Eingabe (Lehrer)'!BF52=\"\", \"\",'B) Eingabe (Lehrer)'!BF52)","v":""},{"$f":"IF('B) Eingabe (Lehrer)'!BG52=\"\", \"\",'B) Eingabe (Lehrer)'!BG52)","v":""},{"$f":"IF('B) Eingabe (Lehrer)'!BH52=\"\", \"\",'B) Eingabe (Lehrer)'!BH52)","v":""},{"$f":"IF('B) Eingabe (Lehrer)'!BI52=\"\", \"\",'B) Eingabe (Lehrer)'!BI52)","v":""},{"$f":"IF('B) Eingabe (Lehrer)'!BJ52=\"\", \"\",'B) Eingabe (Lehrer)'!BJ52)","v":""},{"$f":"IF('B) Eingabe (Lehrer)'!BK52=\"\", \"\",'B) Eingabe (Lehrer)'!BK52)","v":""}]
["Zusatzitem 10",{"$f":"IF('B) Eingabe (Lehrer)'!C53=\"\", \"\",'B) Eingabe (Lehrer)'!C53)","v":""},{"$f":"IF('B) Eingabe (Lehrer)'!D53=\"\", \"\",'B) Eingabe (Lehrer)'!D53)","v":""},{"$f":"IF('B) Eingabe (Lehrer)'!E53=\"\", \"\",'B) Eingabe (Lehrer)'!E53)","v":""},{"$f":"IF('B) Eingabe (Lehrer)'!F53=\"\", \"\",'B) Eingabe (Lehrer)'!F53)","v":""},{"$f":"IF('B) Eingabe (Lehrer)'!G53=\"\", \"\",'B) Eingabe (Lehrer)'!G53)","v":""},{"$f":"IF('B) Eingabe (Lehrer)'!H53=\"\", \"\",'B) Eingabe (Lehrer)'!H53)","v":""},{"$f":"IF('B) Eingabe (Lehrer)'!I53=\"\", \"\",'B) Eingabe (Lehrer)'!I53)","v":""},{"$f":"IF('B) Eingabe (Lehrer)'!J53=\"\", \"\",'B) Eingabe (Lehrer)'!J53)","v":""},{"$f":"IF('B) Eingabe (Lehrer)'!K53=\"\", \"\",'B) Eingabe (Lehrer)'!K53)","v":""},{"$f":"IF('B) Eingabe (Lehrer)'!L53=\"\", \"\",'B) Eingabe (Lehrer)'!L53)","v":""},{"$f":"IF('B) Eingabe (Lehrer)'!M53=\"\", \"\",'B) Eingabe (Lehrer)'!M53)","v":""},{"$f":"IF('B) Eingabe (Lehrer)'!N53=\"\", \"\",'B) Eingabe (Lehrer)'!N53)","v":""},{"$f":"IF('B) Eingabe (Lehrer)'!O53=\"\", \"\",'B) Eingabe (Lehrer)'!O53)","v":""},{"$f":"IF('B) Eingabe (Lehrer)'!P53=\"\", \"\",'B) Eingabe (Lehrer)'!P53)","v":""},{"$f":"IF('B) Eingabe (Lehrer)'!Q53=\"\", \"\",'B) Eingabe (Lehrer)'!Q53)","v":""},{"$f":"IF('B) Eingabe (Lehrer)'!R53=\"\", \"\",'B) Eingabe (Lehrer)'!R53)","v":""},{"$f":"IF('B) Eingabe (Lehrer)'!S53=\"\", \"\",'B) Eingabe (Lehrer)'!S53)","v":""},{"$f":"IF('B) Eingabe (Lehrer)'!T53=\"\", \"\",'B) Eingabe (Lehrer)'!T53)","v":""},{"$f":"IF('B) Eingabe (Lehrer)'!U53=\"\", \"\",'B) Eingabe (Lehrer)'!U53)","v":""},{"$f":"IF('B) Eingabe (Lehrer)'!V53=\"\", \"\",'B) Eingabe (Lehrer)'!V53)","v":""},{"$f":"IF('B) Eingabe (Lehrer)'!W53=\"\", \"\",'B) Eingabe (Lehrer)'!W53)","v":""},{"$f":"IF('B) Eingabe (Lehrer)'!X53=\"\", \"\",'B) Eingabe (Lehrer)'!X53)","v":""},{"$f":"IF('B) Eingabe (Lehrer)'!Y53=\"\", \"\",'B) Eingabe (Lehrer)'!Y53)","v":""},{"$f":"IF('B) Eingabe (Lehrer)'!Z53=\"\", \"\",'B) Eingabe (Lehrer)'!Z53)","v":""},{"$f":"IF('B) Eingabe (Lehrer)'!AA53=\"\", \"\",'B) Eingabe (Lehrer)'!AA53)","v":""},{"$f":"IF('B) Eingabe (Lehrer)'!AB53=\"\", \"\",'B) Eingabe (Lehrer)'!AB53)","v":""},{"$f":"IF('B) Eingabe (Lehrer)'!AC53=\"\", \"\",'B) Eingabe (Lehrer)'!AC53)","v":""},{"$f":"IF('B) Eingabe (Lehrer)'!AD53=\"\", \"\",'B) Eingabe (Lehrer)'!AD53)","v":""},{"$f":"IF('B) Eingabe (Lehrer)'!AE53=\"\", \"\",'B) Eingabe (Lehrer)'!AE53)","v":""},{"$f":"IF('B) Eingabe (Lehrer)'!AF53=\"\", \"\",'B) Eingabe (Lehrer)'!AF53)","v":""},{"$f":"IF('B) Eingabe (Lehrer)'!AG53=\"\", \"\",'B) Eingabe (Lehrer)'!AG53)","v":""},{"$f":"IF('B) Eingabe (Lehrer)'!AH53=\"\", \"\",'B) Eingabe (Lehrer)'!AH53)","v":""},{"$f":"IF('B) Eingabe (Lehrer)'!AI53=\"\", \"\",'B) Eingabe (Lehrer)'!AI53)","v":""},{"$f":"IF('B) Eingabe (Lehrer)'!AJ53=\"\", \"\",'B) Eingabe (Lehrer)'!AJ53)","v":""},{"$f":"IF('B) Eingabe (Lehrer)'!AK53=\"\", \"\",'B) Eingabe (Lehrer)'!AK53)","v":""},{"$f":"IF('B) Eingabe (Lehrer)'!AL53=\"\", \"\",'B) Eingabe (Lehrer)'!AL53)","v":""},{"$f":"IF('B) Eingabe (Lehrer)'!AM53=\"\", \"\",'B) Eingabe (Lehrer)'!AM53)","v":""},{"$f":"IF('B) Eingabe (Lehrer)'!AN53=\"\", \"\",'B) Eingabe (Lehrer)'!AN53)","v":""},{"$f":"IF('B) Eingabe (Lehrer)'!AO53=\"\", \"\",'B) Eingabe (Lehrer)'!AO53)","v":""},{"$f":"IF('B) Eingabe (Lehrer)'!AP53=\"\", \"\",'B) Eingabe (Lehrer)'!AP53)","v":""},{"$f":"IF('B) Eingabe (Lehrer)'!AQ53=\"\", \"\",'B) Eingabe (Lehrer)'!AQ53)","v":""},{"$f":"IF('B) Eingabe (Lehrer)'!AR53=\"\", \"\",'B) Eingabe (Lehrer)'!AR53)","v":""},{"$f":"IF('B) Eingabe (Lehrer)'!AS53=\"\", \"\",'B) Eingabe (Lehrer)'!AS53)","v":""},{"$f":"IF('B) Eingabe (Lehrer)'!AT53=\"\", \"\",'B) Eingabe (Lehrer)'!AT53)","v":""},{"$f":"IF('B) Eingabe (Lehrer)'!AU53=\"\", \"\",'B) Eingabe (Lehrer)'!AU53)","v":""},{"$f":"IF('B) Eingabe (Lehrer)'!AV53=\"\", \"\",'B) Eingabe (Lehrer)'!AV53)","v":""},{"$f":"IF('B) Eingabe (Lehrer)'!AW53=\"\", \"\",'B) Eingabe (Lehrer)'!AW53)","v":""},{"$f":"IF('B) Eingabe (Lehrer)'!AX53=\"\", \"\",'B) Eingabe (Lehrer)'!AX53)","v":""},{"$f":"IF('B) Eingabe (Lehrer)'!AY53=\"\", \"\",'B) Eingabe (Lehrer)'!AY53)","v":""},{"$f":"IF('B) Eingabe (Lehrer)'!AZ53=\"\", \"\",'B) Eingabe (Lehrer)'!AZ53)","v":""},{"$f":"IF('B) Eingabe (Lehrer)'!BA53=\"\", \"\",'B) Eingabe (Lehrer)'!BA53)","v":""},{"$f":"IF('B) Eingabe (Lehrer)'!BB53=\"\", \"\",'B) Eingabe (Lehrer)'!BB53)","v":""},{"$f":"IF('B) Eingabe (Lehrer)'!BC53=\"\", \"\",'B) Eingabe (Lehrer)'!BC53)","v":""},{"$f":"IF('B) Eingabe (Lehrer)'!BD53=\"\", \"\",'B) Eingabe (Lehrer)'!BD53)","v":""},{"$f":"IF('B) Eingabe (Lehrer)'!BE53=\"\", \"\",'B) Eingabe (Lehrer)'!BE53)","v":""},{"$f":"IF('B) Eingabe (Lehrer)'!BF53=\"\", \"\",'B) Eingabe (Lehrer)'!BF53)","v":""},{"$f":"IF('B) Eingabe (Lehrer)'!BG53=\"\", \"\",'B) Eingabe (Lehrer)'!BG53)","v":""},{"$f":"IF('B) Eingabe (Lehrer)'!BH53=\"\", \"\",'B) Eingabe (Lehrer)'!BH53)","v":""},{"$f":"IF('B) Eingabe (Lehrer)'!BI53=\"\", \"\",'B) Eingabe (Lehrer)'!BI53)","v":""},{"$f":"IF('B) Eingabe (Lehrer)'!BJ53=\"\", \"\",'B) Eingabe (Lehrer)'!BJ53)","v":""},{"$f":"IF('B) Eingabe (Lehrer)'!BK53=\"\", \"\",'B) Eingabe (Lehrer)'!BK53)","v":""}]
["Zusatzitem 11",{"$f":"IF('B) Eingabe (Lehrer)'!C54=\"\", \"\",'B) Eingabe (Lehrer)'!C54)","v":""},{"$f":"IF('B) Eingabe (Lehrer)'!D54=\"\", \"\",'B) Eingabe (Lehrer)'!D54)","v":""},{"$f":"IF('B) Eingabe (Lehrer)'!E54=\"\", \"\",'B) Eingabe (Lehrer)'!E54)","v":""},{"$f":"IF('B) Eingabe (Lehrer)'!F54=\"\", \"\",'B) Eingabe (Lehrer)'!F54)","v":""},{"$f":"IF('B) Eingabe (Lehrer)'!G54=\"\", \"\",'B) Eingabe (Lehrer)'!G54)","v":""},{"$f":"IF('B) Eingabe (Lehrer)'!H54=\"\", \"\",'B) Eingabe (Lehrer)'!H54)","v":""},{"$f":"IF('B) Eingabe (Lehrer)'!I54=\"\", \"\",'B) Eingabe (Lehrer)'!I54)","v":""},{"$f":"IF('B) Eingabe (Lehrer)'!J54=\"\", \"\",'B) Eingabe (Lehrer)'!J54)","v":""},{"$f":"IF('B) Eingabe (Lehrer)'!K54=\"\", \"\",'B) Eingabe (Lehrer)'!K54)","v":""},{"$f":"IF('B) Eingabe (Lehrer)'!L54=\"\", \"\",'B) Eingabe (Lehrer)'!L54)","v":""},{"$f":"IF('B) Eingabe (Lehrer)'!M54=\"\", \"\",'B) Eingabe (Lehrer)'!M54)","v":""},{"$f":"IF('B) Eingabe (Lehrer)'!N54=\"\", \"\",'B) Eingabe (Lehrer)'!N54)","v":""},{"$f":"IF('B) Eingabe (Lehrer)'!O54=\"\", \"\",'B) Eingabe (Lehrer)'!O54)","v":""},{"$f":"IF('B) Eingabe (Lehrer)'!P54=\"\", \"\",'B) Eingabe (Lehrer)'!P54)","v":""},{"$f":"IF('B) Eingabe (Lehrer)'!Q54=\"\", \"\",'B) Eingabe (Lehrer)'!Q54)","v":""},{"$f":"IF('B) Eingabe (Lehrer)'!R54=\"\", \"\",'B) Eingabe (Lehrer)'!R54)","v":""},{"$f":"IF('B) Eingabe (Lehrer)'!S54=\"\", \"\",'B) Eingabe (Lehrer)'!S54)","v":""},{"$f":"IF('B) Eingabe (Lehrer)'!T54=\"\", \"\",'B) Eingabe (Lehrer)'!T54)","v":""},{"$f":"IF('B) Eingabe (Lehrer)'!U54=\"\", \"\",'B) Eingabe (Lehrer)'!U54)","v":""},{"$f":"IF('B) Eingabe (Lehrer)'!V54=\"\", \"\",'B) Eingabe (Lehrer)'!V54)","v":""},{"$f":"IF('B) Eingabe (Lehrer)'!W54=\"\", \"\",'B) Eingabe (Lehrer)'!W54)","v":""},{"$f":"IF('B) Eingabe (Lehrer)'!X54=\"\", \"\",'B) Eingabe (Lehrer)'!X54)","v":""},{"$f":"IF('B) Eingabe (Lehrer)'!Y54=\"\", \"\",'B) Eingabe (Lehrer)'!Y54)","v":""},{"$f":"IF('B) Eingabe (Lehrer)'!Z54=\"\", \"\",'B) Eingabe (Lehrer)'!Z54)","v":""},{"$f":"IF('B) Eingabe (Lehrer)'!AA54=\"\", \"\",'B) Eingabe (Lehrer)'!AA54)","v":""},{"$f":"IF('B) Eingabe (Lehrer)'!AB54=\"\", \"\",'B) Eingabe (Lehrer)'!AB54)","v":""},{"$f":"IF('B) Eingabe (Lehrer)'!AC54=\"\", \"\",'B) Eingabe (Lehrer)'!AC54)","v":""},{"$f":"IF('B) Eingabe (Lehrer)'!AD54=\"\", \"\",'B) Eingabe (Lehrer)'!AD54)","v":""},{"$f":"IF('B) Eingabe (Lehrer)'!AE54=\"\", \"\",'B) Eingabe (Lehrer)'!AE54)","v":""},{"$f":"IF('B) Eingabe (Lehrer)'!AF54=\"\", \"\",'B) Eingabe (Lehrer)'!AF54)","v":""},{"$f":"IF('B) Eingabe (Lehrer)'!AG54=\"\", \"\",'B) Eingabe (Lehrer)'!AG54)","v":""},{"$f":"IF('B) Eingabe (Lehrer)'!AH54=\"\", \"\",'B) Eingabe (Lehrer)'!AH54)","v":""},{"$f":"IF('B) Eingabe (Lehrer)'!AI54=\"\", \"\",'B) Eingabe (Lehrer)'!AI54)","v":""},{"$f":"IF('B) Eingabe (Lehrer)'!AJ54=\"\", \"\",'B) Eingabe (Lehrer)'!AJ54)","v":""},{"$f":"IF('B) Eingabe (Lehrer)'!AK54=\"\", \"\",'B) Eingabe (Lehrer)'!AK54)","v":""},{"$f":"IF('B) Eingabe (Lehrer)'!AL54=\"\", \"\",'B) Eingabe (Lehrer)'!AL54)","v":""},{"$f":"IF('B) Eingabe (Lehrer)'!AM54=\"\", \"\",'B) Eingabe (Lehrer)'!AM54)","v":""},{"$f":"IF('B) Eingabe (Lehrer)'!AN54=\"\", \"\",'B) Eingabe (Lehrer)'!AN54)","v":""},{"$f":"IF('B) Eingabe (Lehrer)'!AO54=\"\", \"\",'B) Eingabe (Lehrer)'!AO54)","v":""},{"$f":"IF('B) Eingabe (Lehrer)'!AP54=\"\", \"\",'B) Eingabe (Lehrer)'!AP54)","v":""},{"$f":"IF('B) Eingabe (Lehrer)'!AQ54=\"\", \"\",'B) Eingabe (Lehrer)'!AQ54)","v":""},{"$f":"IF('B) Eingabe (Lehrer)'!AR54=\"\", \"\",'B) Eingabe (Lehrer)'!AR54)","v":""},{"$f":"IF('B) Eingabe (Lehrer)'!AS54=\"\", \"\",'B) Eingabe (Lehrer)'!AS54)","v":""},{"$f":"IF('B) Eingabe (Lehrer)'!AT54=\"\", \"\",'B) Eingabe (Lehrer)'!AT54)","v":""},{"$f":"IF('B) Eingabe (Lehrer)'!AU54=\"\", \"\",'B) Eingabe (Lehrer)'!AU54)","v":""},{"$f":"IF('B) Eingabe (Lehrer)'!AV54=\"\", \"\",'B) Eingabe (Lehrer)'!AV54)","v":""},{"$f":"IF('B) Eingabe (Lehrer)'!AW54=\"\", \"\",'B) Eingabe (Lehrer)'!AW54)","v":""},{"$f":"IF('B) Eingabe (Lehrer)'!AX54=\"\", \"\",'B) Eingabe (Lehrer)'!AX54)","v":""},{"$f":"IF('B) Eingabe (Lehrer)'!AY54=\"\", \"\",'B) Eingabe (Lehrer)'!AY54)","v":""},{"$f":"IF('B) Eingabe (Lehrer)'!AZ54=\"\", \"\",'B) Eingabe (Lehrer)'!AZ54)","v":""},{"$f":"IF('B) Eingabe (Lehrer)'!BA54=\"\", \"\",'B) Eingabe (Lehrer)'!BA54)","v":""},{"$f":"IF('B) Eingabe (Lehrer)'!BB54=\"\", \"\",'B) Eingabe (Lehrer)'!BB54)","v":""},{"$f":"IF('B) Eingabe (Lehrer)'!BC54=\"\", \"\",'B) Eingabe (Lehrer)'!BC54)","v":""},{"$f":"IF('B) Eingabe (Lehrer)'!BD54=\"\", \"\",'B) Eingabe (Lehrer)'!BD54)","v":""},{"$f":"IF('B) Eingabe (Lehrer)'!BE54=\"\", \"\",'B) Eingabe (Lehrer)'!BE54)","v":""},{"$f":"IF('B) Eingabe (Lehrer)'!BF54=\"\", \"\",'B) Eingabe (Lehrer)'!BF54)","v":""},{"$f":"IF('B) Eingabe (Lehrer)'!BG54=\"\", \"\",'B) Eingabe (Lehrer)'!BG54)","v":""},{"$f":"IF('B) Eingabe (Lehrer)'!BH54=\"\", \"\",'B) Eingabe (Lehrer)'!BH54)","v":""},{"$f":"IF('B) Eingabe (Lehrer)'!BI54=\"\", \"\",'B) Eingabe (Lehrer)'!BI54)","v":""},{"$f":"IF('B) Eingabe (Lehrer)'!BJ54=\"\", \"\",'B) Eingabe (Lehrer)'!BJ54)","v":""},{"$f":"IF('B) Eingabe (Lehrer)'!BK54=\"\", \"\",'B) Eingabe (Lehrer)'!BK54)","v":""}]
["Zusatzitem 12",{"$f":"IF('B) Eingabe (Lehrer)'!C55=\"\", \"\",'B) Eingabe (Lehrer)'!C55)","v":""},{"$f":"IF('B) Eingabe (Lehrer)'!D55=\"\", \"\",'B) Eingabe (Lehrer)'!D55)","v":""},{"$f":"IF('B) Eingabe (Lehrer)'!E55=\"\", \"\",'B) Eingabe (Lehrer)'!E55)","v":""},{"$f":"IF('B) Eingabe (Lehrer)'!F55=\"\", \"\",'B) Eingabe (Lehrer)'!F55)","v":""},{"$f":"IF('B) Eingabe (Lehrer)'!G55=\"\", \"\",'B) Eingabe (Lehrer)'!G55)","v":""},{"$f":"IF('B) Eingabe (Lehrer)'!H55=\"\", \"\",'B) Eingabe (Lehrer)'!H55)","v":""},{"$f":"IF('B) Eingabe (Lehrer)'!I55=\"\", \"\",'B) Eingabe (Lehrer)'!I55)","v":""},{"$f":"IF('B) Eingabe (Lehrer)'!J55=\"\", \"\",'B) Eingabe (Lehrer)'!J55)","v":""},{"$f":"IF('B) Eingabe (Lehrer)'!K55=\"\", \"\",'B) Eingabe (Lehrer)'!K55)","v":""},{"$f":"IF('B) Eingabe (Lehrer)'!L55=\"\", \"\",'B) Eingabe (Lehrer)'!L55)","v":""},{"$f":"IF('B) Eingabe (Lehrer)'!M55=\"\", \"\",'B) Eingabe (Lehrer)'!M55)","v":""},{"$f":"IF('B) Eingabe (Lehrer)'!N55=\"\", \"\",'B) Eingabe (Lehrer)'!N55)","v":""},{"$f":"IF('B) Eingabe (Lehrer)'!O55=\"\", \"\",'B) Eingabe (Lehrer)'!O55)","v":""},{"$f":"IF('B) Eingabe (Lehrer)'!P55=\"\", \"\",'B) Eingabe (Lehrer)'!P55)","v":""},{"$f":"IF('B) Eingabe (Lehrer)'!Q55=\"\", \"\",'B) Eingabe (Lehrer)'!Q55)","v":""},{"$f":"IF('B) Eingabe (Lehrer)'!R55=\"\", \"\",'B) Eingabe (Lehrer)'!R55)","v":""},{"$f":"IF('B) Eingabe (Lehrer)'!S55=\"\", \"\",'B) Eingabe (Lehrer)'!S55)","v":""},{"$f":"IF('B) Eingabe (Lehrer)'!T55=\"\", \"\",'B) Eingabe (Lehrer)'!T55)","v":""},{"$f":"IF('B) Eingabe (Lehrer)'!U55=\"\", \"\",'B) Eingabe (Lehrer)'!U55)","v":""},{"$f":"IF('B) Eingabe (Lehrer)'!V55=\"\", \"\",'B) Eingabe (Lehrer)'!V55)","v":""},{"$f":"IF('B) Eingabe (Lehrer)'!W55=\"\", \"\",'B) Eingabe (Lehrer)'!W55)","v":""},{"$f":"IF('B) Eingabe (Lehrer)'!X55=\"\", \"\",'B) Eingabe (Lehrer)'!X55)","v":""},{"$f":"IF('B) Eingabe (Lehrer)'!Y55=\"\", \"\",'B) Eingabe (Lehrer)'!Y55)","v":""},{"$f":"IF('B) Eingabe (Lehrer)'!Z55=\"\", \"\",'B) Eingabe (Lehrer)'!Z55)","v":""},{"$f":"IF('B) Eingabe (Lehrer)'!AA55=\"\", \"\",'B) Eingabe (Lehrer)'!AA55)","v":""},{"$f":"IF('B) Eingabe (Lehrer)'!AB55=\"\", \"\",'B) Eingabe (Lehrer)'!AB55)","v":""},{"$f":"IF('B) Eingabe (Lehrer)'!AC55=\"\", \"\",'B) Eingabe (Lehrer)'!AC55)","v":""},{"$f":"IF('B) Eingabe (Lehrer)'!AD55=\"\", \"\",'B) Eingabe (Lehrer)'!AD55)","v":""},{"$f":"IF('B) Eingabe (Lehrer)'!AE55=\"\", \"\",'B) Eingabe (Lehrer)'!AE55)","v":""},{"$f":"IF('B) Eingabe (Lehrer)'!AF55=\"\", \"\",'B) Eingabe (Lehrer)'!AF55)","v":""},{"$f":"IF('B) Eingabe (Lehrer)'!AG55=\"\", \"\",'B) Eingabe (Lehrer)'!AG55)","v":""},{"$f":"IF('B) Eingabe (Lehrer)'!AH55=\"\", \"\",'B) Eingabe (Lehrer)'!AH55)","v":""},{"$f":"IF('B) Eingabe (Lehrer)'!AI55=\"\", \"\",'B) Eingabe (Lehrer)'!AI55)","v":""},{"$f":"IF('B) Eingabe (Lehrer)'!AJ55=\"\", \"\",'B) Eingabe (Lehrer)'!AJ55)","v":""},{"$f":"IF('B) Eingabe (Lehrer)'!AK55=\"\", \"\",'B) Eingabe (Lehrer)'!AK55)","v":""},{"$f":"IF('B) Eingabe (Lehrer)'!AL55=\"\", \"\",'B) Eingabe (Lehrer)'!AL55)","v":""},{"$f":"IF('B) Eingabe (Lehrer)'!AM55=\"\", \"\",'B) Eingabe (Lehrer)'!AM55)","v":""},{"$f":"IF('B) Eingabe (Lehrer)'!AN55=\"\", \"\",'B) Eingabe (Lehrer)'!AN55)","v":""},{"$f":"IF('B) Eingabe (Lehrer)'!AO55=\"\", \"\",'B) Eingabe (Lehrer)'!AO55)","v":""},{"$f":"IF('B) Eingabe (Lehrer)'!AP55=\"\", \"\",'B) Eingabe (Lehrer)'!AP55)","v":""},{"$f":"IF('B) Eingabe (Lehrer)'!AQ55=\"\", \"\",'B) Eingabe (Lehrer)'!AQ55)","v":""},{"$f":"IF('B) Eingabe (Lehrer)'!AR55=\"\", \"\",'B) Eingabe (Lehrer)'!AR55)","v":""},{"$f":"IF('B) Eingabe (Lehrer)'!AS55=\"\", \"\",'B) Eingabe (Lehrer)'!AS55)","v":""},{"$f":"IF('B) Eingabe (Lehrer)'!AT55=\"\", \"\",'B) Eingabe (Lehrer)'!AT55)","v":""},{"$f":"IF('B) Eingabe (Lehrer)'!AU55=\"\", \"\",'B) Eingabe (Lehrer)'!AU55)","v":""},{"$f":"IF('B) Eingabe (Lehrer)'!AV55=\"\", \"\",'B) Eingabe (Lehrer)'!AV55)","v":""},{"$f":"IF('B) Eingabe (Lehrer)'!AW55=\"\", \"\",'B) Eingabe (Lehrer)'!AW55)","v":""},{"$f":"IF('B) Eingabe (Lehrer)'!AX55=\"\", \"\",'B) Eingabe (Lehrer)'!AX55)","v":""},{"$f":"IF('B) Eingabe (Lehrer)'!AY55=\"\", \"\",'B) Eingabe (Lehrer)'!AY55)","v":""},{"$f":"IF('B) Eingabe (Lehrer)'!AZ55=\"\", \"\",'B) Eingabe (Lehrer)'!AZ55)","v":""},{"$f":"IF('B) Eingabe (Lehrer)'!BA55=\"\", \"\",'B) Eingabe (Lehrer)'!BA55)","v":""},{"$f":"IF('B) Eingabe (Lehrer)'!BB55=\"\", \"\",'B) Eingabe (Lehrer)'!BB55)","v":""},{"$f":"IF('B) Eingabe (Lehrer)'!BC55=\"\", \"\",'B) Eingabe (Lehrer)'!BC55)","v":""},{"$f":"IF('B) Eingabe (Lehrer)'!BD55=\"\", \"\",'B) Eingabe (Lehrer)'!BD55)","v":""},{"$f":"IF('B) Eingabe (Lehrer)'!BE55=\"\", \"\",'B) Eingabe (Lehrer)'!BE55)","v":""},{"$f":"IF('B) Eingabe (Lehrer)'!BF55=\"\", \"\",'B) Eingabe (Lehrer)'!BF55)","v":""},{"$f":"IF('B) Eingabe (Lehrer)'!BG55=\"\", \"\",'B) Eingabe (Lehrer)'!BG55)","v":""},{"$f":"IF('B) Eingabe (Lehrer)'!BH55=\"\", \"\",'B) Eingabe (Lehrer)'!BH55)","v":""},{"$f":"IF('B) Eingabe (Lehrer)'!BI55=\"\", \"\",'B) Eingabe (Lehrer)'!BI55)","v":""},{"$f":"IF('B) Eingabe (Lehrer)'!BJ55=\"\", \"\",'B) Eingabe (Lehrer)'!BJ55)","v":""},{"$f":"IF('B) Eingabe (Lehrer)'!BK55=\"\", \"\",'B) Eingabe (Lehrer)'!BK55)","v":""}]
["Zusatzitem 13",{"$f":"IF('B) Eingabe (Lehrer)'!C56=\"\", \"\",'B) Eingabe (Lehrer)'!C56)","v":""},{"$f":"IF('B) Eingabe (Lehrer)'!D56=\"\", \"\",'B) Eingabe (Lehrer)'!D56)","v":""},{"$f":"IF('B) Eingabe (Lehrer)'!E56=\"\", \"\",'B) Eingabe (Lehrer)'!E56)","v":""},{"$f":"IF('B) Eingabe (Lehrer)'!F56=\"\", \"\",'B) Eingabe (Lehrer)'!F56)","v":""},{"$f":"IF('B) Eingabe (Lehrer)'!G56=\"\", \"\",'B) Eingabe (Lehrer)'!G56)","v":""},{"$f":"IF('B) Eingabe (Lehrer)'!H56=\"\", \"\",'B) Eingabe (Lehrer)'!H56)","v":""},{"$f":"IF('B) Eingabe (Lehrer)'!I56=\"\", \"\",'B) Eingabe (Lehrer)'!I56)","v":""},{"$f":"IF('B) Eingabe (Lehrer)'!J56=\"\", \"\",'B) Eingabe (Lehrer)'!J56)","v":""},{"$f":"IF('B) Eingabe (Lehrer)'!K56=\"\", \"\",'B) Eingabe (Lehrer)'!K56)","v":""},{"$f":"IF('B) Eingabe (Lehrer)'!L56=\"\", \"\",'B) Eingabe (Lehrer)'!L56)","v":""},{"$f":"IF('B) Eingabe (Lehrer)'!M56=\"\", \"\",'B) Eingabe (Lehrer)'!M56)","v":""},{"$f":"IF('B) Eingabe (Lehrer)'!N56=\"\", \"\",'B) Eingabe (Lehrer)'!N56)","v":""},{"$f":"IF('B) Eingabe (Lehrer)'!O56=\"\", \"\",'B) Eingabe (Lehrer)'!O56)","v":""},{"$f":"IF('B) Eingabe (Lehrer)'!P56=\"\", \"\",'B) Eingabe (Lehrer)'!P56)","v":""},{"$f":"IF('B) Eingabe (Lehrer)'!Q56=\"\", \"\",'B) Eingabe (Lehrer)'!Q56)","v":""},{"$f":"IF('B) Eingabe (Lehrer)'!R56=\"\", \"\",'B) Eingabe (Lehrer)'!R56)","v":""},{"$f":"IF('B) Eingabe (Lehrer)'!S56=\"\", \"\",'B) Eingabe (Lehrer)'!S56)","v":""},{"$f":"IF('B) Eingabe (Lehrer)'!T56=\"\", \"\",'B) Eingabe (Lehrer)'!T56)","v":""},{"$f":"IF('B) Eingabe (Lehrer)'!U56=\"\", \"\",'B) Eingabe (Lehrer)'!U56)","v":""},{"$f":"IF('B) Eingabe (Lehrer)'!V56=\"\", \"\",'B) Eingabe (Lehrer)'!V56)","v":""},{"$f":"IF('B) Eingabe (Lehrer)'!W56=\"\", \"\",'B) Eingabe (Lehrer)'!W56)","v":""},{"$f":"IF('B) Eingabe (Lehrer)'!X56=\"\", \"\",'B) Eingabe (Lehrer)'!X56)","v":""},{"$f":"IF('B) Eingabe (Lehrer)'!Y56=\"\", \"\",'B) Eingabe (Lehrer)'!Y56)","v":""},{"$f":"IF('B) Eingabe (Lehrer)'!Z56=\"\", \"\",'B) Eingabe (Lehrer)'!Z56)","v":""},{"$f":"IF('B) Eingabe (Lehrer)'!AA56=\"\", \"\",'B) Eingabe (Lehrer)'!AA56)","v":""},{"$f":"IF('B) Eingabe (Lehrer)'!AB56=\"\", \"\",'B) Eingabe (Lehrer)'!AB56)","v":""},{"$f":"IF('B) Eingabe (Lehrer)'!AC56=\"\", \"\",'B) Eingabe (Lehrer)'!AC56)","v":""},{"$f":"IF('B) Eingabe (Lehrer)'!AD56=\"\", \"\",'B) Eingabe (Lehrer)'!AD56)","v":""},{"$f":"IF('B) Eingabe (Lehrer)'!AE56=\"\", \"\",'B) Eingabe (Lehrer)'!AE56)","v":""},{"$f":"IF('B) Eingabe (Lehrer)'!AF56=\"\", \"\",'B) Eingabe (Lehrer)'!AF56)","v":""},{"$f":"IF('B) Eingabe (Lehrer)'!AG56=\"\", \"\",'B) Eingabe (Lehrer)'!AG56)","v":""},{"$f":"IF('B) Eingabe (Lehrer)'!AH56=\"\", \"\",'B) Eingabe (Lehrer)'!AH56)","v":""},{"$f":"IF('B) Eingabe (Lehrer)'!AI56=\"\", \"\",'B) Eingabe (Lehrer)'!AI56)","v":""},{"$f":"IF('B) Eingabe (Lehrer)'!AJ56=\"\", \"\",'B) Eingabe (Lehrer)'!AJ56)","v":""},{"$f":"IF('B) Eingabe (Lehrer)'!AK56=\"\", \"\",'B) Eingabe (Lehrer)'!AK56)","v":""},{"$f":"IF('B) Eingabe (Lehrer)'!AL56=\"\", \"\",'B) Eingabe (Lehrer)'!AL56)","v":""},{"$f":"IF('B) Eingabe (Lehrer)'!AM56=\"\", \"\",'B) Eingabe (Lehrer)'!AM56)","v":""},{"$f":"IF('B) Eingabe (Lehrer)'!AN56=\"\", \"\",'B) Eingabe (Lehrer)'!AN56)","v":""},{"$f":"IF('B) Eingabe (Lehrer)'!AO56=\"\", \"\",'B) Eingabe (Lehrer)'!AO56)","v":""},{"$f":"IF('B) Eingabe (Lehrer)'!AP56=\"\", \"\",'B) Eingabe (Lehrer)'!AP56)","v":""},{"$f":"IF('B) Eingabe (Lehrer)'!AQ56=\"\", \"\",'B) Eingabe (Lehrer)'!AQ56)","v":""},{"$f":"IF('B) Eingabe (Lehrer)'!AR56=\"\", \"\",'B) Eingabe (Lehrer)'!AR56)","v":""},{"$f":"IF('B) Eingabe (Lehrer)'!AS56=\"\", \"\",'B) Eingabe (Lehrer)'!AS56)","v":""},{"$f":"IF('B) Eingabe (Lehrer)'!AT56=\"\", \"\",'B) Eingabe (Lehrer)'!AT56)","v":""},{"$f":"IF('B) Eingabe (Lehrer)'!AU56=\"\", \"\",'B) Eingabe (Lehrer)'!AU56)","v":""},{"$f":"IF('B) Eingabe (Lehrer)'!AV56=\"\", \"\",'B) Eingabe (Lehrer)'!AV56)","v":""},{"$f":"IF('B) Eingabe (Lehrer)'!AW56=\"\", \"\",'B) Eingabe (Lehrer)'!AW56)","v":""},{"$f":"IF('B) Eingabe (Lehrer)'!AX56=\"\", \"\",'B) Eingabe (Lehrer)'!AX56)","v":""},{"$f":"IF('B) Eingabe (Lehrer)'!AY56=\"\", \"\",'B) Eingabe (Lehrer)'!AY56)","v":""},{"$f":"IF('B) Eingabe (Lehrer)'!AZ56=\"\", \"\",'B) Eingabe (Lehrer)'!AZ56)","v":""},{"$f":"IF('B) Eingabe (Lehrer)'!BA56=\"\", \"\",'B) Eingabe (Lehrer)'!BA56)","v":""},{"$f":"IF('B) Eingabe (Lehrer)'!BB56=\"\", \"\",'B) Eingabe (Lehrer)'!BB56)","v":""},{"$f":"IF('B) Eingabe (Lehrer)'!BC56=\"\", \"\",'B) Eingabe (Lehrer)'!BC56)","v":""},{"$f":"IF('B) Eingabe (Lehrer)'!BD56=\"\", \"\",'B) Eingabe (Lehrer)'!BD56)","v":""},{"$f":"IF('B) Eingabe (Lehrer)'!BE56=\"\", \"\",'B) Eingabe (Lehrer)'!BE56)","v":""},{"$f":"IF('B) Eingabe (Lehrer)'!BF56=\"\", \"\",'B) Eingabe (Lehrer)'!BF56)","v":""},{"$f":"IF('B) Eingabe (Lehrer)'!BG56=\"\", \"\",'B) Eingabe (Lehrer)'!BG56)","v":""},{"$f":"IF('B) Eingabe (Lehrer)'!BH56=\"\", \"\",'B) Eingabe (Lehrer)'!BH56)","v":""},{"$f":"IF('B) Eingabe (Lehrer)'!BI56=\"\", \"\",'B) Eingabe (Lehrer)'!BI56)","v":""},{"$f":"IF('B) Eingabe (Lehrer)'!BJ56=\"\", \"\",'B) Eingabe (Lehrer)'!BJ56)","v":""},{"$f":"IF('B) Eingabe (Lehrer)'!BK56=\"\", \"\",'B) Eingabe (Lehrer)'!BK56)","v":""}]
["Zusatzitem 14",{"$f":"IF('B) Eingabe (Lehrer)'!C57=\"\", \"\",'B) Eingabe (Lehrer)'!C57)","v":""},{"$f":"IF('B) Eingabe (Lehrer)'!D57=\"\", \"\",'B) Eingabe (Lehrer)'!D57)","v":""},{"$f":"IF('B) Eingabe (Lehrer)'!E57=\"\", \"\",'B) Eingabe (Lehrer)'!E57)","v":""},{"$f":"IF('B) Eingabe (Lehrer)'!F57=\"\", \"\",'B) Eingabe (Lehrer)'!F57)","v":""},{"$f":"IF('B) Eingabe (Lehrer)'!G57=\"\", \"\",'B) Eingabe (Lehrer)'!G57)","v":""},{"$f":"IF('B) Eingabe (Lehrer)'!H57=\"\", \"\",'B) Eingabe (Lehrer)'!H57)","v":""},{"$f":"IF('B) Eingabe (Lehrer)'!I57=\"\", \"\",'B) Eingabe (Lehrer)'!I57)","v":""},{"$f":"IF('B) Eingabe (Lehrer)'!J57=\"\", \"\",'B) Eingabe (Lehrer)'!J57)","v":""},{"$f":"IF('B) Eingabe (Lehrer)'!K57=\"\", \"\",'B) Eingabe (Lehrer)'!K57)","v":""},{"$f":"IF('B) Eingabe (Lehrer)'!L57=\"\", \"\",'B) Eingabe (Lehrer)'!L57)","v":""},{"$f":"IF('B) Eingabe (Lehrer)'!M57=\"\", \"\",'B) Eingabe (Lehrer)'!M57)","v":""},{"$f":"IF('B) Eingabe (Lehrer)'!N57=\"\", \"\",'B) Eingabe (Lehrer)'!N57)","v":""},{"$f":"IF('B) Eingabe (Lehrer)'!O57=\"\", \"\",'B) Eingabe (Lehrer)'!O57)","v":""},{"$f":"IF('B) Eingabe (Lehrer)'!P57=\"\", \"\",'B) Eingabe (Lehrer)'!P57)","v":""},{"$f":"IF('B) Eingabe (Lehrer)'!Q57=\"\", \"\",'B) Eingabe (Lehrer)'!Q57)","v":""},{"$f":"IF('B) Eingabe (Lehrer)'!R57=\"\", \"\",'B) Eingabe (Lehrer)'!R57)","v":""},{"$f":"IF('B) Eingabe (Lehrer)'!S57=\"\", \"\",'B) Eingabe (Lehrer)'!S57)","v":""},{"$f":"IF('B) Eingabe (Lehrer)'!T57=\"\", \"\",'B) Eingabe (Lehrer)'!T57)","v":""},{"$f":"IF('B) Eingabe (Lehrer)'!U57=\"\", \"\",'B) Eingabe (Lehrer)'!U57)","v":""},{"$f":"IF('B) Eingabe (Lehrer)'!V57=\"\", \"\",'B) Eingabe (Lehrer)'!V57)","v":""},{"$f":"IF('B) Eingabe (Lehrer)'!W57=\"\", \"\",'B) Eingabe (Lehrer)'!W57)","v":""},{"$f":"IF('B) Eingabe (Lehrer)'!X57=\"\", \"\",'B) Eingabe (Lehrer)'!X57)","v":""},{"$f":"IF('B) Eingabe (Lehrer)'!Y57=\"\", \"\",'B) Eingabe (Lehrer)'!Y57)","v":""},{"$f":"IF('B) Eingabe (Lehrer)'!Z57=\"\", \"\",'B) Eingabe (Lehrer)'!Z57)","v":""},{"$f":"IF('B) Eingabe (Lehrer)'!AA57=\"\", \"\",'B) Eingabe (Lehrer)'!AA57)","v":""},{"$f":"IF('B) Eingabe (Lehrer)'!AB57=\"\", \"\",'B) Eingabe (Lehrer)'!AB57)","v":""},{"$f":"IF('B) Eingabe (Lehrer)'!AC57=\"\", \"\",'B) Eingabe (Lehrer)'!AC57)","v":""},{"$f":"IF('B) Eingabe (Lehrer)'!AD57=\"\", \"\",'B) Eingabe (Lehrer)'!AD57)","v":""},{"$f":"IF('B) Eingabe (Lehrer)'!AE57=\"\", \"\",'B) Eingabe (Lehrer)'!AE57)","v":""},{"$f":"IF('B) Eingabe (Lehrer)'!AF57=\"\", \"\",'B) Eingabe (Lehrer)'!AF57)","v":""},{"$f":"IF('B) Eingabe (Lehrer)'!AG57=\"\", \"\",'B) Eingabe (Lehrer)'!AG57)","v":""},{"$f":"IF('B) Eingabe (Lehrer)'!AH57=\"\", \"\",'B) Eingabe (Lehrer)'!AH57)","v":""},{"$f":"IF('B) Eingabe (Lehrer)'!AI57=\"\", \"\",'B) Eingabe (Lehrer)'!AI57)","v":""},{"$f":"IF('B) Eingabe (Lehrer)'!AJ57=\"\", \"\",'B) Eingabe (Lehrer)'!AJ57)","v":""},{"$f":"IF('B) Eingabe (Lehrer)'!AK57=\"\", \"\",'B) Eingabe (Lehrer)'!AK57)","v":""},{"$f":"IF('B) Eingabe (Lehrer)'!AL57=\"\", \"\",'B) Eingabe (Lehrer)'!AL57)","v":""},{"$f":"IF('B) Eingabe (Lehrer)'!AM57=\"\", \"\",'B) Eingabe (Lehrer)'!AM57)","v":""},{"$f":"IF('B) Eingabe (Lehrer)'!AN57=\"\", \"\",'B) Eingabe (Lehrer)'!AN57)","v":""},{"$f":"IF('B) Eingabe (Lehrer)'!AO57=\"\", \"\",'B) Eingabe (Lehrer)'!AO57)","v":""},{"$f":"IF('B) Eingabe (Lehrer)'!AP57=\"\", \"\",'B) Eingabe (Lehrer)'!AP57)","v":""},{"$f":"IF('B) Eingabe (Lehrer)'!AQ57=\"\", \"\",'B) Eingabe (Lehrer)'!AQ57)","v":""},{"$f":"IF('B) Eingabe (Lehrer)'!AR57=\"\", \"\",'B) Eingabe (Lehrer)'!AR57)","v":""},{"$f":"IF('B) Eingabe (Lehrer)'!AS57=\"\", \"\",'B) Eingabe (Lehrer)'!AS57)","v":""},{"$f":"IF('B) Eingabe (Lehrer)'!AT57=\"\", \"\",'B) Eingabe (Lehrer)'!AT57)","v":""},{"$f":"IF('B) Eingabe (Lehrer)'!AU57=\"\", \"\",'B) Eingabe (Lehrer)'!AU57)","v":""},{"$f":"IF('B) Eingabe (Lehrer)'!AV57=\"\", \"\",'B) Eingabe (Lehrer)'!AV57)","v":""},{"$f":"IF('B) Eingabe (Lehrer)'!AW57=\"\", \"\",'B) Eingabe (Lehrer)'!AW57)","v":""},{"$f":"IF('B) Eingabe (Lehrer)'!AX57=\"\", \"\",'B) Eingabe (Lehrer)'!AX57)","v":""},{"$f":"IF('B) Eingabe (Lehrer)'!AY57=\"\", \"\",'B) Eingabe (Lehrer)'!AY57)","v":""},{"$f":"IF('B) Eingabe (Lehrer)'!AZ57=\"\", \"\",'B) Eingabe (Lehrer)'!AZ57)","v":""},{"$f":"IF('B) Eingabe (Lehrer)'!BA57=\"\", \"\",'B) Eingabe (Lehrer)'!BA57)","v":""},{"$f":"IF('B) Eingabe (Lehrer)'!BB57=\"\", \"\",'B) Eingabe (Lehrer)'!BB57)","v":""},{"$f":"IF('B) Eingabe (Lehrer)'!BC57=\"\", \"\",'B) Eingabe (Lehrer)'!BC57)","v":""},{"$f":"IF('B) Eingabe (Lehrer)'!BD57=\"\", \"\",'B) Eingabe (Lehrer)'!BD57)","v":""},{"$f":"IF('B) Eingabe (Lehrer)'!BE57=\"\", \"\",'B) Eingabe (Lehrer)'!BE57)","v":""},{"$f":"IF('B) Eingabe (Lehrer)'!BF57=\"\", \"\",'B) Eingabe (Lehrer)'!BF57)","v":""},{"$f":"IF('B) Eingabe (Lehrer)'!BG57=\"\", \"\",'B) Eingabe (Lehrer)'!BG57)","v":""},{"$f":"IF('B) Eingabe (Lehrer)'!BH57=\"\", \"\",'B) Eingabe (Lehrer)'!BH57)","v":""},{"$f":"IF('B) Eingabe (Lehrer)'!BI57=\"\", \"\",'B) Eingabe (Lehrer)'!BI57)","v":""},{"$f":"IF('B) Eingabe (Lehrer)'!BJ57=\"\", \"\",'B) Eingabe (Lehrer)'!BJ57)","v":""},{"$f":"IF('B) Eingabe (Lehrer)'!BK57=\"\", \"\",'B) Eingabe (Lehrer)'!BK57)","v":""}]
["Zusatzitem 15",{"$f":"IF('B) Eingabe (Lehrer)'!C58=\"\", \"\",'B) Eingabe (Lehrer)'!C58)","v":""},{"$f":"IF('B) Eingabe (Lehrer)'!D58=\"\", \"\",'B) Eingabe (Lehrer)'!D58)","v":""},{"$f":"IF('B) Eingabe (Lehrer)'!E58=\"\", \"\",'B) Eingabe (Lehrer)'!E58)","v":""},{"$f":"IF('B) Eingabe (Lehrer)'!F58=\"\", \"\",'B) Eingabe (Lehrer)'!F58)","v":""},{"$f":"IF('B) Eingabe (Lehrer)'!G58=\"\", \"\",'B) Eingabe (Lehrer)'!G58)","v":""},{"$f":"IF('B) Eingabe (Lehrer)'!H58=\"\", \"\",'B) Eingabe (Lehrer)'!H58)","v":""},{"$f":"IF('B) Eingabe (Lehrer)'!I58=\"\", \"\",'B) Eingabe (Lehrer)'!I58)","v":""},{"$f":"IF('B) Eingabe (Lehrer)'!J58=\"\", \"\",'B) Eingabe (Lehrer)'!J58)","v":""},{"$f":"IF('B) Eingabe (Lehrer)'!K58=\"\", \"\",'B) Eingabe (Lehrer)'!K58)","v":""},{"$f":"IF('B) Eingabe (Lehrer)'!L58=\"\", \"\",'B) Eingabe (Lehrer)'!L58)","v":""},{"$f":"IF('B) Eingabe (Lehrer)'!M58=\"\", \"\",'B) Eingabe (Lehrer)'!M58)","v":""},{"$f":"IF('B) Eingabe (Lehrer)'!N58=\"\", \"\",'B) Eingabe (Lehrer)'!N58)","v":""},{"$f":"IF('B) Eingabe (Lehrer)'!O58=\"\", \"\",'B) Eingabe (Lehrer)'!O58)","v":""},{"$f":"IF('B) Eingabe (Lehrer)'!P58=\"\", \"\",'B) Eingabe (Lehrer)'!P58)","v":""},{"$f":"IF('B) Eingabe (Lehrer)'!Q58=\"\", \"\",'B) Eingabe (Lehrer)'!Q58)","v":""},{"$f":"IF('B) Eingabe (Lehrer)'!R58=\"\", \"\",'B) Eingabe (Lehrer)'!R58)","v":""},{"$f":"IF('B) Eingabe (Lehrer)'!S58=\"\", \"\",'B) Eingabe (Lehrer)'!S58)","v":""},{"$f":"IF('B) Eingabe (Lehrer)'!T58=\"\", \"\",'B) Eingabe (Lehrer)'!T58)","v":""},{"$f":"IF('B) Eingabe (Lehrer)'!U58=\"\", \"\",'B) Eingabe (Lehrer)'!U58)","v":""},{"$f":"IF('B) Eingabe (Lehrer)'!V58=\"\", \"\",'B) Eingabe (Lehrer)'!V58)","v":""},{"$f":"IF('B) Eingabe (Lehrer)'!W58=\"\", \"\",'B) Eingabe (Lehrer)'!W58)","v":""},{"$f":"IF('B) Eingabe (Lehrer)'!X58=\"\", \"\",'B) Eingabe (Lehrer)'!X58)","v":""},{"$f":"IF('B) Eingabe (Lehrer)'!Y58=\"\", \"\",'B) Eingabe (Lehrer)'!Y58)","v":""},{"$f":"IF('B) Eingabe (Lehrer)'!Z58=\"\", \"\",'B) Eingabe (Lehrer)'!Z58)","v":""},{"$f":"IF('B) Eingabe (Lehrer)'!AA58=\"\", \"\",'B) Eingabe (Lehrer)'!AA58)","v":""},{"$f":"IF('B) Eingabe (Lehrer)'!AB58=\"\", \"\",'B) Eingabe (Lehrer)'!AB58)","v":""},{"$f":"IF('B) Eingabe (Lehrer)'!AC58=\"\", \"\",'B) Eingabe (Lehrer)'!AC58)","v":""},{"$f":"IF('B) Eingabe (Lehrer)'!AD58=\"\", \"\",'B) Eingabe (Lehrer)'!AD58)","v":""},{"$f":"IF('B) Eingabe (Lehrer)'!AE58=\"\", \"\",'B) Eingabe (Lehrer)'!AE58)","v":""},{"$f":"IF('B) Eingabe (Lehrer)'!AF58=\"\", \"\",'B) Eingabe (Lehrer)'!AF58)","v":""},{"$f":"IF('B) Eingabe (Lehrer)'!AG58=\"\", \"\",'B) Eingabe (Lehrer)'!AG58)","v":""},{"$f":"IF('B) Eingabe (Lehrer)'!AH58=\"\", \"\",'B) Eingabe (Lehrer)'!AH58)","v":""},{"$f":"IF('B) Eingabe (Lehrer)'!AI58=\"\", \"\",'B) Eingabe (Lehrer)'!AI58)","v":""},{"$f":"IF('B) Eingabe (Lehrer)'!AJ58=\"\", \"\",'B) Eingabe (Lehrer)'!AJ58)","v":""},{"$f":"IF('B) Eingabe (Lehrer)'!AK58=\"\", \"\",'B) Eingabe (Lehrer)'!AK58)","v":""},{"$f":"IF('B) Eingabe (Lehrer)'!AL58=\"\", \"\",'B) Eingabe (Lehrer)'!AL58)","v":""},{"$f":"IF('B) Eingabe (Lehrer)'!AM58=\"\", \"\",'B) Eingabe (Lehrer)'!AM58)","v":""},{"$f":"IF('B) Eingabe (Lehrer)'!AN58=\"\", \"\",'B) Eingabe (Lehrer)'!AN58)","v":""},{"$f":"IF('B) Eingabe (Lehrer)'!AO58=\"\", \"\",'B) Eingabe (Lehrer)'!AO58)","v":""},{"$f":"IF('B) Eingabe (Lehrer)'!AP58=\"\", \"\",'B) Eingabe (Lehrer)'!AP58)","v":""},{"$f":"IF('B) Eingabe (Lehrer)'!AQ58=\"\", \"\",'B) Eingabe (Lehrer)'!AQ58)","v":""},{"$f":"IF('B) Eingabe (Lehrer)'!AR58=\"\", \"\",'B) Eingabe (Lehrer)'!AR58)","v":""},{"$f":"IF('B) Eingabe (Lehrer)'!AS58=\"\", \"\",'B) Eingabe (Lehrer)'!AS58)","v":""},{"$f":"IF('B) Eingabe (Lehrer)'!AT58=\"\", \"\",'B) Eingabe (Lehrer)'!AT58)","v":""},{"$f":"IF('B) Eingabe (Lehrer)'!AU58=\"\", \"\",'B) Eingabe (Lehrer)'!AU58)","v":""},{"$f":"IF('B) Eingabe (Lehrer)'!AV58=\"\", \"\",'B) Eingabe (Lehrer)'!AV58)","v":""},{"$f":"IF('B) Eingabe (Lehrer)'!AW58=\"\", \"\",'B) Eingabe (Lehrer)'!AW58)","v":""},{"$f":"IF('B) Eingabe (Lehrer)'!AX58=\"\", \"\",'B) Eingabe (Lehrer)'!AX58)","v":""},{"$f":"IF('B) Eingabe (Lehrer)'!AY58=\"\", \"\",'B) Eingabe (Lehrer)'!AY58)","v":""},{"$f":"IF('B) Eingabe (Lehrer)'!AZ58=\"\", \"\",'B) Eingabe (Lehrer)'!AZ58)","v":""},{"$f":"IF('B) Eingabe (Lehrer)'!BA58=\"\", \"\",'B) Eingabe (Lehrer)'!BA58)","v":""},{"$f":"IF('B) Eingabe (Lehrer)'!BB58=\"\", \"\",'B) Eingabe (Lehrer)'!BB58)","v":""},{"$f":"IF('B) Eingabe (Lehrer)'!BC58=\"\", \"\",'B) Eingabe (Lehrer)'!BC58)","v":""},{"$f":"IF('B) Eingabe (Lehrer)'!BD58=\"\", \"\",'B) Eingabe (Lehrer)'!BD58)","v":""},{"$f":"IF('B) Eingabe (Lehrer)'!BE58=\"\", \"\",'B) Eingabe (Lehrer)'!BE58)","v":""},{"$f":"IF('B) Eingabe (Lehrer)'!BF58=\"\", \"\",'B) Eingabe (Lehrer)'!BF58)","v":""},{"$f":"IF('B) Eingabe (Lehrer)'!BG58=\"\", \"\",'B) Eingabe (Lehrer)'!BG58)","v":""},{"$f":"IF('B) Eingabe (Lehrer)'!BH58=\"\", \"\",'B) Eingabe (Lehrer)'!BH58)","v":""},{"$f":"IF('B) Eingabe (Lehrer)'!BI58=\"\", \"\",'B) Eingabe (Lehrer)'!BI58)","v":""},{"$f":"IF('B) Eingabe (Lehrer)'!BJ58=\"\", \"\",'B) Eingabe (Lehrer)'!BJ58)","v":""},{"$f":"IF('B) Eingabe (Lehrer)'!BK58=\"\", \"\",'B) Eingabe (Lehrer)'!BK58)","v":""}]
["Zusatzitem 16",{"$f":"IF('B) Eingabe (Lehrer)'!C59=\"\", \"\",'B) Eingabe (Lehrer)'!C59)","v":""},{"$f":"IF('B) Eingabe (Lehrer)'!D59=\"\", \"\",'B) Eingabe (Lehrer)'!D59)","v":""},{"$f":"IF('B) Eingabe (Lehrer)'!E59=\"\", \"\",'B) Eingabe (Lehrer)'!E59)","v":""},{"$f":"IF('B) Eingabe (Lehrer)'!F59=\"\", \"\",'B) Eingabe (Lehrer)'!F59)","v":""},{"$f":"IF('B) Eingabe (Lehrer)'!G59=\"\", \"\",'B) Eingabe (Lehrer)'!G59)","v":""},{"$f":"IF('B) Eingabe (Lehrer)'!H59=\"\", \"\",'B) Eingabe (Lehrer)'!H59)","v":""},{"$f":"IF('B) Eingabe (Lehrer)'!I59=\"\", \"\",'B) Eingabe (Lehrer)'!I59)","v":""},{"$f":"IF('B) Eingabe (Lehrer)'!J59=\"\", \"\",'B) Eingabe (Lehrer)'!J59)","v":""},{"$f":"IF('B) Eingabe (Lehrer)'!K59=\"\", \"\",'B) Eingabe (Lehrer)'!K59)","v":""},{"$f":"IF('B) Eingabe (Lehrer)'!L59=\"\", \"\",'B) Eingabe (Lehrer)'!L59)","v":""},{"$f":"IF('B) Eingabe (Lehrer)'!M59=\"\", \"\",'B) Eingabe (Lehrer)'!M59)","v":""},{"$f":"IF('B) Eingabe (Lehrer)'!N59=\"\", \"\",'B) Eingabe (Lehrer)'!N59)","v":""},{"$f":"IF('B) Eingabe (Lehrer)'!O59=\"\", \"\",'B) Eingabe (Lehrer)'!O59)","v":""},{"$f":"IF('B) Eingabe (Lehrer)'!P59=\"\", \"\",'B) Eingabe (Lehrer)'!P59)","v":""},{"$f":"IF('B) Eingabe (Lehrer)'!Q59=\"\", \"\",'B) Eingabe (Lehrer)'!Q59)","v":""},{"$f":"IF('B) Eingabe (Lehrer)'!R59=\"\", \"\",'B) Eingabe (Lehrer)'!R59)","v":""},{"$f":"IF('B) Eingabe (Lehrer)'!S59=\"\", \"\",'B) Eingabe (Lehrer)'!S59)","v":""},{"$f":"IF('B) Eingabe (Lehrer)'!T59=\"\", \"\",'B) Eingabe (Lehrer)'!T59)","v":""},{"$f":"IF('B) Eingabe (Lehrer)'!U59=\"\", \"\",'B) Eingabe (Lehrer)'!U59)","v":""},{"$f":"IF('B) Eingabe (Lehrer)'!V59=\"\", \"\",'B) Eingabe (Lehrer)'!V59)","v":""},{"$f":"IF('B) Eingabe (Lehrer)'!W59=\"\", \"\",'B) Eingabe (Lehrer)'!W59)","v":""},{"$f":"IF('B) Eingabe (Lehrer)'!X59=\"\", \"\",'B) Eingabe (Lehrer)'!X59)","v":""},{"$f":"IF('B) Eingabe (Lehrer)'!Y59=\"\", \"\",'B) Eingabe (Lehrer)'!Y59)","v":""},{"$f":"IF('B) Eingabe (Lehrer)'!Z59=\"\", \"\",'B) Eingabe (Lehrer)'!Z59)","v":""},{"$f":"IF('B) Eingabe (Lehrer)'!AA59=\"\", \"\",'B) Eingabe (Lehrer)'!AA59)","v":""},{"$f":"IF('B) Eingabe (Lehrer)'!AB59=\"\", \"\",'B) Eingabe (Lehrer)'!AB59)","v":""},{"$f":"IF('B) Eingabe (Lehrer)'!AC59=\"\", \"\",'B) Eingabe (Lehrer)'!AC59)","v":""},{"$f":"IF('B) Eingabe (Lehrer)'!AD59=\"\", \"\",'B) Eingabe (Lehrer)'!AD59)","v":""},{"$f":"IF('B) Eingabe (Lehrer)'!AE59=\"\", \"\",'B) Eingabe (Lehrer)'!AE59)","v":""},{"$f":"IF('B) Eingabe (Lehrer)'!AF59=\"\", \"\",'B) Eingabe (Lehrer)'!AF59)","v":""},{"$f":"IF('B) Eingabe (Lehrer)'!AG59=\"\", \"\",'B) Eingabe (Lehrer)'!AG59)","v":""},{"$f":"IF('B) Eingabe (Lehrer)'!AH59=\"\", \"\",'B) Eingabe (Lehrer)'!AH59)","v":""},{"$f":"IF('B) Eingabe (Lehrer)'!AI59=\"\", \"\",'B) Eingabe (Lehrer)'!AI59)","v":""},{"$f":"IF('B) Eingabe (Lehrer)'!AJ59=\"\", \"\",'B) Eingabe (Lehrer)'!AJ59)","v":""},{"$f":"IF('B) Eingabe (Lehrer)'!AK59=\"\", \"\",'B) Eingabe (Lehrer)'!AK59)","v":""},{"$f":"IF('B) Eingabe (Lehrer)'!AL59=\"\", \"\",'B) Eingabe (Lehrer)'!AL59)","v":""},{"$f":"IF('B) Eingabe (Lehrer)'!AM59=\"\", \"\",'B) Eingabe (Lehrer)'!AM59)","v":""},{"$f":"IF('B) Eingabe (Lehrer)'!AN59=\"\", \"\",'B) Eingabe (Lehrer)'!AN59)","v":""},{"$f":"IF('B) Eingabe (Lehrer)'!AO59=\"\", \"\",'B) Eingabe (Lehrer)'!AO59)","v":""},{"$f":"IF('B) Eingabe (Lehrer)'!AP59=\"\", \"\",'B) Eingabe (Lehrer)'!AP59)","v":""},{"$f":"IF('B) Eingabe (Lehrer)'!AQ59=\"\", \"\",'B) Eingabe (Lehrer)'!AQ59)","v":""},{"$f":"IF('B) Eingabe (Lehrer)'!AR59=\"\", \"\",'B) Eingabe (Lehrer)'!AR59)","v":""},{"$f":"IF('B) Eingabe (Lehrer)'!AS59=\"\", \"\",'B) Eingabe (Lehrer)'!AS59)","v":""},{"$f":"IF('B) Eingabe (Lehrer)'!AT59=\"\", \"\",'B) Eingabe (Lehrer)'!AT59)","v":""},{"$f":"IF('B) Eingabe (Lehrer)'!AU59=\"\", \"\",'B) Eingabe (Lehrer)'!AU59)","v":""},{"$f":"IF('B) Eingabe (Lehrer)'!AV59=\"\", \"\",'B) Eingabe (Lehrer)'!AV59)","v":""},{"$f":"IF('B) Eingabe (Lehrer)'!AW59=\"\", \"\",'B) Eingabe (Lehrer)'!AW59)","v":""},{"$f":"IF('B) Eingabe (Lehrer)'!AX59=\"\", \"\",'B) Eingabe (Lehrer)'!AX59)","v":""},{"$f":"IF('B) Eingabe (Lehrer)'!AY59=\"\", \"\",'B) Eingabe (Lehrer)'!AY59)","v":""},{"$f":"IF('B) Eingabe (Lehrer)'!AZ59=\"\", \"\",'B) Eingabe (Lehrer)'!AZ59)","v":""},{"$f":"IF('B) Eingabe (Lehrer)'!BA59=\"\", \"\",'B) Eingabe (Lehrer)'!BA59)","v":""},{"$f":"IF('B) Eingabe (Lehrer)'!BB59=\"\", \"\",'B) Eingabe (Lehrer)'!BB59)","v":""},{"$f":"IF('B) Eingabe (Lehrer)'!BC59=\"\", \"\",'B) Eingabe (Lehrer)'!BC59)","v":""},{"$f":"IF('B) Eingabe (Lehrer)'!BD59=\"\", \"\",'B) Eingabe (Lehrer)'!BD59)","v":""},{"$f":"IF('B) Eingabe (Lehrer)'!BE59=\"\", \"\",'B) Eingabe (Lehrer)'!BE59)","v":""},{"$f":"IF('B) Eingabe (Lehrer)'!BF59=\"\", \"\",'B) Eingabe (Lehrer)'!BF59)","v":""},{"$f":"IF('B) Eingabe (Lehrer)'!BG59=\"\", \"\",'B) Eingabe (Lehrer)'!BG59)","v":""},{"$f":"IF('B) Eingabe (Lehrer)'!BH59=\"\", \"\",'B) Eingabe (Lehrer)'!BH59)","v":""},{"$f":"IF('B) Eingabe (Lehrer)'!BI59=\"\", \"\",'B) Eingabe (Lehrer)'!BI59)","v":""},{"$f":"IF('B) Eingabe (Lehrer)'!BJ59=\"\", \"\",'B) Eingabe (Lehrer)'!BJ59)","v":""},{"$f":"IF('B) Eingabe (Lehrer)'!BK59=\"\", \"\",'B) Eingabe (Lehrer)'!BK59)","v":""}]
["Zusatzitem 17",{"$f":"IF('B) Eingabe (Lehrer)'!C60=\"\", \"\",'B) Eingabe (Lehrer)'!C60)","v":""},{"$f":"IF('B) Eingabe (Lehrer)'!D60=\"\", \"\",'B) Eingabe (Lehrer)'!D60)","v":""},{"$f":"IF('B) Eingabe (Lehrer)'!E60=\"\", \"\",'B) Eingabe (Lehrer)'!E60)","v":""},{"$f":"IF('B) Eingabe (Lehrer)'!F60=\"\", \"\",'B) Eingabe (Lehrer)'!F60)","v":""},{"$f":"IF('B) Eingabe (Lehrer)'!G60=\"\", \"\",'B) Eingabe (Lehrer)'!G60)","v":""},{"$f":"IF('B) Eingabe (Lehrer)'!H60=\"\", \"\",'B) Eingabe (Lehrer)'!H60)","v":""},{"$f":"IF('B) Eingabe (Lehrer)'!I60=\"\", \"\",'B) Eingabe (Lehrer)'!I60)","v":""},{"$f":"IF('B) Eingabe (Lehrer)'!J60=\"\", \"\",'B) Eingabe (Lehrer)'!J60)","v":""},{"$f":"IF('B) Eingabe (Lehrer)'!K60=\"\", \"\",'B) Eingabe (Lehrer)'!K60)","v":""},{"$f":"IF('B) Eingabe (Lehrer)'!L60=\"\", \"\",'B) Eingabe (Lehrer)'!L60)","v":""},{"$f":"IF('B) Eingabe (Lehrer)'!M60=\"\", \"\",'B) Eingabe (Lehrer)'!M60)","v":""},{"$f":"IF('B) Eingabe (Lehrer)'!N60=\"\", \"\",'B) Eingabe (Lehrer)'!N60)","v":""},{"$f":"IF('B) Eingabe (Lehrer)'!O60=\"\", \"\",'B) Eingabe (Lehrer)'!O60)","v":""},{"$f":"IF('B) Eingabe (Lehrer)'!P60=\"\", \"\",'B) Eingabe (Lehrer)'!P60)","v":""},{"$f":"IF('B) Eingabe (Lehrer)'!Q60=\"\", \"\",'B) Eingabe (Lehrer)'!Q60)","v":""},{"$f":"IF('B) Eingabe (Lehrer)'!R60=\"\", \"\",'B) Eingabe (Lehrer)'!R60)","v":""},{"$f":"IF('B) Eingabe (Lehrer)'!S60=\"\", \"\",'B) Eingabe (Lehrer)'!S60)","v":""},{"$f":"IF('B) Eingabe (Lehrer)'!T60=\"\", \"\",'B) Eingabe (Lehrer)'!T60)","v":""},{"$f":"IF('B) Eingabe (Lehrer)'!U60=\"\", \"\",'B) Eingabe (Lehrer)'!U60)","v":""},{"$f":"IF('B) Eingabe (Lehrer)'!V60=\"\", \"\",'B) Eingabe (Lehrer)'!V60)","v":""},{"$f":"IF('B) Eingabe (Lehrer)'!W60=\"\", \"\",'B) Eingabe (Lehrer)'!W60)","v":""},{"$f":"IF('B) Eingabe (Lehrer)'!X60=\"\", \"\",'B) Eingabe (Lehrer)'!X60)","v":""},{"$f":"IF('B) Eingabe (Lehrer)'!Y60=\"\", \"\",'B) Eingabe (Lehrer)'!Y60)","v":""},{"$f":"IF('B) Eingabe (Lehrer)'!Z60=\"\", \"\",'B) Eingabe (Lehrer)'!Z60)","v":""},{"$f":"IF('B) Eingabe (Lehrer)'!AA60=\"\", \"\",'B) Eingabe (Lehrer)'!AA60)","v":""},{"$f":"IF('B) Eingabe (Lehrer)'!AB60=\"\", \"\",'B) Eingabe (Lehrer)'!AB60)","v":""},{"$f":"IF('B) Eingabe (Lehrer)'!AC60=\"\", \"\",'B) Eingabe (Lehrer)'!AC60)","v":""},{"$f":"IF('B) Eingabe (Lehrer)'!AD60=\"\", \"\",'B) Eingabe (Lehrer)'!AD60)","v":""},{"$f":"IF('B) Eingabe (Lehrer)'!AE60=\"\", \"\",'B) Eingabe (Lehrer)'!AE60)","v":""},{"$f":"IF('B) Eingabe (Lehrer)'!AF60=\"\", \"\",'B) Eingabe (Lehrer)'!AF60)","v":""},{"$f":"IF('B) Eingabe (Lehrer)'!AG60=\"\", \"\",'B) Eingabe (Lehrer)'!AG60)","v":""},{"$f":"IF('B) Eingabe (Lehrer)'!AH60=\"\", \"\",'B) Eingabe (Lehrer)'!AH60)","v":""},{"$f":"IF('B) Eingabe (Lehrer)'!AI60=\"\", \"\",'B) Eingabe (Lehrer)'!AI60)","v":""},{"$f":"IF('B) Eingabe (Lehrer)'!AJ60=\"\", \"\",'B) Eingabe (Lehrer)'!AJ60)","v":""},{"$f":"IF('B) Eingabe (Lehrer)'!AK60=\"\", \"\",'B) Eingabe (Lehrer)'!AK60)","v":""},{"$f":"IF('B) Eingabe (Lehrer)'!AL60=\"\", \"\",'B) Eingabe (Lehrer)'!AL60)","v":""},{"$f":"IF('B) Eingabe (Lehrer)'!AM60=\"\", \"\",'B) Eingabe (Lehrer)'!AM60)","v":""},{"$f":"IF('B) Eingabe (Lehrer)'!AN60=\"\", \"\",'B) Eingabe (Lehrer)'!AN60)","v":""},{"$f":"IF('B) Eingabe (Lehrer)'!AO60=\"\", \"\",'B) Eingabe (Lehrer)'!AO60)","v":""},{"$f":"IF('B) Eingabe (Lehrer)'!AP60=\"\", \"\",'B) Eingabe (Lehrer)'!AP60)","v":""},{"$f":"IF('B) Eingabe (Lehrer)'!AQ60=\"\", \"\",'B) Eingabe (Lehrer)'!AQ60)","v":""},{"$f":"IF('B) Eingabe (Lehrer)'!AR60=\"\", \"\",'B) Eingabe (Lehrer)'!AR60)","v":""},{"$f":"IF('B) Eingabe (Lehrer)'!AS60=\"\", \"\",'B) Eingabe (Lehrer)'!AS60)","v":""},{"$f":"IF('B) Eingabe (Lehrer)'!AT60=\"\", \"\",'B) Eingabe (Lehrer)'!AT60)","v":""},{"$f":"IF('B) Eingabe (Lehrer)'!AU60=\"\", \"\",'B) Eingabe (Lehrer)'!AU60)","v":""},{"$f":"IF('B) Eingabe (Lehrer)'!AV60=\"\", \"\",'B) Eingabe (Lehrer)'!AV60)","v":""},{"$f":"IF('B) Eingabe (Lehrer)'!AW60=\"\", \"\",'B) Eingabe (Lehrer)'!AW60)","v":""},{"$f":"IF('B) Eingabe (Lehrer)'!AX60=\"\", \"\",'B) Eingabe (Lehrer)'!AX60)","v":""},{"$f":"IF('B) Eingabe (Lehrer)'!AY60=\"\", \"\",'B) Eingabe (Lehrer)'!AY60)","v":""},{"$f":"IF('B) Eingabe (Lehrer)'!AZ60=\"\", \"\",'B) Eingabe (Lehrer)'!AZ60)","v":""},{"$f":"IF('B) Eingabe (Lehrer)'!BA60=\"\", \"\",'B) Eingabe (Lehrer)'!BA60)","v":""},{"$f":"IF('B) Eingabe (Lehrer)'!BB60=\"\", \"\",'B) Eingabe (Lehrer)'!BB60)","v":""},{"$f":"IF('B) Eingabe (Lehrer)'!BC60=\"\", \"\",'B) Eingabe (Lehrer)'!BC60)","v":""},{"$f":"IF('B) Eingabe (Lehrer)'!BD60=\"\", \"\",'B) Eingabe (Lehrer)'!BD60)","v":""},{"$f":"IF('B) Eingabe (Lehrer)'!BE60=\"\", \"\",'B) Eingabe (Lehrer)'!BE60)","v":""},{"$f":"IF('B) Eingabe (Lehrer)'!BF60=\"\", \"\",'B) Eingabe (Lehrer)'!BF60)","v":""},{"$f":"IF('B) Eingabe (Lehrer)'!BG60=\"\", \"\",'B) Eingabe (Lehrer)'!BG60)","v":""},{"$f":"IF('B) Eingabe (Lehrer)'!BH60=\"\", \"\",'B) Eingabe (Lehrer)'!BH60)","v":""},{"$f":"IF('B) Eingabe (Lehrer)'!BI60=\"\", \"\",'B) Eingabe (Lehrer)'!BI60)","v":""},{"$f":"IF('B) Eingabe (Lehrer)'!BJ60=\"\", \"\",'B) Eingabe (Lehrer)'!BJ60)","v":""},{"$f":"IF('B) Eingabe (Lehrer)'!BK60=\"\", \"\",'B) Eingabe (Lehrer)'!BK60)","v":""}]
["Zusatzitem 18",{"$f":"IF('B) Eingabe (Lehrer)'!C61=\"\", \"\",'B) Eingabe (Lehrer)'!C61)","v":""},{"$f":"IF('B) Eingabe (Lehrer)'!D61=\"\", \"\",'B) Eingabe (Lehrer)'!D61)","v":""},{"$f":"IF('B) Eingabe (Lehrer)'!E61=\"\", \"\",'B) Eingabe (Lehrer)'!E61)","v":""},{"$f":"IF('B) Eingabe (Lehrer)'!F61=\"\", \"\",'B) Eingabe (Lehrer)'!F61)","v":""},{"$f":"IF('B) Eingabe (Lehrer)'!G61=\"\", \"\",'B) Eingabe (Lehrer)'!G61)","v":""},{"$f":"IF('B) Eingabe (Lehrer)'!H61=\"\", \"\",'B) Eingabe (Lehrer)'!H61)","v":""},{"$f":"IF('B) Eingabe (Lehrer)'!I61=\"\", \"\",'B) Eingabe (Lehrer)'!I61)","v":""},{"$f":"IF('B) Eingabe (Lehrer)'!J61=\"\", \"\",'B) Eingabe (Lehrer)'!J61)","v":""},{"$f":"IF('B) Eingabe (Lehrer)'!K61=\"\", \"\",'B) Eingabe (Lehrer)'!K61)","v":""},{"$f":"IF('B) Eingabe (Lehrer)'!L61=\"\", \"\",'B) Eingabe (Lehrer)'!L61)","v":""},{"$f":"IF('B) Eingabe (Lehrer)'!M61=\"\", \"\",'B) Eingabe (Lehrer)'!M61)","v":""},{"$f":"IF('B) Eingabe (Lehrer)'!N61=\"\", \"\",'B) Eingabe (Lehrer)'!N61)","v":""},{"$f":"IF('B) Eingabe (Lehrer)'!O61=\"\", \"\",'B) Eingabe (Lehrer)'!O61)","v":""},{"$f":"IF('B) Eingabe (Lehrer)'!P61=\"\", \"\",'B) Eingabe (Lehrer)'!P61)","v":""},{"$f":"IF('B) Eingabe (Lehrer)'!Q61=\"\", \"\",'B) Eingabe (Lehrer)'!Q61)","v":""},{"$f":"IF('B) Eingabe (Lehrer)'!R61=\"\", \"\",'B) Eingabe (Lehrer)'!R61)","v":""},{"$f":"IF('B) Eingabe (Lehrer)'!S61=\"\", \"\",'B) Eingabe (Lehrer)'!S61)","v":""},{"$f":"IF('B) Eingabe (Lehrer)'!T61=\"\", \"\",'B) Eingabe (Lehrer)'!T61)","v":""},{"$f":"IF('B) Eingabe (Lehrer)'!U61=\"\", \"\",'B) Eingabe (Lehrer)'!U61)","v":""},{"$f":"IF('B) Eingabe (Lehrer)'!V61=\"\", \"\",'B) Eingabe (Lehrer)'!V61)","v":""},{"$f":"IF('B) Eingabe (Lehrer)'!W61=\"\", \"\",'B) Eingabe (Lehrer)'!W61)","v":""},{"$f":"IF('B) Eingabe (Lehrer)'!X61=\"\", \"\",'B) Eingabe (Lehrer)'!X61)","v":""},{"$f":"IF('B) Eingabe (Lehrer)'!Y61=\"\", \"\",'B) Eingabe (Lehrer)'!Y61)","v":""},{"$f":"IF('B) Eingabe (Lehrer)'!Z61=\"\", \"\",'B) Eingabe (Lehrer)'!Z61)","v":""},{"$f":"IF('B) Eingabe (Lehrer)'!AA61=\"\", \"\",'B) Eingabe (Lehrer)'!AA61)","v":""},{"$f":"IF('B) Eingabe (Lehrer)'!AB61=\"\", \"\",'B) Eingabe (Lehrer)'!AB61)","v":""},{"$f":"IF('B) Eingabe (Lehrer)'!AC61=\"\", \"\",'B) Eingabe (Lehrer)'!AC61)","v":""},{"$f":"IF('B) Eingabe (Lehrer)'!AD61=\"\", \"\",'B) Eingabe (Lehrer)'!AD61)","v":""},{"$f":"IF('B) Eingabe (Lehrer)'!AE61=\"\", \"\",'B) Eingabe (Lehrer)'!AE61)","v":""},{"$f":"IF('B) Eingabe (Lehrer)'!AF61=\"\", \"\",'B) Eingabe (Lehrer)'!AF61)","v":""},{"$f":"IF('B) Eingabe (Lehrer)'!AG61=\"\", \"\",'B) Eingabe (Lehrer)'!AG61)","v":""},{"$f":"IF('B) Eingabe (Lehrer)'!AH61=\"\", \"\",'B) Eingabe (Lehrer)'!AH61)","v":""},{"$f":"IF('B) Eingabe (Lehrer)'!AI61=\"\", \"\",'B) Eingabe (Lehrer)'!AI61)","v":""},{"$f":"IF('B) Eingabe (Lehrer)'!AJ61=\"\", \"\",'B) Eingabe (Lehrer)'!AJ61)","v":""},{"$f":"IF('B) Eingabe (Lehrer)'!AK61=\"\", \"\",'B) Eingabe (Lehrer)'!AK61)","v":""},{"$f":"IF('B) Eingabe (Lehrer)'!AL61=\"\", \"\",'B) Eingabe (Lehrer)'!AL61)","v":""},{"$f":"IF('B) Eingabe (Lehrer)'!AM61=\"\", \"\",'B) Eingabe (Lehrer)'!AM61)","v":""},{"$f":"IF('B) Eingabe (Lehrer)'!AN61=\"\", \"\",'B) Eingabe (Lehrer)'!AN61)","v":""},{"$f":"IF('B) Eingabe (Lehrer)'!AO61=\"\", \"\",'B) Eingabe (Lehrer)'!AO61)","v":""},{"$f":"IF('B) Eingabe (Lehrer)'!AP61=\"\", \"\",'B) Eingabe (Lehrer)'!AP61)","v":""},{"$f":"IF('B) Eingabe (Lehrer)'!AQ61=\"\", \"\",'B) Eingabe (Lehrer)'!AQ61)","v":""},{"$f":"IF('B) Eingabe (Lehrer)'!AR61=\"\", \"\",'B) Eingabe (Lehrer)'!AR61)","v":""},{"$f":"IF('B) Eingabe (Lehrer)'!AS61=\"\", \"\",'B) Eingabe (Lehrer)'!AS61)","v":""},{"$f":"IF('B) Eingabe (Lehrer)'!AT61=\"\", \"\",'B) Eingabe (Lehrer)'!AT61)","v":""},{"$f":"IF('B) Eingabe (Lehrer)'!AU61=\"\", \"\",'B) Eingabe (Lehrer)'!AU61)","v":""},{"$f":"IF('B) Eingabe (Lehrer)'!AV61=\"\", \"\",'B) Eingabe (Lehrer)'!AV61)","v":""},{"$f":"IF('B) Eingabe (Lehrer)'!AW61=\"\", \"\",'B) Eingabe (Lehrer)'!AW61)","v":""},{"$f":"IF('B) Eingabe (Lehrer)'!AX61=\"\", \"\",'B) Eingabe (Lehrer)'!AX61)","v":""},{"$f":"IF('B) Eingabe (Lehrer)'!AY61=\"\", \"\",'B) Eingabe (Lehrer)'!AY61)","v":""},{"$f":"IF('B) Eingabe (Lehrer)'!AZ61=\"\", \"\",'B) Eingabe (Lehrer)'!AZ61)","v":""},{"$f":"IF('B) Eingabe (Lehrer)'!BA61=\"\", \"\",'B) Eingabe (Lehrer)'!BA61)","v":""},{"$f":"IF('B) Eingabe (Lehrer)'!BB61=\"\", \"\",'B) Eingabe (Lehrer)'!BB61)","v":""},{"$f":"IF('B) Eingabe (Lehrer)'!BC61=\"\", \"\",'B) Eingabe (Lehrer)'!BC61)","v":""},{"$f":"IF('B) Eingabe (Lehrer)'!BD61=\"\", \"\",'B) Eingabe (Lehrer)'!BD61)","v":""},{"$f":"IF('B) Eingabe (Lehrer)'!BE61=\"\", \"\",'B) Eingabe (Lehrer)'!BE61)","v":""},{"$f":"IF('B) Eingabe (Lehrer)'!BF61=\"\", \"\",'B) Eingabe (Lehrer)'!BF61)","v":""},{"$f":"IF('B) Eingabe (Lehrer)'!BG61=\"\", \"\",'B) Eingabe (Lehrer)'!BG61)","v":""},{"$f":"IF('B) Eingabe (Lehrer)'!BH61=\"\", \"\",'B) Eingabe (Lehrer)'!BH61)","v":""},{"$f":"IF('B) Eingabe (Lehrer)'!BI61=\"\", \"\",'B) Eingabe (Lehrer)'!BI61)","v":""},{"$f":"IF('B) Eingabe (Lehrer)'!BJ61=\"\", \"\",'B) Eingabe (Lehrer)'!BJ61)","v":""},{"$f":"IF('B) Eingabe (Lehrer)'!BK61=\"\", \"\",'B) Eingabe (Lehrer)'!BK61)","v":""}]
["Zusatzitem 19",{"$f":"IF('B) Eingabe (Lehrer)'!C62=\"\", \"\",'B) Eingabe (Lehrer)'!C62)","v":""},{"$f":"IF('B) Eingabe (Lehrer)'!D62=\"\", \"\",'B) Eingabe (Lehrer)'!D62)","v":""},{"$f":"IF('B) Eingabe (Lehrer)'!E62=\"\", \"\",'B) Eingabe (Lehrer)'!E62)","v":""},{"$f":"IF('B) Eingabe (Lehrer)'!F62=\"\", \"\",'B) Eingabe (Lehrer)'!F62)","v":""},{"$f":"IF('B) Eingabe (Lehrer)'!G62=\"\", \"\",'B) Eingabe (Lehrer)'!G62)","v":""},{"$f":"IF('B) Eingabe (Lehrer)'!H62=\"\", \"\",'B) Eingabe (Lehrer)'!H62)","v":""},{"$f":"IF('B) Eingabe (Lehrer)'!I62=\"\", \"\",'B) Eingabe (Lehrer)'!I62)","v":""},{"$f":"IF('B) Eingabe (Lehrer)'!J62=\"\", \"\",'B) Eingabe (Lehrer)'!J62)","v":""},{"$f":"IF('B) Eingabe (Lehrer)'!K62=\"\", \"\",'B) Eingabe (Lehrer)'!K62)","v":""},{"$f":"IF('B) Eingabe (Lehrer)'!L62=\"\", \"\",'B) Eingabe (Lehrer)'!L62)","v":""},{"$f":"IF('B) Eingabe (Lehrer)'!M62=\"\", \"\",'B) Eingabe (Lehrer)'!M62)","v":""},{"$f":"IF('B) Eingabe (Lehrer)'!N62=\"\", \"\",'B) Eingabe (Lehrer)'!N62)","v":""},{"$f":"IF('B) Eingabe (Lehrer)'!O62=\"\", \"\",'B) Eingabe (Lehrer)'!O62)","v":""},{"$f":"IF('B) Eingabe (Lehrer)'!P62=\"\", \"\",'B) Eingabe (Lehrer)'!P62)","v":""},{"$f":"IF('B) Eingabe (Lehrer)'!Q62=\"\", \"\",'B) Eingabe (Lehrer)'!Q62)","v":""},{"$f":"IF('B) Eingabe (Lehrer)'!R62=\"\", \"\",'B) Eingabe (Lehrer)'!R62)","v":""},{"$f":"IF('B) Eingabe (Lehrer)'!S62=\"\", \"\",'B) Eingabe (Lehrer)'!S62)","v":""},{"$f":"IF('B) Eingabe (Lehrer)'!T62=\"\", \"\",'B) Eingabe (Lehrer)'!T62)","v":""},{"$f":"IF('B) Eingabe (Lehrer)'!U62=\"\", \"\",'B) Eingabe (Lehrer)'!U62)","v":""},{"$f":"IF('B) Eingabe (Lehrer)'!V62=\"\", \"\",'B) Eingabe (Lehrer)'!V62)","v":""},{"$f":"IF('B) Eingabe (Lehrer)'!W62=\"\", \"\",'B) Eingabe (Lehrer)'!W62)","v":""},{"$f":"IF('B) Eingabe (Lehrer)'!X62=\"\", \"\",'B) Eingabe (Lehrer)'!X62)","v":""},{"$f":"IF('B) Eingabe (Lehrer)'!Y62=\"\", \"\",'B) Eingabe (Lehrer)'!Y62)","v":""},{"$f":"IF('B) Eingabe (Lehrer)'!Z62=\"\", \"\",'B) Eingabe (Lehrer)'!Z62)","v":""},{"$f":"IF('B) Eingabe (Lehrer)'!AA62=\"\", \"\",'B) Eingabe (Lehrer)'!AA62)","v":""},{"$f":"IF('B) Eingabe (Lehrer)'!AB62=\"\", \"\",'B) Eingabe (Lehrer)'!AB62)","v":""},{"$f":"IF('B) Eingabe (Lehrer)'!AC62=\"\", \"\",'B) Eingabe (Lehrer)'!AC62)","v":""},{"$f":"IF('B) Eingabe (Lehrer)'!AD62=\"\", \"\",'B) Eingabe (Lehrer)'!AD62)","v":""},{"$f":"IF('B) Eingabe (Lehrer)'!AE62=\"\", \"\",'B) Eingabe (Lehrer)'!AE62)","v":""},{"$f":"IF('B) Eingabe (Lehrer)'!AF62=\"\", \"\",'B) Eingabe (Lehrer)'!AF62)","v":""},{"$f":"IF('B) Eingabe (Lehrer)'!AG62=\"\", \"\",'B) Eingabe (Lehrer)'!AG62)","v":""},{"$f":"IF('B) Eingabe (Lehrer)'!AH62=\"\", \"\",'B) Eingabe (Lehrer)'!AH62)","v":""},{"$f":"IF('B) Eingabe (Lehrer)'!AI62=\"\", \"\",'B) Eingabe (Lehrer)'!AI62)","v":""},{"$f":"IF('B) Eingabe (Lehrer)'!AJ62=\"\", \"\",'B) Eingabe (Lehrer)'!AJ62)","v":""},{"$f":"IF('B) Eingabe (Lehrer)'!AK62=\"\", \"\",'B) Eingabe (Lehrer)'!AK62)","v":""},{"$f":"IF('B) Eingabe (Lehrer)'!AL62=\"\", \"\",'B) Eingabe (Lehrer)'!AL62)","v":""},{"$f":"IF('B) Eingabe (Lehrer)'!AM62=\"\", \"\",'B) Eingabe (Lehrer)'!AM62)","v":""},{"$f":"IF('B) Eingabe (Lehrer)'!AN62=\"\", \"\",'B) Eingabe (Lehrer)'!AN62)","v":""},{"$f":"IF('B) Eingabe (Lehrer)'!AO62=\"\", \"\",'B) Eingabe (Lehrer)'!AO62)","v":""},{"$f":"IF('B) Eingabe (Lehrer)'!AP62=\"\", \"\",'B) Eingabe (Lehrer)'!AP62)","v":""},{"$f":"IF('B) Eingabe (Lehrer)'!AQ62=\"\", \"\",'B) Eingabe (Lehrer)'!AQ62)","v":""},{"$f":"IF('B) Eingabe (Lehrer)'!AR62=\"\", \"\",'B) Eingabe (Lehrer)'!AR62)","v":""},{"$f":"IF('B) Eingabe (Lehrer)'!AS62=\"\", \"\",'B) Eingabe (Lehrer)'!AS62)","v":""},{"$f":"IF('B) Eingabe (Lehrer)'!AT62=\"\", \"\",'B) Eingabe (Lehrer)'!AT62)","v":""},{"$f":"IF('B) Eingabe (Lehrer)'!AU62=\"\", \"\",'B) Eingabe (Lehrer)'!AU62)","v":""},{"$f":"IF('B) Eingabe (Lehrer)'!AV62=\"\", \"\",'B) Eingabe (Lehrer)'!AV62)","v":""},{"$f":"IF('B) Eingabe (Lehrer)'!AW62=\"\", \"\",'B) Eingabe (Lehrer)'!AW62)","v":""},{"$f":"IF('B) Eingabe (Lehrer)'!AX62=\"\", \"\",'B) Eingabe (Lehrer)'!AX62)","v":""},{"$f":"IF('B) Eingabe (Lehrer)'!AY62=\"\", \"\",'B) Eingabe (Lehrer)'!AY62)","v":""},{"$f":"IF('B) Eingabe (Lehrer)'!AZ62=\"\", \"\",'B) Eingabe (Lehrer)'!AZ62)","v":""},{"$f":"IF('B) Eingabe (Lehrer)'!BA62=\"\", \"\",'B) Eingabe (Lehrer)'!BA62)","v":""},{"$f":"IF('B) Eingabe (Lehrer)'!BB62=\"\", \"\",'B) Eingabe (Lehrer)'!BB62)","v":""},{"$f":"IF('B) Eingabe (Lehrer)'!BC62=\"\", \"\",'B) Eingabe (Lehrer)'!BC62)","v":""},{"$f":"IF('B) Eingabe (Lehrer)'!BD62=\"\", \"\",'B) Eingabe (Lehrer)'!BD62)","v":""},{"$f":"IF('B) Eingabe (Lehrer)'!BE62=\"\", \"\",'B) Eingabe (Lehrer)'!BE62)","v":""},{"$f":"IF('B) Eingabe (Lehrer)'!BF62=\"\", \"\",'B) Eingabe (Lehrer)'!BF62)","v":""},{"$f":"IF('B) Eingabe (Lehrer)'!BG62=\"\", \"\",'B) Eingabe (Lehrer)'!BG62)","v":""},{"$f":"IF('B) Eingabe (Lehrer)'!BH62=\"\", \"\",'B) Eingabe (Lehrer)'!BH62)","v":""},{"$f":"IF('B) Eingabe (Lehrer)'!BI62=\"\", \"\",'B) Eingabe (Lehrer)'!BI62)","v":""},{"$f":"IF('B) Eingabe (Lehrer)'!BJ62=\"\", \"\",'B) Eingabe (Lehrer)'!BJ62)","v":""},{"$f":"IF('B) Eingabe (Lehrer)'!BK62=\"\", \"\",'B) Eingabe (Lehrer)'!BK62)","v":""}]
["Zusatzitem 20",{"$f":"IF('B) Eingabe (Lehrer)'!C63=\"\", \"\",'B) Eingabe (Lehrer)'!C63)","v":""},{"$f":"IF('B) Eingabe (Lehrer)'!D63=\"\", \"\",'B) Eingabe (Lehrer)'!D63)","v":""},{"$f":"IF('B) Eingabe (Lehrer)'!E63=\"\", \"\",'B) Eingabe (Lehrer)'!E63)","v":""},{"$f":"IF('B) Eingabe (Lehrer)'!F63=\"\", \"\",'B) Eingabe (Lehrer)'!F63)","v":""},{"$f":"IF('B) Eingabe (Lehrer)'!G63=\"\", \"\",'B) Eingabe (Lehrer)'!G63)","v":""},{"$f":"IF('B) Eingabe (Lehrer)'!H63=\"\", \"\",'B) Eingabe (Lehrer)'!H63)","v":""},{"$f":"IF('B) Eingabe (Lehrer)'!I63=\"\", \"\",'B) Eingabe (Lehrer)'!I63)","v":""},{"$f":"IF('B) Eingabe (Lehrer)'!J63=\"\", \"\",'B) Eingabe (Lehrer)'!J63)","v":""},{"$f":"IF('B) Eingabe (Lehrer)'!K63=\"\", \"\",'B) Eingabe (Lehrer)'!K63)","v":""},{"$f":"IF('B) Eingabe (Lehrer)'!L63=\"\", \"\",'B) Eingabe (Lehrer)'!L63)","v":""},{"$f":"IF('B) Eingabe (Lehrer)'!M63=\"\", \"\",'B) Eingabe (Lehrer)'!M63)","v":""},{"$f":"IF('B) Eingabe (Lehrer)'!N63=\"\", \"\",'B) Eingabe (Lehrer)'!N63)","v":""},{"$f":"IF('B) Eingabe (Lehrer)'!O63=\"\", \"\",'B) Eingabe (Lehrer)'!O63)","v":""},{"$f":"IF('B) Eingabe (Lehrer)'!P63=\"\", \"\",'B) Eingabe (Lehrer)'!P63)","v":""},{"$f":"IF('B) Eingabe (Lehrer)'!Q63=\"\", \"\",'B) Eingabe (Lehrer)'!Q63)","v":""},{"$f":"IF('B) Eingabe (Lehrer)'!R63=\"\", \"\",'B) Eingabe (Lehrer)'!R63)","v":""},{"$f":"IF('B) Eingabe (Lehrer)'!S63=\"\", \"\",'B) Eingabe (Lehrer)'!S63)","v":""},{"$f":"IF('B) Eingabe (Lehrer)'!T63=\"\", \"\",'B) Eingabe (Lehrer)'!T63)","v":""},{"$f":"IF('B) Eingabe (Lehrer)'!U63=\"\", \"\",'B) Eingabe (Lehrer)'!U63)","v":""},{"$f":"IF('B) Eingabe (Lehrer)'!V63=\"\", \"\",'B) Eingabe (Lehrer)'!V63)","v":""},{"$f":"IF('B) Eingabe (Lehrer)'!W63=\"\", \"\",'B) Eingabe (Lehrer)'!W63)","v":""},{"$f":"IF('B) Eingabe (Lehrer)'!X63=\"\", \"\",'B) Eingabe (Lehrer)'!X63)","v":""},{"$f":"IF('B) Eingabe (Lehrer)'!Y63=\"\", \"\",'B) Eingabe (Lehrer)'!Y63)","v":""},{"$f":"IF('B) Eingabe (Lehrer)'!Z63=\"\", \"\",'B) Eingabe (Lehrer)'!Z63)","v":""},{"$f":"IF('B) Eingabe (Lehrer)'!AA63=\"\", \"\",'B) Eingabe (Lehrer)'!AA63)","v":""},{"$f":"IF('B) Eingabe (Lehrer)'!AB63=\"\", \"\",'B) Eingabe (Lehrer)'!AB63)","v":""},{"$f":"IF('B) Eingabe (Lehrer)'!AC63=\"\", \"\",'B) Eingabe (Lehrer)'!AC63)","v":""},{"$f":"IF('B) Eingabe (Lehrer)'!AD63=\"\", \"\",'B) Eingabe (Lehrer)'!AD63)","v":""},{"$f":"IF('B) Eingabe (Lehrer)'!AE63=\"\", \"\",'B) Eingabe (Lehrer)'!AE63)","v":""},{"$f":"IF('B) Eingabe (Lehrer)'!AF63=\"\", \"\",'B) Eingabe (Lehrer)'!AF63)","v":""},{"$f":"IF('B) Eingabe (Lehrer)'!AG63=\"\", \"\",'B) Eingabe (Lehrer)'!AG63)","v":""},{"$f":"IF('B) Eingabe (Lehrer)'!AH63=\"\", \"\",'B) Eingabe (Lehrer)'!AH63)","v":""},{"$f":"IF('B) Eingabe (Lehrer)'!AI63=\"\", \"\",'B) Eingabe (Lehrer)'!AI63)","v":""},{"$f":"IF('B) Eingabe (Lehrer)'!AJ63=\"\", \"\",'B) Eingabe (Lehrer)'!AJ63)","v":""},{"$f":"IF('B) Eingabe (Lehrer)'!AK63=\"\", \"\",'B) Eingabe (Lehrer)'!AK63)","v":""},{"$f":"IF('B) Eingabe (Lehrer)'!AL63=\"\", \"\",'B) Eingabe (Lehrer)'!AL63)","v":""},{"$f":"IF('B) Eingabe (Lehrer)'!AM63=\"\", \"\",'B) Eingabe (Lehrer)'!AM63)","v":""},{"$f":"IF('B) Eingabe (Lehrer)'!AN63=\"\", \"\",'B) Eingabe (Lehrer)'!AN63)","v":""},{"$f":"IF('B) Eingabe (Lehrer)'!AO63=\"\", \"\",'B) Eingabe (Lehrer)'!AO63)","v":""},{"$f":"IF('B) Eingabe (Lehrer)'!AP63=\"\", \"\",'B) Eingabe (Lehrer)'!AP63)","v":""},{"$f":"IF('B) Eingabe (Lehrer)'!AQ63=\"\", \"\",'B) Eingabe (Lehrer)'!AQ63)","v":""},{"$f":"IF('B) Eingabe (Lehrer)'!AR63=\"\", \"\",'B) Eingabe (Lehrer)'!AR63)","v":""},{"$f":"IF('B) Eingabe (Lehrer)'!AS63=\"\", \"\",'B) Eingabe (Lehrer)'!AS63)","v":""},{"$f":"IF('B) Eingabe (Lehrer)'!AT63=\"\", \"\",'B) Eingabe (Lehrer)'!AT63)","v":""},{"$f":"IF('B) Eingabe (Lehrer)'!AU63=\"\", \"\",'B) Eingabe (Lehrer)'!AU63)","v":""},{"$f":"IF('B) Eingabe (Lehrer)'!AV63=\"\", \"\",'B) Eingabe (Lehrer)'!AV63)","v":""},{"$f":"IF('B) Eingabe (Lehrer)'!AW63=\"\", \"\",'B) Eingabe (Lehrer)'!AW63)","v":""},{"$f":"IF('B) Eingabe (Lehrer)'!AX63=\"\", \"\",'B) Eingabe (Lehrer)'!AX63)","v":""},{"$f":"IF('B) Eingabe (Lehrer)'!AY63=\"\", \"\",'B) Eingabe (Lehrer)'!AY63)","v":""},{"$f":"IF('B) Eingabe (Lehrer)'!AZ63=\"\", \"\",'B) Eingabe (Lehrer)'!AZ63)","v":""},{"$f":"IF('B) Eingabe (Lehrer)'!BA63=\"\", \"\",'B) Eingabe (Lehrer)'!BA63)","v":""},{"$f":"IF('B) Eingabe (Lehrer)'!BB63=\"\", \"\",'B) Eingabe (Lehrer)'!BB63)","v":""},{"$f":"IF('B) Eingabe (Lehrer)'!BC63=\"\", \"\",'B) Eingabe (Lehrer)'!BC63)","v":""},{"$f":"IF('B) Eingabe (Lehrer)'!BD63=\"\", \"\",'B) Eingabe (Lehrer)'!BD63)","v":""},{"$f":"IF('B) Eingabe (Lehrer)'!BE63=\"\", \"\",'B) Eingabe (Lehrer)'!BE63)","v":""},{"$f":"IF('B) Eingabe (Lehrer)'!BF63=\"\", \"\",'B) Eingabe (Lehrer)'!BF63)","v":""},{"$f":"IF('B) Eingabe (Lehrer)'!BG63=\"\", \"\",'B) Eingabe (Lehrer)'!BG63)","v":""},{"$f":"IF('B) Eingabe (Lehrer)'!BH63=\"\", \"\",'B) Eingabe (Lehrer)'!BH63)","v":""},{"$f":"IF('B) Eingabe (Lehrer)'!BI63=\"\", \"\",'B) Eingabe (Lehrer)'!BI63)","v":""},{"$f":"IF('B) Eingabe (Lehrer)'!BJ63=\"\", \"\",'B) Eingabe (Lehrer)'!BJ63)","v":""},{"$f":"IF('B) Eingabe (Lehrer)'!BK63=\"\", \"\",'B) Eingabe (Lehrer)'!BK63)","v":""}]
["Zusatzitem 21",{"$f":"IF('B) Eingabe (Lehrer)'!C64=\"\", \"\",'B) Eingabe (Lehrer)'!C64)","v":""},{"$f":"IF('B) Eingabe (Lehrer)'!D64=\"\", \"\",'B) Eingabe (Lehrer)'!D64)","v":""},{"$f":"IF('B) Eingabe (Lehrer)'!E64=\"\", \"\",'B) Eingabe (Lehrer)'!E64)","v":""},{"$f":"IF('B) Eingabe (Lehrer)'!F64=\"\", \"\",'B) Eingabe (Lehrer)'!F64)","v":""},{"$f":"IF('B) Eingabe (Lehrer)'!G64=\"\", \"\",'B) Eingabe (Lehrer)'!G64)","v":""},{"$f":"IF('B) Eingabe (Lehrer)'!H64=\"\", \"\",'B) Eingabe (Lehrer)'!H64)","v":""},{"$f":"IF('B) Eingabe (Lehrer)'!I64=\"\", \"\",'B) Eingabe (Lehrer)'!I64)","v":""},{"$f":"IF('B) Eingabe (Lehrer)'!J64=\"\", \"\",'B) Eingabe (Lehrer)'!J64)","v":""},{"$f":"IF('B) Eingabe (Lehrer)'!K64=\"\", \"\",'B) Eingabe (Lehrer)'!K64)","v":""},{"$f":"IF('B) Eingabe (Lehrer)'!L64=\"\", \"\",'B) Eingabe (Lehrer)'!L64)","v":""},{"$f":"IF('B) Eingabe (Lehrer)'!M64=\"\", \"\",'B) Eingabe (Lehrer)'!M64)","v":""},{"$f":"IF('B) Eingabe (Lehrer)'!N64=\"\", \"\",'B) Eingabe (Lehrer)'!N64)","v":""},{"$f":"IF('B) Eingabe (Lehrer)'!O64=\"\", \"\",'B) Eingabe (Lehrer)'!O64)","v":""},{"$f":"IF('B) Eingabe (Lehrer)'!P64=\"\", \"\",'B) Eingabe (Lehrer)'!P64)","v":""},{"$f":"IF('B) Eingabe (Lehrer)'!Q64=\"\", \"\",'B) Eingabe (Lehrer)'!Q64)","v":""},{"$f":"IF('B) Eingabe (Lehrer)'!R64=\"\", \"\",'B) Eingabe (Lehrer)'!R64)","v":""},{"$f":"IF('B) Eingabe (Lehrer)'!S64=\"\", \"\",'B) Eingabe (Lehrer)'!S64)","v":""},{"$f":"IF('B) Eingabe (Lehrer)'!T64=\"\", \"\",'B) Eingabe (Lehrer)'!T64)","v":""},{"$f":"IF('B) Eingabe (Lehrer)'!U64=\"\", \"\",'B) Eingabe (Lehrer)'!U64)","v":""},{"$f":"IF('B) Eingabe (Lehrer)'!V64=\"\", \"\",'B) Eingabe (Lehrer)'!V64)","v":""},{"$f":"IF('B) Eingabe (Lehrer)'!W64=\"\", \"\",'B) Eingabe (Lehrer)'!W64)","v":""},{"$f":"IF('B) Eingabe (Lehrer)'!X64=\"\", \"\",'B) Eingabe (Lehrer)'!X64)","v":""},{"$f":"IF('B) Eingabe (Lehrer)'!Y64=\"\", \"\",'B) Eingabe (Lehrer)'!Y64)","v":""},{"$f":"IF('B) Eingabe (Lehrer)'!Z64=\"\", \"\",'B) Eingabe (Lehrer)'!Z64)","v":""},{"$f":"IF('B) Eingabe (Lehrer)'!AA64=\"\", \"\",'B) Eingabe (Lehrer)'!AA64)","v":""},{"$f":"IF('B) Eingabe (Lehrer)'!AB64=\"\", \"\",'B) Eingabe (Lehrer)'!AB64)","v":""},{"$f":"IF('B) Eingabe (Lehrer)'!AC64=\"\", \"\",'B) Eingabe (Lehrer)'!AC64)","v":""},{"$f":"IF('B) Eingabe (Lehrer)'!AD64=\"\", \"\",'B) Eingabe (Lehrer)'!AD64)","v":""},{"$f":"IF('B) Eingabe (Lehrer)'!AE64=\"\", \"\",'B) Eingabe (Lehrer)'!AE64)","v":""},{"$f":"IF('B) Eingabe (Lehrer)'!AF64=\"\", \"\",'B) Eingabe (Lehrer)'!AF64)","v":""},{"$f":"IF('B) Eingabe (Lehrer)'!AG64=\"\", \"\",'B) Eingabe (Lehrer)'!AG64)","v":""},{"$f":"IF('B) Eingabe (Lehrer)'!AH64=\"\", \"\",'B) Eingabe (Lehrer)'!AH64)","v":""},{"$f":"IF('B) Eingabe (Lehrer)'!AI64=\"\", \"\",'B) Eingabe (Lehrer)'!AI64)","v":""},{"$f":"IF('B) Eingabe (Lehrer)'!AJ64=\"\", \"\",'B) Eingabe (Lehrer)'!AJ64)","v":""},{"$f":"IF('B) Eingabe (Lehrer)'!AK64=\"\", \"\",'B) Eingabe (Lehrer)'!AK64)","v":""},{"$f":"IF('B) Eingabe (Lehrer)'!AL64=\"\", \"\",'B) Eingabe (Lehrer)'!AL64)","v":""},{"$f":"IF('B) Eingabe (Lehrer)'!AM64=\"\", \"\",'B) Eingabe (Lehrer)'!AM64)","v":""},{"$f":"IF('B) Eingabe (Lehrer)'!AN64=\"\", \"\",'B) Eingabe (Lehrer)'!AN64)","v":""},{"$f":"IF('B) Eingabe (Lehrer)'!AO64=\"\", \"\",'B) Eingabe (Lehrer)'!AO64)","v":""},{"$f":"IF('B) Eingabe (Lehrer)'!AP64=\"\", \"\",'B) Eingabe (Lehrer)'!AP64)","v":""},{"$f":"IF('B) Eingabe (Lehrer)'!AQ64=\"\", \"\",'B) Eingabe (Lehrer)'!AQ64)","v":""},{"$f":"IF('B) Eingabe (Lehrer)'!AR64=\"\", \"\",'B) Eingabe (Lehrer)'!AR64)","v":""},{"$f":"IF('B) Eingabe (Lehrer)'!AS64=\"\", \"\",'B) Eingabe (Lehrer)'!AS64)","v":""},{"$f":"IF('B) Eingabe (Lehrer)'!AT64=\"\", \"\",'B) Eingabe (Lehrer)'!AT64)","v":""},{"$f":"IF('B) Eingabe (Lehrer)'!AU64=\"\", \"\",'B) Eingabe (Lehrer)'!AU64)","v":""},{"$f":"IF('B) Eingabe (Lehrer)'!AV64=\"\", \"\",'B) Eingabe (Lehrer)'!AV64)","v":""},{"$f":"IF('B) Eingabe (Lehrer)'!AW64=\"\", \"\",'B) Eingabe (Lehrer)'!AW64)","v":""},{"$f":"IF('B) Eingabe (Lehrer)'!AX64=\"\", \"\",'B) Eingabe (Lehrer)'!AX64)","v":""},{"$f":"IF('B) Eingabe (Lehrer)'!AY64=\"\", \"\",'B) Eingabe (Lehrer)'!AY64)","v":""},{"$f":"IF('B) Eingabe (Lehrer)'!AZ64=\"\", \"\",'B) Eingabe (Lehrer)'!AZ64)","v":""},{"$f":"IF('B) Eingabe (Lehrer)'!BA64=\"\", \"\",'B) Eingabe (Lehrer)'!BA64)","v":""},{"$f":"IF('B) Eingabe (Lehrer)'!BB64=\"\", \"\",'B) Eingabe (Lehrer)'!BB64)","v":""},{"$f":"IF('B) Eingabe (Lehrer)'!BC64=\"\", \"\",'B) Eingabe (Lehrer)'!BC64)","v":""},{"$f":"IF('B) Eingabe (Lehrer)'!BD64=\"\", \"\",'B) Eingabe (Lehrer)'!BD64)","v":""},{"$f":"IF('B) Eingabe (Lehrer)'!BE64=\"\", \"\",'B) Eingabe (Lehrer)'!BE64)","v":""},{"$f":"IF('B) Eingabe (Lehrer)'!BF64=\"\", \"\",'B) Eingabe (Lehrer)'!BF64)","v":""},{"$f":"IF('B) Eingabe (Lehrer)'!BG64=\"\", \"\",'B) Eingabe (Lehrer)'!BG64)","v":""},{"$f":"IF('B) Eingabe (Lehrer)'!BH64=\"\", \"\",'B) Eingabe (Lehrer)'!BH64)","v":""},{"$f":"IF('B) Eingabe (Lehrer)'!BI64=\"\", \"\",'B) Eingabe (Lehrer)'!BI64)","v":""},{"$f":"IF('B) Eingabe (Lehrer)'!BJ64=\"\", \"\",'B) Eingabe (Lehrer)'!BJ64)","v":""},{"$f":"IF('B) Eingabe (Lehrer)'!BK64=\"\", \"\",'B) Eingabe (Lehrer)'!BK64)","v":""}]
["Zusatzitem 22",{"$f":"IF('B) Eingabe (Lehrer)'!C65=\"\", \"\",'B) Eingabe (Lehrer)'!C65)","v":""},{"$f":"IF('B) Eingabe (Lehrer)'!D65=\"\", \"\",'B) Eingabe (Lehrer)'!D65)","v":""},{"$f":"IF('B) Eingabe (Lehrer)'!E65=\"\", \"\",'B) Eingabe (Lehrer)'!E65)","v":""},{"$f":"IF('B) Eingabe (Lehrer)'!F65=\"\", \"\",'B) Eingabe (Lehrer)'!F65)","v":""},{"$f":"IF('B) Eingabe (Lehrer)'!G65=\"\", \"\",'B) Eingabe (Lehrer)'!G65)","v":""},{"$f":"IF('B) Eingabe (Lehrer)'!H65=\"\", \"\",'B) Eingabe (Lehrer)'!H65)","v":""},{"$f":"IF('B) Eingabe (Lehrer)'!I65=\"\", \"\",'B) Eingabe (Lehrer)'!I65)","v":""},{"$f":"IF('B) Eingabe (Lehrer)'!J65=\"\", \"\",'B) Eingabe (Lehrer)'!J65)","v":""},{"$f":"IF('B) Eingabe (Lehrer)'!K65=\"\", \"\",'B) Eingabe (Lehrer)'!K65)","v":""},{"$f":"IF('B) Eingabe (Lehrer)'!L65=\"\", \"\",'B) Eingabe (Lehrer)'!L65)","v":""},{"$f":"IF('B) Eingabe (Lehrer)'!M65=\"\", \"\",'B) Eingabe (Lehrer)'!M65)","v":""},{"$f":"IF('B) Eingabe (Lehrer)'!N65=\"\", \"\",'B) Eingabe (Lehrer)'!N65)","v":""},{"$f":"IF('B) Eingabe (Lehrer)'!O65=\"\", \"\",'B) Eingabe (Lehrer)'!O65)","v":""},{"$f":"IF('B) Eingabe (Lehrer)'!P65=\"\", \"\",'B) Eingabe (Lehrer)'!P65)","v":""},{"$f":"IF('B) Eingabe (Lehrer)'!Q65=\"\", \"\",'B) Eingabe (Lehrer)'!Q65)","v":""},{"$f":"IF('B) Eingabe (Lehrer)'!R65=\"\", \"\",'B) Eingabe (Lehrer)'!R65)","v":""},{"$f":"IF('B) Eingabe (Lehrer)'!S65=\"\", \"\",'B) Eingabe (Lehrer)'!S65)","v":""},{"$f":"IF('B) Eingabe (Lehrer)'!T65=\"\", \"\",'B) Eingabe (Lehrer)'!T65)","v":""},{"$f":"IF('B) Eingabe (Lehrer)'!U65=\"\", \"\",'B) Eingabe (Lehrer)'!U65)","v":""},{"$f":"IF('B) Eingabe (Lehrer)'!V65=\"\", \"\",'B) Eingabe (Lehrer)'!V65)","v":""},{"$f":"IF('B) Eingabe (Lehrer)'!W65=\"\", \"\",'B) Eingabe (Lehrer)'!W65)","v":""},{"$f":"IF('B) Eingabe (Lehrer)'!X65=\"\", \"\",'B) Eingabe (Lehrer)'!X65)","v":""},{"$f":"IF('B) Eingabe (Lehrer)'!Y65=\"\", \"\",'B) Eingabe (Lehrer)'!Y65)","v":""},{"$f":"IF('B) Eingabe (Lehrer)'!Z65=\"\", \"\",'B) Eingabe (Lehrer)'!Z65)","v":""},{"$f":"IF('B) Eingabe (Lehrer)'!AA65=\"\", \"\",'B) Eingabe (Lehrer)'!AA65)","v":""},{"$f":"IF('B) Eingabe (Lehrer)'!AB65=\"\", \"\",'B) Eingabe (Lehrer)'!AB65)","v":""},{"$f":"IF('B) Eingabe (Lehrer)'!AC65=\"\", \"\",'B) Eingabe (Lehrer)'!AC65)","v":""},{"$f":"IF('B) Eingabe (Lehrer)'!AD65=\"\", \"\",'B) Eingabe (Lehrer)'!AD65)","v":""},{"$f":"IF('B) Eingabe (Lehrer)'!AE65=\"\", \"\",'B) Eingabe (Lehrer)'!AE65)","v":""},{"$f":"IF('B) Eingabe (Lehrer)'!AF65=\"\", \"\",'B) Eingabe (Lehrer)'!AF65)","v":""},{"$f":"IF('B) Eingabe (Lehrer)'!AG65=\"\", \"\",'B) Eingabe (Lehrer)'!AG65)","v":""},{"$f":"IF('B) Eingabe (Lehrer)'!AH65=\"\", \"\",'B) Eingabe (Lehrer)'!AH65)","v":""},{"$f":"IF('B) Eingabe (Lehrer)'!AI65=\"\", \"\",'B) Eingabe (Lehrer)'!AI65)","v":""},{"$f":"IF('B) Eingabe (Lehrer)'!AJ65=\"\", \"\",'B) Eingabe (Lehrer)'!AJ65)","v":""},{"$f":"IF('B) Eingabe (Lehrer)'!AK65=\"\", \"\",'B) Eingabe (Lehrer)'!AK65)","v":""},{"$f":"IF('B) Eingabe (Lehrer)'!AL65=\"\", \"\",'B) Eingabe (Lehrer)'!AL65)","v":""},{"$f":"IF('B) Eingabe (Lehrer)'!AM65=\"\", \"\",'B) Eingabe (Lehrer)'!AM65)","v":""},{"$f":"IF('B) Eingabe (Lehrer)'!AN65=\"\", \"\",'B) Eingabe (Lehrer)'!AN65)","v":""},{"$f":"IF('B) Eingabe (Lehrer)'!AO65=\"\", \"\",'B) Eingabe (Lehrer)'!AO65)","v":""},{"$f":"IF('B) Eingabe (Lehrer)'!AP65=\"\", \"\",'B) Eingabe (Lehrer)'!AP65)","v":""},{"$f":"IF('B) Eingabe (Lehrer)'!AQ65=\"\", \"\",'B) Eingabe (Lehrer)'!AQ65)","v":""},{"$f":"IF('B) Eingabe (Lehrer)'!AR65=\"\", \"\",'B) Eingabe (Lehrer)'!AR65)","v":""},{"$f":"IF('B) Eingabe (Lehrer)'!AS65=\"\", \"\",'B) Eingabe (Lehrer)'!AS65)","v":""},{"$f":"IF('B) Eingabe (Lehrer)'!AT65=\"\", \"\",'B) Eingabe (Lehrer)'!AT65)","v":""},{"$f":"IF('B) Eingabe (Lehrer)'!AU65=\"\", \"\",'B) Eingabe (Lehrer)'!AU65)","v":""},{"$f":"IF('B) Eingabe (Lehrer)'!AV65=\"\", \"\",'B) Eingabe (Lehrer)'!AV65)","v":""},{"$f":"IF('B) Eingabe (Lehrer)'!AW65=\"\", \"\",'B) Eingabe (Lehrer)'!AW65)","v":""},{"$f":"IF('B) Eingabe (Lehrer)'!AX65=\"\", \"\",'B) Eingabe (Lehrer)'!AX65)","v":""},{"$f":"IF('B) Eingabe (Lehrer)'!AY65=\"\", \"\",'B) Eingabe (Lehrer)'!AY65)","v":""},{"$f":"IF('B) Eingabe (Lehrer)'!AZ65=\"\", \"\",'B) Eingabe (Lehrer)'!AZ65)","v":""},{"$f":"IF('B) Eingabe (Lehrer)'!BA65=\"\", \"\",'B) Eingabe (Lehrer)'!BA65)","v":""},{"$f":"IF('B) Eingabe (Lehrer)'!BB65=\"\", \"\",'B) Eingabe (Lehrer)'!BB65)","v":""},{"$f":"IF('B) Eingabe (Lehrer)'!BC65=\"\", \"\",'B) Eingabe (Lehrer)'!BC65)","v":""},{"$f":"IF('B) Eingabe (Lehrer)'!BD65=\"\", \"\",'B) Eingabe (Lehrer)'!BD65)","v":""},{"$f":"IF('B) Eingabe (Lehrer)'!BE65=\"\", \"\",'B) Eingabe (Lehrer)'!BE65)","v":""},{"$f":"IF('B) Eingabe (Lehrer)'!BF65=\"\", \"\",'B) Eingabe (Lehrer)'!BF65)","v":""},{"$f":"IF('B) Eingabe (Lehrer)'!BG65=\"\", \"\",'B) Eingabe (Lehrer)'!BG65)","v":""},{"$f":"IF('B) Eingabe (Lehrer)'!BH65=\"\", \"\",'B) Eingabe (Lehrer)'!BH65)","v":""},{"$f":"IF('B) Eingabe (Lehrer)'!BI65=\"\", \"\",'B) Eingabe (Lehrer)'!BI65)","v":""},{"$f":"IF('B) Eingabe (Lehrer)'!BJ65=\"\", \"\",'B) Eingabe (Lehrer)'!BJ65)","v":""},{"$f":"IF('B) Eingabe (Lehrer)'!BK65=\"\", \"\",'B) Eingabe (Lehrer)'!BK65)","v":""}]
["Zusatzitem 23",{"$f":"IF('B) Eingabe (Lehrer)'!C66=\"\", \"\",'B) Eingabe (Lehrer)'!C66)","v":""},{"$f":"IF('B) Eingabe (Lehrer)'!D66=\"\", \"\",'B) Eingabe (Lehrer)'!D66)","v":""},{"$f":"IF('B) Eingabe (Lehrer)'!E66=\"\", \"\",'B) Eingabe (Lehrer)'!E66)","v":""},{"$f":"IF('B) Eingabe (Lehrer)'!F66=\"\", \"\",'B) Eingabe (Lehrer)'!F66)","v":""},{"$f":"IF('B) Eingabe (Lehrer)'!G66=\"\", \"\",'B) Eingabe (Lehrer)'!G66)","v":""},{"$f":"IF('B) Eingabe (Lehrer)'!H66=\"\", \"\",'B) Eingabe (Lehrer)'!H66)","v":""},{"$f":"IF('B) Eingabe (Lehrer)'!I66=\"\", \"\",'B) Eingabe (Lehrer)'!I66)","v":""},{"$f":"IF('B) Eingabe (Lehrer)'!J66=\"\", \"\",'B) Eingabe (Lehrer)'!J66)","v":""},{"$f":"IF('B) Eingabe (Lehrer)'!K66=\"\", \"\",'B) Eingabe (Lehrer)'!K66)","v":""},{"$f":"IF('B) Eingabe (Lehrer)'!L66=\"\", \"\",'B) Eingabe (Lehrer)'!L66)","v":""},{"$f":"IF('B) Eingabe (Lehrer)'!M66=\"\", \"\",'B) Eingabe (Lehrer)'!M66)","v":""},{"$f":"IF('B) Eingabe (Lehrer)'!N66=\"\", \"\",'B) Eingabe (Lehrer)'!N66)","v":""},{"$f":"IF('B) Eingabe (Lehrer)'!O66=\"\", \"\",'B) Eingabe (Lehrer)'!O66)","v":""},{"$f":"IF('B) Eingabe (Lehrer)'!P66=\"\", \"\",'B) Eingabe (Lehrer)'!P66)","v":""},{"$f":"IF('B) Eingabe (Lehrer)'!Q66=\"\", \"\",'B) Eingabe (Lehrer)'!Q66)","v":""},{"$f":"IF('B) Eingabe (Lehrer)'!R66=\"\", \"\",'B) Eingabe (Lehrer)'!R66)","v":""},{"$f":"IF('B) Eingabe (Lehrer)'!S66=\"\", \"\",'B) Eingabe (Lehrer)'!S66)","v":""},{"$f":"IF('B) Eingabe (Lehrer)'!T66=\"\", \"\",'B) Eingabe (Lehrer)'!T66)","v":""},{"$f":"IF('B) Eingabe (Lehrer)'!U66=\"\", \"\",'B) Eingabe (Lehrer)'!U66)","v":""},{"$f":"IF('B) Eingabe (Lehrer)'!V66=\"\", \"\",'B) Eingabe (Lehrer)'!V66)","v":""},{"$f":"IF('B) Eingabe (Lehrer)'!W66=\"\", \"\",'B) Eingabe (Lehrer)'!W66)","v":""},{"$f":"IF('B) Eingabe (Lehrer)'!X66=\"\", \"\",'B) Eingabe (Lehrer)'!X66)","v":""},{"$f":"IF('B) Eingabe (Lehrer)'!Y66=\"\", \"\",'B) Eingabe (Lehrer)'!Y66)","v":""},{"$f":"IF('B) Eingabe (Lehrer)'!Z66=\"\", \"\",'B) Eingabe (Lehrer)'!Z66)","v":""},{"$f":"IF('B) Eingabe (Lehrer)'!AA66=\"\", \"\",'B) Eingabe (Lehrer)'!AA66)","v":""},{"$f":"IF('B) Eingabe (Lehrer)'!AB66=\"\", \"\",'B) Eingabe (Lehrer)'!AB66)","v":""},{"$f":"IF('B) Eingabe (Lehrer)'!AC66=\"\", \"\",'B) Eingabe (Lehrer)'!AC66)","v":""},{"$f":"IF('B) Eingabe (Lehrer)'!AD66=\"\", \"\",'B) Eingabe (Lehrer)'!AD66)","v":""},{"$f":"IF('B) Eingabe (Lehrer)'!AE66=\"\", \"\",'B) Eingabe (Lehrer)'!AE66)","v":""},{"$f":"IF('B) Eingabe (Lehrer)'!AF66=\"\", \"\",'B) Eingabe (Lehrer)'!AF66)","v":""},{"$f":"IF('B) Eingabe (Lehrer)'!AG66=\"\", \"\",'B) Eingabe (Lehrer)'!AG66)","v":""},{"$f":"IF('B) Eingabe (Lehrer)'!AH66=\"\", \"\",'B) Eingabe (Lehrer)'!AH66)","v":""},{"$f":"IF('B) Eingabe (Lehrer)'!AI66=\"\", \"\",'B) Eingabe (Lehrer)'!AI66)","v":""},{"$f":"IF('B) Eingabe (Lehrer)'!AJ66=\"\", \"\",'B) Eingabe (Lehrer)'!AJ66)","v":""},{"$f":"IF('B) Eingabe (Lehrer)'!AK66=\"\", \"\",'B) Eingabe (Lehrer)'!AK66)","v":""},{"$f":"IF('B) Eingabe (Lehrer)'!AL66=\"\", \"\",'B) Eingabe (Lehrer)'!AL66)","v":""},{"$f":"IF('B) Eingabe (Lehrer)'!AM66=\"\", \"\",'B) Eingabe (Lehrer)'!AM66)","v":""},{"$f":"IF('B) Eingabe (Lehrer)'!AN66=\"\", \"\",'B) Eingabe (Lehrer)'!AN66)","v":""},{"$f":"IF('B) Eingabe (Lehrer)'!AO66=\"\", \"\",'B) Eingabe (Lehrer)'!AO66)","v":""},{"$f":"IF('B) Eingabe (Lehrer)'!AP66=\"\", \"\",'B) Eingabe (Lehrer)'!AP66)","v":""},{"$f":"IF('B) Eingabe (Lehrer)'!AQ66=\"\", \"\",'B) Eingabe (Lehrer)'!AQ66)","v":""},{"$f":"IF('B) Eingabe (Lehrer)'!AR66=\"\", \"\",'B) Eingabe (Lehrer)'!AR66)","v":""},{"$f":"IF('B) Eingabe (Lehrer)'!AS66=\"\", \"\",'B) Eingabe (Lehrer)'!AS66)","v":""},{"$f":"IF('B) Eingabe (Lehrer)'!AT66=\"\", \"\",'B) Eingabe (Lehrer)'!AT66)","v":""},{"$f":"IF('B) Eingabe (Lehrer)'!AU66=\"\", \"\",'B) Eingabe (Lehrer)'!AU66)","v":""},{"$f":"IF('B) Eingabe (Lehrer)'!AV66=\"\", \"\",'B) Eingabe (Lehrer)'!AV66)","v":""},{"$f":"IF('B) Eingabe (Lehrer)'!AW66=\"\", \"\",'B) Eingabe (Lehrer)'!AW66)","v":""},{"$f":"IF('B) Eingabe (Lehrer)'!AX66=\"\", \"\",'B) Eingabe (Lehrer)'!AX66)","v":""},{"$f":"IF('B) Eingabe (Lehrer)'!AY66=\"\", \"\",'B) Eingabe (Lehrer)'!AY66)","v":""},{"$f":"IF('B) Eingabe (Lehrer)'!AZ66=\"\", \"\",'B) Eingabe (Lehrer)'!AZ66)","v":""},{"$f":"IF('B) Eingabe (Lehrer)'!BA66=\"\", \"\",'B) Eingabe (Lehrer)'!BA66)","v":""},{"$f":"IF('B) Eingabe (Lehrer)'!BB66=\"\", \"\",'B) Eingabe (Lehrer)'!BB66)","v":""},{"$f":"IF('B) Eingabe (Lehrer)'!BC66=\"\", \"\",'B) Eingabe (Lehrer)'!BC66)","v":""},{"$f":"IF('B) Eingabe (Lehrer)'!BD66=\"\", \"\",'B) Eingabe (Lehrer)'!BD66)","v":""},{"$f":"IF('B) Eingabe (Lehrer)'!BE66=\"\", \"\",'B) Eingabe (Lehrer)'!BE66)","v":""},{"$f":"IF('B) Eingabe (Lehrer)'!BF66=\"\", \"\",'B) Eingabe (Lehrer)'!BF66)","v":""},{"$f":"IF('B) Eingabe (Lehrer)'!BG66=\"\", \"\",'B) Eingabe (Lehrer)'!BG66)","v":""},{"$f":"IF('B) Eingabe (Lehrer)'!BH66=\"\", \"\",'B) Eingabe (Lehrer)'!BH66)","v":""},{"$f":"IF('B) Eingabe (Lehrer)'!BI66=\"\", \"\",'B) Eingabe (Lehrer)'!BI66)","v":""},{"$f":"IF('B) Eingabe (Lehrer)'!BJ66=\"\", \"\",'B) Eingabe (Lehrer)'!BJ66)","v":""},{"$f":"IF('B) Eingabe (Lehrer)'!BK66=\"\", \"\",'B) Eingabe (Lehrer)'!BK66)","v":""}]
["Zusatzitem 24",{"$f":"IF('B) Eingabe (Lehrer)'!C67=\"\", \"\",'B) Eingabe (Lehrer)'!C67)","v":""},{"$f":"IF('B) Eingabe (Lehrer)'!D67=\"\", \"\",'B) Eingabe (Lehrer)'!D67)","v":""},{"$f":"IF('B) Eingabe (Lehrer)'!E67=\"\", \"\",'B) Eingabe (Lehrer)'!E67)","v":""},{"$f":"IF('B) Eingabe (Lehrer)'!F67=\"\", \"\",'B) Eingabe (Lehrer)'!F67)","v":""},{"$f":"IF('B) Eingabe (Lehrer)'!G67=\"\", \"\",'B) Eingabe (Lehrer)'!G67)","v":""},{"$f":"IF('B) Eingabe (Lehrer)'!H67=\"\", \"\",'B) Eingabe (Lehrer)'!H67)","v":""},{"$f":"IF('B) Eingabe (Lehrer)'!I67=\"\", \"\",'B) Eingabe (Lehrer)'!I67)","v":""},{"$f":"IF('B) Eingabe (Lehrer)'!J67=\"\", \"\",'B) Eingabe (Lehrer)'!J67)","v":""},{"$f":"IF('B) Eingabe (Lehrer)'!K67=\"\", \"\",'B) Eingabe (Lehrer)'!K67)","v":""},{"$f":"IF('B) Eingabe (Lehrer)'!L67=\"\", \"\",'B) Eingabe (Lehrer)'!L67)","v":""},{"$f":"IF('B) Eingabe (Lehrer)'!M67=\"\", \"\",'B) Eingabe (Lehrer)'!M67)","v":""},{"$f":"IF('B) Eingabe (Lehrer)'!N67=\"\", \"\",'B) Eingabe (Lehrer)'!N67)","v":""},{"$f":"IF('B) Eingabe (Lehrer)'!O67=\"\", \"\",'B) Eingabe (Lehrer)'!O67)","v":""},{"$f":"IF('B) Eingabe (Lehrer)'!P67=\"\", \"\",'B) Eingabe (Lehrer)'!P67)","v":""},{"$f":"IF('B) Eingabe (Lehrer)'!Q67=\"\", \"\",'B) Eingabe (Lehrer)'!Q67)","v":""},{"$f":"IF('B) Eingabe (Lehrer)'!R67=\"\", \"\",'B) Eingabe (Lehrer)'!R67)","v":""},{"$f":"IF('B) Eingabe (Lehrer)'!S67=\"\", \"\",'B) Eingabe (Lehrer)'!S67)","v":""},{"$f":"IF('B) Eingabe (Lehrer)'!T67=\"\", \"\",'B) Eingabe (Lehrer)'!T67)","v":""},{"$f":"IF('B) Eingabe (Lehrer)'!U67=\"\", \"\",'B) Eingabe (Lehrer)'!U67)","v":""},{"$f":"IF('B) Eingabe (Lehrer)'!V67=\"\", \"\",'B) Eingabe (Lehrer)'!V67)","v":""},{"$f":"IF('B) Eingabe (Lehrer)'!W67=\"\", \"\",'B) Eingabe (Lehrer)'!W67)","v":""},{"$f":"IF('B) Eingabe (Lehrer)'!X67=\"\", \"\",'B) Eingabe (Lehrer)'!X67)","v":""},{"$f":"IF('B) Eingabe (Lehrer)'!Y67=\"\", \"\",'B) Eingabe (Lehrer)'!Y67)","v":""},{"$f":"IF('B) Eingabe (Lehrer)'!Z67=\"\", \"\",'B) Eingabe (Lehrer)'!Z67)","v":""},{"$f":"IF('B) Eingabe (Lehrer)'!AA67=\"\", \"\",'B) Eingabe (Lehrer)'!AA67)","v":""},{"$f":"IF('B) Eingabe (Lehrer)'!AB67=\"\", \"\",'B) Eingabe (Lehrer)'!AB67)","v":""},{"$f":"IF('B) Eingabe (Lehrer)'!AC67=\"\", \"\",'B) Eingabe (Lehrer)'!AC67)","v":""},{"$f":"IF('B) Eingabe (Lehrer)'!AD67=\"\", \"\",'B) Eingabe (Lehrer)'!AD67)","v":""},{"$f":"IF('B) Eingabe (Lehrer)'!AE67=\"\", \"\",'B) Eingabe (Lehrer)'!AE67)","v":""},{"$f":"IF('B) Eingabe (Lehrer)'!AF67=\"\", \"\",'B) Eingabe (Lehrer)'!AF67)","v":""},{"$f":"IF('B) Eingabe (Lehrer)'!AG67=\"\", \"\",'B) Eingabe (Lehrer)'!AG67)","v":""},{"$f":"IF('B) Eingabe (Lehrer)'!AH67=\"\", \"\",'B) Eingabe (Lehrer)'!AH67)","v":""},{"$f":"IF('B) Eingabe (Lehrer)'!AI67=\"\", \"\",'B) Eingabe (Lehrer)'!AI67)","v":""},{"$f":"IF('B) Eingabe (Lehrer)'!AJ67=\"\", \"\",'B) Eingabe (Lehrer)'!AJ67)","v":""},{"$f":"IF('B) Eingabe (Lehrer)'!AK67=\"\", \"\",'B) Eingabe (Lehrer)'!AK67)","v":""},{"$f":"IF('B) Eingabe (Lehrer)'!AL67=\"\", \"\",'B) Eingabe (Lehrer)'!AL67)","v":""},{"$f":"IF('B) Eingabe (Lehrer)'!AM67=\"\", \"\",'B) Eingabe (Lehrer)'!AM67)","v":""},{"$f":"IF('B) Eingabe (Lehrer)'!AN67=\"\", \"\",'B) Eingabe (Lehrer)'!AN67)","v":""},{"$f":"IF('B) Eingabe (Lehrer)'!AO67=\"\", \"\",'B) Eingabe (Lehrer)'!AO67)","v":""},{"$f":"IF('B) Eingabe (Lehrer)'!AP67=\"\", \"\",'B) Eingabe (Lehrer)'!AP67)","v":""},{"$f":"IF('B) Eingabe (Lehrer)'!AQ67=\"\", \"\",'B) Eingabe (Lehrer)'!AQ67)","v":""},{"$f":"IF('B) Eingabe (Lehrer)'!AR67=\"\", \"\",'B) Eingabe (Lehrer)'!AR67)","v":""},{"$f":"IF('B) Eingabe (Lehrer)'!AS67=\"\", \"\",'B) Eingabe (Lehrer)'!AS67)","v":""},{"$f":"IF('B) Eingabe (Lehrer)'!AT67=\"\", \"\",'B) Eingabe (Lehrer)'!AT67)","v":""},{"$f":"IF('B) Eingabe (Lehrer)'!AU67=\"\", \"\",'B) Eingabe (Lehrer)'!AU67)","v":""},{"$f":"IF('B) Eingabe (Lehrer)'!AV67=\"\", \"\",'B) Eingabe (Lehrer)'!AV67)","v":""},{"$f":"IF('B) Eingabe (Lehrer)'!AW67=\"\", \"\",'B) Eingabe (Lehrer)'!AW67)","v":""},{"$f":"IF('B) Eingabe (Lehrer)'!AX67=\"\", \"\",'B) Eingabe (Lehrer)'!AX67)","v":""},{"$f":"IF('B) Eingabe (Lehrer)'!AY67=\"\", \"\",'B) Eingabe (Lehrer)'!AY67)","v":""},{"$f":"IF('B) Eingabe (Lehrer)'!AZ67=\"\", \"\",'B) Eingabe (Lehrer)'!AZ67)","v":""},{"$f":"IF('B) Eingabe (Lehrer)'!BA67=\"\", \"\",'B) Eingabe (Lehrer)'!BA67)","v":""},{"$f":"IF('B) Eingabe (Lehrer)'!BB67=\"\", \"\",'B) Eingabe (Lehrer)'!BB67)","v":""},{"$f":"IF('B) Eingabe (Lehrer)'!BC67=\"\", \"\",'B) Eingabe (Lehrer)'!BC67)","v":""},{"$f":"IF('B) Eingabe (Lehrer)'!BD67=\"\", \"\",'B) Eingabe (Lehrer)'!BD67)","v":""},{"$f":"IF('B) Eingabe (Lehrer)'!BE67=\"\", \"\",'B) Eingabe (Lehrer)'!BE67)","v":""},{"$f":"IF('B) Eingabe (Lehrer)'!BF67=\"\", \"\",'B) Eingabe (Lehrer)'!BF67)","v":""},{"$f":"IF('B) Eingabe (Lehrer)'!BG67=\"\", \"\",'B) Eingabe (Lehrer)'!BG67)","v":""},{"$f":"IF('B) Eingabe (Lehrer)'!BH67=\"\", \"\",'B) Eingabe (Lehrer)'!BH67)","v":""},{"$f":"IF('B) Eingabe (Lehrer)'!BI67=\"\", \"\",'B) Eingabe (Lehrer)'!BI67)","v":""},{"$f":"IF('B) Eingabe (Lehrer)'!BJ67=\"\", \"\",'B) Eingabe (Lehrer)'!BJ67)","v":""},{"$f":"IF('B) Eingabe (Lehrer)'!BK67=\"\", \"\",'B) Eingabe (Lehrer)'!BK67)","v":""}]
["Zusatzitem 25",{"$f":"IF('B) Eingabe (Lehrer)'!C68=\"\", \"\",'B) Eingabe (Lehrer)'!C68)","v":""},{"$f":"IF('B) Eingabe (Lehrer)'!D68=\"\", \"\",'B) Eingabe (Lehrer)'!D68)","v":""},{"$f":"IF('B) Eingabe (Lehrer)'!E68=\"\", \"\",'B) Eingabe (Lehrer)'!E68)","v":""},{"$f":"IF('B) Eingabe (Lehrer)'!F68=\"\", \"\",'B) Eingabe (Lehrer)'!F68)","v":""},{"$f":"IF('B) Eingabe (Lehrer)'!G68=\"\", \"\",'B) Eingabe (Lehrer)'!G68)","v":""},{"$f":"IF('B) Eingabe (Lehrer)'!H68=\"\", \"\",'B) Eingabe (Lehrer)'!H68)","v":""},{"$f":"IF('B) Eingabe (Lehrer)'!I68=\"\", \"\",'B) Eingabe (Lehrer)'!I68)","v":""},{"$f":"IF('B) Eingabe (Lehrer)'!J68=\"\", \"\",'B) Eingabe (Lehrer)'!J68)","v":""},{"$f":"IF('B) Eingabe (Lehrer)'!K68=\"\", \"\",'B) Eingabe (Lehrer)'!K68)","v":""},{"$f":"IF('B) Eingabe (Lehrer)'!L68=\"\", \"\",'B) Eingabe (Lehrer)'!L68)","v":""},{"$f":"IF('B) Eingabe (Lehrer)'!M68=\"\", \"\",'B) Eingabe (Lehrer)'!M68)","v":""},{"$f":"IF('B) Eingabe (Lehrer)'!N68=\"\", \"\",'B) Eingabe (Lehrer)'!N68)","v":""},{"$f":"IF('B) Eingabe (Lehrer)'!O68=\"\", \"\",'B) Eingabe (Lehrer)'!O68)","v":""},{"$f":"IF('B) Eingabe (Lehrer)'!P68=\"\", \"\",'B) Eingabe (Lehrer)'!P68)","v":""},{"$f":"IF('B) Eingabe (Lehrer)'!Q68=\"\", \"\",'B) Eingabe (Lehrer)'!Q68)","v":""},{"$f":"IF('B) Eingabe (Lehrer)'!R68=\"\", \"\",'B) Eingabe (Lehrer)'!R68)","v":""},{"$f":"IF('B) Eingabe (Lehrer)'!S68=\"\", \"\",'B) Eingabe (Lehrer)'!S68)","v":""},{"$f":"IF('B) Eingabe (Lehrer)'!T68=\"\", \"\",'B) Eingabe (Lehrer)'!T68)","v":""},{"$f":"IF('B) Eingabe (Lehrer)'!U68=\"\", \"\",'B) Eingabe (Lehrer)'!U68)","v":""},{"$f":"IF('B) Eingabe (Lehrer)'!V68=\"\", \"\",'B) Eingabe (Lehrer)'!V68)","v":""},{"$f":"IF('B) Eingabe (Lehrer)'!W68=\"\", \"\",'B) Eingabe (Lehrer)'!W68)","v":""},{"$f":"IF('B) Eingabe (Lehrer)'!X68=\"\", \"\",'B) Eingabe (Lehrer)'!X68)","v":""},{"$f":"IF('B) Eingabe (Lehrer)'!Y68=\"\", \"\",'B) Eingabe (Lehrer)'!Y68)","v":""},{"$f":"IF('B) Eingabe (Lehrer)'!Z68=\"\", \"\",'B) Eingabe (Lehrer)'!Z68)","v":""},{"$f":"IF('B) Eingabe (Lehrer)'!AA68=\"\", \"\",'B) Eingabe (Lehrer)'!AA68)","v":""},{"$f":"IF('B) Eingabe (Lehrer)'!AB68=\"\", \"\",'B) Eingabe (Lehrer)'!AB68)","v":""},{"$f":"IF('B) Eingabe (Lehrer)'!AC68=\"\", \"\",'B) Eingabe (Lehrer)'!AC68)","v":""},{"$f":"IF('B) Eingabe (Lehrer)'!AD68=\"\", \"\",'B) Eingabe (Lehrer)'!AD68)","v":""},{"$f":"IF('B) Eingabe (Lehrer)'!AE68=\"\", \"\",'B) Eingabe (Lehrer)'!AE68)","v":""},{"$f":"IF('B) Eingabe (Lehrer)'!AF68=\"\", \"\",'B) Eingabe (Lehrer)'!AF68)","v":""},{"$f":"IF('B) Eingabe (Lehrer)'!AG68=\"\", \"\",'B) Eingabe (Lehrer)'!AG68)","v":""},{"$f":"IF('B) Eingabe (Lehrer)'!AH68=\"\", \"\",'B) Eingabe (Lehrer)'!AH68)","v":""},{"$f":"IF('B) Eingabe (Lehrer)'!AI68=\"\", \"\",'B) Eingabe (Lehrer)'!AI68)","v":""},{"$f":"IF('B) Eingabe (Lehrer)'!AJ68=\"\", \"\",'B) Eingabe (Lehrer)'!AJ68)","v":""},{"$f":"IF('B) Eingabe (Lehrer)'!AK68=\"\", \"\",'B) Eingabe (Lehrer)'!AK68)","v":""},{"$f":"IF('B) Eingabe (Lehrer)'!AL68=\"\", \"\",'B) Eingabe (Lehrer)'!AL68)","v":""},{"$f":"IF('B) Eingabe (Lehrer)'!AM68=\"\", \"\",'B) Eingabe (Lehrer)'!AM68)","v":""},{"$f":"IF('B) Eingabe (Lehrer)'!AN68=\"\", \"\",'B) Eingabe (Lehrer)'!AN68)","v":""},{"$f":"IF('B) Eingabe (Lehrer)'!AO68=\"\", \"\",'B) Eingabe (Lehrer)'!AO68)","v":""},{"$f":"IF('B) Eingabe (Lehrer)'!AP68=\"\", \"\",'B) Eingabe (Lehrer)'!AP68)","v":""},{"$f":"IF('B) Eingabe (Lehrer)'!AQ68=\"\", \"\",'B) Eingabe (Lehrer)'!AQ68)","v":""},{"$f":"IF('B) Eingabe (Lehrer)'!AR68=\"\", \"\",'B) Eingabe (Lehrer)'!AR68)","v":""},{"$f":"IF('B) Eingabe (Lehrer)'!AS68=\"\", \"\",'B) Eingabe (Lehrer)'!AS68)","v":""},{"$f":"IF('B) Eingabe (Lehrer)'!AT68=\"\", \"\",'B) Eingabe (Lehrer)'!AT68)","v":""},{"$f":"IF('B) Eingabe (Lehrer)'!AU68=\"\", \"\",'B) Eingabe (Lehrer)'!AU68)","v":""},{"$f":"IF('B) Eingabe (Lehrer)'!AV68=\"\", \"\",'B) Eingabe (Lehrer)'!AV68)","v":""},{"$f":"IF('B) Eingabe (Lehrer)'!AW68=\"\", \"\",'B) Eingabe (Lehrer)'!AW68)","v":""},{"$f":"IF('B) Eingabe (Lehrer)'!AX68=\"\", \"\",'B) Eingabe (Lehrer)'!AX68)","v":""},{"$f":"IF('B) Eingabe (Lehrer)'!AY68=\"\", \"\",'B) Eingabe (Lehrer)'!AY68)","v":""},{"$f":"IF('B) Eingabe (Lehrer)'!AZ68=\"\", \"\",'B) Eingabe (Lehrer)'!AZ68)","v":""},{"$f":"IF('B) Eingabe (Lehrer)'!BA68=\"\", \"\",'B) Eingabe (Lehrer)'!BA68)","v":""},{"$f":"IF('B) Eingabe (Lehrer)'!BB68=\"\", \"\",'B) Eingabe (Lehrer)'!BB68)","v":""},{"$f":"IF('B) Eingabe (Lehrer)'!BC68=\"\", \"\",'B) Eingabe (Lehrer)'!BC68)","v":""},{"$f":"IF('B) Eingabe (Lehrer)'!BD68=\"\", \"\",'B) Eingabe (Lehrer)'!BD68)","v":""},{"$f":"IF('B) Eingabe (Lehrer)'!BE68=\"\", \"\",'B) Eingabe (Lehrer)'!BE68)","v":""},{"$f":"IF('B) Eingabe (Lehrer)'!BF68=\"\", \"\",'B) Eingabe (Lehrer)'!BF68)","v":""},{"$f":"IF('B) Eingabe (Lehrer)'!BG68=\"\", \"\",'B) Eingabe (Lehrer)'!BG68)","v":""},{"$f":"IF('B) Eingabe (Lehrer)'!BH68=\"\", \"\",'B) Eingabe (Lehrer)'!BH68)","v":""},{"$f":"IF('B) Eingabe (Lehrer)'!BI68=\"\", \"\",'B) Eingabe (Lehrer)'!BI68)","v":""},{"$f":"IF('B) Eingabe (Lehrer)'!BJ68=\"\", \"\",'B) Eingabe (Lehrer)'!BJ68)","v":""},{"$f":"IF('B) Eingabe (Lehrer)'!BK68=\"\", \"\",'B) Eingabe (Lehrer)'!BK68)","v":""}]
["Zusatzitem 26",{"$f":"IF('B) Eingabe (Lehrer)'!C69=\"\", \"\",'B) Eingabe (Lehrer)'!C69)","v":""},{"$f":"IF('B) Eingabe (Lehrer)'!D69=\"\", \"\",'B) Eingabe (Lehrer)'!D69)","v":""},{"$f":"IF('B) Eingabe (Lehrer)'!E69=\"\", \"\",'B) Eingabe (Lehrer)'!E69)","v":""},{"$f":"IF('B) Eingabe (Lehrer)'!F69=\"\", \"\",'B) Eingabe (Lehrer)'!F69)","v":""},{"$f":"IF('B) Eingabe (Lehrer)'!G69=\"\", \"\",'B) Eingabe (Lehrer)'!G69)","v":""},{"$f":"IF('B) Eingabe (Lehrer)'!H69=\"\", \"\",'B) Eingabe (Lehrer)'!H69)","v":""},{"$f":"IF('B) Eingabe (Lehrer)'!I69=\"\", \"\",'B) Eingabe (Lehrer)'!I69)","v":""},{"$f":"IF('B) Eingabe (Lehrer)'!J69=\"\", \"\",'B) Eingabe (Lehrer)'!J69)","v":""},{"$f":"IF('B) Eingabe (Lehrer)'!K69=\"\", \"\",'B) Eingabe (Lehrer)'!K69)","v":""},{"$f":"IF('B) Eingabe (Lehrer)'!L69=\"\", \"\",'B) Eingabe (Lehrer)'!L69)","v":""},{"$f":"IF('B) Eingabe (Lehrer)'!M69=\"\", \"\",'B) Eingabe (Lehrer)'!M69)","v":""},{"$f":"IF('B) Eingabe (Lehrer)'!N69=\"\", \"\",'B) Eingabe (Lehrer)'!N69)","v":""},{"$f":"IF('B) Eingabe (Lehrer)'!O69=\"\", \"\",'B) Eingabe (Lehrer)'!O69)","v":""},{"$f":"IF('B) Eingabe (Lehrer)'!P69=\"\", \"\",'B) Eingabe (Lehrer)'!P69)","v":""},{"$f":"IF('B) Eingabe (Lehrer)'!Q69=\"\", \"\",'B) Eingabe (Lehrer)'!Q69)","v":""},{"$f":"IF('B) Eingabe (Lehrer)'!R69=\"\", \"\",'B) Eingabe (Lehrer)'!R69)","v":""},{"$f":"IF('B) Eingabe (Lehrer)'!S69=\"\", \"\",'B) Eingabe (Lehrer)'!S69)","v":""},{"$f":"IF('B) Eingabe (Lehrer)'!T69=\"\", \"\",'B) Eingabe (Lehrer)'!T69)","v":""},{"$f":"IF('B) Eingabe (Lehrer)'!U69=\"\", \"\",'B) Eingabe (Lehrer)'!U69)","v":""},{"$f":"IF('B) Eingabe (Lehrer)'!V69=\"\", \"\",'B) Eingabe (Lehrer)'!V69)","v":""},{"$f":"IF('B) Eingabe (Lehrer)'!W69=\"\", \"\",'B) Eingabe (Lehrer)'!W69)","v":""},{"$f":"IF('B) Eingabe (Lehrer)'!X69=\"\", \"\",'B) Eingabe (Lehrer)'!X69)","v":""},{"$f":"IF('B) Eingabe (Lehrer)'!Y69=\"\", \"\",'B) Eingabe (Lehrer)'!Y69)","v":""},{"$f":"IF('B) Eingabe (Lehrer)'!Z69=\"\", \"\",'B) Eingabe (Lehrer)'!Z69)","v":""},{"$f":"IF('B) Eingabe (Lehrer)'!AA69=\"\", \"\",'B) Eingabe (Lehrer)'!AA69)","v":""},{"$f":"IF('B) Eingabe (Lehrer)'!AB69=\"\", \"\",'B) Eingabe (Lehrer)'!AB69)","v":""},{"$f":"IF('B) Eingabe (Lehrer)'!AC69=\"\", \"\",'B) Eingabe (Lehrer)'!AC69)","v":""},{"$f":"IF('B) Eingabe (Lehrer)'!AD69=\"\", \"\",'B) Eingabe (Lehrer)'!AD69)","v":""},{"$f":"IF('B) Eingabe (Lehrer)'!AE69=\"\", \"\",'B) Eingabe (Lehrer)'!AE69)","v":""},{"$f":"IF('B) Eingabe (Lehrer)'!AF69=\"\", \"\",'B) Eingabe (Lehrer)'!AF69)","v":""},{"$f":"IF('B) Eingabe (Lehrer)'!AG69=\"\", \"\",'B) Eingabe (Lehrer)'!AG69)","v":""},{"$f":"IF('B) Eingabe (Lehrer)'!AH69=\"\", \"\",'B) Eingabe (Lehrer)'!AH69)","v":""},{"$f":"IF('B) Eingabe (Lehrer)'!AI69=\"\", \"\",'B) Eingabe (Lehrer)'!AI69)","v":""},{"$f":"IF('B) Eingabe (Lehrer)'!AJ69=\"\", \"\",'B) Eingabe (Lehrer)'!AJ69)","v":""},{"$f":"IF('B) Eingabe (Lehrer)'!AK69=\"\", \"\",'B) Eingabe (Lehrer)'!AK69)","v":""},{"$f":"IF('B) Eingabe (Lehrer)'!AL69=\"\", \"\",'B) Eingabe (Lehrer)'!AL69)","v":""},{"$f":"IF('B) Eingabe (Lehrer)'!AM69=\"\", \"\",'B) Eingabe (Lehrer)'!AM69)","v":""},{"$f":"IF('B) Eingabe (Lehrer)'!AN69=\"\", \"\",'B) Eingabe (Lehrer)'!AN69)","v":""},{"$f":"IF('B) Eingabe (Lehrer)'!AO69=\"\", \"\",'B) Eingabe (Lehrer)'!AO69)","v":""},{"$f":"IF('B) Eingabe (Lehrer)'!AP69=\"\", \"\",'B) Eingabe (Lehrer)'!AP69)","v":""},{"$f":"IF('B) Eingabe (Lehrer)'!AQ69=\"\", \"\",'B) Eingabe (Lehrer)'!AQ69)","v":""},{"$f":"IF('B) Eingabe (Lehrer)'!AR69=\"\", \"\",'B) Eingabe (Lehrer)'!AR69)","v":""},{"$f":"IF('B) Eingabe (Lehrer)'!AS69=\"\", \"\",'B) Eingabe (Lehrer)'!AS69)","v":""},{"$f":"IF('B) Eingabe (Lehrer)'!AT69=\"\", \"\",'B) Eingabe (Lehrer)'!AT69)","v":""},{"$f":"IF('B) Eingabe (Lehrer)'!AU69=\"\", \"\",'B) Eingabe (Lehrer)'!AU69)","v":""},{"$f":"IF('B) Eingabe (Lehrer)'!AV69=\"\", \"\",'B) Eingabe (Lehrer)'!AV69)","v":""},{"$f":"IF('B) Eingabe (Lehrer)'!AW69=\"\", \"\",'B) Eingabe (Lehrer)'!AW69)","v":""},{"$f":"IF('B) Eingabe (Lehrer)'!AX69=\"\", \"\",'B) Eingabe (Lehrer)'!AX69)","v":""},{"$f":"IF('B) Eingabe (Lehrer)'!AY69=\"\", \"\",'B) Eingabe (Lehrer)'!AY69)","v":""},{"$f":"IF('B) Eingabe (Lehrer)'!AZ69=\"\", \"\",'B) Eingabe (Lehrer)'!AZ69)","v":""},{"$f":"IF('B) Eingabe (Lehrer)'!BA69=\"\", \"\",'B) Eingabe (Lehrer)'!BA69)","v":""},{"$f":"IF('B) Eingabe (Lehrer)'!BB69=\"\", \"\",'B) Eingabe (Lehrer)'!BB69)","v":""},{"$f":"IF('B) Eingabe (Lehrer)'!BC69=\"\", \"\",'B) Eingabe (Lehrer)'!BC69)","v":""},{"$f":"IF('B) Eingabe (Lehrer)'!BD69=\"\", \"\",'B) Eingabe (Lehrer)'!BD69)","v":""},{"$f":"IF('B) Eingabe (Lehrer)'!BE69=\"\", \"\",'B) Eingabe (Lehrer)'!BE69)","v":""},{"$f":"IF('B) Eingabe (Lehrer)'!BF69=\"\", \"\",'B) Eingabe (Lehrer)'!BF69)","v":""},{"$f":"IF('B) Eingabe (Lehrer)'!BG69=\"\", \"\",'B) Eingabe (Lehrer)'!BG69)","v":""},{"$f":"IF('B) Eingabe (Lehrer)'!BH69=\"\", \"\",'B) Eingabe (Lehrer)'!BH69)","v":""},{"$f":"IF('B) Eingabe (Lehrer)'!BI69=\"\", \"\",'B) Eingabe (Lehrer)'!BI69)","v":""},{"$f":"IF('B) Eingabe (Lehrer)'!BJ69=\"\", \"\",'B) Eingabe (Lehrer)'!BJ69)","v":""},{"$f":"IF('B) Eingabe (Lehrer)'!BK69=\"\", \"\",'B) Eingabe (Lehrer)'!BK69)","v":""}]
["Zusatzitem 27",{"$f":"IF('B) Eingabe (Lehrer)'!C70=\"\", \"\",'B) Eingabe (Lehrer)'!C70)","v":""},{"$f":"IF('B) Eingabe (Lehrer)'!D70=\"\", \"\",'B) Eingabe (Lehrer)'!D70)","v":""},{"$f":"IF('B) Eingabe (Lehrer)'!E70=\"\", \"\",'B) Eingabe (Lehrer)'!E70)","v":""},{"$f":"IF('B) Eingabe (Lehrer)'!F70=\"\", \"\",'B) Eingabe (Lehrer)'!F70)","v":""},{"$f":"IF('B) Eingabe (Lehrer)'!G70=\"\", \"\",'B) Eingabe (Lehrer)'!G70)","v":""},{"$f":"IF('B) Eingabe (Lehrer)'!H70=\"\", \"\",'B) Eingabe (Lehrer)'!H70)","v":""},{"$f":"IF('B) Eingabe (Lehrer)'!I70=\"\", \"\",'B) Eingabe (Lehrer)'!I70)","v":""},{"$f":"IF('B) Eingabe (Lehrer)'!J70=\"\", \"\",'B) Eingabe (Lehrer)'!J70)","v":""},{"$f":"IF('B) Eingabe (Lehrer)'!K70=\"\", \"\",'B) Eingabe (Lehrer)'!K70)","v":""},{"$f":"IF('B) Eingabe (Lehrer)'!L70=\"\", \"\",'B) Eingabe (Lehrer)'!L70)","v":""},{"$f":"IF('B) Eingabe (Lehrer)'!M70=\"\", \"\",'B) Eingabe (Lehrer)'!M70)","v":""},{"$f":"IF('B) Eingabe (Lehrer)'!N70=\"\", \"\",'B) Eingabe (Lehrer)'!N70)","v":""},{"$f":"IF('B) Eingabe (Lehrer)'!O70=\"\", \"\",'B) Eingabe (Lehrer)'!O70)","v":""},{"$f":"IF('B) Eingabe (Lehrer)'!P70=\"\", \"\",'B) Eingabe (Lehrer)'!P70)","v":""},{"$f":"IF('B) Eingabe (Lehrer)'!Q70=\"\", \"\",'B) Eingabe (Lehrer)'!Q70)","v":""},{"$f":"IF('B) Eingabe (Lehrer)'!R70=\"\", \"\",'B) Eingabe (Lehrer)'!R70)","v":""},{"$f":"IF('B) Eingabe (Lehrer)'!S70=\"\", \"\",'B) Eingabe (Lehrer)'!S70)","v":""},{"$f":"IF('B) Eingabe (Lehrer)'!T70=\"\", \"\",'B) Eingabe (Lehrer)'!T70)","v":""},{"$f":"IF('B) Eingabe (Lehrer)'!U70=\"\", \"\",'B) Eingabe (Lehrer)'!U70)","v":""},{"$f":"IF('B) Eingabe (Lehrer)'!V70=\"\", \"\",'B) Eingabe (Lehrer)'!V70)","v":""},{"$f":"IF('B) Eingabe (Lehrer)'!W70=\"\", \"\",'B) Eingabe (Lehrer)'!W70)","v":""},{"$f":"IF('B) Eingabe (Lehrer)'!X70=\"\", \"\",'B) Eingabe (Lehrer)'!X70)","v":""},{"$f":"IF('B) Eingabe (Lehrer)'!Y70=\"\", \"\",'B) Eingabe (Lehrer)'!Y70)","v":""},{"$f":"IF('B) Eingabe (Lehrer)'!Z70=\"\", \"\",'B) Eingabe (Lehrer)'!Z70)","v":""},{"$f":"IF('B) Eingabe (Lehrer)'!AA70=\"\", \"\",'B) Eingabe (Lehrer)'!AA70)","v":""},{"$f":"IF('B) Eingabe (Lehrer)'!AB70=\"\", \"\",'B) Eingabe (Lehrer)'!AB70)","v":""},{"$f":"IF('B) Eingabe (Lehrer)'!AC70=\"\", \"\",'B) Eingabe (Lehrer)'!AC70)","v":""},{"$f":"IF('B) Eingabe (Lehrer)'!AD70=\"\", \"\",'B) Eingabe (Lehrer)'!AD70)","v":""},{"$f":"IF('B) Eingabe (Lehrer)'!AE70=\"\", \"\",'B) Eingabe (Lehrer)'!AE70)","v":""},{"$f":"IF('B) Eingabe (Lehrer)'!AF70=\"\", \"\",'B) Eingabe (Lehrer)'!AF70)","v":""},{"$f":"IF('B) Eingabe (Lehrer)'!AG70=\"\", \"\",'B) Eingabe (Lehrer)'!AG70)","v":""},{"$f":"IF('B) Eingabe (Lehrer)'!AH70=\"\", \"\",'B) Eingabe (Lehrer)'!AH70)","v":""},{"$f":"IF('B) Eingabe (Lehrer)'!AI70=\"\", \"\",'B) Eingabe (Lehrer)'!AI70)","v":""},{"$f":"IF('B) Eingabe (Lehrer)'!AJ70=\"\", \"\",'B) Eingabe (Lehrer)'!AJ70)","v":""},{"$f":"IF('B) Eingabe (Lehrer)'!AK70=\"\", \"\",'B) Eingabe (Lehrer)'!AK70)","v":""},{"$f":"IF('B) Eingabe (Lehrer)'!AL70=\"\", \"\",'B) Eingabe (Lehrer)'!AL70)","v":""},{"$f":"IF('B) Eingabe (Lehrer)'!AM70=\"\", \"\",'B) Eingabe (Lehrer)'!AM70)","v":""},{"$f":"IF('B) Eingabe (Lehrer)'!AN70=\"\", \"\",'B) Eingabe (Lehrer)'!AN70)","v":""},{"$f":"IF('B) Eingabe (Lehrer)'!AO70=\"\", \"\",'B) Eingabe (Lehrer)'!AO70)","v":""},{"$f":"IF('B) Eingabe (Lehrer)'!AP70=\"\", \"\",'B) Eingabe (Lehrer)'!AP70)","v":""},{"$f":"IF('B) Eingabe (Lehrer)'!AQ70=\"\", \"\",'B) Eingabe (Lehrer)'!AQ70)","v":""},{"$f":"IF('B) Eingabe (Lehrer)'!AR70=\"\", \"\",'B) Eingabe (Lehrer)'!AR70)","v":""},{"$f":"IF('B) Eingabe (Lehrer)'!AS70=\"\", \"\",'B) Eingabe (Lehrer)'!AS70)","v":""},{"$f":"IF('B) Eingabe (Lehrer)'!AT70=\"\", \"\",'B) Eingabe (Lehrer)'!AT70)","v":""},{"$f":"IF('B) Eingabe (Lehrer)'!AU70=\"\", \"\",'B) Eingabe (Lehrer)'!AU70)","v":""},{"$f":"IF('B) Eingabe (Lehrer)'!AV70=\"\", \"\",'B) Eingabe (Lehrer)'!AV70)","v":""},{"$f":"IF('B) Eingabe (Lehrer)'!AW70=\"\", \"\",'B) Eingabe (Lehrer)'!AW70)","v":""},{"$f":"IF('B) Eingabe (Lehrer)'!AX70=\"\", \"\",'B) Eingabe (Lehrer)'!AX70)","v":""},{"$f":"IF('B) Eingabe (Lehrer)'!AY70=\"\", \"\",'B) Eingabe (Lehrer)'!AY70)","v":""},{"$f":"IF('B) Eingabe (Lehrer)'!AZ70=\"\", \"\",'B) Eingabe (Lehrer)'!AZ70)","v":""},{"$f":"IF('B) Eingabe (Lehrer)'!BA70=\"\", \"\",'B) Eingabe (Lehrer)'!BA70)","v":""},{"$f":"IF('B) Eingabe (Lehrer)'!BB70=\"\", \"\",'B) Eingabe (Lehrer)'!BB70)","v":""},{"$f":"IF('B) Eingabe (Lehrer)'!BC70=\"\", \"\",'B) Eingabe (Lehrer)'!BC70)","v":""},{"$f":"IF('B) Eingabe (Lehrer)'!BD70=\"\", \"\",'B) Eingabe (Lehrer)'!BD70)","v":""},{"$f":"IF('B) Eingabe (Lehrer)'!BE70=\"\", \"\",'B) Eingabe (Lehrer)'!BE70)","v":""},{"$f":"IF('B) Eingabe (Lehrer)'!BF70=\"\", \"\",'B) Eingabe (Lehrer)'!BF70)","v":""},{"$f":"IF('B) Eingabe (Lehrer)'!BG70=\"\", \"\",'B) Eingabe (Lehrer)'!BG70)","v":""},{"$f":"IF('B) Eingabe (Lehrer)'!BH70=\"\", \"\",'B) Eingabe (Lehrer)'!BH70)","v":""},{"$f":"IF('B) Eingabe (Lehrer)'!BI70=\"\", \"\",'B) Eingabe (Lehrer)'!BI70)","v":""},{"$f":"IF('B) Eingabe (Lehrer)'!BJ70=\"\", \"\",'B) Eingabe (Lehrer)'!BJ70)","v":""},{"$f":"IF('B) Eingabe (Lehrer)'!BK70=\"\", \"\",'B) Eingabe (Lehrer)'!BK70)","v":""}]
["Zusatzitem 28",{"$f":"IF('B) Eingabe (Lehrer)'!C71=\"\", \"\",'B) Eingabe (Lehrer)'!C71)","v":""},{"$f":"IF('B) Eingabe (Lehrer)'!D71=\"\", \"\",'B) Eingabe (Lehrer)'!D71)","v":""},{"$f":"IF('B) Eingabe (Lehrer)'!E71=\"\", \"\",'B) Eingabe (Lehrer)'!E71)","v":""},{"$f":"IF('B) Eingabe (Lehrer)'!F71=\"\", \"\",'B) Eingabe (Lehrer)'!F71)","v":""},{"$f":"IF('B) Eingabe (Lehrer)'!G71=\"\", \"\",'B) Eingabe (Lehrer)'!G71)","v":""},{"$f":"IF('B) Eingabe (Lehrer)'!H71=\"\", \"\",'B) Eingabe (Lehrer)'!H71)","v":""},{"$f":"IF('B) Eingabe (Lehrer)'!I71=\"\", \"\",'B) Eingabe (Lehrer)'!I71)","v":""},{"$f":"IF('B) Eingabe (Lehrer)'!J71=\"\", \"\",'B) Eingabe (Lehrer)'!J71)","v":""},{"$f":"IF('B) Eingabe (Lehrer)'!K71=\"\", \"\",'B) Eingabe (Lehrer)'!K71)","v":""},{"$f":"IF('B) Eingabe (Lehrer)'!L71=\"\", \"\",'B) Eingabe (Lehrer)'!L71)","v":""},{"$f":"IF('B) Eingabe (Lehrer)'!M71=\"\", \"\",'B) Eingabe (Lehrer)'!M71)","v":""},{"$f":"IF('B) Eingabe (Lehrer)'!N71=\"\", \"\",'B) Eingabe (Lehrer)'!N71)","v":""},{"$f":"IF('B) Eingabe (Lehrer)'!O71=\"\", \"\",'B) Eingabe (Lehrer)'!O71)","v":""},{"$f":"IF('B) Eingabe (Lehrer)'!P71=\"\", \"\",'B) Eingabe (Lehrer)'!P71)","v":""},{"$f":"IF('B) Eingabe (Lehrer)'!Q71=\"\", \"\",'B) Eingabe (Lehrer)'!Q71)","v":""},{"$f":"IF('B) Eingabe (Lehrer)'!R71=\"\", \"\",'B) Eingabe (Lehrer)'!R71)","v":""},{"$f":"IF('B) Eingabe (Lehrer)'!S71=\"\", \"\",'B) Eingabe (Lehrer)'!S71)","v":""},{"$f":"IF('B) Eingabe (Lehrer)'!T71=\"\", \"\",'B) Eingabe (Lehrer)'!T71)","v":""},{"$f":"IF('B) Eingabe (Lehrer)'!U71=\"\", \"\",'B) Eingabe (Lehrer)'!U71)","v":""},{"$f":"IF('B) Eingabe (Lehrer)'!V71=\"\", \"\",'B) Eingabe (Lehrer)'!V71)","v":""},{"$f":"IF('B) Eingabe (Lehrer)'!W71=\"\", \"\",'B) Eingabe (Lehrer)'!W71)","v":""},{"$f":"IF('B) Eingabe (Lehrer)'!X71=\"\", \"\",'B) Eingabe (Lehrer)'!X71)","v":""},{"$f":"IF('B) Eingabe (Lehrer)'!Y71=\"\", \"\",'B) Eingabe (Lehrer)'!Y71)","v":""},{"$f":"IF('B) Eingabe (Lehrer)'!Z71=\"\", \"\",'B) Eingabe (Lehrer)'!Z71)","v":""},{"$f":"IF('B) Eingabe (Lehrer)'!AA71=\"\", \"\",'B) Eingabe (Lehrer)'!AA71)","v":""},{"$f":"IF('B) Eingabe (Lehrer)'!AB71=\"\", \"\",'B) Eingabe (Lehrer)'!AB71)","v":""},{"$f":"IF('B) Eingabe (Lehrer)'!AC71=\"\", \"\",'B) Eingabe (Lehrer)'!AC71)","v":""},{"$f":"IF('B) Eingabe (Lehrer)'!AD71=\"\", \"\",'B) Eingabe (Lehrer)'!AD71)","v":""},{"$f":"IF('B) Eingabe (Lehrer)'!AE71=\"\", \"\",'B) Eingabe (Lehrer)'!AE71)","v":""},{"$f":"IF('B) Eingabe (Lehrer)'!AF71=\"\", \"\",'B) Eingabe (Lehrer)'!AF71)","v":""},{"$f":"IF('B) Eingabe (Lehrer)'!AG71=\"\", \"\",'B) Eingabe (Lehrer)'!AG71)","v":""},{"$f":"IF('B) Eingabe (Lehrer)'!AH71=\"\", \"\",'B) Eingabe (Lehrer)'!AH71)","v":""},{"$f":"IF('B) Eingabe (Lehrer)'!AI71=\"\", \"\",'B) Eingabe (Lehrer)'!AI71)","v":""},{"$f":"IF('B) Eingabe (Lehrer)'!AJ71=\"\", \"\",'B) Eingabe (Lehrer)'!AJ71)","v":""},{"$f":"IF('B) Eingabe (Lehrer)'!AK71=\"\", \"\",'B) Eingabe (Lehrer)'!AK71)","v":""},{"$f":"IF('B) Eingabe (Lehrer)'!AL71=\"\", \"\",'B) Eingabe (Lehrer)'!AL71)","v":""},{"$f":"IF('B) Eingabe (Lehrer)'!AM71=\"\", \"\",'B) Eingabe (Lehrer)'!AM71)","v":""},{"$f":"IF('B) Eingabe (Lehrer)'!AN71=\"\", \"\",'B) Eingabe (Lehrer)'!AN71)","v":""},{"$f":"IF('B) Eingabe (Lehrer)'!AO71=\"\", \"\",'B) Eingabe (Lehrer)'!AO71)","v":""},{"$f":"IF('B) Eingabe (Lehrer)'!AP71=\"\", \"\",'B) Eingabe (Lehrer)'!AP71)","v":""},{"$f":"IF('B) Eingabe (Lehrer)'!AQ71=\"\", \"\",'B) Eingabe (Lehrer)'!AQ71)","v":""},{"$f":"IF('B) Eingabe (Lehrer)'!AR71=\"\", \"\",'B) Eingabe (Lehrer)'!AR71)","v":""},{"$f":"IF('B) Eingabe (Lehrer)'!AS71=\"\", \"\",'B) Eingabe (Lehrer)'!AS71)","v":""},{"$f":"IF('B) Eingabe (Lehrer)'!AT71=\"\", \"\",'B) Eingabe (Lehrer)'!AT71)","v":""},{"$f":"IF('B) Eingabe (Lehrer)'!AU71=\"\", \"\",'B) Eingabe (Lehrer)'!AU71)","v":""},{"$f":"IF('B) Eingabe (Lehrer)'!AV71=\"\", \"\",'B) Eingabe (Lehrer)'!AV71)","v":""},{"$f":"IF('B) Eingabe (Lehrer)'!AW71=\"\", \"\",'B) Eingabe (Lehrer)'!AW71)","v":""},{"$f":"IF('B) Eingabe (Lehrer)'!AX71=\"\", \"\",'B) Eingabe (Lehrer)'!AX71)","v":""},{"$f":"IF('B) Eingabe (Lehrer)'!AY71=\"\", \"\",'B) Eingabe (Lehrer)'!AY71)","v":""},{"$f":"IF('B) Eingabe (Lehrer)'!AZ71=\"\", \"\",'B) Eingabe (Lehrer)'!AZ71)","v":""},{"$f":"IF('B) Eingabe (Lehrer)'!BA71=\"\", \"\",'B) Eingabe (Lehrer)'!BA71)","v":""},{"$f":"IF('B) Eingabe (Lehrer)'!BB71=\"\", \"\",'B) Eingabe (Lehrer)'!BB71)","v":""},{"$f":"IF('B) Eingabe (Lehrer)'!BC71=\"\", \"\",'B) Eingabe (Lehrer)'!BC71)","v":""},{"$f":"IF('B) Eingabe (Lehrer)'!BD71=\"\", \"\",'B) Eingabe (Lehrer)'!BD71)","v":""},{"$f":"IF('B) Eingabe (Lehrer)'!BE71=\"\", \"\",'B) Eingabe (Lehrer)'!BE71)","v":""},{"$f":"IF('B) Eingabe (Lehrer)'!BF71=\"\", \"\",'B) Eingabe (Lehrer)'!BF71)","v":""},{"$f":"IF('B) Eingabe (Lehrer)'!BG71=\"\", \"\",'B) Eingabe (Lehrer)'!BG71)","v":""},{"$f":"IF('B) Eingabe (Lehrer)'!BH71=\"\", \"\",'B) Eingabe (Lehrer)'!BH71)","v":""},{"$f":"IF('B) Eingabe (Lehrer)'!BI71=\"\", \"\",'B) Eingabe (Lehrer)'!BI71)","v":""},{"$f":"IF('B) Eingabe (Lehrer)'!BJ71=\"\", \"\",'B) Eingabe (Lehrer)'!BJ71)","v":""},{"$f":"IF('B) Eingabe (Lehrer)'!BK71=\"\", \"\",'B) Eingabe (Lehrer)'!BK71)","v":""}]
["Zusatzitem 29",{"$f":"IF('B) Eingabe (Lehrer)'!C72=\"\", \"\",'B) Eingabe (Lehrer)'!C72)","v":""},{"$f":"IF('B) Eingabe (Lehrer)'!D72=\"\", \"\",'B) Eingabe (Lehrer)'!D72)","v":""},{"$f":"IF('B) Eingabe (Lehrer)'!E72=\"\", \"\",'B) Eingabe (Lehrer)'!E72)","v":""},{"$f":"IF('B) Eingabe (Lehrer)'!F72=\"\", \"\",'B) Eingabe (Lehrer)'!F72)","v":""},{"$f":"IF('B) Eingabe (Lehrer)'!G72=\"\", \"\",'B) Eingabe (Lehrer)'!G72)","v":""},{"$f":"IF('B) Eingabe (Lehrer)'!H72=\"\", \"\",'B) Eingabe (Lehrer)'!H72)","v":""},{"$f":"IF('B) Eingabe (Lehrer)'!I72=\"\", \"\",'B) Eingabe (Lehrer)'!I72)","v":""},{"$f":"IF('B) Eingabe (Lehrer)'!J72=\"\", \"\",'B) Eingabe (Lehrer)'!J72)","v":""},{"$f":"IF('B) Eingabe (Lehrer)'!K72=\"\", \"\",'B) Eingabe (Lehrer)'!K72)","v":""},{"$f":"IF('B) Eingabe (Lehrer)'!L72=\"\", \"\",'B) Eingabe (Lehrer)'!L72)","v":""},{"$f":"IF('B) Eingabe (Lehrer)'!M72=\"\", \"\",'B) Eingabe (Lehrer)'!M72)","v":""},{"$f":"IF('B) Eingabe (Lehrer)'!N72=\"\", \"\",'B) Eingabe (Lehrer)'!N72)","v":""},{"$f":"IF('B) Eingabe (Lehrer)'!O72=\"\", \"\",'B) Eingabe (Lehrer)'!O72)","v":""},{"$f":"IF('B) Eingabe (Lehrer)'!P72=\"\", \"\",'B) Eingabe (Lehrer)'!P72)","v":""},{"$f":"IF('B) Eingabe (Lehrer)'!Q72=\"\", \"\",'B) Eingabe (Lehrer)'!Q72)","v":""},{"$f":"IF('B) Eingabe (Lehrer)'!R72=\"\", \"\",'B) Eingabe (Lehrer)'!R72)","v":""},{"$f":"IF('B) Eingabe (Lehrer)'!S72=\"\", \"\",'B) Eingabe (Lehrer)'!S72)","v":""},{"$f":"IF('B) Eingabe (Lehrer)'!T72=\"\", \"\",'B) Eingabe (Lehrer)'!T72)","v":""},{"$f":"IF('B) Eingabe (Lehrer)'!U72=\"\", \"\",'B) Eingabe (Lehrer)'!U72)","v":""},{"$f":"IF('B) Eingabe (Lehrer)'!V72=\"\", \"\",'B) Eingabe (Lehrer)'!V72)","v":""},{"$f":"IF('B) Eingabe (Lehrer)'!W72=\"\", \"\",'B) Eingabe (Lehrer)'!W72)","v":""},{"$f":"IF('B) Eingabe (Lehrer)'!X72=\"\", \"\",'B) Eingabe (Lehrer)'!X72)","v":""},{"$f":"IF('B) Eingabe (Lehrer)'!Y72=\"\", \"\",'B) Eingabe (Lehrer)'!Y72)","v":""},{"$f":"IF('B) Eingabe (Lehrer)'!Z72=\"\", \"\",'B) Eingabe (Lehrer)'!Z72)","v":""},{"$f":"IF('B) Eingabe (Lehrer)'!AA72=\"\", \"\",'B) Eingabe (Lehrer)'!AA72)","v":""},{"$f":"IF('B) Eingabe (Lehrer)'!AB72=\"\", \"\",'B) Eingabe (Lehrer)'!AB72)","v":""},{"$f":"IF('B) Eingabe (Lehrer)'!AC72=\"\", \"\",'B) Eingabe (Lehrer)'!AC72)","v":""},{"$f":"IF('B) Eingabe (Lehrer)'!AD72=\"\", \"\",'B) Eingabe (Lehrer)'!AD72)","v":""},{"$f":"IF('B) Eingabe (Lehrer)'!AE72=\"\", \"\",'B) Eingabe (Lehrer)'!AE72)","v":""},{"$f":"IF('B) Eingabe (Lehrer)'!AF72=\"\", \"\",'B) Eingabe (Lehrer)'!AF72)","v":""},{"$f":"IF('B) Eingabe (Lehrer)'!AG72=\"\", \"\",'B) Eingabe (Lehrer)'!AG72)","v":""},{"$f":"IF('B) Eingabe (Lehrer)'!AH72=\"\", \"\",'B) Eingabe (Lehrer)'!AH72)","v":""},{"$f":"IF('B) Eingabe (Lehrer)'!AI72=\"\", \"\",'B) Eingabe (Lehrer)'!AI72)","v":""},{"$f":"IF('B) Eingabe (Lehrer)'!AJ72=\"\", \"\",'B) Eingabe (Lehrer)'!AJ72)","v":""},{"$f":"IF('B) Eingabe (Lehrer)'!AK72=\"\", \"\",'B) Eingabe (Lehrer)'!AK72)","v":""},{"$f":"IF('B) Eingabe (Lehrer)'!AL72=\"\", \"\",'B) Eingabe (Lehrer)'!AL72)","v":""},{"$f":"IF('B) Eingabe (Lehrer)'!AM72=\"\", \"\",'B) Eingabe (Lehrer)'!AM72)","v":""},{"$f":"IF('B) Eingabe (Lehrer)'!AN72=\"\", \"\",'B) Eingabe (Lehrer)'!AN72)","v":""},{"$f":"IF('B) Eingabe (Lehrer)'!AO72=\"\", \"\",'B) Eingabe (Lehrer)'!AO72)","v":""},{"$f":"IF('B) Eingabe (Lehrer)'!AP72=\"\", \"\",'B) Eingabe (Lehrer)'!AP72)","v":""},{"$f":"IF('B) Eingabe (Lehrer)'!AQ72=\"\", \"\",'B) Eingabe (Lehrer)'!AQ72)","v":""},{"$f":"IF('B) Eingabe (Lehrer)'!AR72=\"\", \"\",'B) Eingabe (Lehrer)'!AR72)","v":""},{"$f":"IF('B) Eingabe (Lehrer)'!AS72=\"\", \"\",'B) Eingabe (Lehrer)'!AS72)","v":""},{"$f":"IF('B) Eingabe (Lehrer)'!AT72=\"\", \"\",'B) Eingabe (Lehrer)'!AT72)","v":""},{"$f":"IF('B) Eingabe (Lehrer)'!AU72=\"\", \"\",'B) Eingabe (Lehrer)'!AU72)","v":""},{"$f":"IF('B) Eingabe (Lehrer)'!AV72=\"\", \"\",'B) Eingabe (Lehrer)'!AV72)","v":""},{"$f":"IF('B) Eingabe (Lehrer)'!AW72=\"\", \"\",'B) Eingabe (Lehrer)'!AW72)","v":""},{"$f":"IF('B) Eingabe (Lehrer)'!AX72=\"\", \"\",'B) Eingabe (Lehrer)'!AX72)","v":""},{"$f":"IF('B) Eingabe (Lehrer)'!AY72=\"\", \"\",'B) Eingabe (Lehrer)'!AY72)","v":""},{"$f":"IF('B) Eingabe (Lehrer)'!AZ72=\"\", \"\",'B) Eingabe (Lehrer)'!AZ72)","v":""},{"$f":"IF('B) Eingabe (Lehrer)'!BA72=\"\", \"\",'B) Eingabe (Lehrer)'!BA72)","v":""},{"$f":"IF('B) Eingabe (Lehrer)'!BB72=\"\", \"\",'B) Eingabe (Lehrer)'!BB72)","v":""},{"$f":"IF('B) Eingabe (Lehrer)'!BC72=\"\", \"\",'B) Eingabe (Lehrer)'!BC72)","v":""},{"$f":"IF('B) Eingabe (Lehrer)'!BD72=\"\", \"\",'B) Eingabe (Lehrer)'!BD72)","v":""},{"$f":"IF('B) Eingabe (Lehrer)'!BE72=\"\", \"\",'B) Eingabe (Lehrer)'!BE72)","v":""},{"$f":"IF('B) Eingabe (Lehrer)'!BF72=\"\", \"\",'B) Eingabe (Lehrer)'!BF72)","v":""},{"$f":"IF('B) Eingabe (Lehrer)'!BG72=\"\", \"\",'B) Eingabe (Lehrer)'!BG72)","v":""},{"$f":"IF('B) Eingabe (Lehrer)'!BH72=\"\", \"\",'B) Eingabe (Lehrer)'!BH72)","v":""},{"$f":"IF('B) Eingabe (Lehrer)'!BI72=\"\", \"\",'B) Eingabe (Lehrer)'!BI72)","v":""},{"$f":"IF('B) Eingabe (Lehrer)'!BJ72=\"\", \"\",'B) Eingabe (Lehrer)'!BJ72)","v":""},{"$f":"IF('B) Eingabe (Lehrer)'!BK72=\"\", \"\",'B) Eingabe (Lehrer)'!BK72)","v":""}]
["Zusatzitem 30",{"$f":"IF('B) Eingabe (Lehrer)'!C73=\"\", \"\",'B) Eingabe (Lehrer)'!C73)","v":""},{"$f":"IF('B) Eingabe (Lehrer)'!D73=\"\", \"\",'B) Eingabe (Lehrer)'!D73)","v":""},{"$f":"IF('B) Eingabe (Lehrer)'!E73=\"\", \"\",'B) Eingabe (Lehrer)'!E73)","v":""},{"$f":"IF('B) Eingabe (Lehrer)'!F73=\"\", \"\",'B) Eingabe (Lehrer)'!F73)","v":""},{"$f":"IF('B) Eingabe (Lehrer)'!G73=\"\", \"\",'B) Eingabe (Lehrer)'!G73)","v":""},{"$f":"IF('B) Eingabe (Lehrer)'!H73=\"\", \"\",'B) Eingabe (Lehrer)'!H73)","v":""},{"$f":"IF('B) Eingabe (Lehrer)'!I73=\"\", \"\",'B) Eingabe (Lehrer)'!I73)","v":""},{"$f":"IF('B) Eingabe (Lehrer)'!J73=\"\", \"\",'B) Eingabe (Lehrer)'!J73)","v":""},{"$f":"IF('B) Eingabe (Lehrer)'!K73=\"\", \"\",'B) Eingabe (Lehrer)'!K73)","v":""},{"$f":"IF('B) Eingabe (Lehrer)'!L73=\"\", \"\",'B) Eingabe (Lehrer)'!L73)","v":""},{"$f":"IF('B) Eingabe (Lehrer)'!M73=\"\", \"\",'B) Eingabe (Lehrer)'!M73)","v":""},{"$f":"IF('B) Eingabe (Lehrer)'!N73=\"\", \"\",'B) Eingabe (Lehrer)'!N73)","v":""},{"$f":"IF('B) Eingabe (Lehrer)'!O73=\"\", \"\",'B) Eingabe (Lehrer)'!O73)","v":""},{"$f":"IF('B) Eingabe (Lehrer)'!P73=\"\", \"\",'B) Eingabe (Lehrer)'!P73)","v":""},{"$f":"IF('B) Eingabe (Lehrer)'!Q73=\"\", \"\",'B) Eingabe (Lehrer)'!Q73)","v":""},{"$f":"IF('B) Eingabe (Lehrer)'!R73=\"\", \"\",'B) Eingabe (Lehrer)'!R73)","v":""},{"$f":"IF('B) Eingabe (Lehrer)'!S73=\"\", \"\",'B) Eingabe (Lehrer)'!S73)","v":""},{"$f":"IF('B) Eingabe (Lehrer)'!T73=\"\", \"\",'B) Eingabe (Lehrer)'!T73)","v":""},{"$f":"IF('B) Eingabe (Lehrer)'!U73=\"\", \"\",'B) Eingabe (Lehrer)'!U73)","v":""},{"$f":"IF('B) Eingabe (Lehrer)'!V73=\"\", \"\",'B) Eingabe (Lehrer)'!V73)","v":""},{"$f":"IF('B) Eingabe (Lehrer)'!W73=\"\", \"\",'B) Eingabe (Lehrer)'!W73)","v":""},{"$f":"IF('B) Eingabe (Lehrer)'!X73=\"\", \"\",'B) Eingabe (Lehrer)'!X73)","v":""},{"$f":"IF('B) Eingabe (Lehrer)'!Y73=\"\", \"\",'B) Eingabe (Lehrer)'!Y73)","v":""},{"$f":"IF('B) Eingabe (Lehrer)'!Z73=\"\", \"\",'B) Eingabe (Lehrer)'!Z73)","v":""},{"$f":"IF('B) Eingabe (Lehrer)'!AA73=\"\", \"\",'B) Eingabe (Lehrer)'!AA73)","v":""},{"$f":"IF('B) Eingabe (Lehrer)'!AB73=\"\", \"\",'B) Eingabe (Lehrer)'!AB73)","v":""},{"$f":"IF('B) Eingabe (Lehrer)'!AC73=\"\", \"\",'B) Eingabe (Lehrer)'!AC73)","v":""},{"$f":"IF('B) Eingabe (Lehrer)'!AD73=\"\", \"\",'B) Eingabe (Lehrer)'!AD73)","v":""},{"$f":"IF('B) Eingabe (Lehrer)'!AE73=\"\", \"\",'B) Eingabe (Lehrer)'!AE73)","v":""},{"$f":"IF('B) Eingabe (Lehrer)'!AF73=\"\", \"\",'B) Eingabe (Lehrer)'!AF73)","v":""},{"$f":"IF('B) Eingabe (Lehrer)'!AG73=\"\", \"\",'B) Eingabe (Lehrer)'!AG73)","v":""},{"$f":"IF('B) Eingabe (Lehrer)'!AH73=\"\", \"\",'B) Eingabe (Lehrer)'!AH73)","v":""},{"$f":"IF('B) Eingabe (Lehrer)'!AI73=\"\", \"\",'B) Eingabe (Lehrer)'!AI73)","v":""},{"$f":"IF('B) Eingabe (Lehrer)'!AJ73=\"\", \"\",'B) Eingabe (Lehrer)'!AJ73)","v":""},{"$f":"IF('B) Eingabe (Lehrer)'!AK73=\"\", \"\",'B) Eingabe (Lehrer)'!AK73)","v":""},{"$f":"IF('B) Eingabe (Lehrer)'!AL73=\"\", \"\",'B) Eingabe (Lehrer)'!AL73)","v":""},{"$f":"IF('B) Eingabe (Lehrer)'!AM73=\"\", \"\",'B) Eingabe (Lehrer)'!AM73)","v":""},{"$f":"IF('B) Eingabe (Lehrer)'!AN73=\"\", \"\",'B) Eingabe (Lehrer)'!AN73)","v":""},{"$f":"IF('B) Eingabe (Lehrer)'!AO73=\"\", \"\",'B) Eingabe (Lehrer)'!AO73)","v":""},{"$f":"IF('B) Eingabe (Lehrer)'!AP73=\"\", \"\",'B) Eingabe (Lehrer)'!AP73)","v":""},{"$f":"IF('B) Eingabe (Lehrer)'!AQ73=\"\", \"\",'B) Eingabe (Lehrer)'!AQ73)","v":""},{"$f":"IF('B) Eingabe (Lehrer)'!AR73=\"\", \"\",'B) Eingabe (Lehrer)'!AR73)","v":""},{"$f":"IF('B) Eingabe (Lehrer)'!AS73=\"\", \"\",'B) Eingabe (Lehrer)'!AS73)","v":""},{"$f":"IF('B) Eingabe (Lehrer)'!AT73=\"\", \"\",'B) Eingabe (Lehrer)'!AT73)","v":""},{"$f":"IF('B) Eingabe (Lehrer)'!AU73=\"\", \"\",'B) Eingabe (Lehrer)'!AU73)","v":""},{"$f":"IF('B) Eingabe (Lehrer)'!AV73=\"\", \"\",'B) Eingabe (Lehrer)'!AV73)","v":""},{"$f":"IF('B) Eingabe (Lehrer)'!AW73=\"\", \"\",'B) Eingabe (Lehrer)'!AW73)","v":""},{"$f":"IF('B) Eingabe (Lehrer)'!AX73=\"\", \"\",'B) Eingabe (Lehrer)'!AX73)","v":""},{"$f":"IF('B) Eingabe (Lehrer)'!AY73=\"\", \"\",'B) Eingabe (Lehrer)'!AY73)","v":""},{"$f":"IF('B) Eingabe (Lehrer)'!AZ73=\"\", \"\",'B) Eingabe (Lehrer)'!AZ73)","v":""},{"$f":"IF('B) Eingabe (Lehrer)'!BA73=\"\", \"\",'B) Eingabe (Lehrer)'!BA73)","v":""},{"$f":"IF('B) Eingabe (Lehrer)'!BB73=\"\", \"\",'B) Eingabe (Lehrer)'!BB73)","v":""},{"$f":"IF('B) Eingabe (Lehrer)'!BC73=\"\", \"\",'B) Eingabe (Lehrer)'!BC73)","v":""},{"$f":"IF('B) Eingabe (Lehrer)'!BD73=\"\", \"\",'B) Eingabe (Lehrer)'!BD73)","v":""},{"$f":"IF('B) Eingabe (Lehrer)'!BE73=\"\", \"\",'B) Eingabe (Lehrer)'!BE73)","v":""},{"$f":"IF('B) Eingabe (Lehrer)'!BF73=\"\", \"\",'B) Eingabe (Lehrer)'!BF73)","v":""},{"$f":"IF('B) Eingabe (Lehrer)'!BG73=\"\", \"\",'B) Eingabe (Lehrer)'!BG73)","v":""},{"$f":"IF('B) Eingabe (Lehrer)'!BH73=\"\", \"\",'B) Eingabe (Lehrer)'!BH73)","v":""},{"$f":"IF('B) Eingabe (Lehrer)'!BI73=\"\", \"\",'B) Eingabe (Lehrer)'!BI73)","v":""},{"$f":"IF('B) Eingabe (Lehrer)'!BJ73=\"\", \"\",'B) Eingabe (Lehrer)'!BJ73)","v":""},{"$f":"IF('B) Eingabe (Lehrer)'!BK73=\"\", \"\",'B) Eingabe (Lehrer)'!BK73)","v":""}]
["Zusatzitem 31",{"$f":"IF('B) Eingabe (Lehrer)'!C74=\"\", \"\",'B) Eingabe (Lehrer)'!C74)","v":""},{"$f":"IF('B) Eingabe (Lehrer)'!D74=\"\", \"\",'B) Eingabe (Lehrer)'!D74)","v":""},{"$f":"IF('B) Eingabe (Lehrer)'!E74=\"\", \"\",'B) Eingabe (Lehrer)'!E74)","v":""},{"$f":"IF('B) Eingabe (Lehrer)'!F74=\"\", \"\",'B) Eingabe (Lehrer)'!F74)","v":""},{"$f":"IF('B) Eingabe (Lehrer)'!G74=\"\", \"\",'B) Eingabe (Lehrer)'!G74)","v":""},{"$f":"IF('B) Eingabe (Lehrer)'!H74=\"\", \"\",'B) Eingabe (Lehrer)'!H74)","v":""},{"$f":"IF('B) Eingabe (Lehrer)'!I74=\"\", \"\",'B) Eingabe (Lehrer)'!I74)","v":""},{"$f":"IF('B) Eingabe (Lehrer)'!J74=\"\", \"\",'B) Eingabe (Lehrer)'!J74)","v":""},{"$f":"IF('B) Eingabe (Lehrer)'!K74=\"\", \"\",'B) Eingabe (Lehrer)'!K74)","v":""},{"$f":"IF('B) Eingabe (Lehrer)'!L74=\"\", \"\",'B) Eingabe (Lehrer)'!L74)","v":""},{"$f":"IF('B) Eingabe (Lehrer)'!M74=\"\", \"\",'B) Eingabe (Lehrer)'!M74)","v":""},{"$f":"IF('B) Eingabe (Lehrer)'!N74=\"\", \"\",'B) Eingabe (Lehrer)'!N74)","v":""},{"$f":"IF('B) Eingabe (Lehrer)'!O74=\"\", \"\",'B) Eingabe (Lehrer)'!O74)","v":""},{"$f":"IF('B) Eingabe (Lehrer)'!P74=\"\", \"\",'B) Eingabe (Lehrer)'!P74)","v":""},{"$f":"IF('B) Eingabe (Lehrer)'!Q74=\"\", \"\",'B) Eingabe (Lehrer)'!Q74)","v":""},{"$f":"IF('B) Eingabe (Lehrer)'!R74=\"\", \"\",'B) Eingabe (Lehrer)'!R74)","v":""},{"$f":"IF('B) Eingabe (Lehrer)'!S74=\"\", \"\",'B) Eingabe (Lehrer)'!S74)","v":""},{"$f":"IF('B) Eingabe (Lehrer)'!T74=\"\", \"\",'B) Eingabe (Lehrer)'!T74)","v":""},{"$f":"IF('B) Eingabe (Lehrer)'!U74=\"\", \"\",'B) Eingabe (Lehrer)'!U74)","v":""},{"$f":"IF('B) Eingabe (Lehrer)'!V74=\"\", \"\",'B) Eingabe (Lehrer)'!V74)","v":""},{"$f":"IF('B) Eingabe (Lehrer)'!W74=\"\", \"\",'B) Eingabe (Lehrer)'!W74)","v":""},{"$f":"IF('B) Eingabe (Lehrer)'!X74=\"\", \"\",'B) Eingabe (Lehrer)'!X74)","v":""},{"$f":"IF('B) Eingabe (Lehrer)'!Y74=\"\", \"\",'B) Eingabe (Lehrer)'!Y74)","v":""},{"$f":"IF('B) Eingabe (Lehrer)'!Z74=\"\", \"\",'B) Eingabe (Lehrer)'!Z74)","v":""},{"$f":"IF('B) Eingabe (Lehrer)'!AA74=\"\", \"\",'B) Eingabe (Lehrer)'!AA74)","v":""},{"$f":"IF('B) Eingabe (Lehrer)'!AB74=\"\", \"\",'B) Eingabe (Lehrer)'!AB74)","v":""},{"$f":"IF('B) Eingabe (Lehrer)'!AC74=\"\", \"\",'B) Eingabe (Lehrer)'!AC74)","v":""},{"$f":"IF('B) Eingabe (Lehrer)'!AD74=\"\", \"\",'B) Eingabe (Lehrer)'!AD74)","v":""},{"$f":"IF('B) Eingabe (Lehrer)'!AE74=\"\", \"\",'B) Eingabe (Lehrer)'!AE74)","v":""},{"$f":"IF('B) Eingabe (Lehrer)'!AF74=\"\", \"\",'B) Eingabe (Lehrer)'!AF74)","v":""},{"$f":"IF('B) Eingabe (Lehrer)'!AG74=\"\", \"\",'B) Eingabe (Lehrer)'!AG74)","v":""},{"$f":"IF('B) Eingabe (Lehrer)'!AH74=\"\", \"\",'B) Eingabe (Lehrer)'!AH74)","v":""},{"$f":"IF('B) Eingabe (Lehrer)'!AI74=\"\", \"\",'B) Eingabe (Lehrer)'!AI74)","v":""},{"$f":"IF('B) Eingabe (Lehrer)'!AJ74=\"\", \"\",'B) Eingabe (Lehrer)'!AJ74)","v":""},{"$f":"IF('B) Eingabe (Lehrer)'!AK74=\"\", \"\",'B) Eingabe (Lehrer)'!AK74)","v":""},{"$f":"IF('B) Eingabe (Lehrer)'!AL74=\"\", \"\",'B) Eingabe (Lehrer)'!AL74)","v":""},{"$f":"IF('B) Eingabe (Lehrer)'!AM74=\"\", \"\",'B) Eingabe (Lehrer)'!AM74)","v":""},{"$f":"IF('B) Eingabe (Lehrer)'!AN74=\"\", \"\",'B) Eingabe (Lehrer)'!AN74)","v":""},{"$f":"IF('B) Eingabe (Lehrer)'!AO74=\"\", \"\",'B) Eingabe (Lehrer)'!AO74)","v":""},{"$f":"IF('B) Eingabe (Lehrer)'!AP74=\"\", \"\",'B) Eingabe (Lehrer)'!AP74)","v":""},{"$f":"IF('B) Eingabe (Lehrer)'!AQ74=\"\", \"\",'B) Eingabe (Lehrer)'!AQ74)","v":""},{"$f":"IF('B) Eingabe (Lehrer)'!AR74=\"\", \"\",'B) Eingabe (Lehrer)'!AR74)","v":""},{"$f":"IF('B) Eingabe (Lehrer)'!AS74=\"\", \"\",'B) Eingabe (Lehrer)'!AS74)","v":""},{"$f":"IF('B) Eingabe (Lehrer)'!AT74=\"\", \"\",'B) Eingabe (Lehrer)'!AT74)","v":""},{"$f":"IF('B) Eingabe (Lehrer)'!AU74=\"\", \"\",'B) Eingabe (Lehrer)'!AU74)","v":""},{"$f":"IF('B) Eingabe (Lehrer)'!AV74=\"\", \"\",'B) Eingabe (Lehrer)'!AV74)","v":""},{"$f":"IF('B) Eingabe (Lehrer)'!AW74=\"\", \"\",'B) Eingabe (Lehrer)'!AW74)","v":""},{"$f":"IF('B) Eingabe (Lehrer)'!AX74=\"\", \"\",'B) Eingabe (Lehrer)'!AX74)","v":""},{"$f":"IF('B) Eingabe (Lehrer)'!AY74=\"\", \"\",'B) Eingabe (Lehrer)'!AY74)","v":""},{"$f":"IF('B) Eingabe (Lehrer)'!AZ74=\"\", \"\",'B) Eingabe (Lehrer)'!AZ74)","v":""},{"$f":"IF('B) Eingabe (Lehrer)'!BA74=\"\", \"\",'B) Eingabe (Lehrer)'!BA74)","v":""},{"$f":"IF('B) Eingabe (Lehrer)'!BB74=\"\", \"\",'B) Eingabe (Lehrer)'!BB74)","v":""},{"$f":"IF('B) Eingabe (Lehrer)'!BC74=\"\", \"\",'B) Eingabe (Lehrer)'!BC74)","v":""},{"$f":"IF('B) Eingabe (Lehrer)'!BD74=\"\", \"\",'B) Eingabe (Lehrer)'!BD74)","v":""},{"$f":"IF('B) Eingabe (Lehrer)'!BE74=\"\", \"\",'B) Eingabe (Lehrer)'!BE74)","v":""},{"$f":"IF('B) Eingabe (Lehrer)'!BF74=\"\", \"\",'B) Eingabe (Lehrer)'!BF74)","v":""},{"$f":"IF('B) Eingabe (Lehrer)'!BG74=\"\", \"\",'B) Eingabe (Lehrer)'!BG74)","v":""},{"$f":"IF('B) Eingabe (Lehrer)'!BH74=\"\", \"\",'B) Eingabe (Lehrer)'!BH74)","v":""},{"$f":"IF('B) Eingabe (Lehrer)'!BI74=\"\", \"\",'B) Eingabe (Lehrer)'!BI74)","v":""},{"$f":"IF('B) Eingabe (Lehrer)'!BJ74=\"\", \"\",'B) Eingabe (Lehrer)'!BJ74)","v":""},{"$f":"IF('B) Eingabe (Lehrer)'!BK74=\"\", \"\",'B) Eingabe (Lehrer)'!BK74)","v":""}]
["Zusatzitem 32",{"$f":"IF('B) Eingabe (Lehrer)'!C75=\"\", \"\",'B) Eingabe (Lehrer)'!C75)","v":""},{"$f":"IF('B) Eingabe (Lehrer)'!D75=\"\", \"\",'B) Eingabe (Lehrer)'!D75)","v":""},{"$f":"IF('B) Eingabe (Lehrer)'!E75=\"\", \"\",'B) Eingabe (Lehrer)'!E75)","v":""},{"$f":"IF('B) Eingabe (Lehrer)'!F75=\"\", \"\",'B) Eingabe (Lehrer)'!F75)","v":""},{"$f":"IF('B) Eingabe (Lehrer)'!G75=\"\", \"\",'B) Eingabe (Lehrer)'!G75)","v":""},{"$f":"IF('B) Eingabe (Lehrer)'!H75=\"\", \"\",'B) Eingabe (Lehrer)'!H75)","v":""},{"$f":"IF('B) Eingabe (Lehrer)'!I75=\"\", \"\",'B) Eingabe (Lehrer)'!I75)","v":""},{"$f":"IF('B) Eingabe (Lehrer)'!J75=\"\", \"\",'B) Eingabe (Lehrer)'!J75)","v":""},{"$f":"IF('B) Eingabe (Lehrer)'!K75=\"\", \"\",'B) Eingabe (Lehrer)'!K75)","v":""},{"$f":"IF('B) Eingabe (Lehrer)'!L75=\"\", \"\",'B) Eingabe (Lehrer)'!L75)","v":""},{"$f":"IF('B) Eingabe (Lehrer)'!M75=\"\", \"\",'B) Eingabe (Lehrer)'!M75)","v":""},{"$f":"IF('B) Eingabe (Lehrer)'!N75=\"\", \"\",'B) Eingabe (Lehrer)'!N75)","v":""},{"$f":"IF('B) Eingabe (Lehrer)'!O75=\"\", \"\",'B) Eingabe (Lehrer)'!O75)","v":""},{"$f":"IF('B) Eingabe (Lehrer)'!P75=\"\", \"\",'B) Eingabe (Lehrer)'!P75)","v":""},{"$f":"IF('B) Eingabe (Lehrer)'!Q75=\"\", \"\",'B) Eingabe (Lehrer)'!Q75)","v":""},{"$f":"IF('B) Eingabe (Lehrer)'!R75=\"\", \"\",'B) Eingabe (Lehrer)'!R75)","v":""},{"$f":"IF('B) Eingabe (Lehrer)'!S75=\"\", \"\",'B) Eingabe (Lehrer)'!S75)","v":""},{"$f":"IF('B) Eingabe (Lehrer)'!T75=\"\", \"\",'B) Eingabe (Lehrer)'!T75)","v":""},{"$f":"IF('B) Eingabe (Lehrer)'!U75=\"\", \"\",'B) Eingabe (Lehrer)'!U75)","v":""},{"$f":"IF('B) Eingabe (Lehrer)'!V75=\"\", \"\",'B) Eingabe (Lehrer)'!V75)","v":""},{"$f":"IF('B) Eingabe (Lehrer)'!W75=\"\", \"\",'B) Eingabe (Lehrer)'!W75)","v":""},{"$f":"IF('B) Eingabe (Lehrer)'!X75=\"\", \"\",'B) Eingabe (Lehrer)'!X75)","v":""},{"$f":"IF('B) Eingabe (Lehrer)'!Y75=\"\", \"\",'B) Eingabe (Lehrer)'!Y75)","v":""},{"$f":"IF('B) Eingabe (Lehrer)'!Z75=\"\", \"\",'B) Eingabe (Lehrer)'!Z75)","v":""},{"$f":"IF('B) Eingabe (Lehrer)'!AA75=\"\", \"\",'B) Eingabe (Lehrer)'!AA75)","v":""},{"$f":"IF('B) Eingabe (Lehrer)'!AB75=\"\", \"\",'B) Eingabe (Lehrer)'!AB75)","v":""},{"$f":"IF('B) Eingabe (Lehrer)'!AC75=\"\", \"\",'B) Eingabe (Lehrer)'!AC75)","v":""},{"$f":"IF('B) Eingabe (Lehrer)'!AD75=\"\", \"\",'B) Eingabe (Lehrer)'!AD75)","v":""},{"$f":"IF('B) Eingabe (Lehrer)'!AE75=\"\", \"\",'B) Eingabe (Lehrer)'!AE75)","v":""},{"$f":"IF('B) Eingabe (Lehrer)'!AF75=\"\", \"\",'B) Eingabe (Lehrer)'!AF75)","v":""},{"$f":"IF('B) Eingabe (Lehrer)'!AG75=\"\", \"\",'B) Eingabe (Lehrer)'!AG75)","v":""},{"$f":"IF('B) Eingabe (Lehrer)'!AH75=\"\", \"\",'B) Eingabe (Lehrer)'!AH75)","v":""},{"$f":"IF('B) Eingabe (Lehrer)'!AI75=\"\", \"\",'B) Eingabe (Lehrer)'!AI75)","v":""},{"$f":"IF('B) Eingabe (Lehrer)'!AJ75=\"\", \"\",'B) Eingabe (Lehrer)'!AJ75)","v":""},{"$f":"IF('B) Eingabe (Lehrer)'!AK75=\"\", \"\",'B) Eingabe (Lehrer)'!AK75)","v":""},{"$f":"IF('B) Eingabe (Lehrer)'!AL75=\"\", \"\",'B) Eingabe (Lehrer)'!AL75)","v":""},{"$f":"IF('B) Eingabe (Lehrer)'!AM75=\"\", \"\",'B) Eingabe (Lehrer)'!AM75)","v":""},{"$f":"IF('B) Eingabe (Lehrer)'!AN75=\"\", \"\",'B) Eingabe (Lehrer)'!AN75)","v":""},{"$f":"IF('B) Eingabe (Lehrer)'!AO75=\"\", \"\",'B) Eingabe (Lehrer)'!AO75)","v":""},{"$f":"IF('B) Eingabe (Lehrer)'!AP75=\"\", \"\",'B) Eingabe (Lehrer)'!AP75)","v":""},{"$f":"IF('B) Eingabe (Lehrer)'!AQ75=\"\", \"\",'B) Eingabe (Lehrer)'!AQ75)","v":""},{"$f":"IF('B) Eingabe (Lehrer)'!AR75=\"\", \"\",'B) Eingabe (Lehrer)'!AR75)","v":""},{"$f":"IF('B) Eingabe (Lehrer)'!AS75=\"\", \"\",'B) Eingabe (Lehrer)'!AS75)","v":""},{"$f":"IF('B) Eingabe (Lehrer)'!AT75=\"\", \"\",'B) Eingabe (Lehrer)'!AT75)","v":""},{"$f":"IF('B) Eingabe (Lehrer)'!AU75=\"\", \"\",'B) Eingabe (Lehrer)'!AU75)","v":""},{"$f":"IF('B) Eingabe (Lehrer)'!AV75=\"\", \"\",'B) Eingabe (Lehrer)'!AV75)","v":""},{"$f":"IF('B) Eingabe (Lehrer)'!AW75=\"\", \"\",'B) Eingabe (Lehrer)'!AW75)","v":""},{"$f":"IF('B) Eingabe (Lehrer)'!AX75=\"\", \"\",'B) Eingabe (Lehrer)'!AX75)","v":""},{"$f":"IF('B) Eingabe (Lehrer)'!AY75=\"\", \"\",'B) Eingabe (Lehrer)'!AY75)","v":""},{"$f":"IF('B) Eingabe (Lehrer)'!AZ75=\"\", \"\",'B) Eingabe (Lehrer)'!AZ75)","v":""},{"$f":"IF('B) Eingabe (Lehrer)'!BA75=\"\", \"\",'B) Eingabe (Lehrer)'!BA75)","v":""},{"$f":"IF('B) Eingabe (Lehrer)'!BB75=\"\", \"\",'B) Eingabe (Lehrer)'!BB75)","v":""},{"$f":"IF('B) Eingabe (Lehrer)'!BC75=\"\", \"\",'B) Eingabe (Lehrer)'!BC75)","v":""},{"$f":"IF('B) Eingabe (Lehrer)'!BD75=\"\", \"\",'B) Eingabe (Lehrer)'!BD75)","v":""},{"$f":"IF('B) Eingabe (Lehrer)'!BE75=\"\", \"\",'B) Eingabe (Lehrer)'!BE75)","v":""},{"$f":"IF('B) Eingabe (Lehrer)'!BF75=\"\", \"\",'B) Eingabe (Lehrer)'!BF75)","v":""},{"$f":"IF('B) Eingabe (Lehrer)'!BG75=\"\", \"\",'B) Eingabe (Lehrer)'!BG75)","v":""},{"$f":"IF('B) Eingabe (Lehrer)'!BH75=\"\", \"\",'B) Eingabe (Lehrer)'!BH75)","v":""},{"$f":"IF('B) Eingabe (Lehrer)'!BI75=\"\", \"\",'B) Eingabe (Lehrer)'!BI75)","v":""},{"$f":"IF('B) Eingabe (Lehrer)'!BJ75=\"\", \"\",'B) Eingabe (Lehrer)'!BJ75)","v":""},{"$f":"IF('B) Eingabe (Lehrer)'!BK75=\"\", \"\",'B) Eingabe (Lehrer)'!BK75)","v":""}]
["Zusatzitem 33",{"$f":"IF('B) Eingabe (Lehrer)'!C76=\"\", \"\",'B) Eingabe (Lehrer)'!C76)","v":""},{"$f":"IF('B) Eingabe (Lehrer)'!D76=\"\", \"\",'B) Eingabe (Lehrer)'!D76)","v":""},{"$f":"IF('B) Eingabe (Lehrer)'!E76=\"\", \"\",'B) Eingabe (Lehrer)'!E76)","v":""},{"$f":"IF('B) Eingabe (Lehrer)'!F76=\"\", \"\",'B) Eingabe (Lehrer)'!F76)","v":""},{"$f":"IF('B) Eingabe (Lehrer)'!G76=\"\", \"\",'B) Eingabe (Lehrer)'!G76)","v":""},{"$f":"IF('B) Eingabe (Lehrer)'!H76=\"\", \"\",'B) Eingabe (Lehrer)'!H76)","v":""},{"$f":"IF('B) Eingabe (Lehrer)'!I76=\"\", \"\",'B) Eingabe (Lehrer)'!I76)","v":""},{"$f":"IF('B) Eingabe (Lehrer)'!J76=\"\", \"\",'B) Eingabe (Lehrer)'!J76)","v":""},{"$f":"IF('B) Eingabe (Lehrer)'!K76=\"\", \"\",'B) Eingabe (Lehrer)'!K76)","v":""},{"$f":"IF('B) Eingabe (Lehrer)'!L76=\"\", \"\",'B) Eingabe (Lehrer)'!L76)","v":""},{"$f":"IF('B) Eingabe (Lehrer)'!M76=\"\", \"\",'B) Eingabe (Lehrer)'!M76)","v":""},{"$f":"IF('B) Eingabe (Lehrer)'!N76=\"\", \"\",'B) Eingabe (Lehrer)'!N76)","v":""},{"$f":"IF('B) Eingabe (Lehrer)'!O76=\"\", \"\",'B) Eingabe (Lehrer)'!O76)","v":""},{"$f":"IF('B) Eingabe (Lehrer)'!P76=\"\", \"\",'B) Eingabe (Lehrer)'!P76)","v":""},{"$f":"IF('B) Eingabe (Lehrer)'!Q76=\"\", \"\",'B) Eingabe (Lehrer)'!Q76)","v":""},{"$f":"IF('B) Eingabe (Lehrer)'!R76=\"\", \"\",'B) Eingabe (Lehrer)'!R76)","v":""},{"$f":"IF('B) Eingabe (Lehrer)'!S76=\"\", \"\",'B) Eingabe (Lehrer)'!S76)","v":""},{"$f":"IF('B) Eingabe (Lehrer)'!T76=\"\", \"\",'B) Eingabe (Lehrer)'!T76)","v":""},{"$f":"IF('B) Eingabe (Lehrer)'!U76=\"\", \"\",'B) Eingabe (Lehrer)'!U76)","v":""},{"$f":"IF('B) Eingabe (Lehrer)'!V76=\"\", \"\",'B) Eingabe (Lehrer)'!V76)","v":""},{"$f":"IF('B) Eingabe (Lehrer)'!W76=\"\", \"\",'B) Eingabe (Lehrer)'!W76)","v":""},{"$f":"IF('B) Eingabe (Lehrer)'!X76=\"\", \"\",'B) Eingabe (Lehrer)'!X76)","v":""},{"$f":"IF('B) Eingabe (Lehrer)'!Y76=\"\", \"\",'B) Eingabe (Lehrer)'!Y76)","v":""},{"$f":"IF('B) Eingabe (Lehrer)'!Z76=\"\", \"\",'B) Eingabe (Lehrer)'!Z76)","v":""},{"$f":"IF('B) Eingabe (Lehrer)'!AA76=\"\", \"\",'B) Eingabe (Lehrer)'!AA76)","v":""},{"$f":"IF('B) Eingabe (Lehrer)'!AB76=\"\", \"\",'B) Eingabe (Lehrer)'!AB76)","v":""},{"$f":"IF('B) Eingabe (Lehrer)'!AC76=\"\", \"\",'B) Eingabe (Lehrer)'!AC76)","v":""},{"$f":"IF('B) Eingabe (Lehrer)'!AD76=\"\", \"\",'B) Eingabe (Lehrer)'!AD76)","v":""},{"$f":"IF('B) Eingabe (Lehrer)'!AE76=\"\", \"\",'B) Eingabe (Lehrer)'!AE76)","v":""},{"$f":"IF('B) Eingabe (Lehrer)'!AF76=\"\", \"\",'B) Eingabe (Lehrer)'!AF76)","v":""},{"$f":"IF('B) Eingabe (Lehrer)'!AG76=\"\", \"\",'B) Eingabe (Lehrer)'!AG76)","v":""},{"$f":"IF('B) Eingabe (Lehrer)'!AH76=\"\", \"\",'B) Eingabe (Lehrer)'!AH76)","v":""},{"$f":"IF('B) Eingabe (Lehrer)'!AI76=\"\", \"\",'B) Eingabe (Lehrer)'!AI76)","v":""},{"$f":"IF('B) Eingabe (Lehrer)'!AJ76=\"\", \"\",'B) Eingabe (Lehrer)'!AJ76)","v":""},{"$f":"IF('B) Eingabe (Lehrer)'!AK76=\"\", \"\",'B) Eingabe (Lehrer)'!AK76)","v":""},{"$f":"IF('B) Eingabe (Lehrer)'!AL76=\"\", \"\",'B) Eingabe (Lehrer)'!AL76)","v":""},{"$f":"IF('B) Eingabe (Lehrer)'!AM76=\"\", \"\",'B) Eingabe (Lehrer)'!AM76)","v":""},{"$f":"IF('B) Eingabe (Lehrer)'!AN76=\"\", \"\",'B) Eingabe (Lehrer)'!AN76)","v":""},{"$f":"IF('B) Eingabe (Lehrer)'!AO76=\"\", \"\",'B) Eingabe (Lehrer)'!AO76)","v":""},{"$f":"IF('B) Eingabe (Lehrer)'!AP76=\"\", \"\",'B) Eingabe (Lehrer)'!AP76)","v":""},{"$f":"IF('B) Eingabe (Lehrer)'!AQ76=\"\", \"\",'B) Eingabe (Lehrer)'!AQ76)","v":""},{"$f":"IF('B) Eingabe (Lehrer)'!AR76=\"\", \"\",'B) Eingabe (Lehrer)'!AR76)","v":""},{"$f":"IF('B) Eingabe (Lehrer)'!AS76=\"\", \"\",'B) Eingabe (Lehrer)'!AS76)","v":""},{"$f":"IF('B) Eingabe (Lehrer)'!AT76=\"\", \"\",'B) Eingabe (Lehrer)'!AT76)","v":""},{"$f":"IF('B) Eingabe (Lehrer)'!AU76=\"\", \"\",'B) Eingabe (Lehrer)'!AU76)","v":""},{"$f":"IF('B) Eingabe (Lehrer)'!AV76=\"\", \"\",'B) Eingabe (Lehrer)'!AV76)","v":""},{"$f":"IF('B) Eingabe (Lehrer)'!AW76=\"\", \"\",'B) Eingabe (Lehrer)'!AW76)","v":""},{"$f":"IF('B) Eingabe (Lehrer)'!AX76=\"\", \"\",'B) Eingabe (Lehrer)'!AX76)","v":""},{"$f":"IF('B) Eingabe (Lehrer)'!AY76=\"\", \"\",'B) Eingabe (Lehrer)'!AY76)","v":""},{"$f":"IF('B) Eingabe (Lehrer)'!AZ76=\"\", \"\",'B) Eingabe (Lehrer)'!AZ76)","v":""},{"$f":"IF('B) Eingabe (Lehrer)'!BA76=\"\", \"\",'B) Eingabe (Lehrer)'!BA76)","v":""},{"$f":"IF('B) Eingabe (Lehrer)'!BB76=\"\", \"\",'B) Eingabe (Lehrer)'!BB76)","v":""},{"$f":"IF('B) Eingabe (Lehrer)'!BC76=\"\", \"\",'B) Eingabe (Lehrer)'!BC76)","v":""},{"$f":"IF('B) Eingabe (Lehrer)'!BD76=\"\", \"\",'B) Eingabe (Lehrer)'!BD76)","v":""},{"$f":"IF('B) Eingabe (Lehrer)'!BE76=\"\", \"\",'B) Eingabe (Lehrer)'!BE76)","v":""},{"$f":"IF('B) Eingabe (Lehrer)'!BF76=\"\", \"\",'B) Eingabe (Lehrer)'!BF76)","v":""},{"$f":"IF('B) Eingabe (Lehrer)'!BG76=\"\", \"\",'B) Eingabe (Lehrer)'!BG76)","v":""},{"$f":"IF('B) Eingabe (Lehrer)'!BH76=\"\", \"\",'B) Eingabe (Lehrer)'!BH76)","v":""},{"$f":"IF('B) Eingabe (Lehrer)'!BI76=\"\", \"\",'B) Eingabe (Lehrer)'!BI76)","v":""},{"$f":"IF('B) Eingabe (Lehrer)'!BJ76=\"\", \"\",'B) Eingabe (Lehrer)'!BJ76)","v":""},{"$f":"IF('B) Eingabe (Lehrer)'!BK76=\"\", \"\",'B) Eingabe (Lehrer)'!BK76)","v":""}]
["Zusatzitem 34",{"$f":"IF('B) Eingabe (Lehrer)'!C77=\"\", \"\",'B) Eingabe (Lehrer)'!C77)","v":""},{"$f":"IF('B) Eingabe (Lehrer)'!D77=\"\", \"\",'B) Eingabe (Lehrer)'!D77)","v":""},{"$f":"IF('B) Eingabe (Lehrer)'!E77=\"\", \"\",'B) Eingabe (Lehrer)'!E77)","v":""},{"$f":"IF('B) Eingabe (Lehrer)'!F77=\"\", \"\",'B) Eingabe (Lehrer)'!F77)","v":""},{"$f":"IF('B) Eingabe (Lehrer)'!G77=\"\", \"\",'B) Eingabe (Lehrer)'!G77)","v":""},{"$f":"IF('B) Eingabe (Lehrer)'!H77=\"\", \"\",'B) Eingabe (Lehrer)'!H77)","v":""},{"$f":"IF('B) Eingabe (Lehrer)'!I77=\"\", \"\",'B) Eingabe (Lehrer)'!I77)","v":""},{"$f":"IF('B) Eingabe (Lehrer)'!J77=\"\", \"\",'B) Eingabe (Lehrer)'!J77)","v":""},{"$f":"IF('B) Eingabe (Lehrer)'!K77=\"\", \"\",'B) Eingabe (Lehrer)'!K77)","v":""},{"$f":"IF('B) Eingabe (Lehrer)'!L77=\"\", \"\",'B) Eingabe (Lehrer)'!L77)","v":""},{"$f":"IF('B) Eingabe (Lehrer)'!M77=\"\", \"\",'B) Eingabe (Lehrer)'!M77)","v":""},{"$f":"IF('B) Eingabe (Lehrer)'!N77=\"\", \"\",'B) Eingabe (Lehrer)'!N77)","v":""},{"$f":"IF('B) Eingabe (Lehrer)'!O77=\"\", \"\",'B) Eingabe (Lehrer)'!O77)","v":""},{"$f":"IF('B) Eingabe (Lehrer)'!P77=\"\", \"\",'B) Eingabe (Lehrer)'!P77)","v":""},{"$f":"IF('B) Eingabe (Lehrer)'!Q77=\"\", \"\",'B) Eingabe (Lehrer)'!Q77)","v":""},{"$f":"IF('B) Eingabe (Lehrer)'!R77=\"\", \"\",'B) Eingabe (Lehrer)'!R77)","v":""},{"$f":"IF('B) Eingabe (Lehrer)'!S77=\"\", \"\",'B) Eingabe (Lehrer)'!S77)","v":""},{"$f":"IF('B) Eingabe (Lehrer)'!T77=\"\", \"\",'B) Eingabe (Lehrer)'!T77)","v":""},{"$f":"IF('B) Eingabe (Lehrer)'!U77=\"\", \"\",'B) Eingabe (Lehrer)'!U77)","v":""},{"$f":"IF('B) Eingabe (Lehrer)'!V77=\"\", \"\",'B) Eingabe (Lehrer)'!V77)","v":""},{"$f":"IF('B) Eingabe (Lehrer)'!W77=\"\", \"\",'B) Eingabe (Lehrer)'!W77)","v":""},{"$f":"IF('B) Eingabe (Lehrer)'!X77=\"\", \"\",'B) Eingabe (Lehrer)'!X77)","v":""},{"$f":"IF('B) Eingabe (Lehrer)'!Y77=\"\", \"\",'B) Eingabe (Lehrer)'!Y77)","v":""},{"$f":"IF('B) Eingabe (Lehrer)'!Z77=\"\", \"\",'B) Eingabe (Lehrer)'!Z77)","v":""},{"$f":"IF('B) Eingabe (Lehrer)'!AA77=\"\", \"\",'B) Eingabe (Lehrer)'!AA77)","v":""},{"$f":"IF('B) Eingabe (Lehrer)'!AB77=\"\", \"\",'B) Eingabe (Lehrer)'!AB77)","v":""},{"$f":"IF('B) Eingabe (Lehrer)'!AC77=\"\", \"\",'B) Eingabe (Lehrer)'!AC77)","v":""},{"$f":"IF('B) Eingabe (Lehrer)'!AD77=\"\", \"\",'B) Eingabe (Lehrer)'!AD77)","v":""},{"$f":"IF('B) Eingabe (Lehrer)'!AE77=\"\", \"\",'B) Eingabe (Lehrer)'!AE77)","v":""},{"$f":"IF('B) Eingabe (Lehrer)'!AF77=\"\", \"\",'B) Eingabe (Lehrer)'!AF77)","v":""},{"$f":"IF('B) Eingabe (Lehrer)'!AG77=\"\", \"\",'B) Eingabe (Lehrer)'!AG77)","v":""},{"$f":"IF('B) Eingabe (Lehrer)'!AH77=\"\", \"\",'B) Eingabe (Lehrer)'!AH77)","v":""},{"$f":"IF('B) Eingabe (Lehrer)'!AI77=\"\", \"\",'B) Eingabe (Lehrer)'!AI77)","v":""},{"$f":"IF('B) Eingabe (Lehrer)'!AJ77=\"\", \"\",'B) Eingabe (Lehrer)'!AJ77)","v":""},{"$f":"IF('B) Eingabe (Lehrer)'!AK77=\"\", \"\",'B) Eingabe (Lehrer)'!AK77)","v":""},{"$f":"IF('B) Eingabe (Lehrer)'!AL77=\"\", \"\",'B) Eingabe (Lehrer)'!AL77)","v":""},{"$f":"IF('B) Eingabe (Lehrer)'!AM77=\"\", \"\",'B) Eingabe (Lehrer)'!AM77)","v":""},{"$f":"IF('B) Eingabe (Lehrer)'!AN77=\"\", \"\",'B) Eingabe (Lehrer)'!AN77)","v":""},{"$f":"IF('B) Eingabe (Lehrer)'!AO77=\"\", \"\",'B) Eingabe (Lehrer)'!AO77)","v":""},{"$f":"IF('B) Eingabe (Lehrer)'!AP77=\"\", \"\",'B) Eingabe (Lehrer)'!AP77)","v":""},{"$f":"IF('B) Eingabe (Lehrer)'!AQ77=\"\", \"\",'B) Eingabe (Lehrer)'!AQ77)","v":""},{"$f":"IF('B) Eingabe (Lehrer)'!AR77=\"\", \"\",'B) Eingabe (Lehrer)'!AR77)","v":""},{"$f":"IF('B) Eingabe (Lehrer)'!AS77=\"\", \"\",'B) Eingabe (Lehrer)'!AS77)","v":""},{"$f":"IF('B) Eingabe (Lehrer)'!AT77=\"\", \"\",'B) Eingabe (Lehrer)'!AT77)","v":""},{"$f":"IF('B) Eingabe (Lehrer)'!AU77=\"\", \"\",'B) Eingabe (Lehrer)'!AU77)","v":""},{"$f":"IF('B) Eingabe (Lehrer)'!AV77=\"\", \"\",'B) Eingabe (Lehrer)'!AV77)","v":""},{"$f":"IF('B) Eingabe (Lehrer)'!AW77=\"\", \"\",'B) Eingabe (Lehrer)'!AW77)","v":""},{"$f":"IF('B) Eingabe (Lehrer)'!AX77=\"\", \"\",'B) Eingabe (Lehrer)'!AX77)","v":""},{"$f":"IF('B) Eingabe (Lehrer)'!AY77=\"\", \"\",'B) Eingabe (Lehrer)'!AY77)","v":""},{"$f":"IF('B) Eingabe (Lehrer)'!AZ77=\"\", \"\",'B) Eingabe (Lehrer)'!AZ77)","v":""},{"$f":"IF('B) Eingabe (Lehrer)'!BA77=\"\", \"\",'B) Eingabe (Lehrer)'!BA77)","v":""},{"$f":"IF('B) Eingabe (Lehrer)'!BB77=\"\", \"\",'B) Eingabe (Lehrer)'!BB77)","v":""},{"$f":"IF('B) Eingabe (Lehrer)'!BC77=\"\", \"\",'B) Eingabe (Lehrer)'!BC77)","v":""},{"$f":"IF('B) Eingabe (Lehrer)'!BD77=\"\", \"\",'B) Eingabe (Lehrer)'!BD77)","v":""},{"$f":"IF('B) Eingabe (Lehrer)'!BE77=\"\", \"\",'B) Eingabe (Lehrer)'!BE77)","v":""},{"$f":"IF('B) Eingabe (Lehrer)'!BF77=\"\", \"\",'B) Eingabe (Lehrer)'!BF77)","v":""},{"$f":"IF('B) Eingabe (Lehrer)'!BG77=\"\", \"\",'B) Eingabe (Lehrer)'!BG77)","v":""},{"$f":"IF('B) Eingabe (Lehrer)'!BH77=\"\", \"\",'B) Eingabe (Lehrer)'!BH77)","v":""},{"$f":"IF('B) Eingabe (Lehrer)'!BI77=\"\", \"\",'B) Eingabe (Lehrer)'!BI77)","v":""},{"$f":"IF('B) Eingabe (Lehrer)'!BJ77=\"\", \"\",'B) Eingabe (Lehrer)'!BJ77)","v":""},{"$f":"IF('B) Eingabe (Lehrer)'!BK77=\"\", \"\",'B) Eingabe (Lehrer)'!BK77)","v":""}]
["Zusatzitem 35",{"$f":"IF('B) Eingabe (Lehrer)'!C78=\"\", \"\",'B) Eingabe (Lehrer)'!C78)","v":""},{"$f":"IF('B) Eingabe (Lehrer)'!D78=\"\", \"\",'B) Eingabe (Lehrer)'!D78)","v":""},{"$f":"IF('B) Eingabe (Lehrer)'!E78=\"\", \"\",'B) Eingabe (Lehrer)'!E78)","v":""},{"$f":"IF('B) Eingabe (Lehrer)'!F78=\"\", \"\",'B) Eingabe (Lehrer)'!F78)","v":""},{"$f":"IF('B) Eingabe (Lehrer)'!G78=\"\", \"\",'B) Eingabe (Lehrer)'!G78)","v":""},{"$f":"IF('B) Eingabe (Lehrer)'!H78=\"\", \"\",'B) Eingabe (Lehrer)'!H78)","v":""},{"$f":"IF('B) Eingabe (Lehrer)'!I78=\"\", \"\",'B) Eingabe (Lehrer)'!I78)","v":""},{"$f":"IF('B) Eingabe (Lehrer)'!J78=\"\", \"\",'B) Eingabe (Lehrer)'!J78)","v":""},{"$f":"IF('B) Eingabe (Lehrer)'!K78=\"\", \"\",'B) Eingabe (Lehrer)'!K78)","v":""},{"$f":"IF('B) Eingabe (Lehrer)'!L78=\"\", \"\",'B) Eingabe (Lehrer)'!L78)","v":""},{"$f":"IF('B) Eingabe (Lehrer)'!M78=\"\", \"\",'B) Eingabe (Lehrer)'!M78)","v":""},{"$f":"IF('B) Eingabe (Lehrer)'!N78=\"\", \"\",'B) Eingabe (Lehrer)'!N78)","v":""},{"$f":"IF('B) Eingabe (Lehrer)'!O78=\"\", \"\",'B) Eingabe (Lehrer)'!O78)","v":""},{"$f":"IF('B) Eingabe (Lehrer)'!P78=\"\", \"\",'B) Eingabe (Lehrer)'!P78)","v":""},{"$f":"IF('B) Eingabe (Lehrer)'!Q78=\"\", \"\",'B) Eingabe (Lehrer)'!Q78)","v":""},{"$f":"IF('B) Eingabe (Lehrer)'!R78=\"\", \"\",'B) Eingabe (Lehrer)'!R78)","v":""},{"$f":"IF('B) Eingabe (Lehrer)'!S78=\"\", \"\",'B) Eingabe (Lehrer)'!S78)","v":""},{"$f":"IF('B) Eingabe (Lehrer)'!T78=\"\", \"\",'B) Eingabe (Lehrer)'!T78)","v":""},{"$f":"IF('B) Eingabe (Lehrer)'!U78=\"\", \"\",'B) Eingabe (Lehrer)'!U78)","v":""},{"$f":"IF('B) Eingabe (Lehrer)'!V78=\"\", \"\",'B) Eingabe (Lehrer)'!V78)","v":""},{"$f":"IF('B) Eingabe (Lehrer)'!W78=\"\", \"\",'B) Eingabe (Lehrer)'!W78)","v":""},{"$f":"IF('B) Eingabe (Lehrer)'!X78=\"\", \"\",'B) Eingabe (Lehrer)'!X78)","v":""},{"$f":"IF('B) Eingabe (Lehrer)'!Y78=\"\", \"\",'B) Eingabe (Lehrer)'!Y78)","v":""},{"$f":"IF('B) Eingabe (Lehrer)'!Z78=\"\", \"\",'B) Eingabe (Lehrer)'!Z78)","v":""},{"$f":"IF('B) Eingabe (Lehrer)'!AA78=\"\", \"\",'B) Eingabe (Lehrer)'!AA78)","v":""},{"$f":"IF('B) Eingabe (Lehrer)'!AB78=\"\", \"\",'B) Eingabe (Lehrer)'!AB78)","v":""},{"$f":"IF('B) Eingabe (Lehrer)'!AC78=\"\", \"\",'B) Eingabe (Lehrer)'!AC78)","v":""},{"$f":"IF('B) Eingabe (Lehrer)'!AD78=\"\", \"\",'B) Eingabe (Lehrer)'!AD78)","v":""},{"$f":"IF('B) Eingabe (Lehrer)'!AE78=\"\", \"\",'B) Eingabe (Lehrer)'!AE78)","v":""},{"$f":"IF('B) Eingabe (Lehrer)'!AF78=\"\", \"\",'B) Eingabe (Lehrer)'!AF78)","v":""},{"$f":"IF('B) Eingabe (Lehrer)'!AG78=\"\", \"\",'B) Eingabe (Lehrer)'!AG78)","v":""},{"$f":"IF('B) Eingabe (Lehrer)'!AH78=\"\", \"\",'B) Eingabe (Lehrer)'!AH78)","v":""},{"$f":"IF('B) Eingabe (Lehrer)'!AI78=\"\", \"\",'B) Eingabe (Lehrer)'!AI78)","v":""},{"$f":"IF('B) Eingabe (Lehrer)'!AJ78=\"\", \"\",'B) Eingabe (Lehrer)'!AJ78)","v":""},{"$f":"IF('B) Eingabe (Lehrer)'!AK78=\"\", \"\",'B) Eingabe (Lehrer)'!AK78)","v":""},{"$f":"IF('B) Eingabe (Lehrer)'!AL78=\"\", \"\",'B) Eingabe (Lehrer)'!AL78)","v":""},{"$f":"IF('B) Eingabe (Lehrer)'!AM78=\"\", \"\",'B) Eingabe (Lehrer)'!AM78)","v":""},{"$f":"IF('B) Eingabe (Lehrer)'!AN78=\"\", \"\",'B) Eingabe (Lehrer)'!AN78)","v":""},{"$f":"IF('B) Eingabe (Lehrer)'!AO78=\"\", \"\",'B) Eingabe (Lehrer)'!AO78)","v":""},{"$f":"IF('B) Eingabe (Lehrer)'!AP78=\"\", \"\",'B) Eingabe (Lehrer)'!AP78)","v":""},{"$f":"IF('B) Eingabe (Lehrer)'!AQ78=\"\", \"\",'B) Eingabe (Lehrer)'!AQ78)","v":""},{"$f":"IF('B) Eingabe (Lehrer)'!AR78=\"\", \"\",'B) Eingabe (Lehrer)'!AR78)","v":""},{"$f":"IF('B) Eingabe (Lehrer)'!AS78=\"\", \"\",'B) Eingabe (Lehrer)'!AS78)","v":""},{"$f":"IF('B) Eingabe (Lehrer)'!AT78=\"\", \"\",'B) Eingabe (Lehrer)'!AT78)","v":""},{"$f":"IF('B) Eingabe (Lehrer)'!AU78=\"\", \"\",'B) Eingabe (Lehrer)'!AU78)","v":""},{"$f":"IF('B) Eingabe (Lehrer)'!AV78=\"\", \"\",'B) Eingabe (Lehrer)'!AV78)","v":""},{"$f":"IF('B) Eingabe (Lehrer)'!AW78=\"\", \"\",'B) Eingabe (Lehrer)'!AW78)","v":""},{"$f":"IF('B) Eingabe (Lehrer)'!AX78=\"\", \"\",'B) Eingabe (Lehrer)'!AX78)","v":""},{"$f":"IF('B) Eingabe (Lehrer)'!AY78=\"\", \"\",'B) Eingabe (Lehrer)'!AY78)","v":""},{"$f":"IF('B) Eingabe (Lehrer)'!AZ78=\"\", \"\",'B) Eingabe (Lehrer)'!AZ78)","v":""},{"$f":"IF('B) Eingabe (Lehrer)'!BA78=\"\", \"\",'B) Eingabe (Lehrer)'!BA78)","v":""},{"$f":"IF('B) Eingabe (Lehrer)'!BB78=\"\", \"\",'B) Eingabe (Lehrer)'!BB78)","v":""},{"$f":"IF('B) Eingabe (Lehrer)'!BC78=\"\", \"\",'B) Eingabe (Lehrer)'!BC78)","v":""},{"$f":"IF('B) Eingabe (Lehrer)'!BD78=\"\", \"\",'B) Eingabe (Lehrer)'!BD78)","v":""},{"$f":"IF('B) Eingabe (Lehrer)'!BE78=\"\", \"\",'B) Eingabe (Lehrer)'!BE78)","v":""},{"$f":"IF('B) Eingabe (Lehrer)'!BF78=\"\", \"\",'B) Eingabe (Lehrer)'!BF78)","v":""},{"$f":"IF('B) Eingabe (Lehrer)'!BG78=\"\", \"\",'B) Eingabe (Lehrer)'!BG78)","v":""},{"$f":"IF('B) Eingabe (Lehrer)'!BH78=\"\", \"\",'B) Eingabe (Lehrer)'!BH78)","v":""},{"$f":"IF('B) Eingabe (Lehrer)'!BI78=\"\", \"\",'B) Eingabe (Lehrer)'!BI78)","v":""},{"$f":"IF('B) Eingabe (Lehrer)'!BJ78=\"\", \"\",'B) Eingabe (Lehrer)'!BJ78)","v":""},{"$f":"IF('B) Eingabe (Lehrer)'!BK78=\"\", \"\",'B) Eingabe (Lehrer)'!BK78)","v":""}]
["Zusatzitem 36",{"$f":"IF('B) Eingabe (Lehrer)'!C79=\"\", \"\",'B) Eingabe (Lehrer)'!C79)","v":""},{"$f":"IF('B) Eingabe (Lehrer)'!D79=\"\", \"\",'B) Eingabe (Lehrer)'!D79)","v":""},{"$f":"IF('B) Eingabe (Lehrer)'!E79=\"\", \"\",'B) Eingabe (Lehrer)'!E79)","v":""},{"$f":"IF('B) Eingabe (Lehrer)'!F79=\"\", \"\",'B) Eingabe (Lehrer)'!F79)","v":""},{"$f":"IF('B) Eingabe (Lehrer)'!G79=\"\", \"\",'B) Eingabe (Lehrer)'!G79)","v":""},{"$f":"IF('B) Eingabe (Lehrer)'!H79=\"\", \"\",'B) Eingabe (Lehrer)'!H79)","v":""},{"$f":"IF('B) Eingabe (Lehrer)'!I79=\"\", \"\",'B) Eingabe (Lehrer)'!I79)","v":""},{"$f":"IF('B) Eingabe (Lehrer)'!J79=\"\", \"\",'B) Eingabe (Lehrer)'!J79)","v":""},{"$f":"IF('B) Eingabe (Lehrer)'!K79=\"\", \"\",'B) Eingabe (Lehrer)'!K79)","v":""},{"$f":"IF('B) Eingabe (Lehrer)'!L79=\"\", \"\",'B) Eingabe (Lehrer)'!L79)","v":""},{"$f":"IF('B) Eingabe (Lehrer)'!M79=\"\", \"\",'B) Eingabe (Lehrer)'!M79)","v":""},{"$f":"IF('B) Eingabe (Lehrer)'!N79=\"\", \"\",'B) Eingabe (Lehrer)'!N79)","v":""},{"$f":"IF('B) Eingabe (Lehrer)'!O79=\"\", \"\",'B) Eingabe (Lehrer)'!O79)","v":""},{"$f":"IF('B) Eingabe (Lehrer)'!P79=\"\", \"\",'B) Eingabe (Lehrer)'!P79)","v":""},{"$f":"IF('B) Eingabe (Lehrer)'!Q79=\"\", \"\",'B) Eingabe (Lehrer)'!Q79)","v":""},{"$f":"IF('B) Eingabe (Lehrer)'!R79=\"\", \"\",'B) Eingabe (Lehrer)'!R79)","v":""},{"$f":"IF('B) Eingabe (Lehrer)'!S79=\"\", \"\",'B) Eingabe (Lehrer)'!S79)","v":""},{"$f":"IF('B) Eingabe (Lehrer)'!T79=\"\", \"\",'B) Eingabe (Lehrer)'!T79)","v":""},{"$f":"IF('B) Eingabe (Lehrer)'!U79=\"\", \"\",'B) Eingabe (Lehrer)'!U79)","v":""},{"$f":"IF('B) Eingabe (Lehrer)'!V79=\"\", \"\",'B) Eingabe (Lehrer)'!V79)","v":""},{"$f":"IF('B) Eingabe (Lehrer)'!W79=\"\", \"\",'B) Eingabe (Lehrer)'!W79)","v":""},{"$f":"IF('B) Eingabe (Lehrer)'!X79=\"\", \"\",'B) Eingabe (Lehrer)'!X79)","v":""},{"$f":"IF('B) Eingabe (Lehrer)'!Y79=\"\", \"\",'B) Eingabe (Lehrer)'!Y79)","v":""},{"$f":"IF('B) Eingabe (Lehrer)'!Z79=\"\", \"\",'B) Eingabe (Lehrer)'!Z79)","v":""},{"$f":"IF('B) Eingabe (Lehrer)'!AA79=\"\", \"\",'B) Eingabe (Lehrer)'!AA79)","v":""},{"$f":"IF('B) Eingabe (Lehrer)'!AB79=\"\", \"\",'B) Eingabe (Lehrer)'!AB79)","v":""},{"$f":"IF('B) Eingabe (Lehrer)'!AC79=\"\", \"\",'B) Eingabe (Lehrer)'!AC79)","v":""},{"$f":"IF('B) Eingabe (Lehrer)'!AD79=\"\", \"\",'B) Eingabe (Lehrer)'!AD79)","v":""},{"$f":"IF('B) Eingabe (Lehrer)'!AE79=\"\", \"\",'B) Eingabe (Lehrer)'!AE79)","v":""},{"$f":"IF('B) Eingabe (Lehrer)'!AF79=\"\", \"\",'B) Eingabe (Lehrer)'!AF79)","v":""},{"$f":"IF('B) Eingabe (Lehrer)'!AG79=\"\", \"\",'B) Eingabe (Lehrer)'!AG79)","v":""},{"$f":"IF('B) Eingabe (Lehrer)'!AH79=\"\", \"\",'B) Eingabe (Lehrer)'!AH79)","v":""},{"$f":"IF('B) Eingabe (Lehrer)'!AI79=\"\", \"\",'B) Eingabe (Lehrer)'!AI79)","v":""},{"$f":"IF('B) Eingabe (Lehrer)'!AJ79=\"\", \"\",'B) Eingabe (Lehrer)'!AJ79)","v":""},{"$f":"IF('B) Eingabe (Lehrer)'!AK79=\"\", \"\",'B) Eingabe (Lehrer)'!AK79)","v":""},{"$f":"IF('B) Eingabe (Lehrer)'!AL79=\"\", \"\",'B) Eingabe (Lehrer)'!AL79)","v":""},{"$f":"IF('B) Eingabe (Lehrer)'!AM79=\"\", \"\",'B) Eingabe (Lehrer)'!AM79)","v":""},{"$f":"IF('B) Eingabe (Lehrer)'!AN79=\"\", \"\",'B) Eingabe (Lehrer)'!AN79)","v":""},{"$f":"IF('B) Eingabe (Lehrer)'!AO79=\"\", \"\",'B) Eingabe (Lehrer)'!AO79)","v":""},{"$f":"IF('B) Eingabe (Lehrer)'!AP79=\"\", \"\",'B) Eingabe (Lehrer)'!AP79)","v":""},{"$f":"IF('B) Eingabe (Lehrer)'!AQ79=\"\", \"\",'B) Eingabe (Lehrer)'!AQ79)","v":""},{"$f":"IF('B) Eingabe (Lehrer)'!AR79=\"\", \"\",'B) Eingabe (Lehrer)'!AR79)","v":""},{"$f":"IF('B) Eingabe (Lehrer)'!AS79=\"\", \"\",'B) Eingabe (Lehrer)'!AS79)","v":""},{"$f":"IF('B) Eingabe (Lehrer)'!AT79=\"\", \"\",'B) Eingabe (Lehrer)'!AT79)","v":""},{"$f":"IF('B) Eingabe (Lehrer)'!AU79=\"\", \"\",'B) Eingabe (Lehrer)'!AU79)","v":""},{"$f":"IF('B) Eingabe (Lehrer)'!AV79=\"\", \"\",'B) Eingabe (Lehrer)'!AV79)","v":""},{"$f":"IF('B) Eingabe (Lehrer)'!AW79=\"\", \"\",'B) Eingabe (Lehrer)'!AW79)","v":""},{"$f":"IF('B) Eingabe (Lehrer)'!AX79=\"\", \"\",'B) Eingabe (Lehrer)'!AX79)","v":""},{"$f":"IF('B) Eingabe (Lehrer)'!AY79=\"\", \"\",'B) Eingabe (Lehrer)'!AY79)","v":""},{"$f":"IF('B) Eingabe (Lehrer)'!AZ79=\"\", \"\",'B) Eingabe (Lehrer)'!AZ79)","v":""},{"$f":"IF('B) Eingabe (Lehrer)'!BA79=\"\", \"\",'B) Eingabe (Lehrer)'!BA79)","v":""},{"$f":"IF('B) Eingabe (Lehrer)'!BB79=\"\", \"\",'B) Eingabe (Lehrer)'!BB79)","v":""},{"$f":"IF('B) Eingabe (Lehrer)'!BC79=\"\", \"\",'B) Eingabe (Lehrer)'!BC79)","v":""},{"$f":"IF('B) Eingabe (Lehrer)'!BD79=\"\", \"\",'B) Eingabe (Lehrer)'!BD79)","v":""},{"$f":"IF('B) Eingabe (Lehrer)'!BE79=\"\", \"\",'B) Eingabe (Lehrer)'!BE79)","v":""},{"$f":"IF('B) Eingabe (Lehrer)'!BF79=\"\", \"\",'B) Eingabe (Lehrer)'!BF79)","v":""},{"$f":"IF('B) Eingabe (Lehrer)'!BG79=\"\", \"\",'B) Eingabe (Lehrer)'!BG79)","v":""},{"$f":"IF('B) Eingabe (Lehrer)'!BH79=\"\", \"\",'B) Eingabe (Lehrer)'!BH79)","v":""},{"$f":"IF('B) Eingabe (Lehrer)'!BI79=\"\", \"\",'B) Eingabe (Lehrer)'!BI79)","v":""},{"$f":"IF('B) Eingabe (Lehrer)'!BJ79=\"\", \"\",'B) Eingabe (Lehrer)'!BJ79)","v":""},{"$f":"IF('B) Eingabe (Lehrer)'!BK79=\"\", \"\",'B) Eingabe (Lehrer)'!BK79)","v":""}]
["Zusatzitem 37",{"$f":"IF('B) Eingabe (Lehrer)'!C80=\"\", \"\",'B) Eingabe (Lehrer)'!C80)","v":""},{"$f":"IF('B) Eingabe (Lehrer)'!D80=\"\", \"\",'B) Eingabe (Lehrer)'!D80)","v":""},{"$f":"IF('B) Eingabe (Lehrer)'!E80=\"\", \"\",'B) Eingabe (Lehrer)'!E80)","v":""},{"$f":"IF('B) Eingabe (Lehrer)'!F80=\"\", \"\",'B) Eingabe (Lehrer)'!F80)","v":""},{"$f":"IF('B) Eingabe (Lehrer)'!G80=\"\", \"\",'B) Eingabe (Lehrer)'!G80)","v":""},{"$f":"IF('B) Eingabe (Lehrer)'!H80=\"\", \"\",'B) Eingabe (Lehrer)'!H80)","v":""},{"$f":"IF('B) Eingabe (Lehrer)'!I80=\"\", \"\",'B) Eingabe (Lehrer)'!I80)","v":""},{"$f":"IF('B) Eingabe (Lehrer)'!J80=\"\", \"\",'B) Eingabe (Lehrer)'!J80)","v":""},{"$f":"IF('B) Eingabe (Lehrer)'!K80=\"\", \"\",'B) Eingabe (Lehrer)'!K80)","v":""},{"$f":"IF('B) Eingabe (Lehrer)'!L80=\"\", \"\",'B) Eingabe (Lehrer)'!L80)","v":""},{"$f":"IF('B) Eingabe (Lehrer)'!M80=\"\", \"\",'B) Eingabe (Lehrer)'!M80)","v":""},{"$f":"IF('B) Eingabe (Lehrer)'!N80=\"\", \"\",'B) Eingabe (Lehrer)'!N80)","v":""},{"$f":"IF('B) Eingabe (Lehrer)'!O80=\"\", \"\",'B) Eingabe (Lehrer)'!O80)","v":""},{"$f":"IF('B) Eingabe (Lehrer)'!P80=\"\", \"\",'B) Eingabe (Lehrer)'!P80)","v":""},{"$f":"IF('B) Eingabe (Lehrer)'!Q80=\"\", \"\",'B) Eingabe (Lehrer)'!Q80)","v":""},{"$f":"IF('B) Eingabe (Lehrer)'!R80=\"\", \"\",'B) Eingabe (Lehrer)'!R80)","v":""},{"$f":"IF('B) Eingabe (Lehrer)'!S80=\"\", \"\",'B) Eingabe (Lehrer)'!S80)","v":""},{"$f":"IF('B) Eingabe (Lehrer)'!T80=\"\", \"\",'B) Eingabe (Lehrer)'!T80)","v":""},{"$f":"IF('B) Eingabe (Lehrer)'!U80=\"\", \"\",'B) Eingabe (Lehrer)'!U80)","v":""},{"$f":"IF('B) Eingabe (Lehrer)'!V80=\"\", \"\",'B) Eingabe (Lehrer)'!V80)","v":""},{"$f":"IF('B) Eingabe (Lehrer)'!W80=\"\", \"\",'B) Eingabe (Lehrer)'!W80)","v":""},{"$f":"IF('B) Eingabe (Lehrer)'!X80=\"\", \"\",'B) Eingabe (Lehrer)'!X80)","v":""},{"$f":"IF('B) Eingabe (Lehrer)'!Y80=\"\", \"\",'B) Eingabe (Lehrer)'!Y80)","v":""},{"$f":"IF('B) Eingabe (Lehrer)'!Z80=\"\", \"\",'B) Eingabe (Lehrer)'!Z80)","v":""},{"$f":"IF('B) Eingabe (Lehrer)'!AA80=\"\", \"\",'B) Eingabe (Lehrer)'!AA80)","v":""},{"$f":"IF('B) Eingabe (Lehrer)'!AB80=\"\", \"\",'B) Eingabe (Lehrer)'!AB80)","v":""},{"$f":"IF('B) Eingabe (Lehrer)'!AC80=\"\", \"\",'B) Eingabe (Lehrer)'!AC80)","v":""},{"$f":"IF('B) Eingabe (Lehrer)'!AD80=\"\", \"\",'B) Eingabe (Lehrer)'!AD80)","v":""},{"$f":"IF('B) Eingabe (Lehrer)'!AE80=\"\", \"\",'B) Eingabe (Lehrer)'!AE80)","v":""},{"$f":"IF('B) Eingabe (Lehrer)'!AF80=\"\", \"\",'B) Eingabe (Lehrer)'!AF80)","v":""},{"$f":"IF('B) Eingabe (Lehrer)'!AG80=\"\", \"\",'B) Eingabe (Lehrer)'!AG80)","v":""},{"$f":"IF('B) Eingabe (Lehrer)'!AH80=\"\", \"\",'B) Eingabe (Lehrer)'!AH80)","v":""},{"$f":"IF('B) Eingabe (Lehrer)'!AI80=\"\", \"\",'B) Eingabe (Lehrer)'!AI80)","v":""},{"$f":"IF('B) Eingabe (Lehrer)'!AJ80=\"\", \"\",'B) Eingabe (Lehrer)'!AJ80)","v":""},{"$f":"IF('B) Eingabe (Lehrer)'!AK80=\"\", \"\",'B) Eingabe (Lehrer)'!AK80)","v":""},{"$f":"IF('B) Eingabe (Lehrer)'!AL80=\"\", \"\",'B) Eingabe (Lehrer)'!AL80)","v":""},{"$f":"IF('B) Eingabe (Lehrer)'!AM80=\"\", \"\",'B) Eingabe (Lehrer)'!AM80)","v":""},{"$f":"IF('B) Eingabe (Lehrer)'!AN80=\"\", \"\",'B) Eingabe (Lehrer)'!AN80)","v":""},{"$f":"IF('B) Eingabe (Lehrer)'!AO80=\"\", \"\",'B) Eingabe (Lehrer)'!AO80)","v":""},{"$f":"IF('B) Eingabe (Lehrer)'!AP80=\"\", \"\",'B) Eingabe (Lehrer)'!AP80)","v":""},{"$f":"IF('B) Eingabe (Lehrer)'!AQ80=\"\", \"\",'B) Eingabe (Lehrer)'!AQ80)","v":""},{"$f":"IF('B) Eingabe (Lehrer)'!AR80=\"\", \"\",'B) Eingabe (Lehrer)'!AR80)","v":""},{"$f":"IF('B) Eingabe (Lehrer)'!AS80=\"\", \"\",'B) Eingabe (Lehrer)'!AS80)","v":""},{"$f":"IF('B) Eingabe (Lehrer)'!AT80=\"\", \"\",'B) Eingabe (Lehrer)'!AT80)","v":""},{"$f":"IF('B) Eingabe (Lehrer)'!AU80=\"\", \"\",'B) Eingabe (Lehrer)'!AU80)","v":""},{"$f":"IF('B) Eingabe (Lehrer)'!AV80=\"\", \"\",'B) Eingabe (Lehrer)'!AV80)","v":""},{"$f":"IF('B) Eingabe (Lehrer)'!AW80=\"\", \"\",'B) Eingabe (Lehrer)'!AW80)","v":""},{"$f":"IF('B) Eingabe (Lehrer)'!AX80=\"\", \"\",'B) Eingabe (Lehrer)'!AX80)","v":""},{"$f":"IF('B) Eingabe (Lehrer)'!AY80=\"\", \"\",'B) Eingabe (Lehrer)'!AY80)","v":""},{"$f":"IF('B) Eingabe (Lehrer)'!AZ80=\"\", \"\",'B) Eingabe (Lehrer)'!AZ80)","v":""},{"$f":"IF('B) Eingabe (Lehrer)'!BA80=\"\", \"\",'B) Eingabe (Lehrer)'!BA80)","v":""},{"$f":"IF('B) Eingabe (Lehrer)'!BB80=\"\", \"\",'B) Eingabe (Lehrer)'!BB80)","v":""},{"$f":"IF('B) Eingabe (Lehrer)'!BC80=\"\", \"\",'B) Eingabe (Lehrer)'!BC80)","v":""},{"$f":"IF('B) Eingabe (Lehrer)'!BD80=\"\", \"\",'B) Eingabe (Lehrer)'!BD80)","v":""},{"$f":"IF('B) Eingabe (Lehrer)'!BE80=\"\", \"\",'B) Eingabe (Lehrer)'!BE80)","v":""},{"$f":"IF('B) Eingabe (Lehrer)'!BF80=\"\", \"\",'B) Eingabe (Lehrer)'!BF80)","v":""},{"$f":"IF('B) Eingabe (Lehrer)'!BG80=\"\", \"\",'B) Eingabe (Lehrer)'!BG80)","v":""},{"$f":"IF('B) Eingabe (Lehrer)'!BH80=\"\", \"\",'B) Eingabe (Lehrer)'!BH80)","v":""},{"$f":"IF('B) Eingabe (Lehrer)'!BI80=\"\", \"\",'B) Eingabe (Lehrer)'!BI80)","v":""},{"$f":"IF('B) Eingabe (Lehrer)'!BJ80=\"\", \"\",'B) Eingabe (Lehrer)'!BJ80)","v":""},{"$f":"IF('B) Eingabe (Lehrer)'!BK80=\"\", \"\",'B) Eingabe (Lehrer)'!BK80)","v":""}]
["Zusatzitem 38",{"$f":"IF('B) Eingabe (Lehrer)'!C81=\"\", \"\",'B) Eingabe (Lehrer)'!C81)","v":""},{"$f":"IF('B) Eingabe (Lehrer)'!D81=\"\", \"\",'B) Eingabe (Lehrer)'!D81)","v":""},{"$f":"IF('B) Eingabe (Lehrer)'!E81=\"\", \"\",'B) Eingabe (Lehrer)'!E81)","v":""},{"$f":"IF('B) Eingabe (Lehrer)'!F81=\"\", \"\",'B) Eingabe (Lehrer)'!F81)","v":""},{"$f":"IF('B) Eingabe (Lehrer)'!G81=\"\", \"\",'B) Eingabe (Lehrer)'!G81)","v":""},{"$f":"IF('B) Eingabe (Lehrer)'!H81=\"\", \"\",'B) Eingabe (Lehrer)'!H81)","v":""},{"$f":"IF('B) Eingabe (Lehrer)'!I81=\"\", \"\",'B) Eingabe (Lehrer)'!I81)","v":""},{"$f":"IF('B) Eingabe (Lehrer)'!J81=\"\", \"\",'B) Eingabe (Lehrer)'!J81)","v":""},{"$f":"IF('B) Eingabe (Lehrer)'!K81=\"\", \"\",'B) Eingabe (Lehrer)'!K81)","v":""},{"$f":"IF('B) Eingabe (Lehrer)'!L81=\"\", \"\",'B) Eingabe (Lehrer)'!L81)","v":""},{"$f":"IF('B) Eingabe (Lehrer)'!M81=\"\", \"\",'B) Eingabe (Lehrer)'!M81)","v":""},{"$f":"IF('B) Eingabe (Lehrer)'!N81=\"\", \"\",'B) Eingabe (Lehrer)'!N81)","v":""},{"$f":"IF('B) Eingabe (Lehrer)'!O81=\"\", \"\",'B) Eingabe (Lehrer)'!O81)","v":""},{"$f":"IF('B) Eingabe (Lehrer)'!P81=\"\", \"\",'B) Eingabe (Lehrer)'!P81)","v":""},{"$f":"IF('B) Eingabe (Lehrer)'!Q81=\"\", \"\",'B) Eingabe (Lehrer)'!Q81)","v":""},{"$f":"IF('B) Eingabe (Lehrer)'!R81=\"\", \"\",'B) Eingabe (Lehrer)'!R81)","v":""},{"$f":"IF('B) Eingabe (Lehrer)'!S81=\"\", \"\",'B) Eingabe (Lehrer)'!S81)","v":""},{"$f":"IF('B) Eingabe (Lehrer)'!T81=\"\", \"\",'B) Eingabe (Lehrer)'!T81)","v":""},{"$f":"IF('B) Eingabe (Lehrer)'!U81=\"\", \"\",'B) Eingabe (Lehrer)'!U81)","v":""},{"$f":"IF('B) Eingabe (Lehrer)'!V81=\"\", \"\",'B) Eingabe (Lehrer)'!V81)","v":""},{"$f":"IF('B) Eingabe (Lehrer)'!W81=\"\", \"\",'B) Eingabe (Lehrer)'!W81)","v":""},{"$f":"IF('B) Eingabe (Lehrer)'!X81=\"\", \"\",'B) Eingabe (Lehrer)'!X81)","v":""},{"$f":"IF('B) Eingabe (Lehrer)'!Y81=\"\", \"\",'B) Eingabe (Lehrer)'!Y81)","v":""},{"$f":"IF('B) Eingabe (Lehrer)'!Z81=\"\", \"\",'B) Eingabe (Lehrer)'!Z81)","v":""},{"$f":"IF('B) Eingabe (Lehrer)'!AA81=\"\", \"\",'B) Eingabe (Lehrer)'!AA81)","v":""},{"$f":"IF('B) Eingabe (Lehrer)'!AB81=\"\", \"\",'B) Eingabe (Lehrer)'!AB81)","v":""},{"$f":"IF('B) Eingabe (Lehrer)'!AC81=\"\", \"\",'B) Eingabe (Lehrer)'!AC81)","v":""},{"$f":"IF('B) Eingabe (Lehrer)'!AD81=\"\", \"\",'B) Eingabe (Lehrer)'!AD81)","v":""},{"$f":"IF('B) Eingabe (Lehrer)'!AE81=\"\", \"\",'B) Eingabe (Lehrer)'!AE81)","v":""},{"$f":"IF('B) Eingabe (Lehrer)'!AF81=\"\", \"\",'B) Eingabe (Lehrer)'!AF81)","v":""},{"$f":"IF('B) Eingabe (Lehrer)'!AG81=\"\", \"\",'B) Eingabe (Lehrer)'!AG81)","v":""},{"$f":"IF('B) Eingabe (Lehrer)'!AH81=\"\", \"\",'B) Eingabe (Lehrer)'!AH81)","v":""},{"$f":"IF('B) Eingabe (Lehrer)'!AI81=\"\", \"\",'B) Eingabe (Lehrer)'!AI81)","v":""},{"$f":"IF('B) Eingabe (Lehrer)'!AJ81=\"\", \"\",'B) Eingabe (Lehrer)'!AJ81)","v":""},{"$f":"IF('B) Eingabe (Lehrer)'!AK81=\"\", \"\",'B) Eingabe (Lehrer)'!AK81)","v":""},{"$f":"IF('B) Eingabe (Lehrer)'!AL81=\"\", \"\",'B) Eingabe (Lehrer)'!AL81)","v":""},{"$f":"IF('B) Eingabe (Lehrer)'!AM81=\"\", \"\",'B) Eingabe (Lehrer)'!AM81)","v":""},{"$f":"IF('B) Eingabe (Lehrer)'!AN81=\"\", \"\",'B) Eingabe (Lehrer)'!AN81)","v":""},{"$f":"IF('B) Eingabe (Lehrer)'!AO81=\"\", \"\",'B) Eingabe (Lehrer)'!AO81)","v":""},{"$f":"IF('B) Eingabe (Lehrer)'!AP81=\"\", \"\",'B) Eingabe (Lehrer)'!AP81)","v":""},{"$f":"IF('B) Eingabe (Lehrer)'!AQ81=\"\", \"\",'B) Eingabe (Lehrer)'!AQ81)","v":""},{"$f":"IF('B) Eingabe (Lehrer)'!AR81=\"\", \"\",'B) Eingabe (Lehrer)'!AR81)","v":""},{"$f":"IF('B) Eingabe (Lehrer)'!AS81=\"\", \"\",'B) Eingabe (Lehrer)'!AS81)","v":""},{"$f":"IF('B) Eingabe (Lehrer)'!AT81=\"\", \"\",'B) Eingabe (Lehrer)'!AT81)","v":""},{"$f":"IF('B) Eingabe (Lehrer)'!AU81=\"\", \"\",'B) Eingabe (Lehrer)'!AU81)","v":""},{"$f":"IF('B) Eingabe (Lehrer)'!AV81=\"\", \"\",'B) Eingabe (Lehrer)'!AV81)","v":""},{"$f":"IF('B) Eingabe (Lehrer)'!AW81=\"\", \"\",'B) Eingabe (Lehrer)'!AW81)","v":""},{"$f":"IF('B) Eingabe (Lehrer)'!AX81=\"\", \"\",'B) Eingabe (Lehrer)'!AX81)","v":""},{"$f":"IF('B) Eingabe (Lehrer)'!AY81=\"\", \"\",'B) Eingabe (Lehrer)'!AY81)","v":""},{"$f":"IF('B) Eingabe (Lehrer)'!AZ81=\"\", \"\",'B) Eingabe (Lehrer)'!AZ81)","v":""},{"$f":"IF('B) Eingabe (Lehrer)'!BA81=\"\", \"\",'B) Eingabe (Lehrer)'!BA81)","v":""},{"$f":"IF('B) Eingabe (Lehrer)'!BB81=\"\", \"\",'B) Eingabe (Lehrer)'!BB81)","v":""},{"$f":"IF('B) Eingabe (Lehrer)'!BC81=\"\", \"\",'B) Eingabe (Lehrer)'!BC81)","v":""},{"$f":"IF('B) Eingabe (Lehrer)'!BD81=\"\", \"\",'B) Eingabe (Lehrer)'!BD81)","v":""},{"$f":"IF('B) Eingabe (Lehrer)'!BE81=\"\", \"\",'B) Eingabe (Lehrer)'!BE81)","v":""},{"$f":"IF('B) Eingabe (Lehrer)'!BF81=\"\", \"\",'B) Eingabe (Lehrer)'!BF81)","v":""},{"$f":"IF('B) Eingabe (Lehrer)'!BG81=\"\", \"\",'B) Eingabe (Lehrer)'!BG81)","v":""},{"$f":"IF('B) Eingabe (Lehrer)'!BH81=\"\", \"\",'B) Eingabe (Lehrer)'!BH81)","v":""},{"$f":"IF('B) Eingabe (Lehrer)'!BI81=\"\", \"\",'B) Eingabe (Lehrer)'!BI81)","v":""},{"$f":"IF('B) Eingabe (Lehrer)'!BJ81=\"\", \"\",'B) Eingabe (Lehrer)'!BJ81)","v":""},{"$f":"IF('B) Eingabe (Lehrer)'!BK81=\"\", \"\",'B) Eingabe (Lehrer)'!BK81)","v":""}]
["Zusatzitem 39",{"$f":"IF('B) Eingabe (Lehrer)'!C82=\"\", \"\",'B) Eingabe (Lehrer)'!C82)","v":""},{"$f":"IF('B) Eingabe (Lehrer)'!D82=\"\", \"\",'B) Eingabe (Lehrer)'!D82)","v":""},{"$f":"IF('B) Eingabe (Lehrer)'!E82=\"\", \"\",'B) Eingabe (Lehrer)'!E82)","v":""},{"$f":"IF('B) Eingabe (Lehrer)'!F82=\"\", \"\",'B) Eingabe (Lehrer)'!F82)","v":""},{"$f":"IF('B) Eingabe (Lehrer)'!G82=\"\", \"\",'B) Eingabe (Lehrer)'!G82)","v":""},{"$f":"IF('B) Eingabe (Lehrer)'!H82=\"\", \"\",'B) Eingabe (Lehrer)'!H82)","v":""},{"$f":"IF('B) Eingabe (Lehrer)'!I82=\"\", \"\",'B) Eingabe (Lehrer)'!I82)","v":""},{"$f":"IF('B) Eingabe (Lehrer)'!J82=\"\", \"\",'B) Eingabe (Lehrer)'!J82)","v":""},{"$f":"IF('B) Eingabe (Lehrer)'!K82=\"\", \"\",'B) Eingabe (Lehrer)'!K82)","v":""},{"$f":"IF('B) Eingabe (Lehrer)'!L82=\"\", \"\",'B) Eingabe (Lehrer)'!L82)","v":""},{"$f":"IF('B) Eingabe (Lehrer)'!M82=\"\", \"\",'B) Eingabe (Lehrer)'!M82)","v":""},{"$f":"IF('B) Eingabe (Lehrer)'!N82=\"\", \"\",'B) Eingabe (Lehrer)'!N82)","v":""},{"$f":"IF('B) Eingabe (Lehrer)'!O82=\"\", \"\",'B) Eingabe (Lehrer)'!O82)","v":""},{"$f":"IF('B) Eingabe (Lehrer)'!P82=\"\", \"\",'B) Eingabe (Lehrer)'!P82)","v":""},{"$f":"IF('B) Eingabe (Lehrer)'!Q82=\"\", \"\",'B) Eingabe (Lehrer)'!Q82)","v":""},{"$f":"IF('B) Eingabe (Lehrer)'!R82=\"\", \"\",'B) Eingabe (Lehrer)'!R82)","v":""},{"$f":"IF('B) Eingabe (Lehrer)'!S82=\"\", \"\",'B) Eingabe (Lehrer)'!S82)","v":""},{"$f":"IF('B) Eingabe (Lehrer)'!T82=\"\", \"\",'B) Eingabe (Lehrer)'!T82)","v":""},{"$f":"IF('B) Eingabe (Lehrer)'!U82=\"\", \"\",'B) Eingabe (Lehrer)'!U82)","v":""},{"$f":"IF('B) Eingabe (Lehrer)'!V82=\"\", \"\",'B) Eingabe (Lehrer)'!V82)","v":""},{"$f":"IF('B) Eingabe (Lehrer)'!W82=\"\", \"\",'B) Eingabe (Lehrer)'!W82)","v":""},{"$f":"IF('B) Eingabe (Lehrer)'!X82=\"\", \"\",'B) Eingabe (Lehrer)'!X82)","v":""},{"$f":"IF('B) Eingabe (Lehrer)'!Y82=\"\", \"\",'B) Eingabe (Lehrer)'!Y82)","v":""},{"$f":"IF('B) Eingabe (Lehrer)'!Z82=\"\", \"\",'B) Eingabe (Lehrer)'!Z82)","v":""},{"$f":"IF('B) Eingabe (Lehrer)'!AA82=\"\", \"\",'B) Eingabe (Lehrer)'!AA82)","v":""},{"$f":"IF('B) Eingabe (Lehrer)'!AB82=\"\", \"\",'B) Eingabe (Lehrer)'!AB82)","v":""},{"$f":"IF('B) Eingabe (Lehrer)'!AC82=\"\", \"\",'B) Eingabe (Lehrer)'!AC82)","v":""},{"$f":"IF('B) Eingabe (Lehrer)'!AD82=\"\", \"\",'B) Eingabe (Lehrer)'!AD82)","v":""},{"$f":"IF('B) Eingabe (Lehrer)'!AE82=\"\", \"\",'B) Eingabe (Lehrer)'!AE82)","v":""},{"$f":"IF('B) Eingabe (Lehrer)'!AF82=\"\", \"\",'B) Eingabe (Lehrer)'!AF82)","v":""},{"$f":"IF('B) Eingabe (Lehrer)'!AG82=\"\", \"\",'B) Eingabe (Lehrer)'!AG82)","v":""},{"$f":"IF('B) Eingabe (Lehrer)'!AH82=\"\", \"\",'B) Eingabe (Lehrer)'!AH82)","v":""},{"$f":"IF('B) Eingabe (Lehrer)'!AI82=\"\", \"\",'B) Eingabe (Lehrer)'!AI82)","v":""},{"$f":"IF('B) Eingabe (Lehrer)'!AJ82=\"\", \"\",'B) Eingabe (Lehrer)'!AJ82)","v":""},{"$f":"IF('B) Eingabe (Lehrer)'!AK82=\"\", \"\",'B) Eingabe (Lehrer)'!AK82)","v":""},{"$f":"IF('B) Eingabe (Lehrer)'!AL82=\"\", \"\",'B) Eingabe (Lehrer)'!AL82)","v":""},{"$f":"IF('B) Eingabe (Lehrer)'!AM82=\"\", \"\",'B) Eingabe (Lehrer)'!AM82)","v":""},{"$f":"IF('B) Eingabe (Lehrer)'!AN82=\"\", \"\",'B) Eingabe (Lehrer)'!AN82)","v":""},{"$f":"IF('B) Eingabe (Lehrer)'!AO82=\"\", \"\",'B) Eingabe (Lehrer)'!AO82)","v":""},{"$f":"IF('B) Eingabe (Lehrer)'!AP82=\"\", \"\",'B) Eingabe (Lehrer)'!AP82)","v":""},{"$f":"IF('B) Eingabe (Lehrer)'!AQ82=\"\", \"\",'B) Eingabe (Lehrer)'!AQ82)","v":""},{"$f":"IF('B) Eingabe (Lehrer)'!AR82=\"\", \"\",'B) Eingabe (Lehrer)'!AR82)","v":""},{"$f":"IF('B) Eingabe (Lehrer)'!AS82=\"\", \"\",'B) Eingabe (Lehrer)'!AS82)","v":""},{"$f":"IF('B) Eingabe (Lehrer)'!AT82=\"\", \"\",'B) Eingabe (Lehrer)'!AT82)","v":""},{"$f":"IF('B) Eingabe (Lehrer)'!AU82=\"\", \"\",'B) Eingabe (Lehrer)'!AU82)","v":""},{"$f":"IF('B) Eingabe (Lehrer)'!AV82=\"\", \"\",'B) Eingabe (Lehrer)'!AV82)","v":""},{"$f":"IF('B) Eingabe (Lehrer)'!AW82=\"\", \"\",'B) Eingabe (Lehrer)'!AW82)","v":""},{"$f":"IF('B) Eingabe (Lehrer)'!AX82=\"\", \"\",'B) Eingabe (Lehrer)'!AX82)","v":""},{"$f":"IF('B) Eingabe (Lehrer)'!AY82=\"\", \"\",'B) Eingabe (Lehrer)'!AY82)","v":""},{"$f":"IF('B) Eingabe (Lehrer)'!AZ82=\"\", \"\",'B) Eingabe (Lehrer)'!AZ82)","v":""},{"$f":"IF('B) Eingabe (Lehrer)'!BA82=\"\", \"\",'B) Eingabe (Lehrer)'!BA82)","v":""},{"$f":"IF('B) Eingabe (Lehrer)'!BB82=\"\", \"\",'B) Eingabe (Lehrer)'!BB82)","v":""},{"$f":"IF('B) Eingabe (Lehrer)'!BC82=\"\", \"\",'B) Eingabe (Lehrer)'!BC82)","v":""},{"$f":"IF('B) Eingabe (Lehrer)'!BD82=\"\", \"\",'B) Eingabe (Lehrer)'!BD82)","v":""},{"$f":"IF('B) Eingabe (Lehrer)'!BE82=\"\", \"\",'B) Eingabe (Lehrer)'!BE82)","v":""},{"$f":"IF('B) Eingabe (Lehrer)'!BF82=\"\", \"\",'B) Eingabe (Lehrer)'!BF82)","v":""},{"$f":"IF('B) Eingabe (Lehrer)'!BG82=\"\", \"\",'B) Eingabe (Lehrer)'!BG82)","v":""},{"$f":"IF('B) Eingabe (Lehrer)'!BH82=\"\", \"\",'B) Eingabe (Lehrer)'!BH82)","v":""},{"$f":"IF('B) Eingabe (Lehrer)'!BI82=\"\", \"\",'B) Eingabe (Lehrer)'!BI82)","v":""},{"$f":"IF('B) Eingabe (Lehrer)'!BJ82=\"\", \"\",'B) Eingabe (Lehrer)'!BJ82)","v":""},{"$f":"IF('B) Eingabe (Lehrer)'!BK82=\"\", \"\",'B) Eingabe (Lehrer)'!BK82)","v":""}]
["Zusatzitem 40",{"$f":"IF('B) Eingabe (Lehrer)'!C83=\"\", \"\",'B) Eingabe (Lehrer)'!C83)","v":""},{"$f":"IF('B) Eingabe (Lehrer)'!D83=\"\", \"\",'B) Eingabe (Lehrer)'!D83)","v":""},{"$f":"IF('B) Eingabe (Lehrer)'!E83=\"\", \"\",'B) Eingabe (Lehrer)'!E83)","v":""},{"$f":"IF('B) Eingabe (Lehrer)'!F83=\"\", \"\",'B) Eingabe (Lehrer)'!F83)","v":""},{"$f":"IF('B) Eingabe (Lehrer)'!G83=\"\", \"\",'B) Eingabe (Lehrer)'!G83)","v":""},{"$f":"IF('B) Eingabe (Lehrer)'!H83=\"\", \"\",'B) Eingabe (Lehrer)'!H83)","v":""},{"$f":"IF('B) Eingabe (Lehrer)'!I83=\"\", \"\",'B) Eingabe (Lehrer)'!I83)","v":""},{"$f":"IF('B) Eingabe (Lehrer)'!J83=\"\", \"\",'B) Eingabe (Lehrer)'!J83)","v":""},{"$f":"IF('B) Eingabe (Lehrer)'!K83=\"\", \"\",'B) Eingabe (Lehrer)'!K83)","v":""},{"$f":"IF('B) Eingabe (Lehrer)'!L83=\"\", \"\",'B) Eingabe (Lehrer)'!L83)","v":""},{"$f":"IF('B) Eingabe (Lehrer)'!M83=\"\", \"\",'B) Eingabe (Lehrer)'!M83)","v":""},{"$f":"IF('B) Eingabe (Lehrer)'!N83=\"\", \"\",'B) Eingabe (Lehrer)'!N83)","v":""},{"$f":"IF('B) Eingabe (Lehrer)'!O83=\"\", \"\",'B) Eingabe (Lehrer)'!O83)","v":""},{"$f":"IF('B) Eingabe (Lehrer)'!P83=\"\", \"\",'B) Eingabe (Lehrer)'!P83)","v":""},{"$f":"IF('B) Eingabe (Lehrer)'!Q83=\"\", \"\",'B) Eingabe (Lehrer)'!Q83)","v":""},{"$f":"IF('B) Eingabe (Lehrer)'!R83=\"\", \"\",'B) Eingabe (Lehrer)'!R83)","v":""},{"$f":"IF('B) Eingabe (Lehrer)'!S83=\"\", \"\",'B) Eingabe (Lehrer)'!S83)","v":""},{"$f":"IF('B) Eingabe (Lehrer)'!T83=\"\", \"\",'B) Eingabe (Lehrer)'!T83)","v":""},{"$f":"IF('B) Eingabe (Lehrer)'!U83=\"\", \"\",'B) Eingabe (Lehrer)'!U83)","v":""},{"$f":"IF('B) Eingabe (Lehrer)'!V83=\"\", \"\",'B) Eingabe (Lehrer)'!V83)","v":""},{"$f":"IF('B) Eingabe (Lehrer)'!W83=\"\", \"\",'B) Eingabe (Lehrer)'!W83)","v":""},{"$f":"IF('B) Eingabe (Lehrer)'!X83=\"\", \"\",'B) Eingabe (Lehrer)'!X83)","v":""},{"$f":"IF('B) Eingabe (Lehrer)'!Y83=\"\", \"\",'B) Eingabe (Lehrer)'!Y83)","v":""},{"$f":"IF('B) Eingabe (Lehrer)'!Z83=\"\", \"\",'B) Eingabe (Lehrer)'!Z83)","v":""},{"$f":"IF('B) Eingabe (Lehrer)'!AA83=\"\", \"\",'B) Eingabe (Lehrer)'!AA83)","v":""},{"$f":"IF('B) Eingabe (Lehrer)'!AB83=\"\", \"\",'B) Eingabe (Lehrer)'!AB83)","v":""},{"$f":"IF('B) Eingabe (Lehrer)'!AC83=\"\", \"\",'B) Eingabe (Lehrer)'!AC83)","v":""},{"$f":"IF('B) Eingabe (Lehrer)'!AD83=\"\", \"\",'B) Eingabe (Lehrer)'!AD83)","v":""},{"$f":"IF('B) Eingabe (Lehrer)'!AE83=\"\", \"\",'B) Eingabe (Lehrer)'!AE83)","v":""},{"$f":"IF('B) Eingabe (Lehrer)'!AF83=\"\", \"\",'B) Eingabe (Lehrer)'!AF83)","v":""},{"$f":"IF('B) Eingabe (Lehrer)'!AG83=\"\", \"\",'B) Eingabe (Lehrer)'!AG83)","v":""},{"$f":"IF('B) Eingabe (Lehrer)'!AH83=\"\", \"\",'B) Eingabe (Lehrer)'!AH83)","v":""},{"$f":"IF('B) Eingabe (Lehrer)'!AI83=\"\", \"\",'B) Eingabe (Lehrer)'!AI83)","v":""},{"$f":"IF('B) Eingabe (Lehrer)'!AJ83=\"\", \"\",'B) Eingabe (Lehrer)'!AJ83)","v":""},{"$f":"IF('B) Eingabe (Lehrer)'!AK83=\"\", \"\",'B) Eingabe (Lehrer)'!AK83)","v":""},{"$f":"IF('B) Eingabe (Lehrer)'!AL83=\"\", \"\",'B) Eingabe (Lehrer)'!AL83)","v":""},{"$f":"IF('B) Eingabe (Lehrer)'!AM83=\"\", \"\",'B) Eingabe (Lehrer)'!AM83)","v":""},{"$f":"IF('B) Eingabe (Lehrer)'!AN83=\"\", \"\",'B) Eingabe (Lehrer)'!AN83)","v":""},{"$f":"IF('B) Eingabe (Lehrer)'!AO83=\"\", \"\",'B) Eingabe (Lehrer)'!AO83)","v":""},{"$f":"IF('B) Eingabe (Lehrer)'!AP83=\"\", \"\",'B) Eingabe (Lehrer)'!AP83)","v":""},{"$f":"IF('B) Eingabe (Lehrer)'!AQ83=\"\", \"\",'B) Eingabe (Lehrer)'!AQ83)","v":""},{"$f":"IF('B) Eingabe (Lehrer)'!AR83=\"\", \"\",'B) Eingabe (Lehrer)'!AR83)","v":""},{"$f":"IF('B) Eingabe (Lehrer)'!AS83=\"\", \"\",'B) Eingabe (Lehrer)'!AS83)","v":""},{"$f":"IF('B) Eingabe (Lehrer)'!AT83=\"\", \"\",'B) Eingabe (Lehrer)'!AT83)","v":""},{"$f":"IF('B) Eingabe (Lehrer)'!AU83=\"\", \"\",'B) Eingabe (Lehrer)'!AU83)","v":""},{"$f":"IF('B) Eingabe (Lehrer)'!AV83=\"\", \"\",'B) Eingabe (Lehrer)'!AV83)","v":""},{"$f":"IF('B) Eingabe (Lehrer)'!AW83=\"\", \"\",'B) Eingabe (Lehrer)'!AW83)","v":""},{"$f":"IF('B) Eingabe (Lehrer)'!AX83=\"\", \"\",'B) Eingabe (Lehrer)'!AX83)","v":""},{"$f":"IF('B) Eingabe (Lehrer)'!AY83=\"\", \"\",'B) Eingabe (Lehrer)'!AY83)","v":""},{"$f":"IF('B) Eingabe (Lehrer)'!AZ83=\"\", \"\",'B) Eingabe (Lehrer)'!AZ83)","v":""},{"$f":"IF('B) Eingabe (Lehrer)'!BA83=\"\", \"\",'B) Eingabe (Lehrer)'!BA83)","v":""},{"$f":"IF('B) Eingabe (Lehrer)'!BB83=\"\", \"\",'B) Eingabe (Lehrer)'!BB83)","v":""},{"$f":"IF('B) Eingabe (Lehrer)'!BC83=\"\", \"\",'B) Eingabe (Lehrer)'!BC83)","v":""},{"$f":"IF('B) Eingabe (Lehrer)'!BD83=\"\", \"\",'B) Eingabe (Lehrer)'!BD83)","v":""},{"$f":"IF('B) Eingabe (Lehrer)'!BE83=\"\", \"\",'B) Eingabe (Lehrer)'!BE83)","v":""},{"$f":"IF('B) Eingabe (Lehrer)'!BF83=\"\", \"\",'B) Eingabe (Lehrer)'!BF83)","v":""},{"$f":"IF('B) Eingabe (Lehrer)'!BG83=\"\", \"\",'B) Eingabe (Lehrer)'!BG83)","v":""},{"$f":"IF('B) Eingabe (Lehrer)'!BH83=\"\", \"\",'B) Eingabe (Lehrer)'!BH83)","v":""},{"$f":"IF('B) Eingabe (Lehrer)'!BI83=\"\", \"\",'B) Eingabe (Lehrer)'!BI83)","v":""},{"$f":"IF('B) Eingabe (Lehrer)'!BJ83=\"\", \"\",'B) Eingabe (Lehrer)'!BJ83)","v":""},{"$f":"IF('B) Eingabe (Lehrer)'!BK83=\"\", \"\",'B) Eingabe (Lehrer)'!BK83)","v":""}]
["Zusatzitem 41",{"$f":"IF('B) Eingabe (Lehrer)'!C84=\"\", \"\",'B) Eingabe (Lehrer)'!C84)","v":""},{"$f":"IF('B) Eingabe (Lehrer)'!D84=\"\", \"\",'B) Eingabe (Lehrer)'!D84)","v":""},{"$f":"IF('B) Eingabe (Lehrer)'!E84=\"\", \"\",'B) Eingabe (Lehrer)'!E84)","v":""},{"$f":"IF('B) Eingabe (Lehrer)'!F84=\"\", \"\",'B) Eingabe (Lehrer)'!F84)","v":""},{"$f":"IF('B) Eingabe (Lehrer)'!G84=\"\", \"\",'B) Eingabe (Lehrer)'!G84)","v":""},{"$f":"IF('B) Eingabe (Lehrer)'!H84=\"\", \"\",'B) Eingabe (Lehrer)'!H84)","v":""},{"$f":"IF('B) Eingabe (Lehrer)'!I84=\"\", \"\",'B) Eingabe (Lehrer)'!I84)","v":""},{"$f":"IF('B) Eingabe (Lehrer)'!J84=\"\", \"\",'B) Eingabe (Lehrer)'!J84)","v":""},{"$f":"IF('B) Eingabe (Lehrer)'!K84=\"\", \"\",'B) Eingabe (Lehrer)'!K84)","v":""},{"$f":"IF('B) Eingabe (Lehrer)'!L84=\"\", \"\",'B) Eingabe (Lehrer)'!L84)","v":""},{"$f":"IF('B) Eingabe (Lehrer)'!M84=\"\", \"\",'B) Eingabe (Lehrer)'!M84)","v":""},{"$f":"IF('B) Eingabe (Lehrer)'!N84=\"\", \"\",'B) Eingabe (Lehrer)'!N84)","v":""},{"$f":"IF('B) Eingabe (Lehrer)'!O84=\"\", \"\",'B) Eingabe (Lehrer)'!O84)","v":""},{"$f":"IF('B) Eingabe (Lehrer)'!P84=\"\", \"\",'B) Eingabe (Lehrer)'!P84)","v":""},{"$f":"IF('B) Eingabe (Lehrer)'!Q84=\"\", \"\",'B) Eingabe (Lehrer)'!Q84)","v":""},{"$f":"IF('B) Eingabe (Lehrer)'!R84=\"\", \"\",'B) Eingabe (Lehrer)'!R84)","v":""},{"$f":"IF('B) Eingabe (Lehrer)'!S84=\"\", \"\",'B) Eingabe (Lehrer)'!S84)","v":""},{"$f":"IF('B) Eingabe (Lehrer)'!T84=\"\", \"\",'B) Eingabe (Lehrer)'!T84)","v":""},{"$f":"IF('B) Eingabe (Lehrer)'!U84=\"\", \"\",'B) Eingabe (Lehrer)'!U84)","v":""},{"$f":"IF('B) Eingabe (Lehrer)'!V84=\"\", \"\",'B) Eingabe (Lehrer)'!V84)","v":""},{"$f":"IF('B) Eingabe (Lehrer)'!W84=\"\", \"\",'B) Eingabe (Lehrer)'!W84)","v":""},{"$f":"IF('B) Eingabe (Lehrer)'!X84=\"\", \"\",'B) Eingabe (Lehrer)'!X84)","v":""},{"$f":"IF('B) Eingabe (Lehrer)'!Y84=\"\", \"\",'B) Eingabe (Lehrer)'!Y84)","v":""},{"$f":"IF('B) Eingabe (Lehrer)'!Z84=\"\", \"\",'B) Eingabe (Lehrer)'!Z84)","v":""},{"$f":"IF('B) Eingabe (Lehrer)'!AA84=\"\", \"\",'B) Eingabe (Lehrer)'!AA84)","v":""},{"$f":"IF('B) Eingabe (Lehrer)'!AB84=\"\", \"\",'B) Eingabe (Lehrer)'!AB84)","v":""},{"$f":"IF('B) Eingabe (Lehrer)'!AC84=\"\", \"\",'B) Eingabe (Lehrer)'!AC84)","v":""},{"$f":"IF('B) Eingabe (Lehrer)'!AD84=\"\", \"\",'B) Eingabe (Lehrer)'!AD84)","v":""},{"$f":"IF('B) Eingabe (Lehrer)'!AE84=\"\", \"\",'B) Eingabe (Lehrer)'!AE84)","v":""},{"$f":"IF('B) Eingabe (Lehrer)'!AF84=\"\", \"\",'B) Eingabe (Lehrer)'!AF84)","v":""},{"$f":"IF('B) Eingabe (Lehrer)'!AG84=\"\", \"\",'B) Eingabe (Lehrer)'!AG84)","v":""},{"$f":"IF('B) Eingabe (Lehrer)'!AH84=\"\", \"\",'B) Eingabe (Lehrer)'!AH84)","v":""},{"$f":"IF('B) Eingabe (Lehrer)'!AI84=\"\", \"\",'B) Eingabe (Lehrer)'!AI84)","v":""},{"$f":"IF('B) Eingabe (Lehrer)'!AJ84=\"\", \"\",'B) Eingabe (Lehrer)'!AJ84)","v":""},{"$f":"IF('B) Eingabe (Lehrer)'!AK84=\"\", \"\",'B) Eingabe (Lehrer)'!AK84)","v":""},{"$f":"IF('B) Eingabe (Lehrer)'!AL84=\"\", \"\",'B) Eingabe (Lehrer)'!AL84)","v":""},{"$f":"IF('B) Eingabe (Lehrer)'!AM84=\"\", \"\",'B) Eingabe (Lehrer)'!AM84)","v":""},{"$f":"IF('B) Eingabe (Lehrer)'!AN84=\"\", \"\",'B) Eingabe (Lehrer)'!AN84)","v":""},{"$f":"IF('B) Eingabe (Lehrer)'!AO84=\"\", \"\",'B) Eingabe (Lehrer)'!AO84)","v":""},{"$f":"IF('B) Eingabe (Lehrer)'!AP84=\"\", \"\",'B) Eingabe (Lehrer)'!AP84)","v":""},{"$f":"IF('B) Eingabe (Lehrer)'!AQ84=\"\", \"\",'B) Eingabe (Lehrer)'!AQ84)","v":""},{"$f":"IF('B) Eingabe (Lehrer)'!AR84=\"\", \"\",'B) Eingabe (Lehrer)'!AR84)","v":""},{"$f":"IF('B) Eingabe (Lehrer)'!AS84=\"\", \"\",'B) Eingabe (Lehrer)'!AS84)","v":""},{"$f":"IF('B) Eingabe (Lehrer)'!AT84=\"\", \"\",'B) Eingabe (Lehrer)'!AT84)","v":""},{"$f":"IF('B) Eingabe (Lehrer)'!AU84=\"\", \"\",'B) Eingabe (Lehrer)'!AU84)","v":""},{"$f":"IF('B) Eingabe (Lehrer)'!AV84=\"\", \"\",'B) Eingabe (Lehrer)'!AV84)","v":""},{"$f":"IF('B) Eingabe (Lehrer)'!AW84=\"\", \"\",'B) Eingabe (Lehrer)'!AW84)","v":""},{"$f":"IF('B) Eingabe (Lehrer)'!AX84=\"\", \"\",'B) Eingabe (Lehrer)'!AX84)","v":""},{"$f":"IF('B) Eingabe (Lehrer)'!AY84=\"\", \"\",'B) Eingabe (Lehrer)'!AY84)","v":""},{"$f":"IF('B) Eingabe (Lehrer)'!AZ84=\"\", \"\",'B) Eingabe (Lehrer)'!AZ84)","v":""},{"$f":"IF('B) Eingabe (Lehrer)'!BA84=\"\", \"\",'B) Eingabe (Lehrer)'!BA84)","v":""},{"$f":"IF('B) Eingabe (Lehrer)'!BB84=\"\", \"\",'B) Eingabe (Lehrer)'!BB84)","v":""},{"$f":"IF('B) Eingabe (Lehrer)'!BC84=\"\", \"\",'B) Eingabe (Lehrer)'!BC84)","v":""},{"$f":"IF('B) Eingabe (Lehrer)'!BD84=\"\", \"\",'B) Eingabe (Lehrer)'!BD84)","v":""},{"$f":"IF('B) Eingabe (Lehrer)'!BE84=\"\", \"\",'B) Eingabe (Lehrer)'!BE84)","v":""},{"$f":"IF('B) Eingabe (Lehrer)'!BF84=\"\", \"\",'B) Eingabe (Lehrer)'!BF84)","v":""},{"$f":"IF('B) Eingabe (Lehrer)'!BG84=\"\", \"\",'B) Eingabe (Lehrer)'!BG84)","v":""},{"$f":"IF('B) Eingabe (Lehrer)'!BH84=\"\", \"\",'B) Eingabe (Lehrer)'!BH84)","v":""},{"$f":"IF('B) Eingabe (Lehrer)'!BI84=\"\", \"\",'B) Eingabe (Lehrer)'!BI84)","v":""},{"$f":"IF('B) Eingabe (Lehrer)'!BJ84=\"\", \"\",'B) Eingabe (Lehrer)'!BJ84)","v":""},{"$f":"IF('B) Eingabe (Lehrer)'!BK84=\"\", \"\",'B) Eingabe (Lehrer)'!BK84)","v":""}]
["Zusatzitem 42",{"$f":"IF('B) Eingabe (Lehrer)'!C85=\"\", \"\",'B) Eingabe (Lehrer)'!C85)","v":""},{"$f":"IF('B) Eingabe (Lehrer)'!D85=\"\", \"\",'B) Eingabe (Lehrer)'!D85)","v":""},{"$f":"IF('B) Eingabe (Lehrer)'!E85=\"\", \"\",'B) Eingabe (Lehrer)'!E85)","v":""},{"$f":"IF('B) Eingabe (Lehrer)'!F85=\"\", \"\",'B) Eingabe (Lehrer)'!F85)","v":""},{"$f":"IF('B) Eingabe (Lehrer)'!G85=\"\", \"\",'B) Eingabe (Lehrer)'!G85)","v":""},{"$f":"IF('B) Eingabe (Lehrer)'!H85=\"\", \"\",'B) Eingabe (Lehrer)'!H85)","v":""},{"$f":"IF('B) Eingabe (Lehrer)'!I85=\"\", \"\",'B) Eingabe (Lehrer)'!I85)","v":""},{"$f":"IF('B) Eingabe (Lehrer)'!J85=\"\", \"\",'B) Eingabe (Lehrer)'!J85)","v":""},{"$f":"IF('B) Eingabe (Lehrer)'!K85=\"\", \"\",'B) Eingabe (Lehrer)'!K85)","v":""},{"$f":"IF('B) Eingabe (Lehrer)'!L85=\"\", \"\",'B) Eingabe (Lehrer)'!L85)","v":""},{"$f":"IF('B) Eingabe (Lehrer)'!M85=\"\", \"\",'B) Eingabe (Lehrer)'!M85)","v":""},{"$f":"IF('B) Eingabe (Lehrer)'!N85=\"\", \"\",'B) Eingabe (Lehrer)'!N85)","v":""},{"$f":"IF('B) Eingabe (Lehrer)'!O85=\"\", \"\",'B) Eingabe (Lehrer)'!O85)","v":""},{"$f":"IF('B) Eingabe (Lehrer)'!P85=\"\", \"\",'B) Eingabe (Lehrer)'!P85)","v":""},{"$f":"IF('B) Eingabe (Lehrer)'!Q85=\"\", \"\",'B) Eingabe (Lehrer)'!Q85)","v":""},{"$f":"IF('B) Eingabe (Lehrer)'!R85=\"\", \"\",'B) Eingabe (Lehrer)'!R85)","v":""},{"$f":"IF('B) Eingabe (Lehrer)'!S85=\"\", \"\",'B) Eingabe (Lehrer)'!S85)","v":""},{"$f":"IF('B) Eingabe (Lehrer)'!T85=\"\", \"\",'B) Eingabe (Lehrer)'!T85)","v":""},{"$f":"IF('B) Eingabe (Lehrer)'!U85=\"\", \"\",'B) Eingabe (Lehrer)'!U85)","v":""},{"$f":"IF('B) Eingabe (Lehrer)'!V85=\"\", \"\",'B) Eingabe (Lehrer)'!V85)","v":""},{"$f":"IF('B) Eingabe (Lehrer)'!W85=\"\", \"\",'B) Eingabe (Lehrer)'!W85)","v":""},{"$f":"IF('B) Eingabe (Lehrer)'!X85=\"\", \"\",'B) Eingabe (Lehrer)'!X85)","v":""},{"$f":"IF('B) Eingabe (Lehrer)'!Y85=\"\", \"\",'B) Eingabe (Lehrer)'!Y85)","v":""},{"$f":"IF('B) Eingabe (Lehrer)'!Z85=\"\", \"\",'B) Eingabe (Lehrer)'!Z85)","v":""},{"$f":"IF('B) Eingabe (Lehrer)'!AA85=\"\", \"\",'B) Eingabe (Lehrer)'!AA85)","v":""},{"$f":"IF('B) Eingabe (Lehrer)'!AB85=\"\", \"\",'B) Eingabe (Lehrer)'!AB85)","v":""},{"$f":"IF('B) Eingabe (Lehrer)'!AC85=\"\", \"\",'B) Eingabe (Lehrer)'!AC85)","v":""},{"$f":"IF('B) Eingabe (Lehrer)'!AD85=\"\", \"\",'B) Eingabe (Lehrer)'!AD85)","v":""},{"$f":"IF('B) Eingabe (Lehrer)'!AE85=\"\", \"\",'B) Eingabe (Lehrer)'!AE85)","v":""},{"$f":"IF('B) Eingabe (Lehrer)'!AF85=\"\", \"\",'B) Eingabe (Lehrer)'!AF85)","v":""},{"$f":"IF('B) Eingabe (Lehrer)'!AG85=\"\", \"\",'B) Eingabe (Lehrer)'!AG85)","v":""},{"$f":"IF('B) Eingabe (Lehrer)'!AH85=\"\", \"\",'B) Eingabe (Lehrer)'!AH85)","v":""},{"$f":"IF('B) Eingabe (Lehrer)'!AI85=\"\", \"\",'B) Eingabe (Lehrer)'!AI85)","v":""},{"$f":"IF('B) Eingabe (Lehrer)'!AJ85=\"\", \"\",'B) Eingabe (Lehrer)'!AJ85)","v":""},{"$f":"IF('B) Eingabe (Lehrer)'!AK85=\"\", \"\",'B) Eingabe (Lehrer)'!AK85)","v":""},{"$f":"IF('B) Eingabe (Lehrer)'!AL85=\"\", \"\",'B) Eingabe (Lehrer)'!AL85)","v":""},{"$f":"IF('B) Eingabe (Lehrer)'!AM85=\"\", \"\",'B) Eingabe (Lehrer)'!AM85)","v":""},{"$f":"IF('B) Eingabe (Lehrer)'!AN85=\"\", \"\",'B) Eingabe (Lehrer)'!AN85)","v":""},{"$f":"IF('B) Eingabe (Lehrer)'!AO85=\"\", \"\",'B) Eingabe (Lehrer)'!AO85)","v":""},{"$f":"IF('B) Eingabe (Lehrer)'!AP85=\"\", \"\",'B) Eingabe (Lehrer)'!AP85)","v":""},{"$f":"IF('B) Eingabe (Lehrer)'!AQ85=\"\", \"\",'B) Eingabe (Lehrer)'!AQ85)","v":""},{"$f":"IF('B) Eingabe (Lehrer)'!AR85=\"\", \"\",'B) Eingabe (Lehrer)'!AR85)","v":""},{"$f":"IF('B) Eingabe (Lehrer)'!AS85=\"\", \"\",'B) Eingabe (Lehrer)'!AS85)","v":""},{"$f":"IF('B) Eingabe (Lehrer)'!AT85=\"\", \"\",'B) Eingabe (Lehrer)'!AT85)","v":""},{"$f":"IF('B) Eingabe (Lehrer)'!AU85=\"\", \"\",'B) Eingabe (Lehrer)'!AU85)","v":""},{"$f":"IF('B) Eingabe (Lehrer)'!AV85=\"\", \"\",'B) Eingabe (Lehrer)'!AV85)","v":""},{"$f":"IF('B) Eingabe (Lehrer)'!AW85=\"\", \"\",'B) Eingabe (Lehrer)'!AW85)","v":""},{"$f":"IF('B) Eingabe (Lehrer)'!AX85=\"\", \"\",'B) Eingabe (Lehrer)'!AX85)","v":""},{"$f":"IF('B) Eingabe (Lehrer)'!AY85=\"\", \"\",'B) Eingabe (Lehrer)'!AY85)","v":""},{"$f":"IF('B) Eingabe (Lehrer)'!AZ85=\"\", \"\",'B) Eingabe (Lehrer)'!AZ85)","v":""},{"$f":"IF('B) Eingabe (Lehrer)'!BA85=\"\", \"\",'B) Eingabe (Lehrer)'!BA85)","v":""},{"$f":"IF('B) Eingabe (Lehrer)'!BB85=\"\", \"\",'B) Eingabe (Lehrer)'!BB85)","v":""},{"$f":"IF('B) Eingabe (Lehrer)'!BC85=\"\", \"\",'B) Eingabe (Lehrer)'!BC85)","v":""},{"$f":"IF('B) Eingabe (Lehrer)'!BD85=\"\", \"\",'B) Eingabe (Lehrer)'!BD85)","v":""},{"$f":"IF('B) Eingabe (Lehrer)'!BE85=\"\", \"\",'B) Eingabe (Lehrer)'!BE85)","v":""},{"$f":"IF('B) Eingabe (Lehrer)'!BF85=\"\", \"\",'B) Eingabe (Lehrer)'!BF85)","v":""},{"$f":"IF('B) Eingabe (Lehrer)'!BG85=\"\", \"\",'B) Eingabe (Lehrer)'!BG85)","v":""},{"$f":"IF('B) Eingabe (Lehrer)'!BH85=\"\", \"\",'B) Eingabe (Lehrer)'!BH85)","v":""},{"$f":"IF('B) Eingabe (Lehrer)'!BI85=\"\", \"\",'B) Eingabe (Lehrer)'!BI85)","v":""},{"$f":"IF('B) Eingabe (Lehrer)'!BJ85=\"\", \"\",'B) Eingabe (Lehrer)'!BJ85)","v":""},{"$f":"IF('B) Eingabe (Lehrer)'!BK85=\"\", \"\",'B) Eingabe (Lehrer)'!BK85)","v":""}]
["Zusatzitem 43",{"$f":"IF('B) Eingabe (Lehrer)'!C86=\"\", \"\",'B) Eingabe (Lehrer)'!C86)","v":""},{"$f":"IF('B) Eingabe (Lehrer)'!D86=\"\", \"\",'B) Eingabe (Lehrer)'!D86)","v":""},{"$f":"IF('B) Eingabe (Lehrer)'!E86=\"\", \"\",'B) Eingabe (Lehrer)'!E86)","v":""},{"$f":"IF('B) Eingabe (Lehrer)'!F86=\"\", \"\",'B) Eingabe (Lehrer)'!F86)","v":""},{"$f":"IF('B) Eingabe (Lehrer)'!G86=\"\", \"\",'B) Eingabe (Lehrer)'!G86)","v":""},{"$f":"IF('B) Eingabe (Lehrer)'!H86=\"\", \"\",'B) Eingabe (Lehrer)'!H86)","v":""},{"$f":"IF('B) Eingabe (Lehrer)'!I86=\"\", \"\",'B) Eingabe (Lehrer)'!I86)","v":""},{"$f":"IF('B) Eingabe (Lehrer)'!J86=\"\", \"\",'B) Eingabe (Lehrer)'!J86)","v":""},{"$f":"IF('B) Eingabe (Lehrer)'!K86=\"\", \"\",'B) Eingabe (Lehrer)'!K86)","v":""},{"$f":"IF('B) Eingabe (Lehrer)'!L86=\"\", \"\",'B) Eingabe (Lehrer)'!L86)","v":""},{"$f":"IF('B) Eingabe (Lehrer)'!M86=\"\", \"\",'B) Eingabe (Lehrer)'!M86)","v":""},{"$f":"IF('B) Eingabe (Lehrer)'!N86=\"\", \"\",'B) Eingabe (Lehrer)'!N86)","v":""},{"$f":"IF('B) Eingabe (Lehrer)'!O86=\"\", \"\",'B) Eingabe (Lehrer)'!O86)","v":""},{"$f":"IF('B) Eingabe (Lehrer)'!P86=\"\", \"\",'B) Eingabe (Lehrer)'!P86)","v":""},{"$f":"IF('B) Eingabe (Lehrer)'!Q86=\"\", \"\",'B) Eingabe (Lehrer)'!Q86)","v":""},{"$f":"IF('B) Eingabe (Lehrer)'!R86=\"\", \"\",'B) Eingabe (Lehrer)'!R86)","v":""},{"$f":"IF('B) Eingabe (Lehrer)'!S86=\"\", \"\",'B) Eingabe (Lehrer)'!S86)","v":""},{"$f":"IF('B) Eingabe (Lehrer)'!T86=\"\", \"\",'B) Eingabe (Lehrer)'!T86)","v":""},{"$f":"IF('B) Eingabe (Lehrer)'!U86=\"\", \"\",'B) Eingabe (Lehrer)'!U86)","v":""},{"$f":"IF('B) Eingabe (Lehrer)'!V86=\"\", \"\",'B) Eingabe (Lehrer)'!V86)","v":""},{"$f":"IF('B) Eingabe (Lehrer)'!W86=\"\", \"\",'B) Eingabe (Lehrer)'!W86)","v":""},{"$f":"IF('B) Eingabe (Lehrer)'!X86=\"\", \"\",'B) Eingabe (Lehrer)'!X86)","v":""},{"$f":"IF('B) Eingabe (Lehrer)'!Y86=\"\", \"\",'B) Eingabe (Lehrer)'!Y86)","v":""},{"$f":"IF('B) Eingabe (Lehrer)'!Z86=\"\", \"\",'B) Eingabe (Lehrer)'!Z86)","v":""},{"$f":"IF('B) Eingabe (Lehrer)'!AA86=\"\", \"\",'B) Eingabe (Lehrer)'!AA86)","v":""},{"$f":"IF('B) Eingabe (Lehrer)'!AB86=\"\", \"\",'B) Eingabe (Lehrer)'!AB86)","v":""},{"$f":"IF('B) Eingabe (Lehrer)'!AC86=\"\", \"\",'B) Eingabe (Lehrer)'!AC86)","v":""},{"$f":"IF('B) Eingabe (Lehrer)'!AD86=\"\", \"\",'B) Eingabe (Lehrer)'!AD86)","v":""},{"$f":"IF('B) Eingabe (Lehrer)'!AE86=\"\", \"\",'B) Eingabe (Lehrer)'!AE86)","v":""},{"$f":"IF('B) Eingabe (Lehrer)'!AF86=\"\", \"\",'B) Eingabe (Lehrer)'!AF86)","v":""},{"$f":"IF('B) Eingabe (Lehrer)'!AG86=\"\", \"\",'B) Eingabe (Lehrer)'!AG86)","v":""},{"$f":"IF('B) Eingabe (Lehrer)'!AH86=\"\", \"\",'B) Eingabe (Lehrer)'!AH86)","v":""},{"$f":"IF('B) Eingabe (Lehrer)'!AI86=\"\", \"\",'B) Eingabe (Lehrer)'!AI86)","v":""},{"$f":"IF('B) Eingabe (Lehrer)'!AJ86=\"\", \"\",'B) Eingabe (Lehrer)'!AJ86)","v":""},{"$f":"IF('B) Eingabe (Lehrer)'!AK86=\"\", \"\",'B) Eingabe (Lehrer)'!AK86)","v":""},{"$f":"IF('B) Eingabe (Lehrer)'!AL86=\"\", \"\",'B) Eingabe (Lehrer)'!AL86)","v":""},{"$f":"IF('B) Eingabe (Lehrer)'!AM86=\"\", \"\",'B) Eingabe (Lehrer)'!AM86)","v":""},{"$f":"IF('B) Eingabe (Lehrer)'!AN86=\"\", \"\",'B) Eingabe (Lehrer)'!AN86)","v":""},{"$f":"IF('B) Eingabe (Lehrer)'!AO86=\"\", \"\",'B) Eingabe (Lehrer)'!AO86)","v":""},{"$f":"IF('B) Eingabe (Lehrer)'!AP86=\"\", \"\",'B) Eingabe (Lehrer)'!AP86)","v":""},{"$f":"IF('B) Eingabe (Lehrer)'!AQ86=\"\", \"\",'B) Eingabe (Lehrer)'!AQ86)","v":""},{"$f":"IF('B) Eingabe (Lehrer)'!AR86=\"\", \"\",'B) Eingabe (Lehrer)'!AR86)","v":""},{"$f":"IF('B) Eingabe (Lehrer)'!AS86=\"\", \"\",'B) Eingabe (Lehrer)'!AS86)","v":""},{"$f":"IF('B) Eingabe (Lehrer)'!AT86=\"\", \"\",'B) Eingabe (Lehrer)'!AT86)","v":""},{"$f":"IF('B) Eingabe (Lehrer)'!AU86=\"\", \"\",'B) Eingabe (Lehrer)'!AU86)","v":""},{"$f":"IF('B) Eingabe (Lehrer)'!AV86=\"\", \"\",'B) Eingabe (Lehrer)'!AV86)","v":""},{"$f":"IF('B) Eingabe (Lehrer)'!AW86=\"\", \"\",'B) Eingabe (Lehrer)'!AW86)","v":""},{"$f":"IF('B) Eingabe (Lehrer)'!AX86=\"\", \"\",'B) Eingabe (Lehrer)'!AX86)","v":""},{"$f":"IF('B) Eingabe (Lehrer)'!AY86=\"\", \"\",'B) Eingabe (Lehrer)'!AY86)","v":""},{"$f":"IF('B) Eingabe (Lehrer)'!AZ86=\"\", \"\",'B) Eingabe (Lehrer)'!AZ86)","v":""},{"$f":"IF('B) Eingabe (Lehrer)'!BA86=\"\", \"\",'B) Eingabe (Lehrer)'!BA86)","v":""},{"$f":"IF('B) Eingabe (Lehrer)'!BB86=\"\", \"\",'B) Eingabe (Lehrer)'!BB86)","v":""},{"$f":"IF('B) Eingabe (Lehrer)'!BC86=\"\", \"\",'B) Eingabe (Lehrer)'!BC86)","v":""},{"$f":"IF('B) Eingabe (Lehrer)'!BD86=\"\", \"\",'B) Eingabe (Lehrer)'!BD86)","v":""},{"$f":"IF('B) Eingabe (Lehrer)'!BE86=\"\", \"\",'B) Eingabe (Lehrer)'!BE86)","v":""},{"$f":"IF('B) Eingabe (Lehrer)'!BF86=\"\", \"\",'B) Eingabe (Lehrer)'!BF86)","v":""},{"$f":"IF('B) Eingabe (Lehrer)'!BG86=\"\", \"\",'B) Eingabe (Lehrer)'!BG86)","v":""},{"$f":"IF('B) Eingabe (Lehrer)'!BH86=\"\", \"\",'B) Eingabe (Lehrer)'!BH86)","v":""},{"$f":"IF('B) Eingabe (Lehrer)'!BI86=\"\", \"\",'B) Eingabe (Lehrer)'!BI86)","v":""},{"$f":"IF('B) Eingabe (Lehrer)'!BJ86=\"\", \"\",'B) Eingabe (Lehrer)'!BJ86)","v":""},{"$f":"IF('B) Eingabe (Lehrer)'!BK86=\"\", \"\",'B) Eingabe (Lehrer)'!BK86)","v":""}]
["Zusatzitem 44",{"$f":"IF('B) Eingabe (Lehrer)'!C87=\"\", \"\",'B) Eingabe (Lehrer)'!C87)","v":""},{"$f":"IF('B) Eingabe (Lehrer)'!D87=\"\", \"\",'B) Eingabe (Lehrer)'!D87)","v":""},{"$f":"IF('B) Eingabe (Lehrer)'!E87=\"\", \"\",'B) Eingabe (Lehrer)'!E87)","v":""},{"$f":"IF('B) Eingabe (Lehrer)'!F87=\"\", \"\",'B) Eingabe (Lehrer)'!F87)","v":""},{"$f":"IF('B) Eingabe (Lehrer)'!G87=\"\", \"\",'B) Eingabe (Lehrer)'!G87)","v":""},{"$f":"IF('B) Eingabe (Lehrer)'!H87=\"\", \"\",'B) Eingabe (Lehrer)'!H87)","v":""},{"$f":"IF('B) Eingabe (Lehrer)'!I87=\"\", \"\",'B) Eingabe (Lehrer)'!I87)","v":""},{"$f":"IF('B) Eingabe (Lehrer)'!J87=\"\", \"\",'B) Eingabe (Lehrer)'!J87)","v":""},{"$f":"IF('B) Eingabe (Lehrer)'!K87=\"\", \"\",'B) Eingabe (Lehrer)'!K87)","v":""},{"$f":"IF('B) Eingabe (Lehrer)'!L87=\"\", \"\",'B) Eingabe (Lehrer)'!L87)","v":""},{"$f":"IF('B) Eingabe (Lehrer)'!M87=\"\", \"\",'B) Eingabe (Lehrer)'!M87)","v":""},{"$f":"IF('B) Eingabe (Lehrer)'!N87=\"\", \"\",'B) Eingabe (Lehrer)'!N87)","v":""},{"$f":"IF('B) Eingabe (Lehrer)'!O87=\"\", \"\",'B) Eingabe (Lehrer)'!O87)","v":""},{"$f":"IF('B) Eingabe (Lehrer)'!P87=\"\", \"\",'B) Eingabe (Lehrer)'!P87)","v":""},{"$f":"IF('B) Eingabe (Lehrer)'!Q87=\"\", \"\",'B) Eingabe (Lehrer)'!Q87)","v":""},{"$f":"IF('B) Eingabe (Lehrer)'!R87=\"\", \"\",'B) Eingabe (Lehrer)'!R87)","v":""},{"$f":"IF('B) Eingabe (Lehrer)'!S87=\"\", \"\",'B) Eingabe (Lehrer)'!S87)","v":""},{"$f":"IF('B) Eingabe (Lehrer)'!T87=\"\", \"\",'B) Eingabe (Lehrer)'!T87)","v":""},{"$f":"IF('B) Eingabe (Lehrer)'!U87=\"\", \"\",'B) Eingabe (Lehrer)'!U87)","v":""},{"$f":"IF('B) Eingabe (Lehrer)'!V87=\"\", \"\",'B) Eingabe (Lehrer)'!V87)","v":""},{"$f":"IF('B) Eingabe (Lehrer)'!W87=\"\", \"\",'B) Eingabe (Lehrer)'!W87)","v":""},{"$f":"IF('B) Eingabe (Lehrer)'!X87=\"\", \"\",'B) Eingabe (Lehrer)'!X87)","v":""},{"$f":"IF('B) Eingabe (Lehrer)'!Y87=\"\", \"\",'B) Eingabe (Lehrer)'!Y87)","v":""},{"$f":"IF('B) Eingabe (Lehrer)'!Z87=\"\", \"\",'B) Eingabe (Lehrer)'!Z87)","v":""},{"$f":"IF('B) Eingabe (Lehrer)'!AA87=\"\", \"\",'B) Eingabe (Lehrer)'!AA87)","v":""},{"$f":"IF('B) Eingabe (Lehrer)'!AB87=\"\", \"\",'B) Eingabe (Lehrer)'!AB87)","v":""},{"$f":"IF('B) Eingabe (Lehrer)'!AC87=\"\", \"\",'B) Eingabe (Lehrer)'!AC87)","v":""},{"$f":"IF('B) Eingabe (Lehrer)'!AD87=\"\", \"\",'B) Eingabe (Lehrer)'!AD87)","v":""},{"$f":"IF('B) Eingabe (Lehrer)'!AE87=\"\", \"\",'B) Eingabe (Lehrer)'!AE87)","v":""},{"$f":"IF('B) Eingabe (Lehrer)'!AF87=\"\", \"\",'B) Eingabe (Lehrer)'!AF87)","v":""},{"$f":"IF('B) Eingabe (Lehrer)'!AG87=\"\", \"\",'B) Eingabe (Lehrer)'!AG87)","v":""},{"$f":"IF('B) Eingabe (Lehrer)'!AH87=\"\", \"\",'B) Eingabe (Lehrer)'!AH87)","v":""},{"$f":"IF('B) Eingabe (Lehrer)'!AI87=\"\", \"\",'B) Eingabe (Lehrer)'!AI87)","v":""},{"$f":"IF('B) Eingabe (Lehrer)'!AJ87=\"\", \"\",'B) Eingabe (Lehrer)'!AJ87)","v":""},{"$f":"IF('B) Eingabe (Lehrer)'!AK87=\"\", \"\",'B) Eingabe (Lehrer)'!AK87)","v":""},{"$f":"IF('B) Eingabe (Lehrer)'!AL87=\"\", \"\",'B) Eingabe (Lehrer)'!AL87)","v":""},{"$f":"IF('B) Eingabe (Lehrer)'!AM87=\"\", \"\",'B) Eingabe (Lehrer)'!AM87)","v":""},{"$f":"IF('B) Eingabe (Lehrer)'!AN87=\"\", \"\",'B) Eingabe (Lehrer)'!AN87)","v":""},{"$f":"IF('B) Eingabe (Lehrer)'!AO87=\"\", \"\",'B) Eingabe (Lehrer)'!AO87)","v":""},{"$f":"IF('B) Eingabe (Lehrer)'!AP87=\"\", \"\",'B) Eingabe (Lehrer)'!AP87)","v":""},{"$f":"IF('B) Eingabe (Lehrer)'!AQ87=\"\", \"\",'B) Eingabe (Lehrer)'!AQ87)","v":""},{"$f":"IF('B) Eingabe (Lehrer)'!AR87=\"\", \"\",'B) Eingabe (Lehrer)'!AR87)","v":""},{"$f":"IF('B) Eingabe (Lehrer)'!AS87=\"\", \"\",'B) Eingabe (Lehrer)'!AS87)","v":""},{"$f":"IF('B) Eingabe (Lehrer)'!AT87=\"\", \"\",'B) Eingabe (Lehrer)'!AT87)","v":""},{"$f":"IF('B) Eingabe (Lehrer)'!AU87=\"\", \"\",'B) Eingabe (Lehrer)'!AU87)","v":""},{"$f":"IF('B) Eingabe (Lehrer)'!AV87=\"\", \"\",'B) Eingabe (Lehrer)'!AV87)","v":""},{"$f":"IF('B) Eingabe (Lehrer)'!AW87=\"\", \"\",'B) Eingabe (Lehrer)'!AW87)","v":""},{"$f":"IF('B) Eingabe (Lehrer)'!AX87=\"\", \"\",'B) Eingabe (Lehrer)'!AX87)","v":""},{"$f":"IF('B) Eingabe (Lehrer)'!AY87=\"\", \"\",'B) Eingabe (Lehrer)'!AY87)","v":""},{"$f":"IF('B) Eingabe (Lehrer)'!AZ87=\"\", \"\",'B) Eingabe (Lehrer)'!AZ87)","v":""},{"$f":"IF('B) Eingabe (Lehrer)'!BA87=\"\", \"\",'B) Eingabe (Lehrer)'!BA87)","v":""},{"$f":"IF('B) Eingabe (Lehrer)'!BB87=\"\", \"\",'B) Eingabe (Lehrer)'!BB87)","v":""},{"$f":"IF('B) Eingabe (Lehrer)'!BC87=\"\", \"\",'B) Eingabe (Lehrer)'!BC87)","v":""},{"$f":"IF('B) Eingabe (Lehrer)'!BD87=\"\", \"\",'B) Eingabe (Lehrer)'!BD87)","v":""},{"$f":"IF('B) Eingabe (Lehrer)'!BE87=\"\", \"\",'B) Eingabe (Lehrer)'!BE87)","v":""},{"$f":"IF('B) Eingabe (Lehrer)'!BF87=\"\", \"\",'B) Eingabe (Lehrer)'!BF87)","v":""},{"$f":"IF('B) Eingabe (Lehrer)'!BG87=\"\", \"\",'B) Eingabe (Lehrer)'!BG87)","v":""},{"$f":"IF('B) Eingabe (Lehrer)'!BH87=\"\", \"\",'B) Eingabe (Lehrer)'!BH87)","v":""},{"$f":"IF('B) Eingabe (Lehrer)'!BI87=\"\", \"\",'B) Eingabe (Lehrer)'!BI87)","v":""},{"$f":"IF('B) Eingabe (Lehrer)'!BJ87=\"\", \"\",'B) Eingabe (Lehrer)'!BJ87)","v":""},{"$f":"IF('B) Eingabe (Lehrer)'!BK87=\"\", \"\",'B) Eingabe (Lehrer)'!BK87)","v":""}]
["Zusatzitem 45",{"$f":"IF('B) Eingabe (Lehrer)'!C88=\"\", \"\",'B) Eingabe (Lehrer)'!C88)","v":""},{"$f":"IF('B) Eingabe (Lehrer)'!D88=\"\", \"\",'B) Eingabe (Lehrer)'!D88)","v":""},{"$f":"IF('B) Eingabe (Lehrer)'!E88=\"\", \"\",'B) Eingabe (Lehrer)'!E88)","v":""},{"$f":"IF('B) Eingabe (Lehrer)'!F88=\"\", \"\",'B) Eingabe (Lehrer)'!F88)","v":""},{"$f":"IF('B) Eingabe (Lehrer)'!G88=\"\", \"\",'B) Eingabe (Lehrer)'!G88)","v":""},{"$f":"IF('B) Eingabe (Lehrer)'!H88=\"\", \"\",'B) Eingabe (Lehrer)'!H88)","v":""},{"$f":"IF('B) Eingabe (Lehrer)'!I88=\"\", \"\",'B) Eingabe (Lehrer)'!I88)","v":""},{"$f":"IF('B) Eingabe (Lehrer)'!J88=\"\", \"\",'B) Eingabe (Lehrer)'!J88)","v":""},{"$f":"IF('B) Eingabe (Lehrer)'!K88=\"\", \"\",'B) Eingabe (Lehrer)'!K88)","v":""},{"$f":"IF('B) Eingabe (Lehrer)'!L88=\"\", \"\",'B) Eingabe (Lehrer)'!L88)","v":""},{"$f":"IF('B) Eingabe (Lehrer)'!M88=\"\", \"\",'B) Eingabe (Lehrer)'!M88)","v":""},{"$f":"IF('B) Eingabe (Lehrer)'!N88=\"\", \"\",'B) Eingabe (Lehrer)'!N88)","v":""},{"$f":"IF('B) Eingabe (Lehrer)'!O88=\"\", \"\",'B) Eingabe (Lehrer)'!O88)","v":""},{"$f":"IF('B) Eingabe (Lehrer)'!P88=\"\", \"\",'B) Eingabe (Lehrer)'!P88)","v":""},{"$f":"IF('B) Eingabe (Lehrer)'!Q88=\"\", \"\",'B) Eingabe (Lehrer)'!Q88)","v":""},{"$f":"IF('B) Eingabe (Lehrer)'!R88=\"\", \"\",'B) Eingabe (Lehrer)'!R88)","v":""},{"$f":"IF('B) Eingabe (Lehrer)'!S88=\"\", \"\",'B) Eingabe (Lehrer)'!S88)","v":""},{"$f":"IF('B) Eingabe (Lehrer)'!T88=\"\", \"\",'B) Eingabe (Lehrer)'!T88)","v":""},{"$f":"IF('B) Eingabe (Lehrer)'!U88=\"\", \"\",'B) Eingabe (Lehrer)'!U88)","v":""},{"$f":"IF('B) Eingabe (Lehrer)'!V88=\"\", \"\",'B) Eingabe (Lehrer)'!V88)","v":""},{"$f":"IF('B) Eingabe (Lehrer)'!W88=\"\", \"\",'B) Eingabe (Lehrer)'!W88)","v":""},{"$f":"IF('B) Eingabe (Lehrer)'!X88=\"\", \"\",'B) Eingabe (Lehrer)'!X88)","v":""},{"$f":"IF('B) Eingabe (Lehrer)'!Y88=\"\", \"\",'B) Eingabe (Lehrer)'!Y88)","v":""},{"$f":"IF('B) Eingabe (Lehrer)'!Z88=\"\", \"\",'B) Eingabe (Lehrer)'!Z88)","v":""},{"$f":"IF('B) Eingabe (Lehrer)'!AA88=\"\", \"\",'B) Eingabe (Lehrer)'!AA88)","v":""},{"$f":"IF('B) Eingabe (Lehrer)'!AB88=\"\", \"\",'B) Eingabe (Lehrer)'!AB88)","v":""},{"$f":"IF('B) Eingabe (Lehrer)'!AC88=\"\", \"\",'B) Eingabe (Lehrer)'!AC88)","v":""},{"$f":"IF('B) Eingabe (Lehrer)'!AD88=\"\", \"\",'B) Eingabe (Lehrer)'!AD88)","v":""},{"$f":"IF('B) Eingabe (Lehrer)'!AE88=\"\", \"\",'B) Eingabe (Lehrer)'!AE88)","v":""},{"$f":"IF('B) Eingabe (Lehrer)'!AF88=\"\", \"\",'B) Eingabe (Lehrer)'!AF88)","v":""},{"$f":"IF('B) Eingabe (Lehrer)'!AG88=\"\", \"\",'B) Eingabe (Lehrer)'!AG88)","v":""},{"$f":"IF('B) Eingabe (Lehrer)'!AH88=\"\", \"\",'B) Eingabe (Lehrer)'!AH88)","v":""},{"$f":"IF('B) Eingabe (Lehrer)'!AI88=\"\", \"\",'B) Eingabe (Lehrer)'!AI88)","v":""},{"$f":"IF('B) Eingabe (Lehrer)'!AJ88=\"\", \"\",'B) Eingabe (Lehrer)'!AJ88)","v":""},{"$f":"IF('B) Eingabe (Lehrer)'!AK88=\"\", \"\",'B) Eingabe (Lehrer)'!AK88)","v":""},{"$f":"IF('B) Eingabe (Lehrer)'!AL88=\"\", \"\",'B) Eingabe (Lehrer)'!AL88)","v":""},{"$f":"IF('B) Eingabe (Lehrer)'!AM88=\"\", \"\",'B) Eingabe (Lehrer)'!AM88)","v":""},{"$f":"IF('B) Eingabe (Lehrer)'!AN88=\"\", \"\",'B) Eingabe (Lehrer)'!AN88)","v":""},{"$f":"IF('B) Eingabe (Lehrer)'!AO88=\"\", \"\",'B) Eingabe (Lehrer)'!AO88)","v":""},{"$f":"IF('B) Eingabe (Lehrer)'!AP88=\"\", \"\",'B) Eingabe (Lehrer)'!AP88)","v":""},{"$f":"IF('B) Eingabe (Lehrer)'!AQ88=\"\", \"\",'B) Eingabe (Lehrer)'!AQ88)","v":""},{"$f":"IF('B) Eingabe (Lehrer)'!AR88=\"\", \"\",'B) Eingabe (Lehrer)'!AR88)","v":""},{"$f":"IF('B) Eingabe (Lehrer)'!AS88=\"\", \"\",'B) Eingabe (Lehrer)'!AS88)","v":""},{"$f":"IF('B) Eingabe (Lehrer)'!AT88=\"\", \"\",'B) Eingabe (Lehrer)'!AT88)","v":""},{"$f":"IF('B) Eingabe (Lehrer)'!AU88=\"\", \"\",'B) Eingabe (Lehrer)'!AU88)","v":""},{"$f":"IF('B) Eingabe (Lehrer)'!AV88=\"\", \"\",'B) Eingabe (Lehrer)'!AV88)","v":""},{"$f":"IF('B) Eingabe (Lehrer)'!AW88=\"\", \"\",'B) Eingabe (Lehrer)'!AW88)","v":""},{"$f":"IF('B) Eingabe (Lehrer)'!AX88=\"\", \"\",'B) Eingabe (Lehrer)'!AX88)","v":""},{"$f":"IF('B) Eingabe (Lehrer)'!AY88=\"\", \"\",'B) Eingabe (Lehrer)'!AY88)","v":""},{"$f":"IF('B) Eingabe (Lehrer)'!AZ88=\"\", \"\",'B) Eingabe (Lehrer)'!AZ88)","v":""},{"$f":"IF('B) Eingabe (Lehrer)'!BA88=\"\", \"\",'B) Eingabe (Lehrer)'!BA88)","v":""},{"$f":"IF('B) Eingabe (Lehrer)'!BB88=\"\", \"\",'B) Eingabe (Lehrer)'!BB88)","v":""},{"$f":"IF('B) Eingabe (Lehrer)'!BC88=\"\", \"\",'B) Eingabe (Lehrer)'!BC88)","v":""},{"$f":"IF('B) Eingabe (Lehrer)'!BD88=\"\", \"\",'B) Eingabe (Lehrer)'!BD88)","v":""},{"$f":"IF('B) Eingabe (Lehrer)'!BE88=\"\", \"\",'B) Eingabe (Lehrer)'!BE88)","v":""},{"$f":"IF('B) Eingabe (Lehrer)'!BF88=\"\", \"\",'B) Eingabe (Lehrer)'!BF88)","v":""},{"$f":"IF('B) Eingabe (Lehrer)'!BG88=\"\", \"\",'B) Eingabe (Lehrer)'!BG88)","v":""},{"$f":"IF('B) Eingabe (Lehrer)'!BH88=\"\", \"\",'B) Eingabe (Lehrer)'!BH88)","v":""},{"$f":"IF('B) Eingabe (Lehrer)'!BI88=\"\", \"\",'B) Eingabe (Lehrer)'!BI88)","v":""},{"$f":"IF('B) Eingabe (Lehrer)'!BJ88=\"\", \"\",'B) Eingabe (Lehrer)'!BJ88)","v":""},{"$f":"IF('B) Eingabe (Lehrer)'!BK88=\"\", \"\",'B) Eingabe (Lehrer)'!BK88)","v":""}]
["Zusatzitem 46",{"$f":"IF('B) Eingabe (Lehrer)'!C89=\"\", \"\",'B) Eingabe (Lehrer)'!C89)","v":""},{"$f":"IF('B) Eingabe (Lehrer)'!D89=\"\", \"\",'B) Eingabe (Lehrer)'!D89)","v":""},{"$f":"IF('B) Eingabe (Lehrer)'!E89=\"\", \"\",'B) Eingabe (Lehrer)'!E89)","v":""},{"$f":"IF('B) Eingabe (Lehrer)'!F89=\"\", \"\",'B) Eingabe (Lehrer)'!F89)","v":""},{"$f":"IF('B) Eingabe (Lehrer)'!G89=\"\", \"\",'B) Eingabe (Lehrer)'!G89)","v":""},{"$f":"IF('B) Eingabe (Lehrer)'!H89=\"\", \"\",'B) Eingabe (Lehrer)'!H89)","v":""},{"$f":"IF('B) Eingabe (Lehrer)'!I89=\"\", \"\",'B) Eingabe (Lehrer)'!I89)","v":""},{"$f":"IF('B) Eingabe (Lehrer)'!J89=\"\", \"\",'B) Eingabe (Lehrer)'!J89)","v":""},{"$f":"IF('B) Eingabe (Lehrer)'!K89=\"\", \"\",'B) Eingabe (Lehrer)'!K89)","v":""},{"$f":"IF('B) Eingabe (Lehrer)'!L89=\"\", \"\",'B) Eingabe (Lehrer)'!L89)","v":""},{"$f":"IF('B) Eingabe (Lehrer)'!M89=\"\", \"\",'B) Eingabe (Lehrer)'!M89)","v":""},{"$f":"IF('B) Eingabe (Lehrer)'!N89=\"\", \"\",'B) Eingabe (Lehrer)'!N89)","v":""},{"$f":"IF('B) Eingabe (Lehrer)'!O89=\"\", \"\",'B) Eingabe (Lehrer)'!O89)","v":""},{"$f":"IF('B) Eingabe (Lehrer)'!P89=\"\", \"\",'B) Eingabe (Lehrer)'!P89)","v":""},{"$f":"IF('B) Eingabe (Lehrer)'!Q89=\"\", \"\",'B) Eingabe (Lehrer)'!Q89)","v":""},{"$f":"IF('B) Eingabe (Lehrer)'!R89=\"\", \"\",'B) Eingabe (Lehrer)'!R89)","v":""},{"$f":"IF('B) Eingabe (Lehrer)'!S89=\"\", \"\",'B) Eingabe (Lehrer)'!S89)","v":""},{"$f":"IF('B) Eingabe (Lehrer)'!T89=\"\", \"\",'B) Eingabe (Lehrer)'!T89)","v":""},{"$f":"IF('B) Eingabe (Lehrer)'!U89=\"\", \"\",'B) Eingabe (Lehrer)'!U89)","v":""},{"$f":"IF('B) Eingabe (Lehrer)'!V89=\"\", \"\",'B) Eingabe (Lehrer)'!V89)","v":""},{"$f":"IF('B) Eingabe (Lehrer)'!W89=\"\", \"\",'B) Eingabe (Lehrer)'!W89)","v":""},{"$f":"IF('B) Eingabe (Lehrer)'!X89=\"\", \"\",'B) Eingabe (Lehrer)'!X89)","v":""},{"$f":"IF('B) Eingabe (Lehrer)'!Y89=\"\", \"\",'B) Eingabe (Lehrer)'!Y89)","v":""},{"$f":"IF('B) Eingabe (Lehrer)'!Z89=\"\", \"\",'B) Eingabe (Lehrer)'!Z89)","v":""},{"$f":"IF('B) Eingabe (Lehrer)'!AA89=\"\", \"\",'B) Eingabe (Lehrer)'!AA89)","v":""},{"$f":"IF('B) Eingabe (Lehrer)'!AB89=\"\", \"\",'B) Eingabe (Lehrer)'!AB89)","v":""},{"$f":"IF('B) Eingabe (Lehrer)'!AC89=\"\", \"\",'B) Eingabe (Lehrer)'!AC89)","v":""},{"$f":"IF('B) Eingabe (Lehrer)'!AD89=\"\", \"\",'B) Eingabe (Lehrer)'!AD89)","v":""},{"$f":"IF('B) Eingabe (Lehrer)'!AE89=\"\", \"\",'B) Eingabe (Lehrer)'!AE89)","v":""},{"$f":"IF('B) Eingabe (Lehrer)'!AF89=\"\", \"\",'B) Eingabe (Lehrer)'!AF89)","v":""},{"$f":"IF('B) Eingabe (Lehrer)'!AG89=\"\", \"\",'B) Eingabe (Lehrer)'!AG89)","v":""},{"$f":"IF('B) Eingabe (Lehrer)'!AH89=\"\", \"\",'B) Eingabe (Lehrer)'!AH89)","v":""},{"$f":"IF('B) Eingabe (Lehrer)'!AI89=\"\", \"\",'B) Eingabe (Lehrer)'!AI89)","v":""},{"$f":"IF('B) Eingabe (Lehrer)'!AJ89=\"\", \"\",'B) Eingabe (Lehrer)'!AJ89)","v":""},{"$f":"IF('B) Eingabe (Lehrer)'!AK89=\"\", \"\",'B) Eingabe (Lehrer)'!AK89)","v":""},{"$f":"IF('B) Eingabe (Lehrer)'!AL89=\"\", \"\",'B) Eingabe (Lehrer)'!AL89)","v":""},{"$f":"IF('B) Eingabe (Lehrer)'!AM89=\"\", \"\",'B) Eingabe (Lehrer)'!AM89)","v":""},{"$f":"IF('B) Eingabe (Lehrer)'!AN89=\"\", \"\",'B) Eingabe (Lehrer)'!AN89)","v":""},{"$f":"IF('B) Eingabe (Lehrer)'!AO89=\"\", \"\",'B) Eingabe (Lehrer)'!AO89)","v":""},{"$f":"IF('B) Eingabe (Lehrer)'!AP89=\"\", \"\",'B) Eingabe (Lehrer)'!AP89)","v":""},{"$f":"IF('B) Eingabe (Lehrer)'!AQ89=\"\", \"\",'B) Eingabe (Lehrer)'!AQ89)","v":""},{"$f":"IF('B) Eingabe (Lehrer)'!AR89=\"\", \"\",'B) Eingabe (Lehrer)'!AR89)","v":""},{"$f":"IF('B) Eingabe (Lehrer)'!AS89=\"\", \"\",'B) Eingabe (Lehrer)'!AS89)","v":""},{"$f":"IF('B) Eingabe (Lehrer)'!AT89=\"\", \"\",'B) Eingabe (Lehrer)'!AT89)","v":""},{"$f":"IF('B) Eingabe (Lehrer)'!AU89=\"\", \"\",'B) Eingabe (Lehrer)'!AU89)","v":""},{"$f":"IF('B) Eingabe (Lehrer)'!AV89=\"\", \"\",'B) Eingabe (Lehrer)'!AV89)","v":""},{"$f":"IF('B) Eingabe (Lehrer)'!AW89=\"\", \"\",'B) Eingabe (Lehrer)'!AW89)","v":""},{"$f":"IF('B) Eingabe (Lehrer)'!AX89=\"\", \"\",'B) Eingabe (Lehrer)'!AX89)","v":""},{"$f":"IF('B) Eingabe (Lehrer)'!AY89=\"\", \"\",'B) Eingabe (Lehrer)'!AY89)","v":""},{"$f":"IF('B) Eingabe (Lehrer)'!AZ89=\"\", \"\",'B) Eingabe (Lehrer)'!AZ89)","v":""},{"$f":"IF('B) Eingabe (Lehrer)'!BA89=\"\", \"\",'B) Eingabe (Lehrer)'!BA89)","v":""},{"$f":"IF('B) Eingabe (Lehrer)'!BB89=\"\", \"\",'B) Eingabe (Lehrer)'!BB89)","v":""},{"$f":"IF('B) Eingabe (Lehrer)'!BC89=\"\", \"\",'B) Eingabe (Lehrer)'!BC89)","v":""},{"$f":"IF('B) Eingabe (Lehrer)'!BD89=\"\", \"\",'B) Eingabe (Lehrer)'!BD89)","v":""},{"$f":"IF('B) Eingabe (Lehrer)'!BE89=\"\", \"\",'B) Eingabe (Lehrer)'!BE89)","v":""},{"$f":"IF('B) Eingabe (Lehrer)'!BF89=\"\", \"\",'B) Eingabe (Lehrer)'!BF89)","v":""},{"$f":"IF('B) Eingabe (Lehrer)'!BG89=\"\", \"\",'B) Eingabe (Lehrer)'!BG89)","v":""},{"$f":"IF('B) Eingabe (Lehrer)'!BH89=\"\", \"\",'B) Eingabe (Lehrer)'!BH89)","v":""},{"$f":"IF('B) Eingabe (Lehrer)'!BI89=\"\", \"\",'B) Eingabe (Lehrer)'!BI89)","v":""},{"$f":"IF('B) Eingabe (Lehrer)'!BJ89=\"\", \"\",'B) Eingabe (Lehrer)'!BJ89)","v":""},{"$f":"IF('B) Eingabe (Lehrer)'!BK89=\"\", \"\",'B) Eingabe (Lehrer)'!BK89)","v":""}]
["Zusatzitem 47",{"$f":"IF('B) Eingabe (Lehrer)'!C90=\"\", \"\",'B) Eingabe (Lehrer)'!C90)","v":""},{"$f":"IF('B) Eingabe (Lehrer)'!D90=\"\", \"\",'B) Eingabe (Lehrer)'!D90)","v":""},{"$f":"IF('B) Eingabe (Lehrer)'!E90=\"\", \"\",'B) Eingabe (Lehrer)'!E90)","v":""},{"$f":"IF('B) Eingabe (Lehrer)'!F90=\"\", \"\",'B) Eingabe (Lehrer)'!F90)","v":""},{"$f":"IF('B) Eingabe (Lehrer)'!G90=\"\", \"\",'B) Eingabe (Lehrer)'!G90)","v":""},{"$f":"IF('B) Eingabe (Lehrer)'!H90=\"\", \"\",'B) Eingabe (Lehrer)'!H90)","v":""},{"$f":"IF('B) Eingabe (Lehrer)'!I90=\"\", \"\",'B) Eingabe (Lehrer)'!I90)","v":""},{"$f":"IF('B) Eingabe (Lehrer)'!J90=\"\", \"\",'B) Eingabe (Lehrer)'!J90)","v":""},{"$f":"IF('B) Eingabe (Lehrer)'!K90=\"\", \"\",'B) Eingabe (Lehrer)'!K90)","v":""},{"$f":"IF('B) Eingabe (Lehrer)'!L90=\"\", \"\",'B) Eingabe (Lehrer)'!L90)","v":""},{"$f":"IF('B) Eingabe (Lehrer)'!M90=\"\", \"\",'B) Eingabe (Lehrer)'!M90)","v":""},{"$f":"IF('B) Eingabe (Lehrer)'!N90=\"\", \"\",'B) Eingabe (Lehrer)'!N90)","v":""},{"$f":"IF('B) Eingabe (Lehrer)'!O90=\"\", \"\",'B) Eingabe (Lehrer)'!O90)","v":""},{"$f":"IF('B) Eingabe (Lehrer)'!P90=\"\", \"\",'B) Eingabe (Lehrer)'!P90)","v":""},{"$f":"IF('B) Eingabe (Lehrer)'!Q90=\"\", \"\",'B) Eingabe (Lehrer)'!Q90)","v":""},{"$f":"IF('B) Eingabe (Lehrer)'!R90=\"\", \"\",'B) Eingabe (Lehrer)'!R90)","v":""},{"$f":"IF('B) Eingabe (Lehrer)'!S90=\"\", \"\",'B) Eingabe (Lehrer)'!S90)","v":""},{"$f":"IF('B) Eingabe (Lehrer)'!T90=\"\", \"\",'B) Eingabe (Lehrer)'!T90)","v":""},{"$f":"IF('B) Eingabe (Lehrer)'!U90=\"\", \"\",'B) Eingabe (Lehrer)'!U90)","v":""},{"$f":"IF('B) Eingabe (Lehrer)'!V90=\"\", \"\",'B) Eingabe (Lehrer)'!V90)","v":""},{"$f":"IF('B) Eingabe (Lehrer)'!W90=\"\", \"\",'B) Eingabe (Lehrer)'!W90)","v":""},{"$f":"IF('B) Eingabe (Lehrer)'!X90=\"\", \"\",'B) Eingabe (Lehrer)'!X90)","v":""},{"$f":"IF('B) Eingabe (Lehrer)'!Y90=\"\", \"\",'B) Eingabe (Lehrer)'!Y90)","v":""},{"$f":"IF('B) Eingabe (Lehrer)'!Z90=\"\", \"\",'B) Eingabe (Lehrer)'!Z90)","v":""},{"$f":"IF('B) Eingabe (Lehrer)'!AA90=\"\", \"\",'B) Eingabe (Lehrer)'!AA90)","v":""},{"$f":"IF('B) Eingabe (Lehrer)'!AB90=\"\", \"\",'B) Eingabe (Lehrer)'!AB90)","v":""},{"$f":"IF('B) Eingabe (Lehrer)'!AC90=\"\", \"\",'B) Eingabe (Lehrer)'!AC90)","v":""},{"$f":"IF('B) Eingabe (Lehrer)'!AD90=\"\", \"\",'B) Eingabe (Lehrer)'!AD90)","v":""},{"$f":"IF('B) Eingabe (Lehrer)'!AE90=\"\", \"\",'B) Eingabe (Lehrer)'!AE90)","v":""},{"$f":"IF('B) Eingabe (Lehrer)'!AF90=\"\", \"\",'B) Eingabe (Lehrer)'!AF90)","v":""},{"$f":"IF('B) Eingabe (Lehrer)'!AG90=\"\", \"\",'B) Eingabe (Lehrer)'!AG90)","v":""},{"$f":"IF('B) Eingabe (Lehrer)'!AH90=\"\", \"\",'B) Eingabe (Lehrer)'!AH90)","v":""},{"$f":"IF('B) Eingabe (Lehrer)'!AI90=\"\", \"\",'B) Eingabe (Lehrer)'!AI90)","v":""},{"$f":"IF('B) Eingabe (Lehrer)'!AJ90=\"\", \"\",'B) Eingabe (Lehrer)'!AJ90)","v":""},{"$f":"IF('B) Eingabe (Lehrer)'!AK90=\"\", \"\",'B) Eingabe (Lehrer)'!AK90)","v":""},{"$f":"IF('B) Eingabe (Lehrer)'!AL90=\"\", \"\",'B) Eingabe (Lehrer)'!AL90)","v":""},{"$f":"IF('B) Eingabe (Lehrer)'!AM90=\"\", \"\",'B) Eingabe (Lehrer)'!AM90)","v":""},{"$f":"IF('B) Eingabe (Lehrer)'!AN90=\"\", \"\",'B) Eingabe (Lehrer)'!AN90)","v":""},{"$f":"IF('B) Eingabe (Lehrer)'!AO90=\"\", \"\",'B) Eingabe (Lehrer)'!AO90)","v":""},{"$f":"IF('B) Eingabe (Lehrer)'!AP90=\"\", \"\",'B) Eingabe (Lehrer)'!AP90)","v":""},{"$f":"IF('B) Eingabe (Lehrer)'!AQ90=\"\", \"\",'B) Eingabe (Lehrer)'!AQ90)","v":""},{"$f":"IF('B) Eingabe (Lehrer)'!AR90=\"\", \"\",'B) Eingabe (Lehrer)'!AR90)","v":""},{"$f":"IF('B) Eingabe (Lehrer)'!AS90=\"\", \"\",'B) Eingabe (Lehrer)'!AS90)","v":""},{"$f":"IF('B) Eingabe (Lehrer)'!AT90=\"\", \"\",'B) Eingabe (Lehrer)'!AT90)","v":""},{"$f":"IF('B) Eingabe (Lehrer)'!AU90=\"\", \"\",'B) Eingabe (Lehrer)'!AU90)","v":""},{"$f":"IF('B) Eingabe (Lehrer)'!AV90=\"\", \"\",'B) Eingabe (Lehrer)'!AV90)","v":""},{"$f":"IF('B) Eingabe (Lehrer)'!AW90=\"\", \"\",'B) Eingabe (Lehrer)'!AW90)","v":""},{"$f":"IF('B) Eingabe (Lehrer)'!AX90=\"\", \"\",'B) Eingabe (Lehrer)'!AX90)","v":""},{"$f":"IF('B) Eingabe (Lehrer)'!AY90=\"\", \"\",'B) Eingabe (Lehrer)'!AY90)","v":""},{"$f":"IF('B) Eingabe (Lehrer)'!AZ90=\"\", \"\",'B) Eingabe (Lehrer)'!AZ90)","v":""},{"$f":"IF('B) Eingabe (Lehrer)'!BA90=\"\", \"\",'B) Eingabe (Lehrer)'!BA90)","v":""},{"$f":"IF('B) Eingabe (Lehrer)'!BB90=\"\", \"\",'B) Eingabe (Lehrer)'!BB90)","v":""},{"$f":"IF('B) Eingabe (Lehrer)'!BC90=\"\", \"\",'B) Eingabe (Lehrer)'!BC90)","v":""},{"$f":"IF('B) Eingabe (Lehrer)'!BD90=\"\", \"\",'B) Eingabe (Lehrer)'!BD90)","v":""},{"$f":"IF('B) Eingabe (Lehrer)'!BE90=\"\", \"\",'B) Eingabe (Lehrer)'!BE90)","v":""},{"$f":"IF('B) Eingabe (Lehrer)'!BF90=\"\", \"\",'B) Eingabe (Lehrer)'!BF90)","v":""},{"$f":"IF('B) Eingabe (Lehrer)'!BG90=\"\", \"\",'B) Eingabe (Lehrer)'!BG90)","v":""},{"$f":"IF('B) Eingabe (Lehrer)'!BH90=\"\", \"\",'B) Eingabe (Lehrer)'!BH90)","v":""},{"$f":"IF('B) Eingabe (Lehrer)'!BI90=\"\", \"\",'B) Eingabe (Lehrer)'!BI90)","v":""},{"$f":"IF('B) Eingabe (Lehrer)'!BJ90=\"\", \"\",'B) Eingabe (Lehrer)'!BJ90)","v":""},{"$f":"IF('B) Eingabe (Lehrer)'!BK90=\"\", \"\",'B) Eingabe (Lehrer)'!BK90)","v":""}]
["Zusatzitem 48",{"$f":"IF('B) Eingabe (Lehrer)'!C91=\"\", \"\",'B) Eingabe (Lehrer)'!C91)","v":""},{"$f":"IF('B) Eingabe (Lehrer)'!D91=\"\", \"\",'B) Eingabe (Lehrer)'!D91)","v":""},{"$f":"IF('B) Eingabe (Lehrer)'!E91=\"\", \"\",'B) Eingabe (Lehrer)'!E91)","v":""},{"$f":"IF('B) Eingabe (Lehrer)'!F91=\"\", \"\",'B) Eingabe (Lehrer)'!F91)","v":""},{"$f":"IF('B) Eingabe (Lehrer)'!G91=\"\", \"\",'B) Eingabe (Lehrer)'!G91)","v":""},{"$f":"IF('B) Eingabe (Lehrer)'!H91=\"\", \"\",'B) Eingabe (Lehrer)'!H91)","v":""},{"$f":"IF('B) Eingabe (Lehrer)'!I91=\"\", \"\",'B) Eingabe (Lehrer)'!I91)","v":""},{"$f":"IF('B) Eingabe (Lehrer)'!J91=\"\", \"\",'B) Eingabe (Lehrer)'!J91)","v":""},{"$f":"IF('B) Eingabe (Lehrer)'!K91=\"\", \"\",'B) Eingabe (Lehrer)'!K91)","v":""},{"$f":"IF('B) Eingabe (Lehrer)'!L91=\"\", \"\",'B) Eingabe (Lehrer)'!L91)","v":""},{"$f":"IF('B) Eingabe (Lehrer)'!M91=\"\", \"\",'B) Eingabe (Lehrer)'!M91)","v":""},{"$f":"IF('B) Eingabe (Lehrer)'!N91=\"\", \"\",'B) Eingabe (Lehrer)'!N91)","v":""},{"$f":"IF('B) Eingabe (Lehrer)'!O91=\"\", \"\",'B) Eingabe (Lehrer)'!O91)","v":""},{"$f":"IF('B) Eingabe (Lehrer)'!P91=\"\", \"\",'B) Eingabe (Lehrer)'!P91)","v":""},{"$f":"IF('B) Eingabe (Lehrer)'!Q91=\"\", \"\",'B) Eingabe (Lehrer)'!Q91)","v":""},{"$f":"IF('B) Eingabe (Lehrer)'!R91=\"\", \"\",'B) Eingabe (Lehrer)'!R91)","v":""},{"$f":"IF('B) Eingabe (Lehrer)'!S91=\"\", \"\",'B) Eingabe (Lehrer)'!S91)","v":""},{"$f":"IF('B) Eingabe (Lehrer)'!T91=\"\", \"\",'B) Eingabe (Lehrer)'!T91)","v":""},{"$f":"IF('B) Eingabe (Lehrer)'!U91=\"\", \"\",'B) Eingabe (Lehrer)'!U91)","v":""},{"$f":"IF('B) Eingabe (Lehrer)'!V91=\"\", \"\",'B) Eingabe (Lehrer)'!V91)","v":""},{"$f":"IF('B) Eingabe (Lehrer)'!W91=\"\", \"\",'B) Eingabe (Lehrer)'!W91)","v":""},{"$f":"IF('B) Eingabe (Lehrer)'!X91=\"\", \"\",'B) Eingabe (Lehrer)'!X91)","v":""},{"$f":"IF('B) Eingabe (Lehrer)'!Y91=\"\", \"\",'B) Eingabe (Lehrer)'!Y91)","v":""},{"$f":"IF('B) Eingabe (Lehrer)'!Z91=\"\", \"\",'B) Eingabe (Lehrer)'!Z91)","v":""},{"$f":"IF('B) Eingabe (Lehrer)'!AA91=\"\", \"\",'B) Eingabe (Lehrer)'!AA91)","v":""},{"$f":"IF('B) Eingabe (Lehrer)'!AB91=\"\", \"\",'B) Eingabe (Lehrer)'!AB91)","v":""},{"$f":"IF('B) Eingabe (Lehrer)'!AC91=\"\", \"\",'B) Eingabe (Lehrer)'!AC91)","v":""},{"$f":"IF('B) Eingabe (Lehrer)'!AD91=\"\", \"\",'B) Eingabe (Lehrer)'!AD91)","v":""},{"$f":"IF('B) Eingabe (Lehrer)'!AE91=\"\", \"\",'B) Eingabe (Lehrer)'!AE91)","v":""},{"$f":"IF('B) Eingabe (Lehrer)'!AF91=\"\", \"\",'B) Eingabe (Lehrer)'!AF91)","v":""},{"$f":"IF('B) Eingabe (Lehrer)'!AG91=\"\", \"\",'B) Eingabe (Lehrer)'!AG91)","v":""},{"$f":"IF('B) Eingabe (Lehrer)'!AH91=\"\", \"\",'B) Eingabe (Lehrer)'!AH91)","v":""},{"$f":"IF('B) Eingabe (Lehrer)'!AI91=\"\", \"\",'B) Eingabe (Lehrer)'!AI91)","v":""},{"$f":"IF('B) Eingabe (Lehrer)'!AJ91=\"\", \"\",'B) Eingabe (Lehrer)'!AJ91)","v":""},{"$f":"IF('B) Eingabe (Lehrer)'!AK91=\"\", \"\",'B) Eingabe (Lehrer)'!AK91)","v":""},{"$f":"IF('B) Eingabe (Lehrer)'!AL91=\"\", \"\",'B) Eingabe (Lehrer)'!AL91)","v":""},{"$f":"IF('B) Eingabe (Lehrer)'!AM91=\"\", \"\",'B) Eingabe (Lehrer)'!AM91)","v":""},{"$f":"IF('B) Eingabe (Lehrer)'!AN91=\"\", \"\",'B) Eingabe (Lehrer)'!AN91)","v":""},{"$f":"IF('B) Eingabe (Lehrer)'!AO91=\"\", \"\",'B) Eingabe (Lehrer)'!AO91)","v":""},{"$f":"IF('B) Eingabe (Lehrer)'!AP91=\"\", \"\",'B) Eingabe (Lehrer)'!AP91)","v":""},{"$f":"IF('B) Eingabe (Lehrer)'!AQ91=\"\", \"\",'B) Eingabe (Lehrer)'!AQ91)","v":""},{"$f":"IF('B) Eingabe (Lehrer)'!AR91=\"\", \"\",'B) Eingabe (Lehrer)'!AR91)","v":""},{"$f":"IF('B) Eingabe (Lehrer)'!AS91=\"\", \"\",'B) Eingabe (Lehrer)'!AS91)","v":""},{"$f":"IF('B) Eingabe (Lehrer)'!AT91=\"\", \"\",'B) Eingabe (Lehrer)'!AT91)","v":""},{"$f":"IF('B) Eingabe (Lehrer)'!AU91=\"\", \"\",'B) Eingabe (Lehrer)'!AU91)","v":""},{"$f":"IF('B) Eingabe (Lehrer)'!AV91=\"\", \"\",'B) Eingabe (Lehrer)'!AV91)","v":""},{"$f":"IF('B) Eingabe (Lehrer)'!AW91=\"\", \"\",'B) Eingabe (Lehrer)'!AW91)","v":""},{"$f":"IF('B) Eingabe (Lehrer)'!AX91=\"\", \"\",'B) Eingabe (Lehrer)'!AX91)","v":""},{"$f":"IF('B) Eingabe (Lehrer)'!AY91=\"\", \"\",'B) Eingabe (Lehrer)'!AY91)","v":""},{"$f":"IF('B) Eingabe (Lehrer)'!AZ91=\"\", \"\",'B) Eingabe (Lehrer)'!AZ91)","v":""},{"$f":"IF('B) Eingabe (Lehrer)'!BA91=\"\", \"\",'B) Eingabe (Lehrer)'!BA91)","v":""},{"$f":"IF('B) Eingabe (Lehrer)'!BB91=\"\", \"\",'B) Eingabe (Lehrer)'!BB91)","v":""},{"$f":"IF('B) Eingabe (Lehrer)'!BC91=\"\", \"\",'B) Eingabe (Lehrer)'!BC91)","v":""},{"$f":"IF('B) Eingabe (Lehrer)'!BD91=\"\", \"\",'B) Eingabe (Lehrer)'!BD91)","v":""},{"$f":"IF('B) Eingabe (Lehrer)'!BE91=\"\", \"\",'B) Eingabe (Lehrer)'!BE91)","v":""},{"$f":"IF('B) Eingabe (Lehrer)'!BF91=\"\", \"\",'B) Eingabe (Lehrer)'!BF91)","v":""},{"$f":"IF('B) Eingabe (Lehrer)'!BG91=\"\", \"\",'B) Eingabe (Lehrer)'!BG91)","v":""},{"$f":"IF('B) Eingabe (Lehrer)'!BH91=\"\", \"\",'B) Eingabe (Lehrer)'!BH91)","v":""},{"$f":"IF('B) Eingabe (Lehrer)'!BI91=\"\", \"\",'B) Eingabe (Lehrer)'!BI91)","v":""},{"$f":"IF('B) Eingabe (Lehrer)'!BJ91=\"\", \"\",'B) Eingabe (Lehrer)'!BJ91)","v":""},{"$f":"IF('B) Eingabe (Lehrer)'!BK91=\"\", \"\",'B) Eingabe (Lehrer)'!BK91)","v":""}]
["Zusatzitem 49",{"$f":"IF('B) Eingabe (Lehrer)'!C92=\"\", \"\",'B) Eingabe (Lehrer)'!C92)","v":""},{"$f":"IF('B) Eingabe (Lehrer)'!D92=\"\", \"\",'B) Eingabe (Lehrer)'!D92)","v":""},{"$f":"IF('B) Eingabe (Lehrer)'!E92=\"\", \"\",'B) Eingabe (Lehrer)'!E92)","v":""},{"$f":"IF('B) Eingabe (Lehrer)'!F92=\"\", \"\",'B) Eingabe (Lehrer)'!F92)","v":""},{"$f":"IF('B) Eingabe (Lehrer)'!G92=\"\", \"\",'B) Eingabe (Lehrer)'!G92)","v":""},{"$f":"IF('B) Eingabe (Lehrer)'!H92=\"\", \"\",'B) Eingabe (Lehrer)'!H92)","v":""},{"$f":"IF('B) Eingabe (Lehrer)'!I92=\"\", \"\",'B) Eingabe (Lehrer)'!I92)","v":""},{"$f":"IF('B) Eingabe (Lehrer)'!J92=\"\", \"\",'B) Eingabe (Lehrer)'!J92)","v":""},{"$f":"IF('B) Eingabe (Lehrer)'!K92=\"\", \"\",'B) Eingabe (Lehrer)'!K92)","v":""},{"$f":"IF('B) Eingabe (Lehrer)'!L92=\"\", \"\",'B) Eingabe (Lehrer)'!L92)","v":""},{"$f":"IF('B) Eingabe (Lehrer)'!M92=\"\", \"\",'B) Eingabe (Lehrer)'!M92)","v":""},{"$f":"IF('B) Eingabe (Lehrer)'!N92=\"\", \"\",'B) Eingabe (Lehrer)'!N92)","v":""},{"$f":"IF('B) Eingabe (Lehrer)'!O92=\"\", \"\",'B) Eingabe (Lehrer)'!O92)","v":""},{"$f":"IF('B) Eingabe (Lehrer)'!P92=\"\", \"\",'B) Eingabe (Lehrer)'!P92)","v":""},{"$f":"IF('B) Eingabe (Lehrer)'!Q92=\"\", \"\",'B) Eingabe (Lehrer)'!Q92)","v":""},{"$f":"IF('B) Eingabe (Lehrer)'!R92=\"\", \"\",'B) Eingabe (Lehrer)'!R92)","v":""},{"$f":"IF('B) Eingabe (Lehrer)'!S92=\"\", \"\",'B) Eingabe (Lehrer)'!S92)","v":""},{"$f":"IF('B) Eingabe (Lehrer)'!T92=\"\", \"\",'B) Eingabe (Lehrer)'!T92)","v":""},{"$f":"IF('B) Eingabe (Lehrer)'!U92=\"\", \"\",'B) Eingabe (Lehrer)'!U92)","v":""},{"$f":"IF('B) Eingabe (Lehrer)'!V92=\"\", \"\",'B) Eingabe (Lehrer)'!V92)","v":""},{"$f":"IF('B) Eingabe (Lehrer)'!W92=\"\", \"\",'B) Eingabe (Lehrer)'!W92)","v":""},{"$f":"IF('B) Eingabe (Lehrer)'!X92=\"\", \"\",'B) Eingabe (Lehrer)'!X92)","v":""},{"$f":"IF('B) Eingabe (Lehrer)'!Y92=\"\", \"\",'B) Eingabe (Lehrer)'!Y92)","v":""},{"$f":"IF('B) Eingabe (Lehrer)'!Z92=\"\", \"\",'B) Eingabe (Lehrer)'!Z92)","v":""},{"$f":"IF('B) Eingabe (Lehrer)'!AA92=\"\", \"\",'B) Eingabe (Lehrer)'!AA92)","v":""},{"$f":"IF('B) Eingabe (Lehrer)'!AB92=\"\", \"\",'B) Eingabe (Lehrer)'!AB92)","v":""},{"$f":"IF('B) Eingabe (Lehrer)'!AC92=\"\", \"\",'B) Eingabe (Lehrer)'!AC92)","v":""},{"$f":"IF('B) Eingabe (Lehrer)'!AD92=\"\", \"\",'B) Eingabe (Lehrer)'!AD92)","v":""},{"$f":"IF('B) Eingabe (Lehrer)'!AE92=\"\", \"\",'B) Eingabe (Lehrer)'!AE92)","v":""},{"$f":"IF('B) Eingabe (Lehrer)'!AF92=\"\", \"\",'B) Eingabe (Lehrer)'!AF92)","v":""},{"$f":"IF('B) Eingabe (Lehrer)'!AG92=\"\", \"\",'B) Eingabe (Lehrer)'!AG92)","v":""},{"$f":"IF('B) Eingabe (Lehrer)'!AH92=\"\", \"\",'B) Eingabe (Lehrer)'!AH92)","v":""},{"$f":"IF('B) Eingabe (Lehrer)'!AI92=\"\", \"\",'B) Eingabe (Lehrer)'!AI92)","v":""},{"$f":"IF('B) Eingabe (Lehrer)'!AJ92=\"\", \"\",'B) Eingabe (Lehrer)'!AJ92)","v":""},{"$f":"IF('B) Eingabe (Lehrer)'!AK92=\"\", \"\",'B) Eingabe (Lehrer)'!AK92)","v":""},{"$f":"IF('B) Eingabe (Lehrer)'!AL92=\"\", \"\",'B) Eingabe (Lehrer)'!AL92)","v":""},{"$f":"IF('B) Eingabe (Lehrer)'!AM92=\"\", \"\",'B) Eingabe (Lehrer)'!AM92)","v":""},{"$f":"IF('B) Eingabe (Lehrer)'!AN92=\"\", \"\",'B) Eingabe (Lehrer)'!AN92)","v":""},{"$f":"IF('B) Eingabe (Lehrer)'!AO92=\"\", \"\",'B) Eingabe (Lehrer)'!AO92)","v":""},{"$f":"IF('B) Eingabe (Lehrer)'!AP92=\"\", \"\",'B) Eingabe (Lehrer)'!AP92)","v":""},{"$f":"IF('B) Eingabe (Lehrer)'!AQ92=\"\", \"\",'B) Eingabe (Lehrer)'!AQ92)","v":""},{"$f":"IF('B) Eingabe (Lehrer)'!AR92=\"\", \"\",'B) Eingabe (Lehrer)'!AR92)","v":""},{"$f":"IF('B) Eingabe (Lehrer)'!AS92=\"\", \"\",'B) Eingabe (Lehrer)'!AS92)","v":""},{"$f":"IF('B) Eingabe (Lehrer)'!AT92=\"\", \"\",'B) Eingabe (Lehrer)'!AT92)","v":""},{"$f":"IF('B) Eingabe (Lehrer)'!AU92=\"\", \"\",'B) Eingabe (Lehrer)'!AU92)","v":""},{"$f":"IF('B) Eingabe (Lehrer)'!AV92=\"\", \"\",'B) Eingabe (Lehrer)'!AV92)","v":""},{"$f":"IF('B) Eingabe (Lehrer)'!AW92=\"\", \"\",'B) Eingabe (Lehrer)'!AW92)","v":""},{"$f":"IF('B) Eingabe (Lehrer)'!AX92=\"\", \"\",'B) Eingabe (Lehrer)'!AX92)","v":""},{"$f":"IF('B) Eingabe (Lehrer)'!AY92=\"\", \"\",'B) Eingabe (Lehrer)'!AY92)","v":""},{"$f":"IF('B) Eingabe (Lehrer)'!AZ92=\"\", \"\",'B) Eingabe (Lehrer)'!AZ92)","v":""},{"$f":"IF('B) Eingabe (Lehrer)'!BA92=\"\", \"\",'B) Eingabe (Lehrer)'!BA92)","v":""},{"$f":"IF('B) Eingabe (Lehrer)'!BB92=\"\", \"\",'B) Eingabe (Lehrer)'!BB92)","v":""},{"$f":"IF('B) Eingabe (Lehrer)'!BC92=\"\", \"\",'B) Eingabe (Lehrer)'!BC92)","v":""},{"$f":"IF('B) Eingabe (Lehrer)'!BD92=\"\", \"\",'B) Eingabe (Lehrer)'!BD92)","v":""},{"$f":"IF('B) Eingabe (Lehrer)'!BE92=\"\", \"\",'B) Eingabe (Lehrer)'!BE92)","v":""},{"$f":"IF('B) Eingabe (Lehrer)'!BF92=\"\", \"\",'B) Eingabe (Lehrer)'!BF92)","v":""},{"$f":"IF('B) Eingabe (Lehrer)'!BG92=\"\", \"\",'B) Eingabe (Lehrer)'!BG92)","v":""},{"$f":"IF('B) Eingabe (Lehrer)'!BH92=\"\", \"\",'B) Eingabe (Lehrer)'!BH92)","v":""},{"$f":"IF('B) Eingabe (Lehrer)'!BI92=\"\", \"\",'B) Eingabe (Lehrer)'!BI92)","v":""},{"$f":"IF('B) Eingabe (Lehrer)'!BJ92=\"\", \"\",'B) Eingabe (Lehrer)'!BJ92)","v":""},{"$f":"IF('B) Eingabe (Lehrer)'!BK92=\"\", \"\",'B) Eingabe (Lehrer)'!BK92)","v":""}]
["Zusatzitem 50",{"$f":"IF('B) Eingabe (Lehrer)'!C93=\"\", \"\",'B) Eingabe (Lehrer)'!C93)","v":""},{"$f":"IF('B) Eingabe (Lehrer)'!D93=\"\", \"\",'B) Eingabe (Lehrer)'!D93)","v":""},{"$f":"IF('B) Eingabe (Lehrer)'!E93=\"\", \"\",'B) Eingabe (Lehrer)'!E93)","v":""},{"$f":"IF('B) Eingabe (Lehrer)'!F93=\"\", \"\",'B) Eingabe (Lehrer)'!F93)","v":""},{"$f":"IF('B) Eingabe (Lehrer)'!G93=\"\", \"\",'B) Eingabe (Lehrer)'!G93)","v":""},{"$f":"IF('B) Eingabe (Lehrer)'!H93=\"\", \"\",'B) Eingabe (Lehrer)'!H93)","v":""},{"$f":"IF('B) Eingabe (Lehrer)'!I93=\"\", \"\",'B) Eingabe (Lehrer)'!I93)","v":""},{"$f":"IF('B) Eingabe (Lehrer)'!J93=\"\", \"\",'B) Eingabe (Lehrer)'!J93)","v":""},{"$f":"IF('B) Eingabe (Lehrer)'!K93=\"\", \"\",'B) Eingabe (Lehrer)'!K93)","v":""},{"$f":"IF('B) Eingabe (Lehrer)'!L93=\"\", \"\",'B) Eingabe (Lehrer)'!L93)","v":""},{"$f":"IF('B) Eingabe (Lehrer)'!M93=\"\", \"\",'B) Eingabe (Lehrer)'!M93)","v":""},{"$f":"IF('B) Eingabe (Lehrer)'!N93=\"\", \"\",'B) Eingabe (Lehrer)'!N93)","v":""},{"$f":"IF('B) Eingabe (Lehrer)'!O93=\"\", \"\",'B) Eingabe (Lehrer)'!O93)","v":""},{"$f":"IF('B) Eingabe (Lehrer)'!P93=\"\", \"\",'B) Eingabe (Lehrer)'!P93)","v":""},{"$f":"IF('B) Eingabe (Lehrer)'!Q93=\"\", \"\",'B) Eingabe (Lehrer)'!Q93)","v":""},{"$f":"IF('B) Eingabe (Lehrer)'!R93=\"\", \"\",'B) Eingabe (Lehrer)'!R93)","v":""},{"$f":"IF('B) Eingabe (Lehrer)'!S93=\"\", \"\",'B) Eingabe (Lehrer)'!S93)","v":""},{"$f":"IF('B) Eingabe (Lehrer)'!T93=\"\", \"\",'B) Eingabe (Lehrer)'!T93)","v":""},{"$f":"IF('B) Eingabe (Lehrer)'!U93=\"\", \"\",'B) Eingabe (Lehrer)'!U93)","v":""},{"$f":"IF('B) Eingabe (Lehrer)'!V93=\"\", \"\",'B) Eingabe (Lehrer)'!V93)","v":""},{"$f":"IF('B) Eingabe (Lehrer)'!W93=\"\", \"\",'B) Eingabe (Lehrer)'!W93)","v":""},{"$f":"IF('B) Eingabe (Lehrer)'!X93=\"\", \"\",'B) Eingabe (Lehrer)'!X93)","v":""},{"$f":"IF('B) Eingabe (Lehrer)'!Y93=\"\", \"\",'B) Eingabe (Lehrer)'!Y93)","v":""},{"$f":"IF('B) Eingabe (Lehrer)'!Z93=\"\", \"\",'B) Eingabe (Lehrer)'!Z93)","v":""},{"$f":"IF('B) Eingabe (Lehrer)'!AA93=\"\", \"\",'B) Eingabe (Lehrer)'!AA93)","v":""},{"$f":"IF('B) Eingabe (Lehrer)'!AB93=\"\", \"\",'B) Eingabe (Lehrer)'!AB93)","v":""},{"$f":"IF('B) Eingabe (Lehrer)'!AC93=\"\", \"\",'B) Eingabe (Lehrer)'!AC93)","v":""},{"$f":"IF('B) Eingabe (Lehrer)'!AD93=\"\", \"\",'B) Eingabe (Lehrer)'!AD93)","v":""},{"$f":"IF('B) Eingabe (Lehrer)'!AE93=\"\", \"\",'B) Eingabe (Lehrer)'!AE93)","v":""},{"$f":"IF('B) Eingabe (Lehrer)'!AF93=\"\", \"\",'B) Eingabe (Lehrer)'!AF93)","v":""},{"$f":"IF('B) Eingabe (Lehrer)'!AG93=\"\", \"\",'B) Eingabe (Lehrer)'!AG93)","v":""},{"$f":"IF('B) Eingabe (Lehrer)'!AH93=\"\", \"\",'B) Eingabe (Lehrer)'!AH93)","v":""},{"$f":"IF('B) Eingabe (Lehrer)'!AI93=\"\", \"\",'B) Eingabe (Lehrer)'!AI93)","v":""},{"$f":"IF('B) Eingabe (Lehrer)'!AJ93=\"\", \"\",'B) Eingabe (Lehrer)'!AJ93)","v":""},{"$f":"IF('B) Eingabe (Lehrer)'!AK93=\"\", \"\",'B) Eingabe (Lehrer)'!AK93)","v":""},{"$f":"IF('B) Eingabe (Lehrer)'!AL93=\"\", \"\",'B) Eingabe (Lehrer)'!AL93)","v":""},{"$f":"IF('B) Eingabe (Lehrer)'!AM93=\"\", \"\",'B) Eingabe (Lehrer)'!AM93)","v":""},{"$f":"IF('B) Eingabe (Lehrer)'!AN93=\"\", \"\",'B) Eingabe (Lehrer)'!AN93)","v":""},{"$f":"IF('B) Eingabe (Lehrer)'!AO93=\"\", \"\",'B) Eingabe (Lehrer)'!AO93)","v":""},{"$f":"IF('B) Eingabe (Lehrer)'!AP93=\"\", \"\",'B) Eingabe (Lehrer)'!AP93)","v":""},{"$f":"IF('B) Eingabe (Lehrer)'!AQ93=\"\", \"\",'B) Eingabe (Lehrer)'!AQ93)","v":""},{"$f":"IF('B) Eingabe (Lehrer)'!AR93=\"\", \"\",'B) Eingabe (Lehrer)'!AR93)","v":""},{"$f":"IF('B) Eingabe (Lehrer)'!AS93=\"\", \"\",'B) Eingabe (Lehrer)'!AS93)","v":""},{"$f":"IF('B) Eingabe (Lehrer)'!AT93=\"\", \"\",'B) Eingabe (Lehrer)'!AT93)","v":""},{"$f":"IF('B) Eingabe (Lehrer)'!AU93=\"\", \"\",'B) Eingabe (Lehrer)'!AU93)","v":""},{"$f":"IF('B) Eingabe (Lehrer)'!AV93=\"\", \"\",'B) Eingabe (Lehrer)'!AV93)","v":""},{"$f":"IF('B) Eingabe (Lehrer)'!AW93=\"\", \"\",'B) Eingabe (Lehrer)'!AW93)","v":""},{"$f":"IF('B) Eingabe (Lehrer)'!AX93=\"\", \"\",'B) Eingabe (Lehrer)'!AX93)","v":""},{"$f":"IF('B) Eingabe (Lehrer)'!AY93=\"\", \"\",'B) Eingabe (Lehrer)'!AY93)","v":""},{"$f":"IF('B) Eingabe (Lehrer)'!AZ93=\"\", \"\",'B) Eingabe (Lehrer)'!AZ93)","v":""},{"$f":"IF('B) Eingabe (Lehrer)'!BA93=\"\", \"\",'B) Eingabe (Lehrer)'!BA93)","v":""},{"$f":"IF('B) Eingabe (Lehrer)'!BB93=\"\", \"\",'B) Eingabe (Lehrer)'!BB93)","v":""},{"$f":"IF('B) Eingabe (Lehrer)'!BC93=\"\", \"\",'B) Eingabe (Lehrer)'!BC93)","v":""},{"$f":"IF('B) Eingabe (Lehrer)'!BD93=\"\", \"\",'B) Eingabe (Lehrer)'!BD93)","v":""},{"$f":"IF('B) Eingabe (Lehrer)'!BE93=\"\", \"\",'B) Eingabe (Lehrer)'!BE93)","v":""},{"$f":"IF('B) Eingabe (Lehrer)'!BF93=\"\", \"\",'B) Eingabe (Lehrer)'!BF93)","v":""},{"$f":"IF('B) Eingabe (Lehrer)'!BG93=\"\", \"\",'B) Eingabe (Lehrer)'!BG93)","v":""},{"$f":"IF('B) Eingabe (Lehrer)'!BH93=\"\", \"\",'B) Eingabe (Lehrer)'!BH93)","v":""},{"$f":"IF('B) Eingabe (Lehrer)'!BI93=\"\", \"\",'B) Eingabe (Lehrer)'!BI93)","v":""},{"$f":"IF('B) Eingabe (Lehrer)'!BJ93=\"\", \"\",'B) Eingabe (Lehrer)'!BJ93)","v":""},{"$f":"IF('B) Eingabe (Lehrer)'!BK93=\"\", \"\",'B) Eingabe (Lehrer)'!BK93)","v":""}]
["Zusatzitem 51",{"$f":"IF('B) Eingabe (Lehrer)'!C94=\"\", \"\",'B) Eingabe (Lehrer)'!C94)","v":""},{"$f":"IF('B) Eingabe (Lehrer)'!D94=\"\", \"\",'B) Eingabe (Lehrer)'!D94)","v":""},{"$f":"IF('B) Eingabe (Lehrer)'!E94=\"\", \"\",'B) Eingabe (Lehrer)'!E94)","v":""},{"$f":"IF('B) Eingabe (Lehrer)'!F94=\"\", \"\",'B) Eingabe (Lehrer)'!F94)","v":""},{"$f":"IF('B) Eingabe (Lehrer)'!G94=\"\", \"\",'B) Eingabe (Lehrer)'!G94)","v":""},{"$f":"IF('B) Eingabe (Lehrer)'!H94=\"\", \"\",'B) Eingabe (Lehrer)'!H94)","v":""},{"$f":"IF('B) Eingabe (Lehrer)'!I94=\"\", \"\",'B) Eingabe (Lehrer)'!I94)","v":""},{"$f":"IF('B) Eingabe (Lehrer)'!J94=\"\", \"\",'B) Eingabe (Lehrer)'!J94)","v":""},{"$f":"IF('B) Eingabe (Lehrer)'!K94=\"\", \"\",'B) Eingabe (Lehrer)'!K94)","v":""},{"$f":"IF('B) Eingabe (Lehrer)'!L94=\"\", \"\",'B) Eingabe (Lehrer)'!L94)","v":""},{"$f":"IF('B) Eingabe (Lehrer)'!M94=\"\", \"\",'B) Eingabe (Lehrer)'!M94)","v":""},{"$f":"IF('B) Eingabe (Lehrer)'!N94=\"\", \"\",'B) Eingabe (Lehrer)'!N94)","v":""},{"$f":"IF('B) Eingabe (Lehrer)'!O94=\"\", \"\",'B) Eingabe (Lehrer)'!O94)","v":""},{"$f":"IF('B) Eingabe (Lehrer)'!P94=\"\", \"\",'B) Eingabe (Lehrer)'!P94)","v":""},{"$f":"IF('B) Eingabe (Lehrer)'!Q94=\"\", \"\",'B) Eingabe (Lehrer)'!Q94)","v":""},{"$f":"IF('B) Eingabe (Lehrer)'!R94=\"\", \"\",'B) Eingabe (Lehrer)'!R94)","v":""},{"$f":"IF('B) Eingabe (Lehrer)'!S94=\"\", \"\",'B) Eingabe (Lehrer)'!S94)","v":""},{"$f":"IF('B) Eingabe (Lehrer)'!T94=\"\", \"\",'B) Eingabe (Lehrer)'!T94)","v":""},{"$f":"IF('B) Eingabe (Lehrer)'!U94=\"\", \"\",'B) Eingabe (Lehrer)'!U94)","v":""},{"$f":"IF('B) Eingabe (Lehrer)'!V94=\"\", \"\",'B) Eingabe (Lehrer)'!V94)","v":""},{"$f":"IF('B) Eingabe (Lehrer)'!W94=\"\", \"\",'B) Eingabe (Lehrer)'!W94)","v":""},{"$f":"IF('B) Eingabe (Lehrer)'!X94=\"\", \"\",'B) Eingabe (Lehrer)'!X94)","v":""},{"$f":"IF('B) Eingabe (Lehrer)'!Y94=\"\", \"\",'B) Eingabe (Lehrer)'!Y94)","v":""},{"$f":"IF('B) Eingabe (Lehrer)'!Z94=\"\", \"\",'B) Eingabe (Lehrer)'!Z94)","v":""},{"$f":"IF('B) Eingabe (Lehrer)'!AA94=\"\", \"\",'B) Eingabe (Lehrer)'!AA94)","v":""},{"$f":"IF('B) Eingabe (Lehrer)'!AB94=\"\", \"\",'B) Eingabe (Lehrer)'!AB94)","v":""},{"$f":"IF('B) Eingabe (Lehrer)'!AC94=\"\", \"\",'B) Eingabe (Lehrer)'!AC94)","v":""},{"$f":"IF('B) Eingabe (Lehrer)'!AD94=\"\", \"\",'B) Eingabe (Lehrer)'!AD94)","v":""},{"$f":"IF('B) Eingabe (Lehrer)'!AE94=\"\", \"\",'B) Eingabe (Lehrer)'!AE94)","v":""},{"$f":"IF('B) Eingabe (Lehrer)'!AF94=\"\", \"\",'B) Eingabe (Lehrer)'!AF94)","v":""},{"$f":"IF('B) Eingabe (Lehrer)'!AG94=\"\", \"\",'B) Eingabe (Lehrer)'!AG94)","v":""},{"$f":"IF('B) Eingabe (Lehrer)'!AH94=\"\", \"\",'B) Eingabe (Lehrer)'!AH94)","v":""},{"$f":"IF('B) Eingabe (Lehrer)'!AI94=\"\", \"\",'B) Eingabe (Lehrer)'!AI94)","v":""},{"$f":"IF('B) Eingabe (Lehrer)'!AJ94=\"\", \"\",'B) Eingabe (Lehrer)'!AJ94)","v":""},{"$f":"IF('B) Eingabe (Lehrer)'!AK94=\"\", \"\",'B) Eingabe (Lehrer)'!AK94)","v":""},{"$f":"IF('B) Eingabe (Lehrer)'!AL94=\"\", \"\",'B) Eingabe (Lehrer)'!AL94)","v":""},{"$f":"IF('B) Eingabe (Lehrer)'!AM94=\"\", \"\",'B) Eingabe (Lehrer)'!AM94)","v":""},{"$f":"IF('B) Eingabe (Lehrer)'!AN94=\"\", \"\",'B) Eingabe (Lehrer)'!AN94)","v":""},{"$f":"IF('B) Eingabe (Lehrer)'!AO94=\"\", \"\",'B) Eingabe (Lehrer)'!AO94)","v":""},{"$f":"IF('B) Eingabe (Lehrer)'!AP94=\"\", \"\",'B) Eingabe (Lehrer)'!AP94)","v":""},{"$f":"IF('B) Eingabe (Lehrer)'!AQ94=\"\", \"\",'B) Eingabe (Lehrer)'!AQ94)","v":""},{"$f":"IF('B) Eingabe (Lehrer)'!AR94=\"\", \"\",'B) Eingabe (Lehrer)'!AR94)","v":""},{"$f":"IF('B) Eingabe (Lehrer)'!AS94=\"\", \"\",'B) Eingabe (Lehrer)'!AS94)","v":""},{"$f":"IF('B) Eingabe (Lehrer)'!AT94=\"\", \"\",'B) Eingabe (Lehrer)'!AT94)","v":""},{"$f":"IF('B) Eingabe (Lehrer)'!AU94=\"\", \"\",'B) Eingabe (Lehrer)'!AU94)","v":""},{"$f":"IF('B) Eingabe (Lehrer)'!AV94=\"\", \"\",'B) Eingabe (Lehrer)'!AV94)","v":""},{"$f":"IF('B) Eingabe (Lehrer)'!AW94=\"\", \"\",'B) Eingabe (Lehrer)'!AW94)","v":""},{"$f":"IF('B) Eingabe (Lehrer)'!AX94=\"\", \"\",'B) Eingabe (Lehrer)'!AX94)","v":""},{"$f":"IF('B) Eingabe (Lehrer)'!AY94=\"\", \"\",'B) Eingabe (Lehrer)'!AY94)","v":""},{"$f":"IF('B) Eingabe (Lehrer)'!AZ94=\"\", \"\",'B) Eingabe (Lehrer)'!AZ94)","v":""},{"$f":"IF('B) Eingabe (Lehrer)'!BA94=\"\", \"\",'B) Eingabe (Lehrer)'!BA94)","v":""},{"$f":"IF('B) Eingabe (Lehrer)'!BB94=\"\", \"\",'B) Eingabe (Lehrer)'!BB94)","v":""},{"$f":"IF('B) Eingabe (Lehrer)'!BC94=\"\", \"\",'B) Eingabe (Lehrer)'!BC94)","v":""},{"$f":"IF('B) Eingabe (Lehrer)'!BD94=\"\", \"\",'B) Eingabe (Lehrer)'!BD94)","v":""},{"$f":"IF('B) Eingabe (Lehrer)'!BE94=\"\", \"\",'B) Eingabe (Lehrer)'!BE94)","v":""},{"$f":"IF('B) Eingabe (Lehrer)'!BF94=\"\", \"\",'B) Eingabe (Lehrer)'!BF94)","v":""},{"$f":"IF('B) Eingabe (Lehrer)'!BG94=\"\", \"\",'B) Eingabe (Lehrer)'!BG94)","v":""},{"$f":"IF('B) Eingabe (Lehrer)'!BH94=\"\", \"\",'B) Eingabe (Lehrer)'!BH94)","v":""},{"$f":"IF('B) Eingabe (Lehrer)'!BI94=\"\", \"\",'B) Eingabe (Lehrer)'!BI94)","v":""},{"$f":"IF('B) Eingabe (Lehrer)'!BJ94=\"\", \"\",'B) Eingabe (Lehrer)'!BJ94)","v":""},{"$f":"IF('B) Eingabe (Lehrer)'!BK94=\"\", \"\",'B) Eingabe (Lehrer)'!BK94)","v":""}]
["Zusatzitem 52",{"$f":"IF('B) Eingabe (Lehrer)'!C95=\"\", \"\",'B) Eingabe (Lehrer)'!C95)","v":""},{"$f":"IF('B) Eingabe (Lehrer)'!D95=\"\", \"\",'B) Eingabe (Lehrer)'!D95)","v":""},{"$f":"IF('B) Eingabe (Lehrer)'!E95=\"\", \"\",'B) Eingabe (Lehrer)'!E95)","v":""},{"$f":"IF('B) Eingabe (Lehrer)'!F95=\"\", \"\",'B) Eingabe (Lehrer)'!F95)","v":""},{"$f":"IF('B) Eingabe (Lehrer)'!G95=\"\", \"\",'B) Eingabe (Lehrer)'!G95)","v":""},{"$f":"IF('B) Eingabe (Lehrer)'!H95=\"\", \"\",'B) Eingabe (Lehrer)'!H95)","v":""},{"$f":"IF('B) Eingabe (Lehrer)'!I95=\"\", \"\",'B) Eingabe (Lehrer)'!I95)","v":""},{"$f":"IF('B) Eingabe (Lehrer)'!J95=\"\", \"\",'B) Eingabe (Lehrer)'!J95)","v":""},{"$f":"IF('B) Eingabe (Lehrer)'!K95=\"\", \"\",'B) Eingabe (Lehrer)'!K95)","v":""},{"$f":"IF('B) Eingabe (Lehrer)'!L95=\"\", \"\",'B) Eingabe (Lehrer)'!L95)","v":""},{"$f":"IF('B) Eingabe (Lehrer)'!M95=\"\", \"\",'B) Eingabe (Lehrer)'!M95)","v":""},{"$f":"IF('B) Eingabe (Lehrer)'!N95=\"\", \"\",'B) Eingabe (Lehrer)'!N95)","v":""},{"$f":"IF('B) Eingabe (Lehrer)'!O95=\"\", \"\",'B) Eingabe (Lehrer)'!O95)","v":""},{"$f":"IF('B) Eingabe (Lehrer)'!P95=\"\", \"\",'B) Eingabe (Lehrer)'!P95)","v":""},{"$f":"IF('B) Eingabe (Lehrer)'!Q95=\"\", \"\",'B) Eingabe (Lehrer)'!Q95)","v":""},{"$f":"IF('B) Eingabe (Lehrer)'!R95=\"\", \"\",'B) Eingabe (Lehrer)'!R95)","v":""},{"$f":"IF('B) Eingabe (Lehrer)'!S95=\"\", \"\",'B) Eingabe (Lehrer)'!S95)","v":""},{"$f":"IF('B) Eingabe (Lehrer)'!T95=\"\", \"\",'B) Eingabe (Lehrer)'!T95)","v":""},{"$f":"IF('B) Eingabe (Lehrer)'!U95=\"\", \"\",'B) Eingabe (Lehrer)'!U95)","v":""},{"$f":"IF('B) Eingabe (Lehrer)'!V95=\"\", \"\",'B) Eingabe (Lehrer)'!V95)","v":""},{"$f":"IF('B) Eingabe (Lehrer)'!W95=\"\", \"\",'B) Eingabe (Lehrer)'!W95)","v":""},{"$f":"IF('B) Eingabe (Lehrer)'!X95=\"\", \"\",'B) Eingabe (Lehrer)'!X95)","v":""},{"$f":"IF('B) Eingabe (Lehrer)'!Y95=\"\", \"\",'B) Eingabe (Lehrer)'!Y95)","v":""},{"$f":"IF('B) Eingabe (Lehrer)'!Z95=\"\", \"\",'B) Eingabe (Lehrer)'!Z95)","v":""},{"$f":"IF('B) Eingabe (Lehrer)'!AA95=\"\", \"\",'B) Eingabe (Lehrer)'!AA95)","v":""},{"$f":"IF('B) Eingabe (Lehrer)'!AB95=\"\", \"\",'B) Eingabe (Lehrer)'!AB95)","v":""},{"$f":"IF('B) Eingabe (Lehrer)'!AC95=\"\", \"\",'B) Eingabe (Lehrer)'!AC95)","v":""},{"$f":"IF('B) Eingabe (Lehrer)'!AD95=\"\", \"\",'B) Eingabe (Lehrer)'!AD95)","v":""},{"$f":"IF('B) Eingabe (Lehrer)'!AE95=\"\", \"\",'B) Eingabe (Lehrer)'!AE95)","v":""},{"$f":"IF('B) Eingabe (Lehrer)'!AF95=\"\", \"\",'B) Eingabe (Lehrer)'!AF95)","v":""},{"$f":"IF('B) Eingabe (Lehrer)'!AG95=\"\", \"\",'B) Eingabe (Lehrer)'!AG95)","v":""},{"$f":"IF('B) Eingabe (Lehrer)'!AH95=\"\", \"\",'B) Eingabe (Lehrer)'!AH95)","v":""},{"$f":"IF('B) Eingabe (Lehrer)'!AI95=\"\", \"\",'B) Eingabe (Lehrer)'!AI95)","v":""},{"$f":"IF('B) Eingabe (Lehrer)'!AJ95=\"\", \"\",'B) Eingabe (Lehrer)'!AJ95)","v":""},{"$f":"IF('B) Eingabe (Lehrer)'!AK95=\"\", \"\",'B) Eingabe (Lehrer)'!AK95)","v":""},{"$f":"IF('B) Eingabe (Lehrer)'!AL95=\"\", \"\",'B) Eingabe (Lehrer)'!AL95)","v":""},{"$f":"IF('B) Eingabe (Lehrer)'!AM95=\"\", \"\",'B) Eingabe (Lehrer)'!AM95)","v":""},{"$f":"IF('B) Eingabe (Lehrer)'!AN95=\"\", \"\",'B) Eingabe (Lehrer)'!AN95)","v":""},{"$f":"IF('B) Eingabe (Lehrer)'!AO95=\"\", \"\",'B) Eingabe (Lehrer)'!AO95)","v":""},{"$f":"IF('B) Eingabe (Lehrer)'!AP95=\"\", \"\",'B) Eingabe (Lehrer)'!AP95)","v":""},{"$f":"IF('B) Eingabe (Lehrer)'!AQ95=\"\", \"\",'B) Eingabe (Lehrer)'!AQ95)","v":""},{"$f":"IF('B) Eingabe (Lehrer)'!AR95=\"\", \"\",'B) Eingabe (Lehrer)'!AR95)","v":""},{"$f":"IF('B) Eingabe (Lehrer)'!AS95=\"\", \"\",'B) Eingabe (Lehrer)'!AS95)","v":""},{"$f":"IF('B) Eingabe (Lehrer)'!AT95=\"\", \"\",'B) Eingabe (Lehrer)'!AT95)","v":""},{"$f":"IF('B) Eingabe (Lehrer)'!AU95=\"\", \"\",'B) Eingabe (Lehrer)'!AU95)","v":""},{"$f":"IF('B) Eingabe (Lehrer)'!AV95=\"\", \"\",'B) Eingabe (Lehrer)'!AV95)","v":""},{"$f":"IF('B) Eingabe (Lehrer)'!AW95=\"\", \"\",'B) Eingabe (Lehrer)'!AW95)","v":""},{"$f":"IF('B) Eingabe (Lehrer)'!AX95=\"\", \"\",'B) Eingabe (Lehrer)'!AX95)","v":""},{"$f":"IF('B) Eingabe (Lehrer)'!AY95=\"\", \"\",'B) Eingabe (Lehrer)'!AY95)","v":""},{"$f":"IF('B) Eingabe (Lehrer)'!AZ95=\"\", \"\",'B) Eingabe (Lehrer)'!AZ95)","v":""},{"$f":"IF('B) Eingabe (Lehrer)'!BA95=\"\", \"\",'B) Eingabe (Lehrer)'!BA95)","v":""},{"$f":"IF('B) Eingabe (Lehrer)'!BB95=\"\", \"\",'B) Eingabe (Lehrer)'!BB95)","v":""},{"$f":"IF('B) Eingabe (Lehrer)'!BC95=\"\", \"\",'B) Eingabe (Lehrer)'!BC95)","v":""},{"$f":"IF('B) Eingabe (Lehrer)'!BD95=\"\", \"\",'B) Eingabe (Lehrer)'!BD95)","v":""},{"$f":"IF('B) Eingabe (Lehrer)'!BE95=\"\", \"\",'B) Eingabe (Lehrer)'!BE95)","v":""},{"$f":"IF('B) Eingabe (Lehrer)'!BF95=\"\", \"\",'B) Eingabe (Lehrer)'!BF95)","v":""},{"$f":"IF('B) Eingabe (Lehrer)'!BG95=\"\", \"\",'B) Eingabe (Lehrer)'!BG95)","v":""},{"$f":"IF('B) Eingabe (Lehrer)'!BH95=\"\", \"\",'B) Eingabe (Lehrer)'!BH95)","v":""},{"$f":"IF('B) Eingabe (Lehrer)'!BI95=\"\", \"\",'B) Eingabe (Lehrer)'!BI95)","v":""},{"$f":"IF('B) Eingabe (Lehrer)'!BJ95=\"\", \"\",'B) Eingabe (Lehrer)'!BJ95)","v":""},{"$f":"IF('B) Eingabe (Lehrer)'!BK95=\"\", \"\",'B) Eingabe (Lehrer)'!BK95)","v":""}]
["Zusatzitem 53",{"$f":"IF('B) Eingabe (Lehrer)'!C96=\"\", \"\",'B) Eingabe (Lehrer)'!C96)","v":""},{"$f":"IF('B) Eingabe (Lehrer)'!D96=\"\", \"\",'B) Eingabe (Lehrer)'!D96)","v":""},{"$f":"IF('B) Eingabe (Lehrer)'!E96=\"\", \"\",'B) Eingabe (Lehrer)'!E96)","v":""},{"$f":"IF('B) Eingabe (Lehrer)'!F96=\"\", \"\",'B) Eingabe (Lehrer)'!F96)","v":""},{"$f":"IF('B) Eingabe (Lehrer)'!G96=\"\", \"\",'B) Eingabe (Lehrer)'!G96)","v":""},{"$f":"IF('B) Eingabe (Lehrer)'!H96=\"\", \"\",'B) Eingabe (Lehrer)'!H96)","v":""},{"$f":"IF('B) Eingabe (Lehrer)'!I96=\"\", \"\",'B) Eingabe (Lehrer)'!I96)","v":""},{"$f":"IF('B) Eingabe (Lehrer)'!J96=\"\", \"\",'B) Eingabe (Lehrer)'!J96)","v":""},{"$f":"IF('B) Eingabe (Lehrer)'!K96=\"\", \"\",'B) Eingabe (Lehrer)'!K96)","v":""},{"$f":"IF('B) Eingabe (Lehrer)'!L96=\"\", \"\",'B) Eingabe (Lehrer)'!L96)","v":""},{"$f":"IF('B) Eingabe (Lehrer)'!M96=\"\", \"\",'B) Eingabe (Lehrer)'!M96)","v":""},{"$f":"IF('B) Eingabe (Lehrer)'!N96=\"\", \"\",'B) Eingabe (Lehrer)'!N96)","v":""},{"$f":"IF('B) Eingabe (Lehrer)'!O96=\"\", \"\",'B) Eingabe (Lehrer)'!O96)","v":""},{"$f":"IF('B) Eingabe (Lehrer)'!P96=\"\", \"\",'B) Eingabe (Lehrer)'!P96)","v":""},{"$f":"IF('B) Eingabe (Lehrer)'!Q96=\"\", \"\",'B) Eingabe (Lehrer)'!Q96)","v":""},{"$f":"IF('B) Eingabe (Lehrer)'!R96=\"\", \"\",'B) Eingabe (Lehrer)'!R96)","v":""},{"$f":"IF('B) Eingabe (Lehrer)'!S96=\"\", \"\",'B) Eingabe (Lehrer)'!S96)","v":""},{"$f":"IF('B) Eingabe (Lehrer)'!T96=\"\", \"\",'B) Eingabe (Lehrer)'!T96)","v":""},{"$f":"IF('B) Eingabe (Lehrer)'!U96=\"\", \"\",'B) Eingabe (Lehrer)'!U96)","v":""},{"$f":"IF('B) Eingabe (Lehrer)'!V96=\"\", \"\",'B) Eingabe (Lehrer)'!V96)","v":""},{"$f":"IF('B) Eingabe (Lehrer)'!W96=\"\", \"\",'B) Eingabe (Lehrer)'!W96)","v":""},{"$f":"IF('B) Eingabe (Lehrer)'!X96=\"\", \"\",'B) Eingabe (Lehrer)'!X96)","v":""},{"$f":"IF('B) Eingabe (Lehrer)'!Y96=\"\", \"\",'B) Eingabe (Lehrer)'!Y96)","v":""},{"$f":"IF('B) Eingabe (Lehrer)'!Z96=\"\", \"\",'B) Eingabe (Lehrer)'!Z96)","v":""},{"$f":"IF('B) Eingabe (Lehrer)'!AA96=\"\", \"\",'B) Eingabe (Lehrer)'!AA96)","v":""},{"$f":"IF('B) Eingabe (Lehrer)'!AB96=\"\", \"\",'B) Eingabe (Lehrer)'!AB96)","v":""},{"$f":"IF('B) Eingabe (Lehrer)'!AC96=\"\", \"\",'B) Eingabe (Lehrer)'!AC96)","v":""},{"$f":"IF('B) Eingabe (Lehrer)'!AD96=\"\", \"\",'B) Eingabe (Lehrer)'!AD96)","v":""},{"$f":"IF('B) Eingabe (Lehrer)'!AE96=\"\", \"\",'B) Eingabe (Lehrer)'!AE96)","v":""},{"$f":"IF('B) Eingabe (Lehrer)'!AF96=\"\", \"\",'B) Eingabe (Lehrer)'!AF96)","v":""},{"$f":"IF('B) Eingabe (Lehrer)'!AG96=\"\", \"\",'B) Eingabe (Lehrer)'!AG96)","v":""},{"$f":"IF('B) Eingabe (Lehrer)'!AH96=\"\", \"\",'B) Eingabe (Lehrer)'!AH96)","v":""},{"$f":"IF('B) Eingabe (Lehrer)'!AI96=\"\", \"\",'B) Eingabe (Lehrer)'!AI96)","v":""},{"$f":"IF('B) Eingabe (Lehrer)'!AJ96=\"\", \"\",'B) Eingabe (Lehrer)'!AJ96)","v":""},{"$f":"IF('B) Eingabe (Lehrer)'!AK96=\"\", \"\",'B) Eingabe (Lehrer)'!AK96)","v":""},{"$f":"IF('B) Eingabe (Lehrer)'!AL96=\"\", \"\",'B) Eingabe (Lehrer)'!AL96)","v":""},{"$f":"IF('B) Eingabe (Lehrer)'!AM96=\"\", \"\",'B) Eingabe (Lehrer)'!AM96)","v":""},{"$f":"IF('B) Eingabe (Lehrer)'!AN96=\"\", \"\",'B) Eingabe (Lehrer)'!AN96)","v":""},{"$f":"IF('B) Eingabe (Lehrer)'!AO96=\"\", \"\",'B) Eingabe (Lehrer)'!AO96)","v":""},{"$f":"IF('B) Eingabe (Lehrer)'!AP96=\"\", \"\",'B) Eingabe (Lehrer)'!AP96)","v":""},{"$f":"IF('B) Eingabe (Lehrer)'!AQ96=\"\", \"\",'B) Eingabe (Lehrer)'!AQ96)","v":""},{"$f":"IF('B) Eingabe (Lehrer)'!AR96=\"\", \"\",'B) Eingabe (Lehrer)'!AR96)","v":""},{"$f":"IF('B) Eingabe (Lehrer)'!AS96=\"\", \"\",'B) Eingabe (Lehrer)'!AS96)","v":""},{"$f":"IF('B) Eingabe (Lehrer)'!AT96=\"\", \"\",'B) Eingabe (Lehrer)'!AT96)","v":""},{"$f":"IF('B) Eingabe (Lehrer)'!AU96=\"\", \"\",'B) Eingabe (Lehrer)'!AU96)","v":""},{"$f":"IF('B) Eingabe (Lehrer)'!AV96=\"\", \"\",'B) Eingabe (Lehrer)'!AV96)","v":""},{"$f":"IF('B) Eingabe (Lehrer)'!AW96=\"\", \"\",'B) Eingabe (Lehrer)'!AW96)","v":""},{"$f":"IF('B) Eingabe (Lehrer)'!AX96=\"\", \"\",'B) Eingabe (Lehrer)'!AX96)","v":""},{"$f":"IF('B) Eingabe (Lehrer)'!AY96=\"\", \"\",'B) Eingabe (Lehrer)'!AY96)","v":""},{"$f":"IF('B) Eingabe (Lehrer)'!AZ96=\"\", \"\",'B) Eingabe (Lehrer)'!AZ96)","v":""},{"$f":"IF('B) Eingabe (Lehrer)'!BA96=\"\", \"\",'B) Eingabe (Lehrer)'!BA96)","v":""},{"$f":"IF('B) Eingabe (Lehrer)'!BB96=\"\", \"\",'B) Eingabe (Lehrer)'!BB96)","v":""},{"$f":"IF('B) Eingabe (Lehrer)'!BC96=\"\", \"\",'B) Eingabe (Lehrer)'!BC96)","v":""},{"$f":"IF('B) Eingabe (Lehrer)'!BD96=\"\", \"\",'B) Eingabe (Lehrer)'!BD96)","v":""},{"$f":"IF('B) Eingabe (Lehrer)'!BE96=\"\", \"\",'B) Eingabe (Lehrer)'!BE96)","v":""},{"$f":"IF('B) Eingabe (Lehrer)'!BF96=\"\", \"\",'B) Eingabe (Lehrer)'!BF96)","v":""},{"$f":"IF('B) Eingabe (Lehrer)'!BG96=\"\", \"\",'B) Eingabe (Lehrer)'!BG96)","v":""},{"$f":"IF('B) Eingabe (Lehrer)'!BH96=\"\", \"\",'B) Eingabe (Lehrer)'!BH96)","v":""},{"$f":"IF('B) Eingabe (Lehrer)'!BI96=\"\", \"\",'B) Eingabe (Lehrer)'!BI96)","v":""},{"$f":"IF('B) Eingabe (Lehrer)'!BJ96=\"\", \"\",'B) Eingabe (Lehrer)'!BJ96)","v":""},{"$f":"IF('B) Eingabe (Lehrer)'!BK96=\"\", \"\",'B) Eingabe (Lehrer)'!BK96)","v":""}]
["Zusatzitem 54",{"$f":"IF('B) Eingabe (Lehrer)'!C97=\"\", \"\",'B) Eingabe (Lehrer)'!C97)","v":""},{"$f":"IF('B) Eingabe (Lehrer)'!D97=\"\", \"\",'B) Eingabe (Lehrer)'!D97)","v":""},{"$f":"IF('B) Eingabe (Lehrer)'!E97=\"\", \"\",'B) Eingabe (Lehrer)'!E97)","v":""},{"$f":"IF('B) Eingabe (Lehrer)'!F97=\"\", \"\",'B) Eingabe (Lehrer)'!F97)","v":""},{"$f":"IF('B) Eingabe (Lehrer)'!G97=\"\", \"\",'B) Eingabe (Lehrer)'!G97)","v":""},{"$f":"IF('B) Eingabe (Lehrer)'!H97=\"\", \"\",'B) Eingabe (Lehrer)'!H97)","v":""},{"$f":"IF('B) Eingabe (Lehrer)'!I97=\"\", \"\",'B) Eingabe (Lehrer)'!I97)","v":""},{"$f":"IF('B) Eingabe (Lehrer)'!J97=\"\", \"\",'B) Eingabe (Lehrer)'!J97)","v":""},{"$f":"IF('B) Eingabe (Lehrer)'!K97=\"\", \"\",'B) Eingabe (Lehrer)'!K97)","v":""},{"$f":"IF('B) Eingabe (Lehrer)'!L97=\"\", \"\",'B) Eingabe (Lehrer)'!L97)","v":""},{"$f":"IF('B) Eingabe (Lehrer)'!M97=\"\", \"\",'B) Eingabe (Lehrer)'!M97)","v":""},{"$f":"IF('B) Eingabe (Lehrer)'!N97=\"\", \"\",'B) Eingabe (Lehrer)'!N97)","v":""},{"$f":"IF('B) Eingabe (Lehrer)'!O97=\"\", \"\",'B) Eingabe (Lehrer)'!O97)","v":""},{"$f":"IF('B) Eingabe (Lehrer)'!P97=\"\", \"\",'B) Eingabe (Lehrer)'!P97)","v":""},{"$f":"IF('B) Eingabe (Lehrer)'!Q97=\"\", \"\",'B) Eingabe (Lehrer)'!Q97)","v":""},{"$f":"IF('B) Eingabe (Lehrer)'!R97=\"\", \"\",'B) Eingabe (Lehrer)'!R97)","v":""},{"$f":"IF('B) Eingabe (Lehrer)'!S97=\"\", \"\",'B) Eingabe (Lehrer)'!S97)","v":""},{"$f":"IF('B) Eingabe (Lehrer)'!T97=\"\", \"\",'B) Eingabe (Lehrer)'!T97)","v":""},{"$f":"IF('B) Eingabe (Lehrer)'!U97=\"\", \"\",'B) Eingabe (Lehrer)'!U97)","v":""},{"$f":"IF('B) Eingabe (Lehrer)'!V97=\"\", \"\",'B) Eingabe (Lehrer)'!V97)","v":""},{"$f":"IF('B) Eingabe (Lehrer)'!W97=\"\", \"\",'B) Eingabe (Lehrer)'!W97)","v":""},{"$f":"IF('B) Eingabe (Lehrer)'!X97=\"\", \"\",'B) Eingabe (Lehrer)'!X97)","v":""},{"$f":"IF('B) Eingabe (Lehrer)'!Y97=\"\", \"\",'B) Eingabe (Lehrer)'!Y97)","v":""},{"$f":"IF('B) Eingabe (Lehrer)'!Z97=\"\", \"\",'B) Eingabe (Lehrer)'!Z97)","v":""},{"$f":"IF('B) Eingabe (Lehrer)'!AA97=\"\", \"\",'B) Eingabe (Lehrer)'!AA97)","v":""},{"$f":"IF('B) Eingabe (Lehrer)'!AB97=\"\", \"\",'B) Eingabe (Lehrer)'!AB97)","v":""},{"$f":"IF('B) Eingabe (Lehrer)'!AC97=\"\", \"\",'B) Eingabe (Lehrer)'!AC97)","v":""},{"$f":"IF('B) Eingabe (Lehrer)'!AD97=\"\", \"\",'B) Eingabe (Lehrer)'!AD97)","v":""},{"$f":"IF('B) Eingabe (Lehrer)'!AE97=\"\", \"\",'B) Eingabe (Lehrer)'!AE97)","v":""},{"$f":"IF('B) Eingabe (Lehrer)'!AF97=\"\", \"\",'B) Eingabe (Lehrer)'!AF97)","v":""},{"$f":"IF('B) Eingabe (Lehrer)'!AG97=\"\", \"\",'B) Eingabe (Lehrer)'!AG97)","v":""},{"$f":"IF('B) Eingabe (Lehrer)'!AH97=\"\", \"\",'B) Eingabe (Lehrer)'!AH97)","v":""},{"$f":"IF('B) Eingabe (Lehrer)'!AI97=\"\", \"\",'B) Eingabe (Lehrer)'!AI97)","v":""},{"$f":"IF('B) Eingabe (Lehrer)'!AJ97=\"\", \"\",'B) Eingabe (Lehrer)'!AJ97)","v":""},{"$f":"IF('B) Eingabe (Lehrer)'!AK97=\"\", \"\",'B) Eingabe (Lehrer)'!AK97)","v":""},{"$f":"IF('B) Eingabe (Lehrer)'!AL97=\"\", \"\",'B) Eingabe (Lehrer)'!AL97)","v":""},{"$f":"IF('B) Eingabe (Lehrer)'!AM97=\"\", \"\",'B) Eingabe (Lehrer)'!AM97)","v":""},{"$f":"IF('B) Eingabe (Lehrer)'!AN97=\"\", \"\",'B) Eingabe (Lehrer)'!AN97)","v":""},{"$f":"IF('B) Eingabe (Lehrer)'!AO97=\"\", \"\",'B) Eingabe (Lehrer)'!AO97)","v":""},{"$f":"IF('B) Eingabe (Lehrer)'!AP97=\"\", \"\",'B) Eingabe (Lehrer)'!AP97)","v":""},{"$f":"IF('B) Eingabe (Lehrer)'!AQ97=\"\", \"\",'B) Eingabe (Lehrer)'!AQ97)","v":""},{"$f":"IF('B) Eingabe (Lehrer)'!AR97=\"\", \"\",'B) Eingabe (Lehrer)'!AR97)","v":""},{"$f":"IF('B) Eingabe (Lehrer)'!AS97=\"\", \"\",'B) Eingabe (Lehrer)'!AS97)","v":""},{"$f":"IF('B) Eingabe (Lehrer)'!AT97=\"\", \"\",'B) Eingabe (Lehrer)'!AT97)","v":""},{"$f":"IF('B) Eingabe (Lehrer)'!AU97=\"\", \"\",'B) Eingabe (Lehrer)'!AU97)","v":""},{"$f":"IF('B) Eingabe (Lehrer)'!AV97=\"\", \"\",'B) Eingabe (Lehrer)'!AV97)","v":""},{"$f":"IF('B) Eingabe (Lehrer)'!AW97=\"\", \"\",'B) Eingabe (Lehrer)'!AW97)","v":""},{"$f":"IF('B) Eingabe (Lehrer)'!AX97=\"\", \"\",'B) Eingabe (Lehrer)'!AX97)","v":""},{"$f":"IF('B) Eingabe (Lehrer)'!AY97=\"\", \"\",'B) Eingabe (Lehrer)'!AY97)","v":""},{"$f":"IF('B) Eingabe (Lehrer)'!AZ97=\"\", \"\",'B) Eingabe (Lehrer)'!AZ97)","v":""},{"$f":"IF('B) Eingabe (Lehrer)'!BA97=\"\", \"\",'B) Eingabe (Lehrer)'!BA97)","v":""},{"$f":"IF('B) Eingabe (Lehrer)'!BB97=\"\", \"\",'B) Eingabe (Lehrer)'!BB97)","v":""},{"$f":"IF('B) Eingabe (Lehrer)'!BC97=\"\", \"\",'B) Eingabe (Lehrer)'!BC97)","v":""},{"$f":"IF('B) Eingabe (Lehrer)'!BD97=\"\", \"\",'B) Eingabe (Lehrer)'!BD97)","v":""},{"$f":"IF('B) Eingabe (Lehrer)'!BE97=\"\", \"\",'B) Eingabe (Lehrer)'!BE97)","v":""},{"$f":"IF('B) Eingabe (Lehrer)'!BF97=\"\", \"\",'B) Eingabe (Lehrer)'!BF97)","v":""},{"$f":"IF('B) Eingabe (Lehrer)'!BG97=\"\", \"\",'B) Eingabe (Lehrer)'!BG97)","v":""},{"$f":"IF('B) Eingabe (Lehrer)'!BH97=\"\", \"\",'B) Eingabe (Lehrer)'!BH97)","v":""},{"$f":"IF('B) Eingabe (Lehrer)'!BI97=\"\", \"\",'B) Eingabe (Lehrer)'!BI97)","v":""},{"$f":"IF('B) Eingabe (Lehrer)'!BJ97=\"\", \"\",'B) Eingabe (Lehrer)'!BJ97)","v":""},{"$f":"IF('B) Eingabe (Lehrer)'!BK97=\"\", \"\",'B) Eingabe (Lehrer)'!BK97)","v":""}]
["Zusatzitem 55",{"$f":"IF('B) Eingabe (Lehrer)'!C98=\"\", \"\",'B) Eingabe (Lehrer)'!C98)","v":""},{"$f":"IF('B) Eingabe (Lehrer)'!D98=\"\", \"\",'B) Eingabe (Lehrer)'!D98)","v":""},{"$f":"IF('B) Eingabe (Lehrer)'!E98=\"\", \"\",'B) Eingabe (Lehrer)'!E98)","v":""},{"$f":"IF('B) Eingabe (Lehrer)'!F98=\"\", \"\",'B) Eingabe (Lehrer)'!F98)","v":""},{"$f":"IF('B) Eingabe (Lehrer)'!G98=\"\", \"\",'B) Eingabe (Lehrer)'!G98)","v":""},{"$f":"IF('B) Eingabe (Lehrer)'!H98=\"\", \"\",'B) Eingabe (Lehrer)'!H98)","v":""},{"$f":"IF('B) Eingabe (Lehrer)'!I98=\"\", \"\",'B) Eingabe (Lehrer)'!I98)","v":""},{"$f":"IF('B) Eingabe (Lehrer)'!J98=\"\", \"\",'B) Eingabe (Lehrer)'!J98)","v":""},{"$f":"IF('B) Eingabe (Lehrer)'!K98=\"\", \"\",'B) Eingabe (Lehrer)'!K98)","v":""},{"$f":"IF('B) Eingabe (Lehrer)'!L98=\"\", \"\",'B) Eingabe (Lehrer)'!L98)","v":""},{"$f":"IF('B) Eingabe (Lehrer)'!M98=\"\", \"\",'B) Eingabe (Lehrer)'!M98)","v":""},{"$f":"IF('B) Eingabe (Lehrer)'!N98=\"\", \"\",'B) Eingabe (Lehrer)'!N98)","v":""},{"$f":"IF('B) Eingabe (Lehrer)'!O98=\"\", \"\",'B) Eingabe (Lehrer)'!O98)","v":""},{"$f":"IF('B) Eingabe (Lehrer)'!P98=\"\", \"\",'B) Eingabe (Lehrer)'!P98)","v":""},{"$f":"IF('B) Eingabe (Lehrer)'!Q98=\"\", \"\",'B) Eingabe (Lehrer)'!Q98)","v":""},{"$f":"IF('B) Eingabe (Lehrer)'!R98=\"\", \"\",'B) Eingabe (Lehrer)'!R98)","v":""},{"$f":"IF('B) Eingabe (Lehrer)'!S98=\"\", \"\",'B) Eingabe (Lehrer)'!S98)","v":""},{"$f":"IF('B) Eingabe (Lehrer)'!T98=\"\", \"\",'B) Eingabe (Lehrer)'!T98)","v":""},{"$f":"IF('B) Eingabe (Lehrer)'!U98=\"\", \"\",'B) Eingabe (Lehrer)'!U98)","v":""},{"$f":"IF('B) Eingabe (Lehrer)'!V98=\"\", \"\",'B) Eingabe (Lehrer)'!V98)","v":""},{"$f":"IF('B) Eingabe (Lehrer)'!W98=\"\", \"\",'B) Eingabe (Lehrer)'!W98)","v":""},{"$f":"IF('B) Eingabe (Lehrer)'!X98=\"\", \"\",'B) Eingabe (Lehrer)'!X98)","v":""},{"$f":"IF('B) Eingabe (Lehrer)'!Y98=\"\", \"\",'B) Eingabe (Lehrer)'!Y98)","v":""},{"$f":"IF('B) Eingabe (Lehrer)'!Z98=\"\", \"\",'B) Eingabe (Lehrer)'!Z98)","v":""},{"$f":"IF('B) Eingabe (Lehrer)'!AA98=\"\", \"\",'B) Eingabe (Lehrer)'!AA98)","v":""},{"$f":"IF('B) Eingabe (Lehrer)'!AB98=\"\", \"\",'B) Eingabe (Lehrer)'!AB98)","v":""},{"$f":"IF('B) Eingabe (Lehrer)'!AC98=\"\", \"\",'B) Eingabe (Lehrer)'!AC98)","v":""},{"$f":"IF('B) Eingabe (Lehrer)'!AD98=\"\", \"\",'B) Eingabe (Lehrer)'!AD98)","v":""},{"$f":"IF('B) Eingabe (Lehrer)'!AE98=\"\", \"\",'B) Eingabe (Lehrer)'!AE98)","v":""},{"$f":"IF('B) Eingabe (Lehrer)'!AF98=\"\", \"\",'B) Eingabe (Lehrer)'!AF98)","v":""},{"$f":"IF('B) Eingabe (Lehrer)'!AG98=\"\", \"\",'B) Eingabe (Lehrer)'!AG98)","v":""},{"$f":"IF('B) Eingabe (Lehrer)'!AH98=\"\", \"\",'B) Eingabe (Lehrer)'!AH98)","v":""},{"$f":"IF('B) Eingabe (Lehrer)'!AI98=\"\", \"\",'B) Eingabe (Lehrer)'!AI98)","v":""},{"$f":"IF('B) Eingabe (Lehrer)'!AJ98=\"\", \"\",'B) Eingabe (Lehrer)'!AJ98)","v":""},{"$f":"IF('B) Eingabe (Lehrer)'!AK98=\"\", \"\",'B) Eingabe (Lehrer)'!AK98)","v":""},{"$f":"IF('B) Eingabe (Lehrer)'!AL98=\"\", \"\",'B) Eingabe (Lehrer)'!AL98)","v":""},{"$f":"IF('B) Eingabe (Lehrer)'!AM98=\"\", \"\",'B) Eingabe (Lehrer)'!AM98)","v":""},{"$f":"IF('B) Eingabe (Lehrer)'!AN98=\"\", \"\",'B) Eingabe (Lehrer)'!AN98)","v":""},{"$f":"IF('B) Eingabe (Lehrer)'!AO98=\"\", \"\",'B) Eingabe (Lehrer)'!AO98)","v":""},{"$f":"IF('B) Eingabe (Lehrer)'!AP98=\"\", \"\",'B) Eingabe (Lehrer)'!AP98)","v":""},{"$f":"IF('B) Eingabe (Lehrer)'!AQ98=\"\", \"\",'B) Eingabe (Lehrer)'!AQ98)","v":""},{"$f":"IF('B) Eingabe (Lehrer)'!AR98=\"\", \"\",'B) Eingabe (Lehrer)'!AR98)","v":""},{"$f":"IF('B) Eingabe (Lehrer)'!AS98=\"\", \"\",'B) Eingabe (Lehrer)'!AS98)","v":""},{"$f":"IF('B) Eingabe (Lehrer)'!AT98=\"\", \"\",'B) Eingabe (Lehrer)'!AT98)","v":""},{"$f":"IF('B) Eingabe (Lehrer)'!AU98=\"\", \"\",'B) Eingabe (Lehrer)'!AU98)","v":""},{"$f":"IF('B) Eingabe (Lehrer)'!AV98=\"\", \"\",'B) Eingabe (Lehrer)'!AV98)","v":""},{"$f":"IF('B) Eingabe (Lehrer)'!AW98=\"\", \"\",'B) Eingabe (Lehrer)'!AW98)","v":""},{"$f":"IF('B) Eingabe (Lehrer)'!AX98=\"\", \"\",'B) Eingabe (Lehrer)'!AX98)","v":""},{"$f":"IF('B) Eingabe (Lehrer)'!AY98=\"\", \"\",'B) Eingabe (Lehrer)'!AY98)","v":""},{"$f":"IF('B) Eingabe (Lehrer)'!AZ98=\"\", \"\",'B) Eingabe (Lehrer)'!AZ98)","v":""},{"$f":"IF('B) Eingabe (Lehrer)'!BA98=\"\", \"\",'B) Eingabe (Lehrer)'!BA98)","v":""},{"$f":"IF('B) Eingabe (Lehrer)'!BB98=\"\", \"\",'B) Eingabe (Lehrer)'!BB98)","v":""},{"$f":"IF('B) Eingabe (Lehrer)'!BC98=\"\", \"\",'B) Eingabe (Lehrer)'!BC98)","v":""},{"$f":"IF('B) Eingabe (Lehrer)'!BD98=\"\", \"\",'B) Eingabe (Lehrer)'!BD98)","v":""},{"$f":"IF('B) Eingabe (Lehrer)'!BE98=\"\", \"\",'B) Eingabe (Lehrer)'!BE98)","v":""},{"$f":"IF('B) Eingabe (Lehrer)'!BF98=\"\", \"\",'B) Eingabe (Lehrer)'!BF98)","v":""},{"$f":"IF('B) Eingabe (Lehrer)'!BG98=\"\", \"\",'B) Eingabe (Lehrer)'!BG98)","v":""},{"$f":"IF('B) Eingabe (Lehrer)'!BH98=\"\", \"\",'B) Eingabe (Lehrer)'!BH98)","v":""},{"$f":"IF('B) Eingabe (Lehrer)'!BI98=\"\", \"\",'B) Eingabe (Lehrer)'!BI98)","v":""},{"$f":"IF('B) Eingabe (Lehrer)'!BJ98=\"\", \"\",'B) Eingabe (Lehrer)'!BJ98)","v":""},{"$f":"IF('B) Eingabe (Lehrer)'!BK98=\"\", \"\",'B) Eingabe (Lehrer)'!BK98)","v":""}]
["Zusatzitem 56",{"$f":"IF('B) Eingabe (Lehrer)'!C99=\"\", \"\",'B) Eingabe (Lehrer)'!C99)","v":""},{"$f":"IF('B) Eingabe (Lehrer)'!D99=\"\", \"\",'B) Eingabe (Lehrer)'!D99)","v":""},{"$f":"IF('B) Eingabe (Lehrer)'!E99=\"\", \"\",'B) Eingabe (Lehrer)'!E99)","v":""},{"$f":"IF('B) Eingabe (Lehrer)'!F99=\"\", \"\",'B) Eingabe (Lehrer)'!F99)","v":""},{"$f":"IF('B) Eingabe (Lehrer)'!G99=\"\", \"\",'B) Eingabe (Lehrer)'!G99)","v":""},{"$f":"IF('B) Eingabe (Lehrer)'!H99=\"\", \"\",'B) Eingabe (Lehrer)'!H99)","v":""},{"$f":"IF('B) Eingabe (Lehrer)'!I99=\"\", \"\",'B) Eingabe (Lehrer)'!I99)","v":""},{"$f":"IF('B) Eingabe (Lehrer)'!J99=\"\", \"\",'B) Eingabe (Lehrer)'!J99)","v":""},{"$f":"IF('B) Eingabe (Lehrer)'!K99=\"\", \"\",'B) Eingabe (Lehrer)'!K99)","v":""},{"$f":"IF('B) Eingabe (Lehrer)'!L99=\"\", \"\",'B) Eingabe (Lehrer)'!L99)","v":""},{"$f":"IF('B) Eingabe (Lehrer)'!M99=\"\", \"\",'B) Eingabe (Lehrer)'!M99)","v":""},{"$f":"IF('B) Eingabe (Lehrer)'!N99=\"\", \"\",'B) Eingabe (Lehrer)'!N99)","v":""},{"$f":"IF('B) Eingabe (Lehrer)'!O99=\"\", \"\",'B) Eingabe (Lehrer)'!O99)","v":""},{"$f":"IF('B) Eingabe (Lehrer)'!P99=\"\", \"\",'B) Eingabe (Lehrer)'!P99)","v":""},{"$f":"IF('B) Eingabe (Lehrer)'!Q99=\"\", \"\",'B) Eingabe (Lehrer)'!Q99)","v":""},{"$f":"IF('B) Eingabe (Lehrer)'!R99=\"\", \"\",'B) Eingabe (Lehrer)'!R99)","v":""},{"$f":"IF('B) Eingabe (Lehrer)'!S99=\"\", \"\",'B) Eingabe (Lehrer)'!S99)","v":""},{"$f":"IF('B) Eingabe (Lehrer)'!T99=\"\", \"\",'B) Eingabe (Lehrer)'!T99)","v":""},{"$f":"IF('B) Eingabe (Lehrer)'!U99=\"\", \"\",'B) Eingabe (Lehrer)'!U99)","v":""},{"$f":"IF('B) Eingabe (Lehrer)'!V99=\"\", \"\",'B) Eingabe (Lehrer)'!V99)","v":""},{"$f":"IF('B) Eingabe (Lehrer)'!W99=\"\", \"\",'B) Eingabe (Lehrer)'!W99)","v":""},{"$f":"IF('B) Eingabe (Lehrer)'!X99=\"\", \"\",'B) Eingabe (Lehrer)'!X99)","v":""},{"$f":"IF('B) Eingabe (Lehrer)'!Y99=\"\", \"\",'B) Eingabe (Lehrer)'!Y99)","v":""},{"$f":"IF('B) Eingabe (Lehrer)'!Z99=\"\", \"\",'B) Eingabe (Lehrer)'!Z99)","v":""},{"$f":"IF('B) Eingabe (Lehrer)'!AA99=\"\", \"\",'B) Eingabe (Lehrer)'!AA99)","v":""},{"$f":"IF('B) Eingabe (Lehrer)'!AB99=\"\", \"\",'B) Eingabe (Lehrer)'!AB99)","v":""},{"$f":"IF('B) Eingabe (Lehrer)'!AC99=\"\", \"\",'B) Eingabe (Lehrer)'!AC99)","v":""},{"$f":"IF('B) Eingabe (Lehrer)'!AD99=\"\", \"\",'B) Eingabe (Lehrer)'!AD99)","v":""},{"$f":"IF('B) Eingabe (Lehrer)'!AE99=\"\", \"\",'B) Eingabe (Lehrer)'!AE99)","v":""},{"$f":"IF('B) Eingabe (Lehrer)'!AF99=\"\", \"\",'B) Eingabe (Lehrer)'!AF99)","v":""},{"$f":"IF('B) Eingabe (Lehrer)'!AG99=\"\", \"\",'B) Eingabe (Lehrer)'!AG99)","v":""},{"$f":"IF('B) Eingabe (Lehrer)'!AH99=\"\", \"\",'B) Eingabe (Lehrer)'!AH99)","v":""},{"$f":"IF('B) Eingabe (Lehrer)'!AI99=\"\", \"\",'B) Eingabe (Lehrer)'!AI99)","v":""},{"$f":"IF('B) Eingabe (Lehrer)'!AJ99=\"\", \"\",'B) Eingabe (Lehrer)'!AJ99)","v":""},{"$f":"IF('B) Eingabe (Lehrer)'!AK99=\"\", \"\",'B) Eingabe (Lehrer)'!AK99)","v":""},{"$f":"IF('B) Eingabe (Lehrer)'!AL99=\"\", \"\",'B) Eingabe (Lehrer)'!AL99)","v":""},{"$f":"IF('B) Eingabe (Lehrer)'!AM99=\"\", \"\",'B) Eingabe (Lehrer)'!AM99)","v":""},{"$f":"IF('B) Eingabe (Lehrer)'!AN99=\"\", \"\",'B) Eingabe (Lehrer)'!AN99)","v":""},{"$f":"IF('B) Eingabe (Lehrer)'!AO99=\"\", \"\",'B) Eingabe (Lehrer)'!AO99)","v":""},{"$f":"IF('B) Eingabe (Lehrer)'!AP99=\"\", \"\",'B) Eingabe (Lehrer)'!AP99)","v":""},{"$f":"IF('B) Eingabe (Lehrer)'!AQ99=\"\", \"\",'B) Eingabe (Lehrer)'!AQ99)","v":""},{"$f":"IF('B) Eingabe (Lehrer)'!AR99=\"\", \"\",'B) Eingabe (Lehrer)'!AR99)","v":""},{"$f":"IF('B) Eingabe (Lehrer)'!AS99=\"\", \"\",'B) Eingabe (Lehrer)'!AS99)","v":""},{"$f":"IF('B) Eingabe (Lehrer)'!AT99=\"\", \"\",'B) Eingabe (Lehrer)'!AT99)","v":""},{"$f":"IF('B) Eingabe (Lehrer)'!AU99=\"\", \"\",'B) Eingabe (Lehrer)'!AU99)","v":""},{"$f":"IF('B) Eingabe (Lehrer)'!AV99=\"\", \"\",'B) Eingabe (Lehrer)'!AV99)","v":""},{"$f":"IF('B) Eingabe (Lehrer)'!AW99=\"\", \"\",'B) Eingabe (Lehrer)'!AW99)","v":""},{"$f":"IF('B) Eingabe (Lehrer)'!AX99=\"\", \"\",'B) Eingabe (Lehrer)'!AX99)","v":""},{"$f":"IF('B) Eingabe (Lehrer)'!AY99=\"\", \"\",'B) Eingabe (Lehrer)'!AY99)","v":""},{"$f":"IF('B) Eingabe (Lehrer)'!AZ99=\"\", \"\",'B) Eingabe (Lehrer)'!AZ99)","v":""},{"$f":"IF('B) Eingabe (Lehrer)'!BA99=\"\", \"\",'B) Eingabe (Lehrer)'!BA99)","v":""},{"$f":"IF('B) Eingabe (Lehrer)'!BB99=\"\", \"\",'B) Eingabe (Lehrer)'!BB99)","v":""},{"$f":"IF('B) Eingabe (Lehrer)'!BC99=\"\", \"\",'B) Eingabe (Lehrer)'!BC99)","v":""},{"$f":"IF('B) Eingabe (Lehrer)'!BD99=\"\", \"\",'B) Eingabe (Lehrer)'!BD99)","v":""},{"$f":"IF('B) Eingabe (Lehrer)'!BE99=\"\", \"\",'B) Eingabe (Lehrer)'!BE99)","v":""},{"$f":"IF('B) Eingabe (Lehrer)'!BF99=\"\", \"\",'B) Eingabe (Lehrer)'!BF99)","v":""},{"$f":"IF('B) Eingabe (Lehrer)'!BG99=\"\", \"\",'B) Eingabe (Lehrer)'!BG99)","v":""},{"$f":"IF('B) Eingabe (Lehrer)'!BH99=\"\", \"\",'B) Eingabe (Lehrer)'!BH99)","v":""},{"$f":"IF('B) Eingabe (Lehrer)'!BI99=\"\", \"\",'B) Eingabe (Lehrer)'!BI99)","v":""},{"$f":"IF('B) Eingabe (Lehrer)'!BJ99=\"\", \"\",'B) Eingabe (Lehrer)'!BJ99)","v":""},{"$f":"IF('B) Eingabe (Lehrer)'!BK99=\"\", \"\",'B) Eingabe (Lehrer)'!BK99)","v":""}]
["Zusatzitem 57",{"$f":"IF('B) Eingabe (Lehrer)'!C100=\"\", \"\",'B) Eingabe (Lehrer)'!C100)","v":""},{"$f":"IF('B) Eingabe (Lehrer)'!D100=\"\", \"\",'B) Eingabe (Lehrer)'!D100)","v":""},{"$f":"IF('B) Eingabe (Lehrer)'!E100=\"\", \"\",'B) Eingabe (Lehrer)'!E100)","v":""},{"$f":"IF('B) Eingabe (Lehrer)'!F100=\"\", \"\",'B) Eingabe (Lehrer)'!F100)","v":""},{"$f":"IF('B) Eingabe (Lehrer)'!G100=\"\", \"\",'B) Eingabe (Lehrer)'!G100)","v":""},{"$f":"IF('B) Eingabe (Lehrer)'!H100=\"\", \"\",'B) Eingabe (Lehrer)'!H100)","v":""},{"$f":"IF('B) Eingabe (Lehrer)'!I100=\"\", \"\",'B) Eingabe (Lehrer)'!I100)","v":""},{"$f":"IF('B) Eingabe (Lehrer)'!J100=\"\", \"\",'B) Eingabe (Lehrer)'!J100)","v":""},{"$f":"IF('B) Eingabe (Lehrer)'!K100=\"\", \"\",'B) Eingabe (Lehrer)'!K100)","v":""},{"$f":"IF('B) Eingabe (Lehrer)'!L100=\"\", \"\",'B) Eingabe (Lehrer)'!L100)","v":""},{"$f":"IF('B) Eingabe (Lehrer)'!M100=\"\", \"\",'B) Eingabe (Lehrer)'!M100)","v":""},{"$f":"IF('B) Eingabe (Lehrer)'!N100=\"\", \"\",'B) Eingabe (Lehrer)'!N100)","v":""},{"$f":"IF('B) Eingabe (Lehrer)'!O100=\"\", \"\",'B) Eingabe (Lehrer)'!O100)","v":""},{"$f":"IF('B) Eingabe (Lehrer)'!P100=\"\", \"\",'B) Eingabe (Lehrer)'!P100)","v":""},{"$f":"IF('B) Eingabe (Lehrer)'!Q100=\"\", \"\",'B) Eingabe (Lehrer)'!Q100)","v":""},{"$f":"IF('B) Eingabe (Lehrer)'!R100=\"\", \"\",'B) Eingabe (Lehrer)'!R100)","v":""},{"$f":"IF('B) Eingabe (Lehrer)'!S100=\"\", \"\",'B) Eingabe (Lehrer)'!S100)","v":""},{"$f":"IF('B) Eingabe (Lehrer)'!T100=\"\", \"\",'B) Eingabe (Lehrer)'!T100)","v":""},{"$f":"IF('B) Eingabe (Lehrer)'!U100=\"\", \"\",'B) Eingabe (Lehrer)'!U100)","v":""},{"$f":"IF('B) Eingabe (Lehrer)'!V100=\"\", \"\",'B) Eingabe (Lehrer)'!V100)","v":""},{"$f":"IF('B) Eingabe (Lehrer)'!W100=\"\", \"\",'B) Eingabe (Lehrer)'!W100)","v":""},{"$f":"IF('B) Eingabe (Lehrer)'!X100=\"\", \"\",'B) Eingabe (Lehrer)'!X100)","v":""},{"$f":"IF('B) Eingabe (Lehrer)'!Y100=\"\", \"\",'B) Eingabe (Lehrer)'!Y100)","v":""},{"$f":"IF('B) Eingabe (Lehrer)'!Z100=\"\", \"\",'B) Eingabe (Lehrer)'!Z100)","v":""},{"$f":"IF('B) Eingabe (Lehrer)'!AA100=\"\", \"\",'B) Eingabe (Lehrer)'!AA100)","v":""},{"$f":"IF('B) Eingabe (Lehrer)'!AB100=\"\", \"\",'B) Eingabe (Lehrer)'!AB100)","v":""},{"$f":"IF('B) Eingabe (Lehrer)'!AC100=\"\", \"\",'B) Eingabe (Lehrer)'!AC100)","v":""},{"$f":"IF('B) Eingabe (Lehrer)'!AD100=\"\", \"\",'B) Eingabe (Lehrer)'!AD100)","v":""},{"$f":"IF('B) Eingabe (Lehrer)'!AE100=\"\", \"\",'B) Eingabe (Lehrer)'!AE100)","v":""},{"$f":"IF('B) Eingabe (Lehrer)'!AF100=\"\", \"\",'B) Eingabe (Lehrer)'!AF100)","v":""},{"$f":"IF('B) Eingabe (Lehrer)'!AG100=\"\", \"\",'B) Eingabe (Lehrer)'!AG100)","v":""},{"$f":"IF('B) Eingabe (Lehrer)'!AH100=\"\", \"\",'B) Eingabe (Lehrer)'!AH100)","v":""},{"$f":"IF('B) Eingabe (Lehrer)'!AI100=\"\", \"\",'B) Eingabe (Lehrer)'!AI100)","v":""},{"$f":"IF('B) Eingabe (Lehrer)'!AJ100=\"\", \"\",'B) Eingabe (Lehrer)'!AJ100)","v":""},{"$f":"IF('B) Eingabe (Lehrer)'!AK100=\"\", \"\",'B) Eingabe (Lehrer)'!AK100)","v":""},{"$f":"IF('B) Eingabe (Lehrer)'!AL100=\"\", \"\",'B) Eingabe (Lehrer)'!AL100)","v":""},{"$f":"IF('B) Eingabe (Lehrer)'!AM100=\"\", \"\",'B) Eingabe (Lehrer)'!AM100)","v":""},{"$f":"IF('B) Eingabe (Lehrer)'!AN100=\"\", \"\",'B) Eingabe (Lehrer)'!AN100)","v":""},{"$f":"IF('B) Eingabe (Lehrer)'!AO100=\"\", \"\",'B) Eingabe (Lehrer)'!AO100)","v":""},{"$f":"IF('B) Eingabe (Lehrer)'!AP100=\"\", \"\",'B) Eingabe (Lehrer)'!AP100)","v":""},{"$f":"IF('B) Eingabe (Lehrer)'!AQ100=\"\", \"\",'B) Eingabe (Lehrer)'!AQ100)","v":""},{"$f":"IF('B) Eingabe (Lehrer)'!AR100=\"\", \"\",'B) Eingabe (Lehrer)'!AR100)","v":""},{"$f":"IF('B) Eingabe (Lehrer)'!AS100=\"\", \"\",'B) Eingabe (Lehrer)'!AS100)","v":""},{"$f":"IF('B) Eingabe (Lehrer)'!AT100=\"\", \"\",'B) Eingabe (Lehrer)'!AT100)","v":""},{"$f":"IF('B) Eingabe (Lehrer)'!AU100=\"\", \"\",'B) Eingabe (Lehrer)'!AU100)","v":""},{"$f":"IF('B) Eingabe (Lehrer)'!AV100=\"\", \"\",'B) Eingabe (Lehrer)'!AV100)","v":""},{"$f":"IF('B) Eingabe (Lehrer)'!AW100=\"\", \"\",'B) Eingabe (Lehrer)'!AW100)","v":""},{"$f":"IF('B) Eingabe (Lehrer)'!AX100=\"\", \"\",'B) Eingabe (Lehrer)'!AX100)","v":""},{"$f":"IF('B) Eingabe (Lehrer)'!AY100=\"\", \"\",'B) Eingabe (Lehrer)'!AY100)","v":""},{"$f":"IF('B) Eingabe (Lehrer)'!AZ100=\"\", \"\",'B) Eingabe (Lehrer)'!AZ100)","v":""},{"$f":"IF('B) Eingabe (Lehrer)'!BA100=\"\", \"\",'B) Eingabe (Lehrer)'!BA100)","v":""},{"$f":"IF('B) Eingabe (Lehrer)'!BB100=\"\", \"\",'B) Eingabe (Lehrer)'!BB100)","v":""},{"$f":"IF('B) Eingabe (Lehrer)'!BC100=\"\", \"\",'B) Eingabe (Lehrer)'!BC100)","v":""},{"$f":"IF('B) Eingabe (Lehrer)'!BD100=\"\", \"\",'B) Eingabe (Lehrer)'!BD100)","v":""},{"$f":"IF('B) Eingabe (Lehrer)'!BE100=\"\", \"\",'B) Eingabe (Lehrer)'!BE100)","v":""},{"$f":"IF('B) Eingabe (Lehrer)'!BF100=\"\", \"\",'B) Eingabe (Lehrer)'!BF100)","v":""},{"$f":"IF('B) Eingabe (Lehrer)'!BG100=\"\", \"\",'B) Eingabe (Lehrer)'!BG100)","v":""},{"$f":"IF('B) Eingabe (Lehrer)'!BH100=\"\", \"\",'B) Eingabe (Lehrer)'!BH100)","v":""},{"$f":"IF('B) Eingabe (Lehrer)'!BI100=\"\", \"\",'B) Eingabe (Lehrer)'!BI100)","v":""},{"$f":"IF('B) Eingabe (Lehrer)'!BJ100=\"\", \"\",'B) Eingabe (Lehrer)'!BJ100)","v":""},{"$f":"IF('B) Eingabe (Lehrer)'!BK100=\"\", \"\",'B) Eingabe (Lehrer)'!BK100)","v":""}]
["Zusatzitem 58",{"$f":"IF('B) Eingabe (Lehrer)'!C101=\"\", \"\",'B) Eingabe (Lehrer)'!C101)","v":""},{"$f":"IF('B) Eingabe (Lehrer)'!D101=\"\", \"\",'B) Eingabe (Lehrer)'!D101)","v":""},{"$f":"IF('B) Eingabe (Lehrer)'!E101=\"\", \"\",'B) Eingabe (Lehrer)'!E101)","v":""},{"$f":"IF('B) Eingabe (Lehrer)'!F101=\"\", \"\",'B) Eingabe (Lehrer)'!F101)","v":""},{"$f":"IF('B) Eingabe (Lehrer)'!G101=\"\", \"\",'B) Eingabe (Lehrer)'!G101)","v":""},{"$f":"IF('B) Eingabe (Lehrer)'!H101=\"\", \"\",'B) Eingabe (Lehrer)'!H101)","v":""},{"$f":"IF('B) Eingabe (Lehrer)'!I101=\"\", \"\",'B) Eingabe (Lehrer)'!I101)","v":""},{"$f":"IF('B) Eingabe (Lehrer)'!J101=\"\", \"\",'B) Eingabe (Lehrer)'!J101)","v":""},{"$f":"IF('B) Eingabe (Lehrer)'!K101=\"\", \"\",'B) Eingabe (Lehrer)'!K101)","v":""},{"$f":"IF('B) Eingabe (Lehrer)'!L101=\"\", \"\",'B) Eingabe (Lehrer)'!L101)","v":""},{"$f":"IF('B) Eingabe (Lehrer)'!M101=\"\", \"\",'B) Eingabe (Lehrer)'!M101)","v":""},{"$f":"IF('B) Eingabe (Lehrer)'!N101=\"\", \"\",'B) Eingabe (Lehrer)'!N101)","v":""},{"$f":"IF('B) Eingabe (Lehrer)'!O101=\"\", \"\",'B) Eingabe (Lehrer)'!O101)","v":""},{"$f":"IF('B) Eingabe (Lehrer)'!P101=\"\", \"\",'B) Eingabe (Lehrer)'!P101)","v":""},{"$f":"IF('B) Eingabe (Lehrer)'!Q101=\"\", \"\",'B) Eingabe (Lehrer)'!Q101)","v":""},{"$f":"IF('B) Eingabe (Lehrer)'!R101=\"\", \"\",'B) Eingabe (Lehrer)'!R101)","v":""},{"$f":"IF('B) Eingabe (Lehrer)'!S101=\"\", \"\",'B) Eingabe (Lehrer)'!S101)","v":""},{"$f":"IF('B) Eingabe (Lehrer)'!T101=\"\", \"\",'B) Eingabe (Lehrer)'!T101)","v":""},{"$f":"IF('B) Eingabe (Lehrer)'!U101=\"\", \"\",'B) Eingabe (Lehrer)'!U101)","v":""},{"$f":"IF('B) Eingabe (Lehrer)'!V101=\"\", \"\",'B) Eingabe (Lehrer)'!V101)","v":""},{"$f":"IF('B) Eingabe (Lehrer)'!W101=\"\", \"\",'B) Eingabe (Lehrer)'!W101)","v":""},{"$f":"IF('B) Eingabe (Lehrer)'!X101=\"\", \"\",'B) Eingabe (Lehrer)'!X101)","v":""},{"$f":"IF('B) Eingabe (Lehrer)'!Y101=\"\", \"\",'B) Eingabe (Lehrer)'!Y101)","v":""},{"$f":"IF('B) Eingabe (Lehrer)'!Z101=\"\", \"\",'B) Eingabe (Lehrer)'!Z101)","v":""},{"$f":"IF('B) Eingabe (Lehrer)'!AA101=\"\", \"\",'B) Eingabe (Lehrer)'!AA101)","v":""},{"$f":"IF('B) Eingabe (Lehrer)'!AB101=\"\", \"\",'B) Eingabe (Lehrer)'!AB101)","v":""},{"$f":"IF('B) Eingabe (Lehrer)'!AC101=\"\", \"\",'B) Eingabe (Lehrer)'!AC101)","v":""},{"$f":"IF('B) Eingabe (Lehrer)'!AD101=\"\", \"\",'B) Eingabe (Lehrer)'!AD101)","v":""},{"$f":"IF('B) Eingabe (Lehrer)'!AE101=\"\", \"\",'B) Eingabe (Lehrer)'!AE101)","v":""},{"$f":"IF('B) Eingabe (Lehrer)'!AF101=\"\", \"\",'B) Eingabe (Lehrer)'!AF101)","v":""},{"$f":"IF('B) Eingabe (Lehrer)'!AG101=\"\", \"\",'B) Eingabe (Lehrer)'!AG101)","v":""},{"$f":"IF('B) Eingabe (Lehrer)'!AH101=\"\", \"\",'B) Eingabe (Lehrer)'!AH101)","v":""},{"$f":"IF('B) Eingabe (Lehrer)'!AI101=\"\", \"\",'B) Eingabe (Lehrer)'!AI101)","v":""},{"$f":"IF('B) Eingabe (Lehrer)'!AJ101=\"\", \"\",'B) Eingabe (Lehrer)'!AJ101)","v":""},{"$f":"IF('B) Eingabe (Lehrer)'!AK101=\"\", \"\",'B) Eingabe (Lehrer)'!AK101)","v":""},{"$f":"IF('B) Eingabe (Lehrer)'!AL101=\"\", \"\",'B) Eingabe (Lehrer)'!AL101)","v":""},{"$f":"IF('B) Eingabe (Lehrer)'!AM101=\"\", \"\",'B) Eingabe (Lehrer)'!AM101)","v":""},{"$f":"IF('B) Eingabe (Lehrer)'!AN101=\"\", \"\",'B) Eingabe (Lehrer)'!AN101)","v":""},{"$f":"IF('B) Eingabe (Lehrer)'!AO101=\"\", \"\",'B) Eingabe (Lehrer)'!AO101)","v":""},{"$f":"IF('B) Eingabe (Lehrer)'!AP101=\"\", \"\",'B) Eingabe (Lehrer)'!AP101)","v":""},{"$f":"IF('B) Eingabe (Lehrer)'!AQ101=\"\", \"\",'B) Eingabe (Lehrer)'!AQ101)","v":""},{"$f":"IF('B) Eingabe (Lehrer)'!AR101=\"\", \"\",'B) Eingabe (Lehrer)'!AR101)","v":""},{"$f":"IF('B) Eingabe (Lehrer)'!AS101=\"\", \"\",'B) Eingabe (Lehrer)'!AS101)","v":""},{"$f":"IF('B) Eingabe (Lehrer)'!AT101=\"\", \"\",'B) Eingabe (Lehrer)'!AT101)","v":""},{"$f":"IF('B) Eingabe (Lehrer)'!AU101=\"\", \"\",'B) Eingabe (Lehrer)'!AU101)","v":""},{"$f":"IF('B) Eingabe (Lehrer)'!AV101=\"\", \"\",'B) Eingabe (Lehrer)'!AV101)","v":""},{"$f":"IF('B) Eingabe (Lehrer)'!AW101=\"\", \"\",'B) Eingabe (Lehrer)'!AW101)","v":""},{"$f":"IF('B) Eingabe (Lehrer)'!AX101=\"\", \"\",'B) Eingabe (Lehrer)'!AX101)","v":""},{"$f":"IF('B) Eingabe (Lehrer)'!AY101=\"\", \"\",'B) Eingabe (Lehrer)'!AY101)","v":""},{"$f":"IF('B) Eingabe (Lehrer)'!AZ101=\"\", \"\",'B) Eingabe (Lehrer)'!AZ101)","v":""},{"$f":"IF('B) Eingabe (Lehrer)'!BA101=\"\", \"\",'B) Eingabe (Lehrer)'!BA101)","v":""},{"$f":"IF('B) Eingabe (Lehrer)'!BB101=\"\", \"\",'B) Eingabe (Lehrer)'!BB101)","v":""},{"$f":"IF('B) Eingabe (Lehrer)'!BC101=\"\", \"\",'B) Eingabe (Lehrer)'!BC101)","v":""},{"$f":"IF('B) Eingabe (Lehrer)'!BD101=\"\", \"\",'B) Eingabe (Lehrer)'!BD101)","v":""},{"$f":"IF('B) Eingabe (Lehrer)'!BE101=\"\", \"\",'B) Eingabe (Lehrer)'!BE101)","v":""},{"$f":"IF('B) Eingabe (Lehrer)'!BF101=\"\", \"\",'B) Eingabe (Lehrer)'!BF101)","v":""},{"$f":"IF('B) Eingabe (Lehrer)'!BG101=\"\", \"\",'B) Eingabe (Lehrer)'!BG101)","v":""},{"$f":"IF('B) Eingabe (Lehrer)'!BH101=\"\", \"\",'B) Eingabe (Lehrer)'!BH101)","v":""},{"$f":"IF('B) Eingabe (Lehrer)'!BI101=\"\", \"\",'B) Eingabe (Lehrer)'!BI101)","v":""},{"$f":"IF('B) Eingabe (Lehrer)'!BJ101=\"\", \"\",'B) Eingabe (Lehrer)'!BJ101)","v":""},{"$f":"IF('B) Eingabe (Lehrer)'!BK101=\"\", \"\",'B) Eingabe (Lehrer)'!BK101)","v":""}]
["Zusatzitem 59",{"$f":"IF('B) Eingabe (Lehrer)'!C102=\"\", \"\",'B) Eingabe (Lehrer)'!C102)","v":""},{"$f":"IF('B) Eingabe (Lehrer)'!D102=\"\", \"\",'B) Eingabe (Lehrer)'!D102)","v":""},{"$f":"IF('B) Eingabe (Lehrer)'!E102=\"\", \"\",'B) Eingabe (Lehrer)'!E102)","v":""},{"$f":"IF('B) Eingabe (Lehrer)'!F102=\"\", \"\",'B) Eingabe (Lehrer)'!F102)","v":""},{"$f":"IF('B) Eingabe (Lehrer)'!G102=\"\", \"\",'B) Eingabe (Lehrer)'!G102)","v":""},{"$f":"IF('B) Eingabe (Lehrer)'!H102=\"\", \"\",'B) Eingabe (Lehrer)'!H102)","v":""},{"$f":"IF('B) Eingabe (Lehrer)'!I102=\"\", \"\",'B) Eingabe (Lehrer)'!I102)","v":""},{"$f":"IF('B) Eingabe (Lehrer)'!J102=\"\", \"\",'B) Eingabe (Lehrer)'!J102)","v":""},{"$f":"IF('B) Eingabe (Lehrer)'!K102=\"\", \"\",'B) Eingabe (Lehrer)'!K102)","v":""},{"$f":"IF('B) Eingabe (Lehrer)'!L102=\"\", \"\",'B) Eingabe (Lehrer)'!L102)","v":""},{"$f":"IF('B) Eingabe (Lehrer)'!M102=\"\", \"\",'B) Eingabe (Lehrer)'!M102)","v":""},{"$f":"IF('B) Eingabe (Lehrer)'!N102=\"\", \"\",'B) Eingabe (Lehrer)'!N102)","v":""},{"$f":"IF('B) Eingabe (Lehrer)'!O102=\"\", \"\",'B) Eingabe (Lehrer)'!O102)","v":""},{"$f":"IF('B) Eingabe (Lehrer)'!P102=\"\", \"\",'B) Eingabe (Lehrer)'!P102)","v":""},{"$f":"IF('B) Eingabe (Lehrer)'!Q102=\"\", \"\",'B) Eingabe (Lehrer)'!Q102)","v":""},{"$f":"IF('B) Eingabe (Lehrer)'!R102=\"\", \"\",'B) Eingabe (Lehrer)'!R102)","v":""},{"$f":"IF('B) Eingabe (Lehrer)'!S102=\"\", \"\",'B) Eingabe (Lehrer)'!S102)","v":""},{"$f":"IF('B) Eingabe (Lehrer)'!T102=\"\", \"\",'B) Eingabe (Lehrer)'!T102)","v":""},{"$f":"IF('B) Eingabe (Lehrer)'!U102=\"\", \"\",'B) Eingabe (Lehrer)'!U102)","v":""},{"$f":"IF('B) Eingabe (Lehrer)'!V102=\"\", \"\",'B) Eingabe (Lehrer)'!V102)","v":""},{"$f":"IF('B) Eingabe (Lehrer)'!W102=\"\", \"\",'B) Eingabe (Lehrer)'!W102)","v":""},{"$f":"IF('B) Eingabe (Lehrer)'!X102=\"\", \"\",'B) Eingabe (Lehrer)'!X102)","v":""},{"$f":"IF('B) Eingabe (Lehrer)'!Y102=\"\", \"\",'B) Eingabe (Lehrer)'!Y102)","v":""},{"$f":"IF('B) Eingabe (Lehrer)'!Z102=\"\", \"\",'B) Eingabe (Lehrer)'!Z102)","v":""},{"$f":"IF('B) Eingabe (Lehrer)'!AA102=\"\", \"\",'B) Eingabe (Lehrer)'!AA102)","v":""},{"$f":"IF('B) Eingabe (Lehrer)'!AB102=\"\", \"\",'B) Eingabe (Lehrer)'!AB102)","v":""},{"$f":"IF('B) Eingabe (Lehrer)'!AC102=\"\", \"\",'B) Eingabe (Lehrer)'!AC102)","v":""},{"$f":"IF('B) Eingabe (Lehrer)'!AD102=\"\", \"\",'B) Eingabe (Lehrer)'!AD102)","v":""},{"$f":"IF('B) Eingabe (Lehrer)'!AE102=\"\", \"\",'B) Eingabe (Lehrer)'!AE102)","v":""},{"$f":"IF('B) Eingabe (Lehrer)'!AF102=\"\", \"\",'B) Eingabe (Lehrer)'!AF102)","v":""},{"$f":"IF('B) Eingabe (Lehrer)'!AG102=\"\", \"\",'B) Eingabe (Lehrer)'!AG102)","v":""},{"$f":"IF('B) Eingabe (Lehrer)'!AH102=\"\", \"\",'B) Eingabe (Lehrer)'!AH102)","v":""},{"$f":"IF('B) Eingabe (Lehrer)'!AI102=\"\", \"\",'B) Eingabe (Lehrer)'!AI102)","v":""},{"$f":"IF('B) Eingabe (Lehrer)'!AJ102=\"\", \"\",'B) Eingabe (Lehrer)'!AJ102)","v":""},{"$f":"IF('B) Eingabe (Lehrer)'!AK102=\"\", \"\",'B) Eingabe (Lehrer)'!AK102)","v":""},{"$f":"IF('B) Eingabe (Lehrer)'!AL102=\"\", \"\",'B) Eingabe (Lehrer)'!AL102)","v":""},{"$f":"IF('B) Eingabe (Lehrer)'!AM102=\"\", \"\",'B) Eingabe (Lehrer)'!AM102)","v":""},{"$f":"IF('B) Eingabe (Lehrer)'!AN102=\"\", \"\",'B) Eingabe (Lehrer)'!AN102)","v":""},{"$f":"IF('B) Eingabe (Lehrer)'!AO102=\"\", \"\",'B) Eingabe (Lehrer)'!AO102)","v":""},{"$f":"IF('B) Eingabe (Lehrer)'!AP102=\"\", \"\",'B) Eingabe (Lehrer)'!AP102)","v":""},{"$f":"IF('B) Eingabe (Lehrer)'!AQ102=\"\", \"\",'B) Eingabe (Lehrer)'!AQ102)","v":""},{"$f":"IF('B) Eingabe (Lehrer)'!AR102=\"\", \"\",'B) Eingabe (Lehrer)'!AR102)","v":""},{"$f":"IF('B) Eingabe (Lehrer)'!AS102=\"\", \"\",'B) Eingabe (Lehrer)'!AS102)","v":""},{"$f":"IF('B) Eingabe (Lehrer)'!AT102=\"\", \"\",'B) Eingabe (Lehrer)'!AT102)","v":""},{"$f":"IF('B) Eingabe (Lehrer)'!AU102=\"\", \"\",'B) Eingabe (Lehrer)'!AU102)","v":""},{"$f":"IF('B) Eingabe (Lehrer)'!AV102=\"\", \"\",'B) Eingabe (Lehrer)'!AV102)","v":""},{"$f":"IF('B) Eingabe (Lehrer)'!AW102=\"\", \"\",'B) Eingabe (Lehrer)'!AW102)","v":""},{"$f":"IF('B) Eingabe (Lehrer)'!AX102=\"\", \"\",'B) Eingabe (Lehrer)'!AX102)","v":""},{"$f":"IF('B) Eingabe (Lehrer)'!AY102=\"\", \"\",'B) Eingabe (Lehrer)'!AY102)","v":""},{"$f":"IF('B) Eingabe (Lehrer)'!AZ102=\"\", \"\",'B) Eingabe (Lehrer)'!AZ102)","v":""},{"$f":"IF('B) Eingabe (Lehrer)'!BA102=\"\", \"\",'B) Eingabe (Lehrer)'!BA102)","v":""},{"$f":"IF('B) Eingabe (Lehrer)'!BB102=\"\", \"\",'B) Eingabe (Lehrer)'!BB102)","v":""},{"$f":"IF('B) Eingabe (Lehrer)'!BC102=\"\", \"\",'B) Eingabe (Lehrer)'!BC102)","v":""},{"$f":"IF('B) Eingabe (Lehrer)'!BD102=\"\", \"\",'B) Eingabe (Lehrer)'!BD102)","v":""},{"$f":"IF('B) Eingabe (Lehrer)'!BE102=\"\", \"\",'B) Eingabe (Lehrer)'!BE102)","v":""},{"$f":"IF('B) Eingabe (Lehrer)'!BF102=\"\", \"\",'B) Eingabe (Lehrer)'!BF102)","v":""},{"$f":"IF('B) Eingabe (Lehrer)'!BG102=\"\", \"\",'B) Eingabe (Lehrer)'!BG102)","v":""},{"$f":"IF('B) Eingabe (Lehrer)'!BH102=\"\", \"\",'B) Eingabe (Lehrer)'!BH102)","v":""},{"$f":"IF('B) Eingabe (Lehrer)'!BI102=\"\", \"\",'B) Eingabe (Lehrer)'!BI102)","v":""},{"$f":"IF('B) Eingabe (Lehrer)'!BJ102=\"\", \"\",'B) Eingabe (Lehrer)'!BJ102)","v":""},{"$f":"IF('B) Eingabe (Lehrer)'!BK102=\"\", \"\",'B) Eingabe (Lehrer)'!BK102)","v":""}]
["Zusatzitem 60",{"$f":"IF('B) Eingabe (Lehrer)'!C103=\"\", \"\",'B) Eingabe (Lehrer)'!C103)","v":""},{"$f":"IF('B) Eingabe (Lehrer)'!D103=\"\", \"\",'B) Eingabe (Lehrer)'!D103)","v":""},{"$f":"IF('B) Eingabe (Lehrer)'!E103=\"\", \"\",'B) Eingabe (Lehrer)'!E103)","v":""},{"$f":"IF('B) Eingabe (Lehrer)'!F103=\"\", \"\",'B) Eingabe (Lehrer)'!F103)","v":""},{"$f":"IF('B) Eingabe (Lehrer)'!G103=\"\", \"\",'B) Eingabe (Lehrer)'!G103)","v":""},{"$f":"IF('B) Eingabe (Lehrer)'!H103=\"\", \"\",'B) Eingabe (Lehrer)'!H103)","v":""},{"$f":"IF('B) Eingabe (Lehrer)'!I103=\"\", \"\",'B) Eingabe (Lehrer)'!I103)","v":""},{"$f":"IF('B) Eingabe (Lehrer)'!J103=\"\", \"\",'B) Eingabe (Lehrer)'!J103)","v":""},{"$f":"IF('B) Eingabe (Lehrer)'!K103=\"\", \"\",'B) Eingabe (Lehrer)'!K103)","v":""},{"$f":"IF('B) Eingabe (Lehrer)'!L103=\"\", \"\",'B) Eingabe (Lehrer)'!L103)","v":""},{"$f":"IF('B) Eingabe (Lehrer)'!M103=\"\", \"\",'B) Eingabe (Lehrer)'!M103)","v":""},{"$f":"IF('B) Eingabe (Lehrer)'!N103=\"\", \"\",'B) Eingabe (Lehrer)'!N103)","v":""},{"$f":"IF('B) Eingabe (Lehrer)'!O103=\"\", \"\",'B) Eingabe (Lehrer)'!O103)","v":""},{"$f":"IF('B) Eingabe (Lehrer)'!P103=\"\", \"\",'B) Eingabe (Lehrer)'!P103)","v":""},{"$f":"IF('B) Eingabe (Lehrer)'!Q103=\"\", \"\",'B) Eingabe (Lehrer)'!Q103)","v":""},{"$f":"IF('B) Eingabe (Lehrer)'!R103=\"\", \"\",'B) Eingabe (Lehrer)'!R103)","v":""},{"$f":"IF('B) Eingabe (Lehrer)'!S103=\"\", \"\",'B) Eingabe (Lehrer)'!S103)","v":""},{"$f":"IF('B) Eingabe (Lehrer)'!T103=\"\", \"\",'B) Eingabe (Lehrer)'!T103)","v":""},{"$f":"IF('B) Eingabe (Lehrer)'!U103=\"\", \"\",'B) Eingabe (Lehrer)'!U103)","v":""},{"$f":"IF('B) Eingabe (Lehrer)'!V103=\"\", \"\",'B) Eingabe (Lehrer)'!V103)","v":""},{"$f":"IF('B) Eingabe (Lehrer)'!W103=\"\", \"\",'B) Eingabe (Lehrer)'!W103)","v":""},{"$f":"IF('B) Eingabe (Lehrer)'!X103=\"\", \"\",'B) Eingabe (Lehrer)'!X103)","v":""},{"$f":"IF('B) Eingabe (Lehrer)'!Y103=\"\", \"\",'B) Eingabe (Lehrer)'!Y103)","v":""},{"$f":"IF('B) Eingabe (Lehrer)'!Z103=\"\", \"\",'B) Eingabe (Lehrer)'!Z103)","v":""},{"$f":"IF('B) Eingabe (Lehrer)'!AA103=\"\", \"\",'B) Eingabe (Lehrer)'!AA103)","v":""},{"$f":"IF('B) Eingabe (Lehrer)'!AB103=\"\", \"\",'B) Eingabe (Lehrer)'!AB103)","v":""},{"$f":"IF('B) Eingabe (Lehrer)'!AC103=\"\", \"\",'B) Eingabe (Lehrer)'!AC103)","v":""},{"$f":"IF('B) Eingabe (Lehrer)'!AD103=\"\", \"\",'B) Eingabe (Lehrer)'!AD103)","v":""},{"$f":"IF('B) Eingabe (Lehrer)'!AE103=\"\", \"\",'B) Eingabe (Lehrer)'!AE103)","v":""},{"$f":"IF('B) Eingabe (Lehrer)'!AF103=\"\", \"\",'B) Eingabe (Lehrer)'!AF103)","v":""},{"$f":"IF('B) Eingabe (Lehrer)'!AG103=\"\", \"\",'B) Eingabe (Lehrer)'!AG103)","v":""},{"$f":"IF('B) Eingabe (Lehrer)'!AH103=\"\", \"\",'B) Eingabe (Lehrer)'!AH103)","v":""},{"$f":"IF('B) Eingabe (Lehrer)'!AI103=\"\", \"\",'B) Eingabe (Lehrer)'!AI103)","v":""},{"$f":"IF('B) Eingabe (Lehrer)'!AJ103=\"\", \"\",'B) Eingabe (Lehrer)'!AJ103)","v":""},{"$f":"IF('B) Eingabe (Lehrer)'!AK103=\"\", \"\",'B) Eingabe (Lehrer)'!AK103)","v":""},{"$f":"IF('B) Eingabe (Lehrer)'!AL103=\"\", \"\",'B) Eingabe (Lehrer)'!AL103)","v":""},{"$f":"IF('B) Eingabe (Lehrer)'!AM103=\"\", \"\",'B) Eingabe (Lehrer)'!AM103)","v":""},{"$f":"IF('B) Eingabe (Lehrer)'!AN103=\"\", \"\",'B) Eingabe (Lehrer)'!AN103)","v":""},{"$f":"IF('B) Eingabe (Lehrer)'!AO103=\"\", \"\",'B) Eingabe (Lehrer)'!AO103)","v":""},{"$f":"IF('B) Eingabe (Lehrer)'!AP103=\"\", \"\",'B) Eingabe (Lehrer)'!AP103)","v":""},{"$f":"IF('B) Eingabe (Lehrer)'!AQ103=\"\", \"\",'B) Eingabe (Lehrer)'!AQ103)","v":""},{"$f":"IF('B) Eingabe (Lehrer)'!AR103=\"\", \"\",'B) Eingabe (Lehrer)'!AR103)","v":""},{"$f":"IF('B) Eingabe (Lehrer)'!AS103=\"\", \"\",'B) Eingabe (Lehrer)'!AS103)","v":""},{"$f":"IF('B) Eingabe (Lehrer)'!AT103=\"\", \"\",'B) Eingabe (Lehrer)'!AT103)","v":""},{"$f":"IF('B) Eingabe (Lehrer)'!AU103=\"\", \"\",'B) Eingabe (Lehrer)'!AU103)","v":""},{"$f":"IF('B) Eingabe (Lehrer)'!AV103=\"\", \"\",'B) Eingabe (Lehrer)'!AV103)","v":""},{"$f":"IF('B) Eingabe (Lehrer)'!AW103=\"\", \"\",'B) Eingabe (Lehrer)'!AW103)","v":""},{"$f":"IF('B) Eingabe (Lehrer)'!AX103=\"\", \"\",'B) Eingabe (Lehrer)'!AX103)","v":""},{"$f":"IF('B) Eingabe (Lehrer)'!AY103=\"\", \"\",'B) Eingabe (Lehrer)'!AY103)","v":""},{"$f":"IF('B) Eingabe (Lehrer)'!AZ103=\"\", \"\",'B) Eingabe (Lehrer)'!AZ103)","v":""},{"$f":"IF('B) Eingabe (Lehrer)'!BA103=\"\", \"\",'B) Eingabe (Lehrer)'!BA103)","v":""},{"$f":"IF('B) Eingabe (Lehrer)'!BB103=\"\", \"\",'B) Eingabe (Lehrer)'!BB103)","v":""},{"$f":"IF('B) Eingabe (Lehrer)'!BC103=\"\", \"\",'B) Eingabe (Lehrer)'!BC103)","v":""},{"$f":"IF('B) Eingabe (Lehrer)'!BD103=\"\", \"\",'B) Eingabe (Lehrer)'!BD103)","v":""},{"$f":"IF('B) Eingabe (Lehrer)'!BE103=\"\", \"\",'B) Eingabe (Lehrer)'!BE103)","v":""},{"$f":"IF('B) Eingabe (Lehrer)'!BF103=\"\", \"\",'B) Eingabe (Lehrer)'!BF103)","v":""},{"$f":"IF('B) Eingabe (Lehrer)'!BG103=\"\", \"\",'B) Eingabe (Lehrer)'!BG103)","v":""},{"$f":"IF('B) Eingabe (Lehrer)'!BH103=\"\", \"\",'B) Eingabe (Lehrer)'!BH103)","v":""},{"$f":"IF('B) Eingabe (Lehrer)'!BI103=\"\", \"\",'B) Eingabe (Lehrer)'!BI103)","v":""},{"$f":"IF('B) Eingabe (Lehrer)'!BJ103=\"\", \"\",'B) Eingabe (Lehrer)'!BJ103)","v":""},{"$f":"IF('B) Eingabe (Lehrer)'!BK103=\"\", \"\",'B) Eingabe (Lehrer)'!BK103)","v":""}]
[]
["N",{"$f":"COUNT(B3:B88)","v":0},0,0,0,0,0,0,0,0,0,0,0,0,0,0,0,0,0,0,0,0,0,0,0,0,0,0,0,0,0,0,0,{"$f":"COUNT(AH3:AH88)","v":0},0,0,0,0,0,0,0,0,0,0,0,0,0,0,0,0,0,0,0,0,0,0,0,0,0,0,0,0]
["ID",{"$f":"B2","v":""},{"$f":"C2","v":"1"},"2","3","4","5","6","7","8","9","10","11","12","13","14","15","16","17","18","19","20","21","22","23","24","25","26","27","28","29","30","31","32","33","34","35","36","37","38","39","40","41","42","43","44","45","46","47","48","49","50","51","52","53","54","55","56","57","58","59","60"]
["MW",{"$f":"IF(B91=0, \"\", AVERAGE(B3:B89))","v":""},"","","","","","","","","","","","","","","","","","","","","","","","","","","","","","","",{"$f":"IF(AH91=0, \"\", AVERAGE(AH3:AH89))","v":""},"","","","","","","","","","","","","","","","","","","","","","","","","","","",""]
[null,"",""]
[null,"ID","MW"]
[null,"Kollege2",2.5]
[null,"Kollege1",2.75]
[null,"Lehrer",3.75]
[null,"",""]
[null,"",""]
[null,"",""]
[null,"",""]
[null,"",""]
[null,"",""]
[null,"",""]
[null,"",""]
[null,"",""]
[null,"",""]
[null,"",""]
[null,"",""]
[null,"",""]
[null,"",""]
[null,"",""]
[null,"",""]
[null,"",""]
[null,"",""]
[null,"",""]
[null,"",""]
[null,"",""]
[null,"",""]
[null,"",""]
[null,"",""]
[null,"",""]
[null,"",""]
[null,"",""]
[null,"",""]
[null,"",""]
[null,"",""]
[null,"",""]
[null,"",""]
[null,"",""]
[null,"",""]
[null,"",""]
[null,"",""]
[null,"",""]
[null,"",""]
[null,"",""]
[null,"",""]
[null,"",""]
[null,"",""]
[null,"",""]
[null,"",""]
[null,"",""]
[null,"",""]
[null,"",""]
[null,"",""]
[null,"",""]
[null,"",""]
[null,"",""]
[null,"",""]
[null,"",""]
[null,"",""]
[null,"",""]
[null,"",""]
[null,"",""]
[null,"",""]

{"sheet":"B) Alle Ergebnisse","index":17,"n_rows":39,"n_cols":8,"rows_kept":39,"cut":false,"hidden":true,"merged":[[38,2,38,4],[37,2,37,4],[36,2,36,3],[4,6,5,6],[1,0,1,5],[4,2,4,5],[4,0,4,1],[2,6,3,6],[2,0,3,5]]}
[]
["Đối chiếu kết quả toàn bộ phiếu giáo viên, học sinh và đồng nghiệp"]
[null,null,null,null,null,null,"Giá trị trung bình"]
[]
["ĐIỀU TRA LẦN THỨ HAI",null,"Phân bố kết quả trả lời phiếu "]
[null,{"$f":"'B) Eingabe (Lehrer)'!B11","v":"ĐIỀU KHIỂN TIẾN TRÌNH GIỜ HỌC"},"Học sinh\n(1,   2,   3,   4)","N","Đồng nghiệp\n(1,   2,   3,   4)","N"]
[{"$f":"'B) Eingabe (Lehrer)'!A12","v":1},{"$f":"'B) Eingabe (Lehrer)'!B12","v":"Giờ học được bắt đầu đúng thời gian quy định "},null,{"$f":"'B) Daten'!E3","v":0},null,{"$f":"'B) Daten'!N3","v":0},null,1]
[{"$f":"'B) Eingabe (Lehrer)'!A13","v":2},{"$f":"'B) Eingabe (Lehrer)'!B13","v":"Các quy định trong giờ học đều được các em học sinh hiểu rõ "},null,{"$f":"'B) Daten'!E4","v":0},null,{"$f":"'B) Daten'!N4","v":0},null,3]
[{"$f":"'B) Eingabe (Lehrer)'!A14","v":3},{"$f":"'B) Eingabe (Lehrer)'!B14","v":"Các em học sinh đã có thể tập trung làm việc trong suốt giờ học mà không có gì làm ảnh hưởng đến sự chú ý của các em "},null,{"$f":"'B) Daten'!E5","v":0},null,{"$f":"'B) Daten'!N5","v":0},null,5]
[{"$f":"'B) Eingabe (Lehrer)'!A15","v":4},{"$f":"'B) Eingabe (Lehrer)'!B15","v":"Trong suốt tiến trình giờ học các em học sinh luôn biết rõ các công việc mình cần phải làm  "},null,{"$f":"'B) Daten'!E6","v":0},null,{"$f":"'B) Daten'!N6","v":0},null,7]
[{"$f":"'B) Eingabe (Lehrer)'!A16","v":5},{"$f":"'B) Eingabe (Lehrer)'!B16","v":"Toàn bộ thời gian của giờ học được sử dụng cho nội dung bài học "},null,{"$f":"'B) Daten'!E7","v":0},null,{"$f":"'B) Daten'!N7","v":0},null,9]
[null,{"$f":"'B) Eingabe (Lehrer)'!B17","v":"BẦU KHÔNG KHÍ LỚP HỌC"},"Schüler\n(1,   2,   3,   4)","N","Kollegen\n(1,   2,   3,   4)","N"]
[{"$f":"'B) Eingabe (Lehrer)'!A18","v":6},{"$f":"'B) Eingabe (Lehrer)'!B18","v":"Tất cả các ý kiến đóng góp của các em học sinh trong giờ học đều được giáo viên tôn trọng ghi nhận  "},null,{"$f":"'B) Daten'!E8","v":0},null,{"$f":"'B) Daten'!N8","v":0},null,1]
[{"$f":"'B) Eingabe (Lehrer)'!A19","v":7},{"$f":"'B) Eingabe (Lehrer)'!B19","v":"Giáo viên luôn vui vẻ với các em học sinh trong giờ học  "},null,{"$f":"'B) Daten'!E9","v":0},null,{"$f":"'B) Daten'!N9","v":0},null,2.5]
[{"$f":"'B) Eingabe (Lehrer)'!A20","v":8},{"$f":"'B) Eingabe (Lehrer)'!B20","v":"Khi học sinh được gọi phát biểu, giáo viên luôn dành đủ thời gian để các em diễn đạt được hết ý mình "},null,{"$f":"'B) Daten'!E10","v":0},null,{"$f":"'B) Daten'!N10","v":0},null,4.0999999999999996]
[{"$f":"'B) Eingabe (Lehrer)'!A21","v":9},{"$f":"'B) Eingabe (Lehrer)'!B21","v":"Khi giáo viên đặt câu hỏi, các em học sinh luôn có đủ thời gian suy nghĩ câu trả lời "},null,{"$f":"'B) Daten'!E11","v":0},null,{"$f":"'B) Daten'!N11","v":0},null,5.9]
[{"$f":"'B) Eingabe (Lehrer)'!A22","v":10},{"$f":"'B) Eingabe (Lehrer)'!B22","v":"Trong giờ học giáo viên đưa ra những nhận xét vui vẻ làm cho bầu không khí học tập thoải mái, nhẹ nhàng hơn "},null,{"$f":"'B) Daten'!E12","v":0},null,{"$f":"'B) Daten'!N12","v":0},null,7.5]
[{"$f":"'B) Eingabe (Lehrer)'!A23","v":11},{"$f":"'B) Eingabe (Lehrer)'!B23","v":"Sự tham gia đóng góp của các em học sinh trong giờ học được giáo viên khen ngợi đúng mức. "},null,{"$f":"'B) Daten'!E13","v":0},null,{"$f":"'B) Daten'!N13","v":0},null,9]
[null,{"$f":"'B) Eingabe (Lehrer)'!B24","v":"CẤU TRÚC LÔ GÍCH VÀ TÍNH RÕ RÀNG CỦA GIỜ HỌC"},"Schüler\n(1,   2,   3,   4)","N","Kollegen\n(1,   2,   3,   4)","N"]
[{"$f":"'B) Eingabe (Lehrer)'!A25","v":12},{"$f":"'B) Eingabe (Lehrer)'!B25","v":"Trong giờ học giáo viên chỉ dẫn rõ ràng cho các em học sinh về những kiến thức đã học có liên quan đến bài học hôm nay "},null,{"$f":"'B) Daten'!E14","v":0},null,{"$f":"'B) Daten'!N14","v":0},null,1]
[{"$f":"'B) Eingabe (Lehrer)'!A26","v":13},{"$f":"'B) Eingabe (Lehrer)'!B26","v":"Trong giờ học có các ví dụ cụ thể minh họa cho nội dung bài học "},null,{"$f":"'B) Daten'!E15","v":0},null,{"$f":"'B) Daten'!N15","v":0},null,3]
[{"$f":"'B) Eingabe (Lehrer)'!A27","v":14},{"$f":"'B) Eingabe (Lehrer)'!B27","v":"Những nội dung quan trọng nhất của bài học được hệ thống hóa lại  trong giờ học "},null,{"$f":"'B) Daten'!E16","v":0},null,{"$f":"'B) Daten'!N16","v":0},null,5]
[{"$f":"'B) Eingabe (Lehrer)'!A28","v":15},{"$f":"'B) Eingabe (Lehrer)'!B28","v":"Trong giờ học giáo viên rất quan tâm đến việc các em học sinh khi trình bày ý kiến của mình thì cần chú ý diễn đạt vấn đề một cách rõ ràng, rành mạch "},null,{"$f":"'B) Daten'!E17","v":0},null,{"$f":"'B) Daten'!N17","v":0},null,7]
[{"$f":"'B) Eingabe (Lehrer)'!A29","v":16},{"$f":"'B) Eingabe (Lehrer)'!B29","v":"Tất cả các em học sinh đều biết rõ các em cần học được gì trong giờ học  này "},null,{"$f":"'B) Daten'!E18","v":0},null,{"$f":"'B) Daten'!N18","v":0},null,9]
[null,{"$f":"'B) Eingabe (Lehrer)'!B30","v":"TÍCH CỰC HÓA HOẠT ĐỘNG HỌC TẬP CỦA HỌC SINH TRONG GIỜ HỌC"},"Schüler\n(1,   2,   3,   4)","N","Kollegen\n(1,   2,   3,   4)","N"]
[{"$f":"'B) Eingabe (Lehrer)'!A31","v":17},{"$f":"'B) Eingabe (Lehrer)'!B31","v":"Tất cả các em học sinh đều có ý kiến tham gia đóng góp trong giờ học này  "},null,{"$f":"'B) Daten'!E19","v":0},null,{"$f":"'B) Daten'!N19","v":0},null,1]
[{"$f":"'B) Eingabe (Lehrer)'!A32","v":18},{"$f":"'B) Eingabe (Lehrer)'!B32","v":"Trong giờ học có giai đoạn học sinh làm việc độc lập "},null,{"$f":"'B) Daten'!E20","v":0},null,{"$f":"'B) Daten'!N20","v":0},null,2.5]
[{"$f":"'B) Eingabe (Lehrer)'!A33","v":19},{"$f":"'B) Eingabe (Lehrer)'!B33","v":"Trong giờ học có giai đoạn học sinh làm việc đôi hoặc nhóm "},null,{"$f":"'B) Daten'!E21","v":0},null,{"$f":"'B) Daten'!N21","v":0},null,4.0999999999999996]
[{"$f":"'B) Eingabe (Lehrer)'!A34","v":20},{"$f":"'B) Eingabe (Lehrer)'!B34","v":"Trong giờ học các em học sinh được trình bày kết quả làm việc trước các bạn trong lớp "},null,{"$f":"'B) Daten'!E22","v":0},null,{"$f":"'B) Daten'!N22","v":0},null,5.9]
[{"$f":"'B) Eingabe (Lehrer)'!A35","v":21},{"$f":"'B) Eingabe (Lehrer)'!B35","v":"Các em học sinh tự kiểm tra kết quả bài làm của mình trong giờ học "},null,{"$f":"'B) Daten'!E23","v":0},null,{"$f":"'B) Daten'!N23","v":0},null,7.5]
[{"$f":"'B) Eingabe (Lehrer)'!A36","v":22},{"$f":"'B) Eingabe (Lehrer)'!B36","v":"Trong suốt giờ học các em học sinh tích cực tập trung chú ý vào bài học "},null,{"$f":"'B) Daten'!E24","v":0},null,{"$f":"'B) Daten'!N24","v":0},null,9]
[null,{"$f":"'B) Eingabe (Lehrer)'!B37","v":"ĐÁNH GIÁ CHUNG VỀ GiỜ HỌC"},"Schüler\n(1,   2,   3,   4)","N","Kollegen\n(1,   2,   3,   4)","N"]
["23S","Die Schüler/innen haben in dieser Unterrichtsstunde etwas dazu gelernt / Ich habe die Lernziele dieser Unterrichtsstunde erreicht",null,{"$f":"'B) Daten'!E25","v":0},null,{"$f":"'B) Daten'!N25","v":0},null,1]
[{"$f":"'B) Eingabe (Lehrer)'!A39","v":24},{"$f":"'B) Eingabe (Lehrer)'!B39","v":"Các em học sinh cảm thấy thú vị với giờ học này "},null,{"$f":"'B) Daten'!E26","v":0},null,{"$f":"'B) Daten'!N26","v":0},null,3]
[{"$f":"'B) Eingabe (Lehrer)'!A40","v":25},{"$f":"'B) Eingabe (Lehrer)'!B40","v":"Các em học sinh cảm thấy thoải mái dễ chịu trong giờ học. "},null,{"$f":"'B) Daten'!E27","v":0},null,{"$f":"'B) Daten'!N27","v":0},null,5]
["26 G/Đ",{"$f":"'B) Eingabe (Lehrer)'!B41","v":"Giáo viên tổ chức giờ học dựa trên các chuẩn cần đạt của môn học   "},null,null,null,{"$f":"'B) Daten'!N28","v":0},null,7]
["27 G/Đ",{"$f":"'B) Eingabe (Lehrer)'!B42","v":"Giờ học được chuẩn bị phù hợp với trình độ khác nhau của các em học sinh trong lớp.  "},null,null,null,{"$f":"'B) Daten'!N29","v":0},null,9]
[null,null,"Schüler",null,null,"N"]
["26H","Giờ học này đối với em………………………………………………………",null,null,null,{"$f":"'B) Daten'!E31","v":0}]

{"sheet":"B) Ergebnisse (6)","index":18,"n_rows":65,"n_cols":9,"rows_kept":65,"cut":false,"hidden":true,"merged":[[2,0,2,5],[3,6,4,6],[3,0,4,0],[3,1,4,1],[3,2,3,3],[3,4,3,5]]}
[]
[null,"Đối chiếu kết quả phiếu giáo viên, học sinh, đồng nghiệp: Phiếu hỏi bổ sung"]
[null,null,null,null,null,null,"Giá trị trung bình"]
[null,"Điều tra lần 2\n\nCâu hỏi bổsung","Học sinh",null,"Đồng nghiệp"]
[null,null,"Phân bố kết quả trả lời phiếu\n(1,     2,     3,     4)","N","Phân bố kết quả trả lời phiếu\n(1,     2,     3,     4)","N"]
[{"$f":"'B) Eingabe (Lehrer)'!A44","v":1},{"$f":"'B) Eingabe (Lehrer)'!B44","v":"Câu 1"},null,{"$f":"'B) Daten'!E34","v":0},null,{"$f":"'B) Daten'!N34","v":0},null,null,1.5]
[{"$f":"'B) Eingabe (Lehrer)'!A45","v":2},{"$f":"'B) Eingabe (Lehrer)'!B45","v":"Câu 2"},null,{"$f":"'B) Daten'!E35","v":0},null,{"$f":"'B) Daten'!N35","v":0},null,null,2.5]
[{"$f":"'B) Eingabe (Lehrer)'!A46","v":3},{"$f":"'B) Eingabe (Lehrer)'!B46","v":"Câu 3"},null,{"$f":"'B) Daten'!E36","v":0},null,{"$f":"'B) Daten'!N36","v":0},null,null,3.5]
[{"$f":"'B) Eingabe (Lehrer)'!A47","v":4},{"$f":"'B) Eingabe (Lehrer)'!B47","v":"Câu 4"},null,{"$f":"'B) Daten'!E37","v":0},null,{"$f":"'B) Daten'!N37","v":0},null,null,4.5]
[{"$f":"'B) Eingabe (Lehrer)'!A48","v":5},{"$f":"'B) Eingabe (Lehrer)'!B48","v":"Câu 5"},null,{"$f":"'B) Daten'!E38","v":0},null,{"$f":"'B) Daten'!N38","v":0},null,null,5.5]
[{"$f":"'B) Eingabe (Lehrer)'!A49","v":6},{"$f":"'B) Eingabe (Lehrer)'!B49","v":"Câu 6"},null,{"$f":"'B) Daten'!E39","v":0},null,{"$f":"'B) Daten'!N39","v":0},null,null,6.5]
[{"$f":"'B) Eingabe (Lehrer)'!A50","v":7},{"$f":"'B) Eingabe (Lehrer)'!B50","v":"Câu 7"},null,{"$f":"'B) Daten'!E40","v":0},null,{"$f":"'B) Daten'!N40","v":0},null,null,7.5]
[{"$f":"'B) Eingabe (Lehrer)'!A51","v":8},{"$f":"'B) Eingabe (Lehrer)'!B51","v":"Câu 8"},null,{"$f":"'B) Daten'!E41","v":0},null,{"$f":"'B) Daten'!N41","v":0},null,null,8.5]
[{"$f":"'B) Eingabe (Lehrer)'!A52","v":9},{"$f":"'B) Eingabe (Lehrer)'!B52","v":"Câu 9"},null,{"$f":"'B) Daten'!E42","v":0},null,{"$f":"'B) Daten'!N42","v":0},null,null,9.5]
[{"$f":"'B) Eingabe (Lehrer)'!A53","v":10},{"$f":"'B) Eingabe (Lehrer)'!B53","v":"Câu 10"},null,{"$f":"'B) Daten'!E43","v":0},null,{"$f":"'B) Daten'!N43","v":0},null,null,10.5]
[{"$f":"'B) Eingabe (Lehrer)'!A54","v":11},{"$f":"'B) Eingabe (Lehrer)'!B54","v":"Câu 11"},null,{"$f":"'B) Daten'!E44","v":0},null,{"$f":"'B) Daten'!N44","v":0},null,null,11.5]
[{"$f":"'B) Eingabe (Lehrer)'!A55","v":12},{"$f":"'B) Eingabe (Lehrer)'!B55","v":"Câu 12"},null,{"$f":"'B) Daten'!E45","v":0},null,{"$f":"'B) Daten'!N45","v":0},null,null,12.5]
[{"$f":"'B) Eingabe (Lehrer)'!A56","v":13},{"$f":"'B) Eingabe (Lehrer)'!B56","v":"Câu 13"},null,{"$f":"'B) Daten'!E46","v":0},null,{"$f":"'B) Daten'!N46","v":0},null,null,13.5]
[{"$f":"'B) Eingabe (Lehrer)'!A57","v":14},{"$f":"'B) Eingabe (Lehrer)'!B57","v":"Câu 14"},null,{"$f":"'B) Daten'!E47","v":0},null,{"$f":"'B) Daten'!N47","v":0},null,null,14.5]
[{"$f":"'B) Eingabe (Lehrer)'!A58","v":15},{"$f":"'B) Eingabe (Lehrer)'!B58","v":"Câu 15"},null,{"$f":"'B) Daten'!E48","v":0},null,{"$f":"'B) Daten'!N48","v":0},null,null,15.5]
[{"$f":"'B) Eingabe (Lehrer)'!A59","v":16},{"$f":"'B) Eingabe (Lehrer)'!B59","v":"Câu 16"},null,{"$f":"'B) Daten'!E49","v":0},null,{"$f":"'B) Daten'!N49","v":0},null,null,16.5]
[{"$f":"'B) Eingabe (Lehrer)'!A60","v":17},{"$f":"'B) Eingabe (Lehrer)'!B60","v":"Câu 17"},null,{"$f":"'B) Daten'!E50","v":0},null,{"$f":"'B) Daten'!N50","v":0},null,null,17.5]
[{"$f":"'B) Eingabe (Lehrer)'!A61","v":18},{"$f":"'B) Eingabe (Lehrer)'!B61","v":"Câu 18"},null,{"$f":"'B) Daten'!E51","v":0},null,{"$f":"'B) Daten'!N51","v":0},null,null,18.5]
[{"$f":"'B) Eingabe (Lehrer)'!A62","v":19},{"$f":"'B) Eingabe (Lehrer)'!B62","v":"Câu 19"},null,{"$f":"'B) Daten'!E52","v":0},null,{"$f":"'B) Daten'!N52","v":0},null,null,19.5]
[{"$f":"'B) Eingabe (Lehrer)'!A63","v":20},{"$f":"'B) Eingabe (Lehrer)'!B63","v":"Câu 20"},null,{"$f":"'B) Daten'!E53","v":0},null,{"$f":"'B) Daten'!N53","v":0},null,null,20.5]
[{"$f":"'B) Eingabe (Lehrer)'!A64","v":21},{"$f":"'B) Eingabe (Lehrer)'!B64","v":"Câu 21"},null,{"$f":"'B) Daten'!E54","v":0},null,{"$f":"'B) Daten'!N54","v":0},null,null,21.5]
[{"$f":"'B) Eingabe (Lehrer)'!A65","v":22},{"$f":"'B) Eingabe (Lehrer)'!B65","v":"Câu 22"},null,{"$f":"'B) Daten'!E55","v":0},null,{"$f":"'B) Daten'!N55","v":0},null,null,22.5]
[{"$f":"'B) Eingabe (Lehrer)'!A66","v":23},{"$f":"'B) Eingabe (Lehrer)'!B66","v":"Câu 23"},null,{"$f":"'B) Daten'!E56","v":0},null,{"$f":"'B) Daten'!N56","v":0},null,null,23.5]
[{"$f":"'B) Eingabe (Lehrer)'!A67","v":24},{"$f":"'B) Eingabe (Lehrer)'!B67","v":"Câu 24"},null,{"$f":"'B) Daten'!E57","v":0},null,{"$f":"'B) Daten'!N57","v":0},null,null,24.5]
[{"$f":"'B) Eingabe (Lehrer)'!A68","v":25},{"$f":"'B) Eingabe (Lehrer)'!B68","v":"Câu 25"},null,{"$f":"'B) Daten'!E58","v":0},null,{"$f":"'B) Daten'!N58","v":0},null,null,25.5]
[{"$f":"'B) Eingabe (Lehrer)'!A69","v":26},{"$f":"'B) Eingabe (Lehrer)'!B69","v":"Câu 26"},null,{"$f":"'B) Daten'!E59","v":0},null,{"$f":"'B) Daten'!N59","v":0},null,null,26.5]
[{"$f":"'B) Eingabe (Lehrer)'!A70","v":27},{"$f":"'B) Eingabe (Lehrer)'!B70","v":"Câu 27"},null,{"$f":"'B) Daten'!E60","v":0},null,{"$f":"'B) Daten'!N60","v":0},null,null,27.5]
[{"$f":"'B) Eingabe (Lehrer)'!A71","v":28},{"$f":"'B) Eingabe (Lehrer)'!B71","v":"Câu 28"},null,{"$f":"'B) Daten'!E61","v":0},null,{"$f":"'B) Daten'!N61","v":0},null,null,28.5]
[{"$f":"'B) Eingabe (Lehrer)'!A72","v":29},{"$f":"'B) Eingabe (Lehrer)'!B72","v":"Câu 29"},null,{"$f":"'B) Daten'!E62","v":0},null,{"$f":"'B) Daten'!N62","v":0},null,null,29.5]
[{"$f":"'B) Eingabe (Lehrer)'!A73","v":30},{"$f":"'B) Eingabe (Lehrer)'!B73","v":"Câu 30"},null,{"$f":"'B) Daten'!E63","v":0},null,{"$f":"'B) Daten'!N63","v":0},null,null,30.5]
[{"$f":"'B) Eingabe (Lehrer)'!A74","v":31},{"$f":"'B) Eingabe (Lehrer)'!B74","v":"Câu 31"},null,{"$f":"'B) Daten'!E64","v":0},null,{"$f":"'B) Daten'!N64","v":0},null,null,31.5]
[{"$f":"'B) Eingabe (Lehrer)'!A75","v":32},{"$f":"'B) Eingabe (Lehrer)'!B75","v":"Câu 32"},null,{"$f":"'B) Daten'!E65","v":0},null,{"$f":"'B) Daten'!N65","v":0},null,null,32.5]
[{"$f":"'B) Eingabe (Lehrer)'!A76","v":33},{"$f":"'B) Eingabe (Lehrer)'!B76","v":"Câu 33"},null,{"$f":"'B) Daten'!E66","v":0},null,{"$f":"'B) Daten'!N66","v":0},null,null,33.5]
[{"$f":"'B) Eingabe (Lehrer)'!A77","v":34},{"$f":"'B) Eingabe (Lehrer)'!B77","v":"Câu 34"},null,{"$f":"'B) Daten'!E67","v":0},null,{"$f":"'B) Daten'!N67","v":0},null,null,34.5]
[{"$f":"'B) Eingabe (Lehrer)'!A78","v":35},{"$f":"'B) Eingabe (Lehrer)'!B78","v":"Câu 35"},null,{"$f":"'B) Daten'!E68","v":0},null,{"$f":"'B) Daten'!N68","v":0},null,null,35.5]
[{"$f":"'B) Eingabe (Lehrer)'!A79","v":36},{"$f":"'B) Eingabe (Lehrer)'!B79","v":"Câu 36"},null,{"$f":"'B) Daten'!E69","v":0},null,{"$f":"'B) Daten'!N69","v":0},null,null,36.5]
[{"$f":"'B) Eingabe (Lehrer)'!A80","v":37},{"$f":"'B) Eingabe (Lehrer)'!B80","v":"Câu 37"},null,{"$f":"'B) Daten'!E70","v":0},null,{"$f":"'B) Daten'!N70","v":0},null,null,37.5]
[{"$f":"'B) Eingabe (Lehrer)'!A81","v":38},{"$f":"'B) Eingabe (Lehrer)'!B81","v":"Câu 38"},null,{"$f":"'B) Daten'!E71","v":0},null,{"$f":"'B) Daten'!N71","v":0},null,null,38.5]
[{"$f":"'B) Eingabe (Lehrer)'!A82","v":39},{"$f":"'B) Eingabe (Lehrer)'!B82","v":"Câu 39"},null,{"$f":"'B) Daten'!E72","v":0},null,{"$f":"'B) Daten'!N72","v":0},null,null,39.5]
[{"$f":"'B) Eingabe (Lehrer)'!A83","v":40},{"$f":"'B) Eingabe (Lehrer)'!B83","v":"Câu 40"},null,{"$f":"'B) Daten'!E73","v":0},null,{"$f":"'B) Daten'!N73","v":0},null,null,40.5]
[{"$f":"'B) Eingabe (Lehrer)'!A84","v":41},{"$f":"'B) Eingabe (Lehrer)'!B84","v":"Câu 41"},null,{"$f":"'B) Daten'!E74","v":0},null,{"$f":"'B) Daten'!N74","v":0},null,null,41.5]
[{"$f":"'B) Eingabe (Lehrer)'!A85","v":42},{"$f":"'B) Eingabe (Lehrer)'!B85","v":"Câu 42"},null,{"$f":"'B) Daten'!E75","v":0},null,{"$f":"'B) Daten'!N75","v":0},null,null,42.5]
[{"$f":"'B) Eingabe (Lehrer)'!A86","v":43},{"$f":"'B) Eingabe (Lehrer)'!B86","v":"Câu 43"},null,{"$f":"'B) Daten'!E76","v":0},null,{"$f":"'B) Daten'!N76","v":0},null,null,43.5]
[{"$f":"'B) Eingabe (Lehrer)'!A87","v":44},{"$f":"'B) Eingabe (Lehrer)'!B87","v":"Câu 44"},null,{"$f":"'B) Daten'!E77","v":0},null,{"$f":"'B) Daten'!N77","v":0},null,null,44.5]
[{"$f":"'B) Eingabe (Lehrer)'!A88","v":45},{"$f":"'B) Eingabe (Lehrer)'!B88","v":"Câu 45"},null,{"$f":"'B) Daten'!E78","v":0},null,{"$f":"'B) Daten'!N78","v":0},null,null,45.5]
[{"$f":"'B) Eingabe (Lehrer)'!A89","v":46},{"$f":"'B) Eingabe (Lehrer)'!B89","v":"Câu 46"},null,{"$f":"'B) Daten'!E79","v":0},null,{"$f":"'B) Daten'!N79","v":0},null,null,46.5]
[{"$f":"'B) Eingabe (Lehrer)'!A90","v":47},{"$f":"'B) Eingabe (Lehrer)'!B90","v":"Câu 47"},null,{"$f":"'B) Daten'!E80","v":0},null,{"$f":"'B) Daten'!N80","v":0},null,null,47.5]
[{"$f":"'B) Eingabe (Lehrer)'!A91","v":48},{"$f":"'B) Eingabe (Lehrer)'!B91","v":"Câu 48"},null,{"$f":"'B) Daten'!E81","v":0},null,{"$f":"'B) Daten'!N81","v":0},null,null,48.5]
[{"$f":"'B) Eingabe (Lehrer)'!A92","v":49},{"$f":"'B) Eingabe (Lehrer)'!B92","v":"Câu 49"},null,{"$f":"'B) Daten'!E82","v":0},null,{"$f":"'B) Daten'!N82","v":0},null,null,49.5]
[{"$f":"'B) Eingabe (Lehrer)'!A93","v":50},{"$f":"'B) Eingabe (Lehrer)'!B93","v":"Câu 50"},null,{"$f":"'B) Daten'!E83","v":0},null,{"$f":"'B) Daten'!N83","v":0},null,null,50.5]
[{"$f":"'B) Eingabe (Lehrer)'!A94","v":51},{"$f":"'B) Eingabe (Lehrer)'!B94","v":"Câu 51"},null,{"$f":"'B) Daten'!E84","v":0},null,{"$f":"'B) Daten'!N84","v":0},null,null,51.5]
[{"$f":"'B) Eingabe (Lehrer)'!A95","v":52},{"$f":"'B) Eingabe (Lehrer)'!B95","v":"Câu 52"},null,{"$f":"'B) Daten'!E85","v":0},null,{"$f":"'B) Daten'!N85","v":0},null,null,52.5]
[{"$f":"'B) Eingabe (Lehrer)'!A96","v":53},{"$f":"'B) Eingabe (Lehrer)'!B96","v":"Câu 53"},null,{"$f":"'B) Daten'!E86","v":0},null,{"$f":"'B) Daten'!N86","v":0},null,null,53.5]
[{"$f":"'B) Eingabe (Lehrer)'!A97","v":54},{"$f":"'B) Eingabe (Lehrer)'!B97","v":"Câu 54"},null,{"$f":"'B) Daten'!E87","v":0},null,{"$f":"'B) Daten'!N87","v":0},null,null,54.5]
[{"$f":"'B) Eingabe (Lehrer)'!A98","v":55},{"$f":"'B) Eingabe (Lehrer)'!B98","v":"Câu 55"},null,{"$f":"'B) Daten'!E88","v":0},null,{"$f":"'B) Daten'!N88","v":0},null,null,55.5]
[{"$f":"'B) Eingabe (Lehrer)'!A99","v":56},{"$f":"'B) Eingabe (Lehrer)'!B99","v":"Câu 56"},null,{"$f":"'B) Daten'!E89","v":0},null,{"$f":"'B) Daten'!N89","v":0},null,null,56.5]
[{"$f":"'B) Eingabe (Lehrer)'!A100","v":57},{"$f":"'B) Eingabe (Lehrer)'!B100","v":"Câu 57"},null,{"$f":"'B) Daten'!E90","v":0},null,{"$f":"'B) Daten'!N90","v":0},null,null,57.5]
[{"$f":"'B) Eingabe (Lehrer)'!A101","v":58},{"$f":"'B) Eingabe (Lehrer)'!B101","v":"Câu 58"},null,{"$f":"'B) Daten'!E91","v":0},null,{"$f":"'B) Daten'!N91","v":0},null,null,58.5]
[{"$f":"'B) Eingabe (Lehrer)'!A102","v":59},{"$f":"'B) Eingabe (Lehrer)'!B102","v":"Câu 59"},null,{"$f":"'B) Daten'!E92","v":0},null,{"$f":"'B) Daten'!N92","v":0},null,null,59.5]
[{"$f":"'B) Eingabe (Lehrer)'!A103","v":60},{"$f":"'B) Eingabe (Lehrer)'!B103","v":"Câu 60"},null,{"$f":"'B) Daten'!E93","v":0},null,{"$f":"'B) Daten'!N93","v":0},null,null,60.5]

{"sheet":"AB) Daten","index":19,"n_rows":161,"n_cols":11,"rows_kept":161,"cut":false,"hidden":true,"merged":[[97,0,97,5],[97,6,97,8],[98,6,98,7],[98,0,98,1],[98,2,98,3],[98,4,98,5],[96,0,96,5],[0,9,0,10],[0,1,0,2],[0,3,0,4],[0,5,0,6],[0,7,0,8]]}
["Itemnr.","M-Schüler",null,"SD-Schüler",null,"M-Kollegen",null,"SD-Kollegen",null,"Lehrer-Urteil"]
[null,"A","B","A","B","A","B","A","B","A","B"]
[1,{"$f":"'A) Daten'!B3","v":{"$error":"#N/A"}},{"$f":"'B) Daten'!B3","v":{"$error":"#N/A"}},{"$f":"'A) Daten'!C3","v":{"$error":"#N/A"}},{"$f":"'B) Daten'!C3","v":{"$error":"#N/A"}},{"$f":"'A) Daten'!K3","v":{"$error":"#N/A"}},{"$f":"'B) Daten'!K3","v":{"$error":"#N/A"}},{"$f":"'A) Daten'!L3","v":{"$error":"#N/A"}},{"$f":"'B) Daten'!L3","v":{"$error":"#N/A"}},{"$f":"'A) Daten'!J3","v":{"$error":"#N/A"}},{"$f":"'B) Daten'!J3","v":{"$error":"#N/A"}}]
[2,{"$f":"'A) Daten'!B4","v":{"$error":"#N/A"}},{"$f":"'B) Daten'!B4","v":{"$error":"#N/A"}},{"$f":"'A) Daten'!C4","v":{"$error":"#N/A"}},{"$f":"'B) Daten'!C4","v":{"$error":"#N/A"}},{"$f":"'A) Daten'!K4","v":{"$error":"#N/A"}},{"$f":"'B) Daten'!K4","v":{"$error":"#N/A"}},{"$f":"'A) Daten'!L4","v":{"$error":"#N/A"}},{"$f":"'B) Daten'!L4","v":{"$error":"#N/A"}},{"$f":"'A) Daten'!J4","v":{"$error":"#N/A"}},{"$f":"'B) Daten'!J4","v":{"$error":"#N/A"}}]
[3,{"$f":"'A) Daten'!B5","v":{"$error":"#N/A"}},{"$f":"'B) Daten'!B5","v":{"$error":"#N/A"}},{"$f":"'A) Daten'!C5","v":{"$error":"#N/A"}},{"$f":"'B) Daten'!C5","v":{"$error":"#N/A"}},{"$f":"'A) Daten'!K5","v":{"$error":"#N/A"}},{"$f":"'B) Daten'!K5","v":{"$error":"#N/A"}},{"$f":"'A) Daten'!L5","v":{"$error":"#N/A"}},{"$f":"'B) Daten'!L5","v":{"$error":"#N/A"}},{"$f":"'A) Daten'!J5","v":{"$error":"#N/A"}},{"$f":"'B) Daten'!J5","v":{"$error":"#N/A"}}]
[4,{"$f":"'A) Daten'!B6","v":{"$error":"#N/A"}},{"$f":"'B) Daten'!B6","v":{"$error":"#N/A"}},{"$f":"'A) Daten'!C6","v":{"$error":"#N/A"}},{"$f":"'B) Daten'!C6","v":{"$error":"#N/A"}},{"$f":"'A) Daten'!K6","v":{"$error":"#N/A"}},{"$f":"'B) Daten'!K6","v":{"$error":"#N/A"}},{"$f":"'A) Daten'!L6","v":{"$error":"#N/A"}},{"$f":"'B) Daten'!L6","v":{"$error":"#N/A"}},{"$f":"'A) Daten'!J6","v":{"$error":"#N/A"}},{"$f":"'B) Daten'!J6","v":{"$error":"#N/A"}}]
[5,{"$f":"'A) Daten'!B7","v":{"$error":"#N/A"}},{"$f":"'B) Daten'!B7","v":{"$error":"#N/A"}},{"$f":"'A) Daten'!C7","v":{"$error":"#N/A"}},{"$f":"'B) Daten'!C7","v":{"$error":"#N/A"}},{"$f":"'A) Daten'!K7","v":{"$error":"#N/A"}},{"$f":"'B) Daten'!K7","v":{"$error":"#N/A"}},{"$f":"'A) Daten'!L7","v":{"$error":"#N/A"}},{"$f":"'B) Daten'!L7","v":{"$error":"#N/A"}},{"$f":"'A) Daten'!J7","v":{"$error":"#N/A"}},{"$f":"'B) Daten'!J7","v":{"$error":"#N/A"}}]
[6,{"$f":"'A) Daten'!B8","v":{"$error":"#N/A"}},{"$f":"'B) Daten'!B8","v":{"$error":"#N/A"}},{"$f":"'A) Daten'!C8","v":{"$error":"#N/A"}},{"$f":"'B) Daten'!C8","v":{"$error":"#N/A"}},{"$f":"'A) Daten'!K8","v":{"$error":"#N/A"}},{"$f":"'B) Daten'!K8","v":{"$error":"#N/A"}},{"$f":"'A) Daten'!L8","v":{"$error":"#N/A"}},{"$f":"'B) Daten'!L8","v":{"$error":"#N/A"}},{"$f":"'A) Daten'!J8","v":{"$error":"#N/A"}},{"$f":"'B) Daten'!J8","v":{"$error":"#N/A"}}]
[7,{"$f":"'A) Daten'!B9","v":{"$error":"#N/A"}},{"$f":"'B) Daten'!B9","v":{"$error":"#N/A"}},{"$f":"'A) Daten'!C9","v":{"$error":"#N/A"}},{"$f":"'B) Daten'!C9","v":{"$error":"#N/A"}},{"$f":"'A) Daten'!K9","v":{"$error":"#N/A"}},{"$f":"'B) Daten'!K9","v":{"$error":"#N/A"}},{"$f":"'A) Daten'!L9","v":{"$error":"#N/A"}},{"$f":"'B) Daten'!L9","v":{"$error":"#N/A"}},{"$f":"'A) Daten'!J9","v":{"$error":"#N/A"}},{"$f":"'B) Daten'!J9","v":{"$error":"#N/A"}}]
[8,{"$f":"'A) Daten'!B10","v":{"$error":"#N/A"}},{"$f":"'B) Daten'!B10","v":{"$error":"#N/A"}},{"$f":"'A) Daten'!C10","v":{"$error":"#N/A"}},{"$f":"'B) Daten'!C10","v":{"$error":"#N/A"}},{"$f":"'A) Daten'!K10","v":{"$error":"#N/A"}},{"$f":"'B) Daten'!K10","v":{"$error":"#N/A"}},{"$f":"'A) Daten'!L10","v":{"$error":"#N/A"}},{"$f":"'B) Daten'!L10","v":{"$error":"#N/A"}},{"$f":"'A) Daten'!J10","v":{"$error":"#N/A"}},{"$f":"'B) Daten'!J10","v":{"$error":"#N/A"}}]
[9,{"$f":"'A) Daten'!B11","v":{"$error":"#N/A"}},{"$f":"'B) Daten'!B11","v":{"$error":"#N/A"}},{"$f":"'A) Daten'!C11","v":{"$error":"#N/A"}},{"$f":"'B) Daten'!C11","v":{"$error":"#N/A"}},{"$f":"'A) Daten'!K11","v":{"$error":"#N/A"}},{"$f":"'B) Daten'!K11","v":{"$error":"#N/A"}},{"$f":"'A) Daten'!L11","v":{"$error":"#N/A"}},{"$f":"'B) Daten'!L11","v":{"$error":"#N/A"}},{"$f":"'A) Daten'!J11","v":{"$error":"#N/A"}},{"$f":"'B) Daten'!J11","v":{"$error":"#N/A"}}]
[10,{"$f":"'A) Daten'!B12","v":{"$error":"#N/A"}},{"$f":"'B) Daten'!B12","v":{"$error":"#N/A"}},{"$f":"'A) Daten'!C12","v":{"$error":"#N/A"}},{"$f":"'B) Daten'!C12","v":{"$error":"#N/A"}},{"$f":"'A) Daten'!K12","v":{"$error":"#N/A"}},{"$f":"'B) Daten'!K12","v":{"$error":"#N/A"}},{"$f":"'A) Daten'!L12","v":{"$error":"#N/A"}},{"$f":"'B) Daten'!L12","v":{"$error":"#N/A"}},{"$f":"'A) Daten'!J12","v":{"$error":"#N/A"}},{"$f":"'B) Daten'!J12","v":{"$error":"#N/A"}}]
[11,{"$f":"'A) Daten'!B13","v":{"$error":"#N/A"}},{"$f":"'B) Daten'!B13","v":{"$error":"#N/A"}},{"$f":"'A) Daten'!C13","v":{"$error":"#N/A"}},{"$f":"'B) Daten'!C13","v":{"$error":"#N/A"}},{"$f":"'A) Daten'!K13","v":{"$error":"#N/A"}},{"$f":"'B) Daten'!K13","v":{"$error":"#N/A"}},{"$f":"'A) Daten'!L13","v":{"$error":"#N/A"}},{"$f":"'B) Daten'!L13","v":{"$error":"#N/A"}},{"$f":"'A) Daten'!J13","v":{"$error":"#N/A"}},{"$f":"'B) Daten'!J13","v":{"$error":"#N/A"}}]
[12,{"$f":"'A) Daten'!B14","v":{"$error":"#N/A"}},{"$f":"'B) Daten'!B14","v":{"$error":"#N/A"}},{"$f":"'A) Daten'!C14","v":{"$error":"#N/A"}},{"$f":"'B) Daten'!C14","v":{"$error":"#N/A"}},{"$f":"'A) Daten'!K14","v":{"$error":"#N/A"}},{"$f":"'B) Daten'!K14","v":{"$error":"#N/A"}},{"$f":"'A) Daten'!L14","v":{"$error":"#N/A"}},{"$f":"'B) Daten'!L14","v":{"$error":"#N/A"}},{"$f":"'A) Daten'!J14","v":{"$error":"#N/A"}},{"$f":"'B) Daten'!J14","v":{"$error":"#N/A"}}]
[13,{"$f":"'A) Daten'!B15","v":{"$error":"#N/A"}},{"$f":"'B) Daten'!B15","v":{"$error":"#N/A"}},{"$f":"'A) Daten'!C15","v":{"$error":"#N/A"}},{"$f":"'B) Daten'!C15","v":{"$error":"#N/A"}},{"$f":"'A) Daten'!K15","v":{"$error":"#N/A"}},{"$f":"'B) Daten'!K15","v":{"$error":"#N/A"}},{"$f":"'A) Daten'!L15","v":{"$error":"#N/A"}},{"$f":"'B) Daten'!L15","v":{"$error":"#N/A"}},{"$f":"'A) Daten'!J15","v":{"$error":"#N/A"}},{"$f":"'B) Daten'!J15","v":{"$error":"#N/A"}}]
[14,{"$f":"'A) Daten'!B16","v":{"$error":"#N/A"}},{"$f":"'B) Daten'!B16","v":{"$error":"#N/A"}},{"$f":"'A) Daten'!C16","v":{"$error":"#N/A"}},{"$f":"'B) Daten'!C16","v":{"$error":"#N/A"}},{"$f":"'A) Daten'!K16","v":{"$error":"#N/A"}},{"$f":"'B) Daten'!K16","v":{"$error":"#N/A"}},{"$f":"'A) Daten'!L16","v":{"$error":"#N/A"}},{"$f":"'B) Daten'!L16","v":{"$error":"#N/A"}},{"$f":"'A) Daten'!J16","v":{"$error":"#N/A"}},{"$f":"'B) Daten'!J16","v":{"$error":"#N/A"}}]
[15,{"$f":"'A) Daten'!B17","v":{"$error":"#N/A"}},{"$f":"'B) Daten'!B17","v":{"$error":"#N/A"}},{"$f":"'A) Daten'!C17","v":{"$error":"#N/A"}},{"$f":"'B) Daten'!C17","v":{"$error":"#N/A"}},{"$f":"'A) Daten'!K17","v":{"$error":"#N/A"}},{"$f":"'B) Daten'!K17","v":{"$error":"#N/A"}},{"$f":"'A) Daten'!L17","v":{"$error":"#N/A"}},{"$f":"'B) Daten'!L17","v":{"$error":"#N/A"}},{"$f":"'A) Daten'!J17","v":{"$error":"#N/A"}},{"$f":"'B) Daten'!J17","v":{"$error":"#N/A"}}]
[16,{"$f":"'A) Daten'!B18","v":{"$error":"#N/A"}},{"$f":"'B) Daten'!B18","v":{"$error":"#N/A"}},{"$f":"'A) Daten'!C18","v":{"$error":"#N/A"}},{"$f":"'B) Daten'!C18","v":{"$error":"#N/A"}},{"$f":"'A) Daten'!K18","v":{"$error":"#N/A"}},{"$f":"'B) Daten'!K18","v":{"$error":"#N/A"}},{"$f":"'A) Daten'!L18","v":{"$error":"#N/A"}},{"$f":"'B) Daten'!L18","v":{"$error":"#N/A"}},{"$f":"'A) Daten'!J18","v":{"$error":"#N/A"}},{"$f":"'B) Daten'!J18","v":{"$error":"#N/A"}}]
[17,{"$f":"'A) Daten'!B19","v":{"$error":"#N/A"}},{"$f":"'B) Daten'!B19","v":{"$error":"#N/A"}},{"$f":"'A) Daten'!C19","v":{"$error":"#N/A"}},{"$f":"'B) Daten'!C19","v":{"$error":"#N/A"}},{"$f":"'A) Daten'!K19","v":{"$error":"#N/A"}},{"$f":"'B) Daten'!K19","v":{"$error":"#N/A"}},{"$f":"'A) Daten'!L19","v":{"$error":"#N/A"}},{"$f":"'B) Daten'!L19","v":{"$error":"#N/A"}},{"$f":"'A) Daten'!J19","v":{"$error":"#N/A"}},{"$f":"'B) Daten'!J19","v":{"$error":"#N/A"}}]
[18,{"$f":"'A) Daten'!B20","v":{"$error":"#N/A"}},{"$f":"'B) Daten'!B20","v":{"$error":"#N/A"}},{"$f":"'A) Daten'!C20","v":{"$error":"#N/A"}},{"$f":"'B) Daten'!C20","v":{"$error":"#N/A"}},{"$f":"'A) Daten'!K20","v":{"$error":"#N/A"}},{"$f":"'B) Daten'!K20","v":{"$error":"#N/A"}},{"$f":"'A) Daten'!L20","v":{"$error":"#N/A"}},{"$f":"'B) Daten'!L20","v":{"$error":"#N/A"}},{"$f":"'A) Daten'!J20","v":{"$error":"#N/A"}},{"$f":"'B) Daten'!J20","v":{"$error":"#N/A"}}]
[19,{"$f":"'A) Daten'!B21","v":{"$error":"#N/A"}},{"$f":"'B) Daten'!B21","v":{"$error":"#N/A"}},{"$f":"'A) Daten'!C21","v":{"$error":"#N/A"}},{"$f":"'B) Daten'!C21","v":{"$error":"#N/A"}},{"$f":"'A) Daten'!K21","v":{"$error":"#N/A"}},{"$f":"'B) Daten'!K21","v":{"$error":"#N/A"}},{"$f":"'A) Daten'!L21","v":{"$error":"#N/A"}},{"$f":"'B) Daten'!L21","v":{"$error":"#N/A"}},{"$f":"'A) Daten'!J21","v":{"$error":"#N/A"}},{"$f":"'B) Daten'!J21","v":{"$error":"#N/A"}}]
[20,{"$f":"'A) Daten'!B22","v":{"$error":"#N/A"}},{"$f":"'B) Daten'!B22","v":{"$error":"#N/A"}},{"$f":"'A) Daten'!C22","v":{"$error":"#N/A"}},{"$f":"'B) Daten'!C22","v":{"$error":"#N/A"}},{"$f":"'A) Daten'!K22","v":{"$error":"#N/A"}},{"$f":"'B) Daten'!K22","v":{"$error":"#N/A"}},{"$f":"'A) Daten'!L22","v":{"$error":"#N/A"}},{"$f":"'B) Daten'!L22","v":{"$error":"#N/A"}},{"$f":"'A) Daten'!J22","v":{"$error":"#N/A"}},{"$f":"'B) Daten'!J22","v":{"$error":"#N/A"}}]
[21,{"$f":"'A) Daten'!B23","v":{"$error":"#N/A"}},{"$f":"'B) Daten'!B23","v":{"$error":"#N/A"}},{"$f":"'A) Daten'!C23","v":{"$error":"#N/A"}},{"$f":"'B) Daten'!C23","v":{"$error":"#N/A"}},{"$f":"'A) Daten'!K23","v":{"$error":"#N/A"}},{"$f":"'B) Daten'!K23","v":{"$error":"#N/A"}},{"$f":"'A) Daten'!L23","v":{"$error":"#N/A"}},{"$f":"'B) Daten'!L23","v":{"$error":"#N/A"}},{"$f":"'A) Daten'!J23","v":{"$error":"#N/A"}},{"$f":"'B) Daten'!J23","v":{"$error":"#N/A"}}]
[22,{"$f":"'A) Daten'!B24","v":{"$error":"#N/A"}},{"$f":"'B) Daten'!B24","v":{"$error":"#N/A"}},{"$f":"'A) Daten'!C24","v":{"$error":"#N/A"}},{"$f":"'B) Daten'!C24","v":{"$error":"#N/A"}},{"$f":"'A) Daten'!K24","v":{"$error":"#N/A"}},{"$f":"'B) Daten'!K24","v":{"$error":"#N/A"}},{"$f":"'A) Daten'!L24","v":{"$error":"#N/A"}},{"$f":"'B) Daten'!L24","v":{"$error":"#N/A"}},{"$f":"'A) Daten'!J24","v":{"$error":"#N/A"}},{"$f":"'B) Daten'!J24","v":{"$error":"#N/A"}}]
[null,null,null,null,null,{"$error":"#N/A"},{"$error":"#N/A"},{"$error":"#N/A"},{"$error":"#N/A"},{"$error":"#N/A"},{"$error":"#N/A"}]
["23S",{"$f":"'A) Daten'!B25","v":{"$error":"#N/A"}},{"$f":"'B) Daten'!B25","v":{"$error":"#N/A"}},{"$f":"'A) Daten'!C25","v":{"$error":"#N/A"}},{"$f":"'B) Daten'!C25","v":{"$error":"#N/A"}},{"$f":"'A) Daten'!K25","v":{"$error":"#N/A"}},{"$f":"'B) Daten'!K25","v":{"$error":"#N/A"}},{"$f":"'A) Daten'!L25","v":{"$error":"#N/A"}},{"$f":"'B) Daten'!L25","v":{"$error":"#N/A"}},{"$f":"'A) Daten'!S25","v":{"$error":"#N/A"}},{"$f":"'B) Daten'!S25","v":{"$error":"#N/A"}}]
[24,{"$f":"'A) Daten'!B26","v":{"$error":"#N/A"}},{"$f":"'B) Daten'!B26","v":{"$error":"#N/A"}},{"$f":"'A) Daten'!C26","v":{"$error":"#N/A"}},{"$f":"'B) Daten'!C26","v":{"$error":"#N/A"}},{"$f":"'A) Daten'!K26","v":{"$error":"#N/A"}},{"$f":"'B) Daten'!K26","v":{"$error":"#N/A"}},{"$f":"'A) Daten'!L26","v":{"$error":"#N/A"}},{"$f":"'B) Daten'!L26","v":{"$error":"#N/A"}},{"$f":"'A) Daten'!S26","v":{"$error":"#N/A"}},{"$f":"'B) Daten'!S26","v":{"$error":"#N/A"}}]
[25,{"$f":"'A) Daten'!B27","v":{"$error":"#N/A"}},{"$f":"'B) Daten'!B27","v":{"$error":"#N/A"}},{"$f":"'A) Daten'!C27","v":{"$error":"#N/A"}},{"$f":"'B) Daten'!C27","v":{"$error":"#N/A"}},{"$f":"'A) Daten'!K27","v":{"$error":"#N/A"}},{"$f":"'B) Daten'!K27","v":{"$error":"#N/A"}},{"$f":"'A) Daten'!L27","v":{"$error":"#N/A"}},{"$f":"'B) Daten'!L27","v":{"$error":"#N/A"}},{"$f":"'A) Daten'!S27","v":{"$error":"#N/A"}},{"$f":"'B) Daten'!S27","v":{"$error":"#N/A"}}]
["26L",null,null,null,null,{"$f":"'A) Daten'!K28","v":{"$error":"#N/A"}},{"$f":"'B) Daten'!K28","v":{"$error":"#N/A"}},{"$f":"'A) Daten'!L28","v":{"$error":"#N/A"}},{"$f":"'B) Daten'!L28","v":{"$error":"#N/A"}},{"$f":"'A) Daten'!S28","v":{"$error":"#N/A"}},{"$f":"'B) Daten'!S28","v":{"$error":"#N/A"}}]
["27L",null,null,null,null,{"$f":"'A) Daten'!K29","v":{"$error":"#N/A"}},{"$f":"'B) Daten'!K29","v":{"$error":"#N/A"}},{"$f":"'A) Daten'!L29","v":{"$error":"#N/A"}},{"$f":"'B) Daten'!L29","v":{"$error":"#N/A"}},{"$f":"'A) Daten'!S29","v":{"$error":"#N/A"}},{"$f":"'B) Daten'!S29","v":{"$error":"#N/A"}}]
["26S","N","viel zu leicht","eher zu leicht","genau richtig","eher zu schwierig","viel zu schwierig"]
["T1",{"$f":"COUNT('A) Eingabe (Schüler)'!C41:AK41)","v":0},{"$f":"IF($B32<2,#N/A,COUNTIF('A) Eingabe (Schüler)'!$C41:$AK41,1))","v":{"$error":"#N/A"}},{"$f":"IF($B32<2,#N/A,COUNTIF('A) Eingabe (Schüler)'!$C41:$AK41,2))","v":{"$error":"#N/A"}},{"$f":"IF($B32<2,#N/A,COUNTIF('A) Eingabe (Schüler)'!$C41:$AK41,3))","v":{"$error":"#N/A"}},{"$f":"IF($B32<2,#N/A,COUNTIF('A) Eingabe (Schüler)'!$C41:$AK41,4))","v":{"$error":"#N/A"}},{"$f":"IF($B32<2,#N/A,COUNTIF('A) Eingabe (Schüler)'!$C41:$AK41,5))","v":{"$error":"#N/A"}}]
["T2",{"$f":"COUNT('B) Eingabe (Schüler)'!C41:AK41)","v":0},{"$f":"IF($B33<2,#N/A,COUNTIF('B) Eingabe (Schüler)'!$C41:$AK41,1))","v":{"$error":"#N/A"}},{"$f":"IF($B33<2,#N/A,COUNTIF('B) Eingabe (Schüler)'!$C41:$AK41,2))","v":{"$error":"#N/A"}},{"$f":"IF($B33<2,#N/A,COUNTIF('B) Eingabe (Schüler)'!$C41:$AK41,3))","v":{"$error":"#N/A"}},{"$f":"IF($B33<2,#N/A,COUNTIF('B) Eingabe (Schüler)'!$C41:$AK41,4))","v":{"$error":"#N/A"}},{"$f":"IF($B33<2,#N/A,COUNTIF('B) Eingabe (Schüler)'!$C41:$AK41,5))","v":{"$error":"#N/A"}}]
["Zusatzitems"]
[1,{"$f":"'A) Daten'!B34","v":{"$error":"#N/A"}},{"$f":"'B) Daten'!B34","v":{"$error":"#N/A"}},{"$f":"'A) Daten'!C34","v":{"$error":"#N/A"}},{"$f":"'B) Daten'!C34","v":{"$error":"#N/A"}},{"$f":"'A) Daten'!K34","v":{"$error":"#N/A"}},{"$f":"'B) Daten'!K34","v":{"$error":"#N/A"}},{"$f":"'A) Daten'!L34","v":{"$error":"#N/A"}},{"$f":"'B) Daten'!L34","v":{"$error":"#N/A"}},{"$f":"'A) Daten'!J34","v":{"$error":"#N/A"}},{"$f":"'B) Daten'!J34","v":{"$error":"#N/A"}}]
[2,{"$f":"'A) Daten'!B35","v":{"$error":"#N/A"}},{"$f":"'B) Daten'!B35","v":{"$error":"#N/A"}},{"$f":"'A) Daten'!C35","v":{"$error":"#N/A"}},{"$f":"'B) Daten'!C35","v":{"$error":"#N/A"}},{"$f":"'A) Daten'!K35","v":{"$error":"#N/A"}},{"$f":"'B) Daten'!K35","v":{"$error":"#N/A"}},{"$f":"'A) Daten'!L35","v":{"$error":"#N/A"}},{"$f":"'B) Daten'!L35","v":{"$error":"#N/A"}},{"$f":"'A) Daten'!J35","v":{"$error":"#N/A"}},{"$f":"'B) Daten'!J35","v":{"$error":"#N/A"}}]
[3,{"$f":"'A) Daten'!B36","v":{"$error":"#N/A"}},{"$f":"'B) Daten'!B36","v":{"$error":"#N/A"}},{"$f":"'A) Daten'!C36","v":{"$error":"#N/A"}},{"$f":"'B) Daten'!C36","v":{"$error":"#N/A"}},{"$f":"'A) Daten'!K36","v":{"$error":"#N/A"}},{"$f":"'B) Daten'!K36","v":{"$error":"#N/A"}},{"$f":"'A) Daten'!L36","v":{"$error":"#N/A"}},{"$f":"'B) Daten'!L36","v":{"$error":"#N/A"}},{"$f":"'A) Daten'!J36","v":{"$error":"#N/A"}},{"$f":"'B) Daten'!J36","v":{"$error":"#N/A"}}]
[4,{"$f":"'A) Daten'!B37","v":{"$error":"#N/A"}},{"$f":"'B) Daten'!B37","v":{"$error":"#N/A"}},{"$f":"'A) Daten'!C37","v":{"$error":"#N/A"}},{"$f":"'B) Daten'!C37","v":{"$error":"#N/A"}},{"$f":"'A) Daten'!K37","v":{"$error":"#N/A"}},{"$f":"'B) Daten'!K37","v":{"$error":"#N/A"}},{"$f":"'A) Daten'!L37","v":{"$error":"#N/A"}},{"$f":"'B) Daten'!L37","v":{"$error":"#N/A"}},{"$f":"'A) Daten'!J37","v":{"$error":"#N/A"}},{"$f":"'B) Daten'!J37","v":{"$error":"#N/A"}}]
[5,{"$f":"'A) Daten'!B38","v":{"$error":"#N/A"}},{"$f":"'B) Daten'!B38","v":{"$error":"#N/A"}},{"$f":"'A) Daten'!C38","v":{"$error":"#N/A"}},{"$f":"'B) Daten'!C38","v":{"$error":"#N/A"}},{"$f":"'A) Daten'!K38","v":{"$error":"#N/A"}},{"$f":"'B) Daten'!K38","v":{"$error":"#N/A"}},{"$f":"'A) Daten'!L38","v":{"$error":"#N/A"}},{"$f":"'B) Daten'!L38","v":{"$error":"#N/A"}},{"$f":"'A) Daten'!J38","v":{"$error":"#N/A"}},{"$f":"'B) Daten'!J38","v":{"$error":"#N/A"}}]
[6,{"$f":"'A) Daten'!B39","v":{"$error":"#N/A"}},{"$f":"'B) Daten'!B39","v":{"$error":"#N/A"}},{"$f":"'A) Daten'!C39","v":{"$error":"#N/A"}},{"$f":"'B) Daten'!C39","v":{"$error":"#N/A"}},{"$f":"'A) Daten'!K39","v":{"$error":"#N/A"}},{"$f":"'B) Daten'!K39","v":{"$error":"#N/A"}},{"$f":"'A) Daten'!L39","v":{"$error":"#N/A"}},{"$f":"'B) Daten'!L39","v":{"$error":"#N/A"}},{"$f":"'A) Daten'!J39","v":{"$error":"#N/A"}},{"$f":"'B) Daten'!J39","v":{"$error":"#N/A"}}]
[7,{"$f":"'A) Daten'!B40","v":{"$error":"#N/A"}},{"$f":"'B) Daten'!B40","v":{"$error":"#N/A"}},{"$f":"'A) Daten'!C40","v":{"$error":"#N/A"}},{"$f":"'B) Daten'!C40","v":{"$error":"#N/A"}},{"$f":"'A) Daten'!K40","v":{"$error":"#N/A"}},{"$f":"'B) Daten'!K40","v":{"$error":"#N/A"}},{"$f":"'A) Daten'!L40","v":{"$error":"#N/A"}},{"$f":"'B) Daten'!L40","v":{"$error":"#N/A"}},{"$f":"'A) Daten'!J40","v":{"$error":"#N/A"}},{"$f":"'B) Daten'!J40","v":{"$error":"#N/A"}}]
[8,{"$f":"'A) Daten'!B41","v":{"$error":"#N/A"}},{"$f":"'B) Daten'!B41","v":{"$error":"#N/A"}},{"$f":"'A) Daten'!C41","v":{"$error":"#N/A"}},{"$f":"'B) Daten'!C41","v":{"$error":"#N/A"}},{"$f":"'A) Daten'!K41","v":{"$error":"#N/A"}},{"$f":"'B) Daten'!K41","v":{"$error":"#N/A"}},{"$f":"'A) Daten'!L41","v":{"$error":"#N/A"}},{"$f":"'B) Daten'!L41","v":{"$error":"#N/A"}},{"$f":"'A) Daten'!J41","v":{"$error":"#N/A"}},{"$f":"'B) Daten'!J41","v":{"$error":"#N/A"}}]
[9,{"$f":"'A) Daten'!B42","v":{"$error":"#N/A"}},{"$f":"'B) Daten'!B42","v":{"$error":"#N/A"}},{"$f":"'A) Daten'!C42","v":{"$error":"#N/A"}},{"$f":"'B) Daten'!C42","v":{"$error":"#N/A"}},{"$f":"'A) Daten'!K42","v":{"$error":"#N/A"}},{"$f":"'B) Daten'!K42","v":{"$error":"#N/A"}},{"$f":"'A) Daten'!L42","v":{"$error":"#N/A"}},{"$f":"'B) Daten'!L42","v":{"$error":"#N/A"}},{"$f":"'A) Daten'!J42","v":{"$error":"#N/A"}},{"$f":"'B) Daten'!J42","v":{"$error":"#N/A"}}]
[10,{"$f":"'A) Daten'!B43","v":{"$error":"#N/A"}},{"$f":"'B) Daten'!B43","v":{"$error":"#N/A"}},{"$f":"'A) Daten'!C43","v":{"$error":"#N/A"}},{"$f":"'B) Daten'!C43","v":{"$error":"#N/A"}},{"$f":"'A) Daten'!K43","v":{"$error":"#N/A"}},{"$f":"'B) Daten'!K43","v":{"$error":"#N/A"}},{"$f":"'A) Daten'!L43","v":{"$error":"#N/A"}},{"$f":"'B) Daten'!L43","v":{"$error":"#N/A"}},{"$f":"'A) Daten'!J43","v":{"$error":"#N/A"}},{"$f":"'B) Daten'!J43","v":{"$error":"#N/A"}}]
[11,{"$f":"'A) Daten'!B44","v":{"$error":"#N/A"}},{"$f":"'B) Daten'!B44","v":{"$error":"#N/A"}},{"$f":"'A) Daten'!C44","v":{"$error":"#N/A"}},{"$f":"'B) Daten'!C44","v":{"$error":"#N/A"}},{"$f":"'A) Daten'!K44","v":{"$error":"#N/A"}},{"$f":"'B) Daten'!K44","v":{"$error":"#N/A"}},{"$f":"'A) Daten'!L44","v":{"$error":"#N/A"}},{"$f":"'B) Daten'!L44","v":{"$error":"#N/A"}},{"$f":"'A) Daten'!J44","v":{"$error":"#N/A"}},{"$f":"'B) Daten'!J44","v":{"$error":"#N/A"}}]
[12,{"$f":"'A) Daten'!B45","v":{"$error":"#N/A"}},{"$f":"'B) Daten'!B45","v":{"$error":"#N/A"}},{"$f":"'A) Daten'!C45","v":{"$error":"#N/A"}},{"$f":"'B) Daten'!C45","v":{"$error":"#N/A"}},{"$f":"'A) Daten'!K45","v":{"$error":"#N/A"}},{"$f":"'B) Daten'!K45","v":{"$error":"#N/A"}},{"$f":"'A) Daten'!L45","v":{"$error":"#N/A"}},{"$f":"'B) Daten'!L45","v":{"$error":"#N/A"}},{"$f":"'A) Daten'!J45","v":{"$error":"#N/A"}},{"$f":"'B) Daten'!J45","v":{"$error":"#N/A"}}]
[13,{"$f":"'A) Daten'!B46","v":{"$error":"#N/A"}},{"$f":"'B) Daten'!B46","v":{"$error":"#N/A"}},{"$f":"'A) Daten'!C46","v":{"$error":"#N/A"}},{"$f":"'B) Daten'!C46","v":{"$error":"#N/A"}},{"$f":"'A) Daten'!K46","v":{"$error":"#N/A"}},{"$f":"'B) Daten'!K46","v":{"$error":"#N/A"}},{"$f":"'A) Daten'!L46","v":{"$error":"#N/A"}},{"$f":"'B) Daten'!L46","v":{"$error":"#N/A"}},{"$f":"'A) Daten'!J46","v":{"$error":"#N/A"}},{"$f":"'B) Daten'!J46","v":{"$error":"#N/A"}}]
[14,{"$f":"'A) Daten'!B47","v":{"$error":"#N/A"}},{"$f":"'B) Daten'!B47","v":{"$error":"#N/A"}},{"$f":"'A) Daten'!C47","v":{"$error":"#N/A"}},{"$f":"'B) Daten'!C47","v":{"$error":"#N/A"}},{"$f":"'A) Daten'!K47","v":{"$error":"#N/A"}},{"$f":"'B) Daten'!K47","v":{"$error":"#N/A"}},{"$f":"'A) Daten'!L47","v":{"$error":"#N/A"}},{"$f":"'B) Daten'!L47","v":{"$error":"#N/A"}},{"$f":"'A) Daten'!J47","v":{"$error":"#N/A"}},{"$f":"'B) Daten'!J47","v":{"$error":"#N/A"}}]
[15,{"$f":"'A) Daten'!B48","v":{"$error":"#N/A"}},{"$f":"'B) Daten'!B48","v":{"$error":"#N/A"}},{"$f":"'A) Daten'!C48","v":{"$error":"#N/A"}},{"$f":"'B) Daten'!C48","v":{"$error":"#N/A"}},{"$f":"'A) Daten'!K48","v":{"$error":"#N/A"}},{"$f":"'B) Daten'!K48","v":{"$error":"#N/A"}},{"$f":"'A) Daten'!L48","v":{"$error":"#N/A"}},{"$f":"'B) Daten'!L48","v":{"$error":"#N/A"}},{"$f":"'A) Daten'!J48","v":{"$error":"#N/A"}},{"$f":"'B) Daten'!J48","v":{"$error":"#N/A"}}]
[16,{"$f":"'A) Daten'!B49","v":{"$error":"#N/A"}},{"$f":"'B) Daten'!B49","v":{"$error":"#N/A"}},{"$f":"'A) Daten'!C49","v":{"$error":"#N/A"}},{"$f":"'B) Daten'!C49","v":{"$error":"#N/A"}},{"$f":"'A) Daten'!K49","v":{"$error":"#N/A"}},{"$f":"'B) Daten'!K49","v":{"$error":"#N/A"}},{"$f":"'A) Daten'!L49","v":{"$error":"#N/A"}},{"$f":"'B) Daten'!L49","v":{"$error":"#N/A"}},{"$f":"'A) Daten'!J49","v":{"$error":"#N/A"}},{"$f":"'B) Daten'!J49","v":{"$error":"#N/A"}}]
[17,{"$f":"'A) Daten'!B50","v":{"$error":"#N/A"}},{"$f":"'B) Daten'!B50","v":{"$error":"#N/A"}},{"$f":"'A) Daten'!C50","v":{"$error":"#N/A"}},{"$f":"'B) Daten'!C50","v":{"$error":"#N/A"}},{"$f":"'A) Daten'!K50","v":{"$error":"#N/A"}},{"$f":"'B) Daten'!K50","v":{"$error":"#N/A"}},{"$f":"'A) Daten'!L50","v":{"$error":"#N/A"}},{"$f":"'B) Daten'!L50","v":{"$error":"#N/A"}},{"$f":"'A) Daten'!J50","v":{"$error":"#N/A"}},{"$f":"'B) Daten'!J50","v":{"$error":"#N/A"}}]
[18,{"$f":"'A) Daten'!B51","v":{"$error":"#N/A"}},{"$f":"'B) Daten'!B51","v":{"$error":"#N/A"}},{"$f":"'A) Daten'!C51","v":{"$error":"#N/A"}},{"$f":"'B) Daten'!C51","v":{"$error":"#N/A"}},{"$f":"'A) Daten'!K51","v":{"$error":"#N/A"}},{"$f":"'B) Daten'!K51","v":{"$error":"#N/A"}},{"$f":"'A) Daten'!L51","v":{"$error":"#N/A"}},{"$f":"'B) Daten'!L51","v":{"$error":"#N/A"}},{"$f":"'A) Daten'!J51","v":{"$error":"#N/A"}},{"$f":"'B) Daten'!J51","v":{"$error":"#N/A"}}]
[19,{"$f":"'A) Daten'!B52","v":{"$error":"#N/A"}},{"$f":"'B) Daten'!B52","v":{"$error":"#N/A"}},{"$f":"'A) Daten'!C52","v":{"$error":"#N/A"}},{"$f":"'B) Daten'!C52","v":{"$error":"#N/A"}},{"$f":"'A) Daten'!K52","v":{"$error":"#N/A"}},{"$f":"'B) Daten'!K52","v":{"$error":"#N/A"}},{"$f":"'A) Daten'!L52","v":{"$error":"#N/A"}},{"$f":"'B) Daten'!L52","v":{"$error":"#N/A"}},{"$f":"'A) Daten'!J52","v":{"$error":"#N/A"}},{"$f":"'B) Daten'!J52","v":{"$error":"#N/A"}}]
[20,{"$f":"'A) Daten'!B53","v":{"$error":"#N/A"}},{"$f":"'B) Daten'!B53","v":{"$error":"#N/A"}},{"$f":"'A) Daten'!C53","v":{"$error":"#N/A"}},{"$f":"'B) Daten'!C53","v":{"$error":"#N/A"}},{"$f":"'A) Daten'!K53","v":{"$error":"#N/A"}},{"$f":"'B) Daten'!K53","v":{"$error":"#N/A"}},{"$f":"'A) Daten'!L53","v":{"$error":"#N/A"}},{"$f":"'B) Daten'!L53","v":{"$error":"#N/A"}},{"$f":"'A) Daten'!J53","v":{"$error":"#N/A"}},{"$f":"'B) Daten'!J53","v":{"$error":"#N/A"}}]
[21,{"$f":"'A) Daten'!B54","v":{"$error":"#N/A"}},{"$f":"'B) Daten'!B54","v":{"$error":"#N/A"}},{"$f":"'A) Daten'!C54","v":{"$error":"#N/A"}},{"$f":"'B) Daten'!C54","v":{"$error":"#N/A"}},{"$f":"'A) Daten'!K54","v":{"$error":"#N/A"}},{"$f":"'B) Daten'!K54","v":{"$error":"#N/A"}},{"$f":"'A) Daten'!L54","v":{"$error":"#N/A"}},{"$f":"'B) Daten'!L54","v":{"$error":"#N/A"}},{"$f":"'A) Daten'!J54","v":{"$error":"#N/A"}},{"$f":"'B) Daten'!J54","v":{"$error":"#N/A"}}]
[22,{"$f":"'A) Daten'!B55","v":{"$error":"#N/A"}},{"$f":"'B) Daten'!B55","v":{"$error":"#N/A"}},{"$f":"'A) Daten'!C55","v":{"$error":"#N/A"}},{"$f":"'B) Daten'!C55","v":{"$error":"#N/A"}},{"$f":"'A) Daten'!K55","v":{"$error":"#N/A"}},{"$f":"'B) Daten'!K55","v":{"$error":"#N/A"}},{"$f":"'A) Daten'!L55","v":{"$error":"#N/A"}},{"$f":"'B) Daten'!L55","v":{"$error":"#N/A"}},{"$f":"'A) Daten'!J55","v":{"$error":"#N/A"}},{"$f":"'B) Daten'!J55","v":{"$error":"#N/A"}}]
[23,{"$f":"'A) Daten'!B56","v":{"$error":"#N/A"}},{"$f":"'B) Daten'!B56","v":{"$error":"#N/A"}},{"$f":"'A) Daten'!C56","v":{"$error":"#N/A"}},{"$f":"'B) Daten'!C56","v":{"$error":"#N/A"}},{"$f":"'A) Daten'!K56","v":{"$error":"#N/A"}},{"$f":"'B) Daten'!K56","v":{"$error":"#N/A"}},{"$f":"'A) Daten'!L56","v":{"$error":"#N/A"}},{"$f":"'B) Daten'!L56","v":{"$error":"#N/A"}},{"$f":"'A) Daten'!J56","v":{"$error":"#N/A"}},{"$f":"'B) Daten'!J56","v":{"$error":"#N/A"}}]
[24,{"$f":"'A) Daten'!B57","v":{"$error":"#N/A"}},{"$f":"'B) Daten'!B57","v":{"$error":"#N/A"}},{"$f":"'A) Daten'!C57","v":{"$error":"#N/A"}},{"$f":"'B) Daten'!C57","v":{"$error":"#N/A"}},{"$f":"'A) Daten'!K57","v":{"$error":"#N/A"}},{"$f":"'B) Daten'!K57","v":{"$error":"#N/A"}},{"$f":"'A) Daten'!L57","v":{"$error":"#N/A"}},{"$f":"'B) Daten'!L57","v":{"$error":"#N/A"}},{"$f":"'A) Daten'!J57","v":{"$error":"#N/A"}},{"$f":"'B) Daten'!J57","v":{"$error":"#N/A"}}]
[25,{"$f":"'A) Daten'!B58","v":{"$error":"#N/A"}},{"$f":"'B) Daten'!B58","v":{"$error":"#N/A"}},{"$f":"'A) Daten'!C58","v":{"$error":"#N/A"}},{"$f":"'B) Daten'!C58","v":{"$error":"#N/A"}},{"$f":"'A) Daten'!K58","v":{"$error":"#N/A"}},{"$f":"'B) Daten'!K58","v":{"$error":"#N/A"}},{"$f":"'A) Daten'!L58","v":{"$error":"#N/A"}},{"$f":"'B) Daten'!L58","v":{"$error":"#N/A"}},{"$f":"'A) Daten'!J58","v":{"$error":"#N/A"}},{"$f":"'B) Daten'!J58","v":{"$error":"#N/A"}}]
[26,{"$f":"'A) Daten'!B59","v":{"$error":"#N/A"}},{"$f":"'B) Daten'!B59","v":{"$error":"#N/A"}},{"$f":"'A) Daten'!C59","v":{"$error":"#N/A"}},{"$f":"'B) Daten'!C59","v":{"$error":"#N/A"}},{"$f":"'A) Daten'!K59","v":{"$error":"#N/A"}},{"$f":"'B) Daten'!K59","v":{"$error":"#N/A"}},{"$f":"'A) Daten'!L59","v":{"$error":"#N/A"}},{"$f":"'B) Daten'!L59","v":{"$error":"#N/A"}},{"$f":"'A) Daten'!J59","v":{"$error":"#N/A"}},{"$f":"'B) Daten'!J59","v":{"$error":"#N/A"}}]
[27,{"$f":"'A) Daten'!B60","v":{"$error":"#N/A"}},{"$f":"'B) Daten'!B60","v":{"$error":"#N/A"}},{"$f":"'A) Daten'!C60","v":{"$error":"#N/A"}},{"$f":"'B) Daten'!C60","v":{"$error":"#N/A"}},{"$f":"'A) Daten'!K60","v":{"$error":"#N/A"}},{"$f":"'B) Daten'!K60","v":{"$error":"#N/A"}},{"$f":"'A) Daten'!L60","v":{"$error":"#N/A"}},{"$f":"'B) Daten'!L60","v":{"$error":"#N/A"}},{"$f":"'A) Daten'!J60","v":{"$error":"#N/A"}},{"$f":"'B) Daten'!J60","v":{"$error":"#N/A"}}]
[28,{"$f":"'A) Daten'!B61","v":{"$error":"#N/A"}},{"$f":"'B) Daten'!B61","v":{"$error":"#N/A"}},{"$f":"'A) Daten'!C61","v":{"$error":"#N/A"}},{"$f":"'B) Daten'!C61","v":{"$error":"#N/A"}},{"$f":"'A) Daten'!K61","v":{"$error":"#N/A"}},{"$f":"'B) Daten'!K61","v":{"$error":"#N/A"}},{"$f":"'A) Daten'!L61","v":{"$error":"#N/A"}},{"$f":"'B) Daten'!L61","v":{"$error":"#N/A"}},{"$f":"'A) Daten'!J61","v":{"$error":"#N/A"}},{"$f":"'B) Daten'!J61","v":{"$error":"#N/A"}}]
[29,{"$f":"'A) Daten'!B62","v":{"$error":"#N/A"}},{"$f":"'B) Daten'!B62","v":{"$error":"#N/A"}},{"$f":"'A) Daten'!C62","v":{"$error":"#N/A"}},{"$f":"'B) Daten'!C62","v":{"$error":"#N/A"}},{"$f":"'A) Daten'!K62","v":{"$error":"#N/A"}},{"$f":"'B) Daten'!K62","v":{"$error":"#N/A"}},{"$f":"'A) Daten'!L62","v":{"$error":"#N/A"}},{"$f":"'B) Daten'!L62","v":{"$error":"#N/A"}},{"$f":"'A) Daten'!J62","v":{"$error":"#N/A"}},{"$f":"'B) Daten'!J62","v":{"$error":"#N/A"}}]
[30,{"$f":"'A) Daten'!B63","v":{"$error":"#N/A"}},{"$f":"'B) Daten'!B63","v":{"$error":"#N/A"}},{"$f":"'A) Daten'!C63","v":{"$error":"#N/A"}},{"$f":"'B) Daten'!C63","v":{"$error":"#N/A"}},{"$f":"'A) Daten'!K63","v":{"$error":"#N/A"}},{"$f":"'B) Daten'!K63","v":{"$error":"#N/A"}},{"$f":"'A) Daten'!L63","v":{"$error":"#N/A"}},{"$f":"'B) Daten'!L63","v":{"$error":"#N/A"}},{"$f":"'A) Daten'!J63","v":{"$error":"#N/A"}},{"$f":"'B) Daten'!J63","v":{"$error":"#N/A"}}]
[31,{"$f":"'A) Daten'!B64","v":{"$error":"#N/A"}},{"$f":"'B) Daten'!B64","v":{"$error":"#N/A"}},{"$f":"'A) Daten'!C64","v":{"$error":"#N/A"}},{"$f":"'B) Daten'!C64","v":{"$error":"#N/A"}},{"$f":"'A) Daten'!K64","v":{"$error":"#N/A"}},{"$f":"'B) Daten'!K64","v":{"$error":"#N/A"}},{"$f":"'A) Daten'!L64","v":{"$error":"#N/A"}},{"$f":"'B) Daten'!L64","v":{"$error":"#N/A"}},{"$f":"'A) Daten'!J64","v":{"$error":"#N/A"}},{"$f":"'B) Daten'!J64","v":{"$error":"#N/A"}}]
[32,{"$f":"'A) Daten'!B65","v":{"$error":"#N/A"}},{"$f":"'B) Daten'!B65","v":{"$error":"#N/A"}},{"$f":"'A) Daten'!C65","v":{"$error":"#N/A"}},{"$f":"'B) Daten'!C65","v":{"$error":"#N/A"}},{"$f":"'A) Daten'!K65","v":{"$error":"#N/A"}},{"$f":"'B) Daten'!K65","v":{"$error":"#N/A"}},{"$f":"'A) Daten'!L65","v":{"$error":"#N/A"}},{"$f":"'B) Daten'!L65","v":{"$error":"#N/A"}},{"$f":"'A) Daten'!J65","v":{"$error":"#N/A"}},{"$f":"'B) Daten'!J65","v":{"$error":"#N/A"}}]
[33,{"$f":"'A) Daten'!B66","v":{"$error":"#N/A"}},{"$f":"'B) Daten'!B66","v":{"$error":"#N/A"}},{"$f":"'A) Daten'!C66","v":{"$error":"#N/A"}},{"$f":"'B) Daten'!C66","v":{"$error":"#N/A"}},{"$f":"'A) Daten'!K66","v":{"$error":"#N/A"}},{"$f":"'B) Daten'!K66","v":{"$error":"#N/A"}},{"$f":"'A) Daten'!L66","v":{"$error":"#N/A"}},{"$f":"'B) Daten'!L66","v":{"$error":"#N/A"}},{"$f":"'A) Daten'!J66","v":{"$error":"#N/A"}},{"$f":"'B) Daten'!J66","v":{"$error":"#N/A"}}]
[34,{"$f":"'A) Daten'!B67","v":{"$error":"#N/A"}},{"$f":"'B) Daten'!B67","v":{"$error":"#N/A"}},{"$f":"'A) Daten'!C67","v":{"$error":"#N/A"}},{"$f":"'B) Daten'!C67","v":{"$error":"#N/A"}},{"$f":"'A) Daten'!K67","v":{"$error":"#N/A"}},{"$f":"'B) Daten'!K67","v":{"$error":"#N/A"}},{"$f":"'A) Daten'!L67","v":{"$error":"#N/A"}},{"$f":"'B) Daten'!L67","v":{"$error":"#N/A"}},{"$f":"'A) Daten'!J67","v":{"$error":"#N/A"}},{"$f":"'B) Daten'!J67","v":{"$error":"#N/A"}}]
[35,{"$f":"'A) Daten'!B68","v":{"$error":"#N/A"}},{"$f":"'B) Daten'!B68","v":{"$error":"#N/A"}},{"$f":"'A) Daten'!C68","v":{"$error":"#N/A"}},{"$f":"'B) Daten'!C68","v":{"$error":"#N/A"}},{"$f":"'A) Daten'!K68","v":{"$error":"#N/A"}},{"$f":"'B) Daten'!K68","v":{"$error":"#N/A"}},{"$f":"'A) Daten'!L68","v":{"$error":"#N/A"}},{"$f":"'B) Daten'!L68","v":{"$error":"#N/A"}},{"$f":"'A) Daten'!J68","v":{"$error":"#N/A"}},{"$f":"'B) Daten'!J68","v":{"$error":"#N/A"}}]
[36,{"$f":"'A) Daten'!B69","v":{"$error":"#N/A"}},{"$f":"'B) Daten'!B69","v":{"$error":"#N/A"}},{"$f":"'A) Daten'!C69","v":{"$error":"#N/A"}},{"$f":"'B) Daten'!C69","v":{"$error":"#N/A"}},{"$f":"'A) Daten'!K69","v":{"$error":"#N/A"}},{"$f":"'B) Daten'!K69","v":{"$error":"#N/A"}},{"$f":"'A) Daten'!L69","v":{"$error":"#N/A"}},{"$f":"'B) Daten'!L69","v":{"$error":"#N/A"}},{"$f":"'A) Daten'!J69","v":{"$error":"#N/A"}},{"$f":"'B) Daten'!J69","v":{"$error":"#N/A"}}]
[37,{"$f":"'A) Daten'!B70","v":{"$error":"#N/A"}},{"$f":"'B) Daten'!B70","v":{"$error":"#N/A"}},{"$f":"'A) Daten'!C70","v":{"$error":"#N/A"}},{"$f":"'B) Daten'!C70","v":{"$error":"#N/A"}},{"$f":"'A) Daten'!K70","v":{"$error":"#N/A"}},{"$f":"'B) Daten'!K70","v":{"$error":"#N/A"}},{"$f":"'A) Daten'!L70","v":{"$error":"#N/A"}},{"$f":"'B) Daten'!L70","v":{"$error":"#N/A"}},{"$f":"'A) Daten'!J70","v":{"$error":"#N/A"}},{"$f":"'B) Daten'!J70","v":{"$error":"#N/A"}}]
[38,{"$f":"'A) Daten'!B71","v":{"$error":"#N/A"}},{"$f":"'B) Daten'!B71","v":{"$error":"#N/A"}},{"$f":"'A) Daten'!C71","v":{"$error":"#N/A"}},{"$f":"'B) Daten'!C71","v":{"$error":"#N/A"}},{"$f":"'A) Daten'!K71","v":{"$error":"#N/A"}},{"$f":"'B) Daten'!K71","v":{"$error":"#N/A"}},{"$f":"'A) Daten'!L71","v":{"$error":"#N/A"}},{"$f":"'B) Daten'!L71","v":{"$error":"#N/A"}},{"$f":"'A) Daten'!J71","v":{"$error":"#N/A"}},{"$f":"'B) Daten'!J71","v":{"$error":"#N/A"}}]
[39,{"$f":"'A) Daten'!B72","v":{"$error":"#N/A"}},{"$f":"'B) Daten'!B72","v":{"$error":"#N/A"}},{"$f":"'A) Daten'!C72","v":{"$error":"#N/A"}},{"$f":"'B) Daten'!C72","v":{"$error":"#N/A"}},{"$f":"'A) Daten'!K72","v":{"$error":"#N/A"}},{"$f":"'B) Daten'!K72","v":{"$error":"#N/A"}},{"$f":"'A) Daten'!L72","v":{"$error":"#N/A"}},{"$f":"'B) Daten'!L72","v":{"$error":"#N/A"}},{"$f":"'A) Daten'!J72","v":{"$error":"#N/A"}},{"$f":"'B) Daten'!J72","v":{"$error":"#N/A"}}]
[40,{"$f":"'A) Daten'!B73","v":{"$error":"#N/A"}},{"$f":"'B) Daten'!B73","v":{"$error":"#N/A"}},{"$f":"'A) Daten'!C73","v":{"$error":"#N/A"}},{"$f":"'B) Daten'!C73","v":{"$error":"#N/A"}},{"$f":"'A) Daten'!K73","v":{"$error":"#N/A"}},{"$f":"'B) Daten'!K73","v":{"$error":"#N/A"}},{"$f":"'A) Daten'!L73","v":{"$error":"#N/A"}},{"$f":"'B) Daten'!L73","v":{"$error":"#N/A"}},{"$f":"'A) Daten'!J73","v":{"$error":"#N/A"}},{"$f":"'B) Daten'!J73","v":{"$error":"#N/A"}}]
[41,{"$f":"'A) Daten'!B74","v":{"$error":"#N/A"}},{"$f":"'B) Daten'!B74","v":{"$error":"#N/A"}},{"$f":"'A) Daten'!C74","v":{"$error":"#N/A"}},{"$f":"'B) Daten'!C74","v":{"$error":"#N/A"}},{"$f":"'A) Daten'!K74","v":{"$error":"#N/A"}},{"$f":"'B) Daten'!K74","v":{"$error":"#N/A"}},{"$f":"'A) Daten'!L74","v":{"$error":"#N/A"}},{"$f":"'B) Daten'!L74","v":{"$error":"#N/A"}},{"$f":"'A) Daten'!J74","v":{"$error":"#N/A"}},{"$f":"'B) Daten'!J74","v":{"$error":"#N/A"}}]
[42,{"$f":"'A) Daten'!B75","v":{"$error":"#N/A"}},{"$f":"'B) Daten'!B75","v":{"$error":"#N/A"}},{"$f":"'A) Daten'!C75","v":{"$error":"#N/A"}},{"$f":"'B) Daten'!C75","v":{"$error":"#N/A"}},{"$f":"'A) Daten'!K75","v":{"$error":"#N/A"}},{"$f":"'B) Daten'!K75","v":{"$error":"#N/A"}},{"$f":"'A) Daten'!L75","v":{"$error":"#N/A"}},{"$f":"'B) Daten'!L75","v":{"$error":"#N/A"}},{"$f":"'A) Daten'!J75","v":{"$error":"#N/A"}},{"$f":"'B) Daten'!J75","v":{"$error":"#N/A"}}]
[43,{"$f":"'A) Daten'!B76","v":{"$error":"#N/A"}},{"$f":"'B) Daten'!B76","v":{"$error":"#N/A"}},{"$f":"'A) Daten'!C76","v":{"$error":"#N/A"}},{"$f":"'B) Daten'!C76","v":{"$error":"#N/A"}},{"$f":"'A) Daten'!K76","v":{"$error":"#N/A"}},{"$f":"'B) Daten'!K76","v":{"$error":"#N/A"}},{"$f":"'A) Daten'!L76","v":{"$error":"#N/A"}},{"$f":"'B) Daten'!L76","v":{"$error":"#N/A"}},{"$f":"'A) Daten'!J76","v":{"$error":"#N/A"}},{"$f":"'B) Daten'!J76","v":{"$error":"#N/A"}}]
[44,{"$f":"'A) Daten'!B77","v":{"$error":"#N/A"}},{"$f":"'B) Daten'!B77","v":{"$error":"#N/A"}},{"$f":"'A) Daten'!C77","v":{"$error":"#N/A"}},{"$f":"'B) Daten'!C77","v":{"$error":"#N/A"}},{"$f":"'A) Daten'!K77","v":{"$error":"#N/A"}},{"$f":"'B) Daten'!K77","v":{"$error":"#N/A"}},{"$f":"'A) Daten'!L77","v":{"$error":"#N/A"}},{"$f":"'B) Daten'!L77","v":{"$error":"#N/A"}},{"$f":"'A) Daten'!J77","v":{"$error":"#N/A"}},{"$f":"'B) Daten'!J77","v":{"$error":"#N/A"}}]
[45,{"$f":"'A) Daten'!B78","v":{"$error":"#N/A"}},{"$f":"'B) Daten'!B78","v":{"$error":"#N/A"}},{"$f":"'A) Daten'!C78","v":{"$error":"#N/A"}},{"$f":"'B) Daten'!C78","v":{"$error":"#N/A"}},{"$f":"'A) Daten'!K78","v":{"$error":"#N/A"}},{"$f":"'B) Daten'!K78","v":{"$error":"#N/A"}},{"$f":"'A) Daten'!L78","v":{"$error":"#N/A"}},{"$f":"'B) Daten'!L78","v":{"$error":"#N/A"}},{"$f":"'A) Daten'!J78","v":{"$error":"#N/A"}},{"$f":"'B) Daten'!J78","v":{"$error":"#N/A"}}]
[46,{"$f":"'A) Daten'!B79","v":{"$error":"#N/A"}},{"$f":"'B) Daten'!B79","v":{"$error":"#N/A"}},{"$f":"'A) Daten'!C79","v":{"$error":"#N/A"}},{"$f":"'B) Daten'!C79","v":{"$error":"#N/A"}},{"$f":"'A) Daten'!K79","v":{"$error":"#N/A"}},{"$f":"'B) Daten'!K79","v":{"$error":"#N/A"}},{"$f":"'A) Daten'!L79","v":{"$error":"#N/A"}},{"$f":"'B) Daten'!L79","v":{"$error":"#N/A"}},{"$f":"'A) Daten'!J79","v":{"$error":"#N/A"}},{"$f":"'B) Daten'!J79","v":{"$error":"#N/A"}}]
[47,{"$f":"'A) Daten'!B80","v":{"$error":"#N/A"}},{"$f":"'B) Daten'!B80","v":{"$error":"#N/A"}},{"$f":"'A) Daten'!C80","v":{"$error":"#N/A"}},{"$f":"'B) Daten'!C80","v":{"$error":"#N/A"}},{"$f":"'A) Daten'!K80","v":{"$error":"#N/A"}},{"$f":"'B) Daten'!K80","v":{"$error":"#N/A"}},{"$f":"'A) Daten'!L80","v":{"$error":"#N/A"}},{"$f":"'B) Daten'!L80","v":{"$error":"#N/A"}},{"$f":"'A) Daten'!J80","v":{"$error":"#N/A"}},{"$f":"'B) Daten'!J80","v":{"$error":"#N/A"}}]
[48,{"$f":"'A) Daten'!B81","v":{"$error":"#N/A"}},{"$f":"'B) Daten'!B81","v":{"$error":"#N/A"}},{"$f":"'A) Daten'!C81","v":{"$error":"#N/A"}},{"$f":"'B) Daten'!C81","v":{"$error":"#N/A"}},{"$f":"'A) Daten'!K81","v":{"$error":"#N/A"}},{"$f":"'B) Daten'!K81","v":{"$error":"#N/A"}},{"$f":"'A) Daten'!L81","v":{"$error":"#N/A"}},{"$f":"'B) Daten'!L81","v":{"$error":"#N/A"}},{"$f":"'A) Daten'!J81","v":{"$error":"#N/A"}},{"$f":"'B) Daten'!J81","v":{"$error":"#N/A"}}]
[49,{"$f":"'A) Daten'!B82","v":{"$error":"#N/A"}},{"$f":"'B) Daten'!B82","v":{"$error":"#N/A"}},{"$f":"'A) Daten'!C82","v":{"$error":"#N/A"}},{"$f":"'B) Daten'!C82","v":{"$error":"#N/A"}},{"$f":"'A) Daten'!K82","v":{"$error":"#N/A"}},{"$f":"'B) Daten'!K82","v":{"$error":"#N/A"}},{"$f":"'A) Daten'!L82","v":{"$error":"#N/A"}},{"$f":"'B) Daten'!L82","v":{"$error":"#N/A"}},{"$f":"'A) Daten'!J82","v":{"$error":"#N/A"}},{"$f":"'B) Daten'!J82","v":{"$error":"#N/A"}}]
[50,{"$f":"'A) Daten'!B83","v":{"$error":"#N/A"}},{"$f":"'B) Daten'!B83","v":{"$error":"#N/A"}},{"$f":"'A) Daten'!C83","v":{"$error":"#N/A"}},{"$f":"'B) Daten'!C83","v":{"$error":"#N/A"}},{"$f":"'A) Daten'!K83","v":{"$error":"#N/A"}},{"$f":"'B) Daten'!K83","v":{"$error":"#N/A"}},{"$f":"'A) Daten'!L83","v":{"$error":"#N/A"}},{"$f":"'B) Daten'!L83","v":{"$error":"#N/A"}},{"$f":"'A) Daten'!J83","v":{"$error":"#N/A"}},{"$f":"'B) Daten'!J83","v":{"$error":"#N/A"}}]
[51,{"$f":"'A) Daten'!B84","v":{"$error":"#N/A"}},{"$f":"'B) Daten'!B84","v":{"$error":"#N/A"}},{"$f":"'A) Daten'!C84","v":{"$error":"#N/A"}},{"$f":"'B) Daten'!C84","v":{"$error":"#N/A"}},{"$f":"'A) Daten'!K84","v":{"$error":"#N/A"}},{"$f":"'B) Daten'!K84","v":{"$error":"#N/A"}},{"$f":"'A) Daten'!L84","v":{"$error":"#N/A"}},{"$f":"'B) Daten'!L84","v":{"$error":"#N/A"}},{"$f":"'A) Daten'!J84","v":{"$error":"#N/A"}},{"$f":"'B) Daten'!J84","v":{"$error":"#N/A"}}]
[52,{"$f":"'A) Daten'!B85","v":{"$error":"#N/A"}},{"$f":"'B) Daten'!B85","v":{"$error":"#N/A"}},{"$f":"'A) Daten'!C85","v":{"$error":"#N/A"}},{"$f":"'B) Daten'!C85","v":{"$error":"#N/A"}},{"$f":"'A) Daten'!K85","v":{"$error":"#N/A"}},{"$f":"'B) Daten'!K85","v":{"$error":"#N/A"}},{"$f":"'A) Daten'!L85","v":{"$error":"#N/A"}},{"$f":"'B) Daten'!L85","v":{"$error":"#N/A"}},{"$f":"'A) Daten'!J85","v":{"$error":"#N/A"}},{"$f":"'B) Daten'!J85","v":{"$error":"#N/A"}}]
[53,{"$f":"'A) Daten'!B86","v":{"$error":"#N/A"}},{"$f":"'B) Daten'!B86","v":{"$error":"#N/A"}},{"$f":"'A) Daten'!C86","v":{"$error":"#N/A"}},{"$f":"'B) Daten'!C86","v":{"$error":"#N/A"}},{"$f":"'A) Daten'!K86","v":{"$error":"#N/A"}},{"$f":"'B) Daten'!K86","v":{"$error":"#N/A"}},{"$f":"'A) Daten'!L86","v":{"$error":"#N/A"}},{"$f":"'B) Daten'!L86","v":{"$error":"#N/A"}},{"$f":"'A) Daten'!J86","v":{"$error":"#N/A"}},{"$f":"'B) Daten'!J86","v":{"$error":"#N/A"}}]
[54,{"$f":"'A) Daten'!B87","v":{"$error":"#N/A"}},{"$f":"'B) Daten'!B87","v":{"$error":"#N/A"}},{"$f":"'A) Daten'!C87","v":{"$error":"#N/A"}},{"$f":"'B) Daten'!C87","v":{"$error":"#N/A"}},{"$f":"'A) Daten'!K87","v":{"$error":"#N/A"}},{"$f":"'B) Daten'!K87","v":{"$error":"#N/A"}},{"$f":"'A) Daten'!L87","v":{"$error":"#N/A"}},{"$f":"'B) Daten'!L87","v":{"$error":"#N/A"}},{"$f":"'A) Daten'!J87","v":{"$error":"#N/A"}},{"$f":"'B) Daten'!J87","v":{"$error":"#N/A"}}]
[55,{"$f":"'A) Daten'!B88","v":{"$error":"#N/A"}},{"$f":"'B) Daten'!B88","v":{"$error":"#N/A"}},{"$f":"'A) Daten'!C88","v":{"$error":"#N/A"}},{"$f":"'B) Daten'!C88","v":{"$error":"#N/A"}},{"$f":"'A) Daten'!K88","v":{"$error":"#N/A"}},{"$f":"'B) Daten'!K88","v":{"$error":"#N/A"}},{"$f":"'A) Daten'!L88","v":{"$error":"#N/A"}},{"$f":"'B) Daten'!L88","v":{"$error":"#N/A"}},{"$f":"'A) Daten'!J88","v":{"$error":"#N/A"}},{"$f":"'B) Daten'!J88","v":{"$error":"#N/A"}}]
[56,{"$f":"'A) Daten'!B89","v":{"$error":"#N/A"}},{"$f":"'B) Daten'!B89","v":{"$error":"#N/A"}},{"$f":"'A) Daten'!C89","v":{"$error":"#N/A"}},{"$f":"'B) Daten'!C89","v":{"$error":"#N/A"}},{"$f":"'A) Daten'!K89","v":{"$error":"#N/A"}},{"$f":"'B) Daten'!K89","v":{"$error":"#N/A"}},{"$f":"'A) Daten'!L89","v":{"$error":"#N/A"}},{"$f":"'B) Daten'!L89","v":{"$error":"#N/A"}},{"$f":"'A) Daten'!J89","v":{"$error":"#N/A"}},{"$f":"'B) Daten'!J89","v":{"$error":"#N/A"}}]
[57,{"$f":"'A) Daten'!B90","v":{"$error":"#N/A"}},{"$f":"'B) Daten'!B90","v":{"$error":"#N/A"}},{"$f":"'A) Daten'!C90","v":{"$error":"#N/A"}},{"$f":"'B) Daten'!C90","v":{"$error":"#N/A"}},{"$f":"'A) Daten'!K90","v":{"$error":"#N/A"}},{"$f":"'B) Daten'!K90","v":{"$error":"#N/A"}},{"$f":"'A) Daten'!L90","v":{"$error":"#N/A"}},{"$f":"'B) Daten'!L90","v":{"$error":"#N/A"}},{"$f":"'A) Daten'!J90","v":{"$error":"#N/A"}},{"$f":"'B) Daten'!J90","v":{"$error":"#N/A"}}]
[58,{"$f":"'A) Daten'!B91","v":{"$error":"#N/A"}},{"$f":"'B) Daten'!B91","v":{"$error":"#N/A"}},{"$f":"'A) Daten'!C91","v":{"$error":"#N/A"}},{"$f":"'B) Daten'!C91","v":{"$error":"#N/A"}},{"$f":"'A) Daten'!K91","v":{"$error":"#N/A"}},{"$f":"'B) Daten'!K91","v":{"$error":"#N/A"}},{"$f":"'A) Daten'!L91","v":{"$error":"#N/A"}},{"$f":"'B) Daten'!L91","v":{"$error":"#N/A"}},{"$f":"'A) Daten'!J91","v":{"$error":"#N/A"}},{"$f":"'B) Daten'!J91","v":{"$error":"#N/A"}}]
[59,{"$f":"'A) Daten'!B92","v":{"$error":"#N/A"}},{"$f":"'B) Daten'!B92","v":{"$error":"#N/A"}},{"$f":"'A) Daten'!C92","v":{"$error":"#N/A"}},{"$f":"'B) Daten'!C92","v":{"$error":"#N/A"}},{"$f":"'A) Daten'!K92","v":{"$error":"#N/A"}},{"$f":"'B) Daten'!K92","v":{"$error":"#N/A"}},{"$f":"'A) Daten'!L92","v":{"$error":"#N/A"}},{"$f":"'B) Daten'!L92","v":{"$error":"#N/A"}},{"$f":"'A) Daten'!J92","v":{"$error":"#N/A"}},{"$f":"'B) Daten'!J92","v":{"$error":"#N/A"}}]
[60,{"$f":"'A) Daten'!B93","v":{"$error":"#N/A"}},{"$f":"'B) Daten'!B93","v":{"$error":"#N/A"}},{"$f":"'A) Daten'!C93","v":{"$error":"#N/A"}},{"$f":"'B) Daten'!C93","v":{"$error":"#N/A"}},{"$f":"'A) Daten'!K93","v":{"$error":"#N/A"}},{"$f":"'B) Daten'!K93","v":{"$error":"#N/A"}},{"$f":"'A) Daten'!L93","v":{"$error":"#N/A"}},{"$f":"'B) Daten'!L93","v":{"$error":"#N/A"}},{"$f":"'A) Daten'!J93","v":{"$error":"#N/A"}},{"$f":"'B) Daten'!J93","v":{"$error":"#N/A"}}]
[]
[]
["Abgleich Tendenzen"]
["Urteilstendenz"]
["Zeitpunkt 1",null,"Zeitpunkt 2",null,"AB"]
["ID1","Wert1","ID2","Wert2","ID1","Wert2"]
[{"$f":"'A) Daten'!C97","v":0},{"$f":"'A) Daten'!D159","v":{"$error":"#N/A"}},{"$f":"'B) Daten'!C97","v":"Kollege2"},{"$f":"'B) Daten'!D159","v":2.5},{"$f":"A101","v":0},{"$f":"VLOOKUP(E101,C101:D161,2,FALSE)","v":{"$error":"#N/A"}}]
[{"$f":"'A) Daten'!C98","v":0},{"$f":"'A) Daten'!D160","v":{"$error":"#N/A"}},{"$f":"'B) Daten'!C98","v":"Kollege1"},{"$f":"'B) Daten'!D160","v":2.75},{"$f":"A102","v":0},{"$f":"VLOOKUP(E102,C101:D161,2,FALSE)","v":{"$error":"#N/A"}}]
[{"$f":"'A) Daten'!C99","v":0},{"$f":"'A) Daten'!D161","v":{"$error":"#N/A"}},{"$f":"'B) Daten'!C99","v":"Lehrer"},{"$f":"'B) Daten'!D161","v":3.75},0,{"$f":"VLOOKUP(E103,C101:D161,2,FALSE)","v":{"$error":"#N/A"}}]
[{"$f":"'A) Daten'!C100","v":0},{"$f":"'A) Daten'!D162","v":{"$error":"#N/A"}},{"$f":"'B) Daten'!C100","v":""},{"$f":"'B) Daten'!D162","v":{"$error":"#N/A"}},0,{"$f":"VLOOKUP(E104,C101:D161,2,FALSE)","v":{"$error":"#N/A"}}]
[{"$f":"'A) Daten'!C101","v":0},{"$f":"'A) Daten'!D163","v":{"$error":"#N/A"}},{"$f":"'B) Daten'!C101","v":""},{"$f":"'B) Daten'!D163","v":{"$error":"#N/A"}},0,{"$f":"VLOOKUP(E105,C101:D161,2,FALSE)","v":{"$error":"#N/A"}}]
[{"$f":"'A) Daten'!C102","v":0},{"$f":"'A) Daten'!D164","v":{"$error":"#N/A"}},{"$f":"'B) Daten'!C102","v":""},{"$f":"'B) Daten'!D164","v":{"$error":"#N/A"}},0,{"$f":"VLOOKUP(E106,C101:D161,2,FALSE)","v":{"$error":"#N/A"}}]
[{"$f":"'A) Daten'!C103","v":0},{"$f":"'A) Daten'!D165","v":{"$error":"#N/A"}},{"$f":"'B) Daten'!C103","v":""},{"$f":"'B) Daten'!D165","v":{"$error":"#N/A"}},0,{"$f":"VLOOKUP(E107,C101:D161,2,FALSE)","v":{"$error":"#N/A"}}]
[{"$f":"'A) Daten'!C104","v":0},{"$f":"'A) Daten'!D166","v":{"$error":"#N/A"}},{"$f":"'B) Daten'!C104","v":""},{"$f":"'B) Daten'!D166","v":{"$error":"#N/A"}},0,{"$f":"VLOOKUP(E108,C101:D161,2,FALSE)","v":{"$error":"#N/A"}}]
[{"$f":"'A) Daten'!C105","v":0},{"$f":"'A) Daten'!D167","v":{"$error":"#N/A"}},{"$f":"'B) Daten'!C105","v":""},{"$f":"'B) Daten'!D167","v":{"$error":"#N/A"}},0,{"$f":"VLOOKUP(E109,C101:D161,2,FALSE)","v":{"$error":"#N/A"}}]
[{"$f":"'A) Daten'!C106","v":0},{"$f":"'A) Daten'!D168","v":{"$error":"#N/A"}},{"$f":"'B) Daten'!C106","v":""},{"$f":"'B) Daten'!D168","v":{"$error":"#N/A"}},0,{"$f":"VLOOKUP(E110,C101:D161,2,FALSE)","v":{"$error":"#N/A"}}]
[{"$f":"'A) Daten'!C107","v":0},{"$f":"'A) Daten'!D169","v":{"$error":"#N/A"}},{"$f":"'B) Daten'!C107","v":""},{"$f":"'B) Daten'!D169","v":{"$error":"#N/A"}},0,{"$f":"VLOOKUP(E111,C101:D161,2,FALSE)","v":{"$error":"#N/A"}}]
[{"$f":"'A) Daten'!C108","v":0},{"$f":"'A) Daten'!D170","v":{"$error":"#N/A"}},{"$f":"'B) Daten'!C108","v":""},{"$f":"'B) Daten'!D170","v":{"$error":"#N/A"}},0,{"$f":"VLOOKUP(E112,C101:D161,2,FALSE)","v":{"$error":"#N/A"}}]
[{"$f":"'A) Daten'!C109","v":0},{"$f":"'A) Daten'!D171","v":{"$error":"#N/A"}},{"$f":"'B) Daten'!C109","v":""},{"$f":"'B) Daten'!D171","v":{"$error":"#N/A"}},0,{"$f":"VLOOKUP(E113,C101:D161,2,FALSE)","v":{"$error":"#N/A"}}]
[{"$f":"'A) Daten'!C110","v":0},{"$f":"'A) Daten'!D172","v":{"$error":"#N/A"}},{"$f":"'B) Daten'!C110","v":""},{"$f":"'B) Daten'!D172","v":{"$error":"#N/A"}},0,{"$f":"VLOOKUP(E114,C101:D161,2,FALSE)","v":{"$error":"#N/A"}}]
[{"$f":"'A) Daten'!C111","v":0},{"$f":"'A) Daten'!D173","v":{"$error":"#N/A"}},{"$f":"'B) Daten'!C111","v":""},{"$f":"'B) Daten'!D173","v":{"$error":"#N/A"}},0,{"$f":"VLOOKUP(E115,C101:D161,2,FALSE)","v":{"$error":"#N/A"}}]
[{"$f":"'A) Daten'!C112","v":0},{"$f":"'A) Daten'!D174","v":{"$error":"#N/A"}},{"$f":"'B) Daten'!C112","v":""},{"$f":"'B) Daten'!D174","v":{"$error":"#N/A"}},0,{"$f":"VLOOKUP(E116,C101:D161,2,FALSE)","v":{"$error":"#N/A"}}]
[{"$f":"'A) Daten'!C113","v":0},{"$f":"'A) Daten'!D175","v":{"$error":"#N/A"}},{"$f":"'B) Daten'!C113","v":""},{"$f":"'B) Daten'!D175","v":{"$error":"#N/A"}},0,{"$f":"VLOOKUP(E117,C101:D161,2,FALSE)","v":{"$error":"#N/A"}}]
[{"$f":"'A) Daten'!C114","v":0},{"$f":"'A) Daten'!D176","v":{"$error":"#N/A"}},{"$f":"'B) Daten'!C114","v":""},{"$f":"'B) Daten'!D176","v":{"$error":"#N/A"}},0,{"$f":"VLOOKUP(E118,C101:D161,2,FALSE)","v":{"$error":"#N/A"}}]
[{"$f":"'A) Daten'!C115","v":0},{"$f":"'A) Daten'!D177","v":{"$error":"#N/A"}},{"$f":"'B) Daten'!C115","v":""},{"$f":"'B) Daten'!D177","v":{"$error":"#N/A"}},0,{"$f":"VLOOKUP(E119,C101:D161,2,FALSE)","v":{"$error":"#N/A"}}]
[{"$f":"'A) Daten'!C116","v":0},{"$f":"'A) Daten'!D178","v":{"$error":"#N/A"}},{"$f":"'B) Daten'!C116","v":""},{"$f":"'B) Daten'!D178","v":{"$error":"#N/A"}},0,{"$f":"VLOOKUP(E120,C101:D161,2,FALSE)","v":{"$error":"#N/A"}}]
[{"$f":"'A) Daten'!C117","v":0},{"$f":"'A) Daten'!D179","v":{"$error":"#N/A"}},{"$f":"'B) Daten'!C117","v":""},{"$f":"'B) Daten'!D179","v":{"$error":"#N/A"}},0,{"$f":"VLOOKUP(E121,C101:D161,2,FALSE)","v":{"$error":"#N/A"}}]
[{"$f":"'A) Daten'!C118","v":0},{"$f":"'A) Daten'!D180","v":{"$error":"#N/A"}},{"$f":"'B) Daten'!C118","v":""},{"$f":"'B) Daten'!D180","v":{"$error":"#N/A"}},0,{"$f":"VLOOKUP(E122,C101:D161,2,FALSE)","v":{"$error":"#N/A"}}]
[{"$f":"'A) Daten'!C119","v":0},{"$f":"'A) Daten'!D181","v":{"$error":"#N/A"}},{"$f":"'B) Daten'!C119","v":""},{"$f":"'B) Daten'!D181","v":{"$error":"#N/A"}},0,{"$f":"VLOOKUP(E123,C101:D161,2,FALSE)","v":{"$error":"#N/A"}}]
[{"$f":"'A) Daten'!C120","v":0},{"$f":"'A) Daten'!D182","v":{"$error":"#N/A"}},{"$f":"'B) Daten'!C120","v":""},{"$f":"'B) Daten'!D182","v":{"$error":"#N/A"}},0,{"$f":"VLOOKUP(E124,C101:D161,2,FALSE)","v":{"$error":"#N/A"}}]
[{"$f":"'A) Daten'!C121","v":0},{"$f":"'A) Daten'!D183","v":{"$error":"#N/A"}},{"$f":"'B) Daten'!C121","v":""},{"$f":"'B) Daten'!D183","v":{"$error":"#N/A"}},0,{"$f":"VLOOKUP(E125,C101:D161,2,FALSE)","v":{"$error":"#N/A"}}]
[{"$f":"'A) Daten'!C122","v":0},{"$f":"'A) Daten'!D184","v":{"$error":"#N/A"}},{"$f":"'B) Daten'!C122","v":""},{"$f":"'B) Daten'!D184","v":{"$error":"#N/A"}},0,{"$f":"VLOOKUP(E126,C101:D161,2,FALSE)","v":{"$error":"#N/A"}}]
[{"$f":"'A) Daten'!C123","v":0},{"$f":"'A) Daten'!D185","v":{"$error":"#N/A"}},{"$f":"'B) Daten'!C123","v":""},{"$f":"'B) Daten'!D185","v":{"$error":"#N/A"}},0,{"$f":"VLOOKUP(E127,C101:D161,2,FALSE)","v":{"$error":"#N/A"}}]
[{"$f":"'A) Daten'!C124","v":0},{"$f":"'A) Daten'!D186","v":{"$error":"#N/A"}},{"$f":"'B) Daten'!C124","v":""},{"$f":"'B) Daten'!D186","v":{"$error":"#N/A"}},0,{"$f":"VLOOKUP(E128,C101:D161,2,FALSE)","v":{"$error":"#N/A"}}]
[{"$f":"'A) Daten'!C125","v":0},{"$f":"'A) Daten'!D187","v":{"$error":"#N/A"}},{"$f":"'B) Daten'!C125","v":""},{"$f":"'B) Daten'!D187","v":{"$error":"#N/A"}},0,{"$f":"VLOOKUP(E129,C101:D161,2,FALSE)","v":{"$error":"#N/A"}}]
[{"$f":"'A) Daten'!C126","v":0},{"$f":"'A) Daten'!D188","v":{"$error":"#N/A"}},{"$f":"'B) Daten'!C126","v":""},{"$f":"'B) Daten'!D188","v":{"$error":"#N/A"}},0,{"$f":"VLOOKUP(E130,C101:D161,2,FALSE)","v":{"$error":"#N/A"}}]
[{"$f":"'A) Daten'!C127","v":0},{"$f":"'A) Daten'!D189","v":{"$error":"#N/A"}},{"$f":"'B) Daten'!C127","v":""},{"$f":"'B) Daten'!D189","v":{"$error":"#N/A"}},0,{"$f":"VLOOKUP(E131,C101:D161,2,FALSE)","v":{"$error":"#N/A"}}]
[{"$f":"'A) Daten'!C128","v":0},{"$f":"'A) Daten'!D190","v":{"$error":"#N/A"}},{"$f":"'B) Daten'!C128","v":""},{"$f":"'B) Daten'!D190","v":{"$error":"#N/A"}},0,{"$f":"VLOOKUP(E132,C101:D161,2,FALSE)","v":{"$error":"#N/A"}}]
[{"$f":"'A) Daten'!C129","v":0},{"$f":"'A) Daten'!D191","v":{"$error":"#N/A"}},{"$f":"'B) Daten'!C129","v":""},{"$f":"'B) Daten'!D191","v":{"$error":"#N/A"}},0,{"$f":"VLOOKUP(E133,C101:D161,2,FALSE)","v":{"$error":"#N/A"}}]
[{"$f":"'A) Daten'!C130","v":0},{"$f":"'A) Daten'!D192","v":{"$error":"#N/A"}},{"$f":"'B) Daten'!C130","v":""},{"$f":"'B) Daten'!D192","v":{"$error":"#N/A"}},0,{"$f":"VLOOKUP(E134,C101:D161,2,FALSE)","v":{"$error":"#N/A"}}]
[{"$f":"'A) Daten'!C131","v":0},{"$f":"'A) Daten'!D193","v":{"$error":"#N/A"}},{"$f":"'B) Daten'!C131","v":""},{"$f":"'B) Daten'!D193","v":{"$error":"#N/A"}},0,{"$f":"VLOOKUP(E135,C101:D161,2,FALSE)","v":{"$error":"#N/A"}}]
[{"$f":"'A) Daten'!C132","v":0},{"$f":"'A) Daten'!D194","v":{"$error":"#N/A"}},{"$f":"'B) Daten'!C132","v":""},{"$f":"'B) Daten'!D194","v":{"$error":"#N/A"}},0,{"$f":"VLOOKUP(E136,C101:D161,2,FALSE)","v":{"$error":"#N/A"}}]
[{"$f":"'A) Daten'!C133","v":0},{"$f":"'A) Daten'!D195","v":{"$error":"#N/A"}},{"$f":"'B) Daten'!C133","v":""},{"$f":"'B) Daten'!D195","v":{"$error":"#N/A"}},0,{"$f":"VLOOKUP(E137,C101:D161,2,FALSE)","v":{"$error":"#N/A"}}]
[{"$f":"'A) Daten'!C134","v":0},{"$f":"'A) Daten'!D196","v":{"$error":"#N/A"}},{"$f":"'B) Daten'!C134","v":""},{"$f":"'B) Daten'!D196","v":{"$error":"#N/A"}},0,{"$f":"VLOOKUP(E138,C101:D161,2,FALSE)","v":{"$error":"#N/A"}}]
[{"$f":"'A) Daten'!C135","v":0},{"$f":"'A) Daten'!D197","v":{"$error":"#N/A"}},{"$f":"'B) Daten'!C135","v":""},{"$f":"'B) Daten'!D197","v":{"$error":"#N/A"}},0,{"$f":"VLOOKUP(E139,C101:D161,2,FALSE)","v":{"$error":"#N/A"}}]
[{"$f":"'A) Daten'!C136","v":0},{"$f":"'A) Daten'!D198","v":{"$error":"#N/A"}},{"$f":"'B) Daten'!C136","v":""},{"$f":"'B) Daten'!D198","v":{"$error":"#N/A"}},0,{"$f":"VLOOKUP(E140,C101:D161,2,FALSE)","v":{"$error":"#N/A"}}]
[{"$f":"'A) Daten'!C137","v":0},{"$f":"'A) Daten'!D199","v":{"$error":"#N/A"}},{"$f":"'B) Daten'!C137","v":""},{"$f":"'B) Daten'!D199","v":{"$error":"#N/A"}},0,{"$f":"VLOOKUP(E141,C101:D161,2,FALSE)","v":{"$error":"#N/A"}}]
[{"$f":"'A) Daten'!C138","v":0},{"$f":"'A) Daten'!D200","v":{"$error":"#N/A"}},{"$f":"'B) Daten'!C138","v":""},{"$f":"'B) Daten'!D200","v":{"$error":"#N/A"}},0,{"$f":"VLOOKUP(E142,C101:D161,2,FALSE)","v":{"$error":"#N/A"}}]
[{"$f":"'A) Daten'!C139","v":0},{"$f":"'A) Daten'!D201","v":{"$error":"#N/A"}},{"$f":"'B) Daten'!C139","v":""},{"$f":"'B) Daten'!D201","v":{"$error":"#N/A"}},0,{"$f":"VLOOKUP(E143,C101:D161,2,FALSE)","v":{"$error":"#N/A"}}]
[{"$f":"'A) Daten'!C140","v":0},{"$f":"'A) Daten'!D202","v":{"$error":"#N/A"}},{"$f":"'B) Daten'!C140","v":""},{"$f":"'B) Daten'!D202","v":{"$error":"#N/A"}},0,{"$f":"VLOOKUP(E144,C101:D161,2,FALSE)","v":{"$error":"#N/A"}}]
[{"$f":"'A) Daten'!C141","v":0},{"$f":"'A) Daten'!D203","v":{"$error":"#N/A"}},{"$f":"'B) Daten'!C141","v":""},{"$f":"'B) Daten'!D203","v":{"$error":"#N/A"}},0,{"$f":"VLOOKUP(E145,C101:D161,2,FALSE)","v":{"$error":"#N/A"}}]
[{"$f":"'A) Daten'!C142","v":0},{"$f":"'A) Daten'!D204","v":{"$error":"#N/A"}},{"$f":"'B) Daten'!C142","v":""},{"$f":"'B) Daten'!D204","v":{"$error":"#N/A"}},0,{"$f":"VLOOKUP(E146,C101:D161,2,FALSE)","v":{"$error":"#N/A"}}]
[{"$f":"'A) Daten'!C143","v":0},{"$f":"'A) Daten'!D205","v":{"$error":"#N/A"}},{"$f":"'B) Daten'!C143","v":""},{"$f":"'B) Daten'!D205","v":{"$error":"#N/A"}},0,{"$f":"VLOOKUP(E147,C101:D161,2,FALSE)","v":{"$error":"#N/A"}}]
[{"$f":"'A) Daten'!C144","v":0},{"$f":"'A) Daten'!D206","v":{"$error":"#N/A"}},{"$f":"'B) Daten'!C144","v":""},{"$f":"'B) Daten'!D206","v":{"$error":"#N/A"}},0,{"$f":"VLOOKUP(E148,C101:D161,2,FALSE)","v":{"$error":"#N/A"}}]
[{"$f":"'A) Daten'!C145","v":0},{"$f":"'A) Daten'!D207","v":{"$error":"#N/A"}},{"$f":"'B) Daten'!C145","v":""},{"$f":"'B) Daten'!D207","v":{"$error":"#N/A"}},0,{"$f":"VLOOKUP(E149,C101:D161,2,FALSE)","v":{"$error":"#N/A"}}]
[{"$f":"'A) Daten'!C146","v":0},{"$f":"'A) Daten'!D208","v":{"$error":"#N/A"}},{"$f":"'B) Daten'!C146","v":""},{"$f":"'B) Daten'!D208","v":{"$error":"#N/A"}},0,{"$f":"VLOOKUP(E150,C101:D161,2,FALSE)","v":{"$error":"#N/A"}}]
[{"$f":"'A) Daten'!C147","v":0},{"$f":"'A) Daten'!D209","v":{"$error":"#N/A"}},{"$f":"'B) Daten'!C147","v":""},{"$f":"'B) Daten'!D209","v":{"$error":"#N/A"}},0,{"$f":"VLOOKUP(E151,C101:D161,2,FALSE)","v":{"$error":"#N/A"}}]
[{"$f":"'A) Daten'!C148","v":0},{"$f":"'A) Daten'!D210","v":{"$error":"#N/A"}},{"$f":"'B) Daten'!C148","v":""},{"$f":"'B) Daten'!D210","v":{"$error":"#N/A"}},0,{"$f":"VLOOKUP(E152,C101:D161,2,FALSE)","v":{"$error":"#N/A"}}]
[{"$f":"'A) Daten'!C149","v":0},{"$f":"'A) Daten'!D211","v":{"$error":"#N/A"}},{"$f":"'B) Daten'!C149","v":""},{"$f":"'B) Daten'!D211","v":{"$error":"#N/A"}},0,{"$f":"VLOOKUP(E153,C101:D161,2,FALSE)","v":{"$error":"#N/A"}}]
[{"$f":"'A) Daten'!C150","v":0},{"$f":"'A) Daten'!D212","v":{"$error":"#N/A"}},{"$f":"'B) Daten'!C150","v":""},{"$f":"'B) Daten'!D212","v":{"$error":"#N/A"}},0,{"$f":"VLOOKUP(E154,C101:D161,2,FALSE)","v":{"$error":"#N/A"}}]
[{"$f":"'A) Daten'!C151","v":0},{"$f":"'A) Daten'!D213","v":{"$error":"#N/A"}},{"$f":"'B) Daten'!C151","v":""},{"$f":"'B) Daten'!D213","v":{"$error":"#N/A"}},0,{"$f":"VLOOKUP(E155,C101:D161,2,FALSE)","v":{"$error":"#N/A"}}]
[{"$f":"'A) Daten'!C152","v":0},{"$f":"'A) Daten'!D214","v":{"$error":"#N/A"}},{"$f":"'B) Daten'!C152","v":""},{"$f":"'B) Daten'!D214","v":{"$error":"#N/A"}},0,{"$f":"VLOOKUP(E156,C101:D161,2,FALSE)","v":{"$error":"#N/A"}}]
[{"$f":"'A) Daten'!C153","v":0},{"$f":"'A) Daten'!D215","v":{"$error":"#N/A"}},{"$f":"'B) Daten'!C153","v":""},{"$f":"'B) Daten'!D215","v":{"$error":"#N/A"}},0,{"$f":"VLOOKUP(E157,C101:D161,2,FALSE)","v":{"$error":"#N/A"}}]
[{"$f":"'A) Daten'!C154","v":85},{"$f":"'A) Daten'!D216","v":"Koll2"},{"$f":"'B) Daten'!C154","v":""},{"$f":"'B) Daten'!D216","v":{"$error":"#N/A"}},85,{"$f":"VLOOKUP(E158,C101:D161,2,FALSE)","v":{"$error":"#N/A"}}]
[{"$f":"'A) Daten'!C155","v":85},{"$f":"'A) Daten'!D217","v":"Kollege1"},{"$f":"'B) Daten'!C155","v":""},{"$f":"'B) Daten'!D217","v":{"$error":"#N/A"}},85,{"$f":"VLOOKUP(E159,C101:D161,2,FALSE)","v":{"$error":"#N/A"}}]
[{"$f":"'A) Daten'!C156","v":85},{"$f":"'A) Daten'!D218","v":"Lehrer"},{"$f":"'B) Daten'!C156","v":""},{"$f":"'B) Daten'!D218","v":{"$error":"#N/A"}},85,{"$f":"VLOOKUP(E160,C101:D161,2,FALSE)","v":{"$error":"#N/A"}}]
[{"$f":"'A) Daten'!C157","v":""},{"$f":"'A) Daten'!D219","v":{"$error":"#N/A"}},{"$f":"'B) Daten'!C157","v":""},{"$f":"'B) Daten'!D219","v":{"$error":"#N/A"}},"",{"$f":"VLOOKUP(E161,C101:D161,2,FALSE)","v":{"$error":"#N/A"}}]

{"sheet":"AB) Alle Ergebnisse","index":20,"n_rows":39,"n_cols":11,"rows_kept":39,"cut":false,"hidden":true,"merged":[[9,5,9,6],[2,0,3,2],[18,7,18,8],[19,7,19,8],[8,7,8,8],[4,5,4,6],[5,5,5,6],[10,5,10,6],[5,7,5,8],[6,5,6,6],[7,5,7,6],[8,5,8,6],[1,0,1,6],[4,7,4,8],[7,7,7,8],[6,7,6,8],[9,7,9,8],[23,7,23,8],[24,7,24,8],[25,7,25,8],[10,7,10,8],[17,7,17,8],[21,7,21,8],[20,7,20,8],[11,7,11,8],[15,7,15,8],[14,7,14,8],[13,7,13,8],[12,7,12,8],[37,2,37,4],[38,2,38,4],[37,5,37,8],[38,5,38,8],[16,7,16,8],[29,7,29,8],[28,7,28,8],[31,7,31,8],[27,7,27,8],[32,7,32,8],[34,7,34,8],[33,7,33,8],[30,7,30,8],[26,7,26,8],[22,7,22,8]]}
[]
["Đối chiếu kết quả toàn bộ phiếu giáo viên, học sinh, đồng nghiệp trên cả hai lần điều tra"]
[]
[]
[null,"Đối chiếu giữa hai lần điều tra","Học sinh","Đồng nghiệp","Giáo viên","Đối chiếu kết quả ba loại phiếu lần 1",null,"Đối chiếu kết quả ba loại phiếu lần 2"]
[null,{"$f":"'A) Eingabe (Lehrer)'!B11","v":"Điều khiển tiến trình giờ học"}]
[{"$f":"'A) Eingabe (Lehrer)'!A12","v":1},{"$f":"'A) Eingabe (Lehrer)'!B12","v":"Giờ học được bắt đầu đúng thời gian quy định "},null,null,null,null,null,null,null,1.94,2.6]
[{"$f":"'A) Eingabe (Lehrer)'!A13","v":2},{"$f":"'A) Eingabe (Lehrer)'!B13","v":"Các quy định trong giờ học đều được các em học sinh hiểu rõ "},null,null,null,null,null,null,null,3.8,5.88]
[{"$f":"'A) Eingabe (Lehrer)'!A14","v":3},{"$f":"'A) Eingabe (Lehrer)'!B14","v":"Các em học sinh đã có thể tập trung làm việc trong suốt giờ học mà không có gì làm ảnh hưởng đến sự chú ý của các em "},null,null,null,null,null,null,null,5.52,8.84]
[{"$f":"'A) Eingabe (Lehrer)'!A15","v":4},{"$f":"'A) Eingabe (Lehrer)'!B15","v":"Trong suốt tiến trình giờ học các em học sinh luôn biết rõ các công việc mình cần phải làm  "},null,null,null,null,null,null,null,7.31,12.28]
[{"$f":"'A) Eingabe (Lehrer)'!A16","v":5},{"$f":"'A) Eingabe (Lehrer)'!B16","v":"Toàn bộ thời gian của giờ học được sử dụng cho nội dung bài học "},null,null,null,null,null,null,null,9.0399999999999991,15.64]
[null,{"$f":"'A) Eingabe (Lehrer)'!B17","v":"Bầu không khí lớp học"}]
[{"$f":"'A) Eingabe (Lehrer)'!A18","v":6},{"$f":"'A) Eingabe (Lehrer)'!B18","v":"Tất cả các ý kiến đóng góp của các em học sinh trong giờ học đều được giáo viên tôn trọng ghi nhận  "},null,null,null,null,null,null,null,1.72,1.71]
[{"$f":"'A) Eingabe (Lehrer)'!A19","v":7},{"$f":"'A) Eingabe (Lehrer)'!B19","v":"Giáo viên luôn vui vẻ với các em học sinh trong giờ học  "},null,null,null,null,null,null,null,3.26,3.32]
[{"$f":"'A) Eingabe (Lehrer)'!A20","v":8},{"$f":"'A) Eingabe (Lehrer)'!B20","v":"Khi học sinh được gọi phát biểu, giáo viên luôn dành đủ thời gian để các em diễn đạt được hết ý mình "},null,null,null,null,null,null,null,4.7300000000000004,4.8499999999999996]
[{"$f":"'A) Eingabe (Lehrer)'!A21","v":9},{"$f":"'A) Eingabe (Lehrer)'!B21","v":"Khi giáo viên đặt câu hỏi, các em học sinh luôn có đủ thời gian suy nghĩ câu trả lời "},null,null,null,null,null,null,null,6.31,6.46]
[{"$f":"'A) Eingabe (Lehrer)'!A22","v":10},{"$f":"'A) Eingabe (Lehrer)'!B22","v":"Trong giờ học giáo viên đưa ra những nhận xét vui vẻ làm cho bầu không khí học tập thoải mái, nhẹ nhàng hơn "},null,null,null,null,null,null,null,7.78,8.0299999999999994]
[{"$f":"'A) Eingabe (Lehrer)'!A23","v":11},{"$f":"'A) Eingabe (Lehrer)'!B23","v":"Sự tham gia đóng góp của các em học sinh trong giờ học được giáo viên khen ngợi đúng mức. "},null,null,null,null,null,null,null,9.2799999999999994,9.64]
[null,{"$f":"'A) Eingabe (Lehrer)'!B24","v":"Cấu trúc lô gích và tính rõ ràng của giờ học "}]
[{"$f":"'A) Eingabe (Lehrer)'!A25","v":12},{"$f":"'A) Eingabe (Lehrer)'!B25","v":"Trong giờ học giáo viên chỉ dẫn rõ ràng cho các em học sinh về những kiến thức đã học có liên quan đến bài học hôm nay "},null,null,null,null,null,null,null,2.6,1.72]
[{"$f":"'A) Eingabe (Lehrer)'!A26","v":13},{"$f":"'A) Eingabe (Lehrer)'!B26","v":"Trong giờ học có các ví dụ cụ thể minh họa cho nội dung bài học "},null,null,null,null,null,null,null,5.88,3.26]
[{"$f":"'A) Eingabe (Lehrer)'!A27","v":14},{"$f":"'A) Eingabe (Lehrer)'!B27","v":"Những nội dung quan trọng nhất của bài học được hệ thống hóa lại  trong giờ học "},null,null,null,null,null,null,null,8.84,4.7300000000000004]
[{"$f":"'A) Eingabe (Lehrer)'!A28","v":15},{"$f":"'A) Eingabe (Lehrer)'!B28","v":"Trong giờ học giáo viên rất quan tâm đến việc các em học sinh khi trình bày ý kiến của mình thì cần chú ý diễn đạt vấn đề một cách rõ ràng, rành mạch "},null,null,null,null,null,null,null,12.28,6.31]
[{"$f":"'A) Eingabe (Lehrer)'!A29","v":16},{"$f":"'A) Eingabe (Lehrer)'!B29","v":"Tất cả các em học sinh đều biết rõ các em cần học được gì trong giờ học  này "},null,null,null,null,null,null,null,15.64,7.78]
[null,{"$f":"'A) Eingabe (Lehrer)'!B30","v":"Tích cực hóa hoạt động học tập của học sinh trong giờ học"}]
[{"$f":"'A) Eingabe (Lehrer)'!A31","v":17},{"$f":"'A) Eingabe (Lehrer)'!B31","v":"Tất cả các em học sinh đều có ý kiến tham gia đóng góp trong giờ học này  "},null,null,null,null,null,null,null,1.72,9.2799999999999994]
[{"$f":"'A) Eingabe (Lehrer)'!A32","v":18},{"$f":"'A) Eingabe (Lehrer)'!B32","v":"Trong giờ học có giai đoạn học sinh làm việc độc lập "},null,null,null,null,null,null,null,3.26,2]
[{"$f":"'A) Eingabe (Lehrer)'!A33","v":19},{"$f":"'A) Eingabe (Lehrer)'!B33","v":"Trong giờ học có giai đoạn học sinh làm việc đôi hoặc nhóm "},null,null,null,null,null,null,null,4.7300000000000004,3.7]
[{"$f":"'A) Eingabe (Lehrer)'!A34","v":20},{"$f":"'A) Eingabe (Lehrer)'!B34","v":"Trong giờ học các em học sinh được trình bày kết quả làm việc trước các bạn trong lớp "},null,null,null,null,null,null,null,6.31,5.5]
[{"$f":"'A) Eingabe (Lehrer)'!A35","v":21},{"$f":"'A) Eingabe (Lehrer)'!B35","v":"Các em học sinh tự kiểm tra kết quả bài làm của mình trong giờ học "},null,null,null,null,null,null,null,7.78,7.3]
[{"$f":"'A) Eingabe (Lehrer)'!A36","v":22},{"$f":"'A) Eingabe (Lehrer)'!B36","v":"Trong suốt giờ học các em học sinh tích cực tập trung chú ý vào bài học "},null,null,null,null,null,null,null,9.2799999999999994,9]
[null,{"$f":"'A) Eingabe (Lehrer)'!B37","v":"Đánh giá chung về giờ học"}]
["23S","Die Schüler/innen haben in dieser Unterrichtsstunde etwas dazu gelernt / Ich habe die Lernziele dieser Unterrichtsstunde erreicht",null,null,null,null,null,null,null,2,9.2799999999999994]
[24,{"$f":"'A) Eingabe (Lehrer)'!B39","v":"Các em học sinh cảm thấy thú vị với giờ học này "},null,null,null,null,null,null,null,3.8,2]
[25,{"$f":"'A) Eingabe (Lehrer)'!B40","v":"Các em học sinh cảm thấy thoải mái dễ chịu trong giờ học. "},null,null,null,null,null,null,null,5.6,3.7]
["26 G/Đ",{"$f":"'A) Eingabe (Lehrer)'!B41","v":"Giáo viên tổ chức giờ học dựa trên các chuẩn cần đạt của môn học   "},null,null,null,null,null,null,null,7.4,5.5]
["27 G/Đ",{"$f":"'A) Eingabe (Lehrer)'!B42","v":"Giờ học được chuẩn bị phù hợp với trình độ khác nhau của các em học sinh trong lớp.  "},null,null,null,null,null,null,null,9.1999999999999993,7.3]
[null,null,"Lần 1",null,null,"Lần 2"]
["26H","Giờ học này đối với em…………………………………………………………………………"]

{"sheet":"AB) Ergebnisse (6)","index":21,"n_rows":67,"n_cols":12,"rows_kept":67,"cut":false,"hidden":true,"merged":[[59,8,59,10],[60,5,60,7],[60,8,60,10],[62,5,62,7],[62,8,62,10],[61,5,61,7],[61,8,61,10],[59,5,59,7],[66,5,66,7],[66,8,66,10],[63,5,63,7],[63,8,63,10],[64,5,64,7],[64,8,64,10],[65,5,65,7],[65,8,65,10],[58,5,58,7],[58,8,58,10],[49,5,49,7],[49,8,49,10],[56,5,56,7],[56,8,56,10],[51,5,51,7],[51,8,51,10],[52,5,52,7],[52,8,52,10],[54,5,54,7],[54,8,54,10],[55,5,55,7],[55,8,55,10],[57,5,57,7],[57,8,57,10],[53,5,53,7],[53,8,53,10],[50,5,50,7],[50,8,50,10],[45,5,45,7],[45,8,45,10],[46,5,46,7],[46,8,46,10],[47,5,47,7],[47,8,47,10],[48,5,48,7],[48,8,48,10],[43,5,43,7],[43,8,43,10],[37,5,37,7],[37,8,37,10],[38,5,38,7],[38,8,38,10],[44,5,44,7],[44,8,44,10],[42,5,42,7],[42,8,42,10],[22,5,22,7],[29,8,29,10],[30,5,30,7],[17,5,17,7],[26,8,26,10],[25,8,25,10],[20,8,20,10],[19,8,19,10],[39,5,39,7],[39,8,39,10],[40,5,40,7],[40,8,40,10],[41,5,41,7],[41,8,41,10],[36,5,36,7],[36,8,36,10],[35,5,35,7],[35,8,35,10],[32,5,32,7],[32,8,32,10],[30,8,30,10],[21,5,21,7],[33,5,33,7],[33,8,33,10],[34,5,34,7],[34,8,34,10],[27,5,27,7],[27,8,27,10],[28,5,28,7],[28,8,28,10],[26,5,26,7],[25,5,25,7],[24,5,24,7],[23,5,23,7],[16,5,16,7],[5,2,6,2],[29,5,29,7],[31,5,31,7],[31,8,31,10],[20,5,20,7],[19,5,19,7],[5,5,6,7],[10,5,10,7],[15,5,15,7],[18,5,18,7],[7,5,7,7],[1,1,1,2],[11,5,11,7],[14,5,14,7],[13,5,13,7],[5,1,6,1],[2,0,3,2],[4,8,4,10],[4,5,4,7],[8,8,8,10],[11,8,11,10],[5,3,6,3],[12,5,12,7],[9,5,9,7],[8,5,8,7],[5,4,6,4],[24,8,24,10],[23,8,23,10],[22,8,22,10],[21,8,21,10],[17,8,17,10],[13,8,13,10],[10,8,10,10],[9,8,9,10],[5,8,6,10],[7,8,7,10],[16,8,16,10],[15,8,15,10],[12,8,12,10],[18,8,18,10],[14,8,14,10]]}
[]
[null,"Đối chiếu kết quả ba loại phiếu cả hai lần điều tra"]
[]
[]
[null,"Đối chiếu kết quả hai lần điều tra","Học sinh","Đồng nghiệp","Giáo viên","Đối chiếu kết quả lần 1",null,null,"Đối chiếu kết quả lần 2"]
[null,"Câu hỏi bổ sung"]
[]
[{"$f":"'A) Eingabe (Lehrer)'!A44","v":1},{"$f":"'A) Eingabe (Lehrer)'!B44","v":"Câu 1"},null,null,null,null,null,null,null,null,null,1.5]
[{"$f":"'A) Eingabe (Lehrer)'!A45","v":2},{"$f":"'A) Eingabe (Lehrer)'!B45","v":"Câu 2"},null,null,null,null,null,null,null,null,null,2.5]
[{"$f":"'A) Eingabe (Lehrer)'!A46","v":3},{"$f":"'A) Eingabe (Lehrer)'!B46","v":"Câu 3"},null,null,null,null,null,null,null,null,null,3.5]
[{"$f":"'A) Eingabe (Lehrer)'!A47","v":4},{"$f":"'A) Eingabe (Lehrer)'!B47","v":"Câu 4"},null,null,null,null,null,null,null,null,null,4.5]
[{"$f":"'A) Eingabe (Lehrer)'!A48","v":5},{"$f":"'A) Eingabe (Lehrer)'!B48","v":"Câu 5"},null,null,null,null,null,null,null,null,null,5.5]
[{"$f":"'A) Eingabe (Lehrer)'!A49","v":6},{"$f":"'A) Eingabe (Lehrer)'!B49","v":"Câu 6"},null,null,null,null,null,null,null,null,null,6.5]
[{"$f":"'A) Eingabe (Lehrer)'!A50","v":7},{"$f":"'A) Eingabe (Lehrer)'!B50","v":"Câu 7"},null,null,null,null,null,null,null,null,null,7.5]
[{"$f":"'A) Eingabe (Lehrer)'!A51","v":8},{"$f":"'A) Eingabe (Lehrer)'!B51","v":"Câu 8"},null,null,null,null,null,null,null,null,null,8.5]
[{"$f":"'A) Eingabe (Lehrer)'!A52","v":9},{"$f":"'A) Eingabe (Lehrer)'!B52","v":"Câu 9"},null,null,null,null,null,null,null,null,null,9.5]
[{"$f":"'A) Eingabe (Lehrer)'!A53","v":10},{"$f":"'A) Eingabe (Lehrer)'!B53","v":"Câu 10"},null,null,null,null,null,null,null,null,null,10.5]
[{"$f":"'A) Eingabe (Lehrer)'!A54","v":11},{"$f":"'A) Eingabe (Lehrer)'!B54","v":"Câu 11"},null,null,null,null,null,null,null,null,null,11.5]
[{"$f":"'A) Eingabe (Lehrer)'!A55","v":12},{"$f":"'A) Eingabe (Lehrer)'!B55","v":"Câu 12"},null,null,null,null,null,null,null,null,null,12.5]
[{"$f":"'A) Eingabe (Lehrer)'!A56","v":13},{"$f":"'A) Eingabe (Lehrer)'!B56","v":"Câu 13"},null,null,null,null,null,null,null,null,null,13.5]
[{"$f":"'A) Eingabe (Lehrer)'!A57","v":14},{"$f":"'A) Eingabe (Lehrer)'!B57","v":"Câu 14"},null,null,null,null,null,null,null,null,null,14.5]
[{"$f":"'A) Eingabe (Lehrer)'!A58","v":15},{"$f":"'A) Eingabe (Lehrer)'!B58","v":"Câu 15"},null,null,null,null,null,null,null,null,null,15.5]
[{"$f":"'A) Eingabe (Lehrer)'!A59","v":16},{"$f":"'A) Eingabe (Lehrer)'!B59","v":"Câu 16"},null,null,null,null,null,null,null,null,null,16.5]
[{"$f":"'A) Eingabe (Lehrer)'!A60","v":17},{"$f":"'A) Eingabe (Lehrer)'!B60","v":"Câu 17"},null,null,null,null,null,null,null,null,null,17.5]
[{"$f":"'A) Eingabe (Lehrer)'!A61","v":18},{"$f":"'A) Eingabe (Lehrer)'!B61","v":"Câu 18"},null,null,null,null,null,null,null,null,null,18.5]
[{"$f":"'A) Eingabe (Lehrer)'!A62","v":19},{"$f":"'A) Eingabe (Lehrer)'!B62","v":"Câu 19"},null,null,null,null,null,null,null,null,null,19.5]
[{"$f":"'A) Eingabe (Lehrer)'!A63","v":20},{"$f":"'A) Eingabe (Lehrer)'!B63","v":"Câu 20"},null,null,null,null,null,null,null,null,null,20.5]
[{"$f":"'A) Eingabe (Lehrer)'!A64","v":21},{"$f":"'A) Eingabe (Lehrer)'!B64","v":"Câu 21"},null,null,null,null,null,null,null,null,null,21.5]
[{"$f":"'A) Eingabe (Lehrer)'!A65","v":22},{"$f":"'A) Eingabe (Lehrer)'!B65","v":"Câu 22"},null,null,null,null,null,null,null,null,null,22.5]
[{"$f":"'A) Eingabe (Lehrer)'!A66","v":23},{"$f":"'A) Eingabe (Lehrer)'!B66","v":"Câu 23"},null,null,null,null,null,null,null,null,null,23.5]
[{"$f":"'A) Eingabe (Lehrer)'!A67","v":24},{"$f":"'A) Eingabe (Lehrer)'!B67","v":"Câu 24"},null,null,null,null,null,null,null,null,null,24.5]
[{"$f":"'A) Eingabe (Lehrer)'!A68","v":25},{"$f":"'A) Eingabe (Lehrer)'!B68","v":"Câu 25"},null,null,null,null,null,null,null,null,null,25.5]
[{"$f":"'A) Eingabe (Lehrer)'!A69","v":26},{"$f":"'A) Eingabe (Lehrer)'!B69","v":"Câu 26"},null,null,null,null,null,null,null,null,null,26.5]
[{"$f":"'A) Eingabe (Lehrer)'!A70","v":27},{"$f":"'A) Eingabe (Lehrer)'!B70","v":"Câu 27"},null,null,null,null,null,null,null,null,null,27.5]
[{"$f":"'A) Eingabe (Lehrer)'!A71","v":28},{"$f":"'A) Eingabe (Lehrer)'!B71","v":"Câu 28"},null,null,null,null,null,null,null,null,null,28.5]
[{"$f":"'A) Eingabe (Lehrer)'!A72","v":29},{"$f":"'A) Eingabe (Lehrer)'!B72","v":"Câu 29"},null,null,null,null,null,null,null,null,null,29.5]
[{"$f":"'A) Eingabe (Lehrer)'!A73","v":30},{"$f":"'A) Eingabe (Lehrer)'!B73","v":"Câu 30"},null,null,null,null,null,null,null,null,null,30.5]
[{"$f":"'A) Eingabe (Lehrer)'!A74","v":31},{"$f":"'A) Eingabe (Lehrer)'!B74","v":"Câu 31"},null,null,null,null,null,null,null,null,null,31.5]
[{"$f":"'A) Eingabe (Lehrer)'!A75","v":32},{"$f":"'A) Eingabe (Lehrer)'!B75","v":"Câu 32"},null,null,null,null,null,null,null,null,null,32.5]
[{"$f":"'A) Eingabe (Lehrer)'!A76","v":33},{"$f":"'A) Eingabe (Lehrer)'!B76","v":"Câu 33"},null,null,null,null,null,null,null,null,null,33.5]
[{"$f":"'A) Eingabe (Lehrer)'!A77","v":34},{"$f":"'A) Eingabe (Lehrer)'!B77","v":"Câu 34"},null,null,null,null,null,null,null,null,null,34.5]
[{"$f":"'A) Eingabe (Lehrer)'!A78","v":35},{"$f":"'A) Eingabe (Lehrer)'!B78","v":"Câu 35"},null,null,null,null,null,null,null,null,null,35.5]
[{"$f":"'A) Eingabe (Lehrer)'!A79","v":36},{"$f":"'A) Eingabe (Lehrer)'!B79","v":"Câu 36"},null,null,null,null,null,null,null,null,null,36.5]
[{"$f":"'A) Eingabe (Lehrer)'!A80","v":37},{"$f":"'A) Eingabe (Lehrer)'!B80","v":"Câu 37"},null,null,null,null,null,null,null,null,null,37.5]
[{"$f":"'A) Eingabe (Lehrer)'!A81","v":38},{"$f":"'A) Eingabe (Lehrer)'!B81","v":"Câu 38"},null,null,null,null,null,null,null,null,null,38.5]
[{"$f":"'A) Eingabe (Lehrer)'!A82","v":39},{"$f":"'A) Eingabe (Lehrer)'!B82","v":"Câu 39"},null,null,null,null,null,null,null,null,null,39.5]
[{"$f":"'A) Eingabe (Lehrer)'!A83","v":40},{"$f":"'A) Eingabe (Lehrer)'!B83","v":"Câu 40"},null,null,null,null,null,null,null,null,null,40.5]
[{"$f":"'A) Eingabe (Lehrer)'!A84","v":41},{"$f":"'A) Eingabe (Lehrer)'!B84","v":"Câu 41"},null,null,null,null,null,null,null,null,null,41.5]
[{"$f":"'A) Eingabe (Lehrer)'!A85","v":42},{"$f":"'A) Eingabe (Lehrer)'!B85","v":"Câu 42"},null,null,null,null,null,null,null,null,null,42.5]
[{"$f":"'A) Eingabe (Lehrer)'!A86","v":43},{"$f":"'A) Eingabe (Lehrer)'!B86","v":"Câu 43"},null,null,null,null,null,null,null,null,null,43.5]
[{"$f":"'A) Eingabe (Lehrer)'!A87","v":44},{"$f":"'A) Eingabe (Lehrer)'!B87","v":"Câu 44"},null,null,null,null,null,null,null,null,null,44.5]
[{"$f":"'A) Eingabe (Lehrer)'!A88","v":45},{"$f":"'A) Eingabe (Lehrer)'!B88","v":"Câu 45"},null,null,null,null,null,null,null,null,null,45.5]
[{"$f":"'A) Eingabe (Lehrer)'!A89","v":46},{"$f":"'A) Eingabe (Lehrer)'!B89","v":"Câu 46"},null,null,null,null,null,null,null,null,null,46.5]
[{"$f":"'A) Eingabe (Lehrer)'!A90","v":47},{"$f":"'A) Eingabe (Lehrer)'!B90","v":"Câu 47"},null,null,null,null,null,null,null,null,null,47.5]
[{"$f":"'A) Eingabe (Lehrer)'!A91","v":48},{"$f":"'A) Eingabe (Lehrer)'!B91","v":"Câu 48"},null,null,null,null,null,null,null,null,null,48.5]
[{"$f":"'A) Eingabe (Lehrer)'!A92","v":49},{"$f":"'A) Eingabe (Lehrer)'!B92","v":"Câu 49"},null,null,null,null,null,null,null,null,null,49.5]
[{"$f":"'A) Eingabe (Lehrer)'!A93","v":50},{"$f":"'A) Eingabe (Lehrer)'!B93","v":"Câu 50"},null,null,null,null,null,null,null,null,null,50.5]
[{"$f":"'A) Eingabe (Lehrer)'!A94","v":51},{"$f":"'A) Eingabe (Lehrer)'!B94","v":"Câu 51"},null,null,null,null,null,null,null,null,null,51.5]
[{"$f":"'A) Eingabe (Lehrer)'!A95","v":52},{"$f":"'A) Eingabe (Lehrer)'!B95","v":"Câu 52"},null,null,null,null,null,null,null,null,null,52.5]
[{"$f":"'A) Eingabe (Lehrer)'!A96","v":53},{"$f":"'A) Eingabe (Lehrer)'!B96","v":"Câu 53"},null,null,null,null,null,null,null,null,null,53.5]
[{"$f":"'A) Eingabe (Lehrer)'!A97","v":54},{"$f":"'A) Eingabe (Lehrer)'!B97","v":"Câu 54"},null,null,null,null,null,null,null,null,null,54.5]
[{"$f":"'A) Eingabe (Lehrer)'!A98","v":55},{"$f":"'A) Eingabe (Lehrer)'!B98","v":"Câu 55"},null,null,null,null,null,null,null,null,null,55.5]
[{"$f":"'A) Eingabe (Lehrer)'!A99","v":56},{"$f":"'A) Eingabe (Lehrer)'!B99","v":"Câu 56"},null,null,null,null,null,null,null,null,null,56.5]
[{"$f":"'A) Eingabe (Lehrer)'!A100","v":57},{"$f":"'A) Eingabe (Lehrer)'!B100","v":"Câu 57"},null,null,null,null,null,null,null,null,null,57.5]
[{"$f":"'A) Eingabe (Lehrer)'!A101","v":58},{"$f":"'A) Eingabe (Lehrer)'!B101","v":"Câu 58"},null,null,null,null,null,null,null,null,null,58.5]
[{"$f":"'A) Eingabe (Lehrer)'!A102","v":59},{"$f":"'A) Eingabe (Lehrer)'!B102","v":"Câu 59"},null,null,null,null,null,null,null,null,null,59.5]
[{"$f":"'A) Eingabe (Lehrer)'!A103","v":60},{"$f":"'A) Eingabe (Lehrer)'!B103","v":"Câu 60"},null,null,null,null,null,null,null,null,null,60.5]